{"text_format":"1","workbook":"xlsx","n_sheets":7,"sheets":["Instruktion","Uträkningsmall","Beställningsformulär","Avtalat sortiment","Varukorg","Funktioner","Storlekar & Kontaktuppgifter"],"not_rendered":{"charts":0,"images":0,"macros":1,"external_links":1,"defined_names":6,"comments":1,"pivot_tables":0},"unopened":[],"bounds":{"document_bytes":16777216,"sheet_cells":100000,"rows_first":2000,"rows_last":500,"rows_between":2000,"halvings":0,"cell_chars":16384,"cell_head_chars":4096},"cells_cut":0,"cells_raw":0,"read":"whole","date_system":"1900"}

{"sheet":"Instruktion","index":0,"n_rows":21,"n_cols":2,"rows_kept":21,"cut":false,"hidden":false,"merged":[[8,0,8,1],[14,0,18,0],[0,0,0,1]]}
["Uträkningsmall"]
["Bilagan består av följande fem flikar:"]
["- Instruktion","Beskrivning av hur Avropet görs."]
["- Uträkningsmall","Mallen används för att få fram vinnande Ramavtalsleverantör vid varje Avrop."]
["- Beställningsformulär","Sammanställning av valda Varor och information om vinnande Ramavtalsleverantör."]
["- Avtalat sortiment","Innehåller samtliga Ramavtalsleverantörers uppgifter på artikelnivå."]
["- Varukorg","Ramavtalsupphandlingens Varukorg."]
[]
["Instruktion - Följ nedanstående steg vid Avrop"]
["Steg 1: Flik \"Uträkningsmall\"","Gå in i fliken \"Uträkningsmall\""]
["Steg 2: Välj varutyp","Välj önskad varutyp i rullistan i kolumn B."]
["Steg 3: Välj variant","Välj variant av Vara i rullistan i kolumn C. Efter att variant har valts visas varubeskrivningen i kolumn D. "]
["Steg 4: Välj storlek","Ange önskad storlek på varan i kolumn F. Är rullistan tom innebär det att det inte finns några storlekar att välja mellan."]
["Steg 5: Ange antal enheter","Ange önskat antal enheter i kolumn G. Angivet antal får inte understiga minsta orderkvantitet vid Avrop i kolumn E. Anges en för liten orderkvantitet blir cellen rödfärgad. \n\nObservera att det är antal i styck eller par av aktuell Vara som avses (dvs. inte antal förpackningar)."]
["Steg 6: Identifiera vinnande ramavtalsleverantör","Vinnande Ramavtalsleverantör utifrån totalpris på valda Varor visas högst upp i kolumn F-I. Den samlade rangordningen för samtliga Ramavtalsleverantörer visas högst upp i kolumn K-N. Av kolumn M framgår rangordningen utifrån lägst totalpris och av kolumn N framgår respektive Ramavtalsleverantörs leveranstid. Observera att om Ramavtalsleverantörerna har olika leveranstid för olika Varor är det den längsta leveranstiden för de valda Varorna som framgår av kolumn N."]
[null,"Om två eller flera Ramavtalsleverantörer erbjuder de valda Varorna till samma pris kommer den Ramavtalsleverantör som i samband med upphandlingen av Ramavtalet hade det lägsta summerade utvärderingspriset, dvs. det sammanlagda priset för samtliga Varor i varukorgen, att rangordnas som nummer ett (1) i Avropet (kolumn K)."]
[null,"Ifall någon av Ramavtalsleverantörerna inte kan leverera en vald Vara blir Ramavtalsleverantörens rad i kolumn K-N rödmarkerad."]
[null,"Avropsberättigad har rätt att avvika från rangordningen ifall en lägre rangordnad Ramavtalsleverantör har en kortare leveranstid, samt i enlighet med vad som framgår i avsnitt Avropsordning i Ramavtalets Huvuddokument. Detta görs genom att välja nästa Ramavtalsleverantör i rullistan i kolumn P."]
[null,"Om leveranstider och priser skiljer sig mycket mellan olika Ramavtalsleverantörer rekommenderas att dela upp det totala behovet i flera Avrop för möjlighet till bästa pris och/eller kortast leveranstid för respektive Vara. Detta kan dock vägas mot den administrativa fördelen med att få hela behovet samlat i ett Avrop."]
["Steg 7: Skicka avrop (beställning)","Avropa från den vinnande Ramavtalsleverantören enligt något av de alternativa avropssätt som anges i Ramavtalet (webbshop, e-post, e-handel, telefon). Observera att antalet enheter för vald Vara kan behöva justeras för att överensstämma med det antal enheter per förpackning som den vinnande Ramavtalsleverantören erbjuder. För information om antal enheter per förpackning, klicka på länken till aktuell Vara i kolumn L.\n\nI fliken \"Beställningsformulär\" visas en sammanställning av valda Varor och information om vinnande Ramavtalsleverantör. Den kan användas som specifikation till Avrop som skickas till Ramavtalsleverantören."]
["Steg 8: Spara beställningsformulär","Spara beställningsformuläret från steg 7 som internt beställningsunderlag för Avropet."]

{"sheet":"Uträkningsmall","index":1,"n_rows":32,"n_cols":16,"rows_kept":32,"cut":false,"hidden":false,"merged":[[31,14,31,15],[26,14,26,15],[27,14,27,15],[28,14,28,15],[29,14,29,15],[30,14,30,15],[21,14,21,15],[22,14,22,15],[23,14,23,15],[24,14,24,15],[25,14,25,15],[16,14,16,15],[17,14,17,15],[18,14,18,15],[19,14,19,15],[20,14,20,15],[11,14,11,15],[12,14,12,15],[13,14,13,15],[14,14,14,15],[15,14,15,15],[5,0,7,3],[2,0,4,3],[0,5,0,7],[1,10,1,11],[2,10,2,11],[3,10,3,11],[0,10,0,11],[6,10,6,11],[1,0,1,2],[0,15,6,15],[1,5,1,6],[2,5,2,6],[3,5,3,6],[4,5,4,6],[5,5,5,6],[6,5,6,6],[1,7,1,8],[2,7,2,8],[3,7,3,8],[4,7,4,8],[5,7,5,8],[6,7,6,8],[4,10,4,11],[5,10,5,11]]}
["Uträkningsmall för Avrop av personlig skyddsutrustning (gäller från 2024-03-20)",null,null,null,null,"Uppgifter om vinnande Ramavtalsleverantör",null,null,null,null,"Rangordnad ramavtalsleverantör för avropet",null,"Totalsumma (SEK)","Leveranstid",null,"Avropsberättigad har rätt att avvika från rangordningen ifall en lägre rangordnad Ramavtalsleverantör har en kortare leveranstid, samt i enlighet med vad som framgår i avsnitt Avropsordning i Ramavtalets Huvuddokument. \n\nVälj nästa Ramavtalsleverantör i rangordningen i rullistan nedan."]
["Kontrollera alltid inför Avrop att du använder gällande version på",null,null,{"$f":"HYPERLINK(\"https://www.avropa.se/\")","v":"https://www.avropa.se/"},null,"Ramavtalsleverantör",null,{"$f":"IF(Funktioner!$T144=0,\"\",IF(Funktioner!$T$201=0,\"\",Funktioner!$T144))","v":""},null,"Rangordnad 1:a ",{"$f":"Funktioner!$V145","v":""},null,{"$f":"Funktioner!$W145","v":""},{"$f":"IF(Funktioner!$X145=0,\"\",Funktioner!$X145)","v":""}]
["Denna uträkningsmall används för att Avropsberättigad ska kunna beräkna vilken Ramavtalsleverantör som tillhandahåller efterfrågade Varor till lägst pris samt få information om respektive Ramavtalsleverantörs leveranstid.",null,null,null,null,"Organisationsnummer",null,{"$f":"IF(Funktioner!$T145=0,\"\",IF(Funktioner!$T$201=0,\"\",Funktioner!$T145))","v":""},null,"Rangordnad 2:a ",{"$f":"Funktioner!$V146","v":""},null,{"$f":"Funktioner!$W146","v":""},{"$f":"IF(Funktioner!$X146=0,\"\",Funktioner!$X146)","v":""}]
[null,null,null,null,null,"Kontaktperson",null,{"$f":"IF(Funktioner!$T146=0,\"\",IF(Funktioner!$T$201=0,\"\",Funktioner!$T146))","v":""},null,"Rangordnad 3:a ",{"$f":"Funktioner!$V147","v":""},null,{"$f":"Funktioner!$W147","v":""},{"$f":"IF(Funktioner!$X147=0,\"\",Funktioner!$X147)","v":""}]
[null,null,null,null,null,"Telefonnummer",null,{"$f":"IF(Funktioner!$T147=0,\"\",IF(Funktioner!$T$201=0,\"\",Funktioner!$T147))","v":""},null,"Rangordnad 4:a ",{"$f":"Funktioner!$V148","v":""},null,{"$f":"Funktioner!$W148","v":""},{"$f":"IF(Funktioner!$X148=0,\"\",Funktioner!$X148)","v":""}]
["Avropsberättigad fyller i de gulmarkerade cellerna i kolumnerna B, C, F och G för varje Vara som ingår i Avropet. Efter att ha fyllt i de gulmarkerade cellerna visas rangordningen för Avropet samt leveranstid för respektive Ramavtalsleverantör.",null,null,null,null,"E-postadress",null,{"$f":"IF(Funktioner!$T148=0,\"\",IF(Funktioner!$T$201=0,\"\",HYPERLINK(\"Mailto: \"&(Funktioner!$T148))))","v":""},null,"Rangordnad 5:a ",{"$f":"Funktioner!$V149","v":""},null,{"$f":"Funktioner!$W149","v":""},{"$f":"IF(Funktioner!$X149=0,\"\",Funktioner!$X149)","v":""}]
[null,null,null,null,null,"Totalsumma (SEK)",null,{"$f":"IF(Funktioner!$T149=0,\"\",IF(Funktioner!$T$201=0,\"\",Funktioner!$T149))","v":""},null,"Rangordnad 6:a ",{"$f":"Funktioner!$V150","v":""},null,{"$f":"Funktioner!$W150","v":""},{"$f":"IF(Funktioner!$X150=0,\"\",Funktioner!$X150)","v":""}]
[null,null,null,null,null,null,null,null,null,null,null,null,null,null,null,1]
[]
[]
[]
["Varans position","Välj varutyp","Välj variant","Varubeskrivning","Krav på minsta orderkvantitet vid Avrop","Storlek","Antal enheter","Offererat pris per enhet (styck/par)","Leveranstid (Arbetsdagar)","Ramavtalsleverantörens minsta orderkvantitet vid Avrop","Ramavtalsleverantörens artikelnummer","Ramavtalsleverantörens länk till offererad vara","Ramavtalsleverantörens artikelbenämning","Totalpris (SEK)","Eventuell övrig information"]
[{"$f":"IFERROR(IF($C13=Funktioner!$A$7,1,IF($C13=Funktioner!$A$8,2,IF($C13=Funktioner!$A$9,3,IF($C13=Funktioner!$A$10,4,IF($C13=Funktioner!$B$7,5,IF($C13=Funktioner!$B$8,7,IF($C13=Funktioner!$B$9,8,IF($C13=Funktioner!$C$7,9,IF($C13=Funktioner!$C$8,10,IF($C13=Funktioner!$C$9,11,IF($C13=Funktioner!$C$10,12,IF($C13=Funktioner!$C$11,13,IF($C13=Funktioner!$C$12,14,IF($C13=Funktioner!$D$7,15,IF($C13=Funktioner!$D$8,16,IF($C13=Funktioner!$D$9,17,IF($C13=Funktioner!$E$7,18,IF($C13=Funktioner!$F$7,19,IF($C13=Funktioner!$F$8,20,IF($C13=Funktioner!$F$9,21,IF($C13=Funktioner!$G$7,22,IF($C13=Funktioner!$G$8,23,IF($C13=Funktioner!$G$9,24,IF($C13=Funktioner!$G$10,25,IF($C13=Funktioner!$G$11,26,IF($C13=Funktioner!$H$7,27,IF($C13=Funktioner!$H$8,28,IF($C13=Funktioner!$I$7,29,IF($C13=Funktioner!$J$7,31,IF($C13=Funktioner!$J$8,32,IF($C13=Funktioner!$J$9,33,IF($C13=Funktioner!$K$7,34,IF($C13=Funktioner!$K$8,35,IF($C13=Funktioner!$K$9,36,IF($C13=Funktioner!$L$7,37,IF($C13=Funktioner!$L$8,38,IF($C13=Funktioner!$M$7,39,IF($C13=Funktioner!$M$8,40,IF($C13=Funktioner!$N$7,41,IF($C13=Funktioner!$O$7,42,IF($C13=Funktioner!$P$7,43,IF($C13=Funktioner!$Q$7,44,IF($C13=Funktioner!$Q$8,45,IF($C13=Funktioner!$R$7,46,IF($C13=Funktioner!$R$8,47,IF($C13=Funktioner!$R$9,48,\"\")))))))))))))))))))))))))))))))))))))))))))))),\"\")","v":""},null,null,null,null,null,null,null,{"$f":"IF($G13=\"\",\"\",IF($N13=\"\",\"\",Funktioner!M181))","v":""},{"$f":"IF($G13=\"\",\"\",IF($N13=\"\",\"\",Funktioner!N181))","v":""},{"$f":"IF($G13=\"\",\"\",IF($N13=\"\",\"\",Funktioner!O181))","v":""},{"$f":"IF($G13=\"\",\"\",IF($N13=\"\",\"\",HYPERLINK(Funktioner!P181)))","v":""},{"$f":"IF($G13=\"\",\"\",IF($N13=\"\",\"\",Funktioner!Q181))","v":""},{"$f":"IF($G13=\"\",\"\",IF(Funktioner!T181=0,\"\",Funktioner!T181))","v":""},{"$f":"IF($G13=\"\",\"\",IF($N13=\"\",\"\",Funktioner!S181))","v":""}]
[{"$f":"IFERROR(IF($C14=Funktioner!$A$7,1,IF($C14=Funktioner!$A$8,2,IF($C14=Funktioner!$A$9,3,IF($C14=Funktioner!$A$10,4,IF($C14=Funktioner!$B$7,5,IF($C14=Funktioner!$B$8,7,IF($C14=Funktioner!$B$9,8,IF($C14=Funktioner!$C$7,9,IF($C14=Funktioner!$C$8,10,IF($C14=Funktioner!$C$9,11,IF($C14=Funktioner!$C$10,12,IF($C14=Funktioner!$C$11,13,IF($C14=Funktioner!$C$12,14,IF($C14=Funktioner!$D$7,15,IF($C14=Funktioner!$D$8,16,IF($C14=Funktioner!$D$9,17,IF($C14=Funktioner!$E$7,18,IF($C14=Funktioner!$F$7,19,IF($C14=Funktioner!$F$8,20,IF($C14=Funktioner!$F$9,21,IF($C14=Funktioner!$G$7,22,IF($C14=Funktioner!$G$8,23,IF($C14=Funktioner!$G$9,24,IF($C14=Funktioner!$G$10,25,IF($C14=Funktioner!$G$11,26,IF($C14=Funktioner!$H$7,27,IF($C14=Funktioner!$H$8,28,IF($C14=Funktioner!$I$7,29,IF($C14=Funktioner!$J$7,31,IF($C14=Funktioner!$J$8,32,IF($C14=Funktioner!$J$9,33,IF($C14=Funktioner!$K$7,34,IF($C14=Funktioner!$K$8,35,IF($C14=Funktioner!$K$9,36,IF($C14=Funktioner!$L$7,37,IF($C14=Funktioner!$L$8,38,IF($C14=Funktioner!$M$7,39,IF($C14=Funktioner!$M$8,40,IF($C14=Funktioner!$N$7,41,IF($C14=Funktioner!$O$7,42,IF($C14=Funktioner!$P$7,43,IF($C14=Funktioner!$Q$7,44,IF($C14=Funktioner!$Q$8,45,IF($C14=Funktioner!$R$7,46,IF($C14=Funktioner!$R$8,47,IF($C14=Funktioner!$R$9,48,\"\")))))))))))))))))))))))))))))))))))))))))))))),\"\")","v":""},null,null,{"$f":"IF($A14=Funktioner!$B$1,IF(Funktioner!$B$2=\"\",\"\",Funktioner!$B$2),IF($A14=Funktioner!$C$1,IF(Funktioner!$C$2=\"\",\"\",Funktioner!$C$2),IF($A14=Funktioner!$D$1,IF(Funktioner!$D$2=\"\",\"\",Funktioner!$D$2),IF($A14=Funktioner!$E$1,IF(Funktioner!$E$2=\"\",\"\",Funktioner!$E$2),IF($A14=Funktioner!$F$1,IF(Funktioner!$F$2=\"\",\"\",Funktioner!$F$2),IF($A14=Funktioner!$G$1,IF(Funktioner!$G$2=\"\",\"\",Funktioner!$G$2),IF($A14=Funktioner!$H$1,IF(Funktioner!$H$2=\"\",\"\",Funktioner!$H$2),IF($A14=Funktioner!$I$1,IF(Funktioner!$I$2=\"\",\"\",Funktioner!$I$2),IF($A14=Funktioner!$J$1,IF(Funktioner!$J$2=\"\",\"\",Funktioner!$J$2),IF($A14=Funktioner!$K$1,IF(Funktioner!$K$2=\"\",\"\",Funktioner!$K$2),IF($A14=Funktioner!$L$1,IF(Funktioner!$L$2=\"\",\"\",Funktioner!$L$2),IF($A14=Funktioner!$M$1,IF(Funktioner!$M$2=\"\",\"\",Funktioner!$M$2),IF($A14=Funktioner!$N$1,IF(Funktioner!$N$2=\"\",\"\",Funktioner!$N$2),IF($A14=Funktioner!$O$1,IF(Funktioner!$O$2=\"\",\"\",Funktioner!$O$2),IF($A14=Funktioner!$P$1,IF(Funktioner!$P$2=\"\",\"\",Funktioner!$P$2),IF($A14=Funktioner!$Q$1,IF(Funktioner!$Q$2=\"\",\"\",Funktioner!$Q$2),IF($A14=Funktioner!$R$1,IF(Funktioner!$R$2=\"\",\"\",Funktioner!$R$2),IF($A14=Funktioner!$S$1,IF(Funktioner!$S$2=\"\",\"\",Funktioner!$S$2),IF($A14=Funktioner!$T$1,IF(Funktioner!$T$2=\"\",\"\",Funktioner!$T$2),IF($A14=Funktioner!$U$1,IF(Funktioner!$U$2=\"\",\"\",Funktioner!$U$2),IF($A14=Funktioner!$V$1,IF(Funktioner!$V$2=\"\",\"\",Funktioner!$V$2),IF($A14=Funktioner!$W$1,IF(Funktioner!$W$2=\"\",\"\",Funktioner!$W$2),IF($A14=Funktioner!$X$1,IF(Funktioner!$X$2=\"\",\"\",Funktioner!$X$2),IF($A14=Funktioner!$Y$1,IF(Funktioner!$Y$2=\"\",\"\",Funktioner!$Y$2),IF($A14=Funktioner!$Z$1,IF(Funktioner!$Z$2=\"\",\"\",Funktioner!$Z$2),IF($A14=Funktioner!$AA$1,IF(Funktioner!$AA$2=\"\",\"\",Funktioner!$AA$2),IF($A14=Funktioner!$AB$1,IF(Funktioner!$AB$2=\"\",\"\",Funktioner!$AB$2),IF($A14=Funktioner!$AC$1,IF(Funktioner!$AC$2=\"\",\"\",Funktioner!$AC$2),IF($A14=Funktioner!$AD$1,IF(Funktioner!$AD$2=\"\",\"\",Funktioner!$AD$2),IF($A14=Funktioner!$AE$1,IF(Funktioner!$AE$2=\"\",\"\",Funktioner!$AE$2),IF($A14=Funktioner!$AF$1,IF(Funktioner!$AF$2=\"\",\"\",Funktioner!$AF$2),IF($A14=Funktioner!$AG$1,IF(Funktioner!$AG$2=\"\",\"\",Funktioner!$AG$2),IF($A14=Funktioner!$AH$1,IF(Funktioner!$AH$2=\"\",\"\",Funktioner!$AH$2),IF($A14=Funktioner!$AI$1,IF(Funktioner!$AI$2=\"\",\"\",Funktioner!$AI$2),IF($A14=Funktioner!$AJ$1,IF(Funktioner!$AJ$2=\"\",\"\",Funktioner!$AJ$2),IF($A14=Funktioner!$AK$1,IF(Funktioner!$AK$2=\"\",\"\",Funktioner!$AK$2),IF($A14=Funktioner!$AL$1,IF(Funktioner!$AL$2=\"\",\"\",Funktioner!$AL$2),IF($A14=Funktioner!$AM$1,IF(Funktioner!$AM$2=\"\",\"\",Funktioner!$AM$2),IF($A14=Funktioner!$AN$1,IF(Funktioner!$AN$2=\"\",\"\",Funktioner!$AN$2),IF($A14=Funktioner!$AO$1,IF(Funktioner!$AO$2=\"\",\"\",Funktioner!$AO$2),IF($A14=Funktioner!$AP$1,IF(Funktioner!$AP$2=\"\",\"\",Funktioner!$AP$2),IF($A14=Funktioner!$AQ$1,IF(Funktioner!$AQ$2=\"\",\"\",Funktioner!$AQ$2),IF($A14=Funktioner!$AR$1,IF(Funktioner!$AR$2=\"\",\"\",Funktioner!$AR$2),IF($A14=Funktioner!$AS$1,IF(Funktioner!$AS$2=\"\",\"\",Funktioner!$AS$2),IF($A14=Funktioner!$AT$1,IF(Funktioner!$AT$2=\"\",\"\",Funktioner!$AT$2),IF($A14=Funktioner!$AU$1,IF(Funktioner!$AU$2=\"\",\"\",Funktioner!$AU$2),IF($A14=Funktioner!$AV$1,IF(Funktioner!$AV$2=\"\",\"\",Funktioner!$AV$2),IF($A14=Funktioner!$AW$1,IF(Funktioner!$AW$2=\"\",\"\",Funktioner!$AW$2),\"\"))))))))))))))))))))))))))))))))))))))))))))))))","v":""},{"$f":"IF($C14=Funktioner!$A$57,Funktioner!$B$57,IF($C14=Funktioner!$A$58,Funktioner!$B$58,IF($C14=Funktioner!$A$59,Funktioner!$B$59,IF($C14=Funktioner!$A$60,Funktioner!$B$60,IF($C14=Funktioner!$A$61,Funktioner!$B$61,IF($C14=Funktioner!$A$62,Funktioner!$B$62,IF($C14=Funktioner!$A$63,Funktioner!$B$63,IF($C14=Funktioner!$A$64,Funktioner!$B$64,IF($C14=Funktioner!$A$65,Funktioner!$B$65,IF($C14=Funktioner!$A$66,Funktioner!$B$66,IF($C14=Funktioner!$A$67,Funktioner!$B$67,IF($C14=Funktioner!$A$68,Funktioner!$B$68,IF($C14=Funktioner!$A$69,Funktioner!$B$69,IF($C14=Funktioner!$A$70,Funktioner!$B$70,IF($C14=Funktioner!$A$71,Funktioner!$B$71,IF($C14=Funktioner!$A$72,Funktioner!$B$72,IF($C14=Funktioner!$A$73,Funktioner!$B$73,IF($C14=Funktioner!$A$74,Funktioner!$B$74,IF($C14=Funktioner!$A$75,Funktioner!$B$75,IF($C14=Funktioner!$A$76,Funktioner!$B$76,IF($C14=Funktioner!$A$77,Funktioner!$B$77,IF($C14=Funktioner!$A$78,Funktioner!$B$78,IF($C14=Funktioner!$A$79,Funktioner!$B$79,IF($C14=Funktioner!$A$80,Funktioner!$B$80,IF($C14=Funktioner!$A$81,Funktioner!$B$81,IF($C14=Funktioner!$A$82,Funktioner!$B$82,IF($C14=Funktioner!$A$83,Funktioner!$B$83,IF($C14=Funktioner!$A$84,Funktioner!$B$84,IF($C14=Funktioner!$A$85,Funktioner!$B$85,IF($C14=Funktioner!$A$86,Funktioner!$B$86,IF($C14=Funktioner!$A$87,Funktioner!$B$87,IF($C14=Funktioner!$A$88,Funktioner!$B$88,IF($C14=Funktioner!$A$89,Funktioner!$B$89,IF($C14=Funktioner!$A$90,Funktioner!$B$90,IF($C14=Funktioner!$A$91,Funktioner!$B$91,IF($C14=Funktioner!$A$92,Funktioner!$B$92,IF($C14=Funktioner!$A$93,Funktioner!$B$93,IF($C14=Funktioner!$A$94,Funktioner!$B$94,IF($C14=Funktioner!$A$95,Funktioner!$B$95,IF($C14=Funktioner!$A$96,Funktioner!$B$96,IF($C14=Funktioner!$A$97,Funktioner!$B$97,IF($C14=Funktioner!$A$98,Funktioner!$B$98,IF($C14=Funktioner!$A$99,Funktioner!$B$99,IF($C14=Funktioner!$A$100,Funktioner!$B$100,IF($C14=Funktioner!$A$101,Funktioner!$B$101,IF($C14=Funktioner!$A$102,Funktioner!$B$102,IF($C14=Funktioner!$A$103,Funktioner!$B$103,IF($C14=Funktioner!$A$104,Funktioner!$B$104,\"\"))))))))))))))))))))))))))))))))))))))))))))))))","v":""},null,null,{"$f":"IF($G14=\"\",\"\",IF($N14=0,\"\",Funktioner!L182&\" SEK /\"&Funktioner!J111))","v":""},{"$f":"IF($G14=\"\",\"\",IF($N14=\"\",\"\",Funktioner!M182))","v":""},{"$f":"IF($G14=\"\",\"\",IF($N14=\"\",\"\",Funktioner!N182))","v":""},{"$f":"IF($G14=\"\",\"\",IF($N14=\"\",\"\",Funktioner!O182))","v":""},{"$f":"IF($G14=\"\",\"\",IF($N14=\"\",\"\",HYPERLINK(Funktioner!P182)))","v":""},{"$f":"IF($G14=\"\",\"\",IF($N14=\"\",\"\",Funktioner!Q182))","v":""},{"$f":"IF($G14=\"\",\"\",IF(Funktioner!T182=0,\"\",Funktioner!T182))","v":""},{"$f":"IF($G14=\"\",\"\",IF($N14=\"\",\"\",Funktioner!S182))","v":""}]
[{"$f":"IFERROR(IF($C15=Funktioner!$A$7,1,IF($C15=Funktioner!$A$8,2,IF($C15=Funktioner!$A$9,3,IF($C15=Funktioner!$A$10,4,IF($C15=Funktioner!$B$7,5,IF($C15=Funktioner!$B$8,7,IF($C15=Funktioner!$B$9,8,IF($C15=Funktioner!$C$7,9,IF($C15=Funktioner!$C$8,10,IF($C15=Funktioner!$C$9,11,IF($C15=Funktioner!$C$10,12,IF($C15=Funktioner!$C$11,13,IF($C15=Funktioner!$C$12,14,IF($C15=Funktioner!$D$7,15,IF($C15=Funktioner!$D$8,16,IF($C15=Funktioner!$D$9,17,IF($C15=Funktioner!$E$7,18,IF($C15=Funktioner!$F$7,19,IF($C15=Funktioner!$F$8,20,IF($C15=Funktioner!$F$9,21,IF($C15=Funktioner!$G$7,22,IF($C15=Funktioner!$G$8,23,IF($C15=Funktioner!$G$9,24,IF($C15=Funktioner!$G$10,25,IF($C15=Funktioner!$G$11,26,IF($C15=Funktioner!$H$7,27,IF($C15=Funktioner!$H$8,28,IF($C15=Funktioner!$I$7,29,IF($C15=Funktioner!$J$7,31,IF($C15=Funktioner!$J$8,32,IF($C15=Funktioner!$J$9,33,IF($C15=Funktioner!$K$7,34,IF($C15=Funktioner!$K$8,35,IF($C15=Funktioner!$K$9,36,IF($C15=Funktioner!$L$7,37,IF($C15=Funktioner!$L$8,38,IF($C15=Funktioner!$M$7,39,IF($C15=Funktioner!$M$8,40,IF($C15=Funktioner!$N$7,41,IF($C15=Funktioner!$O$7,42,IF($C15=Funktioner!$P$7,43,IF($C15=Funktioner!$Q$7,44,IF($C15=Funktioner!$Q$8,45,IF($C15=Funktioner!$R$7,46,IF($C15=Funktioner!$R$8,47,IF($C15=Funktioner!$R$9,48,\"\")))))))))))))))))))))))))))))))))))))))))))))),\"\")","v":""},null,null,{"$f":"IF($A15=Funktioner!$B$1,IF(Funktioner!$B$2=\"\",\"\",Funktioner!$B$2),IF($A15=Funktioner!$C$1,IF(Funktioner!$C$2=\"\",\"\",Funktioner!$C$2),IF($A15=Funktioner!$D$1,IF(Funktioner!$D$2=\"\",\"\",Funktioner!$D$2),IF($A15=Funktioner!$E$1,IF(Funktioner!$E$2=\"\",\"\",Funktioner!$E$2),IF($A15=Funktioner!$F$1,IF(Funktioner!$F$2=\"\",\"\",Funktioner!$F$2),IF($A15=Funktioner!$G$1,IF(Funktioner!$G$2=\"\",\"\",Funktioner!$G$2),IF($A15=Funktioner!$H$1,IF(Funktioner!$H$2=\"\",\"\",Funktioner!$H$2),IF($A15=Funktioner!$I$1,IF(Funktioner!$I$2=\"\",\"\",Funktioner!$I$2),IF($A15=Funktioner!$J$1,IF(Funktioner!$J$2=\"\",\"\",Funktioner!$J$2),IF($A15=Funktioner!$K$1,IF(Funktioner!$K$2=\"\",\"\",Funktioner!$K$2),IF($A15=Funktioner!$L$1,IF(Funktioner!$L$2=\"\",\"\",Funktioner!$L$2),IF($A15=Funktioner!$M$1,IF(Funktioner!$M$2=\"\",\"\",Funktioner!$M$2),IF($A15=Funktioner!$N$1,IF(Funktioner!$N$2=\"\",\"\",Funktioner!$N$2),IF($A15=Funktioner!$O$1,IF(Funktioner!$O$2=\"\",\"\",Funktioner!$O$2),IF($A15=Funktioner!$P$1,IF(Funktioner!$P$2=\"\",\"\",Funktioner!$P$2),IF($A15=Funktioner!$Q$1,IF(Funktioner!$Q$2=\"\",\"\",Funktioner!$Q$2),IF($A15=Funktioner!$R$1,IF(Funktioner!$R$2=\"\",\"\",Funktioner!$R$2),IF($A15=Funktioner!$S$1,IF(Funktioner!$S$2=\"\",\"\",Funktioner!$S$2),IF($A15=Funktioner!$T$1,IF(Funktioner!$T$2=\"\",\"\",Funktioner!$T$2),IF($A15=Funktioner!$U$1,IF(Funktioner!$U$2=\"\",\"\",Funktioner!$U$2),IF($A15=Funktioner!$V$1,IF(Funktioner!$V$2=\"\",\"\",Funktioner!$V$2),IF($A15=Funktioner!$W$1,IF(Funktioner!$W$2=\"\",\"\",Funktioner!$W$2),IF($A15=Funktioner!$X$1,IF(Funktioner!$X$2=\"\",\"\",Funktioner!$X$2),IF($A15=Funktioner!$Y$1,IF(Funktioner!$Y$2=\"\",\"\",Funktioner!$Y$2),IF($A15=Funktioner!$Z$1,IF(Funktioner!$Z$2=\"\",\"\",Funktioner!$Z$2),IF($A15=Funktioner!$AA$1,IF(Funktioner!$AA$2=\"\",\"\",Funktioner!$AA$2),IF($A15=Funktioner!$AB$1,IF(Funktioner!$AB$2=\"\",\"\",Funktioner!$AB$2),IF($A15=Funktioner!$AC$1,IF(Funktioner!$AC$2=\"\",\"\",Funktioner!$AC$2),IF($A15=Funktioner!$AD$1,IF(Funktioner!$AD$2=\"\",\"\",Funktioner!$AD$2),IF($A15=Funktioner!$AE$1,IF(Funktioner!$AE$2=\"\",\"\",Funktioner!$AE$2),IF($A15=Funktioner!$AF$1,IF(Funktioner!$AF$2=\"\",\"\",Funktioner!$AF$2),IF($A15=Funktioner!$AG$1,IF(Funktioner!$AG$2=\"\",\"\",Funktioner!$AG$2),IF($A15=Funktioner!$AH$1,IF(Funktioner!$AH$2=\"\",\"\",Funktioner!$AH$2),IF($A15=Funktioner!$AI$1,IF(Funktioner!$AI$2=\"\",\"\",Funktioner!$AI$2),IF($A15=Funktioner!$AJ$1,IF(Funktioner!$AJ$2=\"\",\"\",Funktioner!$AJ$2),IF($A15=Funktioner!$AK$1,IF(Funktioner!$AK$2=\"\",\"\",Funktioner!$AK$2),IF($A15=Funktioner!$AL$1,IF(Funktioner!$AL$2=\"\",\"\",Funktioner!$AL$2),IF($A15=Funktioner!$AM$1,IF(Funktioner!$AM$2=\"\",\"\",Funktioner!$AM$2),IF($A15=Funktioner!$AN$1,IF(Funktioner!$AN$2=\"\",\"\",Funktioner!$AN$2),IF($A15=Funktioner!$AO$1,IF(Funktioner!$AO$2=\"\",\"\",Funktioner!$AO$2),IF($A15=Funktioner!$AP$1,IF(Funktioner!$AP$2=\"\",\"\",Funktioner!$AP$2),IF($A15=Funktioner!$AQ$1,IF(Funktioner!$AQ$2=\"\",\"\",Funktioner!$AQ$2),IF($A15=Funktioner!$AR$1,IF(Funktioner!$AR$2=\"\",\"\",Funktioner!$AR$2),IF($A15=Funktioner!$AS$1,IF(Funktioner!$AS$2=\"\",\"\",Funktioner!$AS$2),IF($A15=Funktioner!$AT$1,IF(Funktioner!$AT$2=\"\",\"\",Funktioner!$AT$2),IF($A15=Funktioner!$AU$1,IF(Funktioner!$AU$2=\"\",\"\",Funktioner!$AU$2),IF($A15=Funktioner!$AV$1,IF(Funktioner!$AV$2=\"\",\"\",Funktioner!$AV$2),IF($A15=Funktioner!$AW$1,IF(Funktioner!$AW$2=\"\",\"\",Funktioner!$AW$2),\"\"))))))))))))))))))))))))))))))))))))))))))))))))","v":""},{"$f":"IF($C15=Funktioner!$A$57,Funktioner!$B$57,IF($C15=Funktioner!$A$58,Funktioner!$B$58,IF($C15=Funktioner!$A$59,Funktioner!$B$59,IF($C15=Funktioner!$A$60,Funktioner!$B$60,IF($C15=Funktioner!$A$61,Funktioner!$B$61,IF($C15=Funktioner!$A$62,Funktioner!$B$62,IF($C15=Funktioner!$A$63,Funktioner!$B$63,IF($C15=Funktioner!$A$64,Funktioner!$B$64,IF($C15=Funktioner!$A$65,Funktioner!$B$65,IF($C15=Funktioner!$A$66,Funktioner!$B$66,IF($C15=Funktioner!$A$67,Funktioner!$B$67,IF($C15=Funktioner!$A$68,Funktioner!$B$68,IF($C15=Funktioner!$A$69,Funktioner!$B$69,IF($C15=Funktioner!$A$70,Funktioner!$B$70,IF($C15=Funktioner!$A$71,Funktioner!$B$71,IF($C15=Funktioner!$A$72,Funktioner!$B$72,IF($C15=Funktioner!$A$73,Funktioner!$B$73,IF($C15=Funktioner!$A$74,Funktioner!$B$74,IF($C15=Funktioner!$A$75,Funktioner!$B$75,IF($C15=Funktioner!$A$76,Funktioner!$B$76,IF($C15=Funktioner!$A$77,Funktioner!$B$77,IF($C15=Funktioner!$A$78,Funktioner!$B$78,IF($C15=Funktioner!$A$79,Funktioner!$B$79,IF($C15=Funktioner!$A$80,Funktioner!$B$80,IF($C15=Funktioner!$A$81,Funktioner!$B$81,IF($C15=Funktioner!$A$82,Funktioner!$B$82,IF($C15=Funktioner!$A$83,Funktioner!$B$83,IF($C15=Funktioner!$A$84,Funktioner!$B$84,IF($C15=Funktioner!$A$85,Funktioner!$B$85,IF($C15=Funktioner!$A$86,Funktioner!$B$86,IF($C15=Funktioner!$A$87,Funktioner!$B$87,IF($C15=Funktioner!$A$88,Funktioner!$B$88,IF($C15=Funktioner!$A$89,Funktioner!$B$89,IF($C15=Funktioner!$A$90,Funktioner!$B$90,IF($C15=Funktioner!$A$91,Funktioner!$B$91,IF($C15=Funktioner!$A$92,Funktioner!$B$92,IF($C15=Funktioner!$A$93,Funktioner!$B$93,IF($C15=Funktioner!$A$94,Funktioner!$B$94,IF($C15=Funktioner!$A$95,Funktioner!$B$95,IF($C15=Funktioner!$A$96,Funktioner!$B$96,IF($C15=Funktioner!$A$97,Funktioner!$B$97,IF($C15=Funktioner!$A$98,Funktioner!$B$98,IF($C15=Funktioner!$A$99,Funktioner!$B$99,IF($C15=Funktioner!$A$100,Funktioner!$B$100,IF($C15=Funktioner!$A$101,Funktioner!$B$101,IF($C15=Funktioner!$A$102,Funktioner!$B$102,IF($C15=Funktioner!$A$103,Funktioner!$B$103,IF($C15=Funktioner!$A$104,Funktioner!$B$104,\"\"))))))))))))))))))))))))))))))))))))))))))))))))","v":""},null,null,{"$f":"IF($G15=\"\",\"\",IF($N15=0,\"\",Funktioner!L183&\" SEK /\"&Funktioner!J112))","v":""},{"$f":"IF($G15=\"\",\"\",IF($N15=\"\",\"\",Funktioner!M183))","v":""},{"$f":"IF($G15=\"\",\"\",IF($N15=\"\",\"\",Funktioner!N183))","v":""},{"$f":"IF($G15=\"\",\"\",IF($N15=\"\",\"\",Funktioner!O183))","v":""},{"$f":"IF($G15=\"\",\"\",IF($N15=\"\",\"\",HYPERLINK(Funktioner!P183)))","v":""},{"$f":"IF($G15=\"\",\"\",IF($N15=\"\",\"\",Funktioner!Q183))","v":""},{"$f":"IF($G15=\"\",\"\",IF(Funktioner!T183=0,\"\",Funktioner!T183))","v":""},{"$f":"IF($G15=\"\",\"\",IF($N15=\"\",\"\",Funktioner!S183))","v":""}]
[{"$f":"IFERROR(IF($C16=Funktioner!$A$7,1,IF($C16=Funktioner!$A$8,2,IF($C16=Funktioner!$A$9,3,IF($C16=Funktioner!$A$10,4,IF($C16=Funktioner!$B$7,5,IF($C16=Funktioner!$B$8,7,IF($C16=Funktioner!$B$9,8,IF($C16=Funktioner!$C$7,9,IF($C16=Funktioner!$C$8,10,IF($C16=Funktioner!$C$9,11,IF($C16=Funktioner!$C$10,12,IF($C16=Funktioner!$C$11,13,IF($C16=Funktioner!$C$12,14,IF($C16=Funktioner!$D$7,15,IF($C16=Funktioner!$D$8,16,IF($C16=Funktioner!$D$9,17,IF($C16=Funktioner!$E$7,18,IF($C16=Funktioner!$F$7,19,IF($C16=Funktioner!$F$8,20,IF($C16=Funktioner!$F$9,21,IF($C16=Funktioner!$G$7,22,IF($C16=Funktioner!$G$8,23,IF($C16=Funktioner!$G$9,24,IF($C16=Funktioner!$G$10,25,IF($C16=Funktioner!$G$11,26,IF($C16=Funktioner!$H$7,27,IF($C16=Funktioner!$H$8,28,IF($C16=Funktioner!$I$7,29,IF($C16=Funktioner!$J$7,31,IF($C16=Funktioner!$J$8,32,IF($C16=Funktioner!$J$9,33,IF($C16=Funktioner!$K$7,34,IF($C16=Funktioner!$K$8,35,IF($C16=Funktioner!$K$9,36,IF($C16=Funktioner!$L$7,37,IF($C16=Funktioner!$L$8,38,IF($C16=Funktioner!$M$7,39,IF($C16=Funktioner!$M$8,40,IF($C16=Funktioner!$N$7,41,IF($C16=Funktioner!$O$7,42,IF($C16=Funktioner!$P$7,43,IF($C16=Funktioner!$Q$7,44,IF($C16=Funktioner!$Q$8,45,IF($C16=Funktioner!$R$7,46,IF($C16=Funktioner!$R$8,47,IF($C16=Funktioner!$R$9,48,\"\")))))))))))))))))))))))))))))))))))))))))))))),\"\")","v":""},null,null,{"$f":"IF($A16=Funktioner!$B$1,IF(Funktioner!$B$2=\"\",\"\",Funktioner!$B$2),IF($A16=Funktioner!$C$1,IF(Funktioner!$C$2=\"\",\"\",Funktioner!$C$2),IF($A16=Funktioner!$D$1,IF(Funktioner!$D$2=\"\",\"\",Funktioner!$D$2),IF($A16=Funktioner!$E$1,IF(Funktioner!$E$2=\"\",\"\",Funktioner!$E$2),IF($A16=Funktioner!$F$1,IF(Funktioner!$F$2=\"\",\"\",Funktioner!$F$2),IF($A16=Funktioner!$G$1,IF(Funktioner!$G$2=\"\",\"\",Funktioner!$G$2),IF($A16=Funktioner!$H$1,IF(Funktioner!$H$2=\"\",\"\",Funktioner!$H$2),IF($A16=Funktioner!$I$1,IF(Funktioner!$I$2=\"\",\"\",Funktioner!$I$2),IF($A16=Funktioner!$J$1,IF(Funktioner!$J$2=\"\",\"\",Funktioner!$J$2),IF($A16=Funktioner!$K$1,IF(Funktioner!$K$2=\"\",\"\",Funktioner!$K$2),IF($A16=Funktioner!$L$1,IF(Funktioner!$L$2=\"\",\"\",Funktioner!$L$2),IF($A16=Funktioner!$M$1,IF(Funktioner!$M$2=\"\",\"\",Funktioner!$M$2),IF($A16=Funktioner!$N$1,IF(Funktioner!$N$2=\"\",\"\",Funktioner!$N$2),IF($A16=Funktioner!$O$1,IF(Funktioner!$O$2=\"\",\"\",Funktioner!$O$2),IF($A16=Funktioner!$P$1,IF(Funktioner!$P$2=\"\",\"\",Funktioner!$P$2),IF($A16=Funktioner!$Q$1,IF(Funktioner!$Q$2=\"\",\"\",Funktioner!$Q$2),IF($A16=Funktioner!$R$1,IF(Funktioner!$R$2=\"\",\"\",Funktioner!$R$2),IF($A16=Funktioner!$S$1,IF(Funktioner!$S$2=\"\",\"\",Funktioner!$S$2),IF($A16=Funktioner!$T$1,IF(Funktioner!$T$2=\"\",\"\",Funktioner!$T$2),IF($A16=Funktioner!$U$1,IF(Funktioner!$U$2=\"\",\"\",Funktioner!$U$2),IF($A16=Funktioner!$V$1,IF(Funktioner!$V$2=\"\",\"\",Funktioner!$V$2),IF($A16=Funktioner!$W$1,IF(Funktioner!$W$2=\"\",\"\",Funktioner!$W$2),IF($A16=Funktioner!$X$1,IF(Funktioner!$X$2=\"\",\"\",Funktioner!$X$2),IF($A16=Funktioner!$Y$1,IF(Funktioner!$Y$2=\"\",\"\",Funktioner!$Y$2),IF($A16=Funktioner!$Z$1,IF(Funktioner!$Z$2=\"\",\"\",Funktioner!$Z$2),IF($A16=Funktioner!$AA$1,IF(Funktioner!$AA$2=\"\",\"\",Funktioner!$AA$2),IF($A16=Funktioner!$AB$1,IF(Funktioner!$AB$2=\"\",\"\",Funktioner!$AB$2),IF($A16=Funktioner!$AC$1,IF(Funktioner!$AC$2=\"\",\"\",Funktioner!$AC$2),IF($A16=Funktioner!$AD$1,IF(Funktioner!$AD$2=\"\",\"\",Funktioner!$AD$2),IF($A16=Funktioner!$AE$1,IF(Funktioner!$AE$2=\"\",\"\",Funktioner!$AE$2),IF($A16=Funktioner!$AF$1,IF(Funktioner!$AF$2=\"\",\"\",Funktioner!$AF$2),IF($A16=Funktioner!$AG$1,IF(Funktioner!$AG$2=\"\",\"\",Funktioner!$AG$2),IF($A16=Funktioner!$AH$1,IF(Funktioner!$AH$2=\"\",\"\",Funktioner!$AH$2),IF($A16=Funktioner!$AI$1,IF(Funktioner!$AI$2=\"\",\"\",Funktioner!$AI$2),IF($A16=Funktioner!$AJ$1,IF(Funktioner!$AJ$2=\"\",\"\",Funktioner!$AJ$2),IF($A16=Funktioner!$AK$1,IF(Funktioner!$AK$2=\"\",\"\",Funktioner!$AK$2),IF($A16=Funktioner!$AL$1,IF(Funktioner!$AL$2=\"\",\"\",Funktioner!$AL$2),IF($A16=Funktioner!$AM$1,IF(Funktioner!$AM$2=\"\",\"\",Funktioner!$AM$2),IF($A16=Funktioner!$AN$1,IF(Funktioner!$AN$2=\"\",\"\",Funktioner!$AN$2),IF($A16=Funktioner!$AO$1,IF(Funktioner!$AO$2=\"\",\"\",Funktioner!$AO$2),IF($A16=Funktioner!$AP$1,IF(Funktioner!$AP$2=\"\",\"\",Funktioner!$AP$2),IF($A16=Funktioner!$AQ$1,IF(Funktioner!$AQ$2=\"\",\"\",Funktioner!$AQ$2),IF($A16=Funktioner!$AR$1,IF(Funktioner!$AR$2=\"\",\"\",Funktioner!$AR$2),IF($A16=Funktioner!$AS$1,IF(Funktioner!$AS$2=\"\",\"\",Funktioner!$AS$2),IF($A16=Funktioner!$AT$1,IF(Funktioner!$AT$2=\"\",\"\",Funktioner!$AT$2),IF($A16=Funktioner!$AU$1,IF(Funktioner!$AU$2=\"\",\"\",Funktioner!$AU$2),IF($A16=Funktioner!$AV$1,IF(Funktioner!$AV$2=\"\",\"\",Funktioner!$AV$2),IF($A16=Funktioner!$AW$1,IF(Funktioner!$AW$2=\"\",\"\",Funktioner!$AW$2),\"\"))))))))))))))))))))))))))))))))))))))))))))))))","v":""},{"$f":"IF($C16=Funktioner!$A$57,Funktioner!$B$57,IF($C16=Funktioner!$A$58,Funktioner!$B$58,IF($C16=Funktioner!$A$59,Funktioner!$B$59,IF($C16=Funktioner!$A$60,Funktioner!$B$60,IF($C16=Funktioner!$A$61,Funktioner!$B$61,IF($C16=Funktioner!$A$62,Funktioner!$B$62,IF($C16=Funktioner!$A$63,Funktioner!$B$63,IF($C16=Funktioner!$A$64,Funktioner!$B$64,IF($C16=Funktioner!$A$65,Funktioner!$B$65,IF($C16=Funktioner!$A$66,Funktioner!$B$66,IF($C16=Funktioner!$A$67,Funktioner!$B$67,IF($C16=Funktioner!$A$68,Funktioner!$B$68,IF($C16=Funktioner!$A$69,Funktioner!$B$69,IF($C16=Funktioner!$A$70,Funktioner!$B$70,IF($C16=Funktioner!$A$71,Funktioner!$B$71,IF($C16=Funktioner!$A$72,Funktioner!$B$72,IF($C16=Funktioner!$A$73,Funktioner!$B$73,IF($C16=Funktioner!$A$74,Funktioner!$B$74,IF($C16=Funktioner!$A$75,Funktioner!$B$75,IF($C16=Funktioner!$A$76,Funktioner!$B$76,IF($C16=Funktioner!$A$77,Funktioner!$B$77,IF($C16=Funktioner!$A$78,Funktioner!$B$78,IF($C16=Funktioner!$A$79,Funktioner!$B$79,IF($C16=Funktioner!$A$80,Funktioner!$B$80,IF($C16=Funktioner!$A$81,Funktioner!$B$81,IF($C16=Funktioner!$A$82,Funktioner!$B$82,IF($C16=Funktioner!$A$83,Funktioner!$B$83,IF($C16=Funktioner!$A$84,Funktioner!$B$84,IF($C16=Funktioner!$A$85,Funktioner!$B$85,IF($C16=Funktioner!$A$86,Funktioner!$B$86,IF($C16=Funktioner!$A$87,Funktioner!$B$87,IF($C16=Funktioner!$A$88,Funktioner!$B$88,IF($C16=Funktioner!$A$89,Funktioner!$B$89,IF($C16=Funktioner!$A$90,Funktioner!$B$90,IF($C16=Funktioner!$A$91,Funktioner!$B$91,IF($C16=Funktioner!$A$92,Funktioner!$B$92,IF($C16=Funktioner!$A$93,Funktioner!$B$93,IF($C16=Funktioner!$A$94,Funktioner!$B$94,IF($C16=Funktioner!$A$95,Funktioner!$B$95,IF($C16=Funktioner!$A$96,Funktioner!$B$96,IF($C16=Funktioner!$A$97,Funktioner!$B$97,IF($C16=Funktioner!$A$98,Funktioner!$B$98,IF($C16=Funktioner!$A$99,Funktioner!$B$99,IF($C16=Funktioner!$A$100,Funktioner!$B$100,IF($C16=Funktioner!$A$101,Funktioner!$B$101,IF($C16=Funktioner!$A$102,Funktioner!$B$102,IF($C16=Funktioner!$A$103,Funktioner!$B$103,IF($C16=Funktioner!$A$104,Funktioner!$B$104,\"\"))))))))))))))))))))))))))))))))))))))))))))))))","v":""},null,null,{"$f":"IF($G16=\"\",\"\",IF($N16=0,\"\",Funktioner!L184&\" SEK /\"&Funktioner!J113))","v":""},{"$f":"IF($G16=\"\",\"\",IF($N16=\"\",\"\",Funktioner!M184))","v":""},{"$f":"IF($G16=\"\",\"\",IF($N16=\"\",\"\",Funktioner!N184))","v":""},{"$f":"IF($G16=\"\",\"\",IF($N16=\"\",\"\",Funktioner!O184))","v":""},{"$f":"IF($G16=\"\",\"\",IF($N16=\"\",\"\",HYPERLINK(Funktioner!P184)))","v":""},{"$f":"IF($G16=\"\",\"\",IF($N16=\"\",\"\",Funktioner!Q184))","v":""},{"$f":"IF($G16=\"\",\"\",IF(Funktioner!T184=0,\"\",Funktioner!T184))","v":""},{"$f":"IF($G16=\"\",\"\",IF($N16=\"\",\"\",Funktioner!S184))","v":""}]
[{"$f":"IFERROR(IF($C17=Funktioner!$A$7,1,IF($C17=Funktioner!$A$8,2,IF($C17=Funktioner!$A$9,3,IF($C17=Funktioner!$A$10,4,IF($C17=Funktioner!$B$7,5,IF($C17=Funktioner!$B$8,7,IF($C17=Funktioner!$B$9,8,IF($C17=Funktioner!$C$7,9,IF($C17=Funktioner!$C$8,10,IF($C17=Funktioner!$C$9,11,IF($C17=Funktioner!$C$10,12,IF($C17=Funktioner!$C$11,13,IF($C17=Funktioner!$C$12,14,IF($C17=Funktioner!$D$7,15,IF($C17=Funktioner!$D$8,16,IF($C17=Funktioner!$D$9,17,IF($C17=Funktioner!$E$7,18,IF($C17=Funktioner!$F$7,19,IF($C17=Funktioner!$F$8,20,IF($C17=Funktioner!$F$9,21,IF($C17=Funktioner!$G$7,22,IF($C17=Funktioner!$G$8,23,IF($C17=Funktioner!$G$9,24,IF($C17=Funktioner!$G$10,25,IF($C17=Funktioner!$G$11,26,IF($C17=Funktioner!$H$7,27,IF($C17=Funktioner!$H$8,28,IF($C17=Funktioner!$I$7,29,IF($C17=Funktioner!$J$7,31,IF($C17=Funktioner!$J$8,32,IF($C17=Funktioner!$J$9,33,IF($C17=Funktioner!$K$7,34,IF($C17=Funktioner!$K$8,35,IF($C17=Funktioner!$K$9,36,IF($C17=Funktioner!$L$7,37,IF($C17=Funktioner!$L$8,38,IF($C17=Funktioner!$M$7,39,IF($C17=Funktioner!$M$8,40,IF($C17=Funktioner!$N$7,41,IF($C17=Funktioner!$O$7,42,IF($C17=Funktioner!$P$7,43,IF($C17=Funktioner!$Q$7,44,IF($C17=Funktioner!$Q$8,45,IF($C17=Funktioner!$R$7,46,IF($C17=Funktioner!$R$8,47,IF($C17=Funktioner!$R$9,48,\"\")))))))))))))))))))))))))))))))))))))))))))))),\"\")","v":""},null,null,{"$f":"IF($A17=Funktioner!$B$1,IF(Funktioner!$B$2=\"\",\"\",Funktioner!$B$2),IF($A17=Funktioner!$C$1,IF(Funktioner!$C$2=\"\",\"\",Funktioner!$C$2),IF($A17=Funktioner!$D$1,IF(Funktioner!$D$2=\"\",\"\",Funktioner!$D$2),IF($A17=Funktioner!$E$1,IF(Funktioner!$E$2=\"\",\"\",Funktioner!$E$2),IF($A17=Funktioner!$F$1,IF(Funktioner!$F$2=\"\",\"\",Funktioner!$F$2),IF($A17=Funktioner!$G$1,IF(Funktioner!$G$2=\"\",\"\",Funktioner!$G$2),IF($A17=Funktioner!$H$1,IF(Funktioner!$H$2=\"\",\"\",Funktioner!$H$2),IF($A17=Funktioner!$I$1,IF(Funktioner!$I$2=\"\",\"\",Funktioner!$I$2),IF($A17=Funktioner!$J$1,IF(Funktioner!$J$2=\"\",\"\",Funktioner!$J$2),IF($A17=Funktioner!$K$1,IF(Funktioner!$K$2=\"\",\"\",Funktioner!$K$2),IF($A17=Funktioner!$L$1,IF(Funktioner!$L$2=\"\",\"\",Funktioner!$L$2),IF($A17=Funktioner!$M$1,IF(Funktioner!$M$2=\"\",\"\",Funktioner!$M$2),IF($A17=Funktioner!$N$1,IF(Funktioner!$N$2=\"\",\"\",Funktioner!$N$2),IF($A17=Funktioner!$O$1,IF(Funktioner!$O$2=\"\",\"\",Funktioner!$O$2),IF($A17=Funktioner!$P$1,IF(Funktioner!$P$2=\"\",\"\",Funktioner!$P$2),IF($A17=Funktioner!$Q$1,IF(Funktioner!$Q$2=\"\",\"\",Funktioner!$Q$2),IF($A17=Funktioner!$R$1,IF(Funktioner!$R$2=\"\",\"\",Funktioner!$R$2),IF($A17=Funktioner!$S$1,IF(Funktioner!$S$2=\"\",\"\",Funktioner!$S$2),IF($A17=Funktioner!$T$1,IF(Funktioner!$T$2=\"\",\"\",Funktioner!$T$2),IF($A17=Funktioner!$U$1,IF(Funktioner!$U$2=\"\",\"\",Funktioner!$U$2),IF($A17=Funktioner!$V$1,IF(Funktioner!$V$2=\"\",\"\",Funktioner!$V$2),IF($A17=Funktioner!$W$1,IF(Funktioner!$W$2=\"\",\"\",Funktioner!$W$2),IF($A17=Funktioner!$X$1,IF(Funktioner!$X$2=\"\",\"\",Funktioner!$X$2),IF($A17=Funktioner!$Y$1,IF(Funktioner!$Y$2=\"\",\"\",Funktioner!$Y$2),IF($A17=Funktioner!$Z$1,IF(Funktioner!$Z$2=\"\",\"\",Funktioner!$Z$2),IF($A17=Funktioner!$AA$1,IF(Funktioner!$AA$2=\"\",\"\",Funktioner!$AA$2),IF($A17=Funktioner!$AB$1,IF(Funktioner!$AB$2=\"\",\"\",Funktioner!$AB$2),IF($A17=Funktioner!$AC$1,IF(Funktioner!$AC$2=\"\",\"\",Funktioner!$AC$2),IF($A17=Funktioner!$AD$1,IF(Funktioner!$AD$2=\"\",\"\",Funktioner!$AD$2),IF($A17=Funktioner!$AE$1,IF(Funktioner!$AE$2=\"\",\"\",Funktioner!$AE$2),IF($A17=Funktioner!$AF$1,IF(Funktioner!$AF$2=\"\",\"\",Funktioner!$AF$2),IF($A17=Funktioner!$AG$1,IF(Funktioner!$AG$2=\"\",\"\",Funktioner!$AG$2),IF($A17=Funktioner!$AH$1,IF(Funktioner!$AH$2=\"\",\"\",Funktioner!$AH$2),IF($A17=Funktioner!$AI$1,IF(Funktioner!$AI$2=\"\",\"\",Funktioner!$AI$2),IF($A17=Funktioner!$AJ$1,IF(Funktioner!$AJ$2=\"\",\"\",Funktioner!$AJ$2),IF($A17=Funktioner!$AK$1,IF(Funktioner!$AK$2=\"\",\"\",Funktioner!$AK$2),IF($A17=Funktioner!$AL$1,IF(Funktioner!$AL$2=\"\",\"\",Funktioner!$AL$2),IF($A17=Funktioner!$AM$1,IF(Funktioner!$AM$2=\"\",\"\",Funktioner!$AM$2),IF($A17=Funktioner!$AN$1,IF(Funktioner!$AN$2=\"\",\"\",Funktioner!$AN$2),IF($A17=Funktioner!$AO$1,IF(Funktioner!$AO$2=\"\",\"\",Funktioner!$AO$2),IF($A17=Funktioner!$AP$1,IF(Funktioner!$AP$2=\"\",\"\",Funktioner!$AP$2),IF($A17=Funktioner!$AQ$1,IF(Funktioner!$AQ$2=\"\",\"\",Funktioner!$AQ$2),IF($A17=Funktioner!$AR$1,IF(Funktioner!$AR$2=\"\",\"\",Funktioner!$AR$2),IF($A17=Funktioner!$AS$1,IF(Funktioner!$AS$2=\"\",\"\",Funktioner!$AS$2),IF($A17=Funktioner!$AT$1,IF(Funktioner!$AT$2=\"\",\"\",Funktioner!$AT$2),IF($A17=Funktioner!$AU$1,IF(Funktioner!$AU$2=\"\",\"\",Funktioner!$AU$2),IF($A17=Funktioner!$AV$1,IF(Funktioner!$AV$2=\"\",\"\",Funktioner!$AV$2),IF($A17=Funktioner!$AW$1,IF(Funktioner!$AW$2=\"\",\"\",Funktioner!$AW$2),\"\"))))))))))))))))))))))))))))))))))))))))))))))))","v":""},{"$f":"IF($C17=Funktioner!$A$57,Funktioner!$B$57,IF($C17=Funktioner!$A$58,Funktioner!$B$58,IF($C17=Funktioner!$A$59,Funktioner!$B$59,IF($C17=Funktioner!$A$60,Funktioner!$B$60,IF($C17=Funktioner!$A$61,Funktioner!$B$61,IF($C17=Funktioner!$A$62,Funktioner!$B$62,IF($C17=Funktioner!$A$63,Funktioner!$B$63,IF($C17=Funktioner!$A$64,Funktioner!$B$64,IF($C17=Funktioner!$A$65,Funktioner!$B$65,IF($C17=Funktioner!$A$66,Funktioner!$B$66,IF($C17=Funktioner!$A$67,Funktioner!$B$67,IF($C17=Funktioner!$A$68,Funktioner!$B$68,IF($C17=Funktioner!$A$69,Funktioner!$B$69,IF($C17=Funktioner!$A$70,Funktioner!$B$70,IF($C17=Funktioner!$A$71,Funktioner!$B$71,IF($C17=Funktioner!$A$72,Funktioner!$B$72,IF($C17=Funktioner!$A$73,Funktioner!$B$73,IF($C17=Funktioner!$A$74,Funktioner!$B$74,IF($C17=Funktioner!$A$75,Funktioner!$B$75,IF($C17=Funktioner!$A$76,Funktioner!$B$76,IF($C17=Funktioner!$A$77,Funktioner!$B$77,IF($C17=Funktioner!$A$78,Funktioner!$B$78,IF($C17=Funktioner!$A$79,Funktioner!$B$79,IF($C17=Funktioner!$A$80,Funktioner!$B$80,IF($C17=Funktioner!$A$81,Funktioner!$B$81,IF($C17=Funktioner!$A$82,Funktioner!$B$82,IF($C17=Funktioner!$A$83,Funktioner!$B$83,IF($C17=Funktioner!$A$84,Funktioner!$B$84,IF($C17=Funktioner!$A$85,Funktioner!$B$85,IF($C17=Funktioner!$A$86,Funktioner!$B$86,IF($C17=Funktioner!$A$87,Funktioner!$B$87,IF($C17=Funktioner!$A$88,Funktioner!$B$88,IF($C17=Funktioner!$A$89,Funktioner!$B$89,IF($C17=Funktioner!$A$90,Funktioner!$B$90,IF($C17=Funktioner!$A$91,Funktioner!$B$91,IF($C17=Funktioner!$A$92,Funktioner!$B$92,IF($C17=Funktioner!$A$93,Funktioner!$B$93,IF($C17=Funktioner!$A$94,Funktioner!$B$94,IF($C17=Funktioner!$A$95,Funktioner!$B$95,IF($C17=Funktioner!$A$96,Funktioner!$B$96,IF($C17=Funktioner!$A$97,Funktioner!$B$97,IF($C17=Funktioner!$A$98,Funktioner!$B$98,IF($C17=Funktioner!$A$99,Funktioner!$B$99,IF($C17=Funktioner!$A$100,Funktioner!$B$100,IF($C17=Funktioner!$A$101,Funktioner!$B$101,IF($C17=Funktioner!$A$102,Funktioner!$B$102,IF($C17=Funktioner!$A$103,Funktioner!$B$103,IF($C17=Funktioner!$A$104,Funktioner!$B$104,\"\"))))))))))))))))))))))))))))))))))))))))))))))))","v":""},null,null,{"$f":"IF($G17=\"\",\"\",IF($N17=0,\"\",Funktioner!L185&\" SEK /\"&Funktioner!J114))","v":""},{"$f":"IF($G17=\"\",\"\",IF($N17=\"\",\"\",Funktioner!M185))","v":""},{"$f":"IF($G17=\"\",\"\",IF($N17=\"\",\"\",Funktioner!N185))","v":""},{"$f":"IF($G17=\"\",\"\",IF($N17=\"\",\"\",Funktioner!O185))","v":""},{"$f":"IF($G17=\"\",\"\",IF($N17=\"\",\"\",HYPERLINK(Funktioner!P185)))","v":""},{"$f":"IF($G17=\"\",\"\",IF($N17=\"\",\"\",Funktioner!Q185))","v":""},{"$f":"IF($G17=\"\",\"\",IF(Funktioner!T185=0,\"\",Funktioner!T185))","v":""},{"$f":"IF($G17=\"\",\"\",IF($N17=\"\",\"\",Funktioner!S185))","v":""}]
[{"$f":"IFERROR(IF($C18=Funktioner!$A$7,1,IF($C18=Funktioner!$A$8,2,IF($C18=Funktioner!$A$9,3,IF($C18=Funktioner!$A$10,4,IF($C18=Funktioner!$B$7,5,IF($C18=Funktioner!$B$8,7,IF($C18=Funktioner!$B$9,8,IF($C18=Funktioner!$C$7,9,IF($C18=Funktioner!$C$8,10,IF($C18=Funktioner!$C$9,11,IF($C18=Funktioner!$C$10,12,IF($C18=Funktioner!$C$11,13,IF($C18=Funktioner!$C$12,14,IF($C18=Funktioner!$D$7,15,IF($C18=Funktioner!$D$8,16,IF($C18=Funktioner!$D$9,17,IF($C18=Funktioner!$E$7,18,IF($C18=Funktioner!$F$7,19,IF($C18=Funktioner!$F$8,20,IF($C18=Funktioner!$F$9,21,IF($C18=Funktioner!$G$7,22,IF($C18=Funktioner!$G$8,23,IF($C18=Funktioner!$G$9,24,IF($C18=Funktioner!$G$10,25,IF($C18=Funktioner!$G$11,26,IF($C18=Funktioner!$H$7,27,IF($C18=Funktioner!$H$8,28,IF($C18=Funktioner!$I$7,29,IF($C18=Funktioner!$J$7,31,IF($C18=Funktioner!$J$8,32,IF($C18=Funktioner!$J$9,33,IF($C18=Funktioner!$K$7,34,IF($C18=Funktioner!$K$8,35,IF($C18=Funktioner!$K$9,36,IF($C18=Funktioner!$L$7,37,IF($C18=Funktioner!$L$8,38,IF($C18=Funktioner!$M$7,39,IF($C18=Funktioner!$M$8,40,IF($C18=Funktioner!$N$7,41,IF($C18=Funktioner!$O$7,42,IF($C18=Funktioner!$P$7,43,IF($C18=Funktioner!$Q$7,44,IF($C18=Funktioner!$Q$8,45,IF($C18=Funktioner!$R$7,46,IF($C18=Funktioner!$R$8,47,IF($C18=Funktioner!$R$9,48,\"\")))))))))))))))))))))))))))))))))))))))))))))),\"\")","v":""},null,null,{"$f":"IF($A18=Funktioner!$B$1,IF(Funktioner!$B$2=\"\",\"\",Funktioner!$B$2),IF($A18=Funktioner!$C$1,IF(Funktioner!$C$2=\"\",\"\",Funktioner!$C$2),IF($A18=Funktioner!$D$1,IF(Funktioner!$D$2=\"\",\"\",Funktioner!$D$2),IF($A18=Funktioner!$E$1,IF(Funktioner!$E$2=\"\",\"\",Funktioner!$E$2),IF($A18=Funktioner!$F$1,IF(Funktioner!$F$2=\"\",\"\",Funktioner!$F$2),IF($A18=Funktioner!$G$1,IF(Funktioner!$G$2=\"\",\"\",Funktioner!$G$2),IF($A18=Funktioner!$H$1,IF(Funktioner!$H$2=\"\",\"\",Funktioner!$H$2),IF($A18=Funktioner!$I$1,IF(Funktioner!$I$2=\"\",\"\",Funktioner!$I$2),IF($A18=Funktioner!$J$1,IF(Funktioner!$J$2=\"\",\"\",Funktioner!$J$2),IF($A18=Funktioner!$K$1,IF(Funktioner!$K$2=\"\",\"\",Funktioner!$K$2),IF($A18=Funktioner!$L$1,IF(Funktioner!$L$2=\"\",\"\",Funktioner!$L$2),IF($A18=Funktioner!$M$1,IF(Funktioner!$M$2=\"\",\"\",Funktioner!$M$2),IF($A18=Funktioner!$N$1,IF(Funktioner!$N$2=\"\",\"\",Funktioner!$N$2),IF($A18=Funktioner!$O$1,IF(Funktioner!$O$2=\"\",\"\",Funktioner!$O$2),IF($A18=Funktioner!$P$1,IF(Funktioner!$P$2=\"\",\"\",Funktioner!$P$2),IF($A18=Funktioner!$Q$1,IF(Funktioner!$Q$2=\"\",\"\",Funktioner!$Q$2),IF($A18=Funktioner!$R$1,IF(Funktioner!$R$2=\"\",\"\",Funktioner!$R$2),IF($A18=Funktioner!$S$1,IF(Funktioner!$S$2=\"\",\"\",Funktioner!$S$2),IF($A18=Funktioner!$T$1,IF(Funktioner!$T$2=\"\",\"\",Funktioner!$T$2),IF($A18=Funktioner!$U$1,IF(Funktioner!$U$2=\"\",\"\",Funktioner!$U$2),IF($A18=Funktioner!$V$1,IF(Funktioner!$V$2=\"\",\"\",Funktioner!$V$2),IF($A18=Funktioner!$W$1,IF(Funktioner!$W$2=\"\",\"\",Funktioner!$W$2),IF($A18=Funktioner!$X$1,IF(Funktioner!$X$2=\"\",\"\",Funktioner!$X$2),IF($A18=Funktioner!$Y$1,IF(Funktioner!$Y$2=\"\",\"\",Funktioner!$Y$2),IF($A18=Funktioner!$Z$1,IF(Funktioner!$Z$2=\"\",\"\",Funktioner!$Z$2),IF($A18=Funktioner!$AA$1,IF(Funktioner!$AA$2=\"\",\"\",Funktioner!$AA$2),IF($A18=Funktioner!$AB$1,IF(Funktioner!$AB$2=\"\",\"\",Funktioner!$AB$2),IF($A18=Funktioner!$AC$1,IF(Funktioner!$AC$2=\"\",\"\",Funktioner!$AC$2),IF($A18=Funktioner!$AD$1,IF(Funktioner!$AD$2=\"\",\"\",Funktioner!$AD$2),IF($A18=Funktioner!$AE$1,IF(Funktioner!$AE$2=\"\",\"\",Funktioner!$AE$2),IF($A18=Funktioner!$AF$1,IF(Funktioner!$AF$2=\"\",\"\",Funktioner!$AF$2),IF($A18=Funktioner!$AG$1,IF(Funktioner!$AG$2=\"\",\"\",Funktioner!$AG$2),IF($A18=Funktioner!$AH$1,IF(Funktioner!$AH$2=\"\",\"\",Funktioner!$AH$2),IF($A18=Funktioner!$AI$1,IF(Funktioner!$AI$2=\"\",\"\",Funktioner!$AI$2),IF($A18=Funktioner!$AJ$1,IF(Funktioner!$AJ$2=\"\",\"\",Funktioner!$AJ$2),IF($A18=Funktioner!$AK$1,IF(Funktioner!$AK$2=\"\",\"\",Funktioner!$AK$2),IF($A18=Funktioner!$AL$1,IF(Funktioner!$AL$2=\"\",\"\",Funktioner!$AL$2),IF($A18=Funktioner!$AM$1,IF(Funktioner!$AM$2=\"\",\"\",Funktioner!$AM$2),IF($A18=Funktioner!$AN$1,IF(Funktioner!$AN$2=\"\",\"\",Funktioner!$AN$2),IF($A18=Funktioner!$AO$1,IF(Funktioner!$AO$2=\"\",\"\",Funktioner!$AO$2),IF($A18=Funktioner!$AP$1,IF(Funktioner!$AP$2=\"\",\"\",Funktioner!$AP$2),IF($A18=Funktioner!$AQ$1,IF(Funktioner!$AQ$2=\"\",\"\",Funktioner!$AQ$2),IF($A18=Funktioner!$AR$1,IF(Funktioner!$AR$2=\"\",\"\",Funktioner!$AR$2),IF($A18=Funktioner!$AS$1,IF(Funktioner!$AS$2=\"\",\"\",Funktioner!$AS$2),IF($A18=Funktioner!$AT$1,IF(Funktioner!$AT$2=\"\",\"\",Funktioner!$AT$2),IF($A18=Funktioner!$AU$1,IF(Funktioner!$AU$2=\"\",\"\",Funktioner!$AU$2),IF($A18=Funktioner!$AV$1,IF(Funktioner!$AV$2=\"\",\"\",Funktioner!$AV$2),IF($A18=Funktioner!$AW$1,IF(Funktioner!$AW$2=\"\",\"\",Funktioner!$AW$2),\"\"))))))))))))))))))))))))))))))))))))))))))))))))","v":""},{"$f":"IF($C18=Funktioner!$A$57,Funktioner!$B$57,IF($C18=Funktioner!$A$58,Funktioner!$B$58,IF($C18=Funktioner!$A$59,Funktioner!$B$59,IF($C18=Funktioner!$A$60,Funktioner!$B$60,IF($C18=Funktioner!$A$61,Funktioner!$B$61,IF($C18=Funktioner!$A$62,Funktioner!$B$62,IF($C18=Funktioner!$A$63,Funktioner!$B$63,IF($C18=Funktioner!$A$64,Funktioner!$B$64,IF($C18=Funktioner!$A$65,Funktioner!$B$65,IF($C18=Funktioner!$A$66,Funktioner!$B$66,IF($C18=Funktioner!$A$67,Funktioner!$B$67,IF($C18=Funktioner!$A$68,Funktioner!$B$68,IF($C18=Funktioner!$A$69,Funktioner!$B$69,IF($C18=Funktioner!$A$70,Funktioner!$B$70,IF($C18=Funktioner!$A$71,Funktioner!$B$71,IF($C18=Funktioner!$A$72,Funktioner!$B$72,IF($C18=Funktioner!$A$73,Funktioner!$B$73,IF($C18=Funktioner!$A$74,Funktioner!$B$74,IF($C18=Funktioner!$A$75,Funktioner!$B$75,IF($C18=Funktioner!$A$76,Funktioner!$B$76,IF($C18=Funktioner!$A$77,Funktioner!$B$77,IF($C18=Funktioner!$A$78,Funktioner!$B$78,IF($C18=Funktioner!$A$79,Funktioner!$B$79,IF($C18=Funktioner!$A$80,Funktioner!$B$80,IF($C18=Funktioner!$A$81,Funktioner!$B$81,IF($C18=Funktioner!$A$82,Funktioner!$B$82,IF($C18=Funktioner!$A$83,Funktioner!$B$83,IF($C18=Funktioner!$A$84,Funktioner!$B$84,IF($C18=Funktioner!$A$85,Funktioner!$B$85,IF($C18=Funktioner!$A$86,Funktioner!$B$86,IF($C18=Funktioner!$A$87,Funktioner!$B$87,IF($C18=Funktioner!$A$88,Funktioner!$B$88,IF($C18=Funktioner!$A$89,Funktioner!$B$89,IF($C18=Funktioner!$A$90,Funktioner!$B$90,IF($C18=Funktioner!$A$91,Funktioner!$B$91,IF($C18=Funktioner!$A$92,Funktioner!$B$92,IF($C18=Funktioner!$A$93,Funktioner!$B$93,IF($C18=Funktioner!$A$94,Funktioner!$B$94,IF($C18=Funktioner!$A$95,Funktioner!$B$95,IF($C18=Funktioner!$A$96,Funktioner!$B$96,IF($C18=Funktioner!$A$97,Funktioner!$B$97,IF($C18=Funktioner!$A$98,Funktioner!$B$98,IF($C18=Funktioner!$A$99,Funktioner!$B$99,IF($C18=Funktioner!$A$100,Funktioner!$B$100,IF($C18=Funktioner!$A$101,Funktioner!$B$101,IF($C18=Funktioner!$A$102,Funktioner!$B$102,IF($C18=Funktioner!$A$103,Funktioner!$B$103,IF($C18=Funktioner!$A$104,Funktioner!$B$104,\"\"))))))))))))))))))))))))))))))))))))))))))))))))","v":""},null,null,{"$f":"IF($G18=\"\",\"\",IF($N18=0,\"\",Funktioner!L186&\" SEK /\"&Funktioner!J115))","v":""},{"$f":"IF($G18=\"\",\"\",IF($N18=\"\",\"\",Funktioner!M186))","v":""},{"$f":"IF($G18=\"\",\"\",IF($N18=\"\",\"\",Funktioner!N186))","v":""},{"$f":"IF($G18=\"\",\"\",IF($N18=\"\",\"\",Funktioner!O186))","v":""},{"$f":"IF($G18=\"\",\"\",IF($N18=\"\",\"\",HYPERLINK(Funktioner!P186)))","v":""},{"$f":"IF($G18=\"\",\"\",IF($N18=\"\",\"\",Funktioner!Q186))","v":""},{"$f":"IF($G18=\"\",\"\",IF(Funktioner!T186=0,\"\",Funktioner!T186))","v":""},{"$f":"IF($G18=\"\",\"\",IF($N18=\"\",\"\",Funktioner!S186))","v":""}]
[{"$f":"IFERROR(IF($C19=Funktioner!$A$7,1,IF($C19=Funktioner!$A$8,2,IF($C19=Funktioner!$A$9,3,IF($C19=Funktioner!$A$10,4,IF($C19=Funktioner!$B$7,5,IF($C19=Funktioner!$B$8,7,IF($C19=Funktioner!$B$9,8,IF($C19=Funktioner!$C$7,9,IF($C19=Funktioner!$C$8,10,IF($C19=Funktioner!$C$9,11,IF($C19=Funktioner!$C$10,12,IF($C19=Funktioner!$C$11,13,IF($C19=Funktioner!$C$12,14,IF($C19=Funktioner!$D$7,15,IF($C19=Funktioner!$D$8,16,IF($C19=Funktioner!$D$9,17,IF($C19=Funktioner!$E$7,18,IF($C19=Funktioner!$F$7,19,IF($C19=Funktioner!$F$8,20,IF($C19=Funktioner!$F$9,21,IF($C19=Funktioner!$G$7,22,IF($C19=Funktioner!$G$8,23,IF($C19=Funktioner!$G$9,24,IF($C19=Funktioner!$G$10,25,IF($C19=Funktioner!$G$11,26,IF($C19=Funktioner!$H$7,27,IF($C19=Funktioner!$H$8,28,IF($C19=Funktioner!$I$7,29,IF($C19=Funktioner!$J$7,31,IF($C19=Funktioner!$J$8,32,IF($C19=Funktioner!$J$9,33,IF($C19=Funktioner!$K$7,34,IF($C19=Funktioner!$K$8,35,IF($C19=Funktioner!$K$9,36,IF($C19=Funktioner!$L$7,37,IF($C19=Funktioner!$L$8,38,IF($C19=Funktioner!$M$7,39,IF($C19=Funktioner!$M$8,40,IF($C19=Funktioner!$N$7,41,IF($C19=Funktioner!$O$7,42,IF($C19=Funktioner!$P$7,43,IF($C19=Funktioner!$Q$7,44,IF($C19=Funktioner!$Q$8,45,IF($C19=Funktioner!$R$7,46,IF($C19=Funktioner!$R$8,47,IF($C19=Funktioner!$R$9,48,\"\")))))))))))))))))))))))))))))))))))))))))))))),\"\")","v":""},null,null,{"$f":"IF($A19=Funktioner!$B$1,IF(Funktioner!$B$2=\"\",\"\",Funktioner!$B$2),IF($A19=Funktioner!$C$1,IF(Funktioner!$C$2=\"\",\"\",Funktioner!$C$2),IF($A19=Funktioner!$D$1,IF(Funktioner!$D$2=\"\",\"\",Funktioner!$D$2),IF($A19=Funktioner!$E$1,IF(Funktioner!$E$2=\"\",\"\",Funktioner!$E$2),IF($A19=Funktioner!$F$1,IF(Funktioner!$F$2=\"\",\"\",Funktioner!$F$2),IF($A19=Funktioner!$G$1,IF(Funktioner!$G$2=\"\",\"\",Funktioner!$G$2),IF($A19=Funktioner!$H$1,IF(Funktioner!$H$2=\"\",\"\",Funktioner!$H$2),IF($A19=Funktioner!$I$1,IF(Funktioner!$I$2=\"\",\"\",Funktioner!$I$2),IF($A19=Funktioner!$J$1,IF(Funktioner!$J$2=\"\",\"\",Funktioner!$J$2),IF($A19=Funktioner!$K$1,IF(Funktioner!$K$2=\"\",\"\",Funktioner!$K$2),IF($A19=Funktioner!$L$1,IF(Funktioner!$L$2=\"\",\"\",Funktioner!$L$2),IF($A19=Funktioner!$M$1,IF(Funktioner!$M$2=\"\",\"\",Funktioner!$M$2),IF($A19=Funktioner!$N$1,IF(Funktioner!$N$2=\"\",\"\",Funktioner!$N$2),IF($A19=Funktioner!$O$1,IF(Funktioner!$O$2=\"\",\"\",Funktioner!$O$2),IF($A19=Funktioner!$P$1,IF(Funktioner!$P$2=\"\",\"\",Funktioner!$P$2),IF($A19=Funktioner!$Q$1,IF(Funktioner!$Q$2=\"\",\"\",Funktioner!$Q$2),IF($A19=Funktioner!$R$1,IF(Funktioner!$R$2=\"\",\"\",Funktioner!$R$2),IF($A19=Funktioner!$S$1,IF(Funktioner!$S$2=\"\",\"\",Funktioner!$S$2),IF($A19=Funktioner!$T$1,IF(Funktioner!$T$2=\"\",\"\",Funktioner!$T$2),IF($A19=Funktioner!$U$1,IF(Funktioner!$U$2=\"\",\"\",Funktioner!$U$2),IF($A19=Funktioner!$V$1,IF(Funktioner!$V$2=\"\",\"\",Funktioner!$V$2),IF($A19=Funktioner!$W$1,IF(Funktioner!$W$2=\"\",\"\",Funktioner!$W$2),IF($A19=Funktioner!$X$1,IF(Funktioner!$X$2=\"\",\"\",Funktioner!$X$2),IF($A19=Funktioner!$Y$1,IF(Funktioner!$Y$2=\"\",\"\",Funktioner!$Y$2),IF($A19=Funktioner!$Z$1,IF(Funktioner!$Z$2=\"\",\"\",Funktioner!$Z$2),IF($A19=Funktioner!$AA$1,IF(Funktioner!$AA$2=\"\",\"\",Funktioner!$AA$2),IF($A19=Funktioner!$AB$1,IF(Funktioner!$AB$2=\"\",\"\",Funktioner!$AB$2),IF($A19=Funktioner!$AC$1,IF(Funktioner!$AC$2=\"\",\"\",Funktioner!$AC$2),IF($A19=Funktioner!$AD$1,IF(Funktioner!$AD$2=\"\",\"\",Funktioner!$AD$2),IF($A19=Funktioner!$AE$1,IF(Funktioner!$AE$2=\"\",\"\",Funktioner!$AE$2),IF($A19=Funktioner!$AF$1,IF(Funktioner!$AF$2=\"\",\"\",Funktioner!$AF$2),IF($A19=Funktioner!$AG$1,IF(Funktioner!$AG$2=\"\",\"\",Funktioner!$AG$2),IF($A19=Funktioner!$AH$1,IF(Funktioner!$AH$2=\"\",\"\",Funktioner!$AH$2),IF($A19=Funktioner!$AI$1,IF(Funktioner!$AI$2=\"\",\"\",Funktioner!$AI$2),IF($A19=Funktioner!$AJ$1,IF(Funktioner!$AJ$2=\"\",\"\",Funktioner!$AJ$2),IF($A19=Funktioner!$AK$1,IF(Funktioner!$AK$2=\"\",\"\",Funktioner!$AK$2),IF($A19=Funktioner!$AL$1,IF(Funktioner!$AL$2=\"\",\"\",Funktioner!$AL$2),IF($A19=Funktioner!$AM$1,IF(Funktioner!$AM$2=\"\",\"\",Funktioner!$AM$2),IF($A19=Funktioner!$AN$1,IF(Funktioner!$AN$2=\"\",\"\",Funktioner!$AN$2),IF($A19=Funktioner!$AO$1,IF(Funktioner!$AO$2=\"\",\"\",Funktioner!$AO$2),IF($A19=Funktioner!$AP$1,IF(Funktioner!$AP$2=\"\",\"\",Funktioner!$AP$2),IF($A19=Funktioner!$AQ$1,IF(Funktioner!$AQ$2=\"\",\"\",Funktioner!$AQ$2),IF($A19=Funktioner!$AR$1,IF(Funktioner!$AR$2=\"\",\"\",Funktioner!$AR$2),IF($A19=Funktioner!$AS$1,IF(Funktioner!$AS$2=\"\",\"\",Funktioner!$AS$2),IF($A19=Funktioner!$AT$1,IF(Funktioner!$AT$2=\"\",\"\",Funktioner!$AT$2),IF($A19=Funktioner!$AU$1,IF(Funktioner!$AU$2=\"\",\"\",Funktioner!$AU$2),IF($A19=Funktioner!$AV$1,IF(Funktioner!$AV$2=\"\",\"\",Funktioner!$AV$2),IF($A19=Funktioner!$AW$1,IF(Funktioner!$AW$2=\"\",\"\",Funktioner!$AW$2),\"\"))))))))))))))))))))))))))))))))))))))))))))))))","v":""},{"$f":"IF($C19=Funktioner!$A$57,Funktioner!$B$57,IF($C19=Funktioner!$A$58,Funktioner!$B$58,IF($C19=Funktioner!$A$59,Funktioner!$B$59,IF($C19=Funktioner!$A$60,Funktioner!$B$60,IF($C19=Funktioner!$A$61,Funktioner!$B$61,IF($C19=Funktioner!$A$62,Funktioner!$B$62,IF($C19=Funktioner!$A$63,Funktioner!$B$63,IF($C19=Funktioner!$A$64,Funktioner!$B$64,IF($C19=Funktioner!$A$65,Funktioner!$B$65,IF($C19=Funktioner!$A$66,Funktioner!$B$66,IF($C19=Funktioner!$A$67,Funktioner!$B$67,IF($C19=Funktioner!$A$68,Funktioner!$B$68,IF($C19=Funktioner!$A$69,Funktioner!$B$69,IF($C19=Funktioner!$A$70,Funktioner!$B$70,IF($C19=Funktioner!$A$71,Funktioner!$B$71,IF($C19=Funktioner!$A$72,Funktioner!$B$72,IF($C19=Funktioner!$A$73,Funktioner!$B$73,IF($C19=Funktioner!$A$74,Funktioner!$B$74,IF($C19=Funktioner!$A$75,Funktioner!$B$75,IF($C19=Funktioner!$A$76,Funktioner!$B$76,IF($C19=Funktioner!$A$77,Funktioner!$B$77,IF($C19=Funktioner!$A$78,Funktioner!$B$78,IF($C19=Funktioner!$A$79,Funktioner!$B$79,IF($C19=Funktioner!$A$80,Funktioner!$B$80,IF($C19=Funktioner!$A$81,Funktioner!$B$81,IF($C19=Funktioner!$A$82,Funktioner!$B$82,IF($C19=Funktioner!$A$83,Funktioner!$B$83,IF($C19=Funktioner!$A$84,Funktioner!$B$84,IF($C19=Funktioner!$A$85,Funktioner!$B$85,IF($C19=Funktioner!$A$86,Funktioner!$B$86,IF($C19=Funktioner!$A$87,Funktioner!$B$87,IF($C19=Funktioner!$A$88,Funktioner!$B$88,IF($C19=Funktioner!$A$89,Funktioner!$B$89,IF($C19=Funktioner!$A$90,Funktioner!$B$90,IF($C19=Funktioner!$A$91,Funktioner!$B$91,IF($C19=Funktioner!$A$92,Funktioner!$B$92,IF($C19=Funktioner!$A$93,Funktioner!$B$93,IF($C19=Funktioner!$A$94,Funktioner!$B$94,IF($C19=Funktioner!$A$95,Funktioner!$B$95,IF($C19=Funktioner!$A$96,Funktioner!$B$96,IF($C19=Funktioner!$A$97,Funktioner!$B$97,IF($C19=Funktioner!$A$98,Funktioner!$B$98,IF($C19=Funktioner!$A$99,Funktioner!$B$99,IF($C19=Funktioner!$A$100,Funktioner!$B$100,IF($C19=Funktioner!$A$101,Funktioner!$B$101,IF($C19=Funktioner!$A$102,Funktioner!$B$102,IF($C19=Funktioner!$A$103,Funktioner!$B$103,IF($C19=Funktioner!$A$104,Funktioner!$B$104,\"\"))))))))))))))))))))))))))))))))))))))))))))))))","v":""},null,null,{"$f":"IF($G19=\"\",\"\",IF($N19=0,\"\",Funktioner!L187&\" SEK /\"&Funktioner!J116))","v":""},{"$f":"IF($G19=\"\",\"\",IF($N19=\"\",\"\",Funktioner!M187))","v":""},{"$f":"IF($G19=\"\",\"\",IF($N19=\"\",\"\",Funktioner!N187))","v":""},{"$f":"IF($G19=\"\",\"\",IF($N19=\"\",\"\",Funktioner!O187))","v":""},{"$f":"IF($G19=\"\",\"\",IF($N19=\"\",\"\",HYPERLINK(Funktioner!P187)))","v":""},{"$f":"IF($G19=\"\",\"\",IF($N19=\"\",\"\",Funktioner!Q187))","v":""},{"$f":"IF($G19=\"\",\"\",IF(Funktioner!T187=0,\"\",Funktioner!T187))","v":""},{"$f":"IF($G19=\"\",\"\",IF($N19=\"\",\"\",Funktioner!S187))","v":""}]
[{"$f":"IFERROR(IF($C20=Funktioner!$A$7,1,IF($C20=Funktioner!$A$8,2,IF($C20=Funktioner!$A$9,3,IF($C20=Funktioner!$A$10,4,IF($C20=Funktioner!$B$7,5,IF($C20=Funktioner!$B$8,7,IF($C20=Funktioner!$B$9,8,IF($C20=Funktioner!$C$7,9,IF($C20=Funktioner!$C$8,10,IF($C20=Funktioner!$C$9,11,IF($C20=Funktioner!$C$10,12,IF($C20=Funktioner!$C$11,13,IF($C20=Funktioner!$C$12,14,IF($C20=Funktioner!$D$7,15,IF($C20=Funktioner!$D$8,16,IF($C20=Funktioner!$D$9,17,IF($C20=Funktioner!$E$7,18,IF($C20=Funktioner!$F$7,19,IF($C20=Funktioner!$F$8,20,IF($C20=Funktioner!$F$9,21,IF($C20=Funktioner!$G$7,22,IF($C20=Funktioner!$G$8,23,IF($C20=Funktioner!$G$9,24,IF($C20=Funktioner!$G$10,25,IF($C20=Funktioner!$G$11,26,IF($C20=Funktioner!$H$7,27,IF($C20=Funktioner!$H$8,28,IF($C20=Funktioner!$I$7,29,IF($C20=Funktioner!$J$7,31,IF($C20=Funktioner!$J$8,32,IF($C20=Funktioner!$J$9,33,IF($C20=Funktioner!$K$7,34,IF($C20=Funktioner!$K$8,35,IF($C20=Funktioner!$K$9,36,IF($C20=Funktioner!$L$7,37,IF($C20=Funktioner!$L$8,38,IF($C20=Funktioner!$M$7,39,IF($C20=Funktioner!$M$8,40,IF($C20=Funktioner!$N$7,41,IF($C20=Funktioner!$O$7,42,IF($C20=Funktioner!$P$7,43,IF($C20=Funktioner!$Q$7,44,IF($C20=Funktioner!$Q$8,45,IF($C20=Funktioner!$R$7,46,IF($C20=Funktioner!$R$8,47,IF($C20=Funktioner!$R$9,48,\"\")))))))))))))))))))))))))))))))))))))))))))))),\"\")","v":""},null,null,{"$f":"IF($A20=Funktioner!$B$1,IF(Funktioner!$B$2=\"\",\"\",Funktioner!$B$2),IF($A20=Funktioner!$C$1,IF(Funktioner!$C$2=\"\",\"\",Funktioner!$C$2),IF($A20=Funktioner!$D$1,IF(Funktioner!$D$2=\"\",\"\",Funktioner!$D$2),IF($A20=Funktioner!$E$1,IF(Funktioner!$E$2=\"\",\"\",Funktioner!$E$2),IF($A20=Funktioner!$F$1,IF(Funktioner!$F$2=\"\",\"\",Funktioner!$F$2),IF($A20=Funktioner!$G$1,IF(Funktioner!$G$2=\"\",\"\",Funktioner!$G$2),IF($A20=Funktioner!$H$1,IF(Funktioner!$H$2=\"\",\"\",Funktioner!$H$2),IF($A20=Funktioner!$I$1,IF(Funktioner!$I$2=\"\",\"\",Funktioner!$I$2),IF($A20=Funktioner!$J$1,IF(Funktioner!$J$2=\"\",\"\",Funktioner!$J$2),IF($A20=Funktioner!$K$1,IF(Funktioner!$K$2=\"\",\"\",Funktioner!$K$2),IF($A20=Funktioner!$L$1,IF(Funktioner!$L$2=\"\",\"\",Funktioner!$L$2),IF($A20=Funktioner!$M$1,IF(Funktioner!$M$2=\"\",\"\",Funktioner!$M$2),IF($A20=Funktioner!$N$1,IF(Funktioner!$N$2=\"\",\"\",Funktioner!$N$2),IF($A20=Funktioner!$O$1,IF(Funktioner!$O$2=\"\",\"\",Funktioner!$O$2),IF($A20=Funktioner!$P$1,IF(Funktioner!$P$2=\"\",\"\",Funktioner!$P$2),IF($A20=Funktioner!$Q$1,IF(Funktioner!$Q$2=\"\",\"\",Funktioner!$Q$2),IF($A20=Funktioner!$R$1,IF(Funktioner!$R$2=\"\",\"\",Funktioner!$R$2),IF($A20=Funktioner!$S$1,IF(Funktioner!$S$2=\"\",\"\",Funktioner!$S$2),IF($A20=Funktioner!$T$1,IF(Funktioner!$T$2=\"\",\"\",Funktioner!$T$2),IF($A20=Funktioner!$U$1,IF(Funktioner!$U$2=\"\",\"\",Funktioner!$U$2),IF($A20=Funktioner!$V$1,IF(Funktioner!$V$2=\"\",\"\",Funktioner!$V$2),IF($A20=Funktioner!$W$1,IF(Funktioner!$W$2=\"\",\"\",Funktioner!$W$2),IF($A20=Funktioner!$X$1,IF(Funktioner!$X$2=\"\",\"\",Funktioner!$X$2),IF($A20=Funktioner!$Y$1,IF(Funktioner!$Y$2=\"\",\"\",Funktioner!$Y$2),IF($A20=Funktioner!$Z$1,IF(Funktioner!$Z$2=\"\",\"\",Funktioner!$Z$2),IF($A20=Funktioner!$AA$1,IF(Funktioner!$AA$2=\"\",\"\",Funktioner!$AA$2),IF($A20=Funktioner!$AB$1,IF(Funktioner!$AB$2=\"\",\"\",Funktioner!$AB$2),IF($A20=Funktioner!$AC$1,IF(Funktioner!$AC$2=\"\",\"\",Funktioner!$AC$2),IF($A20=Funktioner!$AD$1,IF(Funktioner!$AD$2=\"\",\"\",Funktioner!$AD$2),IF($A20=Funktioner!$AE$1,IF(Funktioner!$AE$2=\"\",\"\",Funktioner!$AE$2),IF($A20=Funktioner!$AF$1,IF(Funktioner!$AF$2=\"\",\"\",Funktioner!$AF$2),IF($A20=Funktioner!$AG$1,IF(Funktioner!$AG$2=\"\",\"\",Funktioner!$AG$2),IF($A20=Funktioner!$AH$1,IF(Funktioner!$AH$2=\"\",\"\",Funktioner!$AH$2),IF($A20=Funktioner!$AI$1,IF(Funktioner!$AI$2=\"\",\"\",Funktioner!$AI$2),IF($A20=Funktioner!$AJ$1,IF(Funktioner!$AJ$2=\"\",\"\",Funktioner!$AJ$2),IF($A20=Funktioner!$AK$1,IF(Funktioner!$AK$2=\"\",\"\",Funktioner!$AK$2),IF($A20=Funktioner!$AL$1,IF(Funktioner!$AL$2=\"\",\"\",Funktioner!$AL$2),IF($A20=Funktioner!$AM$1,IF(Funktioner!$AM$2=\"\",\"\",Funktioner!$AM$2),IF($A20=Funktioner!$AN$1,IF(Funktioner!$AN$2=\"\",\"\",Funktioner!$AN$2),IF($A20=Funktioner!$AO$1,IF(Funktioner!$AO$2=\"\",\"\",Funktioner!$AO$2),IF($A20=Funktioner!$AP$1,IF(Funktioner!$AP$2=\"\",\"\",Funktioner!$AP$2),IF($A20=Funktioner!$AQ$1,IF(Funktioner!$AQ$2=\"\",\"\",Funktioner!$AQ$2),IF($A20=Funktioner!$AR$1,IF(Funktioner!$AR$2=\"\",\"\",Funktioner!$AR$2),IF($A20=Funktioner!$AS$1,IF(Funktioner!$AS$2=\"\",\"\",Funktioner!$AS$2),IF($A20=Funktioner!$AT$1,IF(Funktioner!$AT$2=\"\",\"\",Funktioner!$AT$2),IF($A20=Funktioner!$AU$1,IF(Funktioner!$AU$2=\"\",\"\",Funktioner!$AU$2),IF($A20=Funktioner!$AV$1,IF(Funktioner!$AV$2=\"\",\"\",Funktioner!$AV$2),IF($A20=Funktioner!$AW$1,IF(Funktioner!$AW$2=\"\",\"\",Funktioner!$AW$2),\"\"))))))))))))))))))))))))))))))))))))))))))))))))","v":""},{"$f":"IF($C20=Funktioner!$A$57,Funktioner!$B$57,IF($C20=Funktioner!$A$58,Funktioner!$B$58,IF($C20=Funktioner!$A$59,Funktioner!$B$59,IF($C20=Funktioner!$A$60,Funktioner!$B$60,IF($C20=Funktioner!$A$61,Funktioner!$B$61,IF($C20=Funktioner!$A$62,Funktioner!$B$62,IF($C20=Funktioner!$A$63,Funktioner!$B$63,IF($C20=Funktioner!$A$64,Funktioner!$B$64,IF($C20=Funktioner!$A$65,Funktioner!$B$65,IF($C20=Funktioner!$A$66,Funktioner!$B$66,IF($C20=Funktioner!$A$67,Funktioner!$B$67,IF($C20=Funktioner!$A$68,Funktioner!$B$68,IF($C20=Funktioner!$A$69,Funktioner!$B$69,IF($C20=Funktioner!$A$70,Funktioner!$B$70,IF($C20=Funktioner!$A$71,Funktioner!$B$71,IF($C20=Funktioner!$A$72,Funktioner!$B$72,IF($C20=Funktioner!$A$73,Funktioner!$B$73,IF($C20=Funktioner!$A$74,Funktioner!$B$74,IF($C20=Funktioner!$A$75,Funktioner!$B$75,IF($C20=Funktioner!$A$76,Funktioner!$B$76,IF($C20=Funktioner!$A$77,Funktioner!$B$77,IF($C20=Funktioner!$A$78,Funktioner!$B$78,IF($C20=Funktioner!$A$79,Funktioner!$B$79,IF($C20=Funktioner!$A$80,Funktioner!$B$80,IF($C20=Funktioner!$A$81,Funktioner!$B$81,IF($C20=Funktioner!$A$82,Funktioner!$B$82,IF($C20=Funktioner!$A$83,Funktioner!$B$83,IF($C20=Funktioner!$A$84,Funktioner!$B$84,IF($C20=Funktioner!$A$85,Funktioner!$B$85,IF($C20=Funktioner!$A$86,Funktioner!$B$86,IF($C20=Funktioner!$A$87,Funktioner!$B$87,IF($C20=Funktioner!$A$88,Funktioner!$B$88,IF($C20=Funktioner!$A$89,Funktioner!$B$89,IF($C20=Funktioner!$A$90,Funktioner!$B$90,IF($C20=Funktioner!$A$91,Funktioner!$B$91,IF($C20=Funktioner!$A$92,Funktioner!$B$92,IF($C20=Funktioner!$A$93,Funktioner!$B$93,IF($C20=Funktioner!$A$94,Funktioner!$B$94,IF($C20=Funktioner!$A$95,Funktioner!$B$95,IF($C20=Funktioner!$A$96,Funktioner!$B$96,IF($C20=Funktioner!$A$97,Funktioner!$B$97,IF($C20=Funktioner!$A$98,Funktioner!$B$98,IF($C20=Funktioner!$A$99,Funktioner!$B$99,IF($C20=Funktioner!$A$100,Funktioner!$B$100,IF($C20=Funktioner!$A$101,Funktioner!$B$101,IF($C20=Funktioner!$A$102,Funktioner!$B$102,IF($C20=Funktioner!$A$103,Funktioner!$B$103,IF($C20=Funktioner!$A$104,Funktioner!$B$104,\"\"))))))))))))))))))))))))))))))))))))))))))))))))","v":""},null,null,{"$f":"IF($G20=\"\",\"\",IF($N20=0,\"\",Funktioner!L188&\" SEK /\"&Funktioner!J117))","v":""},{"$f":"IF($G20=\"\",\"\",IF($N20=\"\",\"\",Funktioner!M188))","v":""},{"$f":"IF($G20=\"\",\"\",IF($N20=\"\",\"\",Funktioner!N188))","v":""},{"$f":"IF($G20=\"\",\"\",IF($N20=\"\",\"\",Funktioner!O188))","v":""},{"$f":"IF($G20=\"\",\"\",IF($N20=\"\",\"\",HYPERLINK(Funktioner!P188)))","v":""},{"$f":"IF($G20=\"\",\"\",IF($N20=\"\",\"\",Funktioner!Q188))","v":""},{"$f":"IF($G20=\"\",\"\",IF(Funktioner!T188=0,\"\",Funktioner!T188))","v":""},{"$f":"IF($G20=\"\",\"\",IF($N20=\"\",\"\",Funktioner!S188))","v":""}]
[{"$f":"IFERROR(IF($C21=Funktioner!$A$7,1,IF($C21=Funktioner!$A$8,2,IF($C21=Funktioner!$A$9,3,IF($C21=Funktioner!$A$10,4,IF($C21=Funktioner!$B$7,5,IF($C21=Funktioner!$B$8,7,IF($C21=Funktioner!$B$9,8,IF($C21=Funktioner!$C$7,9,IF($C21=Funktioner!$C$8,10,IF($C21=Funktioner!$C$9,11,IF($C21=Funktioner!$C$10,12,IF($C21=Funktioner!$C$11,13,IF($C21=Funktioner!$C$12,14,IF($C21=Funktioner!$D$7,15,IF($C21=Funktioner!$D$8,16,IF($C21=Funktioner!$D$9,17,IF($C21=Funktioner!$E$7,18,IF($C21=Funktioner!$F$7,19,IF($C21=Funktioner!$F$8,20,IF($C21=Funktioner!$F$9,21,IF($C21=Funktioner!$G$7,22,IF($C21=Funktioner!$G$8,23,IF($C21=Funktioner!$G$9,24,IF($C21=Funktioner!$G$10,25,IF($C21=Funktioner!$G$11,26,IF($C21=Funktioner!$H$7,27,IF($C21=Funktioner!$H$8,28,IF($C21=Funktioner!$I$7,29,IF($C21=Funktioner!$J$7,31,IF($C21=Funktioner!$J$8,32,IF($C21=Funktioner!$J$9,33,IF($C21=Funktioner!$K$7,34,IF($C21=Funktioner!$K$8,35,IF($C21=Funktioner!$K$9,36,IF($C21=Funktioner!$L$7,37,IF($C21=Funktioner!$L$8,38,IF($C21=Funktioner!$M$7,39,IF($C21=Funktioner!$M$8,40,IF($C21=Funktioner!$N$7,41,IF($C21=Funktioner!$O$7,42,IF($C21=Funktioner!$P$7,43,IF($C21=Funktioner!$Q$7,44,IF($C21=Funktioner!$Q$8,45,IF($C21=Funktioner!$R$7,46,IF($C21=Funktioner!$R$8,47,IF($C21=Funktioner!$R$9,48,\"\")))))))))))))))))))))))))))))))))))))))))))))),\"\")","v":""},null,null,{"$f":"IF($A21=Funktioner!$B$1,IF(Funktioner!$B$2=\"\",\"\",Funktioner!$B$2),IF($A21=Funktioner!$C$1,IF(Funktioner!$C$2=\"\",\"\",Funktioner!$C$2),IF($A21=Funktioner!$D$1,IF(Funktioner!$D$2=\"\",\"\",Funktioner!$D$2),IF($A21=Funktioner!$E$1,IF(Funktioner!$E$2=\"\",\"\",Funktioner!$E$2),IF($A21=Funktioner!$F$1,IF(Funktioner!$F$2=\"\",\"\",Funktioner!$F$2),IF($A21=Funktioner!$G$1,IF(Funktioner!$G$2=\"\",\"\",Funktioner!$G$2),IF($A21=Funktioner!$H$1,IF(Funktioner!$H$2=\"\",\"\",Funktioner!$H$2),IF($A21=Funktioner!$I$1,IF(Funktioner!$I$2=\"\",\"\",Funktioner!$I$2),IF($A21=Funktioner!$J$1,IF(Funktioner!$J$2=\"\",\"\",Funktioner!$J$2),IF($A21=Funktioner!$K$1,IF(Funktioner!$K$2=\"\",\"\",Funktioner!$K$2),IF($A21=Funktioner!$L$1,IF(Funktioner!$L$2=\"\",\"\",Funktioner!$L$2),IF($A21=Funktioner!$M$1,IF(Funktioner!$M$2=\"\",\"\",Funktioner!$M$2),IF($A21=Funktioner!$N$1,IF(Funktioner!$N$2=\"\",\"\",Funktioner!$N$2),IF($A21=Funktioner!$O$1,IF(Funktioner!$O$2=\"\",\"\",Funktioner!$O$2),IF($A21=Funktioner!$P$1,IF(Funktioner!$P$2=\"\",\"\",Funktioner!$P$2),IF($A21=Funktioner!$Q$1,IF(Funktioner!$Q$2=\"\",\"\",Funktioner!$Q$2),IF($A21=Funktioner!$R$1,IF(Funktioner!$R$2=\"\",\"\",Funktioner!$R$2),IF($A21=Funktioner!$S$1,IF(Funktioner!$S$2=\"\",\"\",Funktioner!$S$2),IF($A21=Funktioner!$T$1,IF(Funktioner!$T$2=\"\",\"\",Funktioner!$T$2),IF($A21=Funktioner!$U$1,IF(Funktioner!$U$2=\"\",\"\",Funktioner!$U$2),IF($A21=Funktioner!$V$1,IF(Funktioner!$V$2=\"\",\"\",Funktioner!$V$2),IF($A21=Funktioner!$W$1,IF(Funktioner!$W$2=\"\",\"\",Funktioner!$W$2),IF($A21=Funktioner!$X$1,IF(Funktioner!$X$2=\"\",\"\",Funktioner!$X$2),IF($A21=Funktioner!$Y$1,IF(Funktioner!$Y$2=\"\",\"\",Funktioner!$Y$2),IF($A21=Funktioner!$Z$1,IF(Funktioner!$Z$2=\"\",\"\",Funktioner!$Z$2),IF($A21=Funktioner!$AA$1,IF(Funktioner!$AA$2=\"\",\"\",Funktioner!$AA$2),IF($A21=Funktioner!$AB$1,IF(Funktioner!$AB$2=\"\",\"\",Funktioner!$AB$2),IF($A21=Funktioner!$AC$1,IF(Funktioner!$AC$2=\"\",\"\",Funktioner!$AC$2),IF($A21=Funktioner!$AD$1,IF(Funktioner!$AD$2=\"\",\"\",Funktioner!$AD$2),IF($A21=Funktioner!$AE$1,IF(Funktioner!$AE$2=\"\",\"\",Funktioner!$AE$2),IF($A21=Funktioner!$AF$1,IF(Funktioner!$AF$2=\"\",\"\",Funktioner!$AF$2),IF($A21=Funktioner!$AG$1,IF(Funktioner!$AG$2=\"\",\"\",Funktioner!$AG$2),IF($A21=Funktioner!$AH$1,IF(Funktioner!$AH$2=\"\",\"\",Funktioner!$AH$2),IF($A21=Funktioner!$AI$1,IF(Funktioner!$AI$2=\"\",\"\",Funktioner!$AI$2),IF($A21=Funktioner!$AJ$1,IF(Funktioner!$AJ$2=\"\",\"\",Funktioner!$AJ$2),IF($A21=Funktioner!$AK$1,IF(Funktioner!$AK$2=\"\",\"\",Funktioner!$AK$2),IF($A21=Funktioner!$AL$1,IF(Funktioner!$AL$2=\"\",\"\",Funktioner!$AL$2),IF($A21=Funktioner!$AM$1,IF(Funktioner!$AM$2=\"\",\"\",Funktioner!$AM$2),IF($A21=Funktioner!$AN$1,IF(Funktioner!$AN$2=\"\",\"\",Funktioner!$AN$2),IF($A21=Funktioner!$AO$1,IF(Funktioner!$AO$2=\"\",\"\",Funktioner!$AO$2),IF($A21=Funktioner!$AP$1,IF(Funktioner!$AP$2=\"\",\"\",Funktioner!$AP$2),IF($A21=Funktioner!$AQ$1,IF(Funktioner!$AQ$2=\"\",\"\",Funktioner!$AQ$2),IF($A21=Funktioner!$AR$1,IF(Funktioner!$AR$2=\"\",\"\",Funktioner!$AR$2),IF($A21=Funktioner!$AS$1,IF(Funktioner!$AS$2=\"\",\"\",Funktioner!$AS$2),IF($A21=Funktioner!$AT$1,IF(Funktioner!$AT$2=\"\",\"\",Funktioner!$AT$2),IF($A21=Funktioner!$AU$1,IF(Funktioner!$AU$2=\"\",\"\",Funktioner!$AU$2),IF($A21=Funktioner!$AV$1,IF(Funktioner!$AV$2=\"\",\"\",Funktioner!$AV$2),IF($A21=Funktioner!$AW$1,IF(Funktioner!$AW$2=\"\",\"\",Funktioner!$AW$2),\"\"))))))))))))))))))))))))))))))))))))))))))))))))","v":""},{"$f":"IF($C21=Funktioner!$A$57,Funktioner!$B$57,IF($C21=Funktioner!$A$58,Funktioner!$B$58,IF($C21=Funktioner!$A$59,Funktioner!$B$59,IF($C21=Funktioner!$A$60,Funktioner!$B$60,IF($C21=Funktioner!$A$61,Funktioner!$B$61,IF($C21=Funktioner!$A$62,Funktioner!$B$62,IF($C21=Funktioner!$A$63,Funktioner!$B$63,IF($C21=Funktioner!$A$64,Funktioner!$B$64,IF($C21=Funktioner!$A$65,Funktioner!$B$65,IF($C21=Funktioner!$A$66,Funktioner!$B$66,IF($C21=Funktioner!$A$67,Funktioner!$B$67,IF($C21=Funktioner!$A$68,Funktioner!$B$68,IF($C21=Funktioner!$A$69,Funktioner!$B$69,IF($C21=Funktioner!$A$70,Funktioner!$B$70,IF($C21=Funktioner!$A$71,Funktioner!$B$71,IF($C21=Funktioner!$A$72,Funktioner!$B$72,IF($C21=Funktioner!$A$73,Funktioner!$B$73,IF($C21=Funktioner!$A$74,Funktioner!$B$74,IF($C21=Funktioner!$A$75,Funktioner!$B$75,IF($C21=Funktioner!$A$76,Funktioner!$B$76,IF($C21=Funktioner!$A$77,Funktioner!$B$77,IF($C21=Funktioner!$A$78,Funktioner!$B$78,IF($C21=Funktioner!$A$79,Funktioner!$B$79,IF($C21=Funktioner!$A$80,Funktioner!$B$80,IF($C21=Funktioner!$A$81,Funktioner!$B$81,IF($C21=Funktioner!$A$82,Funktioner!$B$82,IF($C21=Funktioner!$A$83,Funktioner!$B$83,IF($C21=Funktioner!$A$84,Funktioner!$B$84,IF($C21=Funktioner!$A$85,Funktioner!$B$85,IF($C21=Funktioner!$A$86,Funktioner!$B$86,IF($C21=Funktioner!$A$87,Funktioner!$B$87,IF($C21=Funktioner!$A$88,Funktioner!$B$88,IF($C21=Funktioner!$A$89,Funktioner!$B$89,IF($C21=Funktioner!$A$90,Funktioner!$B$90,IF($C21=Funktioner!$A$91,Funktioner!$B$91,IF($C21=Funktioner!$A$92,Funktioner!$B$92,IF($C21=Funktioner!$A$93,Funktioner!$B$93,IF($C21=Funktioner!$A$94,Funktioner!$B$94,IF($C21=Funktioner!$A$95,Funktioner!$B$95,IF($C21=Funktioner!$A$96,Funktioner!$B$96,IF($C21=Funktioner!$A$97,Funktioner!$B$97,IF($C21=Funktioner!$A$98,Funktioner!$B$98,IF($C21=Funktioner!$A$99,Funktioner!$B$99,IF($C21=Funktioner!$A$100,Funktioner!$B$100,IF($C21=Funktioner!$A$101,Funktioner!$B$101,IF($C21=Funktioner!$A$102,Funktioner!$B$102,IF($C21=Funktioner!$A$103,Funktioner!$B$103,IF($C21=Funktioner!$A$104,Funktioner!$B$104,\"\"))))))))))))))))))))))))))))))))))))))))))))))))","v":""},null,null,{"$f":"IF($G21=\"\",\"\",IF($N21=0,\"\",Funktioner!L189&\" SEK /\"&Funktioner!J118))","v":""},{"$f":"IF($G21=\"\",\"\",IF($N21=\"\",\"\",Funktioner!M189))","v":""},{"$f":"IF($G21=\"\",\"\",IF($N21=\"\",\"\",Funktioner!N189))","v":""},{"$f":"IF($G21=\"\",\"\",IF($N21=\"\",\"\",Funktioner!O189))","v":""},{"$f":"IF($G21=\"\",\"\",IF($N21=\"\",\"\",HYPERLINK(Funktioner!P189)))","v":""},{"$f":"IF($G21=\"\",\"\",IF($N21=\"\",\"\",Funktioner!Q189))","v":""},{"$f":"IF($G21=\"\",\"\",IF(Funktioner!T189=0,\"\",Funktioner!T189))","v":""},{"$f":"IF($G21=\"\",\"\",IF($N21=\"\",\"\",Funktioner!S189))","v":""}]
[{"$f":"IFERROR(IF($C22=Funktioner!$A$7,1,IF($C22=Funktioner!$A$8,2,IF($C22=Funktioner!$A$9,3,IF($C22=Funktioner!$A$10,4,IF($C22=Funktioner!$B$7,5,IF($C22=Funktioner!$B$8,7,IF($C22=Funktioner!$B$9,8,IF($C22=Funktioner!$C$7,9,IF($C22=Funktioner!$C$8,10,IF($C22=Funktioner!$C$9,11,IF($C22=Funktioner!$C$10,12,IF($C22=Funktioner!$C$11,13,IF($C22=Funktioner!$C$12,14,IF($C22=Funktioner!$D$7,15,IF($C22=Funktioner!$D$8,16,IF($C22=Funktioner!$D$9,17,IF($C22=Funktioner!$E$7,18,IF($C22=Funktioner!$F$7,19,IF($C22=Funktioner!$F$8,20,IF($C22=Funktioner!$F$9,21,IF($C22=Funktioner!$G$7,22,IF($C22=Funktioner!$G$8,23,IF($C22=Funktioner!$G$9,24,IF($C22=Funktioner!$G$10,25,IF($C22=Funktioner!$G$11,26,IF($C22=Funktioner!$H$7,27,IF($C22=Funktioner!$H$8,28,IF($C22=Funktioner!$I$7,29,IF($C22=Funktioner!$J$7,31,IF($C22=Funktioner!$J$8,32,IF($C22=Funktioner!$J$9,33,IF($C22=Funktioner!$K$7,34,IF($C22=Funktioner!$K$8,35,IF($C22=Funktioner!$K$9,36,IF($C22=Funktioner!$L$7,37,IF($C22=Funktioner!$L$8,38,IF($C22=Funktioner!$M$7,39,IF($C22=Funktioner!$M$8,40,IF($C22=Funktioner!$N$7,41,IF($C22=Funktioner!$O$7,42,IF($C22=Funktioner!$P$7,43,IF($C22=Funktioner!$Q$7,44,IF($C22=Funktioner!$Q$8,45,IF($C22=Funktioner!$R$7,46,IF($C22=Funktioner!$R$8,47,IF($C22=Funktioner!$R$9,48,\"\")))))))))))))))))))))))))))))))))))))))))))))),\"\")","v":""},null,null,{"$f":"IF($A22=Funktioner!$B$1,IF(Funktioner!$B$2=\"\",\"\",Funktioner!$B$2),IF($A22=Funktioner!$C$1,IF(Funktioner!$C$2=\"\",\"\",Funktioner!$C$2),IF($A22=Funktioner!$D$1,IF(Funktioner!$D$2=\"\",\"\",Funktioner!$D$2),IF($A22=Funktioner!$E$1,IF(Funktioner!$E$2=\"\",\"\",Funktioner!$E$2),IF($A22=Funktioner!$F$1,IF(Funktioner!$F$2=\"\",\"\",Funktioner!$F$2),IF($A22=Funktioner!$G$1,IF(Funktioner!$G$2=\"\",\"\",Funktioner!$G$2),IF($A22=Funktioner!$H$1,IF(Funktioner!$H$2=\"\",\"\",Funktioner!$H$2),IF($A22=Funktioner!$I$1,IF(Funktioner!$I$2=\"\",\"\",Funktioner!$I$2),IF($A22=Funktioner!$J$1,IF(Funktioner!$J$2=\"\",\"\",Funktioner!$J$2),IF($A22=Funktioner!$K$1,IF(Funktioner!$K$2=\"\",\"\",Funktioner!$K$2),IF($A22=Funktioner!$L$1,IF(Funktioner!$L$2=\"\",\"\",Funktioner!$L$2),IF($A22=Funktioner!$M$1,IF(Funktioner!$M$2=\"\",\"\",Funktioner!$M$2),IF($A22=Funktioner!$N$1,IF(Funktioner!$N$2=\"\",\"\",Funktioner!$N$2),IF($A22=Funktioner!$O$1,IF(Funktioner!$O$2=\"\",\"\",Funktioner!$O$2),IF($A22=Funktioner!$P$1,IF(Funktioner!$P$2=\"\",\"\",Funktioner!$P$2),IF($A22=Funktioner!$Q$1,IF(Funktioner!$Q$2=\"\",\"\",Funktioner!$Q$2),IF($A22=Funktioner!$R$1,IF(Funktioner!$R$2=\"\",\"\",Funktioner!$R$2),IF($A22=Funktioner!$S$1,IF(Funktioner!$S$2=\"\",\"\",Funktioner!$S$2),IF($A22=Funktioner!$T$1,IF(Funktioner!$T$2=\"\",\"\",Funktioner!$T$2),IF($A22=Funktioner!$U$1,IF(Funktioner!$U$2=\"\",\"\",Funktioner!$U$2),IF($A22=Funktioner!$V$1,IF(Funktioner!$V$2=\"\",\"\",Funktioner!$V$2),IF($A22=Funktioner!$W$1,IF(Funktioner!$W$2=\"\",\"\",Funktioner!$W$2),IF($A22=Funktioner!$X$1,IF(Funktioner!$X$2=\"\",\"\",Funktioner!$X$2),IF($A22=Funktioner!$Y$1,IF(Funktioner!$Y$2=\"\",\"\",Funktioner!$Y$2),IF($A22=Funktioner!$Z$1,IF(Funktioner!$Z$2=\"\",\"\",Funktioner!$Z$2),IF($A22=Funktioner!$AA$1,IF(Funktioner!$AA$2=\"\",\"\",Funktioner!$AA$2),IF($A22=Funktioner!$AB$1,IF(Funktioner!$AB$2=\"\",\"\",Funktioner!$AB$2),IF($A22=Funktioner!$AC$1,IF(Funktioner!$AC$2=\"\",\"\",Funktioner!$AC$2),IF($A22=Funktioner!$AD$1,IF(Funktioner!$AD$2=\"\",\"\",Funktioner!$AD$2),IF($A22=Funktioner!$AE$1,IF(Funktioner!$AE$2=\"\",\"\",Funktioner!$AE$2),IF($A22=Funktioner!$AF$1,IF(Funktioner!$AF$2=\"\",\"\",Funktioner!$AF$2),IF($A22=Funktioner!$AG$1,IF(Funktioner!$AG$2=\"\",\"\",Funktioner!$AG$2),IF($A22=Funktioner!$AH$1,IF(Funktioner!$AH$2=\"\",\"\",Funktioner!$AH$2),IF($A22=Funktioner!$AI$1,IF(Funktioner!$AI$2=\"\",\"\",Funktioner!$AI$2),IF($A22=Funktioner!$AJ$1,IF(Funktioner!$AJ$2=\"\",\"\",Funktioner!$AJ$2),IF($A22=Funktioner!$AK$1,IF(Funktioner!$AK$2=\"\",\"\",Funktioner!$AK$2),IF($A22=Funktioner!$AL$1,IF(Funktioner!$AL$2=\"\",\"\",Funktioner!$AL$2),IF($A22=Funktioner!$AM$1,IF(Funktioner!$AM$2=\"\",\"\",Funktioner!$AM$2),IF($A22=Funktioner!$AN$1,IF(Funktioner!$AN$2=\"\",\"\",Funktioner!$AN$2),IF($A22=Funktioner!$AO$1,IF(Funktioner!$AO$2=\"\",\"\",Funktioner!$AO$2),IF($A22=Funktioner!$AP$1,IF(Funktioner!$AP$2=\"\",\"\",Funktioner!$AP$2),IF($A22=Funktioner!$AQ$1,IF(Funktioner!$AQ$2=\"\",\"\",Funktioner!$AQ$2),IF($A22=Funktioner!$AR$1,IF(Funktioner!$AR$2=\"\",\"\",Funktioner!$AR$2),IF($A22=Funktioner!$AS$1,IF(Funktioner!$AS$2=\"\",\"\",Funktioner!$AS$2),IF($A22=Funktioner!$AT$1,IF(Funktioner!$AT$2=\"\",\"\",Funktioner!$AT$2),IF($A22=Funktioner!$AU$1,IF(Funktioner!$AU$2=\"\",\"\",Funktioner!$AU$2),IF($A22=Funktioner!$AV$1,IF(Funktioner!$AV$2=\"\",\"\",Funktioner!$AV$2),IF($A22=Funktioner!$AW$1,IF(Funktioner!$AW$2=\"\",\"\",Funktioner!$AW$2),\"\"))))))))))))))))))))))))))))))))))))))))))))))))","v":""},{"$f":"IF($C22=Funktioner!$A$57,Funktioner!$B$57,IF($C22=Funktioner!$A$58,Funktioner!$B$58,IF($C22=Funktioner!$A$59,Funktioner!$B$59,IF($C22=Funktioner!$A$60,Funktioner!$B$60,IF($C22=Funktioner!$A$61,Funktioner!$B$61,IF($C22=Funktioner!$A$62,Funktioner!$B$62,IF($C22=Funktioner!$A$63,Funktioner!$B$63,IF($C22=Funktioner!$A$64,Funktioner!$B$64,IF($C22=Funktioner!$A$65,Funktioner!$B$65,IF($C22=Funktioner!$A$66,Funktioner!$B$66,IF($C22=Funktioner!$A$67,Funktioner!$B$67,IF($C22=Funktioner!$A$68,Funktioner!$B$68,IF($C22=Funktioner!$A$69,Funktioner!$B$69,IF($C22=Funktioner!$A$70,Funktioner!$B$70,IF($C22=Funktioner!$A$71,Funktioner!$B$71,IF($C22=Funktioner!$A$72,Funktioner!$B$72,IF($C22=Funktioner!$A$73,Funktioner!$B$73,IF($C22=Funktioner!$A$74,Funktioner!$B$74,IF($C22=Funktioner!$A$75,Funktioner!$B$75,IF($C22=Funktioner!$A$76,Funktioner!$B$76,IF($C22=Funktioner!$A$77,Funktioner!$B$77,IF($C22=Funktioner!$A$78,Funktioner!$B$78,IF($C22=Funktioner!$A$79,Funktioner!$B$79,IF($C22=Funktioner!$A$80,Funktioner!$B$80,IF($C22=Funktioner!$A$81,Funktioner!$B$81,IF($C22=Funktioner!$A$82,Funktioner!$B$82,IF($C22=Funktioner!$A$83,Funktioner!$B$83,IF($C22=Funktioner!$A$84,Funktioner!$B$84,IF($C22=Funktioner!$A$85,Funktioner!$B$85,IF($C22=Funktioner!$A$86,Funktioner!$B$86,IF($C22=Funktioner!$A$87,Funktioner!$B$87,IF($C22=Funktioner!$A$88,Funktioner!$B$88,IF($C22=Funktioner!$A$89,Funktioner!$B$89,IF($C22=Funktioner!$A$90,Funktioner!$B$90,IF($C22=Funktioner!$A$91,Funktioner!$B$91,IF($C22=Funktioner!$A$92,Funktioner!$B$92,IF($C22=Funktioner!$A$93,Funktioner!$B$93,IF($C22=Funktioner!$A$94,Funktioner!$B$94,IF($C22=Funktioner!$A$95,Funktioner!$B$95,IF($C22=Funktioner!$A$96,Funktioner!$B$96,IF($C22=Funktioner!$A$97,Funktioner!$B$97,IF($C22=Funktioner!$A$98,Funktioner!$B$98,IF($C22=Funktioner!$A$99,Funktioner!$B$99,IF($C22=Funktioner!$A$100,Funktioner!$B$100,IF($C22=Funktioner!$A$101,Funktioner!$B$101,IF($C22=Funktioner!$A$102,Funktioner!$B$102,IF($C22=Funktioner!$A$103,Funktioner!$B$103,IF($C22=Funktioner!$A$104,Funktioner!$B$104,\"\"))))))))))))))))))))))))))))))))))))))))))))))))","v":""},null,null,{"$f":"IF($G22=\"\",\"\",IF($N22=0,\"\",Funktioner!L190&\" SEK /\"&Funktioner!J119))","v":""},{"$f":"IF($G22=\"\",\"\",IF($N22=\"\",\"\",Funktioner!M190))","v":""},{"$f":"IF($G22=\"\",\"\",IF($N22=\"\",\"\",Funktioner!N190))","v":""},{"$f":"IF($G22=\"\",\"\",IF($N22=\"\",\"\",Funktioner!O190))","v":""},{"$f":"IF($G22=\"\",\"\",IF($N22=\"\",\"\",HYPERLINK(Funktioner!P190)))","v":""},{"$f":"IF($G22=\"\",\"\",IF($N22=\"\",\"\",Funktioner!Q190))","v":""},{"$f":"IF($G22=\"\",\"\",IF(Funktioner!T190=0,\"\",Funktioner!T190))","v":""},{"$f":"IF($G22=\"\",\"\",IF($N22=\"\",\"\",Funktioner!S190))","v":""}]
[{"$f":"IFERROR(IF($C23=Funktioner!$A$7,1,IF($C23=Funktioner!$A$8,2,IF($C23=Funktioner!$A$9,3,IF($C23=Funktioner!$A$10,4,IF($C23=Funktioner!$B$7,5,IF($C23=Funktioner!$B$8,7,IF($C23=Funktioner!$B$9,8,IF($C23=Funktioner!$C$7,9,IF($C23=Funktioner!$C$8,10,IF($C23=Funktioner!$C$9,11,IF($C23=Funktioner!$C$10,12,IF($C23=Funktioner!$C$11,13,IF($C23=Funktioner!$C$12,14,IF($C23=Funktioner!$D$7,15,IF($C23=Funktioner!$D$8,16,IF($C23=Funktioner!$D$9,17,IF($C23=Funktioner!$E$7,18,IF($C23=Funktioner!$F$7,19,IF($C23=Funktioner!$F$8,20,IF($C23=Funktioner!$F$9,21,IF($C23=Funktioner!$G$7,22,IF($C23=Funktioner!$G$8,23,IF($C23=Funktioner!$G$9,24,IF($C23=Funktioner!$G$10,25,IF($C23=Funktioner!$G$11,26,IF($C23=Funktioner!$H$7,27,IF($C23=Funktioner!$H$8,28,IF($C23=Funktioner!$I$7,29,IF($C23=Funktioner!$J$7,31,IF($C23=Funktioner!$J$8,32,IF($C23=Funktioner!$J$9,33,IF($C23=Funktioner!$K$7,34,IF($C23=Funktioner!$K$8,35,IF($C23=Funktioner!$K$9,36,IF($C23=Funktioner!$L$7,37,IF($C23=Funktioner!$L$8,38,IF($C23=Funktioner!$M$7,39,IF($C23=Funktioner!$M$8,40,IF($C23=Funktioner!$N$7,41,IF($C23=Funktioner!$O$7,42,IF($C23=Funktioner!$P$7,43,IF($C23=Funktioner!$Q$7,44,IF($C23=Funktioner!$Q$8,45,IF($C23=Funktioner!$R$7,46,IF($C23=Funktioner!$R$8,47,IF($C23=Funktioner!$R$9,48,\"\")))))))))))))))))))))))))))))))))))))))))))))),\"\")","v":""},null,null,{"$f":"IF($A23=Funktioner!$B$1,IF(Funktioner!$B$2=\"\",\"\",Funktioner!$B$2),IF($A23=Funktioner!$C$1,IF(Funktioner!$C$2=\"\",\"\",Funktioner!$C$2),IF($A23=Funktioner!$D$1,IF(Funktioner!$D$2=\"\",\"\",Funktioner!$D$2),IF($A23=Funktioner!$E$1,IF(Funktioner!$E$2=\"\",\"\",Funktioner!$E$2),IF($A23=Funktioner!$F$1,IF(Funktioner!$F$2=\"\",\"\",Funktioner!$F$2),IF($A23=Funktioner!$G$1,IF(Funktioner!$G$2=\"\",\"\",Funktioner!$G$2),IF($A23=Funktioner!$H$1,IF(Funktioner!$H$2=\"\",\"\",Funktioner!$H$2),IF($A23=Funktioner!$I$1,IF(Funktioner!$I$2=\"\",\"\",Funktioner!$I$2),IF($A23=Funktioner!$J$1,IF(Funktioner!$J$2=\"\",\"\",Funktioner!$J$2),IF($A23=Funktioner!$K$1,IF(Funktioner!$K$2=\"\",\"\",Funktioner!$K$2),IF($A23=Funktioner!$L$1,IF(Funktioner!$L$2=\"\",\"\",Funktioner!$L$2),IF($A23=Funktioner!$M$1,IF(Funktioner!$M$2=\"\",\"\",Funktioner!$M$2),IF($A23=Funktioner!$N$1,IF(Funktioner!$N$2=\"\",\"\",Funktioner!$N$2),IF($A23=Funktioner!$O$1,IF(Funktioner!$O$2=\"\",\"\",Funktioner!$O$2),IF($A23=Funktioner!$P$1,IF(Funktioner!$P$2=\"\",\"\",Funktioner!$P$2),IF($A23=Funktioner!$Q$1,IF(Funktioner!$Q$2=\"\",\"\",Funktioner!$Q$2),IF($A23=Funktioner!$R$1,IF(Funktioner!$R$2=\"\",\"\",Funktioner!$R$2),IF($A23=Funktioner!$S$1,IF(Funktioner!$S$2=\"\",\"\",Funktioner!$S$2),IF($A23=Funktioner!$T$1,IF(Funktioner!$T$2=\"\",\"\",Funktioner!$T$2),IF($A23=Funktioner!$U$1,IF(Funktioner!$U$2=\"\",\"\",Funktioner!$U$2),IF($A23=Funktioner!$V$1,IF(Funktioner!$V$2=\"\",\"\",Funktioner!$V$2),IF($A23=Funktioner!$W$1,IF(Funktioner!$W$2=\"\",\"\",Funktioner!$W$2),IF($A23=Funktioner!$X$1,IF(Funktioner!$X$2=\"\",\"\",Funktioner!$X$2),IF($A23=Funktioner!$Y$1,IF(Funktioner!$Y$2=\"\",\"\",Funktioner!$Y$2),IF($A23=Funktioner!$Z$1,IF(Funktioner!$Z$2=\"\",\"\",Funktioner!$Z$2),IF($A23=Funktioner!$AA$1,IF(Funktioner!$AA$2=\"\",\"\",Funktioner!$AA$2),IF($A23=Funktioner!$AB$1,IF(Funktioner!$AB$2=\"\",\"\",Funktioner!$AB$2),IF($A23=Funktioner!$AC$1,IF(Funktioner!$AC$2=\"\",\"\",Funktioner!$AC$2),IF($A23=Funktioner!$AD$1,IF(Funktioner!$AD$2=\"\",\"\",Funktioner!$AD$2),IF($A23=Funktioner!$AE$1,IF(Funktioner!$AE$2=\"\",\"\",Funktioner!$AE$2),IF($A23=Funktioner!$AF$1,IF(Funktioner!$AF$2=\"\",\"\",Funktioner!$AF$2),IF($A23=Funktioner!$AG$1,IF(Funktioner!$AG$2=\"\",\"\",Funktioner!$AG$2),IF($A23=Funktioner!$AH$1,IF(Funktioner!$AH$2=\"\",\"\",Funktioner!$AH$2),IF($A23=Funktioner!$AI$1,IF(Funktioner!$AI$2=\"\",\"\",Funktioner!$AI$2),IF($A23=Funktioner!$AJ$1,IF(Funktioner!$AJ$2=\"\",\"\",Funktioner!$AJ$2),IF($A23=Funktioner!$AK$1,IF(Funktioner!$AK$2=\"\",\"\",Funktioner!$AK$2),IF($A23=Funktioner!$AL$1,IF(Funktioner!$AL$2=\"\",\"\",Funktioner!$AL$2),IF($A23=Funktioner!$AM$1,IF(Funktioner!$AM$2=\"\",\"\",Funktioner!$AM$2),IF($A23=Funktioner!$AN$1,IF(Funktioner!$AN$2=\"\",\"\",Funktioner!$AN$2),IF($A23=Funktioner!$AO$1,IF(Funktioner!$AO$2=\"\",\"\",Funktioner!$AO$2),IF($A23=Funktioner!$AP$1,IF(Funktioner!$AP$2=\"\",\"\",Funktioner!$AP$2),IF($A23=Funktioner!$AQ$1,IF(Funktioner!$AQ$2=\"\",\"\",Funktioner!$AQ$2),IF($A23=Funktioner!$AR$1,IF(Funktioner!$AR$2=\"\",\"\",Funktioner!$AR$2),IF($A23=Funktioner!$AS$1,IF(Funktioner!$AS$2=\"\",\"\",Funktioner!$AS$2),IF($A23=Funktioner!$AT$1,IF(Funktioner!$AT$2=\"\",\"\",Funktioner!$AT$2),IF($A23=Funktioner!$AU$1,IF(Funktioner!$AU$2=\"\",\"\",Funktioner!$AU$2),IF($A23=Funktioner!$AV$1,IF(Funktioner!$AV$2=\"\",\"\",Funktioner!$AV$2),IF($A23=Funktioner!$AW$1,IF(Funktioner!$AW$2=\"\",\"\",Funktioner!$AW$2),\"\"))))))))))))))))))))))))))))))))))))))))))))))))","v":""},{"$f":"IF($C23=Funktioner!$A$57,Funktioner!$B$57,IF($C23=Funktioner!$A$58,Funktioner!$B$58,IF($C23=Funktioner!$A$59,Funktioner!$B$59,IF($C23=Funktioner!$A$60,Funktioner!$B$60,IF($C23=Funktioner!$A$61,Funktioner!$B$61,IF($C23=Funktioner!$A$62,Funktioner!$B$62,IF($C23=Funktioner!$A$63,Funktioner!$B$63,IF($C23=Funktioner!$A$64,Funktioner!$B$64,IF($C23=Funktioner!$A$65,Funktioner!$B$65,IF($C23=Funktioner!$A$66,Funktioner!$B$66,IF($C23=Funktioner!$A$67,Funktioner!$B$67,IF($C23=Funktioner!$A$68,Funktioner!$B$68,IF($C23=Funktioner!$A$69,Funktioner!$B$69,IF($C23=Funktioner!$A$70,Funktioner!$B$70,IF($C23=Funktioner!$A$71,Funktioner!$B$71,IF($C23=Funktioner!$A$72,Funktioner!$B$72,IF($C23=Funktioner!$A$73,Funktioner!$B$73,IF($C23=Funktioner!$A$74,Funktioner!$B$74,IF($C23=Funktioner!$A$75,Funktioner!$B$75,IF($C23=Funktioner!$A$76,Funktioner!$B$76,IF($C23=Funktioner!$A$77,Funktioner!$B$77,IF($C23=Funktioner!$A$78,Funktioner!$B$78,IF($C23=Funktioner!$A$79,Funktioner!$B$79,IF($C23=Funktioner!$A$80,Funktioner!$B$80,IF($C23=Funktioner!$A$81,Funktioner!$B$81,IF($C23=Funktioner!$A$82,Funktioner!$B$82,IF($C23=Funktioner!$A$83,Funktioner!$B$83,IF($C23=Funktioner!$A$84,Funktioner!$B$84,IF($C23=Funktioner!$A$85,Funktioner!$B$85,IF($C23=Funktioner!$A$86,Funktioner!$B$86,IF($C23=Funktioner!$A$87,Funktioner!$B$87,IF($C23=Funktioner!$A$88,Funktioner!$B$88,IF($C23=Funktioner!$A$89,Funktioner!$B$89,IF($C23=Funktioner!$A$90,Funktioner!$B$90,IF($C23=Funktioner!$A$91,Funktioner!$B$91,IF($C23=Funktioner!$A$92,Funktioner!$B$92,IF($C23=Funktioner!$A$93,Funktioner!$B$93,IF($C23=Funktioner!$A$94,Funktioner!$B$94,IF($C23=Funktioner!$A$95,Funktioner!$B$95,IF($C23=Funktioner!$A$96,Funktioner!$B$96,IF($C23=Funktioner!$A$97,Funktioner!$B$97,IF($C23=Funktioner!$A$98,Funktioner!$B$98,IF($C23=Funktioner!$A$99,Funktioner!$B$99,IF($C23=Funktioner!$A$100,Funktioner!$B$100,IF($C23=Funktioner!$A$101,Funktioner!$B$101,IF($C23=Funktioner!$A$102,Funktioner!$B$102,IF($C23=Funktioner!$A$103,Funktioner!$B$103,IF($C23=Funktioner!$A$104,Funktioner!$B$104,\"\"))))))))))))))))))))))))))))))))))))))))))))))))","v":""},null,null,{"$f":"IF($G23=\"\",\"\",IF($N23=0,\"\",Funktioner!L191&\" SEK /\"&Funktioner!J120))","v":""},{"$f":"IF($G23=\"\",\"\",IF($N23=\"\",\"\",Funktioner!M191))","v":""},{"$f":"IF($G23=\"\",\"\",IF($N23=\"\",\"\",Funktioner!N191))","v":""},{"$f":"IF($G23=\"\",\"\",IF($N23=\"\",\"\",Funktioner!O191))","v":""},{"$f":"IF($G23=\"\",\"\",IF($N23=\"\",\"\",HYPERLINK(Funktioner!P191)))","v":""},{"$f":"IF($G23=\"\",\"\",IF($N23=\"\",\"\",Funktioner!Q191))","v":""},{"$f":"IF($G23=\"\",\"\",IF(Funktioner!T191=0,\"\",Funktioner!T191))","v":""},{"$f":"IF($G23=\"\",\"\",IF($N23=\"\",\"\",Funktioner!S191))","v":""}]
[{"$f":"IFERROR(IF($C24=Funktioner!$A$7,1,IF($C24=Funktioner!$A$8,2,IF($C24=Funktioner!$A$9,3,IF($C24=Funktioner!$A$10,4,IF($C24=Funktioner!$B$7,5,IF($C24=Funktioner!$B$8,7,IF($C24=Funktioner!$B$9,8,IF($C24=Funktioner!$C$7,9,IF($C24=Funktioner!$C$8,10,IF($C24=Funktioner!$C$9,11,IF($C24=Funktioner!$C$10,12,IF($C24=Funktioner!$C$11,13,IF($C24=Funktioner!$C$12,14,IF($C24=Funktioner!$D$7,15,IF($C24=Funktioner!$D$8,16,IF($C24=Funktioner!$D$9,17,IF($C24=Funktioner!$E$7,18,IF($C24=Funktioner!$F$7,19,IF($C24=Funktioner!$F$8,20,IF($C24=Funktioner!$F$9,21,IF($C24=Funktioner!$G$7,22,IF($C24=Funktioner!$G$8,23,IF($C24=Funktioner!$G$9,24,IF($C24=Funktioner!$G$10,25,IF($C24=Funktioner!$G$11,26,IF($C24=Funktioner!$H$7,27,IF($C24=Funktioner!$H$8,28,IF($C24=Funktioner!$I$7,29,IF($C24=Funktioner!$J$7,31,IF($C24=Funktioner!$J$8,32,IF($C24=Funktioner!$J$9,33,IF($C24=Funktioner!$K$7,34,IF($C24=Funktioner!$K$8,35,IF($C24=Funktioner!$K$9,36,IF($C24=Funktioner!$L$7,37,IF($C24=Funktioner!$L$8,38,IF($C24=Funktioner!$M$7,39,IF($C24=Funktioner!$M$8,40,IF($C24=Funktioner!$N$7,41,IF($C24=Funktioner!$O$7,42,IF($C24=Funktioner!$P$7,43,IF($C24=Funktioner!$Q$7,44,IF($C24=Funktioner!$Q$8,45,IF($C24=Funktioner!$R$7,46,IF($C24=Funktioner!$R$8,47,IF($C24=Funktioner!$R$9,48,\"\")))))))))))))))))))))))))))))))))))))))))))))),\"\")","v":""},null,null,{"$f":"IF($A24=Funktioner!$B$1,IF(Funktioner!$B$2=\"\",\"\",Funktioner!$B$2),IF($A24=Funktioner!$C$1,IF(Funktioner!$C$2=\"\",\"\",Funktioner!$C$2),IF($A24=Funktioner!$D$1,IF(Funktioner!$D$2=\"\",\"\",Funktioner!$D$2),IF($A24=Funktioner!$E$1,IF(Funktioner!$E$2=\"\",\"\",Funktioner!$E$2),IF($A24=Funktioner!$F$1,IF(Funktioner!$F$2=\"\",\"\",Funktioner!$F$2),IF($A24=Funktioner!$G$1,IF(Funktioner!$G$2=\"\",\"\",Funktioner!$G$2),IF($A24=Funktioner!$H$1,IF(Funktioner!$H$2=\"\",\"\",Funktioner!$H$2),IF($A24=Funktioner!$I$1,IF(Funktioner!$I$2=\"\",\"\",Funktioner!$I$2),IF($A24=Funktioner!$J$1,IF(Funktioner!$J$2=\"\",\"\",Funktioner!$J$2),IF($A24=Funktioner!$K$1,IF(Funktioner!$K$2=\"\",\"\",Funktioner!$K$2),IF($A24=Funktioner!$L$1,IF(Funktioner!$L$2=\"\",\"\",Funktioner!$L$2),IF($A24=Funktioner!$M$1,IF(Funktioner!$M$2=\"\",\"\",Funktioner!$M$2),IF($A24=Funktioner!$N$1,IF(Funktioner!$N$2=\"\",\"\",Funktioner!$N$2),IF($A24=Funktioner!$O$1,IF(Funktioner!$O$2=\"\",\"\",Funktioner!$O$2),IF($A24=Funktioner!$P$1,IF(Funktioner!$P$2=\"\",\"\",Funktioner!$P$2),IF($A24=Funktioner!$Q$1,IF(Funktioner!$Q$2=\"\",\"\",Funktioner!$Q$2),IF($A24=Funktioner!$R$1,IF(Funktioner!$R$2=\"\",\"\",Funktioner!$R$2),IF($A24=Funktioner!$S$1,IF(Funktioner!$S$2=\"\",\"\",Funktioner!$S$2),IF($A24=Funktioner!$T$1,IF(Funktioner!$T$2=\"\",\"\",Funktioner!$T$2),IF($A24=Funktioner!$U$1,IF(Funktioner!$U$2=\"\",\"\",Funktioner!$U$2),IF($A24=Funktioner!$V$1,IF(Funktioner!$V$2=\"\",\"\",Funktioner!$V$2),IF($A24=Funktioner!$W$1,IF(Funktioner!$W$2=\"\",\"\",Funktioner!$W$2),IF($A24=Funktioner!$X$1,IF(Funktioner!$X$2=\"\",\"\",Funktioner!$X$2),IF($A24=Funktioner!$Y$1,IF(Funktioner!$Y$2=\"\",\"\",Funktioner!$Y$2),IF($A24=Funktioner!$Z$1,IF(Funktioner!$Z$2=\"\",\"\",Funktioner!$Z$2),IF($A24=Funktioner!$AA$1,IF(Funktioner!$AA$2=\"\",\"\",Funktioner!$AA$2),IF($A24=Funktioner!$AB$1,IF(Funktioner!$AB$2=\"\",\"\",Funktioner!$AB$2),IF($A24=Funktioner!$AC$1,IF(Funktioner!$AC$2=\"\",\"\",Funktioner!$AC$2),IF($A24=Funktioner!$AD$1,IF(Funktioner!$AD$2=\"\",\"\",Funktioner!$AD$2),IF($A24=Funktioner!$AE$1,IF(Funktioner!$AE$2=\"\",\"\",Funktioner!$AE$2),IF($A24=Funktioner!$AF$1,IF(Funktioner!$AF$2=\"\",\"\",Funktioner!$AF$2),IF($A24=Funktioner!$AG$1,IF(Funktioner!$AG$2=\"\",\"\",Funktioner!$AG$2),IF($A24=Funktioner!$AH$1,IF(Funktioner!$AH$2=\"\",\"\",Funktioner!$AH$2),IF($A24=Funktioner!$AI$1,IF(Funktioner!$AI$2=\"\",\"\",Funktioner!$AI$2),IF($A24=Funktioner!$AJ$1,IF(Funktioner!$AJ$2=\"\",\"\",Funktioner!$AJ$2),IF($A24=Funktioner!$AK$1,IF(Funktioner!$AK$2=\"\",\"\",Funktioner!$AK$2),IF($A24=Funktioner!$AL$1,IF(Funktioner!$AL$2=\"\",\"\",Funktioner!$AL$2),IF($A24=Funktioner!$AM$1,IF(Funktioner!$AM$2=\"\",\"\",Funktioner!$AM$2),IF($A24=Funktioner!$AN$1,IF(Funktioner!$AN$2=\"\",\"\",Funktioner!$AN$2),IF($A24=Funktioner!$AO$1,IF(Funktioner!$AO$2=\"\",\"\",Funktioner!$AO$2),IF($A24=Funktioner!$AP$1,IF(Funktioner!$AP$2=\"\",\"\",Funktioner!$AP$2),IF($A24=Funktioner!$AQ$1,IF(Funktioner!$AQ$2=\"\",\"\",Funktioner!$AQ$2),IF($A24=Funktioner!$AR$1,IF(Funktioner!$AR$2=\"\",\"\",Funktioner!$AR$2),IF($A24=Funktioner!$AS$1,IF(Funktioner!$AS$2=\"\",\"\",Funktioner!$AS$2),IF($A24=Funktioner!$AT$1,IF(Funktioner!$AT$2=\"\",\"\",Funktioner!$AT$2),IF($A24=Funktioner!$AU$1,IF(Funktioner!$AU$2=\"\",\"\",Funktioner!$AU$2),IF($A24=Funktioner!$AV$1,IF(Funktioner!$AV$2=\"\",\"\",Funktioner!$AV$2),IF($A24=Funktioner!$AW$1,IF(Funktioner!$AW$2=\"\",\"\",Funktioner!$AW$2),\"\"))))))))))))))))))))))))))))))))))))))))))))))))","v":""},{"$f":"IF($C24=Funktioner!$A$57,Funktioner!$B$57,IF($C24=Funktioner!$A$58,Funktioner!$B$58,IF($C24=Funktioner!$A$59,Funktioner!$B$59,IF($C24=Funktioner!$A$60,Funktioner!$B$60,IF($C24=Funktioner!$A$61,Funktioner!$B$61,IF($C24=Funktioner!$A$62,Funktioner!$B$62,IF($C24=Funktioner!$A$63,Funktioner!$B$63,IF($C24=Funktioner!$A$64,Funktioner!$B$64,IF($C24=Funktioner!$A$65,Funktioner!$B$65,IF($C24=Funktioner!$A$66,Funktioner!$B$66,IF($C24=Funktioner!$A$67,Funktioner!$B$67,IF($C24=Funktioner!$A$68,Funktioner!$B$68,IF($C24=Funktioner!$A$69,Funktioner!$B$69,IF($C24=Funktioner!$A$70,Funktioner!$B$70,IF($C24=Funktioner!$A$71,Funktioner!$B$71,IF($C24=Funktioner!$A$72,Funktioner!$B$72,IF($C24=Funktioner!$A$73,Funktioner!$B$73,IF($C24=Funktioner!$A$74,Funktioner!$B$74,IF($C24=Funktioner!$A$75,Funktioner!$B$75,IF($C24=Funktioner!$A$76,Funktioner!$B$76,IF($C24=Funktioner!$A$77,Funktioner!$B$77,IF($C24=Funktioner!$A$78,Funktioner!$B$78,IF($C24=Funktioner!$A$79,Funktioner!$B$79,IF($C24=Funktioner!$A$80,Funktioner!$B$80,IF($C24=Funktioner!$A$81,Funktioner!$B$81,IF($C24=Funktioner!$A$82,Funktioner!$B$82,IF($C24=Funktioner!$A$83,Funktioner!$B$83,IF($C24=Funktioner!$A$84,Funktioner!$B$84,IF($C24=Funktioner!$A$85,Funktioner!$B$85,IF($C24=Funktioner!$A$86,Funktioner!$B$86,IF($C24=Funktioner!$A$87,Funktioner!$B$87,IF($C24=Funktioner!$A$88,Funktioner!$B$88,IF($C24=Funktioner!$A$89,Funktioner!$B$89,IF($C24=Funktioner!$A$90,Funktioner!$B$90,IF($C24=Funktioner!$A$91,Funktioner!$B$91,IF($C24=Funktioner!$A$92,Funktioner!$B$92,IF($C24=Funktioner!$A$93,Funktioner!$B$93,IF($C24=Funktioner!$A$94,Funktioner!$B$94,IF($C24=Funktioner!$A$95,Funktioner!$B$95,IF($C24=Funktioner!$A$96,Funktioner!$B$96,IF($C24=Funktioner!$A$97,Funktioner!$B$97,IF($C24=Funktioner!$A$98,Funktioner!$B$98,IF($C24=Funktioner!$A$99,Funktioner!$B$99,IF($C24=Funktioner!$A$100,Funktioner!$B$100,IF($C24=Funktioner!$A$101,Funktioner!$B$101,IF($C24=Funktioner!$A$102,Funktioner!$B$102,IF($C24=Funktioner!$A$103,Funktioner!$B$103,IF($C24=Funktioner!$A$104,Funktioner!$B$104,\"\"))))))))))))))))))))))))))))))))))))))))))))))))","v":""},null,null,{"$f":"IF($G24=\"\",\"\",IF($N24=0,\"\",Funktioner!L192&\" SEK /\"&Funktioner!J121))","v":""},{"$f":"IF($G24=\"\",\"\",IF($N24=\"\",\"\",Funktioner!M192))","v":""},{"$f":"IF($G24=\"\",\"\",IF($N24=\"\",\"\",Funktioner!N192))","v":""},{"$f":"IF($G24=\"\",\"\",IF($N24=\"\",\"\",Funktioner!O192))","v":""},{"$f":"IF($G24=\"\",\"\",IF($N24=\"\",\"\",HYPERLINK(Funktioner!P192)))","v":""},{"$f":"IF($G24=\"\",\"\",IF($N24=\"\",\"\",Funktioner!Q192))","v":""},{"$f":"IF($G24=\"\",\"\",IF(Funktioner!T192=0,\"\",Funktioner!T192))","v":""},{"$f":"IF($G24=\"\",\"\",IF($N24=\"\",\"\",Funktioner!S192))","v":""}]
[{"$f":"IFERROR(IF($C25=Funktioner!$A$7,1,IF($C25=Funktioner!$A$8,2,IF($C25=Funktioner!$A$9,3,IF($C25=Funktioner!$A$10,4,IF($C25=Funktioner!$B$7,5,IF($C25=Funktioner!$B$8,7,IF($C25=Funktioner!$B$9,8,IF($C25=Funktioner!$C$7,9,IF($C25=Funktioner!$C$8,10,IF($C25=Funktioner!$C$9,11,IF($C25=Funktioner!$C$10,12,IF($C25=Funktioner!$C$11,13,IF($C25=Funktioner!$C$12,14,IF($C25=Funktioner!$D$7,15,IF($C25=Funktioner!$D$8,16,IF($C25=Funktioner!$D$9,17,IF($C25=Funktioner!$E$7,18,IF($C25=Funktioner!$F$7,19,IF($C25=Funktioner!$F$8,20,IF($C25=Funktioner!$F$9,21,IF($C25=Funktioner!$G$7,22,IF($C25=Funktioner!$G$8,23,IF($C25=Funktioner!$G$9,24,IF($C25=Funktioner!$G$10,25,IF($C25=Funktioner!$G$11,26,IF($C25=Funktioner!$H$7,27,IF($C25=Funktioner!$H$8,28,IF($C25=Funktioner!$I$7,29,IF($C25=Funktioner!$J$7,31,IF($C25=Funktioner!$J$8,32,IF($C25=Funktioner!$J$9,33,IF($C25=Funktioner!$K$7,34,IF($C25=Funktioner!$K$8,35,IF($C25=Funktioner!$K$9,36,IF($C25=Funktioner!$L$7,37,IF($C25=Funktioner!$L$8,38,IF($C25=Funktioner!$M$7,39,IF($C25=Funktioner!$M$8,40,IF($C25=Funktioner!$N$7,41,IF($C25=Funktioner!$O$7,42,IF($C25=Funktioner!$P$7,43,IF($C25=Funktioner!$Q$7,44,IF($C25=Funktioner!$Q$8,45,IF($C25=Funktioner!$R$7,46,IF($C25=Funktioner!$R$8,47,IF($C25=Funktioner!$R$9,48,\"\")))))))))))))))))))))))))))))))))))))))))))))),\"\")","v":""},null,null,{"$f":"IF($A25=Funktioner!$B$1,IF(Funktioner!$B$2=\"\",\"\",Funktioner!$B$2),IF($A25=Funktioner!$C$1,IF(Funktioner!$C$2=\"\",\"\",Funktioner!$C$2),IF($A25=Funktioner!$D$1,IF(Funktioner!$D$2=\"\",\"\",Funktioner!$D$2),IF($A25=Funktioner!$E$1,IF(Funktioner!$E$2=\"\",\"\",Funktioner!$E$2),IF($A25=Funktioner!$F$1,IF(Funktioner!$F$2=\"\",\"\",Funktioner!$F$2),IF($A25=Funktioner!$G$1,IF(Funktioner!$G$2=\"\",\"\",Funktioner!$G$2),IF($A25=Funktioner!$H$1,IF(Funktioner!$H$2=\"\",\"\",Funktioner!$H$2),IF($A25=Funktioner!$I$1,IF(Funktioner!$I$2=\"\",\"\",Funktioner!$I$2),IF($A25=Funktioner!$J$1,IF(Funktioner!$J$2=\"\",\"\",Funktioner!$J$2),IF($A25=Funktioner!$K$1,IF(Funktioner!$K$2=\"\",\"\",Funktioner!$K$2),IF($A25=Funktioner!$L$1,IF(Funktioner!$L$2=\"\",\"\",Funktioner!$L$2),IF($A25=Funktioner!$M$1,IF(Funktioner!$M$2=\"\",\"\",Funktioner!$M$2),IF($A25=Funktioner!$N$1,IF(Funktioner!$N$2=\"\",\"\",Funktioner!$N$2),IF($A25=Funktioner!$O$1,IF(Funktioner!$O$2=\"\",\"\",Funktioner!$O$2),IF($A25=Funktioner!$P$1,IF(Funktioner!$P$2=\"\",\"\",Funktioner!$P$2),IF($A25=Funktioner!$Q$1,IF(Funktioner!$Q$2=\"\",\"\",Funktioner!$Q$2),IF($A25=Funktioner!$R$1,IF(Funktioner!$R$2=\"\",\"\",Funktioner!$R$2),IF($A25=Funktioner!$S$1,IF(Funktioner!$S$2=\"\",\"\",Funktioner!$S$2),IF($A25=Funktioner!$T$1,IF(Funktioner!$T$2=\"\",\"\",Funktioner!$T$2),IF($A25=Funktioner!$U$1,IF(Funktioner!$U$2=\"\",\"\",Funktioner!$U$2),IF($A25=Funktioner!$V$1,IF(Funktioner!$V$2=\"\",\"\",Funktioner!$V$2),IF($A25=Funktioner!$W$1,IF(Funktioner!$W$2=\"\",\"\",Funktioner!$W$2),IF($A25=Funktioner!$X$1,IF(Funktioner!$X$2=\"\",\"\",Funktioner!$X$2),IF($A25=Funktioner!$Y$1,IF(Funktioner!$Y$2=\"\",\"\",Funktioner!$Y$2),IF($A25=Funktioner!$Z$1,IF(Funktioner!$Z$2=\"\",\"\",Funktioner!$Z$2),IF($A25=Funktioner!$AA$1,IF(Funktioner!$AA$2=\"\",\"\",Funktioner!$AA$2),IF($A25=Funktioner!$AB$1,IF(Funktioner!$AB$2=\"\",\"\",Funktioner!$AB$2),IF($A25=Funktioner!$AC$1,IF(Funktioner!$AC$2=\"\",\"\",Funktioner!$AC$2),IF($A25=Funktioner!$AD$1,IF(Funktioner!$AD$2=\"\",\"\",Funktioner!$AD$2),IF($A25=Funktioner!$AE$1,IF(Funktioner!$AE$2=\"\",\"\",Funktioner!$AE$2),IF($A25=Funktioner!$AF$1,IF(Funktioner!$AF$2=\"\",\"\",Funktioner!$AF$2),IF($A25=Funktioner!$AG$1,IF(Funktioner!$AG$2=\"\",\"\",Funktioner!$AG$2),IF($A25=Funktioner!$AH$1,IF(Funktioner!$AH$2=\"\",\"\",Funktioner!$AH$2),IF($A25=Funktioner!$AI$1,IF(Funktioner!$AI$2=\"\",\"\",Funktioner!$AI$2),IF($A25=Funktioner!$AJ$1,IF(Funktioner!$AJ$2=\"\",\"\",Funktioner!$AJ$2),IF($A25=Funktioner!$AK$1,IF(Funktioner!$AK$2=\"\",\"\",Funktioner!$AK$2),IF($A25=Funktioner!$AL$1,IF(Funktioner!$AL$2=\"\",\"\",Funktioner!$AL$2),IF($A25=Funktioner!$AM$1,IF(Funktioner!$AM$2=\"\",\"\",Funktioner!$AM$2),IF($A25=Funktioner!$AN$1,IF(Funktioner!$AN$2=\"\",\"\",Funktioner!$AN$2),IF($A25=Funktioner!$AO$1,IF(Funktioner!$AO$2=\"\",\"\",Funktioner!$AO$2),IF($A25=Funktioner!$AP$1,IF(Funktioner!$AP$2=\"\",\"\",Funktioner!$AP$2),IF($A25=Funktioner!$AQ$1,IF(Funktioner!$AQ$2=\"\",\"\",Funktioner!$AQ$2),IF($A25=Funktioner!$AR$1,IF(Funktioner!$AR$2=\"\",\"\",Funktioner!$AR$2),IF($A25=Funktioner!$AS$1,IF(Funktioner!$AS$2=\"\",\"\",Funktioner!$AS$2),IF($A25=Funktioner!$AT$1,IF(Funktioner!$AT$2=\"\",\"\",Funktioner!$AT$2),IF($A25=Funktioner!$AU$1,IF(Funktioner!$AU$2=\"\",\"\",Funktioner!$AU$2),IF($A25=Funktioner!$AV$1,IF(Funktioner!$AV$2=\"\",\"\",Funktioner!$AV$2),IF($A25=Funktioner!$AW$1,IF(Funktioner!$AW$2=\"\",\"\",Funktioner!$AW$2),\"\"))))))))))))))))))))))))))))))))))))))))))))))))","v":""},{"$f":"IF($C25=Funktioner!$A$57,Funktioner!$B$57,IF($C25=Funktioner!$A$58,Funktioner!$B$58,IF($C25=Funktioner!$A$59,Funktioner!$B$59,IF($C25=Funktioner!$A$60,Funktioner!$B$60,IF($C25=Funktioner!$A$61,Funktioner!$B$61,IF($C25=Funktioner!$A$62,Funktioner!$B$62,IF($C25=Funktioner!$A$63,Funktioner!$B$63,IF($C25=Funktioner!$A$64,Funktioner!$B$64,IF($C25=Funktioner!$A$65,Funktioner!$B$65,IF($C25=Funktioner!$A$66,Funktioner!$B$66,IF($C25=Funktioner!$A$67,Funktioner!$B$67,IF($C25=Funktioner!$A$68,Funktioner!$B$68,IF($C25=Funktioner!$A$69,Funktioner!$B$69,IF($C25=Funktioner!$A$70,Funktioner!$B$70,IF($C25=Funktioner!$A$71,Funktioner!$B$71,IF($C25=Funktioner!$A$72,Funktioner!$B$72,IF($C25=Funktioner!$A$73,Funktioner!$B$73,IF($C25=Funktioner!$A$74,Funktioner!$B$74,IF($C25=Funktioner!$A$75,Funktioner!$B$75,IF($C25=Funktioner!$A$76,Funktioner!$B$76,IF($C25=Funktioner!$A$77,Funktioner!$B$77,IF($C25=Funktioner!$A$78,Funktioner!$B$78,IF($C25=Funktioner!$A$79,Funktioner!$B$79,IF($C25=Funktioner!$A$80,Funktioner!$B$80,IF($C25=Funktioner!$A$81,Funktioner!$B$81,IF($C25=Funktioner!$A$82,Funktioner!$B$82,IF($C25=Funktioner!$A$83,Funktioner!$B$83,IF($C25=Funktioner!$A$84,Funktioner!$B$84,IF($C25=Funktioner!$A$85,Funktioner!$B$85,IF($C25=Funktioner!$A$86,Funktioner!$B$86,IF($C25=Funktioner!$A$87,Funktioner!$B$87,IF($C25=Funktioner!$A$88,Funktioner!$B$88,IF($C25=Funktioner!$A$89,Funktioner!$B$89,IF($C25=Funktioner!$A$90,Funktioner!$B$90,IF($C25=Funktioner!$A$91,Funktioner!$B$91,IF($C25=Funktioner!$A$92,Funktioner!$B$92,IF($C25=Funktioner!$A$93,Funktioner!$B$93,IF($C25=Funktioner!$A$94,Funktioner!$B$94,IF($C25=Funktioner!$A$95,Funktioner!$B$95,IF($C25=Funktioner!$A$96,Funktioner!$B$96,IF($C25=Funktioner!$A$97,Funktioner!$B$97,IF($C25=Funktioner!$A$98,Funktioner!$B$98,IF($C25=Funktioner!$A$99,Funktioner!$B$99,IF($C25=Funktioner!$A$100,Funktioner!$B$100,IF($C25=Funktioner!$A$101,Funktioner!$B$101,IF($C25=Funktioner!$A$102,Funktioner!$B$102,IF($C25=Funktioner!$A$103,Funktioner!$B$103,IF($C25=Funktioner!$A$104,Funktioner!$B$104,\"\"))))))))))))))))))))))))))))))))))))))))))))))))","v":""},null,null,{"$f":"IF($G25=\"\",\"\",IF($N25=0,\"\",Funktioner!L193&\" SEK /\"&Funktioner!J122))","v":""},{"$f":"IF($G25=\"\",\"\",IF($N25=\"\",\"\",Funktioner!M193))","v":""},{"$f":"IF($G25=\"\",\"\",IF($N25=\"\",\"\",Funktioner!N193))","v":""},{"$f":"IF($G25=\"\",\"\",IF($N25=\"\",\"\",Funktioner!O193))","v":""},{"$f":"IF($G25=\"\",\"\",IF($N25=\"\",\"\",HYPERLINK(Funktioner!P193)))","v":""},{"$f":"IF($G25=\"\",\"\",IF($N25=\"\",\"\",Funktioner!Q193))","v":""},{"$f":"IF($G25=\"\",\"\",IF(Funktioner!T193=0,\"\",Funktioner!T193))","v":""},{"$f":"IF($G25=\"\",\"\",IF($N25=\"\",\"\",Funktioner!S193))","v":""}]
[{"$f":"IFERROR(IF($C26=Funktioner!$A$7,1,IF($C26=Funktioner!$A$8,2,IF($C26=Funktioner!$A$9,3,IF($C26=Funktioner!$A$10,4,IF($C26=Funktioner!$B$7,5,IF($C26=Funktioner!$B$8,7,IF($C26=Funktioner!$B$9,8,IF($C26=Funktioner!$C$7,9,IF($C26=Funktioner!$C$8,10,IF($C26=Funktioner!$C$9,11,IF($C26=Funktioner!$C$10,12,IF($C26=Funktioner!$C$11,13,IF($C26=Funktioner!$C$12,14,IF($C26=Funktioner!$D$7,15,IF($C26=Funktioner!$D$8,16,IF($C26=Funktioner!$D$9,17,IF($C26=Funktioner!$E$7,18,IF($C26=Funktioner!$F$7,19,IF($C26=Funktioner!$F$8,20,IF($C26=Funktioner!$F$9,21,IF($C26=Funktioner!$G$7,22,IF($C26=Funktioner!$G$8,23,IF($C26=Funktioner!$G$9,24,IF($C26=Funktioner!$G$10,25,IF($C26=Funktioner!$G$11,26,IF($C26=Funktioner!$H$7,27,IF($C26=Funktioner!$H$8,28,IF($C26=Funktioner!$I$7,29,IF($C26=Funktioner!$J$7,31,IF($C26=Funktioner!$J$8,32,IF($C26=Funktioner!$J$9,33,IF($C26=Funktioner!$K$7,34,IF($C26=Funktioner!$K$8,35,IF($C26=Funktioner!$K$9,36,IF($C26=Funktioner!$L$7,37,IF($C26=Funktioner!$L$8,38,IF($C26=Funktioner!$M$7,39,IF($C26=Funktioner!$M$8,40,IF($C26=Funktioner!$N$7,41,IF($C26=Funktioner!$O$7,42,IF($C26=Funktioner!$P$7,43,IF($C26=Funktioner!$Q$7,44,IF($C26=Funktioner!$Q$8,45,IF($C26=Funktioner!$R$7,46,IF($C26=Funktioner!$R$8,47,IF($C26=Funktioner!$R$9,48,\"\")))))))))))))))))))))))))))))))))))))))))))))),\"\")","v":""},null,null,{"$f":"IF($A26=Funktioner!$B$1,IF(Funktioner!$B$2=\"\",\"\",Funktioner!$B$2),IF($A26=Funktioner!$C$1,IF(Funktioner!$C$2=\"\",\"\",Funktioner!$C$2),IF($A26=Funktioner!$D$1,IF(Funktioner!$D$2=\"\",\"\",Funktioner!$D$2),IF($A26=Funktioner!$E$1,IF(Funktioner!$E$2=\"\",\"\",Funktioner!$E$2),IF($A26=Funktioner!$F$1,IF(Funktioner!$F$2=\"\",\"\",Funktioner!$F$2),IF($A26=Funktioner!$G$1,IF(Funktioner!$G$2=\"\",\"\",Funktioner!$G$2),IF($A26=Funktioner!$H$1,IF(Funktioner!$H$2=\"\",\"\",Funktioner!$H$2),IF($A26=Funktioner!$I$1,IF(Funktioner!$I$2=\"\",\"\",Funktioner!$I$2),IF($A26=Funktioner!$J$1,IF(Funktioner!$J$2=\"\",\"\",Funktioner!$J$2),IF($A26=Funktioner!$K$1,IF(Funktioner!$K$2=\"\",\"\",Funktioner!$K$2),IF($A26=Funktioner!$L$1,IF(Funktioner!$L$2=\"\",\"\",Funktioner!$L$2),IF($A26=Funktioner!$M$1,IF(Funktioner!$M$2=\"\",\"\",Funktioner!$M$2),IF($A26=Funktioner!$N$1,IF(Funktioner!$N$2=\"\",\"\",Funktioner!$N$2),IF($A26=Funktioner!$O$1,IF(Funktioner!$O$2=\"\",\"\",Funktioner!$O$2),IF($A26=Funktioner!$P$1,IF(Funktioner!$P$2=\"\",\"\",Funktioner!$P$2),IF($A26=Funktioner!$Q$1,IF(Funktioner!$Q$2=\"\",\"\",Funktioner!$Q$2),IF($A26=Funktioner!$R$1,IF(Funktioner!$R$2=\"\",\"\",Funktioner!$R$2),IF($A26=Funktioner!$S$1,IF(Funktioner!$S$2=\"\",\"\",Funktioner!$S$2),IF($A26=Funktioner!$T$1,IF(Funktioner!$T$2=\"\",\"\",Funktioner!$T$2),IF($A26=Funktioner!$U$1,IF(Funktioner!$U$2=\"\",\"\",Funktioner!$U$2),IF($A26=Funktioner!$V$1,IF(Funktioner!$V$2=\"\",\"\",Funktioner!$V$2),IF($A26=Funktioner!$W$1,IF(Funktioner!$W$2=\"\",\"\",Funktioner!$W$2),IF($A26=Funktioner!$X$1,IF(Funktioner!$X$2=\"\",\"\",Funktioner!$X$2),IF($A26=Funktioner!$Y$1,IF(Funktioner!$Y$2=\"\",\"\",Funktioner!$Y$2),IF($A26=Funktioner!$Z$1,IF(Funktioner!$Z$2=\"\",\"\",Funktioner!$Z$2),IF($A26=Funktioner!$AA$1,IF(Funktioner!$AA$2=\"\",\"\",Funktioner!$AA$2),IF($A26=Funktioner!$AB$1,IF(Funktioner!$AB$2=\"\",\"\",Funktioner!$AB$2),IF($A26=Funktioner!$AC$1,IF(Funktioner!$AC$2=\"\",\"\",Funktioner!$AC$2),IF($A26=Funktioner!$AD$1,IF(Funktioner!$AD$2=\"\",\"\",Funktioner!$AD$2),IF($A26=Funktioner!$AE$1,IF(Funktioner!$AE$2=\"\",\"\",Funktioner!$AE$2),IF($A26=Funktioner!$AF$1,IF(Funktioner!$AF$2=\"\",\"\",Funktioner!$AF$2),IF($A26=Funktioner!$AG$1,IF(Funktioner!$AG$2=\"\",\"\",Funktioner!$AG$2),IF($A26=Funktioner!$AH$1,IF(Funktioner!$AH$2=\"\",\"\",Funktioner!$AH$2),IF($A26=Funktioner!$AI$1,IF(Funktioner!$AI$2=\"\",\"\",Funktioner!$AI$2),IF($A26=Funktioner!$AJ$1,IF(Funktioner!$AJ$2=\"\",\"\",Funktioner!$AJ$2),IF($A26=Funktioner!$AK$1,IF(Funktioner!$AK$2=\"\",\"\",Funktioner!$AK$2),IF($A26=Funktioner!$AL$1,IF(Funktioner!$AL$2=\"\",\"\",Funktioner!$AL$2),IF($A26=Funktioner!$AM$1,IF(Funktioner!$AM$2=\"\",\"\",Funktioner!$AM$2),IF($A26=Funktioner!$AN$1,IF(Funktioner!$AN$2=\"\",\"\",Funktioner!$AN$2),IF($A26=Funktioner!$AO$1,IF(Funktioner!$AO$2=\"\",\"\",Funktioner!$AO$2),IF($A26=Funktioner!$AP$1,IF(Funktioner!$AP$2=\"\",\"\",Funktioner!$AP$2),IF($A26=Funktioner!$AQ$1,IF(Funktioner!$AQ$2=\"\",\"\",Funktioner!$AQ$2),IF($A26=Funktioner!$AR$1,IF(Funktioner!$AR$2=\"\",\"\",Funktioner!$AR$2),IF($A26=Funktioner!$AS$1,IF(Funktioner!$AS$2=\"\",\"\",Funktioner!$AS$2),IF($A26=Funktioner!$AT$1,IF(Funktioner!$AT$2=\"\",\"\",Funktioner!$AT$2),IF($A26=Funktioner!$AU$1,IF(Funktioner!$AU$2=\"\",\"\",Funktioner!$AU$2),IF($A26=Funktioner!$AV$1,IF(Funktioner!$AV$2=\"\",\"\",Funktioner!$AV$2),IF($A26=Funktioner!$AW$1,IF(Funktioner!$AW$2=\"\",\"\",Funktioner!$AW$2),\"\"))))))))))))))))))))))))))))))))))))))))))))))))","v":""},{"$f":"IF($C26=Funktioner!$A$57,Funktioner!$B$57,IF($C26=Funktioner!$A$58,Funktioner!$B$58,IF($C26=Funktioner!$A$59,Funktioner!$B$59,IF($C26=Funktioner!$A$60,Funktioner!$B$60,IF($C26=Funktioner!$A$61,Funktioner!$B$61,IF($C26=Funktioner!$A$62,Funktioner!$B$62,IF($C26=Funktioner!$A$63,Funktioner!$B$63,IF($C26=Funktioner!$A$64,Funktioner!$B$64,IF($C26=Funktioner!$A$65,Funktioner!$B$65,IF($C26=Funktioner!$A$66,Funktioner!$B$66,IF($C26=Funktioner!$A$67,Funktioner!$B$67,IF($C26=Funktioner!$A$68,Funktioner!$B$68,IF($C26=Funktioner!$A$69,Funktioner!$B$69,IF($C26=Funktioner!$A$70,Funktioner!$B$70,IF($C26=Funktioner!$A$71,Funktioner!$B$71,IF($C26=Funktioner!$A$72,Funktioner!$B$72,IF($C26=Funktioner!$A$73,Funktioner!$B$73,IF($C26=Funktioner!$A$74,Funktioner!$B$74,IF($C26=Funktioner!$A$75,Funktioner!$B$75,IF($C26=Funktioner!$A$76,Funktioner!$B$76,IF($C26=Funktioner!$A$77,Funktioner!$B$77,IF($C26=Funktioner!$A$78,Funktioner!$B$78,IF($C26=Funktioner!$A$79,Funktioner!$B$79,IF($C26=Funktioner!$A$80,Funktioner!$B$80,IF($C26=Funktioner!$A$81,Funktioner!$B$81,IF($C26=Funktioner!$A$82,Funktioner!$B$82,IF($C26=Funktioner!$A$83,Funktioner!$B$83,IF($C26=Funktioner!$A$84,Funktioner!$B$84,IF($C26=Funktioner!$A$85,Funktioner!$B$85,IF($C26=Funktioner!$A$86,Funktioner!$B$86,IF($C26=Funktioner!$A$87,Funktioner!$B$87,IF($C26=Funktioner!$A$88,Funktioner!$B$88,IF($C26=Funktioner!$A$89,Funktioner!$B$89,IF($C26=Funktioner!$A$90,Funktioner!$B$90,IF($C26=Funktioner!$A$91,Funktioner!$B$91,IF($C26=Funktioner!$A$92,Funktioner!$B$92,IF($C26=Funktioner!$A$93,Funktioner!$B$93,IF($C26=Funktioner!$A$94,Funktioner!$B$94,IF($C26=Funktioner!$A$95,Funktioner!$B$95,IF($C26=Funktioner!$A$96,Funktioner!$B$96,IF($C26=Funktioner!$A$97,Funktioner!$B$97,IF($C26=Funktioner!$A$98,Funktioner!$B$98,IF($C26=Funktioner!$A$99,Funktioner!$B$99,IF($C26=Funktioner!$A$100,Funktioner!$B$100,IF($C26=Funktioner!$A$101,Funktioner!$B$101,IF($C26=Funktioner!$A$102,Funktioner!$B$102,IF($C26=Funktioner!$A$103,Funktioner!$B$103,IF($C26=Funktioner!$A$104,Funktioner!$B$104,\"\"))))))))))))))))))))))))))))))))))))))))))))))))","v":""},null,null,{"$f":"IF($G26=\"\",\"\",IF($N26=0,\"\",Funktioner!L194&\" SEK /\"&Funktioner!J123))","v":""},{"$f":"IF($G26=\"\",\"\",IF($N26=\"\",\"\",Funktioner!M194))","v":""},{"$f":"IF($G26=\"\",\"\",IF($N26=\"\",\"\",Funktioner!N194))","v":""},{"$f":"IF($G26=\"\",\"\",IF($N26=\"\",\"\",Funktioner!O194))","v":""},{"$f":"IF($G26=\"\",\"\",IF($N26=\"\",\"\",HYPERLINK(Funktioner!P194)))","v":""},{"$f":"IF($G26=\"\",\"\",IF($N26=\"\",\"\",Funktioner!Q194))","v":""},{"$f":"IF($G26=\"\",\"\",IF(Funktioner!T194=0,\"\",Funktioner!T194))","v":""},{"$f":"IF($G26=\"\",\"\",IF($N26=\"\",\"\",Funktioner!S194))","v":""}]
[{"$f":"IFERROR(IF($C27=Funktioner!$A$7,1,IF($C27=Funktioner!$A$8,2,IF($C27=Funktioner!$A$9,3,IF($C27=Funktioner!$A$10,4,IF($C27=Funktioner!$B$7,5,IF($C27=Funktioner!$B$8,7,IF($C27=Funktioner!$B$9,8,IF($C27=Funktioner!$C$7,9,IF($C27=Funktioner!$C$8,10,IF($C27=Funktioner!$C$9,11,IF($C27=Funktioner!$C$10,12,IF($C27=Funktioner!$C$11,13,IF($C27=Funktioner!$C$12,14,IF($C27=Funktioner!$D$7,15,IF($C27=Funktioner!$D$8,16,IF($C27=Funktioner!$D$9,17,IF($C27=Funktioner!$E$7,18,IF($C27=Funktioner!$F$7,19,IF($C27=Funktioner!$F$8,20,IF($C27=Funktioner!$F$9,21,IF($C27=Funktioner!$G$7,22,IF($C27=Funktioner!$G$8,23,IF($C27=Funktioner!$G$9,24,IF($C27=Funktioner!$G$10,25,IF($C27=Funktioner!$G$11,26,IF($C27=Funktioner!$H$7,27,IF($C27=Funktioner!$H$8,28,IF($C27=Funktioner!$I$7,29,IF($C27=Funktioner!$J$7,31,IF($C27=Funktioner!$J$8,32,IF($C27=Funktioner!$J$9,33,IF($C27=Funktioner!$K$7,34,IF($C27=Funktioner!$K$8,35,IF($C27=Funktioner!$K$9,36,IF($C27=Funktioner!$L$7,37,IF($C27=Funktioner!$L$8,38,IF($C27=Funktioner!$M$7,39,IF($C27=Funktioner!$M$8,40,IF($C27=Funktioner!$N$7,41,IF($C27=Funktioner!$O$7,42,IF($C27=Funktioner!$P$7,43,IF($C27=Funktioner!$Q$7,44,IF($C27=Funktioner!$Q$8,45,IF($C27=Funktioner!$R$7,46,IF($C27=Funktioner!$R$8,47,IF($C27=Funktioner!$R$9,48,\"\")))))))))))))))))))))))))))))))))))))))))))))),\"\")","v":""},null,null,{"$f":"IF($A27=Funktioner!$B$1,IF(Funktioner!$B$2=\"\",\"\",Funktioner!$B$2),IF($A27=Funktioner!$C$1,IF(Funktioner!$C$2=\"\",\"\",Funktioner!$C$2),IF($A27=Funktioner!$D$1,IF(Funktioner!$D$2=\"\",\"\",Funktioner!$D$2),IF($A27=Funktioner!$E$1,IF(Funktioner!$E$2=\"\",\"\",Funktioner!$E$2),IF($A27=Funktioner!$F$1,IF(Funktioner!$F$2=\"\",\"\",Funktioner!$F$2),IF($A27=Funktioner!$G$1,IF(Funktioner!$G$2=\"\",\"\",Funktioner!$G$2),IF($A27=Funktioner!$H$1,IF(Funktioner!$H$2=\"\",\"\",Funktioner!$H$2),IF($A27=Funktioner!$I$1,IF(Funktioner!$I$2=\"\",\"\",Funktioner!$I$2),IF($A27=Funktioner!$J$1,IF(Funktioner!$J$2=\"\",\"\",Funktioner!$J$2),IF($A27=Funktioner!$K$1,IF(Funktioner!$K$2=\"\",\"\",Funktioner!$K$2),IF($A27=Funktioner!$L$1,IF(Funktioner!$L$2=\"\",\"\",Funktioner!$L$2),IF($A27=Funktioner!$M$1,IF(Funktioner!$M$2=\"\",\"\",Funktioner!$M$2),IF($A27=Funktioner!$N$1,IF(Funktioner!$N$2=\"\",\"\",Funktioner!$N$2),IF($A27=Funktioner!$O$1,IF(Funktioner!$O$2=\"\",\"\",Funktioner!$O$2),IF($A27=Funktioner!$P$1,IF(Funktioner!$P$2=\"\",\"\",Funktioner!$P$2),IF($A27=Funktioner!$Q$1,IF(Funktioner!$Q$2=\"\",\"\",Funktioner!$Q$2),IF($A27=Funktioner!$R$1,IF(Funktioner!$R$2=\"\",\"\",Funktioner!$R$2),IF($A27=Funktioner!$S$1,IF(Funktioner!$S$2=\"\",\"\",Funktioner!$S$2),IF($A27=Funktioner!$T$1,IF(Funktioner!$T$2=\"\",\"\",Funktioner!$T$2),IF($A27=Funktioner!$U$1,IF(Funktioner!$U$2=\"\",\"\",Funktioner!$U$2),IF($A27=Funktioner!$V$1,IF(Funktioner!$V$2=\"\",\"\",Funktioner!$V$2),IF($A27=Funktioner!$W$1,IF(Funktioner!$W$2=\"\",\"\",Funktioner!$W$2),IF($A27=Funktioner!$X$1,IF(Funktioner!$X$2=\"\",\"\",Funktioner!$X$2),IF($A27=Funktioner!$Y$1,IF(Funktioner!$Y$2=\"\",\"\",Funktioner!$Y$2),IF($A27=Funktioner!$Z$1,IF(Funktioner!$Z$2=\"\",\"\",Funktioner!$Z$2),IF($A27=Funktioner!$AA$1,IF(Funktioner!$AA$2=\"\",\"\",Funktioner!$AA$2),IF($A27=Funktioner!$AB$1,IF(Funktioner!$AB$2=\"\",\"\",Funktioner!$AB$2),IF($A27=Funktioner!$AC$1,IF(Funktioner!$AC$2=\"\",\"\",Funktioner!$AC$2),IF($A27=Funktioner!$AD$1,IF(Funktioner!$AD$2=\"\",\"\",Funktioner!$AD$2),IF($A27=Funktioner!$AE$1,IF(Funktioner!$AE$2=\"\",\"\",Funktioner!$AE$2),IF($A27=Funktioner!$AF$1,IF(Funktioner!$AF$2=\"\",\"\",Funktioner!$AF$2),IF($A27=Funktioner!$AG$1,IF(Funktioner!$AG$2=\"\",\"\",Funktioner!$AG$2),IF($A27=Funktioner!$AH$1,IF(Funktioner!$AH$2=\"\",\"\",Funktioner!$AH$2),IF($A27=Funktioner!$AI$1,IF(Funktioner!$AI$2=\"\",\"\",Funktioner!$AI$2),IF($A27=Funktioner!$AJ$1,IF(Funktioner!$AJ$2=\"\",\"\",Funktioner!$AJ$2),IF($A27=Funktioner!$AK$1,IF(Funktioner!$AK$2=\"\",\"\",Funktioner!$AK$2),IF($A27=Funktioner!$AL$1,IF(Funktioner!$AL$2=\"\",\"\",Funktioner!$AL$2),IF($A27=Funktioner!$AM$1,IF(Funktioner!$AM$2=\"\",\"\",Funktioner!$AM$2),IF($A27=Funktioner!$AN$1,IF(Funktioner!$AN$2=\"\",\"\",Funktioner!$AN$2),IF($A27=Funktioner!$AO$1,IF(Funktioner!$AO$2=\"\",\"\",Funktioner!$AO$2),IF($A27=Funktioner!$AP$1,IF(Funktioner!$AP$2=\"\",\"\",Funktioner!$AP$2),IF($A27=Funktioner!$AQ$1,IF(Funktioner!$AQ$2=\"\",\"\",Funktioner!$AQ$2),IF($A27=Funktioner!$AR$1,IF(Funktioner!$AR$2=\"\",\"\",Funktioner!$AR$2),IF($A27=Funktioner!$AS$1,IF(Funktioner!$AS$2=\"\",\"\",Funktioner!$AS$2),IF($A27=Funktioner!$AT$1,IF(Funktioner!$AT$2=\"\",\"\",Funktioner!$AT$2),IF($A27=Funktioner!$AU$1,IF(Funktioner!$AU$2=\"\",\"\",Funktioner!$AU$2),IF($A27=Funktioner!$AV$1,IF(Funktioner!$AV$2=\"\",\"\",Funktioner!$AV$2),IF($A27=Funktioner!$AW$1,IF(Funktioner!$AW$2=\"\",\"\",Funktioner!$AW$2),\"\"))))))))))))))))))))))))))))))))))))))))))))))))","v":""},{"$f":"IF($C27=Funktioner!$A$57,Funktioner!$B$57,IF($C27=Funktioner!$A$58,Funktioner!$B$58,IF($C27=Funktioner!$A$59,Funktioner!$B$59,IF($C27=Funktioner!$A$60,Funktioner!$B$60,IF($C27=Funktioner!$A$61,Funktioner!$B$61,IF($C27=Funktioner!$A$62,Funktioner!$B$62,IF($C27=Funktioner!$A$63,Funktioner!$B$63,IF($C27=Funktioner!$A$64,Funktioner!$B$64,IF($C27=Funktioner!$A$65,Funktioner!$B$65,IF($C27=Funktioner!$A$66,Funktioner!$B$66,IF($C27=Funktioner!$A$67,Funktioner!$B$67,IF($C27=Funktioner!$A$68,Funktioner!$B$68,IF($C27=Funktioner!$A$69,Funktioner!$B$69,IF($C27=Funktioner!$A$70,Funktioner!$B$70,IF($C27=Funktioner!$A$71,Funktioner!$B$71,IF($C27=Funktioner!$A$72,Funktioner!$B$72,IF($C27=Funktioner!$A$73,Funktioner!$B$73,IF($C27=Funktioner!$A$74,Funktioner!$B$74,IF($C27=Funktioner!$A$75,Funktioner!$B$75,IF($C27=Funktioner!$A$76,Funktioner!$B$76,IF($C27=Funktioner!$A$77,Funktioner!$B$77,IF($C27=Funktioner!$A$78,Funktioner!$B$78,IF($C27=Funktioner!$A$79,Funktioner!$B$79,IF($C27=Funktioner!$A$80,Funktioner!$B$80,IF($C27=Funktioner!$A$81,Funktioner!$B$81,IF($C27=Funktioner!$A$82,Funktioner!$B$82,IF($C27=Funktioner!$A$83,Funktioner!$B$83,IF($C27=Funktioner!$A$84,Funktioner!$B$84,IF($C27=Funktioner!$A$85,Funktioner!$B$85,IF($C27=Funktioner!$A$86,Funktioner!$B$86,IF($C27=Funktioner!$A$87,Funktioner!$B$87,IF($C27=Funktioner!$A$88,Funktioner!$B$88,IF($C27=Funktioner!$A$89,Funktioner!$B$89,IF($C27=Funktioner!$A$90,Funktioner!$B$90,IF($C27=Funktioner!$A$91,Funktioner!$B$91,IF($C27=Funktioner!$A$92,Funktioner!$B$92,IF($C27=Funktioner!$A$93,Funktioner!$B$93,IF($C27=Funktioner!$A$94,Funktioner!$B$94,IF($C27=Funktioner!$A$95,Funktioner!$B$95,IF($C27=Funktioner!$A$96,Funktioner!$B$96,IF($C27=Funktioner!$A$97,Funktioner!$B$97,IF($C27=Funktioner!$A$98,Funktioner!$B$98,IF($C27=Funktioner!$A$99,Funktioner!$B$99,IF($C27=Funktioner!$A$100,Funktioner!$B$100,IF($C27=Funktioner!$A$101,Funktioner!$B$101,IF($C27=Funktioner!$A$102,Funktioner!$B$102,IF($C27=Funktioner!$A$103,Funktioner!$B$103,IF($C27=Funktioner!$A$104,Funktioner!$B$104,\"\"))))))))))))))))))))))))))))))))))))))))))))))))","v":""},null,null,{"$f":"IF($G27=\"\",\"\",IF($N27=0,\"\",Funktioner!L195&\" SEK /\"&Funktioner!J124))","v":""},{"$f":"IF($G27=\"\",\"\",IF($N27=\"\",\"\",Funktioner!M195))","v":""},{"$f":"IF($G27=\"\",\"\",IF($N27=\"\",\"\",Funktioner!N195))","v":""},{"$f":"IF($G27=\"\",\"\",IF($N27=\"\",\"\",Funktioner!O195))","v":""},{"$f":"IF($G27=\"\",\"\",IF($N27=\"\",\"\",HYPERLINK(Funktioner!P195)))","v":""},{"$f":"IF($G27=\"\",\"\",IF($N27=\"\",\"\",Funktioner!Q195))","v":""},{"$f":"IF($G27=\"\",\"\",IF(Funktioner!T195=0,\"\",Funktioner!T195))","v":""},{"$f":"IF($G27=\"\",\"\",IF($N27=\"\",\"\",Funktioner!S195))","v":""}]
[{"$f":"IFERROR(IF($C28=Funktioner!$A$7,1,IF($C28=Funktioner!$A$8,2,IF($C28=Funktioner!$A$9,3,IF($C28=Funktioner!$A$10,4,IF($C28=Funktioner!$B$7,5,IF($C28=Funktioner!$B$8,7,IF($C28=Funktioner!$B$9,8,IF($C28=Funktioner!$C$7,9,IF($C28=Funktioner!$C$8,10,IF($C28=Funktioner!$C$9,11,IF($C28=Funktioner!$C$10,12,IF($C28=Funktioner!$C$11,13,IF($C28=Funktioner!$C$12,14,IF($C28=Funktioner!$D$7,15,IF($C28=Funktioner!$D$8,16,IF($C28=Funktioner!$D$9,17,IF($C28=Funktioner!$E$7,18,IF($C28=Funktioner!$F$7,19,IF($C28=Funktioner!$F$8,20,IF($C28=Funktioner!$F$9,21,IF($C28=Funktioner!$G$7,22,IF($C28=Funktioner!$G$8,23,IF($C28=Funktioner!$G$9,24,IF($C28=Funktioner!$G$10,25,IF($C28=Funktioner!$G$11,26,IF($C28=Funktioner!$H$7,27,IF($C28=Funktioner!$H$8,28,IF($C28=Funktioner!$I$7,29,IF($C28=Funktioner!$J$7,31,IF($C28=Funktioner!$J$8,32,IF($C28=Funktioner!$J$9,33,IF($C28=Funktioner!$K$7,34,IF($C28=Funktioner!$K$8,35,IF($C28=Funktioner!$K$9,36,IF($C28=Funktioner!$L$7,37,IF($C28=Funktioner!$L$8,38,IF($C28=Funktioner!$M$7,39,IF($C28=Funktioner!$M$8,40,IF($C28=Funktioner!$N$7,41,IF($C28=Funktioner!$O$7,42,IF($C28=Funktioner!$P$7,43,IF($C28=Funktioner!$Q$7,44,IF($C28=Funktioner!$Q$8,45,IF($C28=Funktioner!$R$7,46,IF($C28=Funktioner!$R$8,47,IF($C28=Funktioner!$R$9,48,\"\")))))))))))))))))))))))))))))))))))))))))))))),\"\")","v":""},null,null,{"$f":"IF($A28=Funktioner!$B$1,IF(Funktioner!$B$2=\"\",\"\",Funktioner!$B$2),IF($A28=Funktioner!$C$1,IF(Funktioner!$C$2=\"\",\"\",Funktioner!$C$2),IF($A28=Funktioner!$D$1,IF(Funktioner!$D$2=\"\",\"\",Funktioner!$D$2),IF($A28=Funktioner!$E$1,IF(Funktioner!$E$2=\"\",\"\",Funktioner!$E$2),IF($A28=Funktioner!$F$1,IF(Funktioner!$F$2=\"\",\"\",Funktioner!$F$2),IF($A28=Funktioner!$G$1,IF(Funktioner!$G$2=\"\",\"\",Funktioner!$G$2),IF($A28=Funktioner!$H$1,IF(Funktioner!$H$2=\"\",\"\",Funktioner!$H$2),IF($A28=Funktioner!$I$1,IF(Funktioner!$I$2=\"\",\"\",Funktioner!$I$2),IF($A28=Funktioner!$J$1,IF(Funktioner!$J$2=\"\",\"\",Funktioner!$J$2),IF($A28=Funktioner!$K$1,IF(Funktioner!$K$2=\"\",\"\",Funktioner!$K$2),IF($A28=Funktioner!$L$1,IF(Funktioner!$L$2=\"\",\"\",Funktioner!$L$2),IF($A28=Funktioner!$M$1,IF(Funktioner!$M$2=\"\",\"\",Funktioner!$M$2),IF($A28=Funktioner!$N$1,IF(Funktioner!$N$2=\"\",\"\",Funktioner!$N$2),IF($A28=Funktioner!$O$1,IF(Funktioner!$O$2=\"\",\"\",Funktioner!$O$2),IF($A28=Funktioner!$P$1,IF(Funktioner!$P$2=\"\",\"\",Funktioner!$P$2),IF($A28=Funktioner!$Q$1,IF(Funktioner!$Q$2=\"\",\"\",Funktioner!$Q$2),IF($A28=Funktioner!$R$1,IF(Funktioner!$R$2=\"\",\"\",Funktioner!$R$2),IF($A28=Funktioner!$S$1,IF(Funktioner!$S$2=\"\",\"\",Funktioner!$S$2),IF($A28=Funktioner!$T$1,IF(Funktioner!$T$2=\"\",\"\",Funktioner!$T$2),IF($A28=Funktioner!$U$1,IF(Funktioner!$U$2=\"\",\"\",Funktioner!$U$2),IF($A28=Funktioner!$V$1,IF(Funktioner!$V$2=\"\",\"\",Funktioner!$V$2),IF($A28=Funktioner!$W$1,IF(Funktioner!$W$2=\"\",\"\",Funktioner!$W$2),IF($A28=Funktioner!$X$1,IF(Funktioner!$X$2=\"\",\"\",Funktioner!$X$2),IF($A28=Funktioner!$Y$1,IF(Funktioner!$Y$2=\"\",\"\",Funktioner!$Y$2),IF($A28=Funktioner!$Z$1,IF(Funktioner!$Z$2=\"\",\"\",Funktioner!$Z$2),IF($A28=Funktioner!$AA$1,IF(Funktioner!$AA$2=\"\",\"\",Funktioner!$AA$2),IF($A28=Funktioner!$AB$1,IF(Funktioner!$AB$2=\"\",\"\",Funktioner!$AB$2),IF($A28=Funktioner!$AC$1,IF(Funktioner!$AC$2=\"\",\"\",Funktioner!$AC$2),IF($A28=Funktioner!$AD$1,IF(Funktioner!$AD$2=\"\",\"\",Funktioner!$AD$2),IF($A28=Funktioner!$AE$1,IF(Funktioner!$AE$2=\"\",\"\",Funktioner!$AE$2),IF($A28=Funktioner!$AF$1,IF(Funktioner!$AF$2=\"\",\"\",Funktioner!$AF$2),IF($A28=Funktioner!$AG$1,IF(Funktioner!$AG$2=\"\",\"\",Funktioner!$AG$2),IF($A28=Funktioner!$AH$1,IF(Funktioner!$AH$2=\"\",\"\",Funktioner!$AH$2),IF($A28=Funktioner!$AI$1,IF(Funktioner!$AI$2=\"\",\"\",Funktioner!$AI$2),IF($A28=Funktioner!$AJ$1,IF(Funktioner!$AJ$2=\"\",\"\",Funktioner!$AJ$2),IF($A28=Funktioner!$AK$1,IF(Funktioner!$AK$2=\"\",\"\",Funktioner!$AK$2),IF($A28=Funktioner!$AL$1,IF(Funktioner!$AL$2=\"\",\"\",Funktioner!$AL$2),IF($A28=Funktioner!$AM$1,IF(Funktioner!$AM$2=\"\",\"\",Funktioner!$AM$2),IF($A28=Funktioner!$AN$1,IF(Funktioner!$AN$2=\"\",\"\",Funktioner!$AN$2),IF($A28=Funktioner!$AO$1,IF(Funktioner!$AO$2=\"\",\"\",Funktioner!$AO$2),IF($A28=Funktioner!$AP$1,IF(Funktioner!$AP$2=\"\",\"\",Funktioner!$AP$2),IF($A28=Funktioner!$AQ$1,IF(Funktioner!$AQ$2=\"\",\"\",Funktioner!$AQ$2),IF($A28=Funktioner!$AR$1,IF(Funktioner!$AR$2=\"\",\"\",Funktioner!$AR$2),IF($A28=Funktioner!$AS$1,IF(Funktioner!$AS$2=\"\",\"\",Funktioner!$AS$2),IF($A28=Funktioner!$AT$1,IF(Funktioner!$AT$2=\"\",\"\",Funktioner!$AT$2),IF($A28=Funktioner!$AU$1,IF(Funktioner!$AU$2=\"\",\"\",Funktioner!$AU$2),IF($A28=Funktioner!$AV$1,IF(Funktioner!$AV$2=\"\",\"\",Funktioner!$AV$2),IF($A28=Funktioner!$AW$1,IF(Funktioner!$AW$2=\"\",\"\",Funktioner!$AW$2),\"\"))))))))))))))))))))))))))))))))))))))))))))))))","v":""},{"$f":"IF($C28=Funktioner!$A$57,Funktioner!$B$57,IF($C28=Funktioner!$A$58,Funktioner!$B$58,IF($C28=Funktioner!$A$59,Funktioner!$B$59,IF($C28=Funktioner!$A$60,Funktioner!$B$60,IF($C28=Funktioner!$A$61,Funktioner!$B$61,IF($C28=Funktioner!$A$62,Funktioner!$B$62,IF($C28=Funktioner!$A$63,Funktioner!$B$63,IF($C28=Funktioner!$A$64,Funktioner!$B$64,IF($C28=Funktioner!$A$65,Funktioner!$B$65,IF($C28=Funktioner!$A$66,Funktioner!$B$66,IF($C28=Funktioner!$A$67,Funktioner!$B$67,IF($C28=Funktioner!$A$68,Funktioner!$B$68,IF($C28=Funktioner!$A$69,Funktioner!$B$69,IF($C28=Funktioner!$A$70,Funktioner!$B$70,IF($C28=Funktioner!$A$71,Funktioner!$B$71,IF($C28=Funktioner!$A$72,Funktioner!$B$72,IF($C28=Funktioner!$A$73,Funktioner!$B$73,IF($C28=Funktioner!$A$74,Funktioner!$B$74,IF($C28=Funktioner!$A$75,Funktioner!$B$75,IF($C28=Funktioner!$A$76,Funktioner!$B$76,IF($C28=Funktioner!$A$77,Funktioner!$B$77,IF($C28=Funktioner!$A$78,Funktioner!$B$78,IF($C28=Funktioner!$A$79,Funktioner!$B$79,IF($C28=Funktioner!$A$80,Funktioner!$B$80,IF($C28=Funktioner!$A$81,Funktioner!$B$81,IF($C28=Funktioner!$A$82,Funktioner!$B$82,IF($C28=Funktioner!$A$83,Funktioner!$B$83,IF($C28=Funktioner!$A$84,Funktioner!$B$84,IF($C28=Funktioner!$A$85,Funktioner!$B$85,IF($C28=Funktioner!$A$86,Funktioner!$B$86,IF($C28=Funktioner!$A$87,Funktioner!$B$87,IF($C28=Funktioner!$A$88,Funktioner!$B$88,IF($C28=Funktioner!$A$89,Funktioner!$B$89,IF($C28=Funktioner!$A$90,Funktioner!$B$90,IF($C28=Funktioner!$A$91,Funktioner!$B$91,IF($C28=Funktioner!$A$92,Funktioner!$B$92,IF($C28=Funktioner!$A$93,Funktioner!$B$93,IF($C28=Funktioner!$A$94,Funktioner!$B$94,IF($C28=Funktioner!$A$95,Funktioner!$B$95,IF($C28=Funktioner!$A$96,Funktioner!$B$96,IF($C28=Funktioner!$A$97,Funktioner!$B$97,IF($C28=Funktioner!$A$98,Funktioner!$B$98,IF($C28=Funktioner!$A$99,Funktioner!$B$99,IF($C28=Funktioner!$A$100,Funktioner!$B$100,IF($C28=Funktioner!$A$101,Funktioner!$B$101,IF($C28=Funktioner!$A$102,Funktioner!$B$102,IF($C28=Funktioner!$A$103,Funktioner!$B$103,IF($C28=Funktioner!$A$104,Funktioner!$B$104,\"\"))))))))))))))))))))))))))))))))))))))))))))))))","v":""},null,null,{"$f":"IF($G28=\"\",\"\",IF($N28=0,\"\",Funktioner!L196&\" SEK /\"&Funktioner!J125))","v":""},{"$f":"IF($G28=\"\",\"\",IF($N28=\"\",\"\",Funktioner!M196))","v":""},{"$f":"IF($G28=\"\",\"\",IF($N28=\"\",\"\",Funktioner!N196))","v":""},{"$f":"IF($G28=\"\",\"\",IF($N28=\"\",\"\",Funktioner!O196))","v":""},{"$f":"IF($G28=\"\",\"\",IF($N28=\"\",\"\",HYPERLINK(Funktioner!P196)))","v":""},{"$f":"IF($G28=\"\",\"\",IF($N28=\"\",\"\",Funktioner!Q196))","v":""},{"$f":"IF($G28=\"\",\"\",IF(Funktioner!T196=0,\"\",Funktioner!T196))","v":""},{"$f":"IF($G28=\"\",\"\",IF($N28=\"\",\"\",Funktioner!S196))","v":""}]
[{"$f":"IFERROR(IF($C29=Funktioner!$A$7,1,IF($C29=Funktioner!$A$8,2,IF($C29=Funktioner!$A$9,3,IF($C29=Funktioner!$A$10,4,IF($C29=Funktioner!$B$7,5,IF($C29=Funktioner!$B$8,7,IF($C29=Funktioner!$B$9,8,IF($C29=Funktioner!$C$7,9,IF($C29=Funktioner!$C$8,10,IF($C29=Funktioner!$C$9,11,IF($C29=Funktioner!$C$10,12,IF($C29=Funktioner!$C$11,13,IF($C29=Funktioner!$C$12,14,IF($C29=Funktioner!$D$7,15,IF($C29=Funktioner!$D$8,16,IF($C29=Funktioner!$D$9,17,IF($C29=Funktioner!$E$7,18,IF($C29=Funktioner!$F$7,19,IF($C29=Funktioner!$F$8,20,IF($C29=Funktioner!$F$9,21,IF($C29=Funktioner!$G$7,22,IF($C29=Funktioner!$G$8,23,IF($C29=Funktioner!$G$9,24,IF($C29=Funktioner!$G$10,25,IF($C29=Funktioner!$G$11,26,IF($C29=Funktioner!$H$7,27,IF($C29=Funktioner!$H$8,28,IF($C29=Funktioner!$I$7,29,IF($C29=Funktioner!$J$7,31,IF($C29=Funktioner!$J$8,32,IF($C29=Funktioner!$J$9,33,IF($C29=Funktioner!$K$7,34,IF($C29=Funktioner!$K$8,35,IF($C29=Funktioner!$K$9,36,IF($C29=Funktioner!$L$7,37,IF($C29=Funktioner!$L$8,38,IF($C29=Funktioner!$M$7,39,IF($C29=Funktioner!$M$8,40,IF($C29=Funktioner!$N$7,41,IF($C29=Funktioner!$O$7,42,IF($C29=Funktioner!$P$7,43,IF($C29=Funktioner!$Q$7,44,IF($C29=Funktioner!$Q$8,45,IF($C29=Funktioner!$R$7,46,IF($C29=Funktioner!$R$8,47,IF($C29=Funktioner!$R$9,48,\"\")))))))))))))))))))))))))))))))))))))))))))))),\"\")","v":""},null,null,{"$f":"IF($A29=Funktioner!$B$1,IF(Funktioner!$B$2=\"\",\"\",Funktioner!$B$2),IF($A29=Funktioner!$C$1,IF(Funktioner!$C$2=\"\",\"\",Funktioner!$C$2),IF($A29=Funktioner!$D$1,IF(Funktioner!$D$2=\"\",\"\",Funktioner!$D$2),IF($A29=Funktioner!$E$1,IF(Funktioner!$E$2=\"\",\"\",Funktioner!$E$2),IF($A29=Funktioner!$F$1,IF(Funktioner!$F$2=\"\",\"\",Funktioner!$F$2),IF($A29=Funktioner!$G$1,IF(Funktioner!$G$2=\"\",\"\",Funktioner!$G$2),IF($A29=Funktioner!$H$1,IF(Funktioner!$H$2=\"\",\"\",Funktioner!$H$2),IF($A29=Funktioner!$I$1,IF(Funktioner!$I$2=\"\",\"\",Funktioner!$I$2),IF($A29=Funktioner!$J$1,IF(Funktioner!$J$2=\"\",\"\",Funktioner!$J$2),IF($A29=Funktioner!$K$1,IF(Funktioner!$K$2=\"\",\"\",Funktioner!$K$2),IF($A29=Funktioner!$L$1,IF(Funktioner!$L$2=\"\",\"\",Funktioner!$L$2),IF($A29=Funktioner!$M$1,IF(Funktioner!$M$2=\"\",\"\",Funktioner!$M$2),IF($A29=Funktioner!$N$1,IF(Funktioner!$N$2=\"\",\"\",Funktioner!$N$2),IF($A29=Funktioner!$O$1,IF(Funktioner!$O$2=\"\",\"\",Funktioner!$O$2),IF($A29=Funktioner!$P$1,IF(Funktioner!$P$2=\"\",\"\",Funktioner!$P$2),IF($A29=Funktioner!$Q$1,IF(Funktioner!$Q$2=\"\",\"\",Funktioner!$Q$2),IF($A29=Funktioner!$R$1,IF(Funktioner!$R$2=\"\",\"\",Funktioner!$R$2),IF($A29=Funktioner!$S$1,IF(Funktioner!$S$2=\"\",\"\",Funktioner!$S$2),IF($A29=Funktioner!$T$1,IF(Funktioner!$T$2=\"\",\"\",Funktioner!$T$2),IF($A29=Funktioner!$U$1,IF(Funktioner!$U$2=\"\",\"\",Funktioner!$U$2),IF($A29=Funktioner!$V$1,IF(Funktioner!$V$2=\"\",\"\",Funktioner!$V$2),IF($A29=Funktioner!$W$1,IF(Funktioner!$W$2=\"\",\"\",Funktioner!$W$2),IF($A29=Funktioner!$X$1,IF(Funktioner!$X$2=\"\",\"\",Funktioner!$X$2),IF($A29=Funktioner!$Y$1,IF(Funktioner!$Y$2=\"\",\"\",Funktioner!$Y$2),IF($A29=Funktioner!$Z$1,IF(Funktioner!$Z$2=\"\",\"\",Funktioner!$Z$2),IF($A29=Funktioner!$AA$1,IF(Funktioner!$AA$2=\"\",\"\",Funktioner!$AA$2),IF($A29=Funktioner!$AB$1,IF(Funktioner!$AB$2=\"\",\"\",Funktioner!$AB$2),IF($A29=Funktioner!$AC$1,IF(Funktioner!$AC$2=\"\",\"\",Funktioner!$AC$2),IF($A29=Funktioner!$AD$1,IF(Funktioner!$AD$2=\"\",\"\",Funktioner!$AD$2),IF($A29=Funktioner!$AE$1,IF(Funktioner!$AE$2=\"\",\"\",Funktioner!$AE$2),IF($A29=Funktioner!$AF$1,IF(Funktioner!$AF$2=\"\",\"\",Funktioner!$AF$2),IF($A29=Funktioner!$AG$1,IF(Funktioner!$AG$2=\"\",\"\",Funktioner!$AG$2),IF($A29=Funktioner!$AH$1,IF(Funktioner!$AH$2=\"\",\"\",Funktioner!$AH$2),IF($A29=Funktioner!$AI$1,IF(Funktioner!$AI$2=\"\",\"\",Funktioner!$AI$2),IF($A29=Funktioner!$AJ$1,IF(Funktioner!$AJ$2=\"\",\"\",Funktioner!$AJ$2),IF($A29=Funktioner!$AK$1,IF(Funktioner!$AK$2=\"\",\"\",Funktioner!$AK$2),IF($A29=Funktioner!$AL$1,IF(Funktioner!$AL$2=\"\",\"\",Funktioner!$AL$2),IF($A29=Funktioner!$AM$1,IF(Funktioner!$AM$2=\"\",\"\",Funktioner!$AM$2),IF($A29=Funktioner!$AN$1,IF(Funktioner!$AN$2=\"\",\"\",Funktioner!$AN$2),IF($A29=Funktioner!$AO$1,IF(Funktioner!$AO$2=\"\",\"\",Funktioner!$AO$2),IF($A29=Funktioner!$AP$1,IF(Funktioner!$AP$2=\"\",\"\",Funktioner!$AP$2),IF($A29=Funktioner!$AQ$1,IF(Funktioner!$AQ$2=\"\",\"\",Funktioner!$AQ$2),IF($A29=Funktioner!$AR$1,IF(Funktioner!$AR$2=\"\",\"\",Funktioner!$AR$2),IF($A29=Funktioner!$AS$1,IF(Funktioner!$AS$2=\"\",\"\",Funktioner!$AS$2),IF($A29=Funktioner!$AT$1,IF(Funktioner!$AT$2=\"\",\"\",Funktioner!$AT$2),IF($A29=Funktioner!$AU$1,IF(Funktioner!$AU$2=\"\",\"\",Funktioner!$AU$2),IF($A29=Funktioner!$AV$1,IF(Funktioner!$AV$2=\"\",\"\",Funktioner!$AV$2),IF($A29=Funktioner!$AW$1,IF(Funktioner!$AW$2=\"\",\"\",Funktioner!$AW$2),\"\"))))))))))))))))))))))))))))))))))))))))))))))))","v":""},{"$f":"IF($C29=Funktioner!$A$57,Funktioner!$B$57,IF($C29=Funktioner!$A$58,Funktioner!$B$58,IF($C29=Funktioner!$A$59,Funktioner!$B$59,IF($C29=Funktioner!$A$60,Funktioner!$B$60,IF($C29=Funktioner!$A$61,Funktioner!$B$61,IF($C29=Funktioner!$A$62,Funktioner!$B$62,IF($C29=Funktioner!$A$63,Funktioner!$B$63,IF($C29=Funktioner!$A$64,Funktioner!$B$64,IF($C29=Funktioner!$A$65,Funktioner!$B$65,IF($C29=Funktioner!$A$66,Funktioner!$B$66,IF($C29=Funktioner!$A$67,Funktioner!$B$67,IF($C29=Funktioner!$A$68,Funktioner!$B$68,IF($C29=Funktioner!$A$69,Funktioner!$B$69,IF($C29=Funktioner!$A$70,Funktioner!$B$70,IF($C29=Funktioner!$A$71,Funktioner!$B$71,IF($C29=Funktioner!$A$72,Funktioner!$B$72,IF($C29=Funktioner!$A$73,Funktioner!$B$73,IF($C29=Funktioner!$A$74,Funktioner!$B$74,IF($C29=Funktioner!$A$75,Funktioner!$B$75,IF($C29=Funktioner!$A$76,Funktioner!$B$76,IF($C29=Funktioner!$A$77,Funktioner!$B$77,IF($C29=Funktioner!$A$78,Funktioner!$B$78,IF($C29=Funktioner!$A$79,Funktioner!$B$79,IF($C29=Funktioner!$A$80,Funktioner!$B$80,IF($C29=Funktioner!$A$81,Funktioner!$B$81,IF($C29=Funktioner!$A$82,Funktioner!$B$82,IF($C29=Funktioner!$A$83,Funktioner!$B$83,IF($C29=Funktioner!$A$84,Funktioner!$B$84,IF($C29=Funktioner!$A$85,Funktioner!$B$85,IF($C29=Funktioner!$A$86,Funktioner!$B$86,IF($C29=Funktioner!$A$87,Funktioner!$B$87,IF($C29=Funktioner!$A$88,Funktioner!$B$88,IF($C29=Funktioner!$A$89,Funktioner!$B$89,IF($C29=Funktioner!$A$90,Funktioner!$B$90,IF($C29=Funktioner!$A$91,Funktioner!$B$91,IF($C29=Funktioner!$A$92,Funktioner!$B$92,IF($C29=Funktioner!$A$93,Funktioner!$B$93,IF($C29=Funktioner!$A$94,Funktioner!$B$94,IF($C29=Funktioner!$A$95,Funktioner!$B$95,IF($C29=Funktioner!$A$96,Funktioner!$B$96,IF($C29=Funktioner!$A$97,Funktioner!$B$97,IF($C29=Funktioner!$A$98,Funktioner!$B$98,IF($C29=Funktioner!$A$99,Funktioner!$B$99,IF($C29=Funktioner!$A$100,Funktioner!$B$100,IF($C29=Funktioner!$A$101,Funktioner!$B$101,IF($C29=Funktioner!$A$102,Funktioner!$B$102,IF($C29=Funktioner!$A$103,Funktioner!$B$103,IF($C29=Funktioner!$A$104,Funktioner!$B$104,\"\"))))))))))))))))))))))))))))))))))))))))))))))))","v":""},null,null,{"$f":"IF($G29=\"\",\"\",IF($N29=0,\"\",Funktioner!L197&\" SEK /\"&Funktioner!J126))","v":""},{"$f":"IF($G29=\"\",\"\",IF($N29=\"\",\"\",Funktioner!M197))","v":""},{"$f":"IF($G29=\"\",\"\",IF($N29=\"\",\"\",Funktioner!N197))","v":""},{"$f":"IF($G29=\"\",\"\",IF($N29=\"\",\"\",Funktioner!O197))","v":""},{"$f":"IF($G29=\"\",\"\",IF($N29=\"\",\"\",HYPERLINK(Funktioner!P197)))","v":""},{"$f":"IF($G29=\"\",\"\",IF($N29=\"\",\"\",Funktioner!Q197))","v":""},{"$f":"IF($G29=\"\",\"\",IF(Funktioner!T197=0,\"\",Funktioner!T197))","v":""},{"$f":"IF($G29=\"\",\"\",IF($N29=\"\",\"\",Funktioner!S197))","v":""}]
[{"$f":"IFERROR(IF($C30=Funktioner!$A$7,1,IF($C30=Funktioner!$A$8,2,IF($C30=Funktioner!$A$9,3,IF($C30=Funktioner!$A$10,4,IF($C30=Funktioner!$B$7,5,IF($C30=Funktioner!$B$8,7,IF($C30=Funktioner!$B$9,8,IF($C30=Funktioner!$C$7,9,IF($C30=Funktioner!$C$8,10,IF($C30=Funktioner!$C$9,11,IF($C30=Funktioner!$C$10,12,IF($C30=Funktioner!$C$11,13,IF($C30=Funktioner!$C$12,14,IF($C30=Funktioner!$D$7,15,IF($C30=Funktioner!$D$8,16,IF($C30=Funktioner!$D$9,17,IF($C30=Funktioner!$E$7,18,IF($C30=Funktioner!$F$7,19,IF($C30=Funktioner!$F$8,20,IF($C30=Funktioner!$F$9,21,IF($C30=Funktioner!$G$7,22,IF($C30=Funktioner!$G$8,23,IF($C30=Funktioner!$G$9,24,IF($C30=Funktioner!$G$10,25,IF($C30=Funktioner!$G$11,26,IF($C30=Funktioner!$H$7,27,IF($C30=Funktioner!$H$8,28,IF($C30=Funktioner!$I$7,29,IF($C30=Funktioner!$J$7,31,IF($C30=Funktioner!$J$8,32,IF($C30=Funktioner!$J$9,33,IF($C30=Funktioner!$K$7,34,IF($C30=Funktioner!$K$8,35,IF($C30=Funktioner!$K$9,36,IF($C30=Funktioner!$L$7,37,IF($C30=Funktioner!$L$8,38,IF($C30=Funktioner!$M$7,39,IF($C30=Funktioner!$M$8,40,IF($C30=Funktioner!$N$7,41,IF($C30=Funktioner!$O$7,42,IF($C30=Funktioner!$P$7,43,IF($C30=Funktioner!$Q$7,44,IF($C30=Funktioner!$Q$8,45,IF($C30=Funktioner!$R$7,46,IF($C30=Funktioner!$R$8,47,IF($C30=Funktioner!$R$9,48,\"\")))))))))))))))))))))))))))))))))))))))))))))),\"\")","v":""},null,null,{"$f":"IF($A30=Funktioner!$B$1,IF(Funktioner!$B$2=\"\",\"\",Funktioner!$B$2),IF($A30=Funktioner!$C$1,IF(Funktioner!$C$2=\"\",\"\",Funktioner!$C$2),IF($A30=Funktioner!$D$1,IF(Funktioner!$D$2=\"\",\"\",Funktioner!$D$2),IF($A30=Funktioner!$E$1,IF(Funktioner!$E$2=\"\",\"\",Funktioner!$E$2),IF($A30=Funktioner!$F$1,IF(Funktioner!$F$2=\"\",\"\",Funktioner!$F$2),IF($A30=Funktioner!$G$1,IF(Funktioner!$G$2=\"\",\"\",Funktioner!$G$2),IF($A30=Funktioner!$H$1,IF(Funktioner!$H$2=\"\",\"\",Funktioner!$H$2),IF($A30=Funktioner!$I$1,IF(Funktioner!$I$2=\"\",\"\",Funktioner!$I$2),IF($A30=Funktioner!$J$1,IF(Funktioner!$J$2=\"\",\"\",Funktioner!$J$2),IF($A30=Funktioner!$K$1,IF(Funktioner!$K$2=\"\",\"\",Funktioner!$K$2),IF($A30=Funktioner!$L$1,IF(Funktioner!$L$2=\"\",\"\",Funktioner!$L$2),IF($A30=Funktioner!$M$1,IF(Funktioner!$M$2=\"\",\"\",Funktioner!$M$2),IF($A30=Funktioner!$N$1,IF(Funktioner!$N$2=\"\",\"\",Funktioner!$N$2),IF($A30=Funktioner!$O$1,IF(Funktioner!$O$2=\"\",\"\",Funktioner!$O$2),IF($A30=Funktioner!$P$1,IF(Funktioner!$P$2=\"\",\"\",Funktioner!$P$2),IF($A30=Funktioner!$Q$1,IF(Funktioner!$Q$2=\"\",\"\",Funktioner!$Q$2),IF($A30=Funktioner!$R$1,IF(Funktioner!$R$2=\"\",\"\",Funktioner!$R$2),IF($A30=Funktioner!$S$1,IF(Funktioner!$S$2=\"\",\"\",Funktioner!$S$2),IF($A30=Funktioner!$T$1,IF(Funktioner!$T$2=\"\",\"\",Funktioner!$T$2),IF($A30=Funktioner!$U$1,IF(Funktioner!$U$2=\"\",\"\",Funktioner!$U$2),IF($A30=Funktioner!$V$1,IF(Funktioner!$V$2=\"\",\"\",Funktioner!$V$2),IF($A30=Funktioner!$W$1,IF(Funktioner!$W$2=\"\",\"\",Funktioner!$W$2),IF($A30=Funktioner!$X$1,IF(Funktioner!$X$2=\"\",\"\",Funktioner!$X$2),IF($A30=Funktioner!$Y$1,IF(Funktioner!$Y$2=\"\",\"\",Funktioner!$Y$2),IF($A30=Funktioner!$Z$1,IF(Funktioner!$Z$2=\"\",\"\",Funktioner!$Z$2),IF($A30=Funktioner!$AA$1,IF(Funktioner!$AA$2=\"\",\"\",Funktioner!$AA$2),IF($A30=Funktioner!$AB$1,IF(Funktioner!$AB$2=\"\",\"\",Funktioner!$AB$2),IF($A30=Funktioner!$AC$1,IF(Funktioner!$AC$2=\"\",\"\",Funktioner!$AC$2),IF($A30=Funktioner!$AD$1,IF(Funktioner!$AD$2=\"\",\"\",Funktioner!$AD$2),IF($A30=Funktioner!$AE$1,IF(Funktioner!$AE$2=\"\",\"\",Funktioner!$AE$2),IF($A30=Funktioner!$AF$1,IF(Funktioner!$AF$2=\"\",\"\",Funktioner!$AF$2),IF($A30=Funktioner!$AG$1,IF(Funktioner!$AG$2=\"\",\"\",Funktioner!$AG$2),IF($A30=Funktioner!$AH$1,IF(Funktioner!$AH$2=\"\",\"\",Funktioner!$AH$2),IF($A30=Funktioner!$AI$1,IF(Funktioner!$AI$2=\"\",\"\",Funktioner!$AI$2),IF($A30=Funktioner!$AJ$1,IF(Funktioner!$AJ$2=\"\",\"\",Funktioner!$AJ$2),IF($A30=Funktioner!$AK$1,IF(Funktioner!$AK$2=\"\",\"\",Funktioner!$AK$2),IF($A30=Funktioner!$AL$1,IF(Funktioner!$AL$2=\"\",\"\",Funktioner!$AL$2),IF($A30=Funktioner!$AM$1,IF(Funktioner!$AM$2=\"\",\"\",Funktioner!$AM$2),IF($A30=Funktioner!$AN$1,IF(Funktioner!$AN$2=\"\",\"\",Funktioner!$AN$2),IF($A30=Funktioner!$AO$1,IF(Funktioner!$AO$2=\"\",\"\",Funktioner!$AO$2),IF($A30=Funktioner!$AP$1,IF(Funktioner!$AP$2=\"\",\"\",Funktioner!$AP$2),IF($A30=Funktioner!$AQ$1,IF(Funktioner!$AQ$2=\"\",\"\",Funktioner!$AQ$2),IF($A30=Funktioner!$AR$1,IF(Funktioner!$AR$2=\"\",\"\",Funktioner!$AR$2),IF($A30=Funktioner!$AS$1,IF(Funktioner!$AS$2=\"\",\"\",Funktioner!$AS$2),IF($A30=Funktioner!$AT$1,IF(Funktioner!$AT$2=\"\",\"\",Funktioner!$AT$2),IF($A30=Funktioner!$AU$1,IF(Funktioner!$AU$2=\"\",\"\",Funktioner!$AU$2),IF($A30=Funktioner!$AV$1,IF(Funktioner!$AV$2=\"\",\"\",Funktioner!$AV$2),IF($A30=Funktioner!$AW$1,IF(Funktioner!$AW$2=\"\",\"\",Funktioner!$AW$2),\"\"))))))))))))))))))))))))))))))))))))))))))))))))","v":""},{"$f":"IF($C30=Funktioner!$A$57,Funktioner!$B$57,IF($C30=Funktioner!$A$58,Funktioner!$B$58,IF($C30=Funktioner!$A$59,Funktioner!$B$59,IF($C30=Funktioner!$A$60,Funktioner!$B$60,IF($C30=Funktioner!$A$61,Funktioner!$B$61,IF($C30=Funktioner!$A$62,Funktioner!$B$62,IF($C30=Funktioner!$A$63,Funktioner!$B$63,IF($C30=Funktioner!$A$64,Funktioner!$B$64,IF($C30=Funktioner!$A$65,Funktioner!$B$65,IF($C30=Funktioner!$A$66,Funktioner!$B$66,IF($C30=Funktioner!$A$67,Funktioner!$B$67,IF($C30=Funktioner!$A$68,Funktioner!$B$68,IF($C30=Funktioner!$A$69,Funktioner!$B$69,IF($C30=Funktioner!$A$70,Funktioner!$B$70,IF($C30=Funktioner!$A$71,Funktioner!$B$71,IF($C30=Funktioner!$A$72,Funktioner!$B$72,IF($C30=Funktioner!$A$73,Funktioner!$B$73,IF($C30=Funktioner!$A$74,Funktioner!$B$74,IF($C30=Funktioner!$A$75,Funktioner!$B$75,IF($C30=Funktioner!$A$76,Funktioner!$B$76,IF($C30=Funktioner!$A$77,Funktioner!$B$77,IF($C30=Funktioner!$A$78,Funktioner!$B$78,IF($C30=Funktioner!$A$79,Funktioner!$B$79,IF($C30=Funktioner!$A$80,Funktioner!$B$80,IF($C30=Funktioner!$A$81,Funktioner!$B$81,IF($C30=Funktioner!$A$82,Funktioner!$B$82,IF($C30=Funktioner!$A$83,Funktioner!$B$83,IF($C30=Funktioner!$A$84,Funktioner!$B$84,IF($C30=Funktioner!$A$85,Funktioner!$B$85,IF($C30=Funktioner!$A$86,Funktioner!$B$86,IF($C30=Funktioner!$A$87,Funktioner!$B$87,IF($C30=Funktioner!$A$88,Funktioner!$B$88,IF($C30=Funktioner!$A$89,Funktioner!$B$89,IF($C30=Funktioner!$A$90,Funktioner!$B$90,IF($C30=Funktioner!$A$91,Funktioner!$B$91,IF($C30=Funktioner!$A$92,Funktioner!$B$92,IF($C30=Funktioner!$A$93,Funktioner!$B$93,IF($C30=Funktioner!$A$94,Funktioner!$B$94,IF($C30=Funktioner!$A$95,Funktioner!$B$95,IF($C30=Funktioner!$A$96,Funktioner!$B$96,IF($C30=Funktioner!$A$97,Funktioner!$B$97,IF($C30=Funktioner!$A$98,Funktioner!$B$98,IF($C30=Funktioner!$A$99,Funktioner!$B$99,IF($C30=Funktioner!$A$100,Funktioner!$B$100,IF($C30=Funktioner!$A$101,Funktioner!$B$101,IF($C30=Funktioner!$A$102,Funktioner!$B$102,IF($C30=Funktioner!$A$103,Funktioner!$B$103,IF($C30=Funktioner!$A$104,Funktioner!$B$104,\"\"))))))))))))))))))))))))))))))))))))))))))))))))","v":""},null,null,{"$f":"IF($G30=\"\",\"\",IF($N30=0,\"\",Funktioner!L198&\" SEK /\"&Funktioner!J127))","v":""},{"$f":"IF($G30=\"\",\"\",IF($N30=\"\",\"\",Funktioner!M198))","v":""},{"$f":"IF($G30=\"\",\"\",IF($N30=\"\",\"\",Funktioner!N198))","v":""},{"$f":"IF($G30=\"\",\"\",IF($N30=\"\",\"\",Funktioner!O198))","v":""},{"$f":"IF($G30=\"\",\"\",IF($N30=\"\",\"\",HYPERLINK(Funktioner!P198)))","v":""},{"$f":"IF($G30=\"\",\"\",IF($N30=\"\",\"\",Funktioner!Q198))","v":""},{"$f":"IF($G30=\"\",\"\",IF(Funktioner!T198=0,\"\",Funktioner!T198))","v":""},{"$f":"IF($G30=\"\",\"\",IF($N30=\"\",\"\",Funktioner!S198))","v":""}]
[{"$f":"IFERROR(IF($C31=Funktioner!$A$7,1,IF($C31=Funktioner!$A$8,2,IF($C31=Funktioner!$A$9,3,IF($C31=Funktioner!$A$10,4,IF($C31=Funktioner!$B$7,5,IF($C31=Funktioner!$B$8,7,IF($C31=Funktioner!$B$9,8,IF($C31=Funktioner!$C$7,9,IF($C31=Funktioner!$C$8,10,IF($C31=Funktioner!$C$9,11,IF($C31=Funktioner!$C$10,12,IF($C31=Funktioner!$C$11,13,IF($C31=Funktioner!$C$12,14,IF($C31=Funktioner!$D$7,15,IF($C31=Funktioner!$D$8,16,IF($C31=Funktioner!$D$9,17,IF($C31=Funktioner!$E$7,18,IF($C31=Funktioner!$F$7,19,IF($C31=Funktioner!$F$8,20,IF($C31=Funktioner!$F$9,21,IF($C31=Funktioner!$G$7,22,IF($C31=Funktioner!$G$8,23,IF($C31=Funktioner!$G$9,24,IF($C31=Funktioner!$G$10,25,IF($C31=Funktioner!$G$11,26,IF($C31=Funktioner!$H$7,27,IF($C31=Funktioner!$H$8,28,IF($C31=Funktioner!$I$7,29,IF($C31=Funktioner!$J$7,31,IF($C31=Funktioner!$J$8,32,IF($C31=Funktioner!$J$9,33,IF($C31=Funktioner!$K$7,34,IF($C31=Funktioner!$K$8,35,IF($C31=Funktioner!$K$9,36,IF($C31=Funktioner!$L$7,37,IF($C31=Funktioner!$L$8,38,IF($C31=Funktioner!$M$7,39,IF($C31=Funktioner!$M$8,40,IF($C31=Funktioner!$N$7,41,IF($C31=Funktioner!$O$7,42,IF($C31=Funktioner!$P$7,43,IF($C31=Funktioner!$Q$7,44,IF($C31=Funktioner!$Q$8,45,IF($C31=Funktioner!$R$7,46,IF($C31=Funktioner!$R$8,47,IF($C31=Funktioner!$R$9,48,\"\")))))))))))))))))))))))))))))))))))))))))))))),\"\")","v":""},null,null,{"$f":"IF($A31=Funktioner!$B$1,IF(Funktioner!$B$2=\"\",\"\",Funktioner!$B$2),IF($A31=Funktioner!$C$1,IF(Funktioner!$C$2=\"\",\"\",Funktioner!$C$2),IF($A31=Funktioner!$D$1,IF(Funktioner!$D$2=\"\",\"\",Funktioner!$D$2),IF($A31=Funktioner!$E$1,IF(Funktioner!$E$2=\"\",\"\",Funktioner!$E$2),IF($A31=Funktioner!$F$1,IF(Funktioner!$F$2=\"\",\"\",Funktioner!$F$2),IF($A31=Funktioner!$G$1,IF(Funktioner!$G$2=\"\",\"\",Funktioner!$G$2),IF($A31=Funktioner!$H$1,IF(Funktioner!$H$2=\"\",\"\",Funktioner!$H$2),IF($A31=Funktioner!$I$1,IF(Funktioner!$I$2=\"\",\"\",Funktioner!$I$2),IF($A31=Funktioner!$J$1,IF(Funktioner!$J$2=\"\",\"\",Funktioner!$J$2),IF($A31=Funktioner!$K$1,IF(Funktioner!$K$2=\"\",\"\",Funktioner!$K$2),IF($A31=Funktioner!$L$1,IF(Funktioner!$L$2=\"\",\"\",Funktioner!$L$2),IF($A31=Funktioner!$M$1,IF(Funktioner!$M$2=\"\",\"\",Funktioner!$M$2),IF($A31=Funktioner!$N$1,IF(Funktioner!$N$2=\"\",\"\",Funktioner!$N$2),IF($A31=Funktioner!$O$1,IF(Funktioner!$O$2=\"\",\"\",Funktioner!$O$2),IF($A31=Funktioner!$P$1,IF(Funktioner!$P$2=\"\",\"\",Funktioner!$P$2),IF($A31=Funktioner!$Q$1,IF(Funktioner!$Q$2=\"\",\"\",Funktioner!$Q$2),IF($A31=Funktioner!$R$1,IF(Funktioner!$R$2=\"\",\"\",Funktioner!$R$2),IF($A31=Funktioner!$S$1,IF(Funktioner!$S$2=\"\",\"\",Funktioner!$S$2),IF($A31=Funktioner!$T$1,IF(Funktioner!$T$2=\"\",\"\",Funktioner!$T$2),IF($A31=Funktioner!$U$1,IF(Funktioner!$U$2=\"\",\"\",Funktioner!$U$2),IF($A31=Funktioner!$V$1,IF(Funktioner!$V$2=\"\",\"\",Funktioner!$V$2),IF($A31=Funktioner!$W$1,IF(Funktioner!$W$2=\"\",\"\",Funktioner!$W$2),IF($A31=Funktioner!$X$1,IF(Funktioner!$X$2=\"\",\"\",Funktioner!$X$2),IF($A31=Funktioner!$Y$1,IF(Funktioner!$Y$2=\"\",\"\",Funktioner!$Y$2),IF($A31=Funktioner!$Z$1,IF(Funktioner!$Z$2=\"\",\"\",Funktioner!$Z$2),IF($A31=Funktioner!$AA$1,IF(Funktioner!$AA$2=\"\",\"\",Funktioner!$AA$2),IF($A31=Funktioner!$AB$1,IF(Funktioner!$AB$2=\"\",\"\",Funktioner!$AB$2),IF($A31=Funktioner!$AC$1,IF(Funktioner!$AC$2=\"\",\"\",Funktioner!$AC$2),IF($A31=Funktioner!$AD$1,IF(Funktioner!$AD$2=\"\",\"\",Funktioner!$AD$2),IF($A31=Funktioner!$AE$1,IF(Funktioner!$AE$2=\"\",\"\",Funktioner!$AE$2),IF($A31=Funktioner!$AF$1,IF(Funktioner!$AF$2=\"\",\"\",Funktioner!$AF$2),IF($A31=Funktioner!$AG$1,IF(Funktioner!$AG$2=\"\",\"\",Funktioner!$AG$2),IF($A31=Funktioner!$AH$1,IF(Funktioner!$AH$2=\"\",\"\",Funktioner!$AH$2),IF($A31=Funktioner!$AI$1,IF(Funktioner!$AI$2=\"\",\"\",Funktioner!$AI$2),IF($A31=Funktioner!$AJ$1,IF(Funktioner!$AJ$2=\"\",\"\",Funktioner!$AJ$2),IF($A31=Funktioner!$AK$1,IF(Funktioner!$AK$2=\"\",\"\",Funktioner!$AK$2),IF($A31=Funktioner!$AL$1,IF(Funktioner!$AL$2=\"\",\"\",Funktioner!$AL$2),IF($A31=Funktioner!$AM$1,IF(Funktioner!$AM$2=\"\",\"\",Funktioner!$AM$2),IF($A31=Funktioner!$AN$1,IF(Funktioner!$AN$2=\"\",\"\",Funktioner!$AN$2),IF($A31=Funktioner!$AO$1,IF(Funktioner!$AO$2=\"\",\"\",Funktioner!$AO$2),IF($A31=Funktioner!$AP$1,IF(Funktioner!$AP$2=\"\",\"\",Funktioner!$AP$2),IF($A31=Funktioner!$AQ$1,IF(Funktioner!$AQ$2=\"\",\"\",Funktioner!$AQ$2),IF($A31=Funktioner!$AR$1,IF(Funktioner!$AR$2=\"\",\"\",Funktioner!$AR$2),IF($A31=Funktioner!$AS$1,IF(Funktioner!$AS$2=\"\",\"\",Funktioner!$AS$2),IF($A31=Funktioner!$AT$1,IF(Funktioner!$AT$2=\"\",\"\",Funktioner!$AT$2),IF($A31=Funktioner!$AU$1,IF(Funktioner!$AU$2=\"\",\"\",Funktioner!$AU$2),IF($A31=Funktioner!$AV$1,IF(Funktioner!$AV$2=\"\",\"\",Funktioner!$AV$2),IF($A31=Funktioner!$AW$1,IF(Funktioner!$AW$2=\"\",\"\",Funktioner!$AW$2),\"\"))))))))))))))))))))))))))))))))))))))))))))))))","v":""},{"$f":"IF($C31=Funktioner!$A$57,Funktioner!$B$57,IF($C31=Funktioner!$A$58,Funktioner!$B$58,IF($C31=Funktioner!$A$59,Funktioner!$B$59,IF($C31=Funktioner!$A$60,Funktioner!$B$60,IF($C31=Funktioner!$A$61,Funktioner!$B$61,IF($C31=Funktioner!$A$62,Funktioner!$B$62,IF($C31=Funktioner!$A$63,Funktioner!$B$63,IF($C31=Funktioner!$A$64,Funktioner!$B$64,IF($C31=Funktioner!$A$65,Funktioner!$B$65,IF($C31=Funktioner!$A$66,Funktioner!$B$66,IF($C31=Funktioner!$A$67,Funktioner!$B$67,IF($C31=Funktioner!$A$68,Funktioner!$B$68,IF($C31=Funktioner!$A$69,Funktioner!$B$69,IF($C31=Funktioner!$A$70,Funktioner!$B$70,IF($C31=Funktioner!$A$71,Funktioner!$B$71,IF($C31=Funktioner!$A$72,Funktioner!$B$72,IF($C31=Funktioner!$A$73,Funktioner!$B$73,IF($C31=Funktioner!$A$74,Funktioner!$B$74,IF($C31=Funktioner!$A$75,Funktioner!$B$75,IF($C31=Funktioner!$A$76,Funktioner!$B$76,IF($C31=Funktioner!$A$77,Funktioner!$B$77,IF($C31=Funktioner!$A$78,Funktioner!$B$78,IF($C31=Funktioner!$A$79,Funktioner!$B$79,IF($C31=Funktioner!$A$80,Funktioner!$B$80,IF($C31=Funktioner!$A$81,Funktioner!$B$81,IF($C31=Funktioner!$A$82,Funktioner!$B$82,IF($C31=Funktioner!$A$83,Funktioner!$B$83,IF($C31=Funktioner!$A$84,Funktioner!$B$84,IF($C31=Funktioner!$A$85,Funktioner!$B$85,IF($C31=Funktioner!$A$86,Funktioner!$B$86,IF($C31=Funktioner!$A$87,Funktioner!$B$87,IF($C31=Funktioner!$A$88,Funktioner!$B$88,IF($C31=Funktioner!$A$89,Funktioner!$B$89,IF($C31=Funktioner!$A$90,Funktioner!$B$90,IF($C31=Funktioner!$A$91,Funktioner!$B$91,IF($C31=Funktioner!$A$92,Funktioner!$B$92,IF($C31=Funktioner!$A$93,Funktioner!$B$93,IF($C31=Funktioner!$A$94,Funktioner!$B$94,IF($C31=Funktioner!$A$95,Funktioner!$B$95,IF($C31=Funktioner!$A$96,Funktioner!$B$96,IF($C31=Funktioner!$A$97,Funktioner!$B$97,IF($C31=Funktioner!$A$98,Funktioner!$B$98,IF($C31=Funktioner!$A$99,Funktioner!$B$99,IF($C31=Funktioner!$A$100,Funktioner!$B$100,IF($C31=Funktioner!$A$101,Funktioner!$B$101,IF($C31=Funktioner!$A$102,Funktioner!$B$102,IF($C31=Funktioner!$A$103,Funktioner!$B$103,IF($C31=Funktioner!$A$104,Funktioner!$B$104,\"\"))))))))))))))))))))))))))))))))))))))))))))))))","v":""},null,null,{"$f":"IF($G31=\"\",\"\",IF($N31=0,\"\",Funktioner!L199&\" SEK /\"&Funktioner!J128))","v":""},{"$f":"IF($G31=\"\",\"\",IF($N31=\"\",\"\",Funktioner!M199))","v":""},{"$f":"IF($G31=\"\",\"\",IF($N31=\"\",\"\",Funktioner!N199))","v":""},{"$f":"IF($G31=\"\",\"\",IF($N31=\"\",\"\",Funktioner!O199))","v":""},{"$f":"IF($G31=\"\",\"\",IF($N31=\"\",\"\",HYPERLINK(Funktioner!P199)))","v":""},{"$f":"IF($G31=\"\",\"\",IF($N31=\"\",\"\",Funktioner!Q199))","v":""},{"$f":"IF($G31=\"\",\"\",IF(Funktioner!T199=0,\"\",Funktioner!T199))","v":""},{"$f":"IF($G31=\"\",\"\",IF($N31=\"\",\"\",Funktioner!S199))","v":""}]
[{"$f":"IFERROR(IF($C32=Funktioner!$A$7,1,IF($C32=Funktioner!$A$8,2,IF($C32=Funktioner!$A$9,3,IF($C32=Funktioner!$A$10,4,IF($C32=Funktioner!$B$7,5,IF($C32=Funktioner!$B$8,7,IF($C32=Funktioner!$B$9,8,IF($C32=Funktioner!$C$7,9,IF($C32=Funktioner!$C$8,10,IF($C32=Funktioner!$C$9,11,IF($C32=Funktioner!$C$10,12,IF($C32=Funktioner!$C$11,13,IF($C32=Funktioner!$C$12,14,IF($C32=Funktioner!$D$7,15,IF($C32=Funktioner!$D$8,16,IF($C32=Funktioner!$D$9,17,IF($C32=Funktioner!$E$7,18,IF($C32=Funktioner!$F$7,19,IF($C32=Funktioner!$F$8,20,IF($C32=Funktioner!$F$9,21,IF($C32=Funktioner!$G$7,22,IF($C32=Funktioner!$G$8,23,IF($C32=Funktioner!$G$9,24,IF($C32=Funktioner!$G$10,25,IF($C32=Funktioner!$G$11,26,IF($C32=Funktioner!$H$7,27,IF($C32=Funktioner!$H$8,28,IF($C32=Funktioner!$I$7,29,IF($C32=Funktioner!$J$7,31,IF($C32=Funktioner!$J$8,32,IF($C32=Funktioner!$J$9,33,IF($C32=Funktioner!$K$7,34,IF($C32=Funktioner!$K$8,35,IF($C32=Funktioner!$K$9,36,IF($C32=Funktioner!$L$7,37,IF($C32=Funktioner!$L$8,38,IF($C32=Funktioner!$M$7,39,IF($C32=Funktioner!$M$8,40,IF($C32=Funktioner!$N$7,41,IF($C32=Funktioner!$O$7,42,IF($C32=Funktioner!$P$7,43,IF($C32=Funktioner!$Q$7,44,IF($C32=Funktioner!$Q$8,45,IF($C32=Funktioner!$R$7,46,IF($C32=Funktioner!$R$8,47,IF($C32=Funktioner!$R$9,48,\"\")))))))))))))))))))))))))))))))))))))))))))))),\"\")","v":""},null,null,{"$f":"IF($A32=Funktioner!$B$1,IF(Funktioner!$B$2=\"\",\"\",Funktioner!$B$2),IF($A32=Funktioner!$C$1,IF(Funktioner!$C$2=\"\",\"\",Funktioner!$C$2),IF($A32=Funktioner!$D$1,IF(Funktioner!$D$2=\"\",\"\",Funktioner!$D$2),IF($A32=Funktioner!$E$1,IF(Funktioner!$E$2=\"\",\"\",Funktioner!$E$2),IF($A32=Funktioner!$F$1,IF(Funktioner!$F$2=\"\",\"\",Funktioner!$F$2),IF($A32=Funktioner!$G$1,IF(Funktioner!$G$2=\"\",\"\",Funktioner!$G$2),IF($A32=Funktioner!$H$1,IF(Funktioner!$H$2=\"\",\"\",Funktioner!$H$2),IF($A32=Funktioner!$I$1,IF(Funktioner!$I$2=\"\",\"\",Funktioner!$I$2),IF($A32=Funktioner!$J$1,IF(Funktioner!$J$2=\"\",\"\",Funktioner!$J$2),IF($A32=Funktioner!$K$1,IF(Funktioner!$K$2=\"\",\"\",Funktioner!$K$2),IF($A32=Funktioner!$L$1,IF(Funktioner!$L$2=\"\",\"\",Funktioner!$L$2),IF($A32=Funktioner!$M$1,IF(Funktioner!$M$2=\"\",\"\",Funktioner!$M$2),IF($A32=Funktioner!$N$1,IF(Funktioner!$N$2=\"\",\"\",Funktioner!$N$2),IF($A32=Funktioner!$O$1,IF(Funktioner!$O$2=\"\",\"\",Funktioner!$O$2),IF($A32=Funktioner!$P$1,IF(Funktioner!$P$2=\"\",\"\",Funktioner!$P$2),IF($A32=Funktioner!$Q$1,IF(Funktioner!$Q$2=\"\",\"\",Funktioner!$Q$2),IF($A32=Funktioner!$R$1,IF(Funktioner!$R$2=\"\",\"\",Funktioner!$R$2),IF($A32=Funktioner!$S$1,IF(Funktioner!$S$2=\"\",\"\",Funktioner!$S$2),IF($A32=Funktioner!$T$1,IF(Funktioner!$T$2=\"\",\"\",Funktioner!$T$2),IF($A32=Funktioner!$U$1,IF(Funktioner!$U$2=\"\",\"\",Funktioner!$U$2),IF($A32=Funktioner!$V$1,IF(Funktioner!$V$2=\"\",\"\",Funktioner!$V$2),IF($A32=Funktioner!$W$1,IF(Funktioner!$W$2=\"\",\"\",Funktioner!$W$2),IF($A32=Funktioner!$X$1,IF(Funktioner!$X$2=\"\",\"\",Funktioner!$X$2),IF($A32=Funktioner!$Y$1,IF(Funktioner!$Y$2=\"\",\"\",Funktioner!$Y$2),IF($A32=Funktioner!$Z$1,IF(Funktioner!$Z$2=\"\",\"\",Funktioner!$Z$2),IF($A32=Funktioner!$AA$1,IF(Funktioner!$AA$2=\"\",\"\",Funktioner!$AA$2),IF($A32=Funktioner!$AB$1,IF(Funktioner!$AB$2=\"\",\"\",Funktioner!$AB$2),IF($A32=Funktioner!$AC$1,IF(Funktioner!$AC$2=\"\",\"\",Funktioner!$AC$2),IF($A32=Funktioner!$AD$1,IF(Funktioner!$AD$2=\"\",\"\",Funktioner!$AD$2),IF($A32=Funktioner!$AE$1,IF(Funktioner!$AE$2=\"\",\"\",Funktioner!$AE$2),IF($A32=Funktioner!$AF$1,IF(Funktioner!$AF$2=\"\",\"\",Funktioner!$AF$2),IF($A32=Funktioner!$AG$1,IF(Funktioner!$AG$2=\"\",\"\",Funktioner!$AG$2),IF($A32=Funktioner!$AH$1,IF(Funktioner!$AH$2=\"\",\"\",Funktioner!$AH$2),IF($A32=Funktioner!$AI$1,IF(Funktioner!$AI$2=\"\",\"\",Funktioner!$AI$2),IF($A32=Funktioner!$AJ$1,IF(Funktioner!$AJ$2=\"\",\"\",Funktioner!$AJ$2),IF($A32=Funktioner!$AK$1,IF(Funktioner!$AK$2=\"\",\"\",Funktioner!$AK$2),IF($A32=Funktioner!$AL$1,IF(Funktioner!$AL$2=\"\",\"\",Funktioner!$AL$2),IF($A32=Funktioner!$AM$1,IF(Funktioner!$AM$2=\"\",\"\",Funktioner!$AM$2),IF($A32=Funktioner!$AN$1,IF(Funktioner!$AN$2=\"\",\"\",Funktioner!$AN$2),IF($A32=Funktioner!$AO$1,IF(Funktioner!$AO$2=\"\",\"\",Funktioner!$AO$2),IF($A32=Funktioner!$AP$1,IF(Funktioner!$AP$2=\"\",\"\",Funktioner!$AP$2),IF($A32=Funktioner!$AQ$1,IF(Funktioner!$AQ$2=\"\",\"\",Funktioner!$AQ$2),IF($A32=Funktioner!$AR$1,IF(Funktioner!$AR$2=\"\",\"\",Funktioner!$AR$2),IF($A32=Funktioner!$AS$1,IF(Funktioner!$AS$2=\"\",\"\",Funktioner!$AS$2),IF($A32=Funktioner!$AT$1,IF(Funktioner!$AT$2=\"\",\"\",Funktioner!$AT$2),IF($A32=Funktioner!$AU$1,IF(Funktioner!$AU$2=\"\",\"\",Funktioner!$AU$2),IF($A32=Funktioner!$AV$1,IF(Funktioner!$AV$2=\"\",\"\",Funktioner!$AV$2),IF($A32=Funktioner!$AW$1,IF(Funktioner!$AW$2=\"\",\"\",Funktioner!$AW$2),\"\"))))))))))))))))))))))))))))))))))))))))))))))))","v":""},{"$f":"IF($C32=Funktioner!$A$57,Funktioner!$B$57,IF($C32=Funktioner!$A$58,Funktioner!$B$58,IF($C32=Funktioner!$A$59,Funktioner!$B$59,IF($C32=Funktioner!$A$60,Funktioner!$B$60,IF($C32=Funktioner!$A$61,Funktioner!$B$61,IF($C32=Funktioner!$A$62,Funktioner!$B$62,IF($C32=Funktioner!$A$63,Funktioner!$B$63,IF($C32=Funktioner!$A$64,Funktioner!$B$64,IF($C32=Funktioner!$A$65,Funktioner!$B$65,IF($C32=Funktioner!$A$66,Funktioner!$B$66,IF($C32=Funktioner!$A$67,Funktioner!$B$67,IF($C32=Funktioner!$A$68,Funktioner!$B$68,IF($C32=Funktioner!$A$69,Funktioner!$B$69,IF($C32=Funktioner!$A$70,Funktioner!$B$70,IF($C32=Funktioner!$A$71,Funktioner!$B$71,IF($C32=Funktioner!$A$72,Funktioner!$B$72,IF($C32=Funktioner!$A$73,Funktioner!$B$73,IF($C32=Funktioner!$A$74,Funktioner!$B$74,IF($C32=Funktioner!$A$75,Funktioner!$B$75,IF($C32=Funktioner!$A$76,Funktioner!$B$76,IF($C32=Funktioner!$A$77,Funktioner!$B$77,IF($C32=Funktioner!$A$78,Funktioner!$B$78,IF($C32=Funktioner!$A$79,Funktioner!$B$79,IF($C32=Funktioner!$A$80,Funktioner!$B$80,IF($C32=Funktioner!$A$81,Funktioner!$B$81,IF($C32=Funktioner!$A$82,Funktioner!$B$82,IF($C32=Funktioner!$A$83,Funktioner!$B$83,IF($C32=Funktioner!$A$84,Funktioner!$B$84,IF($C32=Funktioner!$A$85,Funktioner!$B$85,IF($C32=Funktioner!$A$86,Funktioner!$B$86,IF($C32=Funktioner!$A$87,Funktioner!$B$87,IF($C32=Funktioner!$A$88,Funktioner!$B$88,IF($C32=Funktioner!$A$89,Funktioner!$B$89,IF($C32=Funktioner!$A$90,Funktioner!$B$90,IF($C32=Funktioner!$A$91,Funktioner!$B$91,IF($C32=Funktioner!$A$92,Funktioner!$B$92,IF($C32=Funktioner!$A$93,Funktioner!$B$93,IF($C32=Funktioner!$A$94,Funktioner!$B$94,IF($C32=Funktioner!$A$95,Funktioner!$B$95,IF($C32=Funktioner!$A$96,Funktioner!$B$96,IF($C32=Funktioner!$A$97,Funktioner!$B$97,IF($C32=Funktioner!$A$98,Funktioner!$B$98,IF($C32=Funktioner!$A$99,Funktioner!$B$99,IF($C32=Funktioner!$A$100,Funktioner!$B$100,IF($C32=Funktioner!$A$101,Funktioner!$B$101,IF($C32=Funktioner!$A$102,Funktioner!$B$102,IF($C32=Funktioner!$A$103,Funktioner!$B$103,IF($C32=Funktioner!$A$104,Funktioner!$B$104,\"\"))))))))))))))))))))))))))))))))))))))))))))))))","v":""},null,null,{"$f":"IF($G32=\"\",\"\",IF($N32=0,\"\",Funktioner!L200&\" SEK /\"&Funktioner!J129))","v":""},{"$f":"IF($G32=\"\",\"\",IF($N32=\"\",\"\",Funktioner!M200))","v":""},{"$f":"IF($G32=\"\",\"\",IF($N32=\"\",\"\",Funktioner!N200))","v":""},{"$f":"IF($G32=\"\",\"\",IF($N32=\"\",\"\",Funktioner!O200))","v":""},{"$f":"IF($G32=\"\",\"\",IF($N32=\"\",\"\",HYPERLINK(Funktioner!P200)))","v":""},{"$f":"IF($G32=\"\",\"\",IF($N32=\"\",\"\",Funktioner!Q200))","v":""},{"$f":"IF($G32=\"\",\"\",IF(Funktioner!T200=0,\"\",Funktioner!T200))","v":""},{"$f":"IF($G32=\"\",\"\",IF($N32=\"\",\"\",Funktioner!S200))","v":""}]

{"sheet":"Beställningsformulär","index":2,"n_rows":32,"n_cols":12,"rows_kept":32,"cut":false,"hidden":false,"merged":[[7,2,7,3],[2,2,2,3],[3,2,3,3],[4,2,4,3],[5,2,5,3],[6,2,6,3],[22,1,22,4],[11,1,11,4],[12,1,12,4],[13,1,13,4],[14,1,14,4],[15,1,15,4],[16,1,16,4],[17,1,17,4],[18,1,18,4],[19,1,19,4],[20,1,20,4],[21,1,21,4],[29,1,29,4],[30,1,30,4],[31,1,31,4],[23,1,23,4],[24,1,24,4],[25,1,25,4],[26,1,26,4],[27,1,27,4],[28,1,28,4]]}
[null,"Beställningsformulär",null,null,null,null,"Avrop från ramavtal för personlig skyddsutrustning  dnr. 23.3-13119-20"]
[]
[null,"Ramavtalsleverantör",{"$f":"IF(Uträkningsmall!$H2<>\"\",Uträkningsmall!$H2,\"\")","v":""},null,null,null,null,"Avropande myndighet"]
[null,"Organisationsnummer",{"$f":"IF(Uträkningsmall!$H3<>\"\",Uträkningsmall!$H3,\"\")","v":""},null,null,null,null,"Organisationsnr"]
[null,"Kontaktperson",{"$f":"IF(Uträkningsmall!$H4<>\"\",Uträkningsmall!$H4,\"\")","v":""},null,null,null,null,"Kontaktperson"]
[null,"Telefonnummer",{"$f":"IF(Uträkningsmall!$H5<>\"\",Uträkningsmall!$H5,\"\")","v":""},null,null,null,null,"Telefonnummer"]
[null,"E-postadress",{"$f":"IF(Uträkningsmall!$H6<>\"\",HYPERLINK(Uträkningsmall!$H6),\"\")","v":""},null,null,null,null,"E-postadress"]
[null,"Beställningsdatum",null,null,null,null,null,"Adress för e-faktura/Peppol-ID"]
[null,null,null,null,null,null,null,"Fakturareferens",null,null,"Totalsumma (SEK):",{"$f":"IF(Uträkningsmall!$H$7<>\"\",Uträkningsmall!$H$7,\"\")","v":""}]
[]
[]
[null,"Varubenämning",null,null,null,"Varans storlek","Antal","Offererat pris per enhet (styck/par)","Ramavtalsleverantörens artikelnummer","Ramavtalsleverantörens artikelbenämning","Leveranstid (arbetsdagar)","Totalpris (SEK)"]
[null,{"$f":"IF(Uträkningsmall!$B13<>\"\",Uträkningsmall!D13,\"\")","v":""},null,null,null,{"$f":"IF(Uträkningsmall!$F13<>\"\",Uträkningsmall!F13,\"\")","v":""},{"$f":"IF(Uträkningsmall!$G13<>\"\",Uträkningsmall!G13,\"\")","v":""},{"$f":"IF(Uträkningsmall!$H13<>\"\",Uträkningsmall!H13,\"\")","v":""},{"$f":"IF(Uträkningsmall!$K13<>\"\",Uträkningsmall!K13,\"\")","v":""},{"$f":"IF(Uträkningsmall!$M13<>\"\",Uträkningsmall!M13,\"\")","v":""},{"$f":"IF(Uträkningsmall!$I13<>\"\",Uträkningsmall!I13,\"\")","v":""},{"$f":"IF(Uträkningsmall!$N13<>\"\",Uträkningsmall!N13,\"\")","v":""}]
[null,{"$f":"IF(Uträkningsmall!$B14<>\"\",Uträkningsmall!D14,\"\")","v":""},null,null,null,{"$f":"IF(Uträkningsmall!$F14<>\"\",Uträkningsmall!F14,\"\")","v":""},{"$f":"IF(Uträkningsmall!$G14<>\"\",Uträkningsmall!G14,\"\")","v":""},{"$f":"IF(Uträkningsmall!$H14<>\"\",Uträkningsmall!H14,\"\")","v":""},{"$f":"IF(Uträkningsmall!$K14<>\"\",Uträkningsmall!K14,\"\")","v":""},{"$f":"IF(Uträkningsmall!$M14<>\"\",Uträkningsmall!M14,\"\")","v":""},{"$f":"IF(Uträkningsmall!$I14<>\"\",Uträkningsmall!I14,\"\")","v":""},{"$f":"IF(Uträkningsmall!$N14<>\"\",Uträkningsmall!N14,\"\")","v":""}]
[null,{"$f":"IF(Uträkningsmall!$B15<>\"\",Uträkningsmall!D15,\"\")","v":""},null,null,null,{"$f":"IF(Uträkningsmall!$F15<>\"\",Uträkningsmall!F15,\"\")","v":""},{"$f":"IF(Uträkningsmall!$G15<>\"\",Uträkningsmall!G15,\"\")","v":""},{"$f":"IF(Uträkningsmall!$H15<>\"\",Uträkningsmall!H15,\"\")","v":""},{"$f":"IF(Uträkningsmall!$K15<>\"\",Uträkningsmall!K15,\"\")","v":""},{"$f":"IF(Uträkningsmall!$M15<>\"\",Uträkningsmall!M15,\"\")","v":""},{"$f":"IF(Uträkningsmall!$I15<>\"\",Uträkningsmall!I15,\"\")","v":""},{"$f":"IF(Uträkningsmall!$N15<>\"\",Uträkningsmall!N15,\"\")","v":""}]
[null,{"$f":"IF(Uträkningsmall!$B16<>\"\",Uträkningsmall!D16,\"\")","v":""},null,null,null,{"$f":"IF(Uträkningsmall!$F16<>\"\",Uträkningsmall!F16,\"\")","v":""},{"$f":"IF(Uträkningsmall!$G16<>\"\",Uträkningsmall!G16,\"\")","v":""},{"$f":"IF(Uträkningsmall!$H16<>\"\",Uträkningsmall!H16,\"\")","v":""},{"$f":"IF(Uträkningsmall!$K16<>\"\",Uträkningsmall!K16,\"\")","v":""},{"$f":"IF(Uträkningsmall!$M16<>\"\",Uträkningsmall!M16,\"\")","v":""},{"$f":"IF(Uträkningsmall!$I16<>\"\",Uträkningsmall!I16,\"\")","v":""},{"$f":"IF(Uträkningsmall!$N16<>\"\",Uträkningsmall!N16,\"\")","v":""}]
[null,{"$f":"IF(Uträkningsmall!$B17<>\"\",Uträkningsmall!D17,\"\")","v":""},null,null,null,{"$f":"IF(Uträkningsmall!$F17<>\"\",Uträkningsmall!F17,\"\")","v":""},{"$f":"IF(Uträkningsmall!$G17<>\"\",Uträkningsmall!G17,\"\")","v":""},{"$f":"IF(Uträkningsmall!$H17<>\"\",Uträkningsmall!H17,\"\")","v":""},{"$f":"IF(Uträkningsmall!$K17<>\"\",Uträkningsmall!K17,\"\")","v":""},{"$f":"IF(Uträkningsmall!$M17<>\"\",Uträkningsmall!M17,\"\")","v":""},{"$f":"IF(Uträkningsmall!$I17<>\"\",Uträkningsmall!I17,\"\")","v":""},{"$f":"IF(Uträkningsmall!$N17<>\"\",Uträkningsmall!N17,\"\")","v":""}]
[null,{"$f":"IF(Uträkningsmall!$B18<>\"\",Uträkningsmall!D18,\"\")","v":""},null,null,null,{"$f":"IF(Uträkningsmall!$F18<>\"\",Uträkningsmall!F18,\"\")","v":""},{"$f":"IF(Uträkningsmall!$G18<>\"\",Uträkningsmall!G18,\"\")","v":""},{"$f":"IF(Uträkningsmall!$H18<>\"\",Uträkningsmall!H18,\"\")","v":""},{"$f":"IF(Uträkningsmall!$K18<>\"\",Uträkningsmall!K18,\"\")","v":""},{"$f":"IF(Uträkningsmall!$M18<>\"\",Uträkningsmall!M18,\"\")","v":""},{"$f":"IF(Uträkningsmall!$I18<>\"\",Uträkningsmall!I18,\"\")","v":""},{"$f":"IF(Uträkningsmall!$N18<>\"\",Uträkningsmall!N18,\"\")","v":""}]
[null,{"$f":"IF(Uträkningsmall!$B19<>\"\",Uträkningsmall!D19,\"\")","v":""},null,null,null,{"$f":"IF(Uträkningsmall!$F19<>\"\",Uträkningsmall!F19,\"\")","v":""},{"$f":"IF(Uträkningsmall!$G19<>\"\",Uträkningsmall!G19,\"\")","v":""},{"$f":"IF(Uträkningsmall!$H19<>\"\",Uträkningsmall!H19,\"\")","v":""},{"$f":"IF(Uträkningsmall!$K19<>\"\",Uträkningsmall!K19,\"\")","v":""},{"$f":"IF(Uträkningsmall!$M19<>\"\",Uträkningsmall!M19,\"\")","v":""},{"$f":"IF(Uträkningsmall!$I19<>\"\",Uträkningsmall!I19,\"\")","v":""},{"$f":"IF(Uträkningsmall!$N19<>\"\",Uträkningsmall!N19,\"\")","v":""}]
[null,{"$f":"IF(Uträkningsmall!$B20<>\"\",Uträkningsmall!D20,\"\")","v":""},null,null,null,{"$f":"IF(Uträkningsmall!$F20<>\"\",Uträkningsmall!F20,\"\")","v":""},{"$f":"IF(Uträkningsmall!$G20<>\"\",Uträkningsmall!G20,\"\")","v":""},{"$f":"IF(Uträkningsmall!$H20<>\"\",Uträkningsmall!H20,\"\")","v":""},{"$f":"IF(Uträkningsmall!$K20<>\"\",Uträkningsmall!K20,\"\")","v":""},{"$f":"IF(Uträkningsmall!$M20<>\"\",Uträkningsmall!M20,\"\")","v":""},{"$f":"IF(Uträkningsmall!$I20<>\"\",Uträkningsmall!I20,\"\")","v":""},{"$f":"IF(Uträkningsmall!$N20<>\"\",Uträkningsmall!N20,\"\")","v":""}]
[null,{"$f":"IF(Uträkningsmall!$B21<>\"\",Uträkningsmall!D21,\"\")","v":""},null,null,null,{"$f":"IF(Uträkningsmall!$F21<>\"\",Uträkningsmall!F21,\"\")","v":""},{"$f":"IF(Uträkningsmall!$G21<>\"\",Uträkningsmall!G21,\"\")","v":""},{"$f":"IF(Uträkningsmall!$H21<>\"\",Uträkningsmall!H21,\"\")","v":""},{"$f":"IF(Uträkningsmall!$K21<>\"\",Uträkningsmall!K21,\"\")","v":""},{"$f":"IF(Uträkningsmall!$M21<>\"\",Uträkningsmall!M21,\"\")","v":""},{"$f":"IF(Uträkningsmall!$I21<>\"\",Uträkningsmall!I21,\"\")","v":""},{"$f":"IF(Uträkningsmall!$N21<>\"\",Uträkningsmall!N21,\"\")","v":""}]
[null,{"$f":"IF(Uträkningsmall!$B22<>\"\",Uträkningsmall!D22,\"\")","v":""},null,null,null,{"$f":"IF(Uträkningsmall!$F22<>\"\",Uträkningsmall!F22,\"\")","v":""},{"$f":"IF(Uträkningsmall!$G22<>\"\",Uträkningsmall!G22,\"\")","v":""},{"$f":"IF(Uträkningsmall!$H22<>\"\",Uträkningsmall!H22,\"\")","v":""},{"$f":"IF(Uträkningsmall!$K22<>\"\",Uträkningsmall!K22,\"\")","v":""},{"$f":"IF(Uträkningsmall!$M22<>\"\",Uträkningsmall!M22,\"\")","v":""},{"$f":"IF(Uträkningsmall!$I22<>\"\",Uträkningsmall!I22,\"\")","v":""},{"$f":"IF(Uträkningsmall!$N22<>\"\",Uträkningsmall!N22,\"\")","v":""}]
[null,{"$f":"IF(Uträkningsmall!$B23<>\"\",Uträkningsmall!D23,\"\")","v":""},null,null,null,{"$f":"IF(Uträkningsmall!$F23<>\"\",Uträkningsmall!F23,\"\")","v":""},{"$f":"IF(Uträkningsmall!$G23<>\"\",Uträkningsmall!G23,\"\")","v":""},{"$f":"IF(Uträkningsmall!$H23<>\"\",Uträkningsmall!H23,\"\")","v":""},{"$f":"IF(Uträkningsmall!$K23<>\"\",Uträkningsmall!K23,\"\")","v":""},{"$f":"IF(Uträkningsmall!$M23<>\"\",Uträkningsmall!M23,\"\")","v":""},{"$f":"IF(Uträkningsmall!$I23<>\"\",Uträkningsmall!I23,\"\")","v":""},{"$f":"IF(Uträkningsmall!$N23<>\"\",Uträkningsmall!N23,\"\")","v":""}]
[null,{"$f":"IF(Uträkningsmall!$B24<>\"\",Uträkningsmall!D24,\"\")","v":""},null,null,null,{"$f":"IF(Uträkningsmall!$F24<>\"\",Uträkningsmall!F24,\"\")","v":""},{"$f":"IF(Uträkningsmall!$G24<>\"\",Uträkningsmall!G24,\"\")","v":""},{"$f":"IF(Uträkningsmall!$H24<>\"\",Uträkningsmall!H24,\"\")","v":""},{"$f":"IF(Uträkningsmall!$K24<>\"\",Uträkningsmall!K24,\"\")","v":""},{"$f":"IF(Uträkningsmall!$M24<>\"\",Uträkningsmall!M24,\"\")","v":""},{"$f":"IF(Uträkningsmall!$I24<>\"\",Uträkningsmall!I24,\"\")","v":""},{"$f":"IF(Uträkningsmall!$N24<>\"\",Uträkningsmall!N24,\"\")","v":""}]
[null,{"$f":"IF(Uträkningsmall!$B25<>\"\",Uträkningsmall!D25,\"\")","v":""},null,null,null,{"$f":"IF(Uträkningsmall!$F25<>\"\",Uträkningsmall!F25,\"\")","v":""},{"$f":"IF(Uträkningsmall!$G25<>\"\",Uträkningsmall!G25,\"\")","v":""},{"$f":"IF(Uträkningsmall!$H25<>\"\",Uträkningsmall!H25,\"\")","v":""},{"$f":"IF(Uträkningsmall!$K25<>\"\",Uträkningsmall!K25,\"\")","v":""},{"$f":"IF(Uträkningsmall!$M25<>\"\",Uträkningsmall!M25,\"\")","v":""},{"$f":"IF(Uträkningsmall!$I25<>\"\",Uträkningsmall!I25,\"\")","v":""},{"$f":"IF(Uträkningsmall!$N25<>\"\",Uträkningsmall!N25,\"\")","v":""}]
[null,{"$f":"IF(Uträkningsmall!$B26<>\"\",Uträkningsmall!D26,\"\")","v":""},null,null,null,{"$f":"IF(Uträkningsmall!$F26<>\"\",Uträkningsmall!F26,\"\")","v":""},{"$f":"IF(Uträkningsmall!$G26<>\"\",Uträkningsmall!G26,\"\")","v":""},{"$f":"IF(Uträkningsmall!$H26<>\"\",Uträkningsmall!H26,\"\")","v":""},{"$f":"IF(Uträkningsmall!$K26<>\"\",Uträkningsmall!K26,\"\")","v":""},{"$f":"IF(Uträkningsmall!$M26<>\"\",Uträkningsmall!M26,\"\")","v":""},{"$f":"IF(Uträkningsmall!$I26<>\"\",Uträkningsmall!I26,\"\")","v":""},{"$f":"IF(Uträkningsmall!$N26<>\"\",Uträkningsmall!N26,\"\")","v":""}]
[null,{"$f":"IF(Uträkningsmall!$B27<>\"\",Uträkningsmall!D27,\"\")","v":""},null,null,null,{"$f":"IF(Uträkningsmall!$F27<>\"\",Uträkningsmall!F27,\"\")","v":""},{"$f":"IF(Uträkningsmall!$G27<>\"\",Uträkningsmall!G27,\"\")","v":""},{"$f":"IF(Uträkningsmall!$H27<>\"\",Uträkningsmall!H27,\"\")","v":""},{"$f":"IF(Uträkningsmall!$K27<>\"\",Uträkningsmall!K27,\"\")","v":""},{"$f":"IF(Uträkningsmall!$M27<>\"\",Uträkningsmall!M27,\"\")","v":""},{"$f":"IF(Uträkningsmall!$I27<>\"\",Uträkningsmall!I27,\"\")","v":""},{"$f":"IF(Uträkningsmall!$N27<>\"\",Uträkningsmall!N27,\"\")","v":""}]
[null,{"$f":"IF(Uträkningsmall!$B28<>\"\",Uträkningsmall!D28,\"\")","v":""},null,null,null,{"$f":"IF(Uträkningsmall!$F28<>\"\",Uträkningsmall!F28,\"\")","v":""},{"$f":"IF(Uträkningsmall!$G28<>\"\",Uträkningsmall!G28,\"\")","v":""},{"$f":"IF(Uträkningsmall!$H28<>\"\",Uträkningsmall!H28,\"\")","v":""},{"$f":"IF(Uträkningsmall!$K28<>\"\",Uträkningsmall!K28,\"\")","v":""},{"$f":"IF(Uträkningsmall!$M28<>\"\",Uträkningsmall!M28,\"\")","v":""},{"$f":"IF(Uträkningsmall!$I28<>\"\",Uträkningsmall!I28,\"\")","v":""},{"$f":"IF(Uträkningsmall!$N28<>\"\",Uträkningsmall!N28,\"\")","v":""}]
[null,{"$f":"IF(Uträkningsmall!$B29<>\"\",Uträkningsmall!D29,\"\")","v":""},null,null,null,{"$f":"IF(Uträkningsmall!$F29<>\"\",Uträkningsmall!F29,\"\")","v":""},{"$f":"IF(Uträkningsmall!$G29<>\"\",Uträkningsmall!G29,\"\")","v":""},{"$f":"IF(Uträkningsmall!$H29<>\"\",Uträkningsmall!H29,\"\")","v":""},{"$f":"IF(Uträkningsmall!$K29<>\"\",Uträkningsmall!K29,\"\")","v":""},{"$f":"IF(Uträkningsmall!$M29<>\"\",Uträkningsmall!M29,\"\")","v":""},{"$f":"IF(Uträkningsmall!$I29<>\"\",Uträkningsmall!I29,\"\")","v":""},{"$f":"IF(Uträkningsmall!$N29<>\"\",Uträkningsmall!N29,\"\")","v":""}]
[null,{"$f":"IF(Uträkningsmall!$B30<>\"\",Uträkningsmall!D30,\"\")","v":""},null,null,null,{"$f":"IF(Uträkningsmall!$F30<>\"\",Uträkningsmall!F30,\"\")","v":""},{"$f":"IF(Uträkningsmall!$G30<>\"\",Uträkningsmall!G30,\"\")","v":""},{"$f":"IF(Uträkningsmall!$H30<>\"\",Uträkningsmall!H30,\"\")","v":""},{"$f":"IF(Uträkningsmall!$K30<>\"\",Uträkningsmall!K30,\"\")","v":""},{"$f":"IF(Uträkningsmall!$M30<>\"\",Uträkningsmall!M30,\"\")","v":""},{"$f":"IF(Uträkningsmall!$I30<>\"\",Uträkningsmall!I30,\"\")","v":""},{"$f":"IF(Uträkningsmall!$N30<>\"\",Uträkningsmall!N30,\"\")","v":""}]
[null,{"$f":"IF(Uträkningsmall!$B31<>\"\",Uträkningsmall!D31,\"\")","v":""},null,null,null,{"$f":"IF(Uträkningsmall!$F31<>\"\",Uträkningsmall!F31,\"\")","v":""},{"$f":"IF(Uträkningsmall!$G31<>\"\",Uträkningsmall!G31,\"\")","v":""},{"$f":"IF(Uträkningsmall!$H31<>\"\",Uträkningsmall!H31,\"\")","v":""},{"$f":"IF(Uträkningsmall!$K31<>\"\",Uträkningsmall!K31,\"\")","v":""},{"$f":"IF(Uträkningsmall!$M31<>\"\",Uträkningsmall!M31,\"\")","v":""},{"$f":"IF(Uträkningsmall!$I31<>\"\",Uträkningsmall!I31,\"\")","v":""},{"$f":"IF(Uträkningsmall!$N31<>\"\",Uträkningsmall!N31,\"\")","v":""}]
[null,{"$f":"IF(Uträkningsmall!$B32<>\"\",Uträkningsmall!D32,\"\")","v":""},null,null,null,{"$f":"IF(Uträkningsmall!$F32<>\"\",Uträkningsmall!F32,\"\")","v":""},{"$f":"IF(Uträkningsmall!$G32<>\"\",Uträkningsmall!G32,\"\")","v":""},{"$f":"IF(Uträkningsmall!$H32<>\"\",Uträkningsmall!H32,\"\")","v":""},{"$f":"IF(Uträkningsmall!$K32<>\"\",Uträkningsmall!K32,\"\")","v":""},{"$f":"IF(Uträkningsmall!$M32<>\"\",Uträkningsmall!M32,\"\")","v":""},{"$f":"IF(Uträkningsmall!$I32<>\"\",Uträkningsmall!I32,\"\")","v":""},{"$f":"IF(Uträkningsmall!$N32<>\"\",Uträkningsmall!N32,\"\")","v":""}]

{"sheet":"Avtalat sortiment","index":3,"n_rows":111,"n_cols":68,"rows_kept":111,"cut":false,"hidden":false,"merged":[[0,10,0,17],[0,19,0,27],[0,29,0,37],[0,59,0,67],[0,49,0,57],[0,39,0,47]]}
[null,null,null," ",null,null,null,null,null,null,{"$f":"'Storlekar & Kontaktuppgifter'!B18","v":"Voky AB"},null,null,null,null,null,null,null,null,{"$f":"'Storlekar & Kontaktuppgifter'!C18","v":"Procurator Sverige AB"},null,null,null,null,null,null,null,null,null,{"$f":"'Storlekar & Kontaktuppgifter'!D18","v":"Office Depot Svenska AB"},"Office Depot",null,null,null,null,null,null,null,null,{"$f":"'Storlekar & Kontaktuppgifter'!E18","v":"Mediq Sverige AB"},null,null,null,null,null,null,null,null,null,{"$f":"'Storlekar & Kontaktuppgifter'!F18","v":"Lyreco Advantage Sweden AB"},"SwedOffice",null,null,null,null,null,null,null,null,{"$f":"'Storlekar & Kontaktuppgifter'!G18","v":"OneMed Sverige AB"},"Nyblomgruppen"]
["Varans position","Varugrupp","Varubenämning","Krav på varan","Krav på CE-märkning av vara","Tillämplig standard","Efterfrågad storlek","Tolerans avseende storlek","Enhet","Minsta orderkvantitet vid avrop","Offererat pris per enhet","Leveranstid (Arbetsdagar)","Antal enheter i offererad vara","Ramavtalsleverantörens artikelnummer","Ramavtalsleverantörens länk till offererad vara","Ramavtalsleverantörens artikelbenämning","Varans storlek","Eventuell övrig information",null,"Position","Offererat pris per enhet","Leveranstid (Arbetsdagar)","Antal enheter i offererad vara","Ramavtalsleverantörens artikelnummer","Ramavtalsleverantörens länk till offererad vara","Ramavtalsleverantörens artikelbenämning","Varans storlek","Eventuell övrig information",null,"Position","Offererat pris per enhet","Leveranstid (Arbetsdagar)","Antal enheter i \noffererad vara","Ramavtalsleverantörens artikelnummer","Ramavtalsleverantörens länk till offererad vara","Ramavtalsleverantörens artikelbenämning","Varans storlek","Eventuell övrig information",null,"Position","Offererat pris per enhet","Leveranstid (Arbetsdagar)","Antal enheter i \noffererad vara","Ramavtalsleverantörens artikelnummer","Ramavtalsleverantörens länk till offererad vara","Ramavtalsleverantörens artikelbenämning","Varans storlek","Eventuell övrig information",null,"Position","Offererat pris per enhet","Leveranstid (Arbetsdagar)","Antal enheter i \noffererad vara","Ramavtalsleverantörens artikelnummer","Ramavtalsleverantörens länk till offererad vara","Ramavtalsleverantörens artikelbenämning","Varans storlek","Eventuell övrig information",null,"Position","Offererat pris per enhet","Leveranstid (Arbetsdagar)","Antal enheter i offererad vara","Ramavtalsleverantörens artikelnummer","Ramavtalsleverantörens länk till offererad vara","Ramavtalsleverantörens artikelbenämning","Varans storlek","Eventuell övrig information"]
[1,"Andningsskydd","Andningsskydd/filtrerande halvmask","- Klass FFP1. \n- Med näsbygel och två band. \n- Skyddar mot damm.","Ja","EN 149:2001+A1:2009",null,null,"Styck",20,8.6,60,20,"K31285-1001","https://su.profilservice.se/su/andningsskydd/andningsskydd-ffp1/","Andningsskydd FFP1",null,null,null,1,6.74,3,1,536871,"https://www.procurator.com/svSE/c/Filtermasker/Filtrerande-halvmasker?c=23_06_01&p=U-AS36&a=536871","Halvmask 3M 8710 filtrerande mot damm",null,null,null,1,13.6,2,20,8560451,"https://www.officedepot.se/sok?query=8560451","FFP1, vikbar",null,null,null,1,10,3,20,10024162,"https://webshop.mediq.se/SwedenB2Bifs10/sv/%C3%96ppna-katalog/Skyddskl%C3%A4der-%26-Handskar/Munskydd-och-Andningsskydd/Andningsskydd/Andningsskydd-Dr%C3%A4ger-Utan-Ventil-Ffp1-X-Plore-1710/p/10024162","FFP1 UTAN VENTIL",null,null,null,1,8.49,3,20,212565,"https://www.lyrecocontract.se/web/ePortal/ctrl?action=showiteminfo&itemNo=212565","Andningsskydd 3M FFP1",null,null,null,2,27.95,90,10,200913,"https://www.onemed.se/products/I0001096","Andningsskydd op med ventil klass FFP2"]
[2,"Andningsskydd","Andningsskydd/filtrerande halvmask","- Klass FFP2. \n- Med utandningsventil. \n- Lämplig för sjukvårdsmiljöer.","Ja","EN 149:2001+A1:2009 ",null,null,"Styck",10,16.649999999999999,3,10,"K31285-1002","https://su.profilservice.se/su/andningsskydd/andningsskydd-ffp2-med-ventil/","Andningsskydd FFP2 med ventil",null,null,null,2,13.7,3,5,2052184,"https://www.procurator.com/svSE/c/Filtermasker/Filtrerande-halvmask-FFP2-med-ventil-Worksafe?c=23_06_01&p=U-CD76&a=2052184","Filtrerande halvmask Worksafe FFP2 med ventil",null,null,null,2,59,2,10,8560450,"https://www.officedepot.se/sok?query=8560450","FFP2 Ventil, vikbar",null,null,null,2,25,3,10,10023886,"https://webshop.mediq.se/SwedenB2Bifs10/sv/%C3%96ppna-katalog/Skyddskl%C3%A4der-%26-Handskar/Munskydd-och-Andningsskydd/Andningsskydd/Andningsskydd-Dr%C3%A4ger-Med-Ventil-Ffp2-X-Plore-1720v/p/10023886","FFP2 MED VENTIL",null,null,null,2,13.06,3,15,5958503,"https://www.lyrecocontract.se/web/ePortal/ctrl?action=showiteminfo&itemNo=5958503","Andningsskydd UVEX 2210 FFP2 vent. 15/FP",null,null,null,3,17.46,3,20,1134310,"https://www.onemed.se/products/I0203107","Andningsskydd Aura Respirator utan ventil klass FFP2"]
[3,"Andningsskydd","Andningsskydd/filtrerande halvmask","- Klass FFP2. \n- Utan utandningsventil. \n- Lämplig för allmänt underhållsarbete.","Ja","EN 149:2001+A1:2009 ",null,null,"Styck",30,5.16,3,20,"K31285-1003","https://su.profilservice.se/su/andningsskydd/andningsskydd-ffp2-utan-ventil/","Andningsskydd FFP2 utan ventil",null,null,null,3,5.63,3,25,2126175,"CRDLIGHT YY0525 FFP2 NR Filtermask | Procurator","Respirator CRDLIGHT YY0525 FFP2 NR Fold",null,null,null,3,3.85,2,5,8559417,"https://www.officedepot.se/sok?query=8559417","FFP2, vikbar",null,null,null,3,15.42,3,30,10023885,"https://webshop.mediq.se/SwedenB2Bifs10/sv/%C3%96ppna-katalog/Skyddskl%C3%A4der-%26-Handskar/Munskydd-och-Andningsskydd/Andningsskydd/Andningsskydd-Dr%C3%A4ger-Utan-Ventil-Ffp2-X-Plore-1720/p/10023885","FFP2 UTAN VENTIL",null,null,null,3,9.5,3,10,266751,"https://www.lyrecocontract.se/web/ePortal/ctrl?action=showiteminfo&itemNo=266751","Andningsskydd AIRNATECH FFP2 10/FP",null,null,null,4,53.31,90,10,200918,"https://www.onemed.se/products/I0001925","Andningsskydd op med ventil tbc klass FFP3"]
[4,"Andningsskydd","Andningsskydd/filtrerande halvmask","- Klass FFP3. \n- Med utandningsventil. \n- Skyddar mot fasta och vätskeformiga partiklar. \n- Justerbart band med låsklämma alternativt med en likartad funktion som låsklämma.","Ja","EN 149:2001+A1:2009",null,null,"Styck",10,27,3,10,"K31285-1004","https://su.profilservice.se/su/andningsskydd/andningsskydd-ffp3/","Andningsskydd FFP3",null,null,null,4,18.52,3,10,2103195,"https://www.procurator.com/svSE/c/Filtermasker/Filtrerande-halvmask-m-ventil-Worksafe-FFP3-R-D-V?c=23_06_01&p=J-GJ12&a=2103195","Filtrerande halvmask m ventil Worksafe FFP3 R D V",null,null,null,4,16.5,2,10,8557101,"https://www.officedepot.se/sok?query=8557101","FFP3 Ventil, vikbar",null,null,null,4,50,3,10,10024163,"https://webshop.mediq.se/SwedenB2Bifs10/sv/%C3%96ppna-katalog/Skyddskl%C3%A4der-%26-Handskar/Munskydd-och-Andningsskydd/Andningsskydd/Andningsskydd-Dr%C3%A4ger-Med-Ventil-Ffp3-X-Plore-1730v/p/10024163","FFP3 MED VENTIL",null,null,null,4,109,3,5,244548,"https://www.lyrecocontract.se/web/ePortal/ctrl?action=showiteminfo&itemNo=244548","Andningsskydd FFP3 Valve Supreme",null,null,null,5,4.4000000000000004,5,50,1116570,"https://www.onemed.se/products/I0202027","Munskydd evercare Basic öronband typ I blå"]
[5,"Munskydd","Munskydd","- Munskydd Typ I, medicinsk utrustning. \n- Tre (3) lager icke-vävt material. \n- Näsklämma. \n- Latexfri.\n- Skydd mot spridning av vätska och bakterier från munnen och näsan. \n- Även  skydd mot damm, pollen och andra mikroorganismer.  ","Ja","EN 14683:2019",null,null,"Styck",50,1.69,null,null,"K31285-1005","https://su.profilservice.se/su/munskydd/munskydd-typ-1/","Munskydd, typ 1",null,null,null,7,0.78,3,50,2121802,"Opharm Munskydd Type IIR | Procurator","Munskydd IIR 50st/frp",null,null,null,7,0.75,2,50,8559419,"https://www.officedepot.se/sok?query=8559419","Munskydd Typ IIR blå 50-fp",null,null,null,7,1.1000000000000001,3,50,10000405,"https://webshop.mediq.se/SwedenB2Bifs10/sv/%C3%96ppna-katalog/Aktuell-skyddsutrustning/Aktuell-skyddsutrustning/Aktuell-skyddsutrustning/Munskydd-Yibon-Best-Splash-Gr%C3%B6n-Vit-Klass-Iir-%C3%96ronband/p/10000405","MUNSKYDD YIBON BEST SPLASH GRÖN/VIT",null,null,null,5,null,null,null,269173,"https://www.lyrecocontract.se/web/ePortal/ctrl?action=showiteminfo&itemNo=269173","Munskydd Typ IIR med öronband Blå 50/FP",null,"Inväntar återkoppling från vår leverantör, i enlighet med 6.6.2 i underlag anger vi därmed ej pris         ",null,7,0.75,5,50,1116954,"https://www.onemed.se/products/I0202411","Munskydd op evercare typ IIR, öronband, vit"]
[7,"Munskydd","Munskydd","- Munskydd Typ IIR, medicinsk utrustning. \n- Icke-vävt material\n- Tre (3) lager med öronband.\n- Näsklämma.\n- Primärt  till vård och omsorg men även till  andra användarkategorier.","Ja","EN 14683:2019",null,null,"Styck",50,0.88,3,50,"K31285-1006","https://su.profilservice.se/su/munskydd/munskydd-typ-iir/","Munskydd, typ IIR",null,null,null,8,2.23,15,500,2127238,"https://www.procurator.com/svSE/c?query=2127238::&mya=0&tab=a","Operationsmunskydd NONE27412XL",null,null,null,8,1.1000000000000001,2,50,8558752,"https://www.officedepot.se/sok?query=8560453","Munskydd Typ IIR blå 50-fp",null,null,null,8,3.0000000000000004,3,50,10001942,"https://webshop.mediq.se/SwedenB2Bifs10/sv/%C3%96ppna-katalog/Aktuell-skyddsutrustning/Aktuell-skyddsutrustning/Aktuell-skyddsutrustning/Munskydd-Ast-Antifog-Bl%C3%A5-Klass-Iir-Knytband/p/10001942","MUNSKYDD AST ANTIFOG BLÅ",null,null,null,7,0.4,3,50,269173,"https://www.lyrecocontract.se/web/ePortal/ctrl?action=showiteminfo&itemNo=269173","Munskydd Typ IIR med öronband Blå 50/FP",null,null,null,8,1.88,30,50,291124,"https://www.onemed.se/products/I0010654","Munskydd op evercare Anti fog knyt typ IIR vit"]
[8,"Munskydd","Munskydd","- Munskydd Typ IIR.\n- Operationsmunskydd.\n- Tre (3) eller fyra (4) lager, med knytband.\n- Antifog för glasögonbärare.\n- Näsklämma.","Ja","EN 14683:2019",null,null,"Styck",60,2.34,3,60,"K31285-1007","https://su.profilservice.se/su/munskydd/operationsmunskydd-typ-iir/","Operationsmunskydd, typ IIR",null,null,null,9,75,3,1,2052401,"https://www.procurator.com/svSE/c/F%C3%B6rkl%C3%A4den/F%C3%B6rkl%C3%A4de-gr%C3%B6n-polyeten?c=23_09_01&p=U-AS24&a=2052401","Förkläde GreenPolly transparent på rulle 800x1250mm",null,null,null,10,null,null,null,null,null,null,null,null,null,9,1.84,3,50,10022265,"https://webshop.mediq.se/mediqb2bstorefront/SwedenB2Bifs10/sv/%C3%96ppna-katalog/Skyddskl%C3%A4der-%26-Handskar/F%C3%B6rkl%C3%A4den/Rulle/F%C3%B6rkl%C3%A4de-Polynovabio-vit-800x1250mm-gr%C3%B6n-PE-rulle/p/10022265 ","Förkläde Polynovabio vit 800x1250mm grön PE rulle",null,null,null,8,2.59,3,50,146669,"https://www.lyrecocontract.se/web/ePortal/ctrl?action=showiteminfo&itemNo=146669","Op-munskydd antifog lavendel 50/FP",null,null,null,9,1.1200000000000001,3,50,1135769,"https://www.onemed.se/products/I0221226/forklade-plast-engangs-selefa-bosco-green","Förkläde plast engångs Selefa 81x125cm Bosco Green dispkrt"]
[9,"Förkläde","Förkläde","- Polyeten.\n- 70% förnybar råvara.\n- Utan ärm.","Ja",null,"800 x 1250 mm","+/-7%","Styck",50,1.85,null,50,"K31285-1008","https://su.profilservice.se/su/forklade-c352/forklade-gron-pe/","Förkläde, GRÖN PE",null,null,null,10,1.07,3,50,2132671,"TrioApron CORE | Procurator ","Förkläde Trio Apron Core",null,null,null,11,null,null,null,null,null,null,null,null,null,10,0.78,3,50,10011783,"https://webshop.mediq.se/SwedenB2Bifs10/sv/%C3%96ppna-katalog/Skyddskl%C3%A4der-%26-Handskar/F%C3%B6rkl%C3%A4den/Rulle/F%C3%B6rkl%C3%A4de-Klinion-Transp-810X1500Mm-Pe-Utan-%C3%84rm-P%C3%A5-Rulle-I-Dispbox/p/10011783","FÖRKLÄDE KLINION TRANSP 810X1500MM",null,null,null,9,1.5,3,50,191886,"https://www.lyrecocontract.se/web/ePortal/ctrl?action=showiteminfo&itemNo=191886","Förkläde 80x125cm BIOBAG 50/RL",null,null,null,10,0.79,5,50,222158,"https://www.onemed.se/products/I0037802","Förkläde plast engångs Selefa 81x125cm PE transp dispkrt"]
[10,"Förkläde","Förkläde","- Polyeten. \n- Vikt. \n- I dispenser. \n- Utan ärm.","Ja",null,"800 x 1200-1250 mm. 0,019-0,025 mm tjock","+/-7%","Styck",100,1.37,3,100,"K31285-1009","https://su.profilservice.se/su/forklade-c352/forklade-utan-arm/","Förkläde, utan ärm",null,null,null,11,1.57,3,40,2103197,"https://www.procurator.com/svSE/c/F%C3%B6rkl%C3%A4den/F%C3%B6rkl%C3%A4de-Eng%C3%A5ngs-PE-Dispkrt?c=23_09_01&p=U-LX04&a=2103197&mya=0","Förkläde Engångs PE ",null,null,null,12,null,null,null,null,null,null,null,null,null,11,2.5499999999999998,10,50,10024194,"https://webshop.mediq.se/SwedenB2Bifs10/sv/%C3%96ppna-katalog/Skyddskl%C3%A4der-%26-Handskar/F%C3%B6rkl%C3%A4den/Vikta-i-p%C3%A5se/F%C3%B6rkl%C3%A4de-Worksafe-850x1600mm-Pe-Vikta-I-P%C3%A5se-Bl%C3%A5/p/10024194","Förkläde Worksafe PE 1600x850x0,05mm ",null,null,null,10,null,null,null,272945,"https://www.lyrecocontract.se/web/ePortal/ctrl?action=showiteminfo&itemNo=272945","Förkläde 80x125cm box vit40/FP",null,"Inväntar återkoppling från vår leverantör, i enlighet med 6.6.2 i underlag anger vi därmed ej pris         ",null,11,1.62,30,40,1000624,"https://www.onemed.se/products/I0042965","Förkläde plast engångs 80x160cm 23my vit dispkrt"]
[11,"Förkläde","Förkläde","- Polyeten. \n- Utan ärm. \n- Lämplig för livsmedels- och läkemedelsindustri.","Ja",null,"850 x 1600 mm. 0,024 – 0,05 tjock.","+/-7%","Styck",100,1.59,3,40,"K31285-1010","https://su.profilservice.se/su/forklade-c352/forklade-livsmedel-och-lakemedel/","Förkläde, Livsmedel och läkemedel",null,null,null,12,4.68,3,150,2036626,"https://www.procurator.com/svSE/c/F%C3%B6rkl%C3%A4den/F%C3%B6rkl%C3%A4den?c=23_09_01&p=U-7296&a=2036626","Förkläde BARRIER vit 750x1450mm",null,null,null,13,2,3,60,8558543,"https://www.officedepot.se/sok?query=8558543","Skyddsrock lång ärm 60 st/fp",null,null,null,13,4.4000000000000004,3,20,10010920,"https://webshop.mediq.se/SwedenB2Bifs10/sv/%C3%96ppna-katalog/Skyddskl%C3%A4der-%26-Handskar/F%C3%B6rkl%C3%A4den/Vikta-i-box/F%C3%B6rkl%C3%A4de-Klinion-Bl%C3%A5-980X1200Mm-Pe-M-%C3%84rm-Och-Tumh%C3%A5l-Vikta-I-Dispbox/p/10010920","FÖRKLÄDE KLINION BLÅ 980X1200MM",null,null,null,11,1.33,3,40,272946,"https://www.lyrecocontract.se/web/ePortal/ctrl?action=showiteminfo&itemNo=272946","Förkläde 80x160cm box vit 40/FP",null,null,null,12,3.99,15,150,210635,"https://www.onemed.se/products/I0006517","Förkläde viskos/plast engångs 750x1450mm"]
[12,"Förkläde","Förkläde ","- Laminat. \n- Två (2) lager. \n- Utan ärm.","Ja",null,"750 x 1450 mm","+/-7%","Styck",150,4.2,3,150,"K31285-1011","https://su.profilservice.se/su/forklade-c352/forklade-2-lager-laminat/","Förkläde, 2 lager laminat",null,null,null,13,4.88,3,20,2131519,"Worksafe Apron WS med ärm Blå | Procurator ","Förkläde med ärm 980x1200mm",null,null,null,14,1.25,5,40,8558542,"https://www.officedepot.se/sok?query=8558542","Förkläde ärmlöst 40 st/fp",null,null,null,14,0.75,10,50,10024195,"https://webshop.mediq.se/SwedenB2Bifs10/sv/%C3%96ppna-katalog/Skyddskl%C3%A4der-%26-Handskar/F%C3%B6rkl%C3%A4den/Vikta-i-p%C3%A5se/F%C3%B6rkl%C3%A4de-Worksafe-850x-1300mm-Pe-Vikta-I-P%C3%A5se-Bl%C3%A5/p/10024195","Förkläde PE 1300x850x0,035mm Worksafe ",null,null,null,12,3.33,3,150,244557,"https://www.lyrecocontract.se/web/ePortal/ctrl?action=showiteminfo&itemNo=244557","Förkläde 750 X 1450 2L Laminat",null,null,null,13,4.12,15,25,1116755,"https://www.onemed.se/products/I0202212","Skyddsrock engångs Basic 110x140cm L tumhål blå"]
[13,"Förkläde","Förkläde","- Polyeten. \n- Med ärm. \n- Hål för tumme.","Ja",null,"(980-1029 mm) x (1200-1309 mm). 0,02-0,04 mm tjock.","+/-7%","Styck",60,8.5,3,60,"K31285-1012","https://su.profilservice.se/su/forklade-c352/skyddsrock-med-lang-arm/","Skyddsrock med lång ärm",null,null,null,14,1.7,3,40,2127039,"https://www.procurator.com/svSE/c?query=2127039::&mya=0&tab=a","Förkläde Trio Apron Klapp",null,null,null,18,null,null,null,null,null,null,null,null,null,15,26,10,10,10024214,"https://webshop.mediq.se/SwedenB2Bifs10/sv/%C3%96ppna-katalog/Skyddskl%C3%A4der-%26-Handskar/Overaller/Overaller/Skyddsoverall-Worksafe-Bl%C3%A5-M-Med-Huva/p/10024214","SKYDDSOVERALL WORKSAFE BLÅ M","M",null,null,13,3.75,3,20,205330,"https://www.lyrecocontract.se/web/ePortal/ctrl?action=showiteminfo&itemNo=205330","Förkläde 98x125cm lång ärm blå 20/FP",null,null,null,14,1.34,10,100,1115336,"https://www.onemed.se/products/I0200793","Förkläde plast engångs 80x130cm 30my vit dispkrt"]
[14,"Förkläde","Förkläde","- Polyeten.  \n- Lämplig för livsmedels- och läkemedelsindustri samt vård och omsorg.\n- Utan ärm.","Ja",null,"850 x  1300 mm.  0,025 - 0,035 mm tjock","+/-7%","Styck",100,1.75,3,40,"K31285-1013","https://su.profilservice.se/su/forklade-c352/skyddsforklade-utan-arm/","Skyddsförkläde utan ärm",null,null,null,15,7.3,3,10,"2060854\n","https://www.procurator.com/svSE/c/Eng%C3%A5ngskl%C3%A4der/Eng%C3%A5ngsoverall-Worksafe-PP-coverall?c=23_09_02&p=J-BE00&a=2060854","Engångsoverall WorkSafe PP vit","M",null,null,19,68,2,1,8558404,"https://www.officedepot.se/sok?query=8558401","Arbetshandskar i getskinn s.7",7,null,null,15,26,10,10,10024215,"https://webshop.mediq.se/SwedenB2Bifs10/sv/%C3%96ppna-katalog/Skyddskl%C3%A4der-%26-Handskar/Overaller/Overaller/Skyddsoverall-Worksafe-Bl%C3%A5-L-Med-Huva/p/10024215","SKYDDSOVERALL WORKSAFE BLÅ L","L",null,null,14,1.98,3,50,211830,"https://www.lyrecocontract.se/web/ePortal/ctrl?action=showiteminfo&itemNo=211830","Förkläde 80x125cm nedbrytbart 50/RL",null,null,null,15,57.47,90,1,1134487,"https://www.onemed.se/products/I0219944","Overall Dupont Tyvek 500 ","L"]
[15,"Overall","Overall","- Engångsoverall tillverkad av polyeten eller polypropylen nonwoven.\n- Overallen stängs med dragkedja och har ett dragkedjeskydd.\n- Latexfri resår i ärm, fot och huva. \n- Användningsområden: Städarbete, målningsarbete, sanering samt skydd mot damm eller smuts.","Ja",null,"Alla storlekar i anbudsgivarens sortiment.",null,"Styck",10,33.549999999999997,3,10,"K31285-1044","https://su.profilservice.se/su/overaller/overall-typ-65/","Overall, typ 6/5","S",null,null,15,7.3,3,10,2061136,"https://www.procurator.com/svSE/c/Eng%C3%A5ngskl%C3%A4der/Eng%C3%A5ngsoverall-Worksafe-PP-coverall?c=23_09_02&p=J-BE00&a=2060854","Engångsoverall WorkSafe PP vit","L",null,null,19,68,2,null,8558405,"https://www.officedepot.se/sok?query=8558402","Arbetshandskar i getskinn s.8",8,null,null,15,26,10,10,10024125,"https://webshop.mediq.se/SwedenB2Bifs10/sv/%C3%96ppna-katalog/Skyddskl%C3%A4der-%26-Handskar/Overaller/Overaller/Skyddsoverall-Worksafe-Bl%C3%A5-Xl-Med-Huva/p/10024125","SKYDDSOVERALL WORKSAFE BLÅ XL","XL",null,null,15,14.9,3,10,244549,"https://www.lyrecocontract.se/web/ePortal/ctrl?action=showiteminfo&itemNo=244549","OX-ON PP Coverall Basic","M",null,null,16,82.47,90,1,1134488,"https://www.onemed.se/products/I0219945","Overall Dupont Tyvek 800J vit med huva","L"]
[15,"Overall","Overall","- Engångsoverall tillverkad av polyeten eller polypropylen nonwoven.\n- Overallen stängs med dragkedja och har ett dragkedjeskydd.\n- Latexfri resår i ärm, fot och huva. \n- Användningsområden: Städarbete, målningsarbete, sanering samt skydd mot damm eller smuts.","Ja",null,"Alla storlekar i anbudsgivarens sortiment.",null,"Styck",10,33.549999999999997,3,10,"K31285-1045","https://su.profilservice.se/su/overaller/overall-typ-65/","Overall, typ 6/5","M",null,null,15,7.3,3,10,2060856,"https://www.procurator.com/svSE/c/Eng%C3%A5ngskl%C3%A4der/Eng%C3%A5ngsoverall-Worksafe-PP-coverall?c=23_09_02&p=J-BE00&a=2060854","Engångsoverall WorkSafe PP vit","XL",null,null,19,68,2,null,8558406,"https://www.officedepot.se/sok?query=8558403","Arbetshandskar i getskinn s.9",9,null,null,15,21,10,10,10024126,"https://webshop.mediq.se/SwedenB2Bifs10/sv/%C3%96ppna-katalog/Skyddskl%C3%A4der-%26-Handskar/Overaller/Overaller/Skyddsoverall-Worksafe-Bl%C3%A5-Xxl-Med-Huva/p/10024126","SKYDDSOVERALL WORKSAFE BLÅ XXL","XXL",null,null,16,117.95,3,1,244550,"https://www.lyrecocontract.se/web/ePortal/ctrl?action=showiteminfo&itemNo=244550","OX-ON Coverall Chem Comfort","M",null,null,17,71.849999999999994,90,1,1117147,"https://www.onemed.se/products/I0202604","Overall DuPont Tyvek 600 plus L vit, med huva","L"]
[15,"Overall","Overall","- Engångsoverall tillverkad av polyeten eller polypropylen nonwoven.\n- Overallen stängs med dragkedja och har ett dragkedjeskydd.\n- Latexfri resår i ärm, fot och huva. \n- Användningsområden: Städarbete, målningsarbete, sanering samt skydd mot damm eller smuts.","Ja",null,"Alla storlekar i anbudsgivarens sortiment.",null,"Styck",10,33.549999999999997,3,10,"K31285-1046","https://su.profilservice.se/su/overaller/overall-typ-65/","Overall, typ 6/5","L",null,null,15,7.3,3,10,2060857,"https://www.procurator.com/svSE/c/Eng%C3%A5ngskl%C3%A4der/Eng%C3%A5ngsoverall-Worksafe-PP-coverall?c=23_09_02&p=J-BE00&a=2060854","Engångsoverall WorkSafe PP vit","XXL",null,null,19,68,2,null,8558401,"https://www.officedepot.se/sok?query=8558404","Arbetshandskar i getskinn s.10",10,null,null,16,135,3,1,10024127,"https://webshop.mediq.se/SwedenB2Bifs10/sv/%C3%96ppna-katalog/Skyddskl%C3%A4der-%26-Handskar/Overaller/Overaller/Skyddsoverall-Worksafe-Pro-310-S-Med-Huva/p/10024127","SKYDDSOVERALL WORKSAFE PRO.310 S","S",null,null,17,54.95,3,1,244551,"https://www.lyrecocontract.se/web/ePortal/ctrl?action=showiteminfo&itemNo=244551","OX-ON Protect Coverall Comfort","M",null,null,22,4.29,5,50,1129857,"https://www.onemed.se/products/I0215314","Handske nitril Microflex S 93-853 pf","S"]
[15,"Overall","Overall","- Engångsoverall tillverkad av polyeten eller polypropylen nonwoven.\n- Overallen stängs med dragkedja och har ett dragkedjeskydd.\n- Latexfri resår i ärm, fot och huva. \n- Användningsområden: Städarbete, målningsarbete, sanering samt skydd mot damm eller smuts.","Ja",null,"Alla storlekar i anbudsgivarens sortiment.",null,"Styck",10,33.549999999999997,3,10,"K31285-1047","https://su.profilservice.se/su/overaller/overall-typ-65/","Overall, typ 6/5","XL",null,null,15,7.3,3,10,2060858,"https://www.procurator.com/svSE/c/Eng%C3%A5ngskl%C3%A4der/Eng%C3%A5ngsoverall-Worksafe-PP-coverall?c=23_09_02&p=J-BE00&a=2060854","Engångsoverall WorkSafe PP vit","XXXL",null,null,19,68,2,null,8558402,"https://www.officedepot.se/sok?query=8558405","Arbetshandskar i getskinn s.11",11,null,null,16,135,10,1,10024128,"https://webshop.mediq.se/SwedenB2Bifs10/sv/%C3%96ppna-katalog/Skyddskl%C3%A4der-%26-Handskar/Overaller/Overaller/Skyddsoverall-Worksafe-Pro-310-M-Med-Huva/p/10024128","SKYDDSOVERALL WORKSAFE PRO.310 M","M",null,null,18,0.39,3,100,244552,"https://www.lyrecocontract.se/web/ePortal/ctrl?action=showiteminfo&itemNo=244552","Ärmskydd blå 40 cm",null,null,null,22,4.29,5,50,1129858,"https://www.onemed.se/products/I0215315","Handske nitril Microflex M 93-853 pf","M"]
[15,"Overall","Overall","- Engångsoverall tillverkad av polyeten eller polypropylen nonwoven.\n- Overallen stängs med dragkedja och har ett dragkedjeskydd.\n- Latexfri resår i ärm, fot och huva. \n- Användningsområden: Städarbete, målningsarbete, sanering samt skydd mot damm eller smuts.","Ja",null,"Alla storlekar i anbudsgivarens sortiment.",null,"Styck",10,33.549999999999997,3,10,"K31285-1048","https://su.profilservice.se/su/overaller/overall-typ-65/","Overall, typ 6/5","XXL",null,null,16,33.380000000000003,3,1,"2060889\n","https://www.procurator.com/svSE/c/Korttidsoveraller/Korttidsoverall-Worksafe-ProTect-310-Typ-3-4-5?c=23_09_03&p=J-BE06&a=2060889","Engångsoverall Worksafe ProTect 310  Gul","S",null,null,19,68,2,null,8558403,"https://www.officedepot.se/sok?query=8558406","Arbetshandskar i getskinn s.12",12,null,null,16,135,10,1,10024129,"https://webshop.mediq.se/SwedenB2Bifs10/sv/%C3%96ppna-katalog/Skyddskl%C3%A4der-%26-Handskar/Overaller/Overaller/Skyddsoverall-Worksafe-Pro-310-L-Med-Huva/p/10024129","SKYDDSOVERALL WORKSAFE PRO.310 L","L",null,null,19,71.95,3,1,244553,"https://www.lyrecocontract.se/web/ePortal/ctrl?action=showiteminfo&itemNo=244553","OX-ON Winter Supreme 3600",8,null,null,22,4.29,5,50,1129859,"https://www.onemed.se/products/I0215316","Handske nitril Microflex L 93-853 pf","L"]
[15,"Overall","Overall","- Engångsoverall tillverkad av polyeten eller polypropylen nonwoven.\n- Overallen stängs med dragkedja och har ett dragkedjeskydd.\n- Latexfri resår i ärm, fot och huva. \n- Användningsområden: Städarbete, målningsarbete, sanering samt skydd mot damm eller smuts.","Ja",null,"Alla storlekar i anbudsgivarens sortiment.",null,"Styck",10,33.549999999999997,3,10,"K31285-1049","https://su.profilservice.se/su/overaller/overall-typ-65/","Overall, typ 6/5","XXXL",null,null,16,33.380000000000003,3,1,2060890,"https://www.procurator.com/svSE/c/Korttidsoveraller/Korttidsoverall-Worksafe-ProTect-310-Typ-3-4-5?c=23_09_03&p=J-BE06&a=2060889","Engångsoverall Worksafe ProTect 310  Gul","M",null,null,20,15.9,3,1,8558411,"https://www.officedepot.se/sok?query=8558411","Montagehandske, nylon s.7",7,null,null,16,135,10,1,10024130,"https://webshop.mediq.se/SwedenB2Bifs10/sv/%C3%96ppna-katalog/Skyddskl%C3%A4der-%26-Handskar/Overaller/Overaller/Skyddsoverall-Worksafe-Pro-310-Xl-Med-Huva/p/10024130","SKYDDSOVERALL WORKSAFE PRO.310 XL","XL",null,null,20,9.9499999999999993,3,1,160305,"https://www.lyrecocontract.se/web/ePortal/ctrl?action=showiteminfo&itemNo=160305","Montagehandske 100.0433 S9 PAR",9,"Large",null,22,4.29,5,50,1129860,"https://www.onemed.se/products/I0215317","Handske nitril Microflex XL 93-853 pf","XL"]
[16,"Overall","Overall","- Skyddsoverall/korttidsoverall tillverkad av flerlagslaminat. \n- Skyddsnivå 3,4,5. \n- Lämplig för rengörings- och underhållsarbeten, kemikaliehantering och vid biologiska risker. \n- Dubbelhäftande blixtlåsklaff. \n- Resår vid ärmar och ben samt tumögla. \n- Huva som passar heltäckande mask. \n- Partikeltät. \n- Antistatisk.","Ja",null,"Alla storlekar i anbudsgivarens sortiment.",null,"Styck",1,95,3,1,"K31285-1050","https://su.profilservice.se/su/overaller/overall-3456/","Overall, 3/4/5/6","M",null,null,16,33.380000000000003,3,1,2060891,"https://www.procurator.com/svSE/c/Korttidsoveraller/Korttidsoverall-Worksafe-ProTect-310-Typ-3-4-5?c=23_09_03&p=J-BE06&a=2060889","Engångsoverall Worksafe ProTect 310  Gul","L",null,null,20,15.9,3,null,8558412,"https://www.officedepot.se/sok?query=8558412","Montagehandske, nylon s.8",8,null,null,16,135,10,1,10024131,"https://webshop.mediq.se/SwedenB2Bifs10/sv/%C3%96ppna-katalog/Skyddskl%C3%A4der-%26-Handskar/Overaller/Overaller/Skyddsoverall-Worksafe-Pro-310-2xl-Med-Huva/p/10024131","SKYDDSOVERALL WORKSAFE PRO.310 2XL","2XL",null,null,20,9.9499999999999993,3,1,160304,"https://www.lyrecocontract.se/web/ePortal/ctrl?action=showiteminfo&itemNo=160304","Montagehandske 100.0433 S8 PAR",8,"Medium",null,22,4.29,5,50,1129861,"https://www.onemed.se/products/I0215318","Handske nitril Microflex XXL 93-853 pf","XXL"]
[16,"Overall","Overall","- Skyddsoverall/korttidsoverall tillverkad av flerlagslaminat. \n- Skyddsnivå 3,4,5. \n- Lämplig för rengörings- och underhållsarbeten, kemikaliehantering och vid biologiska risker. \n- Dubbelhäftande blixtlåsklaff. \n- Resår vid ärmar och ben samt tumögla. \n- Huva som passar heltäckande mask. \n- Partikeltät. \n- Antistatisk.","Ja",null,"Alla storlekar i anbudsgivarens sortiment.",null,"Styck",1,95,3,1,"K31285-1051","https://su.profilservice.se/su/overaller/overall-3456/","Overall, 3/4/5/6","L",null,null,16,33.380000000000003,3,1,2060892,"https://www.procurator.com/svSE/c/Korttidsoveraller/Korttidsoverall-Worksafe-ProTect-310-Typ-3-4-5?c=23_09_03&p=J-BE06&a=2060889","Engångsoverall Worksafe ProTect 310  Gul","XL",null,null,20,15.9,3,null,8558413,"https://www.officedepot.se/sok?query=8558413","Montagehandske, nylon s.9",9,null,null,17,130,10,1,10024132,"https://webshop.mediq.se/SwedenB2Bifs10/sv/%C3%96ppna-katalog/Skyddskl%C3%A4der-%26-Handskar/Overaller/Overaller/Skyddsoverall-2000ts-Safe-S-Modell-111/p/10024132","SKYDDSOVERALL 2000TS SAFE S","S",null,null,20,9.9499999999999993,3,1,160303,"https://www.lyrecocontract.se/web/ePortal/ctrl?action=showiteminfo&itemNo=160303","Montagehandske 100.0433 S7 PAR",7,"Small",null,25,1.1499999999999999,5,150,1004098,"https://www.onemed.se/products/I0089567","Handske us nitrile evercare pf XS SATIN vit AQL 1,5","XS"]
[16,"Overall","Overall","- Skyddsoverall/korttidsoverall tillverkad av flerlagslaminat. \n- Skyddsnivå 3,4,5. \n- Lämplig för rengörings- och underhållsarbeten, kemikaliehantering och vid biologiska risker. \n- Dubbelhäftande blixtlåsklaff. \n- Resår vid ärmar och ben samt tumögla. \n- Huva som passar heltäckande mask. \n- Partikeltät. \n- Antistatisk.","Ja",null,"Alla storlekar i anbudsgivarens sortiment.",null,"Styck",1,95,3,1,"K31285-1052","https://su.profilservice.se/su/overaller/overall-3456/","Overall, 3/4/5/6","XL",null,null,16,33.380000000000003,3,1,2060893,"https://www.procurator.com/svSE/c/Korttidsoveraller/Korttidsoverall-Worksafe-ProTect-310-Typ-3-4-5?c=23_09_03&p=J-BE06&a=2060889","Engångsoverall Worksafe ProTect 310  Gul","XXL",null,null,20,15.9,3,null,8558408,"https://www.officedepot.se/sok?query=8558408","Montagehandske, nylon s.10",10,null,null,17,130,10,1,10024133,"https://webshop.mediq.se/SwedenB2Bifs10/sv/%C3%96ppna-katalog/Skyddskl%C3%A4der-%26-Handskar/Overaller/Overaller/Skyddsoverall-2000ts-Safe-M-Modell-111/p/10024133","SKYDDSOVERALL 2000TS SAFE M","M",null,null,20,9.9499999999999993,3,1,160306,"https://www.lyrecocontract.se/web/ePortal/ctrl?action=showiteminfo&itemNo=160306","Montagehandske 100.0433 S10 PAR",10,"X-Large",null,25,1.1499999999999999,5,150,1004099,"https://www.onemed.se/products/I0089568","Handske us nitrile evercare pf S SATIN vit AQL 1,5","S"]
[16,"Overall","Overall","- Skyddsoverall/korttidsoverall tillverkad av flerlagslaminat. \n- Skyddsnivå 3,4,5. \n- Lämplig för rengörings- och underhållsarbeten, kemikaliehantering och vid biologiska risker. \n- Dubbelhäftande blixtlåsklaff. \n- Resår vid ärmar och ben samt tumögla. \n- Huva som passar heltäckande mask. \n- Partikeltät. \n- Antistatisk.","Ja",null,"Alla storlekar i anbudsgivarens sortiment.",null,"Styck",1,95,3,1,"K31285-1053","https://su.profilservice.se/su/overaller/overall-3456/","Overall, 3/4/5/6","XXL",null,null,16,33.380000000000003,3,1,2060894,"https://www.procurator.com/svSE/c/Korttidsoveraller/Korttidsoverall-Worksafe-ProTect-310-Typ-3-4-5?c=23_09_03&p=J-BE06&a=2060889","Engångsoverall Worksafe ProTect 310  Gul","XXXL",null,null,20,15.9,3,null,8558409,"https://www.officedepot.se/sok?query=8558409","Montagehandske, nylon s.11",11,null,null,17,130,10,1,10024134,"https://webshop.mediq.se/SwedenB2Bifs10/sv/%C3%96ppna-katalog/Skyddskl%C3%A4der-%26-Handskar/Overaller/Overaller/Skyddsoverall-2000ts-Safe-L-Modell-111/p/10024134","SKYDDSOVERALL 2000TS SAFE L","L",null,null,20,9.9499999999999993,3,1,160307,"https://www.lyrecocontract.se/web/ePortal/ctrl?action=showiteminfo&itemNo=160307","Montagehandske 100.0433 S11 PAR",11,"XX-Large",null,25,1.1499999999999999,5,150,1004100,"https://www.onemed.se/products/I0089569","Handske us nitrile evercare pf M SATIN vit AQL 1,5","M"]
[17,"Overall","Overall","- Skyddsoverall/korttidsoverall tillverkad av polyeten. \n- Skyddsnivå 4,5,6. \n- Huva med resår i öppningen och självhäftande klaff vid hakan för tät tillslutning vid användande av heltäckande ansiktsmask. \n- Resår i midja, ärmar och ben. \n- Blixtlås med självhäftande skyddsklaff. \n- Antistatisk.","Ja",null,"Alla storlekar i anbudsgivarens sortiment.",null,"Styck",1,82.5,3,1,"K31285-1054","https://su.profilservice.se/su/overaller/overall-456/","Overall, 4/5/6","M",null,null,17,39.93,3,1,"2067127\n","https://www.procurator.com/svSE/c/Korttidsoveraller/Korttidsoverall-Microgard-2000-TS-Plus?c=23_09_03&p=J-BO50&a=2067127","Engångsoverall AlphaTec 2000 Ts+ 111  Vit","S",null,null,20,15.9,3,null,8558410,"https://www.officedepot.se/sok?query=8558410","Montagehandske, nylon s.12",12,null,null,17,130,10,1,10024135,"https://webshop.mediq.se/SwedenB2Bifs10/sv/%C3%96ppna-katalog/Skyddskl%C3%A4der-%26-Handskar/Overaller/Overaller/Skyddsoverall-2000ts-Safe-Xl-Modell-111/p/10024135","SKYDDSOVERALL 2000TS SAFE XL","XL",null,null,21,24.95,3,1,160369,"https://www.lyrecocontract.se/web/ePortal/ctrl?action=showiteminfo&itemNo=160369","Montagehandske 113.4296 S9 PAR",9,"Large",null,25,1.1499999999999999,5,150,1004101,"https://www.onemed.se/products/I0089570","Handske us nitrile evercare pf L SATIN vit AQL 1,5","L"]
[17,"Overall","Overall","- Skyddsoverall/korttidsoverall tillverkad av polyeten. \n- Skyddsnivå 4,5,6. \n- Huva med resår i öppningen och självhäftande klaff vid hakan för tät tillslutning vid användande av heltäckande ansiktsmask. \n- Resår i midja, ärmar och ben. \n- Blixtlås med självhäftande skyddsklaff. \n- Antistatisk.","Ja",null,"Alla storlekar i anbudsgivarens sortiment.",null,"Styck",1,82.5,3,1,"K31285-1055","https://su.profilservice.se/su/overaller/overall-456/","Overall, 4/5/6","L",null,null,17,39.93,3,1,2067128,"https://www.procurator.com/svSE/c/Korttidsoveraller/Korttidsoverall-Microgard-2000-TS-Plus?c=23_09_03&p=J-BO50&a=2067127","Engångsoverall AlphaTec 2000 Ts+ 111  Vit","M",null,null,21,26,2,1,"8557458","https://www.officedepot.se/sok?query=8557458","Montagehandskar, getnarv s.10",10,null,null,17,130,10,1,10024136,"https://webshop.mediq.se/SwedenB2Bifs10/sv/%C3%96ppna-katalog/Skyddskl%C3%A4der-%26-Handskar/Overaller/Overaller/Skyddsoverall-2000ts-Safe-2-Xl-Modell-111/p/10024136","SKYDDSOVERALL 2000TS SAFE 2 XL","XXL",null,null,21,24.95,3,1,160368,"https://www.lyrecocontract.se/web/ePortal/ctrl?action=showiteminfo&itemNo=160368","Montagehandske 113.4296 S8 PAR",8,"Medium",null,25,1.1499999999999999,5,150,1004102,"https://www.onemed.se/products/I0089571","Handske us nitrile evercare pf XL SATIN vit AQL 1,5","XL"]
[17,"Overall","Overall","- Skyddsoverall/korttidsoverall tillverkad av polyeten. \n- Skyddsnivå 4,5,6. \n- Huva med resår i öppningen och självhäftande klaff vid hakan för tät tillslutning vid användande av heltäckande ansiktsmask. \n- Resår i midja, ärmar och ben. \n- Blixtlås med självhäftande skyddsklaff. \n- Antistatisk.","Ja",null,"Alla storlekar i anbudsgivarens sortiment.",null,"Styck",1,82.5,3,1,"K31285-1056","https://su.profilservice.se/su/overaller/overall-456/","Overall, 4/5/6","XL",null,null,17,39.93,3,1,2067129,"https://www.procurator.com/svSE/c/Korttidsoveraller/Korttidsoverall-Microgard-2000-TS-Plus?c=23_09_03&p=J-BO50&a=2067127","Engångsoverall AlphaTec 2000 Ts+ 111  Vit","L",null,null,21,26,2,null,"8557459","https://www.officedepot.se/sok?query=8557459","Montagehandskar, getnarv s.11",11,null,null,17,130,10,1,10024156,"https://webshop.mediq.se/SwedenB2Bifs10/sv/%C3%96ppna-katalog/Skyddskl%C3%A4der-%26-Handskar/Overaller/Overaller/Skyddsoverall-2000ts-Safe-3xl-Modell-111/p/10024156","SKYDDSOVERALL 2000TS SAFE 3XL","XXXL",null,null,21,24.95,3,1,160367,"https://www.lyrecocontract.se/web/ePortal/ctrl?action=showiteminfo&itemNo=160367","Montagehandske 113.4296 S7 PAR ",7,"Small",null,26,1.6,10,100,1008709,"https://www.onemed.se/products/I0094178","Handske us nitrile evercare pf XS SATIN X-LONG vit AQL 1,5","XS"]
[17,"Overall","Overall","- Skyddsoverall/korttidsoverall tillverkad av polyeten. \n- Skyddsnivå 4,5,6. \n- Huva med resår i öppningen och självhäftande klaff vid hakan för tät tillslutning vid användande av heltäckande ansiktsmask. \n- Resår i midja, ärmar och ben. \n- Blixtlås med självhäftande skyddsklaff. \n- Antistatisk.","Ja",null,"Alla storlekar i anbudsgivarens sortiment.",null,"Styck",1,82.5,3,1,"K31285-1057","https://su.profilservice.se/su/overaller/overall-456/","Overall, 4/5/6","XXL",null,null,17,39.93,3,1,2067130,"https://www.procurator.com/svSE/c/Korttidsoveraller/Korttidsoverall-Microgard-2000-TS-Plus?c=23_09_03&p=J-BO50&a=2067127","Engångsoverall AlphaTec 2000 Ts+ 111  Vit","XL",null,null,21,26,2,null,"8557460","https://www.officedepot.se/sok?query=8557460","Montagehandskar, getnarv s.6",6,null,null,18,0.6,3,100,10022905,"https://webshop.mediq.se/SwedenB2Bifs10/sv/%C3%96ppna-katalog/Aktuell-skyddsutrustning/Aktuell-skyddsutrustning/Aktuell-skyddsutrustning/%C3%84rmskydd-Ast-Plast-Eng%C3%A5ngs-Bl%C3%A5/p/10022905","ÄRMSKYDD AST PLAST ENGÅNGS BLÅ",null,null,null,21,24.95,3,1,160370,"https://www.lyrecocontract.se/web/ePortal/ctrl?action=showiteminfo&itemNo=160370","Montagehandske 113.4296 S10 PAR",10,"X-Large",null,26,1.6,10,100,1008710,"https://www.onemed.se/products/I0094179","Handske us nitrile evercare pf S SATIN X-LONG vit AQL 1,5","S"]
[17,"Overall","Overall","- Skyddsoverall/korttidsoverall tillverkad av polyeten. \n- Skyddsnivå 4,5,6. \n- Huva med resår i öppningen och självhäftande klaff vid hakan för tät tillslutning vid användande av heltäckande ansiktsmask. \n- Resår i midja, ärmar och ben. \n- Blixtlås med självhäftande skyddsklaff. \n- Antistatisk.","Ja",null,"Alla storlekar i anbudsgivarens sortiment.",null,"Styck",1,82.5,3,1,"K31285-1058","https://su.profilservice.se/su/overaller/overall-456/","Overall, 4/5/6","XXXL",null,null,17,39.93,3,1,2067131,"https://www.procurator.com/svSE/c/Korttidsoveraller/Korttidsoverall-Microgard-2000-TS-Plus?c=23_09_03&p=J-BO50&a=2067127","Engångsoverall AlphaTec 2000 Ts+ 111  Vit","XXL",null,null,21,26,2,null,"8557461","https://www.officedepot.se/sok?query=8557461","Montagehandskar, getnarv s.7..",7,null,null,23,0.8,3,150,10003891,"webshop.mediq.se/SwedenB2B/sv/search/?text=1513300","HANDSKE UNDERSÖK KLINION ACCFRI ","XS",null,null,21,24.95,3,1,160366,"https://www.lyrecocontract.se/web/ePortal/ctrl?action=showiteminfo&itemNo=160366","Montagehandske 113.4296 S6 PAR",6,"X-Small",null,26,1.6,10,100,1008711,"https://www.onemed.se/products/I0094180","Handske us nitrile evercare pf M SATIN X-LONG vit AQL 1,5","M"]
[18,"Ärmskydd","Ärmskydd med resår","- Latex- och PVC-fritt ärmskydd gjort av 100% polyeten. \n- Ärmskyddet hjälper till att skydda underarmarna.","Ja",null,"400 x 200 mm. 0,02-0,03 mm tjock","+/-5%","Styck",100,3.99,3,100,"K31285-1017","https://su.profilservice.se/su/armskydd/armskydd-med-resar/","Ärmskydd med resår",null,null,null,17,39.93,3,1,2067132,"https://www.procurator.com/svSE/c/Korttidsoveraller/Korttidsoverall-Microgard-2000-TS-Plus?c=23_09_03&p=J-BO50&a=2067127","Engångsoverall AlphaTec 2000 Ts+ 111  Vit","XXXL",null,null,21,26,2,null,"8557462","https://www.officedepot.se/sok?query=8557462","Montagehandskar, getnarv s.8",8,null,null,23,0.8,3,150,10003793,"webshop.mediq.se/SwedenB2B/sv/search/?text=1513301","HANDSKE UNDERSÖK KLINION ACCFRI ","S",null,null,21,24.95,3,1,160371,"https://www.lyrecocontract.se/web/ePortal/ctrl?action=showiteminfo&itemNo=160371","Montagehandske 113.4296 S11 PAR",11,"XX-Large",null,26,1.6,10,100,1008712,"https://www.onemed.se/products/I0094181","Handske us nitrile evercare pf L SATIN X-LONG vit AQL 1,5","L"]
[19,"Handskar","Montagehandske ","- Arbetshandske. \n- Läderhandske med getnarv på insidan och spandex, eller annat material med motsvarande elastiska egenskaper, på ovansidan.\n- Varmfodrad, vattentät. \n- Resår 360°. ","Ja","EN 388, EN 511, EN 420","Alla storlekar i anbudsgivarens sortiment.",null,"Par",1,89,3,1,"K31285-1091","https://su.profilservice.se/su/handskar-c355/arbetshandske-lader/","Arbetshandske, Läder",8,null,null,18,0.38,3,100,2103211,"https://www.procurator.com/svSE/c/Eng%C3%A5ngskl%C3%A4der/%C3%84rmskydd-PE-ljusbl%C3%A5tt?c=23_09_02&p=J-FK11&a=2103211","Ärmskydd PE 002mm 40cm ",null,null,null,21,26,2,null,"8557463","https://www.officedepot.se/sok?query=8557463","Montagehandskar, getnarv s.9",9,null,null,23,0.8,3,150,10003159,"webshop.mediq.se/SwedenB2B/sv/search/?text=1513302","HANDSKE UNDERSÖK KLINION ACCFRI ","M",null,null,22,0.33,3,100,14968601,"https://www.lyrecocontract.se/web/ePortal/ctrl?action=showiteminfo&itemNo=14968601","Nitrilhandske Pud.fri Classic S 100/FP","S",null,null,26,1.6,10,100,1008713,"https://www.onemed.se/products/I0094182","Handske us nitrile evercare pf XL SATIN X-LONG vit AQL 1,5","XL"]
[19,"Handskar","Montagehandske ","- Arbetshandske. \n- Läderhandske med getnarv på insidan och spandex, eller annat material med motsvarande elastiska egenskaper, på ovansidan.\n- Varmfodrad, vattentät. \n- Resår 360°. ","Ja","EN 388, EN 511, EN 420","Alla storlekar i anbudsgivarens sortiment.",null,"Par",1,89,3,1,"K31285-1092","https://su.profilservice.se/su/handskar-c355/arbetshandske-lader/","Arbetshandske, Läder",9,null,null,19,36.869999999999997,3,1,"2059936\n","https://www.procurator.com/svSE/c/Vinterhandskar/Montagehandske-getnarv-Worksafe-A10-137W?c=23_02_14&p=J-BD72&a=2059936","Montagehandske getnarv WorkSafe A10-137W ",7,null,null,22,1.8,5,100,8558407,"https://www.officedepot.se/sok?query=8558407","Handske Nitril kem.res. M 100/","M",null,null,23,0.8,3,150,10003822,"webshop.mediq.se/SwedenB2B/sv/search/?text=1513303","HANDSKE UNDERSÖK KLINION ACCFRI ","L",null,null,22,0.33,3,100,14968612,"https://www.lyrecocontract.se/web/ePortal/ctrl?action=showiteminfo&itemNo=14968612","Nitrilhandske Pud.fri Classic M 100/FP","M",null,null,27,0.67,5,100,295821,"https://www.onemed.se/products/I0010676","Handske us vinyl evercare pf S SENSITIVE ftalatfri AQL 1,5","S"]
[19,"Handskar","Montagehandske ","- Arbetshandske. \n- Läderhandske med getnarv på insidan och spandex, eller annat material med motsvarande elastiska egenskaper, på ovansidan.\n- Varmfodrad, vattentät. \n- Resår 360°. ","Ja","EN 388, EN 511, EN 420","Alla storlekar i anbudsgivarens sortiment.",null,"Par",1,89,3,1,"K31285-1093","https://su.profilservice.se/su/handskar-c355/arbetshandske-lader/","Arbetshandske, Läder",10,null,null,19,36.869999999999997,3,1,2059937,"https://www.procurator.com/svSE/c/Vinterhandskar/Montagehandske-getnarv-Worksafe-A10-137W?c=23_02_14&p=J-BD72&a=2059936","Montagehandske getnarv WorkSafe A10-137W ",8,null,null,24,2.4979166666666672,5,12,8558500,"https://www.officedepot.se/sok?query=8558500","Handske nitril kem.res. S 48/","S",null,null,23,0.8,3,150,null,"webshop.mediq.se/SwedenB2B/sv/search/?text=1513304","HANDSKE UNDERSÖK KLINION ACCFRI ","XL",null,null,22,0.33,3,100,14968623,"https://www.lyrecocontract.se/web/ePortal/ctrl?action=showiteminfo&itemNo=14968623","Nitrilhandske Pud.fri Classic L 100/FP","L",null,null,27,0.67,5,100,295822,"https://www.onemed.se/products/I0010698","Handske us vinyl evercare pf M SENSITIVE ftalatfri AQL 1,5","M"]
[20,"Handskar","Montagehandske ","- Arbetshandske i syntetmaterial.\n- Ofodrad. ","Ja","EN 388, 420 ","Alla storlekar i anbudsgivarens sortiment.",null,"Par",1,12.8,3,1,"K31285-1094","https://su.profilservice.se/su/handskar-c355/arbetshandske-syntetmaterial-p12777/","Arbetshandske, syntetmaterial",7,null,null,19,36.869999999999997,3,1,2059938,"https://www.procurator.com/svSE/c/Vinterhandskar/Montagehandske-getnarv-Worksafe-A10-137W?c=23_02_14&p=J-BD72&a=2059936","Montagehandske getnarv WorkSafe A10-137W ",9,null,null,24,2.4979166666666672,5,null,8558499,"https://www.officedepot.se/sok?query=8558499","Handske nitril kem.res. M 48/","M",null,null,24,18,10,12,10024205,"webshop.mediq.se/SwedenB2B/sv/search/?text=1513315","HANDSKE UNDERSÖK KEM 184A STRL 7","S",null,null,22,0.33,3,100,14968634,"https://www.lyrecocontract.se/web/ePortal/ctrl?action=showiteminfo&itemNo=14968634","Nitrilhandske pud.fri Classic XL 100/FP","XL",null,null,27,0.67,5,100,295823,"https://www.onemed.se/products/I0027374","Handske us vinyl evercare pf l SENSITIVE ftalatfri AQL 1,5","L"]
[20,"Handskar","Montagehandske ","- Arbetshandske i syntetmaterial.\n- Ofodrad. ","Ja","EN 388, 420 ","Alla storlekar i anbudsgivarens sortiment.",null,"Par",1,12.8,3,1,"K31285-1095","https://su.profilservice.se/su/handskar-c355/arbetshandske-syntetmaterial-p12777/","Arbetshandske, syntetmaterial",8,null,null,19,36.869999999999997,3,1,2059939,"https://www.procurator.com/svSE/c/Vinterhandskar/Montagehandske-getnarv-Worksafe-A10-137W?c=23_02_14&p=J-BD72&a=2059936","Montagehandske getnarv WorkSafe A10-137W ",10,null,null,24,2.4979166666666672,5,null,8558498,"https://www.officedepot.se/sok?query=8558498","Handske nitril kem.res. L 48/","L",null,null,24,18,10,12,10024206,"webshop.mediq.se/SwedenB2B/sv/search/?text=1513316","HANDSKE UNDERSÖK KEM 184A STRL 8","M",null,null,23,0.84499999999999997,3,100,14968601,"https://www.lyrecocontract.se/web/ePortal/ctrl?action=showiteminfo&itemNo=14968601","Handske Classic Nitril puderfri S 100/FP","S",null,null,27,0.67,5,100,295824,"https://www.onemed.se/products/I0027629","Handske us vinyl evercare pf xl SENSITIVE ftalatfri AQL 1,5","XL"]
[20,"Handskar","Montagehandske ","- Arbetshandske i syntetmaterial.\n- Ofodrad. ","Ja","EN 388, 420 ","Alla storlekar i anbudsgivarens sortiment.",null,"Par",1,12.8,3,1,"K31285-1096","https://su.profilservice.se/su/handskar-c355/arbetshandske-syntetmaterial-p12777/","Arbetshandske, syntetmaterial",9,null,null,19,36.869999999999997,3,1,2059940,"https://www.procurator.com/svSE/c/Vinterhandskar/Montagehandske-getnarv-Worksafe-A10-137W?c=23_02_14&p=J-BD72&a=2059936","Montagehandske getnarv WorkSafe A10-137W ",11,null,null,24,2.4979166666666672,5,null,8558501,"https://www.officedepot.se/sok?query=8558501","Handske nitril kem.res. XL 48/","XL",null,null,24,18,10,12,10024207,"webshop.mediq.se/SwedenB2B/sv/search/?text=1513317","HANDSKE UNDERSÖK KEM 184A STRL 9","L",null,null,23,0.84499999999999997,3,100,14968612,"https://www.lyrecocontract.se/web/ePortal/ctrl?action=showiteminfo&itemNo=14968612","Handske Classic Nitril puderfri M 100/FP","M",null,null,28,0.67,5,100,1031030,"https://www.onemed.se/products/I0116487","Handske us vinyl Selefa pf M ftalatfri AQL 1,5","XS"]
[21,"Handskar","Montagehandske ","- Arbetshandske. Getnarv/nylon. \n- Isydd tumme. \n- Mycket god passform. \n- Slitstark.","Ja","EN 388:2016","Alla storlekar i anbudsgivarens sortiment.",null,"Par",1,45,3,1,"K31285-1097","https://su.profilservice.se/su/handskar-c355/arbetshandske-getskinn/","Arbetshandske, getskinn",7,null,null,19,36.869999999999997,3,1,2059941,"https://www.procurator.com/svSE/c/Vinterhandskar/Montagehandske-getnarv-Worksafe-A10-137W?c=23_02_14&p=J-BD72&a=2059936","Montagehandske getnarv WorkSafe A10-137W ",12,null,null,24,2.4979166666666672,5,null,8558502,"https://www.officedepot.se/sok?query=8558502","Handske nitril kem.res. XXL 48","XXL",null,null,24,18,10,12,10024208,"webshop.mediq.se/SwedenB2B/sv/search/?text=1513318","HANDSKE UNDERSÖK KEM 184A STRL 10","XL",null,null,23,0.84499999999999997,3,100,14968623,"https://www.lyrecocontract.se/web/ePortal/ctrl?action=showiteminfo&itemNo=14968623","Handske Classic Nitril puderfri L 100/FP","L",null,null,28,0.67,5,100,1031031,"https://www.onemed.se/products/I0116488","Handske us vinyl Selefa pf M ftalatfri AQL 1,5","S"]
[21,"Handskar","Montagehandske ","- Arbetshandske. Getnarv/nylon. \n- Isydd tumme. \n- Mycket god passform. \n- Slitstark.","Ja","EN 388:2016","Alla storlekar i anbudsgivarens sortiment.",null,"Par",1,45,3,1,"K31285-1098","https://su.profilservice.se/su/handskar-c355/arbetshandske-getskinn/","Arbetshandske, getskinn",8,null,null,20,null,null,null,null,"https://www.procurator.com/svSE/c/Montagehandskar/Montagehandske-konstl%C3%A4der-Worksafe-A100?c=23_02_01&p=U-AR98&a=2052135","Montagehandske Worksafe A100 ",7,null,null,24,2.4979166666666672,5,null,8558503,"https://www.officedepot.se/sok?query=8558503","Handske nitril kem.res.XXXL 48","XXXL",null,null,24,18,10,12,10024209,"webshop.mediq.se/SwedenB2B/sv/search/?text=1513319","HANDSKE UNDERSÖK KEM 184A STRL 11","XXL",null,null,23,0.84499999999999997,3,100,14968634,"https://www.lyrecocontract.se/web/ePortal/ctrl?action=showiteminfo&itemNo=14968634","Handske Classic Nitril pud.fri XL 100/FP","XL",null,null,28,0.67,5,100,1031032,"https://www.onemed.se/products/I0116489","Handske us vinyl Selefa pf M ftalatfri AQL 1,5","M"]
[21,"Handskar","Montagehandske ","- Arbetshandske. Getnarv/nylon. \n- Isydd tumme. \n- Mycket god passform. \n- Slitstark.","Ja","EN 388:2016","Alla storlekar i anbudsgivarens sortiment.",null,"Par",1,45,3,1,"K31285-1099","https://su.profilservice.se/su/handskar-c355/arbetshandske-getskinn/","Arbetshandske, getskinn",9,null,null,20,null,null,null,null,"https://www.procurator.com/svSE/c/Montagehandskar/Montagehandske-konstl%C3%A4der-Worksafe-A100?c=23_02_01&p=U-AR98&a=2052135","Montagehandske Worksafe A100 ",8,null,null,25,0.55000000000000004,2,150,8558417,"https://www.officedepot.se/sok?query=8558417","Handske Nitril puderfri XL 100","XL",null,null,25,0.8,3,150,10003629,"webshop.mediq.se/SwedenB2B/sv/search/?text=1513241","HANDSKE UNDERSÖK KLINION ULTRA XS","XS",null,null,24,7.25,3,1,257055,"https://www.lyrecocontract.se/web/ePortal/ctrl?action=showiteminfo&itemNo=257055","Handske ANSELL Alphatec 37-310 7","S",null,null,28,0.67,5,100,1031033,"https://www.onemed.se/products/I0116490","Handske us vinyl Selefa pf M ftalatfri AQL 1,5","L"]
[21,"Handskar","Montagehandske ","- Arbetshandske. Getnarv/nylon. \n- Isydd tumme. \n- Mycket god passform. \n- Slitstark.","Ja","EN 388:2016","Alla storlekar i anbudsgivarens sortiment.",null,"Par",1,45,3,1,"K31285-1100","https://su.profilservice.se/su/handskar-c355/arbetshandske-getskinn/","Arbetshandske, getskinn",10,null,null,20,null,null,null,null,"https://www.procurator.com/svSE/c/Montagehandskar/Montagehandske-konstl%C3%A4der-Worksafe-A100?c=23_02_01&p=U-AR98&a=2052135","Montagehandske Worksafe A100 ",9,null,null,25,0.55000000000000004,2,null,8558416,"https://www.officedepot.se/sok?query=8558416","Handske Nitril puderfri S 100/","S",null,null,25,0.8,3,150,10003261,"webshop.mediq.se/SwedenB2B/sv/search/?text=1513242","HANDSKE UNDERSÖK KLINION ULTRA S","S",null,null,25,0.86,3,150,248537,"https://www.lyrecocontract.se/web/ePortal/ctrl?action=showiteminfo&itemNo=248537","Nitrilhandske vit P-fri M 150/FP","M",null,null,28,0.67,5,100,1031034,"https://www.onemed.se/products/I0116491","Handske us vinyl Selefa pf M ftalatfri AQL 1,5","XL"]
[21,"Handskar","Montagehandske ","- Arbetshandske. Getnarv/nylon. \n- Isydd tumme. \n- Mycket god passform. \n- Slitstark.","Ja","EN 388:2016","Alla storlekar i anbudsgivarens sortiment.",null,"Par",1,45,3,1,"K31285-1101","https://su.profilservice.se/su/handskar-c355/arbetshandske-getskinn/","Arbetshandske, getskinn",11,null,null,20,null,null,null,null,"https://www.procurator.com/svSE/c/Montagehandskar/Montagehandske-konstl%C3%A4der-Worksafe-A100?c=23_02_01&p=U-AR98&a=2052135","Montagehandske Worksafe A100 ",10,null,null,25,0.55000000000000004,2,null,8558415,"https://www.officedepot.se/sok?query=8558415","Handske Nitril puderfri M 100/","M",null,null,25,0.8,3,150,10003855,"webshop.mediq.se/SwedenB2B/sv/search/?text=1513243","HANDSKE UNDERSÖK KLINION ULTRA M","M",null,null,25,0.86,3,150,248538,"https://www.lyrecocontract.se/web/ePortal/ctrl?action=showiteminfo&itemNo=248538","Nitrilhandske vit P-fri L 150/FP","L",null,null,29,1.1599999999999999,20,100,1105925,"https://www.onemed.se/products/I0191382","Handske us latex Selefa pf M LOYAL off-white AQL 1,5","XS"]
[22,"Handskar","Nitrilhandske","- Puderfri.\n- Med rullad krage för engångsbruk.\n- Smidig och punkteringssäker.\n- Motstår ett stort antal kemikalier.\n- Lämplig för arbete inom livsmedelsindustri, mekanisk industri, laboratorier, grafisk industri, glastillverkning och hantering av cytostatika.","Ja","EN ISO 374-5:2016, EN 420, AQL 0,65","Alla storlekar i anbudsgivarens sortiment.",null,"Styck",100,4.2699999999999996,3,40,"K31285-1102","https://su.profilservice.se/su/handskar-c355/nitrilhandske-rullad-krage/","Nitrilhandske, rullad krage","XS",null,null,20,null,null,null,null,"https://www.procurator.com/svSE/c/Montagehandskar/Montagehandske-konstl%C3%A4der-Worksafe-A100?c=23_02_01&p=U-AR98&a=2052135","Montagehandske Worksafe A100 ",11,null,null,25,0.55000000000000004,2,null,8558414,"https://www.officedepot.se/sok?query=8558414","Handske Nitril puderfri L 100/","L",null,null,25,0.8,3,150,10003702,"webshop.mediq.se/SwedenB2B/sv/search/?text=1513244","HANDSKE UNDERSÖK KLINION ULTRA L","L",null,null,25,0.86,3,150,248539,"https://www.lyrecocontract.se/web/ePortal/ctrl?action=showiteminfo&itemNo=248539","Nitrilhandske vit P-fri XL 150/FP","XL",null,null,29,1.1599999999999999,20,100,1105926,"https://www.onemed.se/products/I0191383","Handske us latex Selefa pf M LOYAL off-white AQL 1,5","S"]
[22,"Handskar","Nitrilhandske","- Puderfri.\n- Med rullad krage för engångsbruk.\n- Smidig och punkteringssäker.\n- Motstår ett stort antal kemikalier.\n- Lämplig för arbete inom livsmedelsindustri, mekanisk industri, laboratorier, grafisk industri, glastillverkning och hantering av cytostatika.","Ja","EN ISO 374-5:2016, EN 420, AQL 0,65","Alla storlekar i anbudsgivarens sortiment.",null,"Styck",100,4.2699999999999996,3,40,"K31285-1103","https://su.profilservice.se/su/handskar-c355/nitrilhandske-rullad-krage/","Nitrilhandske, rullad krage","S",null,null,21,null,null,null,null,"https://www.procurator.com/svSE/c/Montagehandskar/Montagehandske-Getskinn?c=23_02_01&p=U-7246&a=2028552","Montagehandske Getskinn",6,null,null,26,0.85199999999999998,2,100,8558507,"https://www.officedepot.se/sok?query=8558507","Handske nitril puderfri S 100","S",null,null,25,0.8,3,150,10004063,"webshop.mediq.se/SwedenB2B/sv/search/?text=1513245","HANDSKE UNDERSÖK KLINION ULTRA XL","XL",null,null,25,0.86,3,150,248536,"https://www.lyrecocontract.se/web/ePortal/ctrl?action=showiteminfo&itemNo=248536","Nitrilhandske vit P-fri S 150/FP","S",null,null,29,1.1599999999999999,20,100,1105927,"https://www.onemed.se/products/I0191384","Handske us latex Selefa pf M LOYAL off-white AQL 1,5","M"]
[22,"Handskar","Nitrilhandske","- Puderfri.\n- Med rullad krage för engångsbruk.\n- Smidig och punkteringssäker.\n- Motstår ett stort antal kemikalier.\n- Lämplig för arbete inom livsmedelsindustri, mekanisk industri, laboratorier, grafisk industri, glastillverkning och hantering av cytostatika.","Ja","EN ISO 374-5:2016, EN 420, AQL 0,65","Alla storlekar i anbudsgivarens sortiment.",null,"Styck",100,4.2699999999999996,3,40,"K31285-1104","https://su.profilservice.se/su/handskar-c355/nitrilhandske-rullad-krage/","Nitrilhandske, rullad krage","M",null,null,21,null,null,null,null,"https://www.procurator.com/svSE/c/Montagehandskar/Montagehandske-Getskinn?c=23_02_01&p=U-7246&a=2028552","Montagehandske Getskinn",7,null,null,26,0.85199999999999998,2,null,8558506,"https://www.officedepot.se/sok?query=8558506","Handske nitril puderfri M 100","M",null,null,27,0.28999999999999998,3,100,10003139,"https://webshop.mediq.se/SwedenB2Bifs10/sv/%C3%96ppna-katalog/Skyddskl%C3%A4der-%26-Handskar/Unders%C3%B6kningshandskar/Vinyl/Handske-Unders%C3%B6k-Klinion-Xs-Vinyl-Puderfri-Ftalatfri/p/10003139","HANDSKE UNDERSÖK KLINION VINYL","XS",null,null,26,1.19,3,100,251692,"https://www.lyrecocontract.se/web/ePortal/ctrl?action=showiteminfo&itemNo=251692","Nitrilhandske Puderfri lång blå S 100/FP","S",null,null,29,1.1599999999999999,20,100,1105928,"https://www.onemed.se/products/I0191385","Handske us latex Selefa pf M LOYAL off-white AQL 1,5","L"]
[22,"Handskar","Nitrilhandske","- Puderfri.\n- Med rullad krage för engångsbruk.\n- Smidig och punkteringssäker.\n- Motstår ett stort antal kemikalier.\n- Lämplig för arbete inom livsmedelsindustri, mekanisk industri, laboratorier, grafisk industri, glastillverkning och hantering av cytostatika.","Ja","EN ISO 374-5:2016, EN 420, AQL 0,65","Alla storlekar i anbudsgivarens sortiment.",null,"Styck",100,4.2699999999999996,3,40,"K31285-1105","https://su.profilservice.se/su/handskar-c355/nitrilhandske-rullad-krage/","Nitrilhandske, rullad krage","L",null,null,21,null,null,null,null,"https://www.procurator.com/svSE/c/Montagehandskar/Montagehandske-Getskinn?c=23_02_01&p=U-7246&a=2028552","Montagehandske Getskinn",8,null,null,26,0.85199999999999998,2,null,8558505,"https://www.officedepot.se/sok?query=8558505","Handske nitril puderfri L 100","L",null,null,27,0.28999999999999998,3,100,10003719,"https://webshop.mediq.se/SwedenB2Bifs10/sv/%C3%96ppna-katalog/Skyddskl%C3%A4der-%26-Handskar/Unders%C3%B6kningshandskar/Vinyl/Handske-Unders%C3%B6k-Klinion-S-Vinyl-Puderfri-Ftalatfri/p/10003719","HANDSKE UNDERSÖK KLINION VINYL","S",null,null,26,1.19,3,100,251693,"https://www.lyrecocontract.se/web/ePortal/ctrl?action=showiteminfo&itemNo=251693","Nitrilhandske Puderfri lång blå M 100/FP","M",null,null,29,1.1599999999999999,20,100,1105929,"https://www.onemed.se/products/I0191386","Handske us latex Selefa pf M LOYAL off-white AQL 1,5","XL"]
[22,"Handskar","Nitrilhandske","- Puderfri.\n- Med rullad krage för engångsbruk.\n- Smidig och punkteringssäker.\n- Motstår ett stort antal kemikalier.\n- Lämplig för arbete inom livsmedelsindustri, mekanisk industri, laboratorier, grafisk industri, glastillverkning och hantering av cytostatika.","Ja","EN ISO 374-5:2016, EN 420, AQL 0,65","Alla storlekar i anbudsgivarens sortiment.",null,"Styck",100,4.2699999999999996,3,40,"K31285-1106","https://su.profilservice.se/su/handskar-c355/nitrilhandske-rullad-krage/","Nitrilhandske, rullad krage","XL",null,null,21,null,null,null,null,"https://www.procurator.com/svSE/c/Montagehandskar/Montagehandske-Getskinn?c=23_02_01&p=U-7246&a=2028552","Montagehandske Getskinn",9,null,null,26,0.85199999999999998,2,null,8558508,"https://www.officedepot.se/sok?query=8558508","Handske nitril puderfri XL 100","XL",null,null,27,0.28999999999999998,3,100,10003941,"https://webshop.mediq.se/SwedenB2Bifs10/sv/%C3%96ppna-katalog/Skyddskl%C3%A4der-%26-Handskar/Unders%C3%B6kningshandskar/Vinyl/Handske-Unders%C3%B6k-Klinion-M-Vinyl-Puderfri-Ftalatfri/p/10003941","HANDSKE UNDERSÖK KLINION VINYL","M",null,null,26,1.19,3,100,251694,"https://www.lyrecocontract.se/web/ePortal/ctrl?action=showiteminfo&itemNo=251694","Nitrilhandske Puderfri lång blå L 100/FP ","L",null,null,31,1.38,10,200,286976,"https://www.onemed.se/products/I0026559","Hörselpropp/ öronpropp Soft fit gula"]
[22,"Handskar","Nitrilhandske","- Puderfri.\n- Med rullad krage för engångsbruk.\n- Smidig och punkteringssäker.\n- Motstår ett stort antal kemikalier.\n- Lämplig för arbete inom livsmedelsindustri, mekanisk industri, laboratorier, grafisk industri, glastillverkning och hantering av cytostatika.","Ja","EN ISO 374-5:2016, EN 420, AQL 0,65","Alla storlekar i anbudsgivarens sortiment.",null,"Styck",100,4.2699999999999996,3,40,"K31285-1107","https://su.profilservice.se/su/handskar-c355/nitrilhandske-rullad-krage/","Nitrilhandske, rullad krage","XXL",null,null,21,null,null,null,null,"https://www.procurator.com/svSE/c/Montagehandskar/Montagehandske-Getskinn?c=23_02_01&p=U-7246&a=2028552","Montagehandske Getskinn",10,null,null,27,0.85,2,100,"8556677","https://www.officedepot.se/sok?query=8556677","Handske vinyl puderfri L 100/f","L",null,null,27,0.28999999999999998,3,100,10003470,"https://webshop.mediq.se/SwedenB2Bifs10/sv/%C3%96ppna-katalog/Skyddskl%C3%A4der-%26-Handskar/Unders%C3%B6kningshandskar/Vinyl/Handske-Unders%C3%B6k-Klinion-L-Vinyl-Puderfri-Ftalatfri/p/10003470","HANDSKE UNDERSÖK KLINION VINYL","L",null,null,27,0.65,3,100,211649,"https://www.lyrecocontract.se/web/ePortal/ctrl?action=showiteminfo&itemNo=211649","Handske vinyl puderfri S 100/FP","S",null,null,32,2.09,15,200,511559,"https://www.onemed.se/products/I0034649","Öronproppar 3M 1100 200par orange"]
[22,"Handskar","Nitrilhandske","- Puderfri.\n- Med rullad krage för engångsbruk.\n- Smidig och punkteringssäker.\n- Motstår ett stort antal kemikalier.\n- Lämplig för arbete inom livsmedelsindustri, mekanisk industri, laboratorier, grafisk industri, glastillverkning och hantering av cytostatika.","Ja","EN ISO 374-5:2016, EN 420, AQL 0,65","Alla storlekar i anbudsgivarens sortiment.",null,"Styck",100,4.2699999999999996,3,40,"K31285-1108","https://su.profilservice.se/su/handskar-c355/nitrilhandske-rullad-krage/","Nitrilhandske, rullad krage","XXXL",null,null,21,null,null,null,null,"https://www.procurator.com/svSE/c/Montagehandskar/Montagehandske-Getskinn?c=23_02_01&p=U-7246&a=2028552","Montagehandske Getskinn",11,null,null,27,0.85,2,null,8556678,"https://www.officedepot.se/sok?query=8556678","Handske vinyl transp M 100-fp","M",null,null,27,0.28999999999999998,3,100,null,"https://webshop.mediq.se/SwedenB2Bifs10/sv/%C3%96ppna-katalog/Skyddskl%C3%A4der-%26-Handskar/Unders%C3%B6kningshandskar/Vinyl/Handske-Unders%C3%B6k-Klinion-Xl-Vinyl-Puderfri-Ftalatfri/p/10003720","HANDSKE UNDERSÖK KLINION VINYL","XL",null,null,27,0.65,3,100,211650,"https://www.lyrecocontract.se/web/ePortal/ctrl?action=showiteminfo&itemNo=211650","Handske vinyl puderfri M 100/FP","M",null,null,33,2.11,5,200,1000769,"https://www.onemed.se/products/I0043221","Hörselpropp/ öronpropp Ear Classic Polybag"]
[23,"Handskar","Nitrilhandske","- Puderfri/silikonfri.\n- Engångshandske.\n- Texturerade fingertoppar.","Ja","EN ISO 374-5:2016","Längd 24 cm. Alla storlekar i anbudsgivarens sortiment.","+/-5%","Styck",200,1.68,3,100,"K31285-1087","https://su.profilservice.se/su/handskar-c355/nitrilhandske-texturerade-fingertoppar/","Nitrilhandske, texturerade fingertoppar","S",null,null,22,2.87,3,50,"2079897\n","https://www.procurator.com/svSE/c/Eng%C3%A5ngshandskar/Nitrilhandske-Microflex-93-853?c=23_02_09&p=J-FM55&a=2079897","Engångshandske Nitril Microflex 93-853 ","XS",null,null,27,0.85,2,null,8556679,"https://www.officedepot.se/sok?query=8556679","Handske vinyl puderfri S 100/f","S",null,null,28,0.28999999999999998,3,100,10003139,"https://webshop.mediq.se/SwedenB2Bifs10/sv/%C3%96ppna-katalog/Skyddskl%C3%A4der-%26-Handskar/Unders%C3%B6kningshandskar/Vinyl/Handske-Unders%C3%B6k-Klinion-Xs-Vinyl-Puderfri-Ftalatfri/p/10003139","HANDSKE UNDERSÖK KLINION VINYL","XS",null,null,27,0.65,3,100,211651,"https://www.lyrecocontract.se/web/ePortal/ctrl?action=showiteminfo&itemNo=211651","Handske vinyl puderfri L 100/FP","L",null,null,34,35.770000000000003,60,1,1134489,"https://www.onemed.se/products/I0219946","Skyddsglasögon polykarbonat, rundade"]
[23,"Handskar","Nitrilhandske","- Puderfri/silikonfri.\n- Engångshandske.\n- Texturerade fingertoppar.","Ja","EN ISO 374-5:2016","Längd 24 cm. Alla storlekar i anbudsgivarens sortiment.","+/-5%","Styck",200,1.68,3,100,"K31285-1088","https://su.profilservice.se/su/handskar-c355/nitrilhandske-texturerade-fingertoppar/","Nitrilhandske, texturerade fingertoppar","M",null,null,22,2.87,3,50,2079898,"https://www.procurator.com/svSE/c/Eng%C3%A5ngshandskar/Nitrilhandske-Microflex-93-853?c=23_02_09&p=J-FM55&a=2079897","Engångshandske Nitril Microflex 93-853 ","S",null,null,27,0.85,2,null,8559362,"https://www.officedepot.se/sok?query=85509362","Handske vinyl transp XL 100-fp","XL",null,null,28,0.28999999999999998,3,100,10003719,"https://webshop.mediq.se/SwedenB2Bifs10/sv/%C3%96ppna-katalog/Skyddskl%C3%A4der-%26-Handskar/Unders%C3%B6kningshandskar/Vinyl/Handske-Unders%C3%B6k-Klinion-S-Vinyl-Puderfri-Ftalatfri/p/10003719","HANDSKE UNDERSÖK KLINION VINYL","S",null,null,27,0.65,3,100,225756,"https://www.lyrecocontract.se/web/ePortal/ctrl?action=showiteminfo&itemNo=225756","\nHandske vinyl puderfri XL 100/FP","XL",null,null,35,93.94,60,1,210667,"https://www.onemed.se/products/I0011867","Skyddsglasögon 3M flergångs imskyddade ställbara"]
[23,"Handskar","Nitrilhandske","- Puderfri/silikonfri.\n- Engångshandske.\n- Texturerade fingertoppar.","Ja","EN ISO 374-5:2016","Längd 24 cm. Alla storlekar i anbudsgivarens sortiment.","+/-5%","Styck",200,1.68,3,100,"K31285-1089","https://su.profilservice.se/su/handskar-c355/nitrilhandske-texturerade-fingertoppar/","Nitrilhandske, texturerade fingertoppar","L",null,null,22,2.87,3,50,2079899,"https://www.procurator.com/svSE/c/Eng%C3%A5ngshandskar/Nitrilhandske-Microflex-93-853?c=23_02_09&p=J-FM55&a=2079897","Engångshandske Nitril Microflex 93-853 ","M",null,null,28,0.41600000000000004,2,100,8558496,"https://www.officedepot.se/sok?query=8558496","Handske vinyl puderfri S 100/","S",null,null,28,0.28999999999999998,3,100,10003941,"https://webshop.mediq.se/SwedenB2Bifs10/sv/%C3%96ppna-katalog/Skyddskl%C3%A4der-%26-Handskar/Unders%C3%B6kningshandskar/Vinyl/Handske-Unders%C3%B6k-Klinion-M-Vinyl-Puderfri-Ftalatfri/p/10003941","HANDSKE UNDERSÖK KLINION VINYL","M",null,null,28,null,null,null,273125,"https://www.lyrecocontract.se/web/ePortal/ctrl?action=showiteminfo&itemNo=273125","Vinylhandske Puder & ftalatfri XS 100/FP","XS","Inväntar återkoppling från vår leverantör, i enlighet med 6.6.2 i underlag anger vi därmed ej pris         ",null,36,71.930000000000007,60,1,1134490,"https://www.onemed.se/products/I0219947","Skyddsglasögon 3M   "]
[23,"Handskar","Nitrilhandske","- Puderfri/silikonfri.\n- Engångshandske.\n- Texturerade fingertoppar.","Ja","EN ISO 374-5:2016","Längd 24 cm. Alla storlekar i anbudsgivarens sortiment.","+/-5%","Styck",200,1.68,3,100,"K31285-1090","https://su.profilservice.se/su/handskar-c355/nitrilhandske-texturerade-fingertoppar/","Nitrilhandske, texturerade fingertoppar","XL",null,null,22,2.87,3,50,2079900,"https://www.procurator.com/svSE/c/Eng%C3%A5ngshandskar/Nitrilhandske-Microflex-93-853?c=23_02_09&p=J-FM55&a=2079897","Engångshandske Nitril Microflex 93-853 ","L",null,null,28,0.41600000000000004,2,null,8558495,"https://www.officedepot.se/sok?query=8558495","Handske vinyl puderfri M 100/","M",null,null,28,0.28999999999999998,3,100,10003470,"https://webshop.mediq.se/SwedenB2Bifs10/sv/%C3%96ppna-katalog/Skyddskl%C3%A4der-%26-Handskar/Unders%C3%B6kningshandskar/Vinyl/Handske-Unders%C3%B6k-Klinion-L-Vinyl-Puderfri-Ftalatfri/p/10003470","HANDSKE UNDERSÖK KLINION VINYL","L",null,null,28,null,null,null,211648,"https://www.lyrecocontract.se/web/ePortal/ctrl?action=showiteminfo&itemNo=211648","Handske vinyl puder-&ftalatfri XL 100/FP","XL","Inväntar återkoppling från vår leverantör, i enlighet med 6.6.2 i underlag anger vi därmed ej pris         ",null,37,121.2,3,1,1133589,"https://www.onemed.se/products/I0219046/huvudstallning-med-visir-med","Huvudställning med visir Med (komplett flergångs Safe 3)"]
[24,"Handskar","Nitrilhandske","- Puderfri\n- Oflossad kemskyddshandske.\n- Texturerad.\n- Tunn.\n- Resistent mot många lösningsmedel och oljebaserade kemikalier. ","Ja",null,"Längd 31-33 cm. 0,20-0,27 mm tjock. Alla storlekar i anbudsgivarens sortiment.","+/-5%","Par",12,9,3,12,"K31285-1109","https://su.profilservice.se/su/handskar-c355/kemskyddshandske/","Kemskyddshandske","S",null,null,22,2.87,3,50,2079901,"https://www.procurator.com/svSE/c/Eng%C3%A5ngshandskar/Nitrilhandske-Microflex-93-853?c=23_02_09&p=J-FM55&a=2079897","Engångshandske Nitril Microflex 93-853 ","XL",null,null,28,0.41600000000000004,2,null,8558494,"https://www.officedepot.se/sok?query=8558494","Handske vinyl puderfri L 100/","L",null,null,28,0.28999999999999998,3,100,10003720,"https://webshop.mediq.se/SwedenB2Bifs10/sv/%C3%96ppna-katalog/Skyddskl%C3%A4der-%26-Handskar/Unders%C3%B6kningshandskar/Vinyl/Handske-Unders%C3%B6k-Klinion-Xl-Vinyl-Puderfri-Ftalatfri/p/10003720","HANDSKE UNDERSÖK KLINION VINYL","XL",null,null,28,null,null,null,211647,"https://www.lyrecocontract.se/web/ePortal/ctrl?action=showiteminfo&itemNo=211647","Handske vinyl puder-&ftalatfri M 100/FP","M","Inväntar återkoppling från vår leverantör, i enlighet med 6.6.2 i underlag anger vi därmed ej pris         ",null,38,12.88,5,1,1130136,"https://www.onemed.se/products/I0215593","evercare Skyddsvisir 33 x 22cm transparent"]
[24,"Handskar","Nitrilhandske","- Puderfri\n- Oflossad kemskyddshandske.\n- Texturerad.\n- Tunn.\n- Resistent mot många lösningsmedel och oljebaserade kemikalier. ","Ja",null,"Längd 31-33 cm. 0,20-0,27 mm tjock. Alla storlekar i anbudsgivarens sortiment.","+/-5%","Par",12,9,3,12,"K31285-1110","https://su.profilservice.se/su/handskar-c355/kemskyddshandske/","Kemskyddshandske","M",null,null,22,2.87,3,50,2079902,"https://www.procurator.com/svSE/c/Eng%C3%A5ngshandskar/Nitrilhandske-Microflex-93-853?c=23_02_09&p=J-FM55&a=2079897","Engångshandske Nitril Microflex 93-853 ","XXL",null,null,28,0.41600000000000004,2,null,8558497,"https://www.officedepot.se/sok?query=8558497","Handske vinyl puderfri XL 100/","XL",null,null,29,0.61,3,100,10003685,"https://webshop.mediq.se/SwedenB2Bifs10/sv/%C3%96ppna-katalog/Skyddskl%C3%A4der-%26-Handskar/Unders%C3%B6kningshandskar/Latex/Handske-Unders%C3%B6k-Klinion-Xs-Latex-Puderfri-24-Cm/p/10003685","HANDSKE UNDERSÖK KLINION LATEX","XS",null,null,28,null,null,null,224195,"https://www.lyrecocontract.se/web/ePortal/ctrl?action=showiteminfo&itemNo=224195","Handske vinyl puder-&ftalatfri S 100/FP","S","Inväntar återkoppling från vår leverantör, i enlighet med 6.6.2 i underlag anger vi därmed ej pris         ",null,39,0.27,5,100,101547,"https://www.onemed.se/products/I0000550","Skoskydd plast Selefa 15x41cm L 35my blå","L"]
[24,"Handskar","Nitrilhandske","- Puderfri\n- Oflossad kemskyddshandske.\n- Texturerad.\n- Tunn.\n- Resistent mot många lösningsmedel och oljebaserade kemikalier. ","Ja",null,"Längd 31-33 cm. 0,20-0,27 mm tjock. Alla storlekar i anbudsgivarens sortiment.","+/-5%","Par",12,9,3,12,"K31285-1111","https://su.profilservice.se/su/handskar-c355/kemskyddshandske/","Kemskyddshandske","L",null,null,22,2.87,3,50,2079903,"https://www.procurator.com/svSE/c/Eng%C3%A5ngshandskar/Nitrilhandske-Microflex-93-853?c=23_02_09&p=J-FM55&a=2079897","Engångshandske Nitril Microflex 93-853 ","XXXL",null,null,29,0.7,2,100,8558397,"https://www.officedepot.se/sok?query=8558397","Handske Latex puderfri S 100/","S",null,null,29,0.81,3,100,10003420,"https://webshop.mediq.se/SwedenB2Bifs10/sv/%C3%96ppna-katalog/Skyddskl%C3%A4der-%26-Handskar/Unders%C3%B6kningshandskar/Latex/Handske-Unders%C3%B6k-Klinion-S-Latex-Puderfri-24-Cm/p/10003420","HANDSKE UNDERSÖK KLINION LATEX","S",null,null,28,null,null,null,211646,"https://www.lyrecocontract.se/web/ePortal/ctrl?action=showiteminfo&itemNo=211646","Handske vinyl puder-&ftalatfri L 100/FP","L","Inväntar återkoppling från vår leverantör, i enlighet med 6.6.2 i underlag anger vi därmed ej pris         ",null,40,0.73,20,100,1117610,"https://www.onemed.se/products/I0203067","Skoskydd Bioplast Polynova 15x41cm L 30my gröna","L"]
[24,"Handskar","Nitrilhandske","- Puderfri\n- Oflossad kemskyddshandske.\n- Texturerad.\n- Tunn.\n- Resistent mot många lösningsmedel och oljebaserade kemikalier. ","Ja",null,"Längd 31-33 cm. 0,20-0,27 mm tjock. Alla storlekar i anbudsgivarens sortiment.","+/-5%","Par",12,9,3,12,"K31285-1112","https://su.profilservice.se/su/handskar-c355/kemskyddshandske/","Kemskyddshandske","XL",null,null,23,0.95,3,100,"2121238\n","https://www.procurator.com/svSE/c/Eng%C3%A5ngshandskar/Nitrilhandske-acceleratorfri-WS-Aqua-Sensitive?c=23_02_09&p=J-BT32&a=2072450","Nitrilhandske Worksafe PF Engångs Blå XS 100st XS","XS",null,null,29,0.7,2,null,8558398,"https://www.officedepot.se/sok?query=8558398","Handske Latex puderfri M 100/","M",null,null,29,0.61,3,100,10022668,"https://webshop.mediq.se/SwedenB2Bifs10/sv/%C3%96ppna-katalog/Skyddskl%C3%A4der-%26-Handskar/Unders%C3%B6kningshandskar/Latex/Handske-Unders%C3%B6k-Klinion-M-Latex-Puderfri-24-Cm/p/10022668","HANDSKE UNDERSÖK KLINION LATEX","M",null,null,29,null,null,null,268365,"https://www.lyrecocontract.se/web/ePortal/ctrl?action=showiteminfo&itemNo=268365","Latexhandske Puderfri S 100/FP","S","Inväntar återkoppling från vår leverantör, i enlighet med 6.6.2 i underlag anger vi därmed ej pris         ",null,41,18.809999999999999,5,20,1105829,"https://www.onemed.se/products/I0191286","Stövelskydd Tyvek 500 stl 42-46 halkfri sula","42-46"]
[24,"Handskar","Nitrilhandske","- Puderfri\n- Oflossad kemskyddshandske.\n- Texturerad.\n- Tunn.\n- Resistent mot många lösningsmedel och oljebaserade kemikalier. ","Ja",null,"Längd 31-33 cm. 0,20-0,27 mm tjock. Alla storlekar i anbudsgivarens sortiment.","+/-5%","Par",12,9,3,12,"K31285-1113","https://su.profilservice.se/su/handskar-c355/kemskyddshandske/","Kemskyddshandske","XXL",null,null,23,0.95,3,100,2120199,"https://www.procurator.com/svSE/c/Eng%C3%A5ngshandskar/Nitrilhandske-acceleratorfri-WS-Aqua-Sensitive?c=23_02_09&p=J-BT32&a=2072450","Nitrilhandske Worksafe PF Engångs Blå S 100st S ","S",null,null,29,0.7,2,null,8558399,"https://www.officedepot.se/sok?query=8558399","Handske Latex puderfri L 100/","L",null,null,29,0.81,3,100,10004175,"https://webshop.mediq.se/SwedenB2Bifs10/sv/%C3%96ppna-katalog/Skyddskl%C3%A4der-%26-Handskar/Unders%C3%B6kningshandskar/Latex/Handske-Unders%C3%B6k-Klinion-L-Latex-Puderfri-24-Cm/p/10004175","HANDSKE UNDERSÖK KLINION LATEX","L",null,null,29,null,null,null,268366,"https://www.lyrecocontract.se/web/ePortal/ctrl?action=showiteminfo&itemNo=268366","Latexhandske Puderfri M 100/FP","M","Inväntar återkoppling från vår leverantör, i enlighet med 6.6.2 i underlag anger vi därmed ej pris         ",null,42,1.41,5,150,1117312,"https://www.onemed.se/products/I0202769","Op mössa basker Rondo evercare 52cm blå m SMS","M"]
[25,"Handskar","Nitrilhandske ","- Kraftig handske.\n- Puderfri.\n- Vit.\n- Engångshandske.\n- Texturerade fingertoppar.\n- Godkänd för hantering av livsmedel.\n- Stor draghållfasthet.","Ja","EN ISO 374-5:2016","Längd 24 cm. Alla storlekar i anbudsgivarens sortiment.","+/-5%","Styck",150,1.28,3,100,"K31285-1079","https://su.profilservice.se/su/handskar-c355/korttidshandske-uvex/","Korttidshandske Uvex","S",null,null,23,0.95,3,100,2120200,"https://www.procurator.com/svSE/c/Eng%C3%A5ngshandskar/Nitrilhandske-acceleratorfri-WS-Aqua-Sensitive?c=23_02_09&p=J-BT32&a=2072450","Nitrilhandske Worksafe PF Engångs Blå M 100st M ","M",null,null,29,0.7,2,null,8558400,"https://www.officedepot.se/sok?query=8558400","Handske Latex puderfri XL 100/","XL",null,null,29,0.62,3,100,10022681,"https://webshop.mediq.se/SwedenB2Bifs10/sv/%C3%96ppna-katalog/Skyddskl%C3%A4der-%26-Handskar/Unders%C3%B6kningshandskar/Latex/Handske-Unders%C3%B6k-Klinion-Xl-Latex-Puderfri-24-Cm/p/10022681","HANDSKE UNDERSÖK KLINION LATEX","XL",null,null,29,null,null,null,268367,"https://www.lyrecocontract.se/web/ePortal/ctrl?action=showiteminfo&itemNo=268367","Latexhandske Puderfri L 100/FP","L","Inväntar återkoppling från vår leverantör, i enlighet med 6.6.2 i underlag anger vi därmed ej pris         ",null,42,1.41,5,150,1117313,"https://www.onemed.se/products/I0202770","Op mössa basker Rondo evercare 52cm blå l SMS","L"]
[25,"Handskar","Nitrilhandske ","- Kraftig handske.\n- Puderfri.\n- Vit.\n- Engångshandske.\n- Texturerade fingertoppar.\n- Godkänd för hantering av livsmedel.\n- Stor draghållfasthet.","Ja","EN ISO 374-5:2016","Längd 24 cm. Alla storlekar i anbudsgivarens sortiment.","+/-5%","Styck",150,1.28,3,100,"K31285-1080","https://su.profilservice.se/su/handskar-c355/korttidshandske-uvex/","Korttidshandske Uvex","M",null,null,23,0.95,3,100,2120201,"https://www.procurator.com/svSE/c/Eng%C3%A5ngshandskar/Nitrilhandske-acceleratorfri-WS-Aqua-Sensitive?c=23_02_09&p=J-BT32&a=2072450","Nitrilhandske Worksafe PF Engångs Blå L 100st L","L",null,null,31,1.45,1,250,8558425,"https://www.officedepot.se/sok?query=8558425","Hörselproppar EAR Soft 250par",null,null,null,31,1.55,3,250,10024058,"https://webshop.mediq.se/SwedenB2Bifs10/sv/%C3%96ppna-katalog/Skyddskl%C3%A4der-%26-Handskar/H%C3%B6rselskydd/H%C3%B6rselproppar/H%C3%B6rselpropp-3m-Earsoft-Neon-Gul-Par-Frp/p/10024058","HÖRSELPROPP 3M EARSOFT NEON GUL",null,null,null,29,null,null,null,268368,"https://www.lyrecocontract.se/web/ePortal/ctrl?action=showiteminfo&itemNo=268368","Latexhandske puderfri XL 100/FP","XL","Inväntar återkoppling från vår leverantör, i enlighet med 6.6.2 i underlag anger vi därmed ej pris         ",null,42,1.41,5,150,1117314,"https://www.onemed.se/products/I0202771","Op mössa basker Rondo evercare 52cm blå xl SMS","XL"]
[25,"Handskar","Nitrilhandske ","- Kraftig handske.\n- Puderfri.\n- Vit.\n- Engångshandske.\n- Texturerade fingertoppar.\n- Godkänd för hantering av livsmedel.\n- Stor draghållfasthet.","Ja","EN ISO 374-5:2016","Längd 24 cm. Alla storlekar i anbudsgivarens sortiment.","+/-5%","Styck",150,1.28,3,100,"K31285-1081","https://su.profilservice.se/su/handskar-c355/korttidshandske-uvex/","Korttidshandske Uvex","L",null,null,23,0.95,3,100,2120202,"https://www.procurator.com/svSE/c/Eng%C3%A5ngshandskar/Nitrilhandske-acceleratorfri-WS-Aqua-Sensitive?c=23_02_09&p=J-BT32&a=2072450","Nitrilhandske Worksafe PF Engångs Blå XL 100st XL","XL",null,null,32,1.55,1,250,8558424,"https://www.officedepot.se/sok?query=8558424","Hörselproppar 1100-ser. 200par",null,null,null,32,1.64,3,200,10024059,"https://webshop.mediq.se/SwedenB2Bifs10/sv/%C3%96ppna-katalog/Skyddskl%C3%A4der-%26-Handskar/H%C3%B6rselskydd/H%C3%B6rselproppar/H%C3%B6rselpropp-3m-1100-Orange/p/10024059","HÖRSELPROPP 3M 1100 ORANGE",null,null,null,29,null,null,100,136393,"https://www.lyrecocontract.se/web/ePortal/ctrl?action=showiteminfo&itemNo=136393","Handske latex puderfri XS 100/FP ","XS","Inväntar återkoppling från vår leverantör, i enlighet med 6.6.2 i underlag anger vi därmed ej pris    ",null,43,1.1499999999999999,15,200,1134491,"https://www.onemed.se/products/I0219948","Hårnät nonwoven one-size latexfritt "]
[25,"Handskar","Nitrilhandske ","- Kraftig handske.\n- Puderfri.\n- Vit.\n- Engångshandske.\n- Texturerade fingertoppar.\n- Godkänd för hantering av livsmedel.\n- Stor draghållfasthet.","Ja","EN ISO 374-5:2016","Längd 24 cm. Alla storlekar i anbudsgivarens sortiment.","+/-5%","Styck",150,1.28,3,100,"K31285-1082","https://su.profilservice.se/su/handskar-c355/korttidshandske-uvex/","Korttidshandske Uvex","XL",null,null,23,0.95,3,100,2072452,"https://www.procurator.com/svSE/c/Eng%C3%A5ngshandskar/Nitrilhandske-acceleratorfri-WS-Aqua-Sensitive?c=23_02_09&p=J-BT32&a=2072450","Engångshandske WorkSafe Nitrile Aqua Sensitive","XXL",null,null,33,2.1,1,250,8558511,"https://www.officedepot.se/sok?query=8558511","Hörselproppar 3M Class. 250par",null,null,null,33,2.0499999999999998,3,250,10006318,"https://webshop.mediq.se/SwedenB2Bifs10/sv/%C3%96ppna-katalog/Skyddskl%C3%A4der-%26-Handskar/H%C3%B6rselskydd/H%C3%B6rselproppar/H%C3%B6rselpropp-Medium-Earclassic-Gul-Gul-Par-Frp/p/10006318","HÖRSELPROPP MEDIUM EARCLASSIC GUL",null,null,null,31,2.68,3,100,7672268,"https://www.lyrecocontract.se/web/ePortal/ctrl?action=showiteminfo&itemNo=7672268","Öronpropp MOLDEX 7800 Spark 200/FP",null,null,null,44,16.63,5,1,203295,"https://www.onemed.se/products/I0017832","Handdesinfektion Liv 75% 600ml m pump"]
[26,"Handskar","Nitrilhandske ","- Puderfri/silikonfri.\n- Engångshandske.\n- Texturerade fingertoppar.","Ja","EN ISO 374-5:2016","Längd 29-30 cm. Alla storlekar i anbudsgivarens sortiment.","+/-5%","Styck",100,1.82,3,12,"K31285-1136","https://su.profilservice.se/su/handskar-c355/kemskyddshandske/","Kemskyddshandske","S",null,null,24,5,3,12,"2079292\n","https://www.procurator.com/svSE/c/Kemskyddshandskar/Nitrilhandske-oflockad-Worksafe-Chem-50-456?c=23_02_11&p=J-FK92&a=2079292","Kemsskyddshandske Worksafe Nitril Chem 50-456, oflossad","S",null,null,34,45,1,1,8558422,"https://www.officedepot.se/sok?query=8558422","Skyddsglasögon Virtua, klara",null,null,null,34,29.748000000000001,3,1,10022728,"https://webshop.mediq.se/SwedenB2Bifs10/sv/%C3%96ppna-katalog/Skyddskl%C3%A4der-%26-Handskar/%C3%96gon-%26-ansiktsskydd/Glas%C3%B6gon/Skyddsglas%C3%B6gon-Worksafe-Jaguar-Imskydd-Flerg%C3%A5ngs-Klarglas/p/10022728","SKYDDSGLASÖGON WORKSAFE JAGUAR",null,null,null,32,1.5,3,200,1536201,"https://www.lyrecocontract.se/web/ePortal/ctrl?action=showiteminfo&itemNo=1536201","Öronproppar 3M 1100 200par/FP ",null,null,null,45,23.17,5,1,203282,"https://www.onemed.se/products/I0001761","Handdesinfektion Liv 75% 1000ml flaska"]
[26,"Handskar","Nitrilhandske ","- Puderfri/silikonfri.\n- Engångshandske.\n- Texturerade fingertoppar.","Ja","EN ISO 374-5:2016","Längd 29-30 cm. Alla storlekar i anbudsgivarens sortiment.","+/-5%","Styck",100,1.82,3,12,"K31285-1137","https://su.profilservice.se/su/handskar-c355/kemskyddshandske/","Kemskyddshandske","M",null,null,24,5,3,12,2079293,"https://www.procurator.com/svSE/c/Kemskyddshandskar/Nitrilhandske-oflockad-Worksafe-Chem-50-456?c=23_02_11&p=J-FK92&a=2079292","Kemsskyddshandske Worksafe Nitril Chem 50-456, oflossad","M",null,null,35,99,1,1,8558423,"https://www.officedepot.se/sok?query=8558423","3M™ SecureFit™ skyddsglasögon, reptåliga/imfria, klar lins, SF401AS/AF-EU",null,null,null,35,21.5,3,1,10024196,"https://webshop.mediq.se/SwedenB2Bifs10/sv/%C3%96ppna-katalog/Skyddskl%C3%A4der-%26-Handskar/%C3%96gon-%26-ansiktsskydd/Glas%C3%B6gon/Skyddsglas%C3%B6gon-Worksafe-Cheetah-Imskydd-Flerg%C3%A5ngs-Klarglas/p/10024196","Skyddsglasögon Worksafe Cheetah Klar",null,null,null,33,2.58,3,250,260526,"https://www.lyrecocontract.se/web/ePortal/ctrl?action=showiteminfo&itemNo=260526","Öronproppar 3M EAR Classic 250PAR/FP",null,null,null,46,20.72,5,1,1109606,"https://www.onemed.se/products/I0195063","Ytdesinfektion DAX 75 etanol 1000ml för rena ytor"]
[26,"Handskar","Nitrilhandske ","- Puderfri/silikonfri.\n- Engångshandske.\n- Texturerade fingertoppar.","Ja","EN ISO 374-5:2016","Längd 29-30 cm. Alla storlekar i anbudsgivarens sortiment.","+/-5%","Styck",100,1.82,3,12,"K31285-1138","https://su.profilservice.se/su/handskar-c355/kemskyddshandske/","Kemskyddshandske","L",null,null,24,5,3,12,2079294,"https://www.procurator.com/svSE/c/Kemskyddshandskar/Nitrilhandske-oflockad-Worksafe-Chem-50-456?c=23_02_11&p=J-FK92&a=2079292","Kemsskyddshandske Worksafe Nitril Chem 50-456, oflossad","L",null,null,36,149,1,1,8558429,"https://www.officedepot.se/sok?query=8558429","UVEX I-Vo skyddsglasögon klar lins",null,null,null,36,198,10,1,10000399,"https://webshop.mediq.se/SwedenB2Bifs10/sv/%C3%96ppna-katalog/Skyddskl%C3%A4der-%26-Handskar/%C3%96gon-%26-ansiktsskydd/Glas%C3%B6gon/Skyddsglas%C3%B6gon-3m-1880/p/10000399","SKYDDSGLASÖGON 3M 1880",null,null,null,34,23.95,3,1,100663,"https://www.lyrecocontract.se/web/ePortal/ctrl?action=showiteminfo&itemNo=100663","Skyddsglasögon Virtua klar",null,null,null,47,24.04,5,1,203229,"https://www.onemed.se/products/I0001448","Ytdesinfektion Liv IPA 45% 1000ml flaska m tensid"]
[26,"Handskar","Nitrilhandske ","- Puderfri/silikonfri.\n- Engångshandske.\n- Texturerade fingertoppar.","Ja","EN ISO 374-5:2016","Längd 29-30 cm. Alla storlekar i anbudsgivarens sortiment.","+/-5%","Styck",100,1.82,3,12,"K31285-1139","https://su.profilservice.se/su/handskar-c355/kemskyddshandske/","Kemskyddshandske","XL",null,null,24,5,3,12,2079295,"https://www.procurator.com/svSE/c/Kemskyddshandskar/Nitrilhandske-oflockad-Worksafe-Chem-50-456?c=23_02_11&p=J-FK92&a=2079292","Kemsskyddshandske Worksafe Nitril Chem 50-456, oflossad","XL",null,null,39,null,null,null,null,null,null,null,null,null,37,114,3,1,10024088,"https://webshop.mediq.se/SwedenB2Bifs10/sv/%C3%96ppna-katalog/Aktuell-skyddsutrustning/Aktuell-skyddsutrustning/Aktuell-skyddsutrustning/Visir-Mvisor-7001-Vit-2-Pack-Flerg%C3%A5ngs/p/10024088","VISIR MVISOR 7001 VIT 2-PACK",null,null,null,35,53.95,3,1,147232,"https://www.lyrecocontract.se/web/ePortal/ctrl?action=showiteminfo&itemNo=147232","Skyddsglasögon OX 3000 klar lins",null,null,null,48,190.89,90,1,413657,"https://www.onemed.se/products/I0015872","Ytdesinfektion Liv IPA 45% 5L dunk m tensid"]
[26,"Handskar","Nitrilhandske ","- Puderfri/silikonfri.\n- Engångshandske.\n- Texturerade fingertoppar.","Ja","EN ISO 374-5:2016","Längd 29-30 cm. Alla storlekar i anbudsgivarens sortiment.","+/-5%","Styck",100,1.82,3,12,"K31285-1140","https://su.profilservice.se/su/handskar-c355/kemskyddshandske/","Kemskyddshandske","XXL",null,null,25,1.32,3,150,"2067377\n","https://www.procurator.com/svSE/c/Eng%C3%A5ngshandskar/Eng%C3%A5ngshandske-Nitrile-White-Ultra?c=23_02_09&p=J-BP25&a=2067377","Engångshandske WorkSafe Nitrile White Ultra","XS",null,null,39,0.45,1,null,8558485,"https://www.officedepot.se/sok?query=8558485","Skoskydd blå L 15x41cm 100/fp","L",null,null,38,35,3,1,10001950,"https://webshop.mediq.se/SwedenB2Bifs10/sv/%C3%96ppna-katalog/Aktuell-skyddsutrustning/Aktuell-skyddsutrustning/Aktuell-skyddsutrustning/Visir-Stellan-Skum-Och-Res%C3%A5r-Flerg%C3%A5ngs-Enstyckf%C3%B6rpackad/p/10001950","VISIR STELLAN SKUM OCH RESÅR",null,null,null,36,61.95,3,1,147231,"https://www.lyrecocontract.se/web/ePortal/ctrl?action=showiteminfo&itemNo=147231","Skyddsglasögon OX 2000 klar lins"]
[27,"Handskar","Vinylhandske ","- Undersökningshandske.\n- Puderfri.\n- Engångshandske.\n- Rullad kant.","Ja","EN 420","Längd 24 cm. Alla storlekar i anbudsgivarens sortiment.","+/-5%","Styck",100,0.73,3,100,"K31285-1083","https://su.profilservice.se/su/handskar-c355/vinylhandske/","Vinylhandske","S",null,null,25,1.32,3,150,2067379,"https://www.procurator.com/svSE/c/Eng%C3%A5ngshandskar/Eng%C3%A5ngshandske-Nitrile-White-Ultra?c=23_02_09&p=J-BP25&a=2067377","Engångshandske WorkSafe Nitrile White Ultra","S",null,null,40,0.85,1,100,8558484,"https://www.officedepot.se/sok?query=8558484","Skoskydd BIOPE L15x41cm 100/fp","L",null,null,39,0.24,3,100,10018135,"https://webshop.mediq.se/SwedenB2Bifs10/sv/%C3%96ppna-katalog/Skyddskl%C3%A4der-%26-Handskar/Skor-%26-skoskydd/Skoskydd/Skoskydd-Ast-36cm-35my-Bl%C3%A5-Cast-Polyeten/p/10018135","SKOSKYDD AST 36CM 35MY BLÅ","S",null,null,37,56.95,3,1,244555,"https://www.lyrecocontract.se/web/ePortal/ctrl?action=showiteminfo&itemNo=244555","Skyddsvisir OX-ON med pannskydd"]
[27,"Handskar","Vinylhandske ","- Undersökningshandske.\n- Puderfri.\n- Engångshandske.\n- Rullad kant.","Ja","EN 420","Längd 24 cm. Alla storlekar i anbudsgivarens sortiment.","+/-5%","Styck",100,0.73,3,100,"K31285-1084","https://su.profilservice.se/su/handskar-c355/vinylhandske/","Vinylhandske","M",null,null,25,1.32,3,150,2067382,"https://www.procurator.com/svSE/c/Eng%C3%A5ngshandskar/Eng%C3%A5ngshandske-Nitrile-White-Ultra?c=23_02_09&p=J-BP25&a=2067377","Engångshandske WorkSafe Nitrile White Ultra","M",null,null,43,0.28210000000000002,1,100,8557476,"https://www.officedepot.se/sok?query=8558476","Mob cap/ hårnät 100 st",null,null,null,39,0.25,3,100,10000395,"https://webshop.mediq.se/SwedenB2Bifs10/sv/%C3%96ppna-katalog/Skyddskl%C3%A4der-%26-Handskar/Skor-%26-skoskydd/Skoskydd/Skoskydd-Ast-41cm-35my-Bl%C3%A5-Cast-Polyeten/p/10000395","SKOSKYDD AST 41CM 35MY BLÅ","M",null,null,38,14.95,3,1,252664,"https://www.lyrecocontract.se/web/ePortal/ctrl?action=showiteminfo&itemNo=252664","Skyddsvisir TECMAN med skum flergångs"]
[27,"Handskar","Vinylhandske ","- Undersökningshandske.\n- Puderfri.\n- Engångshandske.\n- Rullad kant.","Ja","EN 420","Längd 24 cm. Alla storlekar i anbudsgivarens sortiment.","+/-5%","Styck",100,0.73,3,100,"K31285-1085","https://su.profilservice.se/su/handskar-c355/vinylhandske/","Vinylhandske","L",null,null,25,1.32,3,150,2067384,"https://www.procurator.com/svSE/c/Eng%C3%A5ngshandskar/Eng%C3%A5ngshandske-Nitrile-White-Ultra?c=23_02_09&p=J-BP25&a=2067377","Engångshandske WorkSafe Nitrile White Ultra","L",null,null,44,28.5,1,1,8550130,"https://www.officedepot.se/sok?query=8550130","DAX Clinical Handdes. 600ml",null,null,null,39,0.27,3,100,10000396,"https://webshop.mediq.se/SwedenB2Bifs10/sv/%C3%96ppna-katalog/Skyddskl%C3%A4der-%26-Handskar/Skor-%26-skoskydd/Skoskydd/Skoskydd-Ast-45cm-35my-Bl%C3%A5-Cast-Polyeten/p/10000396","SKOSKYDD AST 45CM 35MY BLÅ","L",null,null,39,0.28999999999999998,3,100,253275,"https://www.lyrecocontract.se/web/ePortal/ctrl?action=showiteminfo&itemNo=253275","\nSkoskydd 15x36cm Small 35my blå 100/FP ","S"]
[27,"Handskar","Vinylhandske ","- Undersökningshandske.\n- Puderfri.\n- Engångshandske.\n- Rullad kant.","Ja","EN 420","Längd 24 cm. Alla storlekar i anbudsgivarens sortiment.","+/-5%","Styck",100,0.73,3,100,"K31285-1086","https://su.profilservice.se/su/handskar-c355/vinylhandske/","Vinylhandske","XL",null,null,25,1.32,3,150,2067385,"https://www.procurator.com/svSE/c/Eng%C3%A5ngshandskar/Eng%C3%A5ngshandske-Nitrile-White-Ultra?c=23_02_09&p=J-BP25&a=2067377","Engångshandske WorkSafe Nitrile White Ultra","XL",null,null,45,29,1,1,8555061,"https://www.officedepot.se/sok?query=8555061","Handdesinfektion DAX 75% 1 L",null,null,null,40,0.55000000000000004,3,100,10023210,"https://webshop.mediq.se/SwedenB2Bifs10/sv/%C3%96ppna-katalog/Skyddskl%C3%A4der-%26-Handskar/Skor-%26-skoskydd/Skoskydd/Skoskydd-Polynova-41cm-30my-Gr%C3%B6n-Skoskydd-I-Gr%C3%B6n-Pe-Plast/p/10023210","SKOSKYDD POLYNOVA 30MY GRÖN SKOSKYDD I GRÖN PE PLAST","S","OneSize",null,39,0.28999999999999998,3,100,253276,"https://www.lyrecocontract.se/web/ePortal/ctrl?action=showiteminfo&itemNo=253276","Skoskydd 15x41cm Medium 35my blå 100/FP","M"]
[28,"Handskar","Vinylhandske ","- Puderfri.\n- Engångshandske.","Ja","EN 420","Längd 24 cm. Alla storlekar i anbudsgivarens sortiment.","+/-5%","Styck",100,0.62,3,100,"K31285-1141","https://su.profilservice.se/su/handskar-c355/vinylhandske/","Vinylhandske","S",null,null,26,1.59,3,100,"2067405\n","https://www.procurator.com/svSE/c?query=2067408::&mya=0&tab=a","Eingångshandske WorkSafe Nitrile White Long","XS",null,null,46,26,1,1,8558396,"https://www.officedepot.se/sok?query=8558396","Ytdesinfektion DAX 75 1 L",null,null,null,40,0.55000000000000004,3,100,10023210,"https://webshop.mediq.se/SwedenB2Bifs10/sv/%C3%96ppna-katalog/Skyddskl%C3%A4der-%26-Handskar/Skor-%26-skoskydd/Skoskydd/Skoskydd-Polynova-41cm-30my-Gr%C3%B6n-Skoskydd-I-Gr%C3%B6n-Pe-Plast/p/10023210","SKOSKYDD POLYNOVA 30MY GRÖN SKOSKYDD I GRÖN PE PLAST","M","OneSize",null,39,0.28999999999999998,3,100,253277,"https://www.lyrecocontract.se/web/ePortal/ctrl?action=showiteminfo&itemNo=253277","Skoskydd 15x45xm Large 35my blå 100/FP ","L"]
[28,"Handskar","Vinylhandske ","- Puderfri.\n- Engångshandske.","Ja","EN 420","Längd 24 cm. Alla storlekar i anbudsgivarens sortiment.","+/-5%","Styck",100,0.62,3,100,"K31285-1142","https://su.profilservice.se/su/handskar-c355/vinylhandske/","Vinylhandske","M",null,null,26,1.59,3,100,2067406,"https://www.procurator.com/svSE/c?query=2067408::&mya=0&tab=a","Eingångshandske WorkSafe Nitrile White Long","S",null,null,47,25,1,1,8556829,"https://www.officedepot.se/sok?query=8556829","Ytdesinfektion IPA 45% 1 liter",null,null,null,40,0.55000000000000004,3,100,10023210,"https://webshop.mediq.se/SwedenB2Bifs10/sv/%C3%96ppna-katalog/Skyddskl%C3%A4der-%26-Handskar/Skor-%26-skoskydd/Skoskydd/Skoskydd-Polynova-41cm-30my-Gr%C3%B6n-Skoskydd-I-Gr%C3%B6n-Pe-Plast/p/10023210","SKOSKYDD POLYNOVA 30MY GRÖN SKOSKYDD I GRÖN PE PLAST","L","OneSize",null,40,0.49,3,100,244559,"https://www.lyrecocontract.se/web/ePortal/ctrl?action=showiteminfo&itemNo=244559","Skoskydd BIOPE 150 X 410 mm Grön 100/FP","42-46"]
[28,"Handskar","Vinylhandske ","- Puderfri.\n- Engångshandske.","Ja","EN 420","Längd 24 cm. Alla storlekar i anbudsgivarens sortiment.","+/-5%","Styck",100,0.62,3,100,"K31285-1143","https://su.profilservice.se/su/handskar-c355/vinylhandske/","Vinylhandske","L",null,null,26,1.59,3,100,2067408,"https://www.procurator.com/svSE/c?query=2067408::&mya=0&tab=a","Eingångshandske WorkSafe Nitrile White Long","M",null,null,48,169,1,1,8558395,"https://www.officedepot.se/sok?query=8558395","Ytdesinfektion DAX Plus 5 L",null,null,null,41,65,3,30,10024197,"https://webshop.mediq.se/SwedenB2Bifs10/sv/%C3%96ppna-katalog/Skyddskl%C3%A4der-%26-Handskar/Skor-%26-skoskydd/Skoskydd/St%C3%B6velskydd-Microguard-2500%2B-Halkfri-Sula-One-Size/p/10024197","STÖVELSKYDD MICROGUARD 2500+ HALKFRI SULA ONE SIZE","42-46","OneSize",null,41,13.48,3,40,244547,"https://www.lyrecocontract.se/web/ePortal/ctrl?action=showiteminfo&itemNo=244547","3M Stövelskydd 450 40/FP "]
[28,"Handskar","Vinylhandske ","- Puderfri.\n- Engångshandske.","Ja","EN 420","Längd 24 cm. Alla storlekar i anbudsgivarens sortiment.","+/-5%","Styck",100,0.62,3,100,"K31285-1144","https://su.profilservice.se/su/handskar-c355/vinylhandske/","Vinylhandske","XL",null,null,26,1.59,3,100,2067409,"https://www.procurator.com/svSE/c?query=2067408::&mya=0&tab=a","Eingångshandske WorkSafe Nitrile White Long","L",null,null,null,null,null,null,null,null,null,null,null,null,42,0.61199999999999999,3,100,10024157,"https://webshop.mediq.se/SwedenB2Bifs10/sv/%C3%96ppna-katalog/Skyddskl%C3%A4der-%26-Handskar/Operation/Op-m%C3%B6ssor/Op-M%C3%B6ssa-Basker-Ast-S-50cm-Bl%C3%A5-Elastisk/p/10024157","OP MÖSSA BASKER  ENGÅNGS","S","50 - S ",null,42,0.36499999999999999,3,200,124916,"https://www.lyrecocontract.se/web/ePortal/ctrl?action=showiteminfo&itemNo=124916","Hårnät nonwoven vit 200/FP"]
[29,"Handskar","Latexhandske","- Puderfri.\n- Slät engångshandske.\n- Rullad kant.\n- Glatt insida.","Ja","EN ISO 374-5:2016","Längd 24 cm. Alla storlekar i anbudsgivarens sortiment.","+/-5%","Styck",100,2.1,3,100,"K31285-1114","https://su.profilservice.se/su/handskar-c355/latexhandske/","Latexhandske","XS",null,null,27,null,null,null,null,null,null,null,null,null,null,null,null,null,null,null,null,null,null,null,42,0.65,3,100,10024158,"https://webshop.mediq.se/SwedenB2Bifs10/sv/%C3%96ppna-katalog/Skyddskl%C3%A4der-%26-Handskar/Operation/Op-m%C3%B6ssor/Op-M%C3%B6ssa-Basker-Ast-M-55cm-Bl%C3%A5-Elastisk/p/10024158","OP MÖSSA BASKER  ENGÅNGS","M","55 - M",null,43,null,null,200,114851,"https://www.lyrecocontract.se/web/ePortal/ctrl?action=showiteminfo&itemNo=114851","Hårnät nonwoven blå 200/FP",null,"Inväntar återkoppling från vår leverantör, i enlighet med 6.6.2 i underlag anger vi därmed ej pris       "]
[29,"Handskar","Latexhandske","- Puderfri.\n- Slät engångshandske.\n- Rullad kant.\n- Glatt insida.","Ja","EN ISO 374-5:2016","Längd 24 cm. Alla storlekar i anbudsgivarens sortiment.","+/-5%","Styck",100,2.1,3,100,"K31285-1115","https://su.profilservice.se/su/handskar-c355/latexhandske/","Latexhandske","S",null,null,27,0.28999999999999998,3,100,2120138,"Vinyl Glove WS Clear Powder Free (procurator.com)","Vinyl Glove WS Clear Powder Free S","S",null,null,null,null,null,null,null,null,null,null,null,null,42,0.77,3,100,10024159,"https://webshop.mediq.se/SwedenB2Bifs10/sv/%C3%96ppna-katalog/Skyddskl%C3%A4der-%26-Handskar/Operation/Op-m%C3%B6ssor/Op-M%C3%B6ssa-Basker-Ast-L-60cm-Bl%C3%A5-Elastisk/p/10024159","OP MÖSSA BASKER  ENGÅNGS","L","60 - L",null,44,14.95,3,1,197757,"https://www.lyrecocontract.se/web/ePortal/ctrl?action=showiteminfo&itemNo=197757","Handdesinfektion LIV Des 75 600ML"]
[29,"Handskar","Latexhandske","- Puderfri.\n- Slät engångshandske.\n- Rullad kant.\n- Glatt insida.","Ja","EN ISO 374-5:2016","Längd 24 cm. Alla storlekar i anbudsgivarens sortiment.","+/-5%","Styck",100,2.1,3,100,"K31285-1116","https://su.profilservice.se/su/handskar-c355/latexhandske/","Latexhandske","M",null,null,27,0.2,3,100,2120140,"Vinyl Glove WS Clear Powder Free (procurator.com)","Vinyl Glove WS Clear Powder Free M","M",null,null,null,null,null,null,null,null,null,null,null,null,43,0.88,3,100,10022599,"https://webshop.mediq.se/SwedenB2Bifs10/sv/%C3%96ppna-katalog/Aktuell-skyddsutrustning/Aktuell-skyddsutrustning/Aktuell-skyddsutrustning/Op-M%C3%B6ssa-Ast-Basker-Bl%C3%A5-Elastisk/p/10022599","OP MÖSSA AST BASKER BLÅ ELASTISK",null,null,null,45,19.95,3,1,197756,"https://www.lyrecocontract.se/web/ePortal/ctrl?action=showiteminfo&itemNo=197756","Handdesinfektion LIV Des 75 1L "]
[29,"Handskar","Latexhandske","- Puderfri.\n- Slät engångshandske.\n- Rullad kant.\n- Glatt insida.","Ja","EN ISO 374-5:2016","Längd 24 cm. Alla storlekar i anbudsgivarens sortiment.","+/-5%","Styck",100,null,null,null,null,null,null,null,null,null,27,0.28999999999999998,3,100,2120141,"Vinyl Glove WS Clear Powder Free (procurator.com)","Vinyl Glove WS Clear Powder Free L","L",null,null,null,null,null,null,null,null,null,null,null,null,44,28,3,1,10000845,"https://webshop.mediq.se/SwedenB2Bifs10/sv/%C3%96ppna-katalog/Omv%C3%A5rdnad-%26-V%C3%A5rdhygien/Desinfektion/Hand/Handdesinfektion-Liv-75-600ml-Med-Pump/p/10000845","HANDDESINFEKTION LIV 75 600ML MED PUMP",null,null,null,46,19.95,3,1,197800,"https://www.lyrecocontract.se/web/ePortal/ctrl?action=showiteminfo&itemNo=197800","Ytdesinfektion LIV Des 70 1L "]
[29,"Handskar","Latexhandske","- Puderfri.\n- Slät engångshandske.\n- Rullad kant.\n- Glatt insida.","Ja","EN ISO 374-5:2016","Längd 24 cm. Alla storlekar i anbudsgivarens sortiment.","+/-5%","Styck",100,2.1,3,100,"K31285-1118","https://su.profilservice.se/su/handskar-c355/latexhandske/","Latexhandske","XL",null,null,27,0.28999999999999998,3,100,2120143,"Vinyl Glove WS Clear Powder Free (procurator.com)","Vinyl Glove WS Clear Powder Free XL","XL",null,null,null,null,null,null,null,null,null,null,null,null,45,37,3,1,10000846,"https://webshop.mediq.se/SwedenB2Bifs10/sv/%C3%96ppna-katalog/Omv%C3%A5rdnad-%26-V%C3%A5rdhygien/Desinfektion/Hand/Handdesinfektion-Liv-75-1l-Flaska/p/10000846","HANDDESINFEKTION LIV 75 1L FLASKA",null,null,null,47,16.95,3,1,197796,"https://www.lyrecocontract.se/web/ePortal/ctrl?action=showiteminfo&itemNo=197796","Ytdesinfektion LIV Des +45 1L "]
[31,"Hörselproppar","Hörselpropp","- PU-skum konformad.\n- SNR 28 till minst 36 dB. ","Ja",null,null,null,"Par",250,1.248,3,200,"K31285-1027","https://su.profilservice.se/su/horselproppar/horselpropp-konformad/","Hörselpropp, konformad",null,null,null,28,0.28999999999999998,3,100,"2120138\n","Vinyl Glove WS Clear Powder Free (procurator.com)","Engångshandske WorkSafe Clear Vinyl Puderfri","S",null,null,null,null,null,null,null,null,null,null,null,null,46,35,3,1,10000860,"https://webshop.mediq.se/SwedenB2Bifs10/sv/%C3%96ppna-katalog/Omv%C3%A5rdnad-%26-V%C3%A5rdhygien/Desinfektion/Ytor/Ytdesinfektion-Liv-70-1l/p/10000860","YTDESINFEKTION LIV 70 1L ",null,null,null,48,null,null,null,197798,"https://www.lyrecocontract.se/web/ePortal/ctrl?action=showiteminfo&itemNo=197798","\nYtdesinfektion LIV Des +45 5L",null,"Inväntar återkoppling från vår leverantör, i enlighet med 6.6.2 i underlag anger vi därmed ej pris       "]
[32,"Hörselproppar","Hörselpropp","- PU-skum, konformad.\n- SNR 36 till minst 37 dB. ","Ja",null,null,null,"Par",250,1.248,3,200,"K31285-1135","https://su.profilservice.se/su/horselproppar/horselpropp-konformad/","Hörselpropp, konformad",null,null,null,28,0.28999999999999998,3,100,2120140,"Vinyl Glove WS Clear Powder Free (procurator.com)","Engångshandske WorkSafe Clear Vinyl Puderfri","M",null,null,null,null,null,null,null,null,null,null,null,null,47,23,3,1,10000861,"https://webshop.mediq.se/SwedenB2Bifs10/sv/%C3%96ppna-katalog/Omv%C3%A5rdnad-%26-V%C3%A5rdhygien/Desinfektion/Ytor/Ytdesinfektion-Liv-%2B45-1l/p/10000861","YTDESINFEKTION LIV +45 1L ",null,null,null,48,null,null,null,197798,"https://www.lyrecocontract.se/web/ePortal/ctrl?action=showiteminfo&itemNo=197798","Ytdesinfektion LIV Des +45 5L",null,"Inväntar återkoppling från vår leverantör, i enlighet med 6.6.2 i underlag anger vi därmed ej pris       "]
[33,"Hörselproppar","Hörselpropp","- PU-skum cylinderform.\n- minst SNR 28 dB.","Ja","EN 352",null,null,"Par",250,1.968,3,200,"K31285-1028","https://su.profilservice.se/su/horselproppar/horselpropp-cylinderformad/","Hörselpropp, cylinderformad",null,null,null,28,0.28999999999999998,3,100,2120141,"Vinyl Glove WS Clear Powder Free (procurator.com)","Engångshandske WorkSafe Clear Vinyl Puderfri","L",null,null,null,null,null,null,null,null,null,null,null,null,48,113,10,1,10003404,"https://webshop.mediq.se/SwedenB2Bifs10/sv/%C3%96ppna-katalog/Omv%C3%A5rdnad-%26-V%C3%A5rdhygien/Desinfektion/Ytor/Ytdesinfektion-Liv-%2B45-5l/p/10003404","YTDESINFEKTION LIV +45 5L ",null,null,null,null,0.33,3,100,14968598,"https://www.lyrecocontract.se/web/ePortal/ctrl?action=showiteminfo&itemNo=14968598","Nitrilhandske pud.fri Classic XS 100/FP"]
[34,"Skyddsglasögon och visir","Skyddsglasögon","- Polykarbonat.\n- Klarglas.\n- Rundad.\n- Reptåliga.","Ja","EN 166:2001",null,null,"Styck",1,33.615000000000002,3,1,"K31285-1029","https://su.profilservice.se/su/skyddsglasogon-och-visir/skyddsglasogon-rundade/","Skyddsglasögon, rundade",null,null,null,28,0.28999999999999998,3,100,2120143,"Vinyl Glove WS Clear Powder Free (procurator.com)","Engångshandske WorkSafe Clear Vinyl Puderfri","XL"]
[35,"Skyddsglasögon och visir","Skyddsglasögon ","- Polykarbonat.\n- Integrerad skalm och båge.\n- Bra passform och örongrepp.\n- Klarglas.\n- Reptåliga.\n- Imfria.","Ja","EN 166:2001",null,null,"Styck",1,70.5,3,1,"K31285-1030","https://su.profilservice.se/su/skyddsglasogon-och-visir/skyddsglasogon-med-integrerad-skalm-och-bage/","Skyddsglasögon, med integrerad skalm och båge",null,null,null,28]
[36,"Skyddsglasögon och visir","Skyddsglasögon ","- Polykarbonat.\n- Justerbara, infällbara skalmar (fem lägen).\n- Vridbara skalmändar.\n- Klarglas.\n- Anti rep-skydd.\n- Imfria.\n- Ska kunna bäras över vanliga glasögon.","Ja","EN 166:2001",null,null,"Styck",1,67.25,3,1,"K31285-1031","https://su.profilservice.se/su/skyddsglasogon-och-visir/skyddsglasogon-anti-rep/","Skyddsglasögon, Anti-rep",null,null,null,29,0.68899999999999995,3,100,"2130260\n","https://www.procurator.com/svSE/c/Eng%C3%A5ngshandskar/TouchNTuff-69-318?c=23_02_09&p=J-AA1028&a=2130260","Engångshandske Latex TouchNTuff  S","S"]
[37,"Skyddsglasögon och visir","Visir som täcker hela ansiktet","- Huvudställning med PC-visir. \n- Huvudställningen med resårband, alternativt annat justerbart band, i nacken och vaddering i pannan.\n- Visir i klart polykarbonat. ","Ja","EN 166:2001, MET 5659",null,null,"Styck",1,68,60,1,"K31285-1032","https://su.profilservice.se/su/skyddsglasogon-och-visir/heltackande-visir-polykarbonat/","Heltäckande visir, polykarbonat",null,null,null,29,0.68899999999999995,3,100,2130261,"https://www.procurator.com/svSE/c?query=2127194::&mya=0&tab=a","Engångshandske Latex TouchNTuff  M","M"]
[38,"Skyddsglasögon och visir","Visir som täcker hela ansiktet","- Visir gjort av klar PET-material. \n- Elastiskt pannband, alternativt justerbart huvudband, med skum eller annat material som ger motsvarande komfort.","Ja","EN 166:2001",null,null,"Styck",1,15.9,3,1,"K31285-1033","https://su.profilservice.se/su/skyddsglasogon-och-visir/heltackande-visir-pet/","Heltäckande visir, PET",null,null,null,29,0.68899999999999995,3,100,2310262,"https://www.procurator.com/svSE/c?query=2127194::&mya=0&tab=a","Engångshandske Latex TouchNTuff  L","L"]
[39,"Skoskydd","Skoskydd","- PE (behandlad polyeten).","Ja",null,"Alla storlekar i anbudsgivarens sortiment.",null,"Styck",110,0.47,3,110,"K31285-1119","https://su.profilservice.se/su/skoskydd/skoskydd-p12792/","Skoskydd","XS",null,null,29,0.68899999999999995,3,100,2130263,"https://www.procurator.com/svSE/c?query=2127194::&mya=0&tab=a","Engångshandske Latex TouchNTuff  XL","XL"]
[39,"Skoskydd","Skoskydd","- PE (behandlad polyeten).","Ja",null,"Alla storlekar i anbudsgivarens sortiment.",null,"Styck",110,0.47,3,110,"K31285-1120","https://su.profilservice.se/su/skoskydd/skoskydd-p12792/","Skoskydd","S",null,null,31,0.629,3,200,2115079,"https://www.procurator.com/svSE/c/H%C3%B6rselproppar/H%C3%B6rselpropp-Refill-Worksafe-EcoDamp-L?c=23_04_01&p=J-BG22&a=2115079","Hörselpropp Worksafe EcoDamp S Orange"]
[39,"Skoskydd","Skoskydd","- PE (behandlad polyeten).","Ja",null,"Alla storlekar i anbudsgivarens sortiment.",null,"Styck",110,0.47,3,110,"K31285-1121","https://su.profilservice.se/su/skoskydd/skoskydd-p12792/","Skoskydd","M",null,null,32,0.92,3,200,536110,"https://www.procurator.com/svSE/c/H%C3%B6rselproppar/H%C3%B6rselpropp?c=23_04_01&p=U-7313&a=536110","Hörselpropp 3M 1100, PU-skum, orange"]
[39,"Skoskydd","Skoskydd","- PE (behandlad polyeten).","Ja",null,"Alla storlekar i anbudsgivarens sortiment.",null,"Styck",110,0.47,3,110,"K31285-1122","https://su.profilservice.se/su/skoskydd/skoskydd-p12792/","Skoskydd","L",null,null,33,1.25,3,200,2064495,"https://www.procurator.com/svSE/c/H%C3%B6rselproppar/H%C3%B6rselpropp-EAR-Classic-Polybag?c=23_04_01&p=U-LQ05&a=2064495","Hörselpropp EAR Classic Polybag "]
[39,"Skoskydd","Skoskydd","- PE (behandlad polyeten).","Ja",null,"Alla storlekar i anbudsgivarens sortiment.",null,"Styck",110,0.47,3,110,"K31285-1123","https://su.profilservice.se/su/skoskydd/skoskydd-p12792/","Skoskydd","XL",null,null,34,10,3,1,2060264,"https://www.procurator.com/svSE/c/Skyddsglas%C3%B6gon/Skyddsglas%C3%B6gon-Worksafe-Cheetah?c=23_05_01&p=J-BG36&a=2060264","Skyddsglasögon Worksafe Cheetah Klar"]
[40,"Skoskydd","Skoskydd","- PE (behandlad polyeten).\n- Innehålla minst 40% återvunnet material alternativt vara tillverkat av minst 40% förnybart material (bioplast).","Ja",null,"Alla storlekar i anbudsgivarens sortiment.",null,"Styck",100,0.49,3,100,"K31285-1124","https://su.profilservice.se/su/skoskydd/skoskydd-fornybart/","Skoskydd, Förnybart","L",null,null,35,24.82,3,1,2060278,"https://www.procurator.com/svSE/c/Skyddsglas%C3%B6gon/Skyddsglas%C3%B6gon-Worksafe-Cheetah-PRO?c=23_05_01&p=J-BG44&a=2060278","Skyddsglasögon WorkSafe Cheetah PRO  Klart"]
[41,"Skoskydd","Stövelskydd","- Stövelskydd av polyeten eller polypropylen.\n- Med halkfri sula.\n- Med resår och knytband.  ",null,null,"42 - 46",null,"Styck",60,50,3,60,"K31285-1125","https://su.profilservice.se/su/skoskydd/stovelskydd/","Stövelskydd",39,null,null,36,23,3,1,2060261,"https://www.procurator.com/svSE/c/Skyddsglas%C3%B6gon/Skyddsglas%C3%B6gon-Worksafe-Hawk-Eye?c=23_05_01&p=J-BG35&a=2060261","Skyddsglasögon Worksafe Hawk Eye Klar"]
[41,"Skoskydd","Stövelskydd","- Stövelskydd av polyeten eller polypropylen.\n- Med halkfri sula.\n- Med resår och knytband.  ",null,null,"42 - 46",null,"Styck",60,50,3,60,"K31285-1126","https://su.profilservice.se/su/skoskydd/stovelskydd/","Stövelskydd",40,null,null,37,21.33,15,1,2064581,"https://www.procurator.com/svSE/c/Visir/Huvudst%C3%A4llning-med-visir-SAFE-3-65100-polykarbonat?c=23_05_04&p=J-BK02&a=2064581","Visir med huvudställning SAFE 3 65100 poly"]
[41,"Skoskydd","Stövelskydd","- Stövelskydd av polyeten eller polypropylen.\n- Med halkfri sula.\n- Med resår och knytband.  ",null,null,"42 - 46",null,"Styck",60,50,null,null,"K31285-1127","https://su.profilservice.se/su/skoskydd/stovelskydd/","Stövelskydd",41,null,null,38,12.35,3,1,2132850,"https://www.procurator.com/svSE/c/Visir/V%C3%A5rdvisir-Abena-PET-uppf%C3%A4llbart?c=23_05_04&p=J-PI135&a=2122322","Vårdvisir PET Uppfällbar Klart"]
[41,"Skoskydd","Stövelskydd","- Stövelskydd av polyeten eller polypropylen.\n- Med halkfri sula.\n- Med resår och knytband.  ",null,null,"42 - 46",null,"Styck",60,50,3,60,"K31285-1128","https://su.profilservice.se/su/skoskydd/stovelskydd/","Stövelskydd","42-46",null,null,39,0.31,3,100,2067349,"https://www.procurator.com/svSE/c/Eng%C3%A5ngskl%C3%A4der/Skoskydd-PE-Worksafe?c=23_09_02&p=J-BP23&a=2067349","2067349 Skoskydd PE Worksafe","M","OneSize"]
[41,"Skoskydd","Stövelskydd","- Stövelskydd av polyeten eller polypropylen.\n- Med halkfri sula.\n- Med resår och knytband.  ",null,null,"42 - 46",null,"Styck",60,50,3,60,"K31285-1129","https://su.profilservice.se/su/skoskydd/stovelskydd/","Stövelskydd","42-46",null,null,40,0.41,3,100,2127117,"https://www.procurator.com/svSE/c/Eng%C3%A5ngskl%C3%A4der/Skoskydd-Gr%C3%B6na-PolyGreen-410mmx0%252C03mm?c=23_09_02&p=J-AA0249&a=2127117","Skoskydd PolyGreen","M","OneSize"]
[41,"Skoskydd","Stövelskydd","- Stövelskydd av polyeten eller polypropylen.\n- Med halkfri sula.\n- Med resår och knytband.  ",null,null,"42 - 46",null,"Styck",60,50,3,60,"K31285-1130","https://su.profilservice.se/su/skoskydd/stovelskydd/","Stövelskydd","42-46",null,null,41,0.55000000000000004,3,30,2067152,"https://www.procurator.com/svSE/c/Korttidsoveraller/St%C3%B6velskydd-Microgard-2500-Plus-30par-fp?c=23_09_03&p=J-BO55&a=2067152","Stövelskydd Microgard 2500 Plus ","42-46","Skydd passar alla storlekar mellan 42-46"]
[41,"Skoskydd","Stövelskydd","- Stövelskydd av polyeten eller polypropylen.\n- Med halkfri sula.\n- Med resår och knytband.  ",null,null,"42 - 46",null,"Styck",60,50,3,60,"K31285-1131","https://su.profilservice.se/su/skoskydd/stovelskydd/","Stövelskydd","42-46",null,null,42,0.45600000000000002,3,100,2103362,"https://www.procurator.com/svSE/c/Eng%C3%A5ngskl%C3%A4der/H%C3%A5rskydd-PP-mob-cap-light?c=23_09_02&p=J-FK24&a=2103362","Hårskydd PP mob cap light Vit ","M","OneSize"]
[41,"Skoskydd","Stövelskydd","- Stövelskydd av polyeten eller polypropylen.\n- Med halkfri sula.\n- Med resår och knytband.  ",null,null,"42 - 46",null,"Styck",60,50,3,60,"K31285-1132","https://su.profilservice.se/su/skoskydd/stovelskydd/","Stövelskydd","42-46",null,null,43,0.53200000000000003,3,100,2103316,"https://www.procurator.com/svSE/c/Eng%C3%A5ngskl%C3%A4der/H%C3%A5rskydd-PP-mob-cap?c=23_09_02&p=J-FK23&a=2103316","Hårskydd PP mob cap Röd "]
[41,"Skoskydd","Stövelskydd","- Stövelskydd av polyeten eller polypropylen.\n- Med halkfri sula.\n- Med resår och knytband.  ",null,null,"42 - 46",null,"Styck",60,50,3,60,"K31285-1036","https://su.profilservice.se/su/skoskydd/stovelskydd/","Stövelskydd","42-46",null,null,44,11.19,3,1,2039303,"https://www.procurator.com/svSE/c/Hudv%C3%A5rdssystem-Liv/Liv-handdesinfektion-75?c=12_01_05&p=U-AJ83&a=2039303","Handdesinfektion Liv 75 600ml"]
[42,"Operationsmössa och hårnät","Operationsmössa","- Elastisk.\n- För engångsbruk.\n- Kan användas i situationer där det finns ett krav på hög hygienstandard, som t.ex. vid framställning av livsmedel, arbete på sjukhus och liknande. ","Ja, CE-märkt enligt EU-direktiv 93/42/EEC, klass 1 ",null,"Alla storlekar i anbudsgivarens sortiment alt. En storlek (one Size)",null,"Styck",200,1.6,3,200,"K31285-1037","https://su.profilservice.se/su/harskydd/operationsmossa/","Operationsmössa","M",null,null,45,10.33,3,1,2113869,"https://www.procurator.com/svSE/c/Hudv%C3%A5rdssystem-Liv/Liv-handdesinfektion-75?c=12_01_05&p=U-AJ83&a=2113869","Handdesinfektion Liv 75 1 l"]
[43,"Operationsmössa och hårnät","Hårnät","- Elastiska nonwoven fibrer (PP).\n- Latexfritt.","Ja, CE-märkt enligt EU-direktiv 93/42/EEC, klass 1",null,"En storlek (one size)",null,"Styck ",200,1.1200000000000001,3,200,"K31285-1038","https://su.profilservice.se/su/harskydd/harnat/","Hårnät",null,null,null,46,16.3,3,1,2109821,"https://www.procurator.com/svSE/c/Ytdesinfektion/Ytdesinfektion-Liv-Des-70?c=14_12_08&p=N-LK53&a=2109821","Ytdesinfektion Liv Des 70 1L"]
[44,"Handdesinfektion och ytdesinfektionsmedel","Handdesinfektion ","- Med pump.\n- Effektiv mot bakterier, svamp, mögel och virus.\n- 75 volymprocent alkohol.\n- Återfuktande.",null,null,"600 ml",null,"Styck",1,49,3,1,"K31285-1039","https://su.profilservice.se/su/desinfektion/handdesinfektion-600ml/","Handdesinfektion 600ml",null,null,null,47,16.48,3,1,2039304,"https://www.procurator.com/svSE/c/Ytdesinfektion/Liv-%252B-45?c=14_12_08&p=N-AE98&a=2039304","Ytdesinfektion Liv +45 1l"]
[45,"Handdesinfektion och ytdesinfektionsmedel","Handdesinfektion ","- Effektiv mot bakterier, jästsvamp och olika virus, t ex influensavirus.\n- 75 volymprocent alkohol.\n- Återfuktande.",null,null,"1 liter",null,"Styck",1,39,3,1,"K31285-1040","https://su.profilservice.se/su/desinfektion/handdesinfektion-1-l/","Handdesinfektion 1 L",null,null,null,48,68.48,3,1,2127023,"https://www.procurator.com/svSE/c/Ytdesinfektion/Liv-%252B-45?c=14_12_08&p=N-AE98&a=2127023","Ytdesinfektion Liv +45 5l"]
[46,"Handdesinfektion och ytdesinfektionsmedel","Ytdesinfektion","- Desinfektion av synligt rena ytor t.ex. bänkar, bord och undersökningsbritsar.\n- Mot bakterier, svampar och olika typer av virus som HIV, Hepatit B och C.\n- 75 volymprocent alkohol, med etanol som huvudkomponent.",null,null,"1 liter",null,"Styck",1,39,3,1,"K31285-1041","https://su.profilservice.se/su/desinfektion/ytdesinfektion-75/","Ytdesinfektion, 75%",null,null,null,45,10.33,3,1,2113869,"https://www.procurator.com/svSE/c/Hudv%C3%A5rdssystem-Liv/Liv-handdesinfektion-75?c=12_01_05&p=U-AJ83&a=2113869","Handdesinfektion Liv 75 1 l"]
[47,"Handdesinfektion och ytdesinfektionsmedel","Ytdesinfektion","- Desinfektion av släta ytor, till exempel undersökningsbritsar, bänkar och bord.\n- Mot bakterier, svamp och olika typer av virus inklusive coronavirus.\n- 45 volymprocent alkohol.",null,null,"1 liter",null,"Styck",1,39,3,1,"K31285-1042","https://su.profilservice.se/su/desinfektion/ytdesinfektion-45-1-l/","Ytdesinfektion, 45% 1 L",null,null,null,46,16.3,3,1,2109821,"https://www.procurator.com/svSE/c/Ytdesinfektion/Ytdesinfektion-Liv-Des-70?c=14_12_08&p=N-LK53&a=2109821","Ytdesinfektion Liv Des 70 1L"]
[48,"Handdesinfektion och ytdesinfektionsmedel","Ytdesinfektion","- Desinfektion av släta ytor, t.ex. undersökningsbritsar, bänkar, bord etc.\n- Produkten är effektiv mot bakterier, svamp och olika typer av virus som t.ex. Hepatit B, C och HIV.\n- 45 volymprocent alkohol.",null,null,"5 liter",null,"Styck",1,199,3,1,"K31285-1043","https://su.profilservice.se/su/desinfektion/ytdesinfektion-45-5l/","Ytdesinfektion, 45% 5L",null,null,null,47,16.48,3,1,2039304,"https://www.procurator.com/svSE/c/Ytdesinfektion/Liv-%252B-45?c=14_12_08&p=N-AE98&a=2039304","Ytdesinfektion Liv +45 1l"]
[null,null,null,null,null,null,null,null,null,null,null,null,null,null,null,null,null,null,null,48,68.48,3,1,2127023,"https://www.procurator.com/svSE/c/Ytdesinfektion/Liv-%252B-45?c=14_12_08&p=N-AE98&a=2127023","Ytdesinfektion Liv +45 5l"]

{"sheet":"Varukorg","index":4,"n_rows":49,"n_cols":10,"rows_kept":49,"cut":false,"hidden":false,"merged":[[6,0,6,1],[30,0,30,1]]}
["Position","Varutyp","Variant","Varubeskrivning","Krav på CE-märkning av vara","Tillämplig standard","Efterfrågad storlek","Tolerans avseende storlek","Enhet","Minsta orderkvantitet vid avrop"]
[1,"Andningsskydd","Andningsskydd/filtrerande halvmask","- Klass FFP1. \n- Med näsbygel och två band. \n- Skyddar mot damm.","Ja","EN 149:2001+A1:2009",null,null,"Styck",20]
[2,"Andningsskydd","Andningsskydd/filtrerande halvmask","- Klass FFP2. \n- Med utandningsventil. \n- Lämplig för sjukvårdsmiljöer.","Ja","EN 149:2001+A1:2009 ",null,null,"Styck",10]
[3,"Andningsskydd","Andningsskydd/filtrerande halvmask","- Klass FFP2. \n- Utan utandningsventil. \n- Lämplig för allmänt underhållsarbete.","Ja","EN 149:2001+A1:2009 ",null,null,"Styck",30]
[4,"Andningsskydd","Andningsskydd/filtrerande halvmask","- Klass FFP3. \n- Med utandningsventil. \n- Skyddar mot fasta och vätskeformiga partiklar. \n- Justerbart band med låsklämma alternativt med en likartad funktion som låsklämma.","Ja","EN 149:2001+A1:2009",null,null,"Styck",10]
[5,"Munskydd","Munskydd","- Munskydd Typ I, medicinsk utrustning. \n- Tre (3) lager icke-vävt material. \n- Näsklämma. \n- Latexfri.\n- Skydd mot spridning av vätska och bakterier från munnen och näsan. \n- Även  skydd mot damm, pollen och andra mikroorganismer.  ","Ja","EN 14683:2019",null,null,"Styck",50]
["Position 6 har utgått!"]
[7,"Munskydd","Munskydd","- Munskydd Typ IIR, medicinsk utrustning. \n- Icke-vävt material\n- Tre (3) lager med öronband.\n- Näsklämma.\n- Primärt  till vård och omsorg men även till  andra användarkategorier.","Ja","EN 14683:2019",null,null,"Styck",50]
[8,"Munskydd","Munskydd","- Munskydd Typ IIR.\n- Operationsmunskydd.\n- Tre (3) eller fyra (4) lager, med knytband.\n- Antifog för glasögonbärare.\n- Näsklämma.","Ja","EN 14683:2019",null,null,"Styck",60]
[9,"Förkläde","Förkläde","- Polyeten.\n- 70% förnybar råvara.\n- Utan ärm.","Ja",null,"800 x 1250 mm","+/-7%","Styck",50]
[10,"Förkläde","Förkläde","- Polyeten. \n- Vikt. \n- I dispenser. \n- Utan ärm.","Ja",null,"800 x 1200-1250 mm. 0,019-0,025 mm tjock","+/-7%","Styck",100]
[11,"Förkläde","Förkläde","- Polyeten. \n- Utan ärm. \n- Lämplig för livsmedels- och läkemedelsindustri.","Ja",null,"850 x 1600 mm. 0,024 – 0,05 tjock.","+/-7%","Styck",100]
[12,"Förkläde","Förkläde ","- Laminat. \n- Två (2) lager. \n- Utan ärm.","Ja",null,"750 x 1450 mm","+/-7%","Styck",150]
[13,"Förkläde","Förkläde","- Polyeten. \n- Med ärm. \n- Hål för tumme.","Ja",null,"(980-1029 mm) x (1200-1309 mm). 0,02-0,04 mm tjock.","+/-7%","Styck",60]
[14,"Förkläde","Förkläde","- Polyeten.  \n- Lämplig för livsmedels- och läkemedelsindustri samt vård och omsorg.\n- Utan ärm.","Ja",null,"850 x  1300 mm.  0,025 - 0,035 mm tjock","+/-7%","Styck",100]
[15,"Overall","Overall","- Engångsoverall tillverkad av polyeten eller polypropylen nonwoven.\n- Overallen stängs med dragkedja och har ett dragkedjeskydd.\n- Latexfri resår i ärm, fot och huva. \n- Användningsområden: Städarbete, målningsarbete, sanering samt skydd mot damm eller smuts.","Ja",null,"Alla storlekar i anbudsgivarens sortiment.",null,"Styck",10]
[16,"Overall","Overall","- Skyddsoverall/korttidsoverall tillverkad av flerlagslaminat. \n- Skyddsnivå 3,4,5. \n- Lämplig för rengörings- och underhållsarbeten, kemikaliehantering och vid biologiska risker. \n- Dubbelhäftande blixtlåsklaff. \n- Resår vid ärmar och ben samt tumögla. \n- Huva som passar heltäckande mask. \n- Partikeltät. \n- Antistatisk.","Ja",null,"Alla storlekar i anbudsgivarens sortiment.",null,"Styck",1]
[17,"Overall","Overall","- Skyddsoverall/korttidsoverall tillverkad av polyeten. \n- Skyddsnivå 4,5,6. \n- Huva med resår i öppningen och självhäftande klaff vid hakan för tät tillslutning vid användande av heltäckande ansiktsmask. \n- Resår i midja, ärmar och ben. \n- Blixtlås med självhäftande skyddsklaff. \n- Antistatisk.","Ja",null,"Alla storlekar i anbudsgivarens sortiment.",null,"Styck",1]
[18,"Ärmskydd","Ärmskydd med resår","- Latex- och PVC-fritt ärmskydd gjort av 100% polyeten. \n- Ärmskyddet hjälper till att skydda underarmarna.","Ja",null,"400 x 200 mm. 0,02-0,03 mm tjock","+/-5%","Styck",100]
[19,"Handskar","Montagehandske ","- Arbetshandske. \n- Läderhandske med getnarv på insidan och spandex, eller annat material med motsvarande elastiska egenskaper, på ovansidan.\n- Varmfodrad, vattentät. \n- Resår 360°. ","Ja","EN 388, EN 511, EN 420","Alla storlekar i anbudsgivarens sortiment.",null,"Par",1]
[20,"Handskar","Montagehandske ","- Arbetshandske i syntetmaterial.\n- Ofodrad. ","Ja","EN 388, 420 ","Alla storlekar i anbudsgivarens sortiment.",null,"Par",1]
[21,"Handskar","Montagehandske ","- Arbetshandske. Getnarv/nylon. \n- Isydd tumme. \n- Mycket god passform. \n- Slitstark.","Ja","EN 388:2016","Alla storlekar i anbudsgivarens sortiment.",null,"Par",1]
[22,"Handskar","Nitrilhandske","- Puderfri.\n- Med rullad krage för engångsbruk.\n- Smidig och punkteringssäker.\n- Motstår ett stort antal kemikalier.\n- Lämplig för arbete inom livsmedelsindustri, mekanisk industri, laboratorier, grafisk industri, glastillverkning och hantering av cytostatika.","Ja","EN ISO 374-5:2016, EN 420, AQL 0,65","Alla storlekar i anbudsgivarens sortiment.",null,"Styck",100]
[23,"Handskar","Nitrilhandske","- Puderfri/silikonfri.\n- Engångshandske.\n- Texturerade fingertoppar.","Ja","EN ISO 374-5:2016","Längd 24 cm. Alla storlekar i anbudsgivarens sortiment.","+/-5%","Styck",200]
[24,"Handskar","Nitrilhandske","- Puderfri\n- Oflossad kemskyddshandske.\n- Texturerad.\n- Tunn.\n- Resistent mot många lösningsmedel och oljebaserade kemikalier. ","Ja",null,"Längd 31-33 cm. 0,20-0,27 mm tjock. Alla storlekar i anbudsgivarens sortiment.","+/-5%","Par",12]
[25,"Handskar","Nitrilhandske ","- Kraftig handske.\n- Puderfri.\n- Vit.\n- Engångshandske.\n- Texturerade fingertoppar.\n- Godkänd för hantering av livsmedel.\n- Stor draghållfasthet.","Ja","EN ISO 374-5:2016","Längd 24 cm. Alla storlekar i anbudsgivarens sortiment.","+/-5%","Styck",150]
[26,"Handskar","Nitrilhandske ","- Puderfri/silikonfri.\n- Engångshandske.\n- Texturerade fingertoppar.","Ja","EN ISO 374-5:2016","Längd 29-30 cm. Alla storlekar i anbudsgivarens sortiment.","+/-5%","Styck",100]
[27,"Handskar","Vinylhandske ","- Undersökningshandske.\n- Puderfri.\n- Engångshandske.\n- Rullad kant.","Ja","EN 420","Längd 24 cm. Alla storlekar i anbudsgivarens sortiment.","+/-5%","Styck",100]
[28,"Handskar","Vinylhandske ","- Puderfri.\n- Engångshandske.","Ja","EN 420","Längd 24 cm. Alla storlekar i anbudsgivarens sortiment.","+/-5%","Styck",100]
[29,"Handskar","Latexhandske","- Puderfri.\n- Slät engångshandske.\n- Rullad kant.\n- Glatt insida.","Ja","EN ISO 374-5:2016","Längd 24 cm. Alla storlekar i anbudsgivarens sortiment.","+/-5%","Styck",100]
["Position 30 har utgått!"]
[31,"Hörselproppar","Hörselpropp","- PU-skum konformad.\n- SNR 28 till minst 36 dB. ","Ja",null,null,null,"Par",250]
[32,"Hörselproppar","Hörselpropp","- PU-skum, konformad.\n- SNR 36 till minst 37 dB. ","Ja",null,null,null,"Par",250]
[33,"Hörselproppar","Hörselpropp","- PU-skum cylinderform.\n- minst SNR 28 dB.","Ja","EN 352",null,null,"Par",250]
[34,"Skyddsglasögon och visir","Skyddsglasögon","- Polykarbonat.\n- Klarglas.\n- Rundad.\n- Reptåliga.","Ja","EN 166:2001",null,null,"Styck",1]
[35,"Skyddsglasögon och visir","Skyddsglasögon ","- Polykarbonat.\n- Integrerad skalm och båge.\n- Bra passform och örongrepp.\n- Klarglas.\n- Reptåliga.\n- Imfria.","Ja","EN 166:2001",null,null,"Styck",1]
[36,"Skyddsglasögon och visir","Skyddsglasögon ","- Polykarbonat.\n- Justerbara, infällbara skalmar (fem lägen).\n- Vridbara skalmändar.\n- Klarglas.\n- Anti rep-skydd.\n- Imfria.\n- Ska kunna bäras över vanliga glasögon.","Ja","EN 166:2001",null,null,"Styck",1]
[37,"Skyddsglasögon och visir","Visir som täcker hela ansiktet","- Huvudställning med PC-visir. \n- Huvudställningen med resårband, alternativt annat justerbart band, i nacken och vaddering i pannan.\n- Visir i klart polykarbonat. ","Ja","EN 166:2001, MET 5659",null,null,"Styck",1]
[38,"Skyddsglasögon och visir","Visir som täcker hela ansiktet","- Visir gjort av klar PET-material. \n- Elastiskt pannband, alternativt justerbart huvudband, med skum eller annat material som ger motsvarande komfort.","Ja","EN 166:2001",null,null,"Styck",1]
[39,"Skoskydd","Skoskydd","- PE (behandlad polyeten).","Ja",null,"Alla storlekar i anbudsgivarens sortiment.",null,"Styck",110]
[40,"Skoskydd","Skoskydd","- PE (behandlad polyeten).\n- Innehålla minst 40% återvunnet material alternativt vara tillverkat av minst 40% förnybart material (bioplast).","Ja",null,"Alla storlekar i anbudsgivarens sortiment.",null,"Styck",100]
[41,"Skoskydd","Stövelskydd","- Stövelskydd av polyeten eller polypropylen.\n- Med halkfri sula.\n- Med resår och knytband.  ",null,null,"42 - 46",null,"Styck",60]
[42,"Operationsmössa och hårnät","Operationsmössa","- Elastisk.\n- För engångsbruk.\n- Kan användas i situationer där det finns ett krav på hög hygienstandard, som t.ex. vid framställning av livsmedel, arbete på sjukhus och liknande. ","Ja, CE-märkt enligt EU-direktiv 93/42/EEC, klass 1 ",null,"Alla storlekar i anbudsgivarens sortiment alt. En storlek (one Size)",null,"Styck",200]
[43,"Operationsmössa och hårnät","Hårnät","- Elastiska nonwoven fibrer (PP).\n- Latexfritt.","Ja, CE-märkt enligt EU-direktiv 93/42/EEC, klass 1",null,"En storlek (one size)",null,"Styck ",200]
[44,"Handdesinfektion och ytdesinfektionsmedel","Handdesinfektion ","- Med pump.\n- Effektiv mot bakterier, svamp, mögel och virus.\n- 75 volymprocent alkohol.\n- Återfuktande.",null,null,"600 ml",null,"Styck",1]
[45,"Handdesinfektion och ytdesinfektionsmedel","Handdesinfektion ","- Effektiv mot bakterier, jästsvamp och olika virus, t ex influensavirus.\n- 75 volymprocent alkohol.\n- Återfuktande.",null,null,"1 liter",null,"Styck",1]
[46,"Handdesinfektion och ytdesinfektionsmedel","Ytdesinfektion","- Desinfektion av synligt rena ytor t.ex. bänkar, bord och undersökningsbritsar.\n- Mot bakterier, svampar och olika typer av virus som HIV, Hepatit B och C.\n- 75 volymprocent alkohol, med etanol som huvudkomponent.",null,null,"1 liter",null,"Styck",1]
[47,"Handdesinfektion och ytdesinfektionsmedel","Ytdesinfektion","- Desinfektion av släta ytor, till exempel undersökningsbritsar, bänkar och bord.\n- Mot bakterier, svamp och olika typer av virus inklusive coronavirus.\n- 45 volymprocent alkohol.",null,null,"1 liter",null,"Styck",1]
[48,"Handdesinfektion och ytdesinfektionsmedel","Ytdesinfektion","- Desinfektion av släta ytor, t.ex. undersökningsbritsar, bänkar, bord etc.\n- Produkten är effektiv mot bakterier, svamp och olika typer av virus som t.ex. Hepatit B, C och HIV.\n- 45 volymprocent alkohol.",null,null,"5 liter",null,"Styck",1]

{"sheet":"Funktioner","index":5,"n_rows":302,"n_cols":83,"rows_kept":302,"cut":false,"hidden":true,"merged":[[107,66,107,75],[107,33,107,42],[107,44,107,53],[107,55,107,64],[139,10,141,10],[139,22,141,22],[107,22,107,31],[107,11,107,20]]}
["Personlig skyddsutrustning",1,2,3,4,5,6,7,8,9,10,11,12,13,14,15,16,17,18,19,20,21,22,23,24,25,26,27,28,29,30,31,32,33,34,35,36,37,38,39,40,41,42,43,44,45,46,47,48,null,null,null,null,null,null,null,null,null,null,null,null,null,null,null,null,null,null,null,null,null,null,null,null,null,null,null,null,"RAL 1","RAL 2","RAL 3","RAL 4","RAL 5","RAL 6"]
["Beskrivning","Andningsskydd\n- Klass FFP1. \n- Med näsbygel och två band. \n- Skyddar mot damm.\n- CE-märkt.","Andningsskydd\n- Klass FFP2. \n- Med utandningsventil. \n- Lämplig för sjukvårdsmiljöer.\n- CE-märkt","Andningsskydd\n- Klass FFP2. \n- Utan utandningsventil. \n- Lämplig för allmänt underhållsarbete.\n- CE-märkt","Andningsskydd\n- Klass FFP3. \n- Med utandningsventil. \n- Skyddar mot fasta och vätskeformiga partiklar. \n- Justerbart band med låsklämma alternativt med en likartad funktion som låsklämma.\n- CE-märkt","Munskydd\n- Munskydd Typ I, medicinsk utrustning. \n- Tre (3) lager icke-vävt material. \n- Näsklämma. \n- Latexfri.\n- Skydd mot spridning av vätska och bakterier från munnen och näsan. \n- Även  skydd mot damm, pollen och andra mikroorganismer. \n- CE-märkt","Position 6 har utgått!","Munskydd\n- Munskydd Typ IIR, medicinsk utrustning. \n- Icke-vävt material\n- Tre (3) lager med öronband.\n- Näsklämma.\n- Primärt  till vård och omsorg men även till  andra användarkategorier.\n- CE-märkt","Munskydd\n- Munskydd Typ IIR.\n- Operationsmunskydd.\n- Tre (3) eller fyra (4) lager, med knytband.\n- Antifog för glasögonbärare.\n- Näsklämma.\n- CE-märkt","Förkläde\n- Polyeten.\n- 70% förnybar råvara.\n- Utan ärm.\n- Storlek: 800 x 1250 mm \n- Tolerans avseende storlek: +/-7%\n- CE-märkt ","Förkläde\n- Polyeten. \n- Vikt. \n- I dispenser. \n- Utan ärm. \n- Storlek: 800 x 1200-1250 mm. 0,019-0,025 mm tjock \n- Tolerans avseende storlek: +/-7%\n- CE-märkt","Förkläde\n- Polyeten. \n- Utan ärm. \n- Lämplig för livsmedels- och läkemedelsindustri.\n- Storlek: 850 x 1600 mm. 0,024-0,05 mm tjock\n- Tolerans avseende storlek: +/-7%\n- CE-märkt","Förkläde\n- Laminat. \n- Två (2) lager. \n- Utan ärm.\n- Storlek: 750 x 1450 mm\n- Tolerans avseende storlek: +/-7%\n- CE-märkt","Förkläde\n- Polyeten. \n- Med ärm. \n- Hål för tumme.\n- Storlek: (980-1029 mm) x (1200-1309 mm). 0,02-0,04 mm tjock.\n- Tolerans avseende storlek: +/-7%\n- CE-märkt","Förkläde\n- Polyeten.  \n- Lämplig för livsmedels- och läkemedelsindustri samt vård och omsorg.\n- Utan ärm.\n- Storlek: 850 x  1300 mm.  0,025 - 0,035 mm tjock\n- Tolerans avseende storlek: +/-7%\n- CE-märkt","Overall\n- Engångsoverall tillverkad av polyeten eller polypropylen nonwoven.\n- Overallen stängs med dragkedja och har ett dragkedjeskydd.\n- Latexfri resår i ärm, fot och huva. \n- Användningsområden: Städarbete, målningsarbete, sanering samt skydd mot damm eller smuts.\n- CE-märkt","Overall\n- Skyddsoverall/korttidsoverall tillverkad av flerlagslaminat. \n- Skyddsnivå 3,4,5. \n- Lämplig för rengörings- och underhållsarbeten, kemikaliehantering och vid biologiska risker. \n- Dubbelhäftande blixtlåsklaff. \n- Resår vid ärmar och ben samt tumögla. \n- Huva som passar heltäckande mask. \n- Partikeltät. \n- Antistatisk.\n- CE-märkt","Overall\n- Skyddsoverall/korttidsoverall tillverkad av polyeten. \n- Skyddsnivå 4,5,6. \n- Huva med resår i öppningen och självhäftande klaff vid hakan för tät tillslutning vid användande av heltäckande ansiktsmask. \n- Resår i midja, ärmar och ben. \n- Blixtlås med självhäftande skyddsklaff. \n- Antistatisk.\n- CE-märkt","Ärmskydd\n- Latex- och PVC-fritt ärmskydd gjort av 100% polyeten. \n- Ärmskyddet hjälper till att skydda underarmarna.\n- Storlek: 400 x 200 mm. 0,02-0,03 mm tjock.\n- Tolerans avseende storlek: +/-5%\n- CE-märkt","Handskar\n- Arbetshandske. \n- Läderhandske med getnarv på insidan och spandex, eller annat material med motsvarande elastiska egenskaper, på ovansidan.\n- Varmfodrad, vattentät. \n- Resår 360°. \n- CE-märkt","Handskar\n- Arbetshandske i syntetmaterial.\n- Ofodrad. \n- CE-märkt.","Handskar\n- Arbetshandske. Getnarv/nylon. \n- Isydd tumme. \n- Mycket god passform. \n- Slitstark.\n- CE-märkt.","Handskar\n- Puderfri.\n- Med rullad krage för engångsbruk.\n- Smidig och punkteringssäker.\n- Motstår ett stort antal kemikalier.\n- Lämplig för arbete inom livsmedelsindustri, mekanisk industri, laboratorier, grafisk industri, glastillverkning och hantering av cytostatika.\n- CE-märkt","Handskar\n- Puderfri/silikonfri.\n- Engångshandske.\n- Texturerade fingertoppar.\n- Storlek: Längd 24 cm. \n- Tolerans avseende storlek: +/-5%\n- CE-märkt","Handskar\n- Puderfri\n- Oflossad kemskyddshandske.\n- Texturerad.\n- Tunn.\n- Resistent mot många lösningsmedel och oljebaserade kemikalier. \n- Storlek: Längd 31-33 cm. 0,20-0,27 mm tjock.\n- Tolerans avseende storlek: +/-5%\n- CE-märkt","Handskar\n- Kraftig handske.\n- Puderfri.\n- Vit.\n- Engångshandske.\n- Texturerade fingertoppar.\n- Godkänd för hantering av livsmedel.\n- Stor draghållfasthet.\n- Storlek: Längd 24 cm.\n- Tolerans avseende storlek: +/-5%\n- CE-märkt","Handskar\n- Puderfri/silikonfri.\n- Engångshandske.\n- Texturerade fingertoppar.\n- Storlek: Längd 29-30 cm.\n- Tolerans avseende storlek: +/-5%\n- CE-märkt","Handskar\n- Undersökningshandske.\n- Puderfri.\n- Engångshandske.\n- Rullad kant.\n- Storlek: Längd 24 cm.\n- Tolerans avseende storlek: +/-5%\n- CE-märkt","Handskar\n- Puderfri.\n- Engångshandske.\n- Storlek: Längd 24 cm.\n- Tolerans avseende storlek: +/-5%\n- CE-märkt","Handskar\n- Puderfri.\n- Slät engångshandske.\n- Rullad kant.\n- Glatt insida.\n- Storlek: Längd 24 cm.\n- Tolerans avseende storlek: +/-5%\n- CE-märkt","Position 30 har utgått!","Hörselproppar\n- PU-skum konformad.\n- SNR 28 till minst 36 dB. \n- CE-märkt","Hörselproppar\n- PU-skum, konformad.\n- SNR 36 till minst 37 dB. \n- CE-märkt","Hörselproppar\n- PU-skum cylinderform.\n- minst SNR 28 dB.\n- CE-märkt","Skyddsglasögon\n- Polykarbonat.\n- Klarglas.\n- Rundad.\n- Reptåliga.\n- CE-märkt","Skyddsglasögon\n- Polykarbonat.\n- Integrerad skalm och båge.\n- Bra passform och örongrepp.\n- Klarglas.\n- Reptåliga.\n- Imfria.\n- CE-märkt","Skyddsglasögon\n- Polykarbonat.\n- Justerbara, infällbara skalmar (fem lägen).\n- Vridbara skalmändar.\n- Klarglas.\n- Anti rep-skydd.\n- Imfria.\n- Ska kunna bäras över vanliga glasögon.\n- CE-märkt","Visir\n- Huvudställning med PC-visir. \n- Huvudställningen med resårband, alternativt annat justerbart band, i nacken och vaddering i pannan.\n- Visir i klart polykarbonat. \n- CE-märkt","Visir\n- Visir gjort av klar PET-material. \n- Elastiskt pannband, alternativt justerbart huvudband, med skum eller annat material som ger motsvarande komfort.\n- CE-märkt","Skoskydd\n- PE (behandlad polyeten).\n- CE-märkt","Skoskydd\n- PE (behandlad polyeten).\n- Innehålla minst 40% återvunnet material alternativt vara tillverkat av minst 40% förnybart material (bioplast).\n- CE-märkt","Stövelskydd\n- Stövelskydd av polyeten eller polypropylen.\n- Med halkfri sula.\n- Med resår och knytband.","Operationsmössa\n- Elastisk.\n- För engångsbruk.\n- Kan användas i situationer där det finns ett krav på hög hygienstandard, som t.ex. vid framställning av livsmedel, arbete på sjukhus och liknande. \n- CE-märkt","Hårnät\n- Elastiska nonwoven fibrer (PP).\n- Latexfritt.\n- CE-märkt","Handdesinfektion\n- Med pump.\n- Effektiv mot bakterier, svamp, mögel och virus.\n- 75 volymprocent alkohol.\n- Återfuktande.\n- Storlek: 600 ml","Handdesinfektion\n- Effektiv mot bakterier, jästsvamp och olika virus, t ex influensavirus.\n- 75 volymprocent alkohol.\n- Återfuktande.\n- Storlek: 1 liter","Ytdesinfektionsmedel\n- Desinfektion av synligt rena ytor t.ex. bänkar, bord och undersökningsbritsar.\n- Mot bakterier, svampar och olika typer av virus som HIV, Hepatit B och C.\n- 75 volymprocent alkohol, med etanol som huvudkomponent.\n- Storlek: 1 liter","Ytdesinfektionsmedel\n- Desinfektion av släta ytor, till exempel undersökningsbritsar, bänkar och bord.\n- Mot bakterier, svamp och olika typer av virus inklusive coronavirus.\n- 45 volymprocent alkohol.\n- Storlek: 1 liter","Ytdesinfektionsmedel\n- Desinfektion av släta ytor, t.ex. undersökningsbritsar, bänkar, bord etc.\n- Produkten är effektiv mot bakterier, svamp och olika typer av virus som t.ex. Hepatit B, C och HIV.\n- 45 volymprocent alkohol.\n- Storlek: 5 liter"]
["Enhet","styck","styck","styck","styck","styck","styck","styck","styck","styck","styck","styck","styck","styck","styck","styck","styck","styck","styck","par","par","par","styck","styck","par","styck","styck","styck","styck","styck","par","par","par","par","styck","styck","styck","styck","styck","styck","styck","styck","styck","styck ","styck","styck","styck","styck","styck",null,null,null,null,null,null,null,null,null,null,null,null,null,null,null,null,null,null,null,null,null,null,null,null,null,null,null,null,{"$f":"IF('Avtalat sortiment'!K3<>\"\",'Avtalat sortiment'!$A3&'Avtalat sortiment'!Q3,\"\")","v":"1"},{"$f":"IF('Avtalat sortiment'!U3<>\"\",'Avtalat sortiment'!T3&'Avtalat sortiment'!AA3,\"\")","v":"1"},{"$f":"IF('Avtalat sortiment'!AE3<>\"\",'Avtalat sortiment'!AD3&'Avtalat sortiment'!AK3,\"\")","v":"1"},{"$f":"IF('Avtalat sortiment'!AO3<>\"\",'Avtalat sortiment'!AN3&'Avtalat sortiment'!AU3,\"\")","v":"1"},{"$f":"IF('Avtalat sortiment'!AY3<>\"\",'Avtalat sortiment'!AX3&'Avtalat sortiment'!BE3,\"\")","v":"1"},{"$f":"IF('Avtalat sortiment'!BI3<>\"\",'Avtalat sortiment'!BH3&'Avtalat sortiment'!BO3,\"\")","v":"2"}]
[null,null,null,null,null,null,null,null,null,null,null,null,null,null,null,null,null,null,null,null,null,null,null,null,null,null,null,null,null,null,null,null,null,null,null,null,null,null,null,null,null,null,null,null,null,null,null,null,null,null,null,null,null,null,null,null,null,null,null,null,null,null,null,null,null,null,null,null,null,null,null,null,null,null,null,null,null,{"$f":"IF('Avtalat sortiment'!K4<>\"\",'Avtalat sortiment'!$A4&'Avtalat sortiment'!Q4,\"\")","v":"2"},{"$f":"IF('Avtalat sortiment'!U4<>\"\",'Avtalat sortiment'!T4&'Avtalat sortiment'!AA4,\"\")","v":"2"},{"$f":"IF('Avtalat sortiment'!AE4<>\"\",'Avtalat sortiment'!AD4&'Avtalat sortiment'!AK4,\"\")","v":"2"},{"$f":"IF('Avtalat sortiment'!AO4<>\"\",'Avtalat sortiment'!AN4&'Avtalat sortiment'!AU4,\"\")","v":"2"},{"$f":"IF('Avtalat sortiment'!AY4<>\"\",'Avtalat sortiment'!AX4&'Avtalat sortiment'!BE4,\"\")","v":"2"},{"$f":"IF('Avtalat sortiment'!BI4<>\"\",'Avtalat sortiment'!BH4&'Avtalat sortiment'!BO4,\"\")","v":"3"}]
[null,null,null,null,null,null,null,null,null,null,null,null,null,null,null,null,null,null,null,null,null,null,null,null,null,null,null,null,null,null,null,null,null,null,null,null,null,null,null,null,null,null,null,null,null,null,null,null,null,null,null,null,null,null,null,null,null,null,null,null,null,null,null,null,null,null,null,null,null,null,null,null,null,null,null,null,null,{"$f":"IF('Avtalat sortiment'!K5<>\"\",'Avtalat sortiment'!$A5&'Avtalat sortiment'!Q5,\"\")","v":"3"},{"$f":"IF('Avtalat sortiment'!U5<>\"\",'Avtalat sortiment'!T5&'Avtalat sortiment'!AA5,\"\")","v":"3"},{"$f":"IF('Avtalat sortiment'!AE5<>\"\",'Avtalat sortiment'!AD5&'Avtalat sortiment'!AK5,\"\")","v":"3"},{"$f":"IF('Avtalat sortiment'!AO5<>\"\",'Avtalat sortiment'!AN5&'Avtalat sortiment'!AU5,\"\")","v":"3"},{"$f":"IF('Avtalat sortiment'!AY5<>\"\",'Avtalat sortiment'!AX5&'Avtalat sortiment'!BE5,\"\")","v":"3"},{"$f":"IF('Avtalat sortiment'!BI5<>\"\",'Avtalat sortiment'!BH5&'Avtalat sortiment'!BO5,\"\")","v":"4"}]
["Andningsskydd","Munskydd","Förkläden","Overall","Ärmskydd","Montagehandske","Nitrilhandske","Vinylhandske","Latexhandske","Hörselpropp","Skyddsglasögon","Visir","Skoskydd","Stövelskydd","Operationsmössa","Hårnät","Handdesinfektion","Ytdesinfektion",null,null,null,null,null,null,null,null,null,null,null,null,null,null,null,null,null,null,null,null,null,null,null,null,null,null,null,null,null,null,null,null,null,null,null,null,null,null,null,null,null,null,null,null,null,null,null,null,null,null,null,null,null,null,null,null,null,null,null,{"$f":"IF('Avtalat sortiment'!K6<>\"\",'Avtalat sortiment'!$A6&'Avtalat sortiment'!Q6,\"\")","v":"4"},{"$f":"IF('Avtalat sortiment'!U6<>\"\",'Avtalat sortiment'!T6&'Avtalat sortiment'!AA6,\"\")","v":"4"},{"$f":"IF('Avtalat sortiment'!AE6<>\"\",'Avtalat sortiment'!AD6&'Avtalat sortiment'!AK6,\"\")","v":"4"},{"$f":"IF('Avtalat sortiment'!AO6<>\"\",'Avtalat sortiment'!AN6&'Avtalat sortiment'!AU6,\"\")","v":"4"},{"$f":"IF('Avtalat sortiment'!AY6<>\"\",'Avtalat sortiment'!AX6&'Avtalat sortiment'!BE6,\"\")","v":"4"},{"$f":"IF('Avtalat sortiment'!BI6<>\"\",'Avtalat sortiment'!BH6&'Avtalat sortiment'!BO6,\"\")","v":"5"}]
["Klass FFP1","Typ I","Utan ärm, 70% förnybar råvara, 800 x 1250 mm","Engångsoverall","Ärmskydd med resår","Varmfodrad, vattentät","Rullad krage","Undersökningshandske, rullad kant, 24 cm","Rullad kant, glatt insida, 24 cm","PU-skum konformad, SNR 28 till minst 36 dB. ","Rundad","PC-visir","PE (behandlad polyeten)","Stövelskydd","Operationsmössa","Hårnät","Med pump, 600 ml","1 liter, etanol baserad",null,null,null,null,null,null,null,null,null,null,null,null,null,null,null,null,null,null,null,null,null,null,null,null,null,null,null,null,null,null,null,null,null,null,null,null,null,null,null,null,null,null,null,null,null,null,null,null,null,null,null,null,null,null,null,null,null,null,null,{"$f":"IF('Avtalat sortiment'!K7<>\"\",'Avtalat sortiment'!$A7&'Avtalat sortiment'!Q7,\"\")","v":"5"},{"$f":"IF('Avtalat sortiment'!U7<>\"\",'Avtalat sortiment'!T7&'Avtalat sortiment'!AA7,\"\")","v":"7"},{"$f":"IF('Avtalat sortiment'!AE7<>\"\",'Avtalat sortiment'!AD7&'Avtalat sortiment'!AK7,\"\")","v":"7"},{"$f":"IF('Avtalat sortiment'!AO7<>\"\",'Avtalat sortiment'!AN7&'Avtalat sortiment'!AU7,\"\")","v":"7"},{"$f":"IF('Avtalat sortiment'!AY7<>\"\",'Avtalat sortiment'!AX7&'Avtalat sortiment'!BE7,\"\")","v":""},{"$f":"IF('Avtalat sortiment'!BI7<>\"\",'Avtalat sortiment'!BH7&'Avtalat sortiment'!BO7,\"\")","v":"7"}]
["Klass FFP2 med utandningsventil","Typ IIR","Utan ärm i dispenser, 800 x 1200-1250 mm","Skyddsoverall/korttidsoverall, laminat",null,"Ofodrad","Texturerade fingertoppar, 24 cm","24 cm",null,"PU-skum, konformad, SNR 36 till minst 37 dB.","Integrerad skalm och båge, imfria","Klar PET-material","PE (behandlad polyeten), återvunnet material",null,null,null,"1 liter","1 liter, 45 volymprocent alkohol",null,null,null,null,null,null,null,null,null,null,null,null,null,null,null,null,null,null,null,null,null,null,null,null,null,null,null,null,null,null,null,null,null,null,null,null,null,null,null,null,null,null,null,null,null,null,null,null,null,null,null,null,null,null,null,null,null,null,null,{"$f":"IF('Avtalat sortiment'!K8<>\"\",'Avtalat sortiment'!$A8&'Avtalat sortiment'!Q8,\"\")","v":"7"},{"$f":"IF('Avtalat sortiment'!U8<>\"\",'Avtalat sortiment'!T8&'Avtalat sortiment'!AA8,\"\")","v":"8"},{"$f":"IF('Avtalat sortiment'!AE8<>\"\",'Avtalat sortiment'!AD8&'Avtalat sortiment'!AK8,\"\")","v":"8"},{"$f":"IF('Avtalat sortiment'!AO8<>\"\",'Avtalat sortiment'!AN8&'Avtalat sortiment'!AU8,\"\")","v":"8"},{"$f":"IF('Avtalat sortiment'!AY8<>\"\",'Avtalat sortiment'!AX8&'Avtalat sortiment'!BE8,\"\")","v":"7"},{"$f":"IF('Avtalat sortiment'!BI8<>\"\",'Avtalat sortiment'!BH8&'Avtalat sortiment'!BO8,\"\")","v":"8"}]
["Klass FFP2 utan utandningsventil","Typ IIR med antifog","Utan ärm, 850 x 1600 mm","Skyddsoverall/korttidsoverall, polyten",null,"Isydd tumme","Oflossad kemskyddshandske",null,null,"PU-skum cylinderform, minst SNR 28 dB.","Justerbara, infällbara skalmar, imfria",null,null,null,null,null,null,"5 liter, 45 volymprocent alkohol",null,null,null,null,null,null,null,null,null,null,null,null,null,null,null,null,null,null,null,null,null,null,null,null,null,null,null,null,null,null,null,null,null,null,null,null,null,null,null,null,null,null,null,null,null,null,null,null,null,null,null,null,null,null,null,null,null,null,null,{"$f":"IF('Avtalat sortiment'!K9<>\"\",'Avtalat sortiment'!$A9&'Avtalat sortiment'!Q9,\"\")","v":"8"},{"$f":"IF('Avtalat sortiment'!U9<>\"\",'Avtalat sortiment'!T9&'Avtalat sortiment'!AA9,\"\")","v":"9"},{"$f":"IF('Avtalat sortiment'!AE9<>\"\",'Avtalat sortiment'!AD9&'Avtalat sortiment'!AK9,\"\")","v":""},{"$f":"IF('Avtalat sortiment'!AO9<>\"\",'Avtalat sortiment'!AN9&'Avtalat sortiment'!AU9,\"\")","v":"9"},{"$f":"IF('Avtalat sortiment'!AY9<>\"\",'Avtalat sortiment'!AX9&'Avtalat sortiment'!BE9,\"\")","v":"8"},{"$f":"IF('Avtalat sortiment'!BI9<>\"\",'Avtalat sortiment'!BH9&'Avtalat sortiment'!BO9,\"\")","v":"9"}]
["Klass FFP3",null,"Utan ärm, laminat, 750 x 1450 mm",null,null,null,"Kraftig, 24 cm",null,null,null,null,null,null,null,null,null,null,null,null,null,null,null,null,null,null,null,null,null,null,null,null,null,null,null,null,null,null,null,null,null,null,null,null,null,null,null,null,null,null,null,null,null,null,null,null,null,null,null,null,null,null,null,null,null,null,null,null,null,null,null,null,null,null,null,null,null,null,{"$f":"IF('Avtalat sortiment'!K10<>\"\",'Avtalat sortiment'!$A10&'Avtalat sortiment'!Q10,\"\")","v":"9"},{"$f":"IF('Avtalat sortiment'!U10<>\"\",'Avtalat sortiment'!T10&'Avtalat sortiment'!AA10,\"\")","v":"10"},{"$f":"IF('Avtalat sortiment'!AE10<>\"\",'Avtalat sortiment'!AD10&'Avtalat sortiment'!AK10,\"\")","v":""},{"$f":"IF('Avtalat sortiment'!AO10<>\"\",'Avtalat sortiment'!AN10&'Avtalat sortiment'!AU10,\"\")","v":"10"},{"$f":"IF('Avtalat sortiment'!AY10<>\"\",'Avtalat sortiment'!AX10&'Avtalat sortiment'!BE10,\"\")","v":"9"},{"$f":"IF('Avtalat sortiment'!BI10<>\"\",'Avtalat sortiment'!BH10&'Avtalat sortiment'!BO10,\"\")","v":"10"}]
[null,null,"Med ärm,",null,null,null,"Texturerade fingertoppar, 29-30 cm",null,null,null,null,null,null,null,null,null,null,null,null,null,null,null,null,null,null,null,null,null,null,null,null,null,null,null,null,null,null,null,null,null,null,null,null,null,null,null,null,null,null,null,null,null,null,null,null,null,null,null,null,null,null,null,null,null,null,null,null,null,null,null,null,null,null,null,null,null,null,{"$f":"IF('Avtalat sortiment'!K11<>\"\",'Avtalat sortiment'!$A11&'Avtalat sortiment'!Q11,\"\")","v":"10"},{"$f":"IF('Avtalat sortiment'!U11<>\"\",'Avtalat sortiment'!T11&'Avtalat sortiment'!AA11,\"\")","v":"11"},{"$f":"IF('Avtalat sortiment'!AE11<>\"\",'Avtalat sortiment'!AD11&'Avtalat sortiment'!AK11,\"\")","v":""},{"$f":"IF('Avtalat sortiment'!AO11<>\"\",'Avtalat sortiment'!AN11&'Avtalat sortiment'!AU11,\"\")","v":"11"},{"$f":"IF('Avtalat sortiment'!AY11<>\"\",'Avtalat sortiment'!AX11&'Avtalat sortiment'!BE11,\"\")","v":""},{"$f":"IF('Avtalat sortiment'!BI11<>\"\",'Avtalat sortiment'!BH11&'Avtalat sortiment'!BO11,\"\")","v":"11"}]
[null,null,"Utan ärm, 850 x  1300 mm",null,null,null,null,null,null,null,null,null,null,null,null,null,null,null,null,null,null,null,null,null,null,null,null,null,null,null,null,null,null,null,null,null,null,null,null,null,null,null,null,null,null,null,null,null,null,null,null,null,null,null,null,null,null,null,null,null,null,null,null,null,null,null,null,null,null,null,null,null,null,null,null,null,null,{"$f":"IF('Avtalat sortiment'!K12<>\"\",'Avtalat sortiment'!$A12&'Avtalat sortiment'!Q12,\"\")","v":"11"},{"$f":"IF('Avtalat sortiment'!U12<>\"\",'Avtalat sortiment'!T12&'Avtalat sortiment'!AA12,\"\")","v":"12"},{"$f":"IF('Avtalat sortiment'!AE12<>\"\",'Avtalat sortiment'!AD12&'Avtalat sortiment'!AK12,\"\")","v":"13"},{"$f":"IF('Avtalat sortiment'!AO12<>\"\",'Avtalat sortiment'!AN12&'Avtalat sortiment'!AU12,\"\")","v":"13"},{"$f":"IF('Avtalat sortiment'!AY12<>\"\",'Avtalat sortiment'!AX12&'Avtalat sortiment'!BE12,\"\")","v":"11"},{"$f":"IF('Avtalat sortiment'!BI12<>\"\",'Avtalat sortiment'!BH12&'Avtalat sortiment'!BO12,\"\")","v":"12"}]
[null,null,null,null,null,null,null,null,null,null,null,null,null,null,null,null,null,null,null,null,null,null,null,null,null,null,null,null,null,null,null,null,null,null,null,null,null,null,null,null,null,null,null,null,null,null,null,null,null,null,null,null,null,null,null,null,null,null,null,null,null,null,null,null,null,null,null,null,null,null,null,null,null,null,null,null,null,{"$f":"IF('Avtalat sortiment'!K13<>\"\",'Avtalat sortiment'!$A13&'Avtalat sortiment'!Q13,\"\")","v":"12"},{"$f":"IF('Avtalat sortiment'!U13<>\"\",'Avtalat sortiment'!T13&'Avtalat sortiment'!AA13,\"\")","v":"13"},{"$f":"IF('Avtalat sortiment'!AE13<>\"\",'Avtalat sortiment'!AD13&'Avtalat sortiment'!AK13,\"\")","v":"14"},{"$f":"IF('Avtalat sortiment'!AO13<>\"\",'Avtalat sortiment'!AN13&'Avtalat sortiment'!AU13,\"\")","v":"14"},{"$f":"IF('Avtalat sortiment'!AY13<>\"\",'Avtalat sortiment'!AX13&'Avtalat sortiment'!BE13,\"\")","v":"12"},{"$f":"IF('Avtalat sortiment'!BI13<>\"\",'Avtalat sortiment'!BH13&'Avtalat sortiment'!BO13,\"\")","v":"13"}]
[null,null,null,null,null,null,null,null,null,null,null,null,null,null,null,null,null,null,null,null,null,null,null,null,null,null,null,null,null,null,null,null,null,null,null,null,null,null,null,null,null,null,null,null,null,null,null,null,null,null,null,null,null,null,null,null,null,null,null,null,null,null,null,null,null,null,null,null,null,null,null,null,null,null,null,null,null,{"$f":"IF('Avtalat sortiment'!K14<>\"\",'Avtalat sortiment'!$A14&'Avtalat sortiment'!Q14,\"\")","v":"13"},{"$f":"IF('Avtalat sortiment'!U14<>\"\",'Avtalat sortiment'!T14&'Avtalat sortiment'!AA14,\"\")","v":"14"},{"$f":"IF('Avtalat sortiment'!AE14<>\"\",'Avtalat sortiment'!AD14&'Avtalat sortiment'!AK14,\"\")","v":""},{"$f":"IF('Avtalat sortiment'!AO14<>\"\",'Avtalat sortiment'!AN14&'Avtalat sortiment'!AU14,\"\")","v":"15M"},{"$f":"IF('Avtalat sortiment'!AY14<>\"\",'Avtalat sortiment'!AX14&'Avtalat sortiment'!BE14,\"\")","v":"13"},{"$f":"IF('Avtalat sortiment'!BI14<>\"\",'Avtalat sortiment'!BH14&'Avtalat sortiment'!BO14,\"\")","v":"14"}]
[{"$f":"\"Position\"&Uträkningsmall!$A13","v":"Position"},{"$f":"IF(Uträkningsmall!$G13=\"\",\"\",IF(AND(Uträkningsmall!$A13=15,OR(Uträkningsmall!$F13=\"\",Uträkningsmall!$G13=\"\")),1,IF(AND(Uträkningsmall!$A13=16,OR(Uträkningsmall!$F13=\"\",Uträkningsmall!$G13=\"\")),1,IF(AND(Uträkningsmall!$A13=17,OR(Uträkningsmall!$F13=\"\",Uträkningsmall!$G13=\"\")),1,IF(AND(Uträkningsmall!$A13=19,OR(Uträkningsmall!$F13=\"\",Uträkningsmall!$G13=\"\")),1,IF(AND(Uträkningsmall!$A13=20,OR(Uträkningsmall!$F13=\"\",Uträkningsmall!$G13=\"\")),1,IF(AND(Uträkningsmall!$A13=21,OR(Uträkningsmall!$F13=\"\",Uträkningsmall!$G13=\"\")),1,IF(AND(Uträkningsmall!$A13=22,OR(Uträkningsmall!$F13=\"\",Uträkningsmall!$G13=\"\")),1,IF(AND(Uträkningsmall!$A13=23,OR(Uträkningsmall!$F13=\"\",Uträkningsmall!$G13=\"\")),1,IF(AND(Uträkningsmall!$A13=24,OR(Uträkningsmall!$F13=\"\",Uträkningsmall!$G13=\"\")),1,IF(AND(Uträkningsmall!$A13=25,OR(Uträkningsmall!$F13=\"\",Uträkningsmall!$G13=\"\")),1,IF(AND(Uträkningsmall!$A13=26,OR(Uträkningsmall!$F13=\"\",Uträkningsmall!$G13=\"\")),1,IF(AND(Uträkningsmall!$A13=27,OR(Uträkningsmall!$F13=\"\",Uträkningsmall!$G13=\"\")),1,IF(AND(Uträkningsmall!$A13=28,OR(Uträkningsmall!$F13=\"\",Uträkningsmall!$G13=\"\")),1,IF(AND(Uträkningsmall!$A13=29,OR(Uträkningsmall!$F13=\"\",Uträkningsmall!$G13=\"\")),1,IF(AND(Uträkningsmall!$A13=30,OR(Uträkningsmall!$F13=\"\",Uträkningsmall!$G13=\"\")),1,IF(AND(Uträkningsmall!$A13=39,OR(Uträkningsmall!$F13=\"\",Uträkningsmall!$G13=\"\")),1,IF(AND(Uträkningsmall!$A13=40,OR(Uträkningsmall!$F13=\"\",Uträkningsmall!$G13=\"\")),1,IF(AND(Uträkningsmall!$A13=41,OR(Uträkningsmall!$F13=\"\",Uträkningsmall!$G13=\"\")),1,IF(AND(Uträkningsmall!$A13=42,OR(Uträkningsmall!$F13=\"\",Uträkningsmall!$G13=\"\")),1,0))))))))))))))))))))","v":""},null,null,null,null,null,null,null,null,null,null,null,null,null,null,null,null,null,null,null,null,null,null,null,null,null,null,null,null,null,null,null,null,null,null,null,null,null,null,null,null,null,null,null,null,null,null,null,null,null,null,null,null,null,null,null,null,null,null,null,null,null,null,null,null,null,null,null,null,null,null,null,null,null,null,null,{"$f":"IF('Avtalat sortiment'!K15<>\"\",'Avtalat sortiment'!$A15&'Avtalat sortiment'!Q15,\"\")","v":"14"},{"$f":"IF('Avtalat sortiment'!U15<>\"\",'Avtalat sortiment'!T15&'Avtalat sortiment'!AA15,\"\")","v":"15M"},{"$f":"IF('Avtalat sortiment'!AE15<>\"\",'Avtalat sortiment'!AD15&'Avtalat sortiment'!AK15,\"\")","v":"197"},{"$f":"IF('Avtalat sortiment'!AO15<>\"\",'Avtalat sortiment'!AN15&'Avtalat sortiment'!AU15,\"\")","v":"15L"},{"$f":"IF('Avtalat sortiment'!AY15<>\"\",'Avtalat sortiment'!AX15&'Avtalat sortiment'!BE15,\"\")","v":"14"},{"$f":"IF('Avtalat sortiment'!BI15<>\"\",'Avtalat sortiment'!BH15&'Avtalat sortiment'!BO15,\"\")","v":"15L"}]
[{"$f":"\"Position\"&Uträkningsmall!$A14","v":"Position"},{"$f":"IF(Uträkningsmall!$G14=\"\",\"\",IF(AND(Uträkningsmall!$A14=15,OR(Uträkningsmall!$F14=\"\",Uträkningsmall!$G14=\"\")),1,IF(AND(Uträkningsmall!$A14=16,OR(Uträkningsmall!$F14=\"\",Uträkningsmall!$G14=\"\")),1,IF(AND(Uträkningsmall!$A14=17,OR(Uträkningsmall!$F14=\"\",Uträkningsmall!$G14=\"\")),1,IF(AND(Uträkningsmall!$A14=19,OR(Uträkningsmall!$F14=\"\",Uträkningsmall!$G14=\"\")),1,IF(AND(Uträkningsmall!$A14=20,OR(Uträkningsmall!$F14=\"\",Uträkningsmall!$G14=\"\")),1,IF(AND(Uträkningsmall!$A14=21,OR(Uträkningsmall!$F14=\"\",Uträkningsmall!$G14=\"\")),1,IF(AND(Uträkningsmall!$A14=22,OR(Uträkningsmall!$F14=\"\",Uträkningsmall!$G14=\"\")),1,IF(AND(Uträkningsmall!$A14=23,OR(Uträkningsmall!$F14=\"\",Uträkningsmall!$G14=\"\")),1,IF(AND(Uträkningsmall!$A14=24,OR(Uträkningsmall!$F14=\"\",Uträkningsmall!$G14=\"\")),1,IF(AND(Uträkningsmall!$A14=25,OR(Uträkningsmall!$F14=\"\",Uträkningsmall!$G14=\"\")),1,IF(AND(Uträkningsmall!$A14=26,OR(Uträkningsmall!$F14=\"\",Uträkningsmall!$G14=\"\")),1,IF(AND(Uträkningsmall!$A14=27,OR(Uträkningsmall!$F14=\"\",Uträkningsmall!$G14=\"\")),1,IF(AND(Uträkningsmall!$A14=28,OR(Uträkningsmall!$F14=\"\",Uträkningsmall!$G14=\"\")),1,IF(AND(Uträkningsmall!$A14=29,OR(Uträkningsmall!$F14=\"\",Uträkningsmall!$G14=\"\")),1,IF(AND(Uträkningsmall!$A14=30,OR(Uträkningsmall!$F14=\"\",Uträkningsmall!$G14=\"\")),1,IF(AND(Uträkningsmall!$A14=39,OR(Uträkningsmall!$F14=\"\",Uträkningsmall!$G14=\"\")),1,IF(AND(Uträkningsmall!$A14=40,OR(Uträkningsmall!$F14=\"\",Uträkningsmall!$G14=\"\")),1,IF(AND(Uträkningsmall!$A14=41,OR(Uträkningsmall!$F14=\"\",Uträkningsmall!$G14=\"\")),1,IF(AND(Uträkningsmall!$A14=42,OR(Uträkningsmall!$F14=\"\",Uträkningsmall!$G14=\"\")),1,0))))))))))))))))))))","v":""},null,null,null,null,null,null,null,null,null,null,null,null,null,null,null,null,null,null,null,null,null,null,null,null,null,null,null,null,null,null,null,null,null,null,null,null,null,null,null,null,null,null,null,null,null,null,null,null,null,null,null,null,null,null,null,null,null,null,null,null,null,null,null,null,null,null,null,null,null,null,null,null,null,null,null,{"$f":"IF('Avtalat sortiment'!K16<>\"\",'Avtalat sortiment'!$A16&'Avtalat sortiment'!Q16,\"\")","v":"15S"},{"$f":"IF('Avtalat sortiment'!U16<>\"\",'Avtalat sortiment'!T16&'Avtalat sortiment'!AA16,\"\")","v":"15L"},{"$f":"IF('Avtalat sortiment'!AE16<>\"\",'Avtalat sortiment'!AD16&'Avtalat sortiment'!AK16,\"\")","v":"198"},{"$f":"IF('Avtalat sortiment'!AO16<>\"\",'Avtalat sortiment'!AN16&'Avtalat sortiment'!AU16,\"\")","v":"15XL"},{"$f":"IF('Avtalat sortiment'!AY16<>\"\",'Avtalat sortiment'!AX16&'Avtalat sortiment'!BE16,\"\")","v":"15M"},{"$f":"IF('Avtalat sortiment'!BI16<>\"\",'Avtalat sortiment'!BH16&'Avtalat sortiment'!BO16,\"\")","v":"16L"}]
[{"$f":"\"Position\"&Uträkningsmall!$A15","v":"Position"},{"$f":"IF(Uträkningsmall!$G15=\"\",\"\",IF(AND(Uträkningsmall!$A15=15,OR(Uträkningsmall!$F15=\"\",Uträkningsmall!$G15=\"\")),1,IF(AND(Uträkningsmall!$A15=16,OR(Uträkningsmall!$F15=\"\",Uträkningsmall!$G15=\"\")),1,IF(AND(Uträkningsmall!$A15=17,OR(Uträkningsmall!$F15=\"\",Uträkningsmall!$G15=\"\")),1,IF(AND(Uträkningsmall!$A15=19,OR(Uträkningsmall!$F15=\"\",Uträkningsmall!$G15=\"\")),1,IF(AND(Uträkningsmall!$A15=20,OR(Uträkningsmall!$F15=\"\",Uträkningsmall!$G15=\"\")),1,IF(AND(Uträkningsmall!$A15=21,OR(Uträkningsmall!$F15=\"\",Uträkningsmall!$G15=\"\")),1,IF(AND(Uträkningsmall!$A15=22,OR(Uträkningsmall!$F15=\"\",Uträkningsmall!$G15=\"\")),1,IF(AND(Uträkningsmall!$A15=23,OR(Uträkningsmall!$F15=\"\",Uträkningsmall!$G15=\"\")),1,IF(AND(Uträkningsmall!$A15=24,OR(Uträkningsmall!$F15=\"\",Uträkningsmall!$G15=\"\")),1,IF(AND(Uträkningsmall!$A15=25,OR(Uträkningsmall!$F15=\"\",Uträkningsmall!$G15=\"\")),1,IF(AND(Uträkningsmall!$A15=26,OR(Uträkningsmall!$F15=\"\",Uträkningsmall!$G15=\"\")),1,IF(AND(Uträkningsmall!$A15=27,OR(Uträkningsmall!$F15=\"\",Uträkningsmall!$G15=\"\")),1,IF(AND(Uträkningsmall!$A15=28,OR(Uträkningsmall!$F15=\"\",Uträkningsmall!$G15=\"\")),1,IF(AND(Uträkningsmall!$A15=29,OR(Uträkningsmall!$F15=\"\",Uträkningsmall!$G15=\"\")),1,IF(AND(Uträkningsmall!$A15=30,OR(Uträkningsmall!$F15=\"\",Uträkningsmall!$G15=\"\")),1,IF(AND(Uträkningsmall!$A15=39,OR(Uträkningsmall!$F15=\"\",Uträkningsmall!$G15=\"\")),1,IF(AND(Uträkningsmall!$A15=40,OR(Uträkningsmall!$F15=\"\",Uträkningsmall!$G15=\"\")),1,IF(AND(Uträkningsmall!$A15=41,OR(Uträkningsmall!$F15=\"\",Uträkningsmall!$G15=\"\")),1,IF(AND(Uträkningsmall!$A15=42,OR(Uträkningsmall!$F15=\"\",Uträkningsmall!$G15=\"\")),1,0))))))))))))))))))))","v":""},null,null,null,null,null,null,null,null,null,null,null,null,null,null,null,null,null,null,null,null,null,null,null,null,null,null,null,null,null,null,null,null,null,null,null,null,null,null,null,null,null,null,null,null,null,null,null,null,null,null,null,null,null,null,null,null,null,null,null,null,null,null,null,null,null,null,null,null,null,null,null,null,null,null,null,{"$f":"IF('Avtalat sortiment'!K17<>\"\",'Avtalat sortiment'!$A17&'Avtalat sortiment'!Q17,\"\")","v":"15M"},{"$f":"IF('Avtalat sortiment'!U17<>\"\",'Avtalat sortiment'!T17&'Avtalat sortiment'!AA17,\"\")","v":"15XL"},{"$f":"IF('Avtalat sortiment'!AE17<>\"\",'Avtalat sortiment'!AD17&'Avtalat sortiment'!AK17,\"\")","v":"199"},{"$f":"IF('Avtalat sortiment'!AO17<>\"\",'Avtalat sortiment'!AN17&'Avtalat sortiment'!AU17,\"\")","v":"15XXL"},{"$f":"IF('Avtalat sortiment'!AY17<>\"\",'Avtalat sortiment'!AX17&'Avtalat sortiment'!BE17,\"\")","v":"16M"},{"$f":"IF('Avtalat sortiment'!BI17<>\"\",'Avtalat sortiment'!BH17&'Avtalat sortiment'!BO17,\"\")","v":"17L"}]
[{"$f":"\"Position\"&Uträkningsmall!$A16","v":"Position"},{"$f":"IF(Uträkningsmall!$G16=\"\",\"\",IF(AND(Uträkningsmall!$A16=15,OR(Uträkningsmall!$F16=\"\",Uträkningsmall!$G16=\"\")),1,IF(AND(Uträkningsmall!$A16=16,OR(Uträkningsmall!$F16=\"\",Uträkningsmall!$G16=\"\")),1,IF(AND(Uträkningsmall!$A16=17,OR(Uträkningsmall!$F16=\"\",Uträkningsmall!$G16=\"\")),1,IF(AND(Uträkningsmall!$A16=19,OR(Uträkningsmall!$F16=\"\",Uträkningsmall!$G16=\"\")),1,IF(AND(Uträkningsmall!$A16=20,OR(Uträkningsmall!$F16=\"\",Uträkningsmall!$G16=\"\")),1,IF(AND(Uträkningsmall!$A16=21,OR(Uträkningsmall!$F16=\"\",Uträkningsmall!$G16=\"\")),1,IF(AND(Uträkningsmall!$A16=22,OR(Uträkningsmall!$F16=\"\",Uträkningsmall!$G16=\"\")),1,IF(AND(Uträkningsmall!$A16=23,OR(Uträkningsmall!$F16=\"\",Uträkningsmall!$G16=\"\")),1,IF(AND(Uträkningsmall!$A16=24,OR(Uträkningsmall!$F16=\"\",Uträkningsmall!$G16=\"\")),1,IF(AND(Uträkningsmall!$A16=25,OR(Uträkningsmall!$F16=\"\",Uträkningsmall!$G16=\"\")),1,IF(AND(Uträkningsmall!$A16=26,OR(Uträkningsmall!$F16=\"\",Uträkningsmall!$G16=\"\")),1,IF(AND(Uträkningsmall!$A16=27,OR(Uträkningsmall!$F16=\"\",Uträkningsmall!$G16=\"\")),1,IF(AND(Uträkningsmall!$A16=28,OR(Uträkningsmall!$F16=\"\",Uträkningsmall!$G16=\"\")),1,IF(AND(Uträkningsmall!$A16=29,OR(Uträkningsmall!$F16=\"\",Uträkningsmall!$G16=\"\")),1,IF(AND(Uträkningsmall!$A16=30,OR(Uträkningsmall!$F16=\"\",Uträkningsmall!$G16=\"\")),1,IF(AND(Uträkningsmall!$A16=39,OR(Uträkningsmall!$F16=\"\",Uträkningsmall!$G16=\"\")),1,IF(AND(Uträkningsmall!$A16=40,OR(Uträkningsmall!$F16=\"\",Uträkningsmall!$G16=\"\")),1,IF(AND(Uträkningsmall!$A16=41,OR(Uträkningsmall!$F16=\"\",Uträkningsmall!$G16=\"\")),1,IF(AND(Uträkningsmall!$A16=42,OR(Uträkningsmall!$F16=\"\",Uträkningsmall!$G16=\"\")),1,0))))))))))))))))))))","v":""},null,null,null,null,null,null,null,null,null,null,null,null,null,null,null,null,null,null,null,null,null,null,null,null,null,null,null,null,null,null,null,null,null,null,null,null,null,null,null,null,null,null,null,null,null,null,null,null,null,null,null,null,null,null,null,null,null,null,null,null,null,null,null,null,null,null,null,null,null,null,null,null,null,null,null,{"$f":"IF('Avtalat sortiment'!K18<>\"\",'Avtalat sortiment'!$A18&'Avtalat sortiment'!Q18,\"\")","v":"15L"},{"$f":"IF('Avtalat sortiment'!U18<>\"\",'Avtalat sortiment'!T18&'Avtalat sortiment'!AA18,\"\")","v":"15XXL"},{"$f":"IF('Avtalat sortiment'!AE18<>\"\",'Avtalat sortiment'!AD18&'Avtalat sortiment'!AK18,\"\")","v":"1910"},{"$f":"IF('Avtalat sortiment'!AO18<>\"\",'Avtalat sortiment'!AN18&'Avtalat sortiment'!AU18,\"\")","v":"16S"},{"$f":"IF('Avtalat sortiment'!AY18<>\"\",'Avtalat sortiment'!AX18&'Avtalat sortiment'!BE18,\"\")","v":"17M"},{"$f":"IF('Avtalat sortiment'!BI18<>\"\",'Avtalat sortiment'!BH18&'Avtalat sortiment'!BO18,\"\")","v":"22S"}]
[{"$f":"\"Position\"&Uträkningsmall!$A17","v":"Position"},{"$f":"IF(Uträkningsmall!$G17=\"\",\"\",IF(AND(Uträkningsmall!$A17=15,OR(Uträkningsmall!$F17=\"\",Uträkningsmall!$G17=\"\")),1,IF(AND(Uträkningsmall!$A17=16,OR(Uträkningsmall!$F17=\"\",Uträkningsmall!$G17=\"\")),1,IF(AND(Uträkningsmall!$A17=17,OR(Uträkningsmall!$F17=\"\",Uträkningsmall!$G17=\"\")),1,IF(AND(Uträkningsmall!$A17=19,OR(Uträkningsmall!$F17=\"\",Uträkningsmall!$G17=\"\")),1,IF(AND(Uträkningsmall!$A17=20,OR(Uträkningsmall!$F17=\"\",Uträkningsmall!$G17=\"\")),1,IF(AND(Uträkningsmall!$A17=21,OR(Uträkningsmall!$F17=\"\",Uträkningsmall!$G17=\"\")),1,IF(AND(Uträkningsmall!$A17=22,OR(Uträkningsmall!$F17=\"\",Uträkningsmall!$G17=\"\")),1,IF(AND(Uträkningsmall!$A17=23,OR(Uträkningsmall!$F17=\"\",Uträkningsmall!$G17=\"\")),1,IF(AND(Uträkningsmall!$A17=24,OR(Uträkningsmall!$F17=\"\",Uträkningsmall!$G17=\"\")),1,IF(AND(Uträkningsmall!$A17=25,OR(Uträkningsmall!$F17=\"\",Uträkningsmall!$G17=\"\")),1,IF(AND(Uträkningsmall!$A17=26,OR(Uträkningsmall!$F17=\"\",Uträkningsmall!$G17=\"\")),1,IF(AND(Uträkningsmall!$A17=27,OR(Uträkningsmall!$F17=\"\",Uträkningsmall!$G17=\"\")),1,IF(AND(Uträkningsmall!$A17=28,OR(Uträkningsmall!$F17=\"\",Uträkningsmall!$G17=\"\")),1,IF(AND(Uträkningsmall!$A17=29,OR(Uträkningsmall!$F17=\"\",Uträkningsmall!$G17=\"\")),1,IF(AND(Uträkningsmall!$A17=30,OR(Uträkningsmall!$F17=\"\",Uträkningsmall!$G17=\"\")),1,IF(AND(Uträkningsmall!$A17=39,OR(Uträkningsmall!$F17=\"\",Uträkningsmall!$G17=\"\")),1,IF(AND(Uträkningsmall!$A17=40,OR(Uträkningsmall!$F17=\"\",Uträkningsmall!$G17=\"\")),1,IF(AND(Uträkningsmall!$A17=41,OR(Uträkningsmall!$F17=\"\",Uträkningsmall!$G17=\"\")),1,IF(AND(Uträkningsmall!$A17=42,OR(Uträkningsmall!$F17=\"\",Uträkningsmall!$G17=\"\")),1,0))))))))))))))))))))","v":""},null,null,null,null,null,null,null,null,null,null,null,null,null,null,null,null,null,null,null,null,null,null,null,null,null,null,null,null,null,null,null,null,null,null,null,null,null,null,null,null,null,null,null,null,null,null,null,null,null,null,null,null,null,null,null,null,null,null,null,null,null,null,null,null,null,null,null,null,null,null,null,null,null,null,null,{"$f":"IF('Avtalat sortiment'!K19<>\"\",'Avtalat sortiment'!$A19&'Avtalat sortiment'!Q19,\"\")","v":"15XL"},{"$f":"IF('Avtalat sortiment'!U19<>\"\",'Avtalat sortiment'!T19&'Avtalat sortiment'!AA19,\"\")","v":"15XXXL"},{"$f":"IF('Avtalat sortiment'!AE19<>\"\",'Avtalat sortiment'!AD19&'Avtalat sortiment'!AK19,\"\")","v":"1911"},{"$f":"IF('Avtalat sortiment'!AO19<>\"\",'Avtalat sortiment'!AN19&'Avtalat sortiment'!AU19,\"\")","v":"16M"},{"$f":"IF('Avtalat sortiment'!AY19<>\"\",'Avtalat sortiment'!AX19&'Avtalat sortiment'!BE19,\"\")","v":"18"},{"$f":"IF('Avtalat sortiment'!BI19<>\"\",'Avtalat sortiment'!BH19&'Avtalat sortiment'!BO19,\"\")","v":"22M"}]
[{"$f":"\"Position\"&Uträkningsmall!$A18","v":"Position"},{"$f":"IF(Uträkningsmall!$G18=\"\",\"\",IF(AND(Uträkningsmall!$A18=15,OR(Uträkningsmall!$F18=\"\",Uträkningsmall!$G18=\"\")),1,IF(AND(Uträkningsmall!$A18=16,OR(Uträkningsmall!$F18=\"\",Uträkningsmall!$G18=\"\")),1,IF(AND(Uträkningsmall!$A18=17,OR(Uträkningsmall!$F18=\"\",Uträkningsmall!$G18=\"\")),1,IF(AND(Uträkningsmall!$A18=19,OR(Uträkningsmall!$F18=\"\",Uträkningsmall!$G18=\"\")),1,IF(AND(Uträkningsmall!$A18=20,OR(Uträkningsmall!$F18=\"\",Uträkningsmall!$G18=\"\")),1,IF(AND(Uträkningsmall!$A18=21,OR(Uträkningsmall!$F18=\"\",Uträkningsmall!$G18=\"\")),1,IF(AND(Uträkningsmall!$A18=22,OR(Uträkningsmall!$F18=\"\",Uträkningsmall!$G18=\"\")),1,IF(AND(Uträkningsmall!$A18=23,OR(Uträkningsmall!$F18=\"\",Uträkningsmall!$G18=\"\")),1,IF(AND(Uträkningsmall!$A18=24,OR(Uträkningsmall!$F18=\"\",Uträkningsmall!$G18=\"\")),1,IF(AND(Uträkningsmall!$A18=25,OR(Uträkningsmall!$F18=\"\",Uträkningsmall!$G18=\"\")),1,IF(AND(Uträkningsmall!$A18=26,OR(Uträkningsmall!$F18=\"\",Uträkningsmall!$G18=\"\")),1,IF(AND(Uträkningsmall!$A18=27,OR(Uträkningsmall!$F18=\"\",Uträkningsmall!$G18=\"\")),1,IF(AND(Uträkningsmall!$A18=28,OR(Uträkningsmall!$F18=\"\",Uträkningsmall!$G18=\"\")),1,IF(AND(Uträkningsmall!$A18=29,OR(Uträkningsmall!$F18=\"\",Uträkningsmall!$G18=\"\")),1,IF(AND(Uträkningsmall!$A18=30,OR(Uträkningsmall!$F18=\"\",Uträkningsmall!$G18=\"\")),1,IF(AND(Uträkningsmall!$A18=39,OR(Uträkningsmall!$F18=\"\",Uträkningsmall!$G18=\"\")),1,IF(AND(Uträkningsmall!$A18=40,OR(Uträkningsmall!$F18=\"\",Uträkningsmall!$G18=\"\")),1,IF(AND(Uträkningsmall!$A18=41,OR(Uträkningsmall!$F18=\"\",Uträkningsmall!$G18=\"\")),1,IF(AND(Uträkningsmall!$A18=42,OR(Uträkningsmall!$F18=\"\",Uträkningsmall!$G18=\"\")),1,0))))))))))))))))))))","v":""},null,null,null,null,null,null,null,null,null,null,null,null,null,null,null,null,null,null,null,null,null,null,null,null,null,null,null,null,null,null,null,null,null,null,null,null,null,null,null,null,null,null,null,null,null,null,null,null,null,null,null,null,null,null,null,null,null,null,null,null,null,null,null,null,null,null,null,null,null,null,null,null,null,null,null,{"$f":"IF('Avtalat sortiment'!K20<>\"\",'Avtalat sortiment'!$A20&'Avtalat sortiment'!Q20,\"\")","v":"15XXL"},{"$f":"IF('Avtalat sortiment'!U20<>\"\",'Avtalat sortiment'!T20&'Avtalat sortiment'!AA20,\"\")","v":"16S"},{"$f":"IF('Avtalat sortiment'!AE20<>\"\",'Avtalat sortiment'!AD20&'Avtalat sortiment'!AK20,\"\")","v":"1912"},{"$f":"IF('Avtalat sortiment'!AO20<>\"\",'Avtalat sortiment'!AN20&'Avtalat sortiment'!AU20,\"\")","v":"16L"},{"$f":"IF('Avtalat sortiment'!AY20<>\"\",'Avtalat sortiment'!AX20&'Avtalat sortiment'!BE20,\"\")","v":"198"},{"$f":"IF('Avtalat sortiment'!BI20<>\"\",'Avtalat sortiment'!BH20&'Avtalat sortiment'!BO20,\"\")","v":"22L"}]
[{"$f":"\"Position\"&Uträkningsmall!$A19","v":"Position"},{"$f":"IF(Uträkningsmall!$G19=\"\",\"\",IF(AND(Uträkningsmall!$A19=15,OR(Uträkningsmall!$F19=\"\",Uträkningsmall!$G19=\"\")),1,IF(AND(Uträkningsmall!$A19=16,OR(Uträkningsmall!$F19=\"\",Uträkningsmall!$G19=\"\")),1,IF(AND(Uträkningsmall!$A19=17,OR(Uträkningsmall!$F19=\"\",Uträkningsmall!$G19=\"\")),1,IF(AND(Uträkningsmall!$A19=19,OR(Uträkningsmall!$F19=\"\",Uträkningsmall!$G19=\"\")),1,IF(AND(Uträkningsmall!$A19=20,OR(Uträkningsmall!$F19=\"\",Uträkningsmall!$G19=\"\")),1,IF(AND(Uträkningsmall!$A19=21,OR(Uträkningsmall!$F19=\"\",Uträkningsmall!$G19=\"\")),1,IF(AND(Uträkningsmall!$A19=22,OR(Uträkningsmall!$F19=\"\",Uträkningsmall!$G19=\"\")),1,IF(AND(Uträkningsmall!$A19=23,OR(Uträkningsmall!$F19=\"\",Uträkningsmall!$G19=\"\")),1,IF(AND(Uträkningsmall!$A19=24,OR(Uträkningsmall!$F19=\"\",Uträkningsmall!$G19=\"\")),1,IF(AND(Uträkningsmall!$A19=25,OR(Uträkningsmall!$F19=\"\",Uträkningsmall!$G19=\"\")),1,IF(AND(Uträkningsmall!$A19=26,OR(Uträkningsmall!$F19=\"\",Uträkningsmall!$G19=\"\")),1,IF(AND(Uträkningsmall!$A19=27,OR(Uträkningsmall!$F19=\"\",Uträkningsmall!$G19=\"\")),1,IF(AND(Uträkningsmall!$A19=28,OR(Uträkningsmall!$F19=\"\",Uträkningsmall!$G19=\"\")),1,IF(AND(Uträkningsmall!$A19=29,OR(Uträkningsmall!$F19=\"\",Uträkningsmall!$G19=\"\")),1,IF(AND(Uträkningsmall!$A19=30,OR(Uträkningsmall!$F19=\"\",Uträkningsmall!$G19=\"\")),1,IF(AND(Uträkningsmall!$A19=39,OR(Uträkningsmall!$F19=\"\",Uträkningsmall!$G19=\"\")),1,IF(AND(Uträkningsmall!$A19=40,OR(Uträkningsmall!$F19=\"\",Uträkningsmall!$G19=\"\")),1,IF(AND(Uträkningsmall!$A19=41,OR(Uträkningsmall!$F19=\"\",Uträkningsmall!$G19=\"\")),1,IF(AND(Uträkningsmall!$A19=42,OR(Uträkningsmall!$F19=\"\",Uträkningsmall!$G19=\"\")),1,0))))))))))))))))))))","v":""},null,null,null,null,null,null,null,null,null,null,null,null,null,null,null,null,null,null,null,null,null,null,null,null,null,null,null,null,null,null,null,null,null,null,null,null,null,null,null,null,null,null,null,null,null,null,null,null,null,null,null,null,null,null,null,null,null,null,null,null,null,null,null,null,null,null,null,null,null,null,null,null,null,null,null,{"$f":"IF('Avtalat sortiment'!K21<>\"\",'Avtalat sortiment'!$A21&'Avtalat sortiment'!Q21,\"\")","v":"15XXXL"},{"$f":"IF('Avtalat sortiment'!U21<>\"\",'Avtalat sortiment'!T21&'Avtalat sortiment'!AA21,\"\")","v":"16M"},{"$f":"IF('Avtalat sortiment'!AE21<>\"\",'Avtalat sortiment'!AD21&'Avtalat sortiment'!AK21,\"\")","v":"207"},{"$f":"IF('Avtalat sortiment'!AO21<>\"\",'Avtalat sortiment'!AN21&'Avtalat sortiment'!AU21,\"\")","v":"16XL"},{"$f":"IF('Avtalat sortiment'!AY21<>\"\",'Avtalat sortiment'!AX21&'Avtalat sortiment'!BE21,\"\")","v":"209"},{"$f":"IF('Avtalat sortiment'!BI21<>\"\",'Avtalat sortiment'!BH21&'Avtalat sortiment'!BO21,\"\")","v":"22XL"}]
[{"$f":"\"Position\"&Uträkningsmall!$A20","v":"Position"},{"$f":"IF(Uträkningsmall!$G20=\"\",\"\",IF(AND(Uträkningsmall!$A20=15,OR(Uträkningsmall!$F20=\"\",Uträkningsmall!$G20=\"\")),1,IF(AND(Uträkningsmall!$A20=16,OR(Uträkningsmall!$F20=\"\",Uträkningsmall!$G20=\"\")),1,IF(AND(Uträkningsmall!$A20=17,OR(Uträkningsmall!$F20=\"\",Uträkningsmall!$G20=\"\")),1,IF(AND(Uträkningsmall!$A20=19,OR(Uträkningsmall!$F20=\"\",Uträkningsmall!$G20=\"\")),1,IF(AND(Uträkningsmall!$A20=20,OR(Uträkningsmall!$F20=\"\",Uträkningsmall!$G20=\"\")),1,IF(AND(Uträkningsmall!$A20=21,OR(Uträkningsmall!$F20=\"\",Uträkningsmall!$G20=\"\")),1,IF(AND(Uträkningsmall!$A20=22,OR(Uträkningsmall!$F20=\"\",Uträkningsmall!$G20=\"\")),1,IF(AND(Uträkningsmall!$A20=23,OR(Uträkningsmall!$F20=\"\",Uträkningsmall!$G20=\"\")),1,IF(AND(Uträkningsmall!$A20=24,OR(Uträkningsmall!$F20=\"\",Uträkningsmall!$G20=\"\")),1,IF(AND(Uträkningsmall!$A20=25,OR(Uträkningsmall!$F20=\"\",Uträkningsmall!$G20=\"\")),1,IF(AND(Uträkningsmall!$A20=26,OR(Uträkningsmall!$F20=\"\",Uträkningsmall!$G20=\"\")),1,IF(AND(Uträkningsmall!$A20=27,OR(Uträkningsmall!$F20=\"\",Uträkningsmall!$G20=\"\")),1,IF(AND(Uträkningsmall!$A20=28,OR(Uträkningsmall!$F20=\"\",Uträkningsmall!$G20=\"\")),1,IF(AND(Uträkningsmall!$A20=29,OR(Uträkningsmall!$F20=\"\",Uträkningsmall!$G20=\"\")),1,IF(AND(Uträkningsmall!$A20=30,OR(Uträkningsmall!$F20=\"\",Uträkningsmall!$G20=\"\")),1,IF(AND(Uträkningsmall!$A20=39,OR(Uträkningsmall!$F20=\"\",Uträkningsmall!$G20=\"\")),1,IF(AND(Uträkningsmall!$A20=40,OR(Uträkningsmall!$F20=\"\",Uträkningsmall!$G20=\"\")),1,IF(AND(Uträkningsmall!$A20=41,OR(Uträkningsmall!$F20=\"\",Uträkningsmall!$G20=\"\")),1,IF(AND(Uträkningsmall!$A20=42,OR(Uträkningsmall!$F20=\"\",Uträkningsmall!$G20=\"\")),1,0))))))))))))))))))))","v":""},null,null,null,null,null,null,null,null,null,null,null,null,null,null,null,null,null,null,null,null,null,null,null,null,null,null,null,null,null,null,null,null,null,null,null,null,null,null,null,null,null,null,null,null,null,null,null,null,null,null,null,null,null,null,null,null,null,null,null,null,null,null,null,null,null,null,null,null,null,null,null,null,null,null,null,{"$f":"IF('Avtalat sortiment'!K22<>\"\",'Avtalat sortiment'!$A22&'Avtalat sortiment'!Q22,\"\")","v":"16M"},{"$f":"IF('Avtalat sortiment'!U22<>\"\",'Avtalat sortiment'!T22&'Avtalat sortiment'!AA22,\"\")","v":"16L"},{"$f":"IF('Avtalat sortiment'!AE22<>\"\",'Avtalat sortiment'!AD22&'Avtalat sortiment'!AK22,\"\")","v":"208"},{"$f":"IF('Avtalat sortiment'!AO22<>\"\",'Avtalat sortiment'!AN22&'Avtalat sortiment'!AU22,\"\")","v":"162XL"},{"$f":"IF('Avtalat sortiment'!AY22<>\"\",'Avtalat sortiment'!AX22&'Avtalat sortiment'!BE22,\"\")","v":"208"},{"$f":"IF('Avtalat sortiment'!BI22<>\"\",'Avtalat sortiment'!BH22&'Avtalat sortiment'!BO22,\"\")","v":"22XXL"}]
[{"$f":"\"Position\"&Uträkningsmall!$A21","v":"Position"},{"$f":"IF(Uträkningsmall!$G21=\"\",\"\",IF(AND(Uträkningsmall!$A21=15,OR(Uträkningsmall!$F21=\"\",Uträkningsmall!$G21=\"\")),1,IF(AND(Uträkningsmall!$A21=16,OR(Uträkningsmall!$F21=\"\",Uträkningsmall!$G21=\"\")),1,IF(AND(Uträkningsmall!$A21=17,OR(Uträkningsmall!$F21=\"\",Uträkningsmall!$G21=\"\")),1,IF(AND(Uträkningsmall!$A21=19,OR(Uträkningsmall!$F21=\"\",Uträkningsmall!$G21=\"\")),1,IF(AND(Uträkningsmall!$A21=20,OR(Uträkningsmall!$F21=\"\",Uträkningsmall!$G21=\"\")),1,IF(AND(Uträkningsmall!$A21=21,OR(Uträkningsmall!$F21=\"\",Uträkningsmall!$G21=\"\")),1,IF(AND(Uträkningsmall!$A21=22,OR(Uträkningsmall!$F21=\"\",Uträkningsmall!$G21=\"\")),1,IF(AND(Uträkningsmall!$A21=23,OR(Uträkningsmall!$F21=\"\",Uträkningsmall!$G21=\"\")),1,IF(AND(Uträkningsmall!$A21=24,OR(Uträkningsmall!$F21=\"\",Uträkningsmall!$G21=\"\")),1,IF(AND(Uträkningsmall!$A21=25,OR(Uträkningsmall!$F21=\"\",Uträkningsmall!$G21=\"\")),1,IF(AND(Uträkningsmall!$A21=26,OR(Uträkningsmall!$F21=\"\",Uträkningsmall!$G21=\"\")),1,IF(AND(Uträkningsmall!$A21=27,OR(Uträkningsmall!$F21=\"\",Uträkningsmall!$G21=\"\")),1,IF(AND(Uträkningsmall!$A21=28,OR(Uträkningsmall!$F21=\"\",Uträkningsmall!$G21=\"\")),1,IF(AND(Uträkningsmall!$A21=29,OR(Uträkningsmall!$F21=\"\",Uträkningsmall!$G21=\"\")),1,IF(AND(Uträkningsmall!$A21=30,OR(Uträkningsmall!$F21=\"\",Uträkningsmall!$G21=\"\")),1,IF(AND(Uträkningsmall!$A21=39,OR(Uträkningsmall!$F21=\"\",Uträkningsmall!$G21=\"\")),1,IF(AND(Uträkningsmall!$A21=40,OR(Uträkningsmall!$F21=\"\",Uträkningsmall!$G21=\"\")),1,IF(AND(Uträkningsmall!$A21=41,OR(Uträkningsmall!$F21=\"\",Uträkningsmall!$G21=\"\")),1,IF(AND(Uträkningsmall!$A21=42,OR(Uträkningsmall!$F21=\"\",Uträkningsmall!$G21=\"\")),1,0))))))))))))))))))))","v":""},null,null,null,null,null,null,null,null,null,null,null,null,null,null,null,null,null,null,null,null,null,null,null,null,null,null,null,null,null,null,null,null,null,null,null,null,null,null,null,null,null,null,null,null,null,null,null,null,null,null,null,null,null,null,null,null,null,null,null,null,null,null,null,null,null,null,null,null,null,null,null,null,null,null,null,{"$f":"IF('Avtalat sortiment'!K23<>\"\",'Avtalat sortiment'!$A23&'Avtalat sortiment'!Q23,\"\")","v":"16L"},{"$f":"IF('Avtalat sortiment'!U23<>\"\",'Avtalat sortiment'!T23&'Avtalat sortiment'!AA23,\"\")","v":"16XL"},{"$f":"IF('Avtalat sortiment'!AE23<>\"\",'Avtalat sortiment'!AD23&'Avtalat sortiment'!AK23,\"\")","v":"209"},{"$f":"IF('Avtalat sortiment'!AO23<>\"\",'Avtalat sortiment'!AN23&'Avtalat sortiment'!AU23,\"\")","v":"17S"},{"$f":"IF('Avtalat sortiment'!AY23<>\"\",'Avtalat sortiment'!AX23&'Avtalat sortiment'!BE23,\"\")","v":"207"},{"$f":"IF('Avtalat sortiment'!BI23<>\"\",'Avtalat sortiment'!BH23&'Avtalat sortiment'!BO23,\"\")","v":"25XS"}]
[{"$f":"\"Position\"&Uträkningsmall!$A22","v":"Position"},{"$f":"IF(Uträkningsmall!$G22=\"\",\"\",IF(AND(Uträkningsmall!$A22=15,OR(Uträkningsmall!$F22=\"\",Uträkningsmall!$G22=\"\")),1,IF(AND(Uträkningsmall!$A22=16,OR(Uträkningsmall!$F22=\"\",Uträkningsmall!$G22=\"\")),1,IF(AND(Uträkningsmall!$A22=17,OR(Uträkningsmall!$F22=\"\",Uträkningsmall!$G22=\"\")),1,IF(AND(Uträkningsmall!$A22=19,OR(Uträkningsmall!$F22=\"\",Uträkningsmall!$G22=\"\")),1,IF(AND(Uträkningsmall!$A22=20,OR(Uträkningsmall!$F22=\"\",Uträkningsmall!$G22=\"\")),1,IF(AND(Uträkningsmall!$A22=21,OR(Uträkningsmall!$F22=\"\",Uträkningsmall!$G22=\"\")),1,IF(AND(Uträkningsmall!$A22=22,OR(Uträkningsmall!$F22=\"\",Uträkningsmall!$G22=\"\")),1,IF(AND(Uträkningsmall!$A22=23,OR(Uträkningsmall!$F22=\"\",Uträkningsmall!$G22=\"\")),1,IF(AND(Uträkningsmall!$A22=24,OR(Uträkningsmall!$F22=\"\",Uträkningsmall!$G22=\"\")),1,IF(AND(Uträkningsmall!$A22=25,OR(Uträkningsmall!$F22=\"\",Uträkningsmall!$G22=\"\")),1,IF(AND(Uträkningsmall!$A22=26,OR(Uträkningsmall!$F22=\"\",Uträkningsmall!$G22=\"\")),1,IF(AND(Uträkningsmall!$A22=27,OR(Uträkningsmall!$F22=\"\",Uträkningsmall!$G22=\"\")),1,IF(AND(Uträkningsmall!$A22=28,OR(Uträkningsmall!$F22=\"\",Uträkningsmall!$G22=\"\")),1,IF(AND(Uträkningsmall!$A22=29,OR(Uträkningsmall!$F22=\"\",Uträkningsmall!$G22=\"\")),1,IF(AND(Uträkningsmall!$A22=30,OR(Uträkningsmall!$F22=\"\",Uträkningsmall!$G22=\"\")),1,IF(AND(Uträkningsmall!$A22=39,OR(Uträkningsmall!$F22=\"\",Uträkningsmall!$G22=\"\")),1,IF(AND(Uträkningsmall!$A22=40,OR(Uträkningsmall!$F22=\"\",Uträkningsmall!$G22=\"\")),1,IF(AND(Uträkningsmall!$A22=41,OR(Uträkningsmall!$F22=\"\",Uträkningsmall!$G22=\"\")),1,IF(AND(Uträkningsmall!$A22=42,OR(Uträkningsmall!$F22=\"\",Uträkningsmall!$G22=\"\")),1,0))))))))))))))))))))","v":""},null,null,null,null,null,null,null,null,null,null,null,null,null,null,null,null,null,null,null,null,null,null,null,null,null,null,null,null,null,null,null,null,null,null,null,null,null,null,null,null,null,null,null,null,null,null,null,null,null,null,null,null,null,null,null,null,null,null,null,null,null,null,null,null,null,null,null,null,null,null,null,null,null,null,null,{"$f":"IF('Avtalat sortiment'!K24<>\"\",'Avtalat sortiment'!$A24&'Avtalat sortiment'!Q24,\"\")","v":"16XL"},{"$f":"IF('Avtalat sortiment'!U24<>\"\",'Avtalat sortiment'!T24&'Avtalat sortiment'!AA24,\"\")","v":"16XXL"},{"$f":"IF('Avtalat sortiment'!AE24<>\"\",'Avtalat sortiment'!AD24&'Avtalat sortiment'!AK24,\"\")","v":"2010"},{"$f":"IF('Avtalat sortiment'!AO24<>\"\",'Avtalat sortiment'!AN24&'Avtalat sortiment'!AU24,\"\")","v":"17M"},{"$f":"IF('Avtalat sortiment'!AY24<>\"\",'Avtalat sortiment'!AX24&'Avtalat sortiment'!BE24,\"\")","v":"2010"},{"$f":"IF('Avtalat sortiment'!BI24<>\"\",'Avtalat sortiment'!BH24&'Avtalat sortiment'!BO24,\"\")","v":"25S"}]
[{"$f":"\"Position\"&Uträkningsmall!$A23","v":"Position"},{"$f":"IF(Uträkningsmall!$G23=\"\",\"\",IF(AND(Uträkningsmall!$A23=15,OR(Uträkningsmall!$F23=\"\",Uträkningsmall!$G23=\"\")),1,IF(AND(Uträkningsmall!$A23=16,OR(Uträkningsmall!$F23=\"\",Uträkningsmall!$G23=\"\")),1,IF(AND(Uträkningsmall!$A23=17,OR(Uträkningsmall!$F23=\"\",Uträkningsmall!$G23=\"\")),1,IF(AND(Uträkningsmall!$A23=19,OR(Uträkningsmall!$F23=\"\",Uträkningsmall!$G23=\"\")),1,IF(AND(Uträkningsmall!$A23=20,OR(Uträkningsmall!$F23=\"\",Uträkningsmall!$G23=\"\")),1,IF(AND(Uträkningsmall!$A23=21,OR(Uträkningsmall!$F23=\"\",Uträkningsmall!$G23=\"\")),1,IF(AND(Uträkningsmall!$A23=22,OR(Uträkningsmall!$F23=\"\",Uträkningsmall!$G23=\"\")),1,IF(AND(Uträkningsmall!$A23=23,OR(Uträkningsmall!$F23=\"\",Uträkningsmall!$G23=\"\")),1,IF(AND(Uträkningsmall!$A23=24,OR(Uträkningsmall!$F23=\"\",Uträkningsmall!$G23=\"\")),1,IF(AND(Uträkningsmall!$A23=25,OR(Uträkningsmall!$F23=\"\",Uträkningsmall!$G23=\"\")),1,IF(AND(Uträkningsmall!$A23=26,OR(Uträkningsmall!$F23=\"\",Uträkningsmall!$G23=\"\")),1,IF(AND(Uträkningsmall!$A23=27,OR(Uträkningsmall!$F23=\"\",Uträkningsmall!$G23=\"\")),1,IF(AND(Uträkningsmall!$A23=28,OR(Uträkningsmall!$F23=\"\",Uträkningsmall!$G23=\"\")),1,IF(AND(Uträkningsmall!$A23=29,OR(Uträkningsmall!$F23=\"\",Uträkningsmall!$G23=\"\")),1,IF(AND(Uträkningsmall!$A23=30,OR(Uträkningsmall!$F23=\"\",Uträkningsmall!$G23=\"\")),1,IF(AND(Uträkningsmall!$A23=39,OR(Uträkningsmall!$F23=\"\",Uträkningsmall!$G23=\"\")),1,IF(AND(Uträkningsmall!$A23=40,OR(Uträkningsmall!$F23=\"\",Uträkningsmall!$G23=\"\")),1,IF(AND(Uträkningsmall!$A23=41,OR(Uträkningsmall!$F23=\"\",Uträkningsmall!$G23=\"\")),1,IF(AND(Uträkningsmall!$A23=42,OR(Uträkningsmall!$F23=\"\",Uträkningsmall!$G23=\"\")),1,0))))))))))))))))))))","v":""},null,null,null,null,null,null,null,null,null,null,null,null,null,null,null,null,null,null,null,null,null,null,null,null,null,null,null,null,null,null,null,null,null,null,null,null,null,null,null,null,null,null,null,null,null,null,null,null,null,null,null,null,null,null,null,null,null,null,null,null,null,null,null,null,null,null,null,null,null,null,null,null,null,null,null,{"$f":"IF('Avtalat sortiment'!K25<>\"\",'Avtalat sortiment'!$A25&'Avtalat sortiment'!Q25,\"\")","v":"16XXL"},{"$f":"IF('Avtalat sortiment'!U25<>\"\",'Avtalat sortiment'!T25&'Avtalat sortiment'!AA25,\"\")","v":"16XXXL"},{"$f":"IF('Avtalat sortiment'!AE25<>\"\",'Avtalat sortiment'!AD25&'Avtalat sortiment'!AK25,\"\")","v":"2011"},{"$f":"IF('Avtalat sortiment'!AO25<>\"\",'Avtalat sortiment'!AN25&'Avtalat sortiment'!AU25,\"\")","v":"17L"},{"$f":"IF('Avtalat sortiment'!AY25<>\"\",'Avtalat sortiment'!AX25&'Avtalat sortiment'!BE25,\"\")","v":"2011"},{"$f":"IF('Avtalat sortiment'!BI25<>\"\",'Avtalat sortiment'!BH25&'Avtalat sortiment'!BO25,\"\")","v":"25M"}]
[{"$f":"\"Position\"&Uträkningsmall!$A24","v":"Position"},{"$f":"IF(Uträkningsmall!$G24=\"\",\"\",IF(AND(Uträkningsmall!$A24=15,OR(Uträkningsmall!$F24=\"\",Uträkningsmall!$G24=\"\")),1,IF(AND(Uträkningsmall!$A24=16,OR(Uträkningsmall!$F24=\"\",Uträkningsmall!$G24=\"\")),1,IF(AND(Uträkningsmall!$A24=17,OR(Uträkningsmall!$F24=\"\",Uträkningsmall!$G24=\"\")),1,IF(AND(Uträkningsmall!$A24=19,OR(Uträkningsmall!$F24=\"\",Uträkningsmall!$G24=\"\")),1,IF(AND(Uträkningsmall!$A24=20,OR(Uträkningsmall!$F24=\"\",Uträkningsmall!$G24=\"\")),1,IF(AND(Uträkningsmall!$A24=21,OR(Uträkningsmall!$F24=\"\",Uträkningsmall!$G24=\"\")),1,IF(AND(Uträkningsmall!$A24=22,OR(Uträkningsmall!$F24=\"\",Uträkningsmall!$G24=\"\")),1,IF(AND(Uträkningsmall!$A24=23,OR(Uträkningsmall!$F24=\"\",Uträkningsmall!$G24=\"\")),1,IF(AND(Uträkningsmall!$A24=24,OR(Uträkningsmall!$F24=\"\",Uträkningsmall!$G24=\"\")),1,IF(AND(Uträkningsmall!$A24=25,OR(Uträkningsmall!$F24=\"\",Uträkningsmall!$G24=\"\")),1,IF(AND(Uträkningsmall!$A24=26,OR(Uträkningsmall!$F24=\"\",Uträkningsmall!$G24=\"\")),1,IF(AND(Uträkningsmall!$A24=27,OR(Uträkningsmall!$F24=\"\",Uträkningsmall!$G24=\"\")),1,IF(AND(Uträkningsmall!$A24=28,OR(Uträkningsmall!$F24=\"\",Uträkningsmall!$G24=\"\")),1,IF(AND(Uträkningsmall!$A24=29,OR(Uträkningsmall!$F24=\"\",Uträkningsmall!$G24=\"\")),1,IF(AND(Uträkningsmall!$A24=30,OR(Uträkningsmall!$F24=\"\",Uträkningsmall!$G24=\"\")),1,IF(AND(Uträkningsmall!$A24=39,OR(Uträkningsmall!$F24=\"\",Uträkningsmall!$G24=\"\")),1,IF(AND(Uträkningsmall!$A24=40,OR(Uträkningsmall!$F24=\"\",Uträkningsmall!$G24=\"\")),1,IF(AND(Uträkningsmall!$A24=41,OR(Uträkningsmall!$F24=\"\",Uträkningsmall!$G24=\"\")),1,IF(AND(Uträkningsmall!$A24=42,OR(Uträkningsmall!$F24=\"\",Uträkningsmall!$G24=\"\")),1,0))))))))))))))))))))","v":""},null,null,null,null,null,null,null,null,null,null,null,null,null,null,null,null,null,null,null,null,null,null,null,null,null,null,null,null,null,null,null,null,null,null,null,null,null,null,null,null,null,null,null,null,null,null,null,null,null,null,null,null,null,null,null,null,null,null,null,null,null,null,null,null,null,null,null,null,null,null,null,null,null,null,null,{"$f":"IF('Avtalat sortiment'!K26<>\"\",'Avtalat sortiment'!$A26&'Avtalat sortiment'!Q26,\"\")","v":"17M"},{"$f":"IF('Avtalat sortiment'!U26<>\"\",'Avtalat sortiment'!T26&'Avtalat sortiment'!AA26,\"\")","v":"17S"},{"$f":"IF('Avtalat sortiment'!AE26<>\"\",'Avtalat sortiment'!AD26&'Avtalat sortiment'!AK26,\"\")","v":"2012"},{"$f":"IF('Avtalat sortiment'!AO26<>\"\",'Avtalat sortiment'!AN26&'Avtalat sortiment'!AU26,\"\")","v":"17XL"},{"$f":"IF('Avtalat sortiment'!AY26<>\"\",'Avtalat sortiment'!AX26&'Avtalat sortiment'!BE26,\"\")","v":"219"},{"$f":"IF('Avtalat sortiment'!BI26<>\"\",'Avtalat sortiment'!BH26&'Avtalat sortiment'!BO26,\"\")","v":"25L"}]
[{"$f":"\"Position\"&Uträkningsmall!$A25","v":"Position"},{"$f":"IF(Uträkningsmall!$G25=\"\",\"\",IF(AND(Uträkningsmall!$A25=15,OR(Uträkningsmall!$F25=\"\",Uträkningsmall!$G25=\"\")),1,IF(AND(Uträkningsmall!$A25=16,OR(Uträkningsmall!$F25=\"\",Uträkningsmall!$G25=\"\")),1,IF(AND(Uträkningsmall!$A25=17,OR(Uträkningsmall!$F25=\"\",Uträkningsmall!$G25=\"\")),1,IF(AND(Uträkningsmall!$A25=19,OR(Uträkningsmall!$F25=\"\",Uträkningsmall!$G25=\"\")),1,IF(AND(Uträkningsmall!$A25=20,OR(Uträkningsmall!$F25=\"\",Uträkningsmall!$G25=\"\")),1,IF(AND(Uträkningsmall!$A25=21,OR(Uträkningsmall!$F25=\"\",Uträkningsmall!$G25=\"\")),1,IF(AND(Uträkningsmall!$A25=22,OR(Uträkningsmall!$F25=\"\",Uträkningsmall!$G25=\"\")),1,IF(AND(Uträkningsmall!$A25=23,OR(Uträkningsmall!$F25=\"\",Uträkningsmall!$G25=\"\")),1,IF(AND(Uträkningsmall!$A25=24,OR(Uträkningsmall!$F25=\"\",Uträkningsmall!$G25=\"\")),1,IF(AND(Uträkningsmall!$A25=25,OR(Uträkningsmall!$F25=\"\",Uträkningsmall!$G25=\"\")),1,IF(AND(Uträkningsmall!$A25=26,OR(Uträkningsmall!$F25=\"\",Uträkningsmall!$G25=\"\")),1,IF(AND(Uträkningsmall!$A25=27,OR(Uträkningsmall!$F25=\"\",Uträkningsmall!$G25=\"\")),1,IF(AND(Uträkningsmall!$A25=28,OR(Uträkningsmall!$F25=\"\",Uträkningsmall!$G25=\"\")),1,IF(AND(Uträkningsmall!$A25=29,OR(Uträkningsmall!$F25=\"\",Uträkningsmall!$G25=\"\")),1,IF(AND(Uträkningsmall!$A25=30,OR(Uträkningsmall!$F25=\"\",Uträkningsmall!$G25=\"\")),1,IF(AND(Uträkningsmall!$A25=39,OR(Uträkningsmall!$F25=\"\",Uträkningsmall!$G25=\"\")),1,IF(AND(Uträkningsmall!$A25=40,OR(Uträkningsmall!$F25=\"\",Uträkningsmall!$G25=\"\")),1,IF(AND(Uträkningsmall!$A25=41,OR(Uträkningsmall!$F25=\"\",Uträkningsmall!$G25=\"\")),1,IF(AND(Uträkningsmall!$A25=42,OR(Uträkningsmall!$F25=\"\",Uträkningsmall!$G25=\"\")),1,0))))))))))))))))))))","v":""},null,null,null,null,null,null,null,null,null,null,null,null,null,null,null,null,null,null,null,null,null,null,null,null,null,null,null,null,null,null,null,null,null,null,null,null,null,null,null,null,null,null,null,null,null,null,null,null,null,null,null,null,null,null,null,null,null,null,null,null,null,null,null,null,null,null,null,null,null,null,null,null,null,null,null,{"$f":"IF('Avtalat sortiment'!K27<>\"\",'Avtalat sortiment'!$A27&'Avtalat sortiment'!Q27,\"\")","v":"17L"},{"$f":"IF('Avtalat sortiment'!U27<>\"\",'Avtalat sortiment'!T27&'Avtalat sortiment'!AA27,\"\")","v":"17M"},{"$f":"IF('Avtalat sortiment'!AE27<>\"\",'Avtalat sortiment'!AD27&'Avtalat sortiment'!AK27,\"\")","v":"2110"},{"$f":"IF('Avtalat sortiment'!AO27<>\"\",'Avtalat sortiment'!AN27&'Avtalat sortiment'!AU27,\"\")","v":"17XXL"},{"$f":"IF('Avtalat sortiment'!AY27<>\"\",'Avtalat sortiment'!AX27&'Avtalat sortiment'!BE27,\"\")","v":"218"},{"$f":"IF('Avtalat sortiment'!BI27<>\"\",'Avtalat sortiment'!BH27&'Avtalat sortiment'!BO27,\"\")","v":"25XL"}]
[{"$f":"\"Position\"&Uträkningsmall!$A26","v":"Position"},{"$f":"IF(Uträkningsmall!$G26=\"\",\"\",IF(AND(Uträkningsmall!$A26=15,OR(Uträkningsmall!$F26=\"\",Uträkningsmall!$G26=\"\")),1,IF(AND(Uträkningsmall!$A26=16,OR(Uträkningsmall!$F26=\"\",Uträkningsmall!$G26=\"\")),1,IF(AND(Uträkningsmall!$A26=17,OR(Uträkningsmall!$F26=\"\",Uträkningsmall!$G26=\"\")),1,IF(AND(Uträkningsmall!$A26=19,OR(Uträkningsmall!$F26=\"\",Uträkningsmall!$G26=\"\")),1,IF(AND(Uträkningsmall!$A26=20,OR(Uträkningsmall!$F26=\"\",Uträkningsmall!$G26=\"\")),1,IF(AND(Uträkningsmall!$A26=21,OR(Uträkningsmall!$F26=\"\",Uträkningsmall!$G26=\"\")),1,IF(AND(Uträkningsmall!$A26=22,OR(Uträkningsmall!$F26=\"\",Uträkningsmall!$G26=\"\")),1,IF(AND(Uträkningsmall!$A26=23,OR(Uträkningsmall!$F26=\"\",Uträkningsmall!$G26=\"\")),1,IF(AND(Uträkningsmall!$A26=24,OR(Uträkningsmall!$F26=\"\",Uträkningsmall!$G26=\"\")),1,IF(AND(Uträkningsmall!$A26=25,OR(Uträkningsmall!$F26=\"\",Uträkningsmall!$G26=\"\")),1,IF(AND(Uträkningsmall!$A26=26,OR(Uträkningsmall!$F26=\"\",Uträkningsmall!$G26=\"\")),1,IF(AND(Uträkningsmall!$A26=27,OR(Uträkningsmall!$F26=\"\",Uträkningsmall!$G26=\"\")),1,IF(AND(Uträkningsmall!$A26=28,OR(Uträkningsmall!$F26=\"\",Uträkningsmall!$G26=\"\")),1,IF(AND(Uträkningsmall!$A26=29,OR(Uträkningsmall!$F26=\"\",Uträkningsmall!$G26=\"\")),1,IF(AND(Uträkningsmall!$A26=30,OR(Uträkningsmall!$F26=\"\",Uträkningsmall!$G26=\"\")),1,IF(AND(Uträkningsmall!$A26=39,OR(Uträkningsmall!$F26=\"\",Uträkningsmall!$G26=\"\")),1,IF(AND(Uträkningsmall!$A26=40,OR(Uträkningsmall!$F26=\"\",Uträkningsmall!$G26=\"\")),1,IF(AND(Uträkningsmall!$A26=41,OR(Uträkningsmall!$F26=\"\",Uträkningsmall!$G26=\"\")),1,IF(AND(Uträkningsmall!$A26=42,OR(Uträkningsmall!$F26=\"\",Uträkningsmall!$G26=\"\")),1,0))))))))))))))))))))","v":""},null,null,null,null,null,null,null,null,null,null,null,null,null,null,null,null,null,null,null,null,null,null,null,null,null,null,null,null,null,null,null,null,null,null,null,null,null,null,null,null,null,null,null,null,null,null,null,null,null,null,null,null,null,null,null,null,null,null,null,null,null,null,null,null,null,null,null,null,null,null,null,null,null,null,null,{"$f":"IF('Avtalat sortiment'!K28<>\"\",'Avtalat sortiment'!$A28&'Avtalat sortiment'!Q28,\"\")","v":"17XL"},{"$f":"IF('Avtalat sortiment'!U28<>\"\",'Avtalat sortiment'!T28&'Avtalat sortiment'!AA28,\"\")","v":"17L"},{"$f":"IF('Avtalat sortiment'!AE28<>\"\",'Avtalat sortiment'!AD28&'Avtalat sortiment'!AK28,\"\")","v":"2111"},{"$f":"IF('Avtalat sortiment'!AO28<>\"\",'Avtalat sortiment'!AN28&'Avtalat sortiment'!AU28,\"\")","v":"17XXXL"},{"$f":"IF('Avtalat sortiment'!AY28<>\"\",'Avtalat sortiment'!AX28&'Avtalat sortiment'!BE28,\"\")","v":"217"},{"$f":"IF('Avtalat sortiment'!BI28<>\"\",'Avtalat sortiment'!BH28&'Avtalat sortiment'!BO28,\"\")","v":"26XS"}]
[{"$f":"\"Position\"&Uträkningsmall!$A27","v":"Position"},{"$f":"IF(Uträkningsmall!$G27=\"\",\"\",IF(AND(Uträkningsmall!$A27=15,OR(Uträkningsmall!$F27=\"\",Uträkningsmall!$G27=\"\")),1,IF(AND(Uträkningsmall!$A27=16,OR(Uträkningsmall!$F27=\"\",Uträkningsmall!$G27=\"\")),1,IF(AND(Uträkningsmall!$A27=17,OR(Uträkningsmall!$F27=\"\",Uträkningsmall!$G27=\"\")),1,IF(AND(Uträkningsmall!$A27=19,OR(Uträkningsmall!$F27=\"\",Uträkningsmall!$G27=\"\")),1,IF(AND(Uträkningsmall!$A27=20,OR(Uträkningsmall!$F27=\"\",Uträkningsmall!$G27=\"\")),1,IF(AND(Uträkningsmall!$A27=21,OR(Uträkningsmall!$F27=\"\",Uträkningsmall!$G27=\"\")),1,IF(AND(Uträkningsmall!$A27=22,OR(Uträkningsmall!$F27=\"\",Uträkningsmall!$G27=\"\")),1,IF(AND(Uträkningsmall!$A27=23,OR(Uträkningsmall!$F27=\"\",Uträkningsmall!$G27=\"\")),1,IF(AND(Uträkningsmall!$A27=24,OR(Uträkningsmall!$F27=\"\",Uträkningsmall!$G27=\"\")),1,IF(AND(Uträkningsmall!$A27=25,OR(Uträkningsmall!$F27=\"\",Uträkningsmall!$G27=\"\")),1,IF(AND(Uträkningsmall!$A27=26,OR(Uträkningsmall!$F27=\"\",Uträkningsmall!$G27=\"\")),1,IF(AND(Uträkningsmall!$A27=27,OR(Uträkningsmall!$F27=\"\",Uträkningsmall!$G27=\"\")),1,IF(AND(Uträkningsmall!$A27=28,OR(Uträkningsmall!$F27=\"\",Uträkningsmall!$G27=\"\")),1,IF(AND(Uträkningsmall!$A27=29,OR(Uträkningsmall!$F27=\"\",Uträkningsmall!$G27=\"\")),1,IF(AND(Uträkningsmall!$A27=30,OR(Uträkningsmall!$F27=\"\",Uträkningsmall!$G27=\"\")),1,IF(AND(Uträkningsmall!$A27=39,OR(Uträkningsmall!$F27=\"\",Uträkningsmall!$G27=\"\")),1,IF(AND(Uträkningsmall!$A27=40,OR(Uträkningsmall!$F27=\"\",Uträkningsmall!$G27=\"\")),1,IF(AND(Uträkningsmall!$A27=41,OR(Uträkningsmall!$F27=\"\",Uträkningsmall!$G27=\"\")),1,IF(AND(Uträkningsmall!$A27=42,OR(Uträkningsmall!$F27=\"\",Uträkningsmall!$G27=\"\")),1,0))))))))))))))))))))","v":""},null,null,null,null,null,null,null,null,null,null,null,null,null,null,null,null,null,null,null,null,null,null,null,null,null,null,null,null,null,null,null,null,null,null,null,null,null,null,null,null,null,null,null,null,null,null,null,null,null,null,null,null,null,null,null,null,null,null,null,null,null,null,null,null,null,null,null,null,null,null,null,null,null,null,null,{"$f":"IF('Avtalat sortiment'!K29<>\"\",'Avtalat sortiment'!$A29&'Avtalat sortiment'!Q29,\"\")","v":"17XXL"},{"$f":"IF('Avtalat sortiment'!U29<>\"\",'Avtalat sortiment'!T29&'Avtalat sortiment'!AA29,\"\")","v":"17XL"},{"$f":"IF('Avtalat sortiment'!AE29<>\"\",'Avtalat sortiment'!AD29&'Avtalat sortiment'!AK29,\"\")","v":"216"},{"$f":"IF('Avtalat sortiment'!AO29<>\"\",'Avtalat sortiment'!AN29&'Avtalat sortiment'!AU29,\"\")","v":"18"},{"$f":"IF('Avtalat sortiment'!AY29<>\"\",'Avtalat sortiment'!AX29&'Avtalat sortiment'!BE29,\"\")","v":"2110"},{"$f":"IF('Avtalat sortiment'!BI29<>\"\",'Avtalat sortiment'!BH29&'Avtalat sortiment'!BO29,\"\")","v":"26S"}]
[{"$f":"\"Position\"&Uträkningsmall!$A28","v":"Position"},{"$f":"IF(Uträkningsmall!$G28=\"\",\"\",IF(AND(Uträkningsmall!$A28=15,OR(Uträkningsmall!$F28=\"\",Uträkningsmall!$G28=\"\")),1,IF(AND(Uträkningsmall!$A28=16,OR(Uträkningsmall!$F28=\"\",Uträkningsmall!$G28=\"\")),1,IF(AND(Uträkningsmall!$A28=17,OR(Uträkningsmall!$F28=\"\",Uträkningsmall!$G28=\"\")),1,IF(AND(Uträkningsmall!$A28=19,OR(Uträkningsmall!$F28=\"\",Uträkningsmall!$G28=\"\")),1,IF(AND(Uträkningsmall!$A28=20,OR(Uträkningsmall!$F28=\"\",Uträkningsmall!$G28=\"\")),1,IF(AND(Uträkningsmall!$A28=21,OR(Uträkningsmall!$F28=\"\",Uträkningsmall!$G28=\"\")),1,IF(AND(Uträkningsmall!$A28=22,OR(Uträkningsmall!$F28=\"\",Uträkningsmall!$G28=\"\")),1,IF(AND(Uträkningsmall!$A28=23,OR(Uträkningsmall!$F28=\"\",Uträkningsmall!$G28=\"\")),1,IF(AND(Uträkningsmall!$A28=24,OR(Uträkningsmall!$F28=\"\",Uträkningsmall!$G28=\"\")),1,IF(AND(Uträkningsmall!$A28=25,OR(Uträkningsmall!$F28=\"\",Uträkningsmall!$G28=\"\")),1,IF(AND(Uträkningsmall!$A28=26,OR(Uträkningsmall!$F28=\"\",Uträkningsmall!$G28=\"\")),1,IF(AND(Uträkningsmall!$A28=27,OR(Uträkningsmall!$F28=\"\",Uträkningsmall!$G28=\"\")),1,IF(AND(Uträkningsmall!$A28=28,OR(Uträkningsmall!$F28=\"\",Uträkningsmall!$G28=\"\")),1,IF(AND(Uträkningsmall!$A28=29,OR(Uträkningsmall!$F28=\"\",Uträkningsmall!$G28=\"\")),1,IF(AND(Uträkningsmall!$A28=30,OR(Uträkningsmall!$F28=\"\",Uträkningsmall!$G28=\"\")),1,IF(AND(Uträkningsmall!$A28=39,OR(Uträkningsmall!$F28=\"\",Uträkningsmall!$G28=\"\")),1,IF(AND(Uträkningsmall!$A28=40,OR(Uträkningsmall!$F28=\"\",Uträkningsmall!$G28=\"\")),1,IF(AND(Uträkningsmall!$A28=41,OR(Uträkningsmall!$F28=\"\",Uträkningsmall!$G28=\"\")),1,IF(AND(Uträkningsmall!$A28=42,OR(Uträkningsmall!$F28=\"\",Uträkningsmall!$G28=\"\")),1,0))))))))))))))))))))","v":""},null,null,null,null,null,null,null,null,null,null,null,null,null,null,null,null,null,null,null,null,null,null,null,null,null,null,null,null,null,null,null,null,null,null,null,null,null,null,null,null,null,null,null,null,null,null,null,null,null,null,null,null,null,null,null,null,null,null,null,null,null,null,null,null,null,null,null,null,null,null,null,null,null,null,null,{"$f":"IF('Avtalat sortiment'!K30<>\"\",'Avtalat sortiment'!$A30&'Avtalat sortiment'!Q30,\"\")","v":"17XXXL"},{"$f":"IF('Avtalat sortiment'!U30<>\"\",'Avtalat sortiment'!T30&'Avtalat sortiment'!AA30,\"\")","v":"17XXL"},{"$f":"IF('Avtalat sortiment'!AE30<>\"\",'Avtalat sortiment'!AD30&'Avtalat sortiment'!AK30,\"\")","v":"217"},{"$f":"IF('Avtalat sortiment'!AO30<>\"\",'Avtalat sortiment'!AN30&'Avtalat sortiment'!AU30,\"\")","v":"23XS"},{"$f":"IF('Avtalat sortiment'!AY30<>\"\",'Avtalat sortiment'!AX30&'Avtalat sortiment'!BE30,\"\")","v":"216"},{"$f":"IF('Avtalat sortiment'!BI30<>\"\",'Avtalat sortiment'!BH30&'Avtalat sortiment'!BO30,\"\")","v":"26M"}]
[{"$f":"\"Position\"&Uträkningsmall!$A29","v":"Position"},{"$f":"IF(Uträkningsmall!$G29=\"\",\"\",IF(AND(Uträkningsmall!$A29=15,OR(Uträkningsmall!$F29=\"\",Uträkningsmall!$G29=\"\")),1,IF(AND(Uträkningsmall!$A29=16,OR(Uträkningsmall!$F29=\"\",Uträkningsmall!$G29=\"\")),1,IF(AND(Uträkningsmall!$A29=17,OR(Uträkningsmall!$F29=\"\",Uträkningsmall!$G29=\"\")),1,IF(AND(Uträkningsmall!$A29=19,OR(Uträkningsmall!$F29=\"\",Uträkningsmall!$G29=\"\")),1,IF(AND(Uträkningsmall!$A29=20,OR(Uträkningsmall!$F29=\"\",Uträkningsmall!$G29=\"\")),1,IF(AND(Uträkningsmall!$A29=21,OR(Uträkningsmall!$F29=\"\",Uträkningsmall!$G29=\"\")),1,IF(AND(Uträkningsmall!$A29=22,OR(Uträkningsmall!$F29=\"\",Uträkningsmall!$G29=\"\")),1,IF(AND(Uträkningsmall!$A29=23,OR(Uträkningsmall!$F29=\"\",Uträkningsmall!$G29=\"\")),1,IF(AND(Uträkningsmall!$A29=24,OR(Uträkningsmall!$F29=\"\",Uträkningsmall!$G29=\"\")),1,IF(AND(Uträkningsmall!$A29=25,OR(Uträkningsmall!$F29=\"\",Uträkningsmall!$G29=\"\")),1,IF(AND(Uträkningsmall!$A29=26,OR(Uträkningsmall!$F29=\"\",Uträkningsmall!$G29=\"\")),1,IF(AND(Uträkningsmall!$A29=27,OR(Uträkningsmall!$F29=\"\",Uträkningsmall!$G29=\"\")),1,IF(AND(Uträkningsmall!$A29=28,OR(Uträkningsmall!$F29=\"\",Uträkningsmall!$G29=\"\")),1,IF(AND(Uträkningsmall!$A29=29,OR(Uträkningsmall!$F29=\"\",Uträkningsmall!$G29=\"\")),1,IF(AND(Uträkningsmall!$A29=30,OR(Uträkningsmall!$F29=\"\",Uträkningsmall!$G29=\"\")),1,IF(AND(Uträkningsmall!$A29=39,OR(Uträkningsmall!$F29=\"\",Uträkningsmall!$G29=\"\")),1,IF(AND(Uträkningsmall!$A29=40,OR(Uträkningsmall!$F29=\"\",Uträkningsmall!$G29=\"\")),1,IF(AND(Uträkningsmall!$A29=41,OR(Uträkningsmall!$F29=\"\",Uträkningsmall!$G29=\"\")),1,IF(AND(Uträkningsmall!$A29=42,OR(Uträkningsmall!$F29=\"\",Uträkningsmall!$G29=\"\")),1,0))))))))))))))))))))","v":""},null,null,null,null,null,null,null,null,null,null,null,null,null,null,null,null,null,null,null,null,null,null,null,null,null,null,null,null,null,null,null,null,null,null,null,null,null,null,null,null,null,null,null,null,null,null,null,null,null,null,null,null,null,null,null,null,null,null,null,null,null,null,null,null,null,null,null,null,null,null,null,null,null,null,null,{"$f":"IF('Avtalat sortiment'!K31<>\"\",'Avtalat sortiment'!$A31&'Avtalat sortiment'!Q31,\"\")","v":"18"},{"$f":"IF('Avtalat sortiment'!U31<>\"\",'Avtalat sortiment'!T31&'Avtalat sortiment'!AA31,\"\")","v":"17XXXL"},{"$f":"IF('Avtalat sortiment'!AE31<>\"\",'Avtalat sortiment'!AD31&'Avtalat sortiment'!AK31,\"\")","v":"218"},{"$f":"IF('Avtalat sortiment'!AO31<>\"\",'Avtalat sortiment'!AN31&'Avtalat sortiment'!AU31,\"\")","v":"23S"},{"$f":"IF('Avtalat sortiment'!AY31<>\"\",'Avtalat sortiment'!AX31&'Avtalat sortiment'!BE31,\"\")","v":"2111"},{"$f":"IF('Avtalat sortiment'!BI31<>\"\",'Avtalat sortiment'!BH31&'Avtalat sortiment'!BO31,\"\")","v":"26L"}]
[{"$f":"\"Position\"&Uträkningsmall!$A30","v":"Position"},{"$f":"IF(Uträkningsmall!$G30=\"\",\"\",IF(AND(Uträkningsmall!$A30=15,OR(Uträkningsmall!$F30=\"\",Uträkningsmall!$G30=\"\")),1,IF(AND(Uträkningsmall!$A30=16,OR(Uträkningsmall!$F30=\"\",Uträkningsmall!$G30=\"\")),1,IF(AND(Uträkningsmall!$A30=17,OR(Uträkningsmall!$F30=\"\",Uträkningsmall!$G30=\"\")),1,IF(AND(Uträkningsmall!$A30=19,OR(Uträkningsmall!$F30=\"\",Uträkningsmall!$G30=\"\")),1,IF(AND(Uträkningsmall!$A30=20,OR(Uträkningsmall!$F30=\"\",Uträkningsmall!$G30=\"\")),1,IF(AND(Uträkningsmall!$A30=21,OR(Uträkningsmall!$F30=\"\",Uträkningsmall!$G30=\"\")),1,IF(AND(Uträkningsmall!$A30=22,OR(Uträkningsmall!$F30=\"\",Uträkningsmall!$G30=\"\")),1,IF(AND(Uträkningsmall!$A30=23,OR(Uträkningsmall!$F30=\"\",Uträkningsmall!$G30=\"\")),1,IF(AND(Uträkningsmall!$A30=24,OR(Uträkningsmall!$F30=\"\",Uträkningsmall!$G30=\"\")),1,IF(AND(Uträkningsmall!$A30=25,OR(Uträkningsmall!$F30=\"\",Uträkningsmall!$G30=\"\")),1,IF(AND(Uträkningsmall!$A30=26,OR(Uträkningsmall!$F30=\"\",Uträkningsmall!$G30=\"\")),1,IF(AND(Uträkningsmall!$A30=27,OR(Uträkningsmall!$F30=\"\",Uträkningsmall!$G30=\"\")),1,IF(AND(Uträkningsmall!$A30=28,OR(Uträkningsmall!$F30=\"\",Uträkningsmall!$G30=\"\")),1,IF(AND(Uträkningsmall!$A30=29,OR(Uträkningsmall!$F30=\"\",Uträkningsmall!$G30=\"\")),1,IF(AND(Uträkningsmall!$A30=30,OR(Uträkningsmall!$F30=\"\",Uträkningsmall!$G30=\"\")),1,IF(AND(Uträkningsmall!$A30=39,OR(Uträkningsmall!$F30=\"\",Uträkningsmall!$G30=\"\")),1,IF(AND(Uträkningsmall!$A30=40,OR(Uträkningsmall!$F30=\"\",Uträkningsmall!$G30=\"\")),1,IF(AND(Uträkningsmall!$A30=41,OR(Uträkningsmall!$F30=\"\",Uträkningsmall!$G30=\"\")),1,IF(AND(Uträkningsmall!$A30=42,OR(Uträkningsmall!$F30=\"\",Uträkningsmall!$G30=\"\")),1,0))))))))))))))))))))","v":""},null,null,null,null,null,null,null,null,null,null,null,null,null,null,null,null,null,null,null,null,null,null,null,null,null,null,null,null,null,null,null,null,null,null,null,null,null,null,null,null,null,null,null,null,null,null,null,null,null,null,null,null,null,null,null,null,null,null,null,null,null,null,null,null,null,null,null,null,null,null,null,null,null,null,null,{"$f":"IF('Avtalat sortiment'!K32<>\"\",'Avtalat sortiment'!$A32&'Avtalat sortiment'!Q32,\"\")","v":"198"},{"$f":"IF('Avtalat sortiment'!U32<>\"\",'Avtalat sortiment'!T32&'Avtalat sortiment'!AA32,\"\")","v":"18"},{"$f":"IF('Avtalat sortiment'!AE32<>\"\",'Avtalat sortiment'!AD32&'Avtalat sortiment'!AK32,\"\")","v":"219"},{"$f":"IF('Avtalat sortiment'!AO32<>\"\",'Avtalat sortiment'!AN32&'Avtalat sortiment'!AU32,\"\")","v":"23M"},{"$f":"IF('Avtalat sortiment'!AY32<>\"\",'Avtalat sortiment'!AX32&'Avtalat sortiment'!BE32,\"\")","v":"22S"},{"$f":"IF('Avtalat sortiment'!BI32<>\"\",'Avtalat sortiment'!BH32&'Avtalat sortiment'!BO32,\"\")","v":"26XL"}]
[{"$f":"\"Position\"&Uträkningsmall!$A31","v":"Position"},{"$f":"IF(Uträkningsmall!$G31=\"\",\"\",IF(AND(Uträkningsmall!$A31=15,OR(Uträkningsmall!$F31=\"\",Uträkningsmall!$G31=\"\")),1,IF(AND(Uträkningsmall!$A31=16,OR(Uträkningsmall!$F31=\"\",Uträkningsmall!$G31=\"\")),1,IF(AND(Uträkningsmall!$A31=17,OR(Uträkningsmall!$F31=\"\",Uträkningsmall!$G31=\"\")),1,IF(AND(Uträkningsmall!$A31=19,OR(Uträkningsmall!$F31=\"\",Uträkningsmall!$G31=\"\")),1,IF(AND(Uträkningsmall!$A31=20,OR(Uträkningsmall!$F31=\"\",Uträkningsmall!$G31=\"\")),1,IF(AND(Uträkningsmall!$A31=21,OR(Uträkningsmall!$F31=\"\",Uträkningsmall!$G31=\"\")),1,IF(AND(Uträkningsmall!$A31=22,OR(Uträkningsmall!$F31=\"\",Uträkningsmall!$G31=\"\")),1,IF(AND(Uträkningsmall!$A31=23,OR(Uträkningsmall!$F31=\"\",Uträkningsmall!$G31=\"\")),1,IF(AND(Uträkningsmall!$A31=24,OR(Uträkningsmall!$F31=\"\",Uträkningsmall!$G31=\"\")),1,IF(AND(Uträkningsmall!$A31=25,OR(Uträkningsmall!$F31=\"\",Uträkningsmall!$G31=\"\")),1,IF(AND(Uträkningsmall!$A31=26,OR(Uträkningsmall!$F31=\"\",Uträkningsmall!$G31=\"\")),1,IF(AND(Uträkningsmall!$A31=27,OR(Uträkningsmall!$F31=\"\",Uträkningsmall!$G31=\"\")),1,IF(AND(Uträkningsmall!$A31=28,OR(Uträkningsmall!$F31=\"\",Uträkningsmall!$G31=\"\")),1,IF(AND(Uträkningsmall!$A31=29,OR(Uträkningsmall!$F31=\"\",Uträkningsmall!$G31=\"\")),1,IF(AND(Uträkningsmall!$A31=30,OR(Uträkningsmall!$F31=\"\",Uträkningsmall!$G31=\"\")),1,IF(AND(Uträkningsmall!$A31=39,OR(Uträkningsmall!$F31=\"\",Uträkningsmall!$G31=\"\")),1,IF(AND(Uträkningsmall!$A31=40,OR(Uträkningsmall!$F31=\"\",Uträkningsmall!$G31=\"\")),1,IF(AND(Uträkningsmall!$A31=41,OR(Uträkningsmall!$F31=\"\",Uträkningsmall!$G31=\"\")),1,IF(AND(Uträkningsmall!$A31=42,OR(Uträkningsmall!$F31=\"\",Uträkningsmall!$G31=\"\")),1,0))))))))))))))))))))","v":""},null,null,null,null,null,null,null,null,null,null,null,null,null,null,null,null,null,null,null,null,null,null,null,null,null,null,null,null,null,null,null,null,null,null,null,null,null,null,null,null,null,null,null,null,null,null,null,null,null,null,null,null,null,null,null,null,null,null,null,null,null,null,null,null,null,null,null,null,null,null,null,null,null,null,null,{"$f":"IF('Avtalat sortiment'!K33<>\"\",'Avtalat sortiment'!$A33&'Avtalat sortiment'!Q33,\"\")","v":"199"},{"$f":"IF('Avtalat sortiment'!U33<>\"\",'Avtalat sortiment'!T33&'Avtalat sortiment'!AA33,\"\")","v":"197"},{"$f":"IF('Avtalat sortiment'!AE33<>\"\",'Avtalat sortiment'!AD33&'Avtalat sortiment'!AK33,\"\")","v":"22M"},{"$f":"IF('Avtalat sortiment'!AO33<>\"\",'Avtalat sortiment'!AN33&'Avtalat sortiment'!AU33,\"\")","v":"23L"},{"$f":"IF('Avtalat sortiment'!AY33<>\"\",'Avtalat sortiment'!AX33&'Avtalat sortiment'!BE33,\"\")","v":"22M"},{"$f":"IF('Avtalat sortiment'!BI33<>\"\",'Avtalat sortiment'!BH33&'Avtalat sortiment'!BO33,\"\")","v":"27S"}]
[{"$f":"\"Position\"&Uträkningsmall!$A32","v":"Position"},{"$f":"IF(Uträkningsmall!$G32=\"\",\"\",IF(AND(Uträkningsmall!$A32=15,OR(Uträkningsmall!$F32=\"\",Uträkningsmall!$G32=\"\")),1,IF(AND(Uträkningsmall!$A32=16,OR(Uträkningsmall!$F32=\"\",Uträkningsmall!$G32=\"\")),1,IF(AND(Uträkningsmall!$A32=17,OR(Uträkningsmall!$F32=\"\",Uträkningsmall!$G32=\"\")),1,IF(AND(Uträkningsmall!$A32=19,OR(Uträkningsmall!$F32=\"\",Uträkningsmall!$G32=\"\")),1,IF(AND(Uträkningsmall!$A32=20,OR(Uträkningsmall!$F32=\"\",Uträkningsmall!$G32=\"\")),1,IF(AND(Uträkningsmall!$A32=21,OR(Uträkningsmall!$F32=\"\",Uträkningsmall!$G32=\"\")),1,IF(AND(Uträkningsmall!$A32=22,OR(Uträkningsmall!$F32=\"\",Uträkningsmall!$G32=\"\")),1,IF(AND(Uträkningsmall!$A32=23,OR(Uträkningsmall!$F32=\"\",Uträkningsmall!$G32=\"\")),1,IF(AND(Uträkningsmall!$A32=24,OR(Uträkningsmall!$F32=\"\",Uträkningsmall!$G32=\"\")),1,IF(AND(Uträkningsmall!$A32=25,OR(Uträkningsmall!$F32=\"\",Uträkningsmall!$G32=\"\")),1,IF(AND(Uträkningsmall!$A32=26,OR(Uträkningsmall!$F32=\"\",Uträkningsmall!$G32=\"\")),1,IF(AND(Uträkningsmall!$A32=27,OR(Uträkningsmall!$F32=\"\",Uträkningsmall!$G32=\"\")),1,IF(AND(Uträkningsmall!$A32=28,OR(Uträkningsmall!$F32=\"\",Uträkningsmall!$G32=\"\")),1,IF(AND(Uträkningsmall!$A32=29,OR(Uträkningsmall!$F32=\"\",Uträkningsmall!$G32=\"\")),1,IF(AND(Uträkningsmall!$A32=30,OR(Uträkningsmall!$F32=\"\",Uträkningsmall!$G32=\"\")),1,IF(AND(Uträkningsmall!$A32=39,OR(Uträkningsmall!$F32=\"\",Uträkningsmall!$G32=\"\")),1,IF(AND(Uträkningsmall!$A32=40,OR(Uträkningsmall!$F32=\"\",Uträkningsmall!$G32=\"\")),1,IF(AND(Uträkningsmall!$A32=41,OR(Uträkningsmall!$F32=\"\",Uträkningsmall!$G32=\"\")),1,IF(AND(Uträkningsmall!$A32=42,OR(Uträkningsmall!$F32=\"\",Uträkningsmall!$G32=\"\")),1,0))))))))))))))))))))","v":""},null,null,null,null,null,null,null,null,null,null,null,null,null,null,null,null,null,null,null,null,null,null,null,null,null,null,null,null,null,null,null,null,null,null,null,null,null,null,null,null,null,null,null,null,null,null,null,null,null,null,null,null,null,null,null,null,null,null,null,null,null,null,null,null,null,null,null,null,null,null,null,null,null,null,null,{"$f":"IF('Avtalat sortiment'!K34<>\"\",'Avtalat sortiment'!$A34&'Avtalat sortiment'!Q34,\"\")","v":"1910"},{"$f":"IF('Avtalat sortiment'!U34<>\"\",'Avtalat sortiment'!T34&'Avtalat sortiment'!AA34,\"\")","v":"198"},{"$f":"IF('Avtalat sortiment'!AE34<>\"\",'Avtalat sortiment'!AD34&'Avtalat sortiment'!AK34,\"\")","v":"24S"},{"$f":"IF('Avtalat sortiment'!AO34<>\"\",'Avtalat sortiment'!AN34&'Avtalat sortiment'!AU34,\"\")","v":"23XL"},{"$f":"IF('Avtalat sortiment'!AY34<>\"\",'Avtalat sortiment'!AX34&'Avtalat sortiment'!BE34,\"\")","v":"22L"},{"$f":"IF('Avtalat sortiment'!BI34<>\"\",'Avtalat sortiment'!BH34&'Avtalat sortiment'!BO34,\"\")","v":"27M"}]
[null,{"$f":"SUM(B15:B34)","v":0},null,null,null,null,null,null,null,null,null,null,null,null,null,null,null,null,null,null,null,null,null,null,null,null,null,null,null,null,null,null,null,null,null,null,null,null,null,null,null,null,null,null,null,null,null,null,null,null,null,null,null,null,null,null,null,null,null,null,null,null,null,null,null,null,null,null,null,null,null,null,null,null,null,null,null,{"$f":"IF('Avtalat sortiment'!K35<>\"\",'Avtalat sortiment'!$A35&'Avtalat sortiment'!Q35,\"\")","v":"207"},{"$f":"IF('Avtalat sortiment'!U35<>\"\",'Avtalat sortiment'!T35&'Avtalat sortiment'!AA35,\"\")","v":"199"},{"$f":"IF('Avtalat sortiment'!AE35<>\"\",'Avtalat sortiment'!AD35&'Avtalat sortiment'!AK35,\"\")","v":"24M"},{"$f":"IF('Avtalat sortiment'!AO35<>\"\",'Avtalat sortiment'!AN35&'Avtalat sortiment'!AU35,\"\")","v":"24S"},{"$f":"IF('Avtalat sortiment'!AY35<>\"\",'Avtalat sortiment'!AX35&'Avtalat sortiment'!BE35,\"\")","v":"22XL"},{"$f":"IF('Avtalat sortiment'!BI35<>\"\",'Avtalat sortiment'!BH35&'Avtalat sortiment'!BO35,\"\")","v":"27L"}]
["Andningsskydd",null,null,null,null,null,null,null,null,null,null,null,null,null,null,null,null,null,null,null,null,null,null,null,null,null,null,null,null,null,null,null,null,null,null,null,null,null,null,null,null,null,null,null,null,null,null,null,null,null,null,null,null,null,null,null,null,null,null,null,null,null,null,null,null,null,null,null,null,null,null,null,null,null,null,null,null,{"$f":"IF('Avtalat sortiment'!K36<>\"\",'Avtalat sortiment'!$A36&'Avtalat sortiment'!Q36,\"\")","v":"208"},{"$f":"IF('Avtalat sortiment'!U36<>\"\",'Avtalat sortiment'!T36&'Avtalat sortiment'!AA36,\"\")","v":"1910"},{"$f":"IF('Avtalat sortiment'!AE36<>\"\",'Avtalat sortiment'!AD36&'Avtalat sortiment'!AK36,\"\")","v":"24L"},{"$f":"IF('Avtalat sortiment'!AO36<>\"\",'Avtalat sortiment'!AN36&'Avtalat sortiment'!AU36,\"\")","v":"24M"},{"$f":"IF('Avtalat sortiment'!AY36<>\"\",'Avtalat sortiment'!AX36&'Avtalat sortiment'!BE36,\"\")","v":"23S"},{"$f":"IF('Avtalat sortiment'!BI36<>\"\",'Avtalat sortiment'!BH36&'Avtalat sortiment'!BO36,\"\")","v":"27XL"}]
["Förkläden",null,null,null,null,null,null,null,null,null,null,null,null,null,null,null,null,null,null,null,null,null,null,null,null,null,null,null,null,null,null,null,null,null,null,null,null,null,null,null,null,null,null,null,null,null,null,null,null,null,null,null,null,null,null,null,null,null,null,null,null,null,null,null,null,null,null,null,null,null,null,null,null,null,null,null,null,{"$f":"IF('Avtalat sortiment'!K37<>\"\",'Avtalat sortiment'!$A37&'Avtalat sortiment'!Q37,\"\")","v":"209"},{"$f":"IF('Avtalat sortiment'!U37<>\"\",'Avtalat sortiment'!T37&'Avtalat sortiment'!AA37,\"\")","v":"1911"},{"$f":"IF('Avtalat sortiment'!AE37<>\"\",'Avtalat sortiment'!AD37&'Avtalat sortiment'!AK37,\"\")","v":"24XL"},{"$f":"IF('Avtalat sortiment'!AO37<>\"\",'Avtalat sortiment'!AN37&'Avtalat sortiment'!AU37,\"\")","v":"24L"},{"$f":"IF('Avtalat sortiment'!AY37<>\"\",'Avtalat sortiment'!AX37&'Avtalat sortiment'!BE37,\"\")","v":"23M"},{"$f":"IF('Avtalat sortiment'!BI37<>\"\",'Avtalat sortiment'!BH37&'Avtalat sortiment'!BO37,\"\")","v":"28XS"}]
["Handdesinfektion",null,null,null,null,null,null,null,null,null,null,null,null,null,null,null,null,null,null,null,null,null,null,null,null,null,null,null,null,null,null,null,null,null,null,null,null,null,null,null,null,null,null,null,null,null,null,null,null,null,null,null,null,null,null,null,null,null,null,null,null,null,null,null,null,null,null,null,null,null,null,null,null,null,null,null,null,{"$f":"IF('Avtalat sortiment'!K38<>\"\",'Avtalat sortiment'!$A38&'Avtalat sortiment'!Q38,\"\")","v":"217"},{"$f":"IF('Avtalat sortiment'!U38<>\"\",'Avtalat sortiment'!T38&'Avtalat sortiment'!AA38,\"\")","v":"1912"},{"$f":"IF('Avtalat sortiment'!AE38<>\"\",'Avtalat sortiment'!AD38&'Avtalat sortiment'!AK38,\"\")","v":"24XXL"},{"$f":"IF('Avtalat sortiment'!AO38<>\"\",'Avtalat sortiment'!AN38&'Avtalat sortiment'!AU38,\"\")","v":"24XL"},{"$f":"IF('Avtalat sortiment'!AY38<>\"\",'Avtalat sortiment'!AX38&'Avtalat sortiment'!BE38,\"\")","v":"23L"},{"$f":"IF('Avtalat sortiment'!BI38<>\"\",'Avtalat sortiment'!BH38&'Avtalat sortiment'!BO38,\"\")","v":"28S"}]
["Hårnät",null,null,null,null,null,null,null,null,null,null,null,null,null,null,null,null,null,null,null,null,null,null,null,null,null,null,null,null,null,null,null,null,null,null,null,null,null,null,null,null,null,null,null,null,null,null,null,null,null,null,null,null,null,null,null,null,null,null,null,null,null,null,null,null,null,null,null,null,null,null,null,null,null,null,null,null,{"$f":"IF('Avtalat sortiment'!K39<>\"\",'Avtalat sortiment'!$A39&'Avtalat sortiment'!Q39,\"\")","v":"218"},{"$f":"IF('Avtalat sortiment'!U39<>\"\",'Avtalat sortiment'!T39&'Avtalat sortiment'!AA39,\"\")","v":""},{"$f":"IF('Avtalat sortiment'!AE39<>\"\",'Avtalat sortiment'!AD39&'Avtalat sortiment'!AK39,\"\")","v":"24XXXL"},{"$f":"IF('Avtalat sortiment'!AO39<>\"\",'Avtalat sortiment'!AN39&'Avtalat sortiment'!AU39,\"\")","v":"24XXL"},{"$f":"IF('Avtalat sortiment'!AY39<>\"\",'Avtalat sortiment'!AX39&'Avtalat sortiment'!BE39,\"\")","v":"23XL"},{"$f":"IF('Avtalat sortiment'!BI39<>\"\",'Avtalat sortiment'!BH39&'Avtalat sortiment'!BO39,\"\")","v":"28M"}]
["Hörselpropp",null,null,null,null,null,null,null,null,null,null,null,null,null,null,null,null,null,null,null,null,null,null,null,null,null,null,null,null,null,null,null,null,null,null,null,null,null,null,null,null,null,null,null,null,null,null,null,null,null,null,null,null,null,null,null,null,null,null,null,null,null,null,null,null,null,null,null,null,null,null,null,null,null,null,null,null,{"$f":"IF('Avtalat sortiment'!K40<>\"\",'Avtalat sortiment'!$A40&'Avtalat sortiment'!Q40,\"\")","v":"219"},{"$f":"IF('Avtalat sortiment'!U40<>\"\",'Avtalat sortiment'!T40&'Avtalat sortiment'!AA40,\"\")","v":""},{"$f":"IF('Avtalat sortiment'!AE40<>\"\",'Avtalat sortiment'!AD40&'Avtalat sortiment'!AK40,\"\")","v":"25XL"},{"$f":"IF('Avtalat sortiment'!AO40<>\"\",'Avtalat sortiment'!AN40&'Avtalat sortiment'!AU40,\"\")","v":"25XS"},{"$f":"IF('Avtalat sortiment'!AY40<>\"\",'Avtalat sortiment'!AX40&'Avtalat sortiment'!BE40,\"\")","v":"24S"},{"$f":"IF('Avtalat sortiment'!BI40<>\"\",'Avtalat sortiment'!BH40&'Avtalat sortiment'!BO40,\"\")","v":"28L"}]
["Latexhandske",null,null,null,null,null,null,null,null,null,null,null,null,null,null,null,null,null,null,null,null,null,null,null,null,null,null,null,null,null,null,null,null,null,null,null,null,null,null,null,null,null,null,null,null,null,null,null,null,null,null,null,null,null,null,null,null,null,null,null,null,null,null,null,null,null,null,null,null,null,null,null,null,null,null,null,null,{"$f":"IF('Avtalat sortiment'!K41<>\"\",'Avtalat sortiment'!$A41&'Avtalat sortiment'!Q41,\"\")","v":"2110"},{"$f":"IF('Avtalat sortiment'!U41<>\"\",'Avtalat sortiment'!T41&'Avtalat sortiment'!AA41,\"\")","v":""},{"$f":"IF('Avtalat sortiment'!AE41<>\"\",'Avtalat sortiment'!AD41&'Avtalat sortiment'!AK41,\"\")","v":"25S"},{"$f":"IF('Avtalat sortiment'!AO41<>\"\",'Avtalat sortiment'!AN41&'Avtalat sortiment'!AU41,\"\")","v":"25S"},{"$f":"IF('Avtalat sortiment'!AY41<>\"\",'Avtalat sortiment'!AX41&'Avtalat sortiment'!BE41,\"\")","v":"25M"},{"$f":"IF('Avtalat sortiment'!BI41<>\"\",'Avtalat sortiment'!BH41&'Avtalat sortiment'!BO41,\"\")","v":"28XL"}]
["Montagehandske",null,null,null,null,null,null,null,null,null,null,null,null,null,null,null,null,null,null,null,null,null,null,null,null,null,null,null,null,null,null,null,null,null,null,null,null,null,null,null,null,null,null,null,null,null,null,null,null,null,null,null,null,null,null,null,null,null,null,null,null,null,null,null,null,null,null,null,null,null,null,null,null,null,null,null,null,{"$f":"IF('Avtalat sortiment'!K42<>\"\",'Avtalat sortiment'!$A42&'Avtalat sortiment'!Q42,\"\")","v":"2111"},{"$f":"IF('Avtalat sortiment'!U42<>\"\",'Avtalat sortiment'!T42&'Avtalat sortiment'!AA42,\"\")","v":""},{"$f":"IF('Avtalat sortiment'!AE42<>\"\",'Avtalat sortiment'!AD42&'Avtalat sortiment'!AK42,\"\")","v":"25M"},{"$f":"IF('Avtalat sortiment'!AO42<>\"\",'Avtalat sortiment'!AN42&'Avtalat sortiment'!AU42,\"\")","v":"25M"},{"$f":"IF('Avtalat sortiment'!AY42<>\"\",'Avtalat sortiment'!AX42&'Avtalat sortiment'!BE42,\"\")","v":"25L"},{"$f":"IF('Avtalat sortiment'!BI42<>\"\",'Avtalat sortiment'!BH42&'Avtalat sortiment'!BO42,\"\")","v":"29XS"}]
["Munskydd",null,null,null,null,null,null,null,null,null,null,null,null,null,null,null,null,null,null,null,null,null,null,null,null,null,null,null,null,null,null,null,null,null,null,null,null,null,null,null,null,null,null,null,null,null,null,null,null,null,null,null,null,null,null,null,null,null,null,null,null,null,null,null,null,null,null,null,null,null,null,null,null,null,null,null,null,{"$f":"IF('Avtalat sortiment'!K43<>\"\",'Avtalat sortiment'!$A43&'Avtalat sortiment'!Q43,\"\")","v":"22XS"},{"$f":"IF('Avtalat sortiment'!U43<>\"\",'Avtalat sortiment'!T43&'Avtalat sortiment'!AA43,\"\")","v":""},{"$f":"IF('Avtalat sortiment'!AE43<>\"\",'Avtalat sortiment'!AD43&'Avtalat sortiment'!AK43,\"\")","v":"25L"},{"$f":"IF('Avtalat sortiment'!AO43<>\"\",'Avtalat sortiment'!AN43&'Avtalat sortiment'!AU43,\"\")","v":"25L"},{"$f":"IF('Avtalat sortiment'!AY43<>\"\",'Avtalat sortiment'!AX43&'Avtalat sortiment'!BE43,\"\")","v":"25XL"},{"$f":"IF('Avtalat sortiment'!BI43<>\"\",'Avtalat sortiment'!BH43&'Avtalat sortiment'!BO43,\"\")","v":"29S"}]
["Nitrilhandske",null,null,null,null,null,null,null,null,null,null,null,null,null,null,null,null,null,null,null,null,null,null,null,null,null,null,null,null,null,null,null,null,null,null,null,null,null,null,null,null,null,null,null,null,null,null,null,null,null,null,null,null,null,null,null,null,null,null,null,null,null,null,null,null,null,null,null,null,null,null,null,null,null,null,null,null,{"$f":"IF('Avtalat sortiment'!K44<>\"\",'Avtalat sortiment'!$A44&'Avtalat sortiment'!Q44,\"\")","v":"22S"},{"$f":"IF('Avtalat sortiment'!U44<>\"\",'Avtalat sortiment'!T44&'Avtalat sortiment'!AA44,\"\")","v":""},{"$f":"IF('Avtalat sortiment'!AE44<>\"\",'Avtalat sortiment'!AD44&'Avtalat sortiment'!AK44,\"\")","v":"26S"},{"$f":"IF('Avtalat sortiment'!AO44<>\"\",'Avtalat sortiment'!AN44&'Avtalat sortiment'!AU44,\"\")","v":"25XL"},{"$f":"IF('Avtalat sortiment'!AY44<>\"\",'Avtalat sortiment'!AX44&'Avtalat sortiment'!BE44,\"\")","v":"25S"},{"$f":"IF('Avtalat sortiment'!BI44<>\"\",'Avtalat sortiment'!BH44&'Avtalat sortiment'!BO44,\"\")","v":"29M"}]
["Operationsmössa",null,null,null,null,null,null,null,null,null,null,null,null,null,null,null,null,null,null,null,null,null,null,null,null,null,null,null,null,null,null,null,null,null,null,null,null,null,null,null,null,null,null,null,null,null,null,null,null,null,null,null,null,null,null,null,null,null,null,null,null,null,null,null,null,null,null,null,null,null,null,null,null,null,null,null,null,{"$f":"IF('Avtalat sortiment'!K45<>\"\",'Avtalat sortiment'!$A45&'Avtalat sortiment'!Q45,\"\")","v":"22M"},{"$f":"IF('Avtalat sortiment'!U45<>\"\",'Avtalat sortiment'!T45&'Avtalat sortiment'!AA45,\"\")","v":""},{"$f":"IF('Avtalat sortiment'!AE45<>\"\",'Avtalat sortiment'!AD45&'Avtalat sortiment'!AK45,\"\")","v":"26M"},{"$f":"IF('Avtalat sortiment'!AO45<>\"\",'Avtalat sortiment'!AN45&'Avtalat sortiment'!AU45,\"\")","v":"27XS"},{"$f":"IF('Avtalat sortiment'!AY45<>\"\",'Avtalat sortiment'!AX45&'Avtalat sortiment'!BE45,\"\")","v":"26S"},{"$f":"IF('Avtalat sortiment'!BI45<>\"\",'Avtalat sortiment'!BH45&'Avtalat sortiment'!BO45,\"\")","v":"29L"}]
["Overall",null,null,null,null,null,null,null,null,null,null,null,null,null,null,null,null,null,null,null,null,null,null,null,null,null,null,null,null,null,null,null,null,null,null,null,null,null,null,null,null,null,null,null,null,null,null,null,null,null,null,null,null,null,null,null,null,null,null,null,null,null,null,null,null,null,null,null,null,null,null,null,null,null,null,null,null,{"$f":"IF('Avtalat sortiment'!K46<>\"\",'Avtalat sortiment'!$A46&'Avtalat sortiment'!Q46,\"\")","v":"22L"},{"$f":"IF('Avtalat sortiment'!U46<>\"\",'Avtalat sortiment'!T46&'Avtalat sortiment'!AA46,\"\")","v":""},{"$f":"IF('Avtalat sortiment'!AE46<>\"\",'Avtalat sortiment'!AD46&'Avtalat sortiment'!AK46,\"\")","v":"26L"},{"$f":"IF('Avtalat sortiment'!AO46<>\"\",'Avtalat sortiment'!AN46&'Avtalat sortiment'!AU46,\"\")","v":"27S"},{"$f":"IF('Avtalat sortiment'!AY46<>\"\",'Avtalat sortiment'!AX46&'Avtalat sortiment'!BE46,\"\")","v":"26M"},{"$f":"IF('Avtalat sortiment'!BI46<>\"\",'Avtalat sortiment'!BH46&'Avtalat sortiment'!BO46,\"\")","v":"29XL"}]
["Skoskydd",null,null,null,null,null,null,null,null,null,null,null,null,null,null,null,null,null,null,null,null,null,null,null,null,null,null,null,null,null,null,null,null,null,null,null,null,null,null,null,null,null,null,null,null,null,null,null,null,null,null,null,null,null,null,null,null,null,null,null,null,null,null,null,null,null,null,null,null,null,null,null,null,null,null,null,null,{"$f":"IF('Avtalat sortiment'!K47<>\"\",'Avtalat sortiment'!$A47&'Avtalat sortiment'!Q47,\"\")","v":"22XL"},{"$f":"IF('Avtalat sortiment'!U47<>\"\",'Avtalat sortiment'!T47&'Avtalat sortiment'!AA47,\"\")","v":""},{"$f":"IF('Avtalat sortiment'!AE47<>\"\",'Avtalat sortiment'!AD47&'Avtalat sortiment'!AK47,\"\")","v":"26XL"},{"$f":"IF('Avtalat sortiment'!AO47<>\"\",'Avtalat sortiment'!AN47&'Avtalat sortiment'!AU47,\"\")","v":"27M"},{"$f":"IF('Avtalat sortiment'!AY47<>\"\",'Avtalat sortiment'!AX47&'Avtalat sortiment'!BE47,\"\")","v":"26L"},{"$f":"IF('Avtalat sortiment'!BI47<>\"\",'Avtalat sortiment'!BH47&'Avtalat sortiment'!BO47,\"\")","v":"31"}]
["Skyddsglasögon",null,null,null,null,null,null,null,null,null,null,null,null,null,null,null,null,null,null,null,null,null,null,null,null,null,null,null,null,null,null,null,null,null,null,null,null,null,null,null,null,null,null,null,null,null,null,null,null,null,null,null,null,null,null,null,null,null,null,null,null,null,null,null,null,null,null,null,null,null,null,null,null,null,null,null,null,{"$f":"IF('Avtalat sortiment'!K48<>\"\",'Avtalat sortiment'!$A48&'Avtalat sortiment'!Q48,\"\")","v":"22XXL"},{"$f":"IF('Avtalat sortiment'!U48<>\"\",'Avtalat sortiment'!T48&'Avtalat sortiment'!AA48,\"\")","v":""},{"$f":"IF('Avtalat sortiment'!AE48<>\"\",'Avtalat sortiment'!AD48&'Avtalat sortiment'!AK48,\"\")","v":"27L"},{"$f":"IF('Avtalat sortiment'!AO48<>\"\",'Avtalat sortiment'!AN48&'Avtalat sortiment'!AU48,\"\")","v":"27L"},{"$f":"IF('Avtalat sortiment'!AY48<>\"\",'Avtalat sortiment'!AX48&'Avtalat sortiment'!BE48,\"\")","v":"27S"},{"$f":"IF('Avtalat sortiment'!BI48<>\"\",'Avtalat sortiment'!BH48&'Avtalat sortiment'!BO48,\"\")","v":"32"}]
["Stövelskydd",null,null,null,null,null,null,null,null,null,null,null,null,null,null,null,null,null,null,null,null,null,null,null,null,null,null,null,null,null,null,null,null,null,null,null,null,null,null,null,null,null,null,null,null,null,null,null,null,null,null,null,null,null,null,null,null,null,null,null,null,null,null,null,null,null,null,null,null,null,null,null,null,null,null,null,null,{"$f":"IF('Avtalat sortiment'!K49<>\"\",'Avtalat sortiment'!$A49&'Avtalat sortiment'!Q49,\"\")","v":"22XXXL"},{"$f":"IF('Avtalat sortiment'!U49<>\"\",'Avtalat sortiment'!T49&'Avtalat sortiment'!AA49,\"\")","v":""},{"$f":"IF('Avtalat sortiment'!AE49<>\"\",'Avtalat sortiment'!AD49&'Avtalat sortiment'!AK49,\"\")","v":"27M"},{"$f":"IF('Avtalat sortiment'!AO49<>\"\",'Avtalat sortiment'!AN49&'Avtalat sortiment'!AU49,\"\")","v":"27XL"},{"$f":"IF('Avtalat sortiment'!AY49<>\"\",'Avtalat sortiment'!AX49&'Avtalat sortiment'!BE49,\"\")","v":"27M"},{"$f":"IF('Avtalat sortiment'!BI49<>\"\",'Avtalat sortiment'!BH49&'Avtalat sortiment'!BO49,\"\")","v":"33"}]
["Vinylhandske",null,null,null,null,null,null,null,null,null,null,null,null,null,null,null,null,null,null,null,null,null,null,null,null,null,null,null,null,null,null,null,null,null,null,null,null,null,null,null,null,null,null,null,null,null,null,null,null,null,null,null,null,null,null,null,null,null,null,null,null,null,null,null,null,null,null,null,null,null,null,null,null,null,null,null,null,{"$f":"IF('Avtalat sortiment'!K50<>\"\",'Avtalat sortiment'!$A50&'Avtalat sortiment'!Q50,\"\")","v":"23S"},{"$f":"IF('Avtalat sortiment'!U50<>\"\",'Avtalat sortiment'!T50&'Avtalat sortiment'!AA50,\"\")","v":"22XS"},{"$f":"IF('Avtalat sortiment'!AE50<>\"\",'Avtalat sortiment'!AD50&'Avtalat sortiment'!AK50,\"\")","v":"27S"},{"$f":"IF('Avtalat sortiment'!AO50<>\"\",'Avtalat sortiment'!AN50&'Avtalat sortiment'!AU50,\"\")","v":"28XS"},{"$f":"IF('Avtalat sortiment'!AY50<>\"\",'Avtalat sortiment'!AX50&'Avtalat sortiment'!BE50,\"\")","v":"27L"},{"$f":"IF('Avtalat sortiment'!BI50<>\"\",'Avtalat sortiment'!BH50&'Avtalat sortiment'!BO50,\"\")","v":"34"}]
["Visir",null,null,null,null,null,null,null,null,null,null,null,null,null,null,null,null,null,null,null,null,null,null,null,null,null,null,null,null,null,null,null,null,null,null,null,null,null,null,null,null,null,null,null,null,null,null,null,null,null,null,null,null,null,null,null,null,null,null,null,null,null,null,null,null,null,null,null,null,null,null,null,null,null,null,null,null,{"$f":"IF('Avtalat sortiment'!K51<>\"\",'Avtalat sortiment'!$A51&'Avtalat sortiment'!Q51,\"\")","v":"23M"},{"$f":"IF('Avtalat sortiment'!U51<>\"\",'Avtalat sortiment'!T51&'Avtalat sortiment'!AA51,\"\")","v":"22S"},{"$f":"IF('Avtalat sortiment'!AE51<>\"\",'Avtalat sortiment'!AD51&'Avtalat sortiment'!AK51,\"\")","v":"27XL"},{"$f":"IF('Avtalat sortiment'!AO51<>\"\",'Avtalat sortiment'!AN51&'Avtalat sortiment'!AU51,\"\")","v":"28S"},{"$f":"IF('Avtalat sortiment'!AY51<>\"\",'Avtalat sortiment'!AX51&'Avtalat sortiment'!BE51,\"\")","v":"27XL"},{"$f":"IF('Avtalat sortiment'!BI51<>\"\",'Avtalat sortiment'!BH51&'Avtalat sortiment'!BO51,\"\")","v":"35"}]
["Ytdesinfektion",null,null,null,null,null,null,null,null,null,null,null,null,null,null,null,null,null,null,null,null,null,null,null,null,null,null,null,null,null,null,null,null,null,null,null,null,null,null,null,null,null,null,null,null,null,null,null,null,null,null,null,null,null,null,null,null,null,null,null,null,null,null,null,null,null,null,null,null,null,null,null,null,null,null,null,null,{"$f":"IF('Avtalat sortiment'!K52<>\"\",'Avtalat sortiment'!$A52&'Avtalat sortiment'!Q52,\"\")","v":"23L"},{"$f":"IF('Avtalat sortiment'!U52<>\"\",'Avtalat sortiment'!T52&'Avtalat sortiment'!AA52,\"\")","v":"22M"},{"$f":"IF('Avtalat sortiment'!AE52<>\"\",'Avtalat sortiment'!AD52&'Avtalat sortiment'!AK52,\"\")","v":"28S"},{"$f":"IF('Avtalat sortiment'!AO52<>\"\",'Avtalat sortiment'!AN52&'Avtalat sortiment'!AU52,\"\")","v":"28M"},{"$f":"IF('Avtalat sortiment'!AY52<>\"\",'Avtalat sortiment'!AX52&'Avtalat sortiment'!BE52,\"\")","v":""},{"$f":"IF('Avtalat sortiment'!BI52<>\"\",'Avtalat sortiment'!BH52&'Avtalat sortiment'!BO52,\"\")","v":"36"}]
["Ärmskydd",null,null,null,null,null,null,null,null,null,null,null,null,null,null,null,null,null,null,null,null,null,null,null,null,null,null,null,null,null,null,null,null,null,null,null,null,null,null,null,null,null,null,null,null,null,null,null,null,null,null,null,null,null,null,null,null,null,null,null,null,null,null,null,null,null,null,null,null,null,null,null,null,null,null,null,null,{"$f":"IF('Avtalat sortiment'!K53<>\"\",'Avtalat sortiment'!$A53&'Avtalat sortiment'!Q53,\"\")","v":"23XL"},{"$f":"IF('Avtalat sortiment'!U53<>\"\",'Avtalat sortiment'!T53&'Avtalat sortiment'!AA53,\"\")","v":"22L"},{"$f":"IF('Avtalat sortiment'!AE53<>\"\",'Avtalat sortiment'!AD53&'Avtalat sortiment'!AK53,\"\")","v":"28M"},{"$f":"IF('Avtalat sortiment'!AO53<>\"\",'Avtalat sortiment'!AN53&'Avtalat sortiment'!AU53,\"\")","v":"28L"},{"$f":"IF('Avtalat sortiment'!AY53<>\"\",'Avtalat sortiment'!AX53&'Avtalat sortiment'!BE53,\"\")","v":""},{"$f":"IF('Avtalat sortiment'!BI53<>\"\",'Avtalat sortiment'!BH53&'Avtalat sortiment'!BO53,\"\")","v":"37"}]
[null,null,null,null,null,null,null,null,null,null,null,null,null,null,null,null,null,null,null,null,null,null,null,null,null,null,null,null,null,null,null,null,null,null,null,null,null,null,null,null,null,null,null,null,null,null,null,null,null,null,null,null,null,null,null,null,null,null,null,null,null,null,null,null,null,null,null,null,null,null,null,null,null,null,null,null,null,{"$f":"IF('Avtalat sortiment'!K54<>\"\",'Avtalat sortiment'!$A54&'Avtalat sortiment'!Q54,\"\")","v":"24S"},{"$f":"IF('Avtalat sortiment'!U54<>\"\",'Avtalat sortiment'!T54&'Avtalat sortiment'!AA54,\"\")","v":"22XL"},{"$f":"IF('Avtalat sortiment'!AE54<>\"\",'Avtalat sortiment'!AD54&'Avtalat sortiment'!AK54,\"\")","v":"28L"},{"$f":"IF('Avtalat sortiment'!AO54<>\"\",'Avtalat sortiment'!AN54&'Avtalat sortiment'!AU54,\"\")","v":"28XL"},{"$f":"IF('Avtalat sortiment'!AY54<>\"\",'Avtalat sortiment'!AX54&'Avtalat sortiment'!BE54,\"\")","v":""},{"$f":"IF('Avtalat sortiment'!BI54<>\"\",'Avtalat sortiment'!BH54&'Avtalat sortiment'!BO54,\"\")","v":"38"}]
[null,null,null,null,null,null,null,null,null,null,null,null,null,null,null,null,null,null,null,null,null,null,null,null,null,null,null,null,null,null,null,null,null,null,null,null,null,null,null,null,null,null,null,null,null,null,null,null,null,null,null,null,null,null,null,null,null,null,null,null,null,null,null,null,null,null,null,null,null,null,null,null,null,null,null,null,null,{"$f":"IF('Avtalat sortiment'!K55<>\"\",'Avtalat sortiment'!$A55&'Avtalat sortiment'!Q55,\"\")","v":"24M"},{"$f":"IF('Avtalat sortiment'!U55<>\"\",'Avtalat sortiment'!T55&'Avtalat sortiment'!AA55,\"\")","v":"22XXL"},{"$f":"IF('Avtalat sortiment'!AE55<>\"\",'Avtalat sortiment'!AD55&'Avtalat sortiment'!AK55,\"\")","v":"28XL"},{"$f":"IF('Avtalat sortiment'!AO55<>\"\",'Avtalat sortiment'!AN55&'Avtalat sortiment'!AU55,\"\")","v":"29XS"},{"$f":"IF('Avtalat sortiment'!AY55<>\"\",'Avtalat sortiment'!AX55&'Avtalat sortiment'!BE55,\"\")","v":""},{"$f":"IF('Avtalat sortiment'!BI55<>\"\",'Avtalat sortiment'!BH55&'Avtalat sortiment'!BO55,\"\")","v":"39L"}]
["Vara","Minsta orderkvantitet vid avrop",null,null,null,null,null,null,null,null,null,null,null,null,null,null,null,null,null,null,null,null,null,null,null,null,null,null,null,null,null,null,null,null,null,null,null,null,null,null,null,null,null,null,null,null,null,null,null,null,null,null,null,null,null,null,null,null,null,null,null,null,null,null,null,null,null,null,null,null,null,null,null,null,null,null,null,{"$f":"IF('Avtalat sortiment'!K56<>\"\",'Avtalat sortiment'!$A56&'Avtalat sortiment'!Q56,\"\")","v":"24L"},{"$f":"IF('Avtalat sortiment'!U56<>\"\",'Avtalat sortiment'!T56&'Avtalat sortiment'!AA56,\"\")","v":"22XXXL"},{"$f":"IF('Avtalat sortiment'!AE56<>\"\",'Avtalat sortiment'!AD56&'Avtalat sortiment'!AK56,\"\")","v":"29S"},{"$f":"IF('Avtalat sortiment'!AO56<>\"\",'Avtalat sortiment'!AN56&'Avtalat sortiment'!AU56,\"\")","v":"29S"},{"$f":"IF('Avtalat sortiment'!AY56<>\"\",'Avtalat sortiment'!AX56&'Avtalat sortiment'!BE56,\"\")","v":""},{"$f":"IF('Avtalat sortiment'!BI56<>\"\",'Avtalat sortiment'!BH56&'Avtalat sortiment'!BO56,\"\")","v":"40L"}]
["Klass FFP1",20,null,null,null,null,null,null,null,null,null,null,null,null,null,null,null,null,null,null,null,null,null,null,null,null,null,null,null,null,null,null,null,null,null,null,null,null,null,null,null,null,null,null,null,null,null,null,null,null,null,null,null,null,null,null,null,null,null,null,null,null,null,null,null,null,null,null,null,null,null,null,null,null,null,null,null,{"$f":"IF('Avtalat sortiment'!K57<>\"\",'Avtalat sortiment'!$A57&'Avtalat sortiment'!Q57,\"\")","v":"24XL"},{"$f":"IF('Avtalat sortiment'!U57<>\"\",'Avtalat sortiment'!T57&'Avtalat sortiment'!AA57,\"\")","v":"23XS"},{"$f":"IF('Avtalat sortiment'!AE57<>\"\",'Avtalat sortiment'!AD57&'Avtalat sortiment'!AK57,\"\")","v":"29M"},{"$f":"IF('Avtalat sortiment'!AO57<>\"\",'Avtalat sortiment'!AN57&'Avtalat sortiment'!AU57,\"\")","v":"29M"},{"$f":"IF('Avtalat sortiment'!AY57<>\"\",'Avtalat sortiment'!AX57&'Avtalat sortiment'!BE57,\"\")","v":""},{"$f":"IF('Avtalat sortiment'!BI57<>\"\",'Avtalat sortiment'!BH57&'Avtalat sortiment'!BO57,\"\")","v":"4142-46"}]
["Klass FFP2 med utandningsventil",10,null,null,null,null,null,null,null,null,null,null,null,null,null,null,null,null,null,null,null,null,null,null,null,null,null,null,null,null,null,null,null,null,null,null,null,null,null,null,null,null,null,null,null,null,null,null,null,null,null,null,null,null,null,null,null,null,null,null,null,null,null,null,null,null,null,null,null,null,null,null,null,null,null,null,null,{"$f":"IF('Avtalat sortiment'!K58<>\"\",'Avtalat sortiment'!$A58&'Avtalat sortiment'!Q58,\"\")","v":"24XXL"},{"$f":"IF('Avtalat sortiment'!U58<>\"\",'Avtalat sortiment'!T58&'Avtalat sortiment'!AA58,\"\")","v":"23S"},{"$f":"IF('Avtalat sortiment'!AE58<>\"\",'Avtalat sortiment'!AD58&'Avtalat sortiment'!AK58,\"\")","v":"29L"},{"$f":"IF('Avtalat sortiment'!AO58<>\"\",'Avtalat sortiment'!AN58&'Avtalat sortiment'!AU58,\"\")","v":"29L"},{"$f":"IF('Avtalat sortiment'!AY58<>\"\",'Avtalat sortiment'!AX58&'Avtalat sortiment'!BE58,\"\")","v":""},{"$f":"IF('Avtalat sortiment'!BI58<>\"\",'Avtalat sortiment'!BH58&'Avtalat sortiment'!BO58,\"\")","v":"42M"}]
["Klass FFP2 utan utandningsventil",30,null,null,null,null,null,null,null,null,null,null,null,null,null,null,null,null,null,null,null,null,null,null,null,null,null,null,null,null,null,null,null,null,null,null,null,null,null,null,null,null,null,null,null,null,null,null,null,null,null,null,null,null,null,null,null,null,null,null,null,null,null,null,null,null,null,null,null,null,null,null,null,null,null,null,null,{"$f":"IF('Avtalat sortiment'!K59<>\"\",'Avtalat sortiment'!$A59&'Avtalat sortiment'!Q59,\"\")","v":"25S"},{"$f":"IF('Avtalat sortiment'!U59<>\"\",'Avtalat sortiment'!T59&'Avtalat sortiment'!AA59,\"\")","v":"23M"},{"$f":"IF('Avtalat sortiment'!AE59<>\"\",'Avtalat sortiment'!AD59&'Avtalat sortiment'!AK59,\"\")","v":"29XL"},{"$f":"IF('Avtalat sortiment'!AO59<>\"\",'Avtalat sortiment'!AN59&'Avtalat sortiment'!AU59,\"\")","v":"29XL"},{"$f":"IF('Avtalat sortiment'!AY59<>\"\",'Avtalat sortiment'!AX59&'Avtalat sortiment'!BE59,\"\")","v":""},{"$f":"IF('Avtalat sortiment'!BI59<>\"\",'Avtalat sortiment'!BH59&'Avtalat sortiment'!BO59,\"\")","v":"42L"}]
["Klass FFP3",10,null,null,null,null,null,null,null,null,null,null,null,null,null,null,null,null,null,null,null,null,null,null,null,null,null,null,null,null,null,null,null,null,null,null,null,null,null,null,null,null,null,null,null,null,null,null,null,null,null,null,null,null,null,null,null,null,null,null,null,null,null,null,null,null,null,null,null,null,null,null,null,null,null,null,null,{"$f":"IF('Avtalat sortiment'!K60<>\"\",'Avtalat sortiment'!$A60&'Avtalat sortiment'!Q60,\"\")","v":"25M"},{"$f":"IF('Avtalat sortiment'!U60<>\"\",'Avtalat sortiment'!T60&'Avtalat sortiment'!AA60,\"\")","v":"23L"},{"$f":"IF('Avtalat sortiment'!AE60<>\"\",'Avtalat sortiment'!AD60&'Avtalat sortiment'!AK60,\"\")","v":"31"},{"$f":"IF('Avtalat sortiment'!AO60<>\"\",'Avtalat sortiment'!AN60&'Avtalat sortiment'!AU60,\"\")","v":"31"},{"$f":"IF('Avtalat sortiment'!AY60<>\"\",'Avtalat sortiment'!AX60&'Avtalat sortiment'!BE60,\"\")","v":""},{"$f":"IF('Avtalat sortiment'!BI60<>\"\",'Avtalat sortiment'!BH60&'Avtalat sortiment'!BO60,\"\")","v":"42XL"}]
["Typ I",50,null,null,null,null,null,null,null,null,null,null,null,null,null,null,null,null,null,null,null,null,null,null,null,null,null,null,null,null,null,null,null,null,null,null,null,null,null,null,null,null,null,null,null,null,null,null,null,null,null,null,null,null,null,null,null,null,null,null,null,null,null,null,null,null,null,null,null,null,null,null,null,null,null,null,null,{"$f":"IF('Avtalat sortiment'!K61<>\"\",'Avtalat sortiment'!$A61&'Avtalat sortiment'!Q61,\"\")","v":"25L"},{"$f":"IF('Avtalat sortiment'!U61<>\"\",'Avtalat sortiment'!T61&'Avtalat sortiment'!AA61,\"\")","v":"23XL"},{"$f":"IF('Avtalat sortiment'!AE61<>\"\",'Avtalat sortiment'!AD61&'Avtalat sortiment'!AK61,\"\")","v":"32"},{"$f":"IF('Avtalat sortiment'!AO61<>\"\",'Avtalat sortiment'!AN61&'Avtalat sortiment'!AU61,\"\")","v":"32"},{"$f":"IF('Avtalat sortiment'!AY61<>\"\",'Avtalat sortiment'!AX61&'Avtalat sortiment'!BE61,\"\")","v":""},{"$f":"IF('Avtalat sortiment'!BI61<>\"\",'Avtalat sortiment'!BH61&'Avtalat sortiment'!BO61,\"\")","v":"43"}]
["Position 6 har utgått!",null,null,null,null,null,null,null,null,null,null,null,null,null,null,null,null,null,null,null,null,null,null,null,null,null,null,null,null,null,null,null,null,null,null,null,null,null,null,null,null,null,null,null,null,null,null,null,null,null,null,null,null,null,null,null,null,null,null,null,null,null,null,null,null,null,null,null,null,null,null,null,null,null,null,null,null,{"$f":"IF('Avtalat sortiment'!K62<>\"\",'Avtalat sortiment'!$A62&'Avtalat sortiment'!Q62,\"\")","v":"25XL"},{"$f":"IF('Avtalat sortiment'!U62<>\"\",'Avtalat sortiment'!T62&'Avtalat sortiment'!AA62,\"\")","v":"23XXL"},{"$f":"IF('Avtalat sortiment'!AE62<>\"\",'Avtalat sortiment'!AD62&'Avtalat sortiment'!AK62,\"\")","v":"33"},{"$f":"IF('Avtalat sortiment'!AO62<>\"\",'Avtalat sortiment'!AN62&'Avtalat sortiment'!AU62,\"\")","v":"33"},{"$f":"IF('Avtalat sortiment'!AY62<>\"\",'Avtalat sortiment'!AX62&'Avtalat sortiment'!BE62,\"\")","v":"31"},{"$f":"IF('Avtalat sortiment'!BI62<>\"\",'Avtalat sortiment'!BH62&'Avtalat sortiment'!BO62,\"\")","v":"44"}]
["Typ IIR",50,null,null,null,null,null,null,null,null,null,null,null,null,null,null,null,null,null,null,null,null,null,null,null,null,null,null,null,null,null,null,null,null,null,null,null,null,null,null,null,null,null,null,null,null,null,null,null,null,null,null,null,null,null,null,null,null,null,null,null,null,null,null,null,null,null,null,null,null,null,null,null,null,null,null,null,{"$f":"IF('Avtalat sortiment'!K63<>\"\",'Avtalat sortiment'!$A63&'Avtalat sortiment'!Q63,\"\")","v":"26S"},{"$f":"IF('Avtalat sortiment'!U63<>\"\",'Avtalat sortiment'!T63&'Avtalat sortiment'!AA63,\"\")","v":"24S"},{"$f":"IF('Avtalat sortiment'!AE63<>\"\",'Avtalat sortiment'!AD63&'Avtalat sortiment'!AK63,\"\")","v":"34"},{"$f":"IF('Avtalat sortiment'!AO63<>\"\",'Avtalat sortiment'!AN63&'Avtalat sortiment'!AU63,\"\")","v":"34"},{"$f":"IF('Avtalat sortiment'!AY63<>\"\",'Avtalat sortiment'!AX63&'Avtalat sortiment'!BE63,\"\")","v":"32"},{"$f":"IF('Avtalat sortiment'!BI63<>\"\",'Avtalat sortiment'!BH63&'Avtalat sortiment'!BO63,\"\")","v":"45"}]
["Typ IIR med antifog",60,null,null,null,null,null,null,null,null,null,null,null,null,null,null,null,null,null,null,null,null,null,null,null,null,null,null,null,null,null,null,null,null,null,null,null,null,null,null,null,null,null,null,null,null,null,null,null,null,null,null,null,null,null,null,null,null,null,null,null,null,null,null,null,null,null,null,null,null,null,null,null,null,null,null,null,{"$f":"IF('Avtalat sortiment'!K64<>\"\",'Avtalat sortiment'!$A64&'Avtalat sortiment'!Q64,\"\")","v":"26M"},{"$f":"IF('Avtalat sortiment'!U64<>\"\",'Avtalat sortiment'!T64&'Avtalat sortiment'!AA64,\"\")","v":"24M"},{"$f":"IF('Avtalat sortiment'!AE64<>\"\",'Avtalat sortiment'!AD64&'Avtalat sortiment'!AK64,\"\")","v":"35"},{"$f":"IF('Avtalat sortiment'!AO64<>\"\",'Avtalat sortiment'!AN64&'Avtalat sortiment'!AU64,\"\")","v":"35"},{"$f":"IF('Avtalat sortiment'!AY64<>\"\",'Avtalat sortiment'!AX64&'Avtalat sortiment'!BE64,\"\")","v":"33"},{"$f":"IF('Avtalat sortiment'!BI64<>\"\",'Avtalat sortiment'!BH64&'Avtalat sortiment'!BO64,\"\")","v":"46"}]
["Utan ärm, 70% förnybar råvara, 800 x 1250 mm",50,null,null,null,null,null,null,null,null,null,null,null,null,null,null,null,null,null,null,null,null,null,null,null,null,null,null,null,null,null,null,null,null,null,null,null,null,null,null,null,null,null,null,null,null,null,null,null,null,null,null,null,null,null,null,null,null,null,null,null,null,null,null,null,null,null,null,null,null,null,null,null,null,null,null,null,{"$f":"IF('Avtalat sortiment'!K65<>\"\",'Avtalat sortiment'!$A65&'Avtalat sortiment'!Q65,\"\")","v":"26L"},{"$f":"IF('Avtalat sortiment'!U65<>\"\",'Avtalat sortiment'!T65&'Avtalat sortiment'!AA65,\"\")","v":"24L"},{"$f":"IF('Avtalat sortiment'!AE65<>\"\",'Avtalat sortiment'!AD65&'Avtalat sortiment'!AK65,\"\")","v":"36"},{"$f":"IF('Avtalat sortiment'!AO65<>\"\",'Avtalat sortiment'!AN65&'Avtalat sortiment'!AU65,\"\")","v":"36"},{"$f":"IF('Avtalat sortiment'!AY65<>\"\",'Avtalat sortiment'!AX65&'Avtalat sortiment'!BE65,\"\")","v":"34"},{"$f":"IF('Avtalat sortiment'!BI65<>\"\",'Avtalat sortiment'!BH65&'Avtalat sortiment'!BO65,\"\")","v":"47"}]
["Utan ärm i dispenser, 800 x 1200-1250 mm",100,null,null,null,null,null,null,null,null,null,null,null,null,null,null,null,null,null,null,null,null,null,null,null,null,null,null,null,null,null,null,null,null,null,null,null,null,null,null,null,null,null,null,null,null,null,null,null,null,null,null,null,null,null,null,null,null,null,null,null,null,null,null,null,null,null,null,null,null,null,null,null,null,null,null,null,{"$f":"IF('Avtalat sortiment'!K66<>\"\",'Avtalat sortiment'!$A66&'Avtalat sortiment'!Q66,\"\")","v":"26XL"},{"$f":"IF('Avtalat sortiment'!U66<>\"\",'Avtalat sortiment'!T66&'Avtalat sortiment'!AA66,\"\")","v":"24XL"},{"$f":"IF('Avtalat sortiment'!AE66<>\"\",'Avtalat sortiment'!AD66&'Avtalat sortiment'!AK66,\"\")","v":""},{"$f":"IF('Avtalat sortiment'!AO66<>\"\",'Avtalat sortiment'!AN66&'Avtalat sortiment'!AU66,\"\")","v":"37"},{"$f":"IF('Avtalat sortiment'!AY66<>\"\",'Avtalat sortiment'!AX66&'Avtalat sortiment'!BE66,\"\")","v":"35"},{"$f":"IF('Avtalat sortiment'!BI66<>\"\",'Avtalat sortiment'!BH66&'Avtalat sortiment'!BO66,\"\")","v":"48"}]
["Utan ärm, 850 x 1600 mm",100,null,null,null,null,null,null,null,null,null,null,null,null,null,null,null,null,null,null,null,null,null,null,null,null,null,null,null,null,null,null,null,null,null,null,null,null,null,null,null,null,null,null,null,null,null,null,null,null,null,null,null,null,null,null,null,null,null,null,null,null,null,null,null,null,null,null,null,null,null,null,null,null,null,null,null,{"$f":"IF('Avtalat sortiment'!K67<>\"\",'Avtalat sortiment'!$A67&'Avtalat sortiment'!Q67,\"\")","v":"26XXL"},{"$f":"IF('Avtalat sortiment'!U67<>\"\",'Avtalat sortiment'!T67&'Avtalat sortiment'!AA67,\"\")","v":"25XS"},{"$f":"IF('Avtalat sortiment'!AE67<>\"\",'Avtalat sortiment'!AD67&'Avtalat sortiment'!AK67,\"\")","v":"39L"},{"$f":"IF('Avtalat sortiment'!AO67<>\"\",'Avtalat sortiment'!AN67&'Avtalat sortiment'!AU67,\"\")","v":"38"},{"$f":"IF('Avtalat sortiment'!AY67<>\"\",'Avtalat sortiment'!AX67&'Avtalat sortiment'!BE67,\"\")","v":"36"},{"$f":"IF('Avtalat sortiment'!BI67<>\"\",'Avtalat sortiment'!BH67&'Avtalat sortiment'!BO67,\"\")","v":""}]
["Utan ärm, laminat, 750 x 1450 mm",150,null,null,null,null,null,null,null,null,null,null,null,null,null,null,null,null,null,null,null,null,null,null,null,null,null,null,null,null,null,null,null,null,null,null,null,null,null,null,null,null,null,null,null,null,null,null,null,null,null,null,null,null,null,null,null,null,null,null,null,null,null,null,null,null,null,null,null,null,null,null,null,null,null,null,null,{"$f":"IF('Avtalat sortiment'!K68<>\"\",'Avtalat sortiment'!$A68&'Avtalat sortiment'!Q68,\"\")","v":"27S"},{"$f":"IF('Avtalat sortiment'!U68<>\"\",'Avtalat sortiment'!T68&'Avtalat sortiment'!AA68,\"\")","v":"25S"},{"$f":"IF('Avtalat sortiment'!AE68<>\"\",'Avtalat sortiment'!AD68&'Avtalat sortiment'!AK68,\"\")","v":"40L"},{"$f":"IF('Avtalat sortiment'!AO68<>\"\",'Avtalat sortiment'!AN68&'Avtalat sortiment'!AU68,\"\")","v":"39S"},{"$f":"IF('Avtalat sortiment'!AY68<>\"\",'Avtalat sortiment'!AX68&'Avtalat sortiment'!BE68,\"\")","v":"37"},{"$f":"IF('Avtalat sortiment'!BI68<>\"\",'Avtalat sortiment'!BH68&'Avtalat sortiment'!BO68,\"\")","v":""}]
["Med ärm,",60,null,null,null,null,null,null,null,null,null,null,null,null,null,null,null,null,null,null,null,null,null,null,null,null,null,null,null,null,null,null,null,null,null,null,null,null,null,null,null,null,null,null,null,null,null,null,null,null,null,null,null,null,null,null,null,null,null,null,null,null,null,null,null,null,null,null,null,null,null,null,null,null,null,null,null,{"$f":"IF('Avtalat sortiment'!K69<>\"\",'Avtalat sortiment'!$A69&'Avtalat sortiment'!Q69,\"\")","v":"27M"},{"$f":"IF('Avtalat sortiment'!U69<>\"\",'Avtalat sortiment'!T69&'Avtalat sortiment'!AA69,\"\")","v":"25M"},{"$f":"IF('Avtalat sortiment'!AE69<>\"\",'Avtalat sortiment'!AD69&'Avtalat sortiment'!AK69,\"\")","v":"43"},{"$f":"IF('Avtalat sortiment'!AO69<>\"\",'Avtalat sortiment'!AN69&'Avtalat sortiment'!AU69,\"\")","v":"39M"},{"$f":"IF('Avtalat sortiment'!AY69<>\"\",'Avtalat sortiment'!AX69&'Avtalat sortiment'!BE69,\"\")","v":"38"},{"$f":"IF('Avtalat sortiment'!BI69<>\"\",'Avtalat sortiment'!BH69&'Avtalat sortiment'!BO69,\"\")","v":""}]
["Utan ärm, 850 x  1300 mm",100,null,null,null,null,null,null,null,null,null,null,null,null,null,null,null,null,null,null,null,null,null,null,null,null,null,null,null,null,null,null,null,null,null,null,null,null,null,null,null,null,null,null,null,null,null,null,null,null,null,null,null,null,null,null,null,null,null,null,null,null,null,null,null,null,null,null,null,null,null,null,null,null,null,null,null,{"$f":"IF('Avtalat sortiment'!K70<>\"\",'Avtalat sortiment'!$A70&'Avtalat sortiment'!Q70,\"\")","v":"27L"},{"$f":"IF('Avtalat sortiment'!U70<>\"\",'Avtalat sortiment'!T70&'Avtalat sortiment'!AA70,\"\")","v":"25L"},{"$f":"IF('Avtalat sortiment'!AE70<>\"\",'Avtalat sortiment'!AD70&'Avtalat sortiment'!AK70,\"\")","v":"44"},{"$f":"IF('Avtalat sortiment'!AO70<>\"\",'Avtalat sortiment'!AN70&'Avtalat sortiment'!AU70,\"\")","v":"39L"},{"$f":"IF('Avtalat sortiment'!AY70<>\"\",'Avtalat sortiment'!AX70&'Avtalat sortiment'!BE70,\"\")","v":"39S"},{"$f":"IF('Avtalat sortiment'!BI70<>\"\",'Avtalat sortiment'!BH70&'Avtalat sortiment'!BO70,\"\")","v":""}]
["Engångsoverall",10,null,null,null,null,null,null,null,null,null,null,null,null,null,null,null,null,null,null,null,null,null,null,null,null,null,null,null,null,null,null,null,null,null,null,null,null,null,null,null,null,null,null,null,null,null,null,null,null,null,null,null,null,null,null,null,null,null,null,null,null,null,null,null,null,null,null,null,null,null,null,null,null,null,null,null,{"$f":"IF('Avtalat sortiment'!K71<>\"\",'Avtalat sortiment'!$A71&'Avtalat sortiment'!Q71,\"\")","v":"27XL"},{"$f":"IF('Avtalat sortiment'!U71<>\"\",'Avtalat sortiment'!T71&'Avtalat sortiment'!AA71,\"\")","v":"25XL"},{"$f":"IF('Avtalat sortiment'!AE71<>\"\",'Avtalat sortiment'!AD71&'Avtalat sortiment'!AK71,\"\")","v":"45"},{"$f":"IF('Avtalat sortiment'!AO71<>\"\",'Avtalat sortiment'!AN71&'Avtalat sortiment'!AU71,\"\")","v":"40S"},{"$f":"IF('Avtalat sortiment'!AY71<>\"\",'Avtalat sortiment'!AX71&'Avtalat sortiment'!BE71,\"\")","v":"39M"},{"$f":"IF('Avtalat sortiment'!BI71<>\"\",'Avtalat sortiment'!BH71&'Avtalat sortiment'!BO71,\"\")","v":""}]
["Skyddsoverall/korttidsoverall, laminat",1,null,null,null,null,null,null,null,null,null,null,null,null,null,null,null,null,null,null,null,null,null,null,null,null,null,null,null,null,null,null,null,null,null,null,null,null,null,null,null,null,null,null,null,null,null,null,null,null,null,null,null,null,null,null,null,null,null,null,null,null,null,null,null,null,null,null,null,null,null,null,null,null,null,null,null,{"$f":"IF('Avtalat sortiment'!K72<>\"\",'Avtalat sortiment'!$A72&'Avtalat sortiment'!Q72,\"\")","v":"28S"},{"$f":"IF('Avtalat sortiment'!U72<>\"\",'Avtalat sortiment'!T72&'Avtalat sortiment'!AA72,\"\")","v":"26XS"},{"$f":"IF('Avtalat sortiment'!AE72<>\"\",'Avtalat sortiment'!AD72&'Avtalat sortiment'!AK72,\"\")","v":"46"},{"$f":"IF('Avtalat sortiment'!AO72<>\"\",'Avtalat sortiment'!AN72&'Avtalat sortiment'!AU72,\"\")","v":"40M"},{"$f":"IF('Avtalat sortiment'!AY72<>\"\",'Avtalat sortiment'!AX72&'Avtalat sortiment'!BE72,\"\")","v":"39L"},{"$f":"IF('Avtalat sortiment'!BI72<>\"\",'Avtalat sortiment'!BH72&'Avtalat sortiment'!BO72,\"\")","v":""}]
["Skyddsoverall/korttidsoverall, polyten",1,null,null,null,null,null,null,null,null,null,null,null,null,null,null,null,null,null,null,null,null,null,null,null,null,null,null,null,null,null,null,null,null,null,null,null,null,null,null,null,null,null,null,null,null,null,null,null,null,null,null,null,null,null,null,null,null,null,null,null,null,null,null,null,null,null,null,null,null,null,null,null,null,null,null,null,{"$f":"IF('Avtalat sortiment'!K73<>\"\",'Avtalat sortiment'!$A73&'Avtalat sortiment'!Q73,\"\")","v":"28M"},{"$f":"IF('Avtalat sortiment'!U73<>\"\",'Avtalat sortiment'!T73&'Avtalat sortiment'!AA73,\"\")","v":"26S"},{"$f":"IF('Avtalat sortiment'!AE73<>\"\",'Avtalat sortiment'!AD73&'Avtalat sortiment'!AK73,\"\")","v":"47"},{"$f":"IF('Avtalat sortiment'!AO73<>\"\",'Avtalat sortiment'!AN73&'Avtalat sortiment'!AU73,\"\")","v":"40L"},{"$f":"IF('Avtalat sortiment'!AY73<>\"\",'Avtalat sortiment'!AX73&'Avtalat sortiment'!BE73,\"\")","v":"4042-46"},{"$f":"IF('Avtalat sortiment'!BI73<>\"\",'Avtalat sortiment'!BH73&'Avtalat sortiment'!BO73,\"\")","v":""}]
["Ärmskydd med resår",100,null,null,null,null,null,null,null,null,null,null,null,null,null,null,null,null,null,null,null,null,null,null,null,null,null,null,null,null,null,null,null,null,null,null,null,null,null,null,null,null,null,null,null,null,null,null,null,null,null,null,null,null,null,null,null,null,null,null,null,null,null,null,null,null,null,null,null,null,null,null,null,null,null,null,null,{"$f":"IF('Avtalat sortiment'!K74<>\"\",'Avtalat sortiment'!$A74&'Avtalat sortiment'!Q74,\"\")","v":"28L"},{"$f":"IF('Avtalat sortiment'!U74<>\"\",'Avtalat sortiment'!T74&'Avtalat sortiment'!AA74,\"\")","v":"26M"},{"$f":"IF('Avtalat sortiment'!AE74<>\"\",'Avtalat sortiment'!AD74&'Avtalat sortiment'!AK74,\"\")","v":"48"},{"$f":"IF('Avtalat sortiment'!AO74<>\"\",'Avtalat sortiment'!AN74&'Avtalat sortiment'!AU74,\"\")","v":"4142-46"},{"$f":"IF('Avtalat sortiment'!AY74<>\"\",'Avtalat sortiment'!AX74&'Avtalat sortiment'!BE74,\"\")","v":"41"},{"$f":"IF('Avtalat sortiment'!BI74<>\"\",'Avtalat sortiment'!BH74&'Avtalat sortiment'!BO74,\"\")","v":""}]
["Varmfodrad, vattentät",1,null,null,null,null,null,null,null,null,null,null,null,null,null,null,null,null,null,null,null,null,null,null,null,null,null,null,null,null,null,null,null,null,null,null,null,null,null,null,null,null,null,null,null,null,null,null,null,null,null,null,null,null,null,null,null,null,null,null,null,null,null,null,null,null,null,null,null,null,null,null,null,null,null,null,null,{"$f":"IF('Avtalat sortiment'!K75<>\"\",'Avtalat sortiment'!$A75&'Avtalat sortiment'!Q75,\"\")","v":"28XL"},{"$f":"IF('Avtalat sortiment'!U75<>\"\",'Avtalat sortiment'!T75&'Avtalat sortiment'!AA75,\"\")","v":"26L"},{"$f":"IF('Avtalat sortiment'!AE75<>\"\",'Avtalat sortiment'!AD75&'Avtalat sortiment'!AK75,\"\")","v":""},{"$f":"IF('Avtalat sortiment'!AO75<>\"\",'Avtalat sortiment'!AN75&'Avtalat sortiment'!AU75,\"\")","v":"42S"},{"$f":"IF('Avtalat sortiment'!AY75<>\"\",'Avtalat sortiment'!AX75&'Avtalat sortiment'!BE75,\"\")","v":"42"},{"$f":"IF('Avtalat sortiment'!BI75<>\"\",'Avtalat sortiment'!BH75&'Avtalat sortiment'!BO75,\"\")","v":""}]
["Ofodrad",1,null,null,null,null,null,null,null,null,null,null,null,null,null,null,null,null,null,null,null,null,null,null,null,null,null,null,null,null,null,null,null,null,null,null,null,null,null,null,null,null,null,null,null,null,null,null,null,null,null,null,null,null,null,null,null,null,null,null,null,null,null,null,null,null,null,null,null,null,null,null,null,null,null,null,null,{"$f":"IF('Avtalat sortiment'!K76<>\"\",'Avtalat sortiment'!$A76&'Avtalat sortiment'!Q76,\"\")","v":"29XS"},{"$f":"IF('Avtalat sortiment'!U76<>\"\",'Avtalat sortiment'!T76&'Avtalat sortiment'!AA76,\"\")","v":""},{"$f":"IF('Avtalat sortiment'!AE76<>\"\",'Avtalat sortiment'!AD76&'Avtalat sortiment'!AK76,\"\")","v":""},{"$f":"IF('Avtalat sortiment'!AO76<>\"\",'Avtalat sortiment'!AN76&'Avtalat sortiment'!AU76,\"\")","v":"42M"},{"$f":"IF('Avtalat sortiment'!AY76<>\"\",'Avtalat sortiment'!AX76&'Avtalat sortiment'!BE76,\"\")","v":""},{"$f":"IF('Avtalat sortiment'!BI76<>\"\",'Avtalat sortiment'!BH76&'Avtalat sortiment'!BO76,\"\")","v":""}]
["Isydd tumme",1,null,null,null,null,null,null,null,null,null,null,null,null,null,null,null,null,null,null,null,null,null,null,null,null,null,null,null,null,null,null,null,null,null,null,null,null,null,null,null,null,null,null,null,null,null,null,null,null,null,null,null,null,null,null,null,null,null,null,null,null,null,null,null,null,null,null,null,null,null,null,null,null,null,null,null,{"$f":"IF('Avtalat sortiment'!K77<>\"\",'Avtalat sortiment'!$A77&'Avtalat sortiment'!Q77,\"\")","v":"29S"},{"$f":"IF('Avtalat sortiment'!U77<>\"\",'Avtalat sortiment'!T77&'Avtalat sortiment'!AA77,\"\")","v":"27S"},{"$f":"IF('Avtalat sortiment'!AE77<>\"\",'Avtalat sortiment'!AD77&'Avtalat sortiment'!AK77,\"\")","v":""},{"$f":"IF('Avtalat sortiment'!AO77<>\"\",'Avtalat sortiment'!AN77&'Avtalat sortiment'!AU77,\"\")","v":"42L"},{"$f":"IF('Avtalat sortiment'!AY77<>\"\",'Avtalat sortiment'!AX77&'Avtalat sortiment'!BE77,\"\")","v":"44"},{"$f":"IF('Avtalat sortiment'!BI77<>\"\",'Avtalat sortiment'!BH77&'Avtalat sortiment'!BO77,\"\")","v":""}]
["Rullad krage",100,null,null,null,null,null,null,null,null,null,null,null,null,null,null,null,null,null,null,null,null,null,null,null,null,null,null,null,null,null,null,null,null,null,null,null,null,null,null,null,null,null,null,null,null,null,null,null,null,null,null,null,null,null,null,null,null,null,null,null,null,null,null,null,null,null,null,null,null,null,null,null,null,null,null,null,{"$f":"IF('Avtalat sortiment'!K78<>\"\",'Avtalat sortiment'!$A78&'Avtalat sortiment'!Q78,\"\")","v":"29M"},{"$f":"IF('Avtalat sortiment'!U78<>\"\",'Avtalat sortiment'!T78&'Avtalat sortiment'!AA78,\"\")","v":"27M"},{"$f":"IF('Avtalat sortiment'!AE78<>\"\",'Avtalat sortiment'!AD78&'Avtalat sortiment'!AK78,\"\")","v":""},{"$f":"IF('Avtalat sortiment'!AO78<>\"\",'Avtalat sortiment'!AN78&'Avtalat sortiment'!AU78,\"\")","v":"43"},{"$f":"IF('Avtalat sortiment'!AY78<>\"\",'Avtalat sortiment'!AX78&'Avtalat sortiment'!BE78,\"\")","v":"45"},{"$f":"IF('Avtalat sortiment'!BI78<>\"\",'Avtalat sortiment'!BH78&'Avtalat sortiment'!BO78,\"\")","v":""}]
["Texturerade fingertoppar, 24 cm",200,null,null,null,null,null,null,null,null,null,null,null,null,null,null,null,null,null,null,null,null,null,null,null,null,null,null,null,null,null,null,null,null,null,null,null,null,null,null,null,null,null,null,null,null,null,null,null,null,null,null,null,null,null,null,null,null,null,null,null,null,null,null,null,null,null,null,null,null,null,null,null,null,null,null,null,{"$f":"IF('Avtalat sortiment'!K79<>\"\",'Avtalat sortiment'!$A79&'Avtalat sortiment'!Q79,\"\")","v":""},{"$f":"IF('Avtalat sortiment'!U79<>\"\",'Avtalat sortiment'!T79&'Avtalat sortiment'!AA79,\"\")","v":"27L"},{"$f":"IF('Avtalat sortiment'!AE79<>\"\",'Avtalat sortiment'!AD79&'Avtalat sortiment'!AK79,\"\")","v":""},{"$f":"IF('Avtalat sortiment'!AO79<>\"\",'Avtalat sortiment'!AN79&'Avtalat sortiment'!AU79,\"\")","v":"44"},{"$f":"IF('Avtalat sortiment'!AY79<>\"\",'Avtalat sortiment'!AX79&'Avtalat sortiment'!BE79,\"\")","v":"46"},{"$f":"IF('Avtalat sortiment'!BI79<>\"\",'Avtalat sortiment'!BH79&'Avtalat sortiment'!BO79,\"\")","v":""}]
["Oflossad kemskyddshandske",12,null,null,null,null,null,null,null,null,null,null,null,null,null,null,null,null,null,null,null,null,null,null,null,null,null,null,null,null,null,null,null,null,null,null,null,null,null,null,null,null,null,null,null,null,null,null,null,null,null,null,null,null,null,null,null,null,null,null,null,null,null,null,null,null,null,null,null,null,null,null,null,null,null,null,null,{"$f":"IF('Avtalat sortiment'!K80<>\"\",'Avtalat sortiment'!$A80&'Avtalat sortiment'!Q80,\"\")","v":"29XL"},{"$f":"IF('Avtalat sortiment'!U80<>\"\",'Avtalat sortiment'!T80&'Avtalat sortiment'!AA80,\"\")","v":"27XL"},{"$f":"IF('Avtalat sortiment'!AE80<>\"\",'Avtalat sortiment'!AD80&'Avtalat sortiment'!AK80,\"\")","v":""},{"$f":"IF('Avtalat sortiment'!AO80<>\"\",'Avtalat sortiment'!AN80&'Avtalat sortiment'!AU80,\"\")","v":"45"},{"$f":"IF('Avtalat sortiment'!AY80<>\"\",'Avtalat sortiment'!AX80&'Avtalat sortiment'!BE80,\"\")","v":"47"},{"$f":"IF('Avtalat sortiment'!BI80<>\"\",'Avtalat sortiment'!BH80&'Avtalat sortiment'!BO80,\"\")","v":""}]
["Kraftig, 24 cm",150,null,null,null,null,null,null,null,null,null,null,null,null,null,null,null,null,null,null,null,null,null,null,null,null,null,null,null,null,null,null,null,null,null,null,null,null,null,null,null,null,null,null,null,null,null,null,null,null,null,null,null,null,null,null,null,null,null,null,null,null,null,null,null,null,null,null,null,null,null,null,null,null,null,null,null,{"$f":"IF('Avtalat sortiment'!K81<>\"\",'Avtalat sortiment'!$A81&'Avtalat sortiment'!Q81,\"\")","v":"31"},{"$f":"IF('Avtalat sortiment'!U81<>\"\",'Avtalat sortiment'!T81&'Avtalat sortiment'!AA81,\"\")","v":"28S"},{"$f":"IF('Avtalat sortiment'!AE81<>\"\",'Avtalat sortiment'!AD81&'Avtalat sortiment'!AK81,\"\")","v":""},{"$f":"IF('Avtalat sortiment'!AO81<>\"\",'Avtalat sortiment'!AN81&'Avtalat sortiment'!AU81,\"\")","v":"46"},{"$f":"IF('Avtalat sortiment'!AY81<>\"\",'Avtalat sortiment'!AX81&'Avtalat sortiment'!BE81,\"\")","v":""},{"$f":"IF('Avtalat sortiment'!BI81<>\"\",'Avtalat sortiment'!BH81&'Avtalat sortiment'!BO81,\"\")","v":""}]
["Texturerade fingertoppar, 29-30 cm",100,null,null,null,null,null,null,null,null,null,null,null,null,null,null,null,null,null,null,null,null,null,null,null,null,null,null,null,null,null,null,null,null,null,null,null,null,null,null,null,null,null,null,null,null,null,null,null,null,null,null,null,null,null,null,null,null,null,null,null,null,null,null,null,null,null,null,null,null,null,null,null,null,null,null,null,{"$f":"IF('Avtalat sortiment'!K82<>\"\",'Avtalat sortiment'!$A82&'Avtalat sortiment'!Q82,\"\")","v":"32"},{"$f":"IF('Avtalat sortiment'!U82<>\"\",'Avtalat sortiment'!T82&'Avtalat sortiment'!AA82,\"\")","v":"28M"},{"$f":"IF('Avtalat sortiment'!AE82<>\"\",'Avtalat sortiment'!AD82&'Avtalat sortiment'!AK82,\"\")","v":""},{"$f":"IF('Avtalat sortiment'!AO82<>\"\",'Avtalat sortiment'!AN82&'Avtalat sortiment'!AU82,\"\")","v":"47"},{"$f":"IF('Avtalat sortiment'!AY82<>\"\",'Avtalat sortiment'!AX82&'Avtalat sortiment'!BE82,\"\")","v":""},{"$f":"IF('Avtalat sortiment'!BI82<>\"\",'Avtalat sortiment'!BH82&'Avtalat sortiment'!BO82,\"\")","v":""}]
["Undersökningshandske, rullad kant, 24 cm",100,null,null,null,null,null,null,null,null,null,null,null,null,null,null,null,null,null,null,null,null,null,null,null,null,null,null,null,null,null,null,null,null,null,null,null,null,null,null,null,null,null,null,null,null,null,null,null,null,null,null,null,null,null,null,null,null,null,null,null,null,null,null,null,null,null,null,null,null,null,null,null,null,null,null,null,{"$f":"IF('Avtalat sortiment'!K83<>\"\",'Avtalat sortiment'!$A83&'Avtalat sortiment'!Q83,\"\")","v":"33"},{"$f":"IF('Avtalat sortiment'!U83<>\"\",'Avtalat sortiment'!T83&'Avtalat sortiment'!AA83,\"\")","v":"28L"},{"$f":"IF('Avtalat sortiment'!AE83<>\"\",'Avtalat sortiment'!AD83&'Avtalat sortiment'!AK83,\"\")","v":""},{"$f":"IF('Avtalat sortiment'!AO83<>\"\",'Avtalat sortiment'!AN83&'Avtalat sortiment'!AU83,\"\")","v":"48"},{"$f":"IF('Avtalat sortiment'!AY83<>\"\",'Avtalat sortiment'!AX83&'Avtalat sortiment'!BE83,\"\")","v":""},{"$f":"IF('Avtalat sortiment'!BI83<>\"\",'Avtalat sortiment'!BH83&'Avtalat sortiment'!BO83,\"\")","v":""}]
["24 cm",100,null,null,null,null,null,null,null,null,null,null,null,null,null,null,null,null,null,null,null,null,null,null,null,null,null,null,null,null,null,null,null,null,null,null,null,null,null,null,null,null,null,null,null,null,null,null,null,null,null,null,null,null,null,null,null,null,null,null,null,null,null,null,null,null,null,null,null,null,null,null,null,null,null,null,null,{"$f":"IF('Avtalat sortiment'!K84<>\"\",'Avtalat sortiment'!$A84&'Avtalat sortiment'!Q84,\"\")","v":"34"},{"$f":"IF('Avtalat sortiment'!U84<>\"\",'Avtalat sortiment'!T84&'Avtalat sortiment'!AA84,\"\")","v":"28XL"},{"$f":"IF('Avtalat sortiment'!AE84<>\"\",'Avtalat sortiment'!AD84&'Avtalat sortiment'!AK84,\"\")","v":""},{"$f":"IF('Avtalat sortiment'!AO84<>\"\",'Avtalat sortiment'!AN84&'Avtalat sortiment'!AU84,\"\")","v":""},{"$f":"IF('Avtalat sortiment'!AY84<>\"\",'Avtalat sortiment'!AX84&'Avtalat sortiment'!BE84,\"\")","v":""},{"$f":"IF('Avtalat sortiment'!BI84<>\"\",'Avtalat sortiment'!BH84&'Avtalat sortiment'!BO84,\"\")","v":""}]
["Rullad kant, glatt insida, 24 cm",100,null,null,null,null,null,null,null,null,null,null,null,null,null,null,null,null,null,null,null,null,null,null,null,null,null,null,null,null,null,null,null,null,null,null,null,null,null,null,null,null,null,null,null,null,null,null,null,null,null,null,null,null,null,null,null,null,null,null,null,null,null,null,null,null,null,null,null,null,null,null,null,null,null,null,null,{"$f":"IF('Avtalat sortiment'!K85<>\"\",'Avtalat sortiment'!$A85&'Avtalat sortiment'!Q85,\"\")","v":"35"},{"$f":"IF('Avtalat sortiment'!U85<>\"\",'Avtalat sortiment'!T85&'Avtalat sortiment'!AA85,\"\")","v":""},{"$f":"IF('Avtalat sortiment'!AE85<>\"\",'Avtalat sortiment'!AD85&'Avtalat sortiment'!AK85,\"\")","v":""},{"$f":"IF('Avtalat sortiment'!AO85<>\"\",'Avtalat sortiment'!AN85&'Avtalat sortiment'!AU85,\"\")","v":""},{"$f":"IF('Avtalat sortiment'!AY85<>\"\",'Avtalat sortiment'!AX85&'Avtalat sortiment'!BE85,\"\")","v":""},{"$f":"IF('Avtalat sortiment'!BI85<>\"\",'Avtalat sortiment'!BH85&'Avtalat sortiment'!BO85,\"\")","v":""}]
["Position 30 har utgått!",null,null,null,null,null,null,null,null,null,null,null,null,null,null,null,null,null,null,null,null,null,null,null,null,null,null,null,null,null,null,null,null,null,null,null,null,null,null,null,null,null,null,null,null,null,null,null,null,null,null,null,null,null,null,null,null,null,null,null,null,null,null,null,null,null,null,null,null,null,null,null,null,null,null,null,null,{"$f":"IF('Avtalat sortiment'!K86<>\"\",'Avtalat sortiment'!$A86&'Avtalat sortiment'!Q86,\"\")","v":"36"},{"$f":"IF('Avtalat sortiment'!U86<>\"\",'Avtalat sortiment'!T86&'Avtalat sortiment'!AA86,\"\")","v":"29S"},{"$f":"IF('Avtalat sortiment'!AE86<>\"\",'Avtalat sortiment'!AD86&'Avtalat sortiment'!AK86,\"\")","v":""},{"$f":"IF('Avtalat sortiment'!AO86<>\"\",'Avtalat sortiment'!AN86&'Avtalat sortiment'!AU86,\"\")","v":""},{"$f":"IF('Avtalat sortiment'!AY86<>\"\",'Avtalat sortiment'!AX86&'Avtalat sortiment'!BE86,\"\")","v":""},{"$f":"IF('Avtalat sortiment'!BI86<>\"\",'Avtalat sortiment'!BH86&'Avtalat sortiment'!BO86,\"\")","v":""}]
["PU-skum konformad, SNR 28 till minst 36 dB. ",250,null,null,null,null,null,null,null,null,null,null,null,null,null,null,null,null,null,null,null,null,null,null,null,null,null,null,null,null,null,null,null,null,null,null,null,null,null,null,null,null,null,null,null,null,null,null,null,null,null,null,null,null,null,null,null,null,null,null,null,null,null,null,null,null,null,null,null,null,null,null,null,null,null,null,null,{"$f":"IF('Avtalat sortiment'!K87<>\"\",'Avtalat sortiment'!$A87&'Avtalat sortiment'!Q87,\"\")","v":"37"},{"$f":"IF('Avtalat sortiment'!U87<>\"\",'Avtalat sortiment'!T87&'Avtalat sortiment'!AA87,\"\")","v":"29M"},{"$f":"IF('Avtalat sortiment'!AE87<>\"\",'Avtalat sortiment'!AD87&'Avtalat sortiment'!AK87,\"\")","v":""},{"$f":"IF('Avtalat sortiment'!AO87<>\"\",'Avtalat sortiment'!AN87&'Avtalat sortiment'!AU87,\"\")","v":""},{"$f":"IF('Avtalat sortiment'!AY87<>\"\",'Avtalat sortiment'!AX87&'Avtalat sortiment'!BE87,\"\")","v":""},{"$f":"IF('Avtalat sortiment'!BI87<>\"\",'Avtalat sortiment'!BH87&'Avtalat sortiment'!BO87,\"\")","v":""}]
["PU-skum, konformad, SNR 36 till minst 37 dB.",250,null,null,null,null,null,null,null,null,null,null,null,null,null,null,null,null,null,null,null,null,null,null,null,null,null,null,null,null,null,null,null,null,null,null,null,null,null,null,null,null,null,null,null,null,null,null,null,null,null,null,null,null,null,null,null,null,null,null,null,null,null,null,null,null,null,null,null,null,null,null,null,null,null,null,null,{"$f":"IF('Avtalat sortiment'!K88<>\"\",'Avtalat sortiment'!$A88&'Avtalat sortiment'!Q88,\"\")","v":"38"},{"$f":"IF('Avtalat sortiment'!U88<>\"\",'Avtalat sortiment'!T88&'Avtalat sortiment'!AA88,\"\")","v":"29L"},{"$f":"IF('Avtalat sortiment'!AE88<>\"\",'Avtalat sortiment'!AD88&'Avtalat sortiment'!AK88,\"\")","v":""},{"$f":"IF('Avtalat sortiment'!AO88<>\"\",'Avtalat sortiment'!AN88&'Avtalat sortiment'!AU88,\"\")","v":""},{"$f":"IF('Avtalat sortiment'!AY88<>\"\",'Avtalat sortiment'!AX88&'Avtalat sortiment'!BE88,\"\")","v":""},{"$f":"IF('Avtalat sortiment'!BI88<>\"\",'Avtalat sortiment'!BH88&'Avtalat sortiment'!BO88,\"\")","v":""}]
["PU-skum cylinderform, minst SNR 28 dB.",250,null,null,null,null,null,null,null,null,null,null,null,null,null,null,null,null,null,null,null,null,null,null,null,null,null,null,null,null,null,null,null,null,null,null,null,null,null,null,null,null,null,null,null,null,null,null,null,null,null,null,null,null,null,null,null,null,null,null,null,null,null,null,null,null,null,null,null,null,null,null,null,null,null,null,null,{"$f":"IF('Avtalat sortiment'!K89<>\"\",'Avtalat sortiment'!$A89&'Avtalat sortiment'!Q89,\"\")","v":"39XS"},{"$f":"IF('Avtalat sortiment'!U89<>\"\",'Avtalat sortiment'!T89&'Avtalat sortiment'!AA89,\"\")","v":"29XL"},{"$f":"IF('Avtalat sortiment'!AE89<>\"\",'Avtalat sortiment'!AD89&'Avtalat sortiment'!AK89,\"\")","v":""},{"$f":"IF('Avtalat sortiment'!AO89<>\"\",'Avtalat sortiment'!AN89&'Avtalat sortiment'!AU89,\"\")","v":""},{"$f":"IF('Avtalat sortiment'!AY89<>\"\",'Avtalat sortiment'!AX89&'Avtalat sortiment'!BE89,\"\")","v":""},{"$f":"IF('Avtalat sortiment'!BI89<>\"\",'Avtalat sortiment'!BH89&'Avtalat sortiment'!BO89,\"\")","v":""}]
["Rundad",1,null,null,null,null,null,null,null,null,null,null,null,null,null,null,null,null,null,null,null,null,null,null,null,null,null,null,null,null,null,null,null,null,null,null,null,null,null,null,null,null,null,null,null,null,null,null,null,null,null,null,null,null,null,null,null,null,null,null,null,null,null,null,null,null,null,null,null,null,null,null,null,null,null,null,null,{"$f":"IF('Avtalat sortiment'!K90<>\"\",'Avtalat sortiment'!$A90&'Avtalat sortiment'!Q90,\"\")","v":"39S"},{"$f":"IF('Avtalat sortiment'!U90<>\"\",'Avtalat sortiment'!T90&'Avtalat sortiment'!AA90,\"\")","v":"31"},{"$f":"IF('Avtalat sortiment'!AE90<>\"\",'Avtalat sortiment'!AD90&'Avtalat sortiment'!AK90,\"\")","v":""},{"$f":"IF('Avtalat sortiment'!AO90<>\"\",'Avtalat sortiment'!AN90&'Avtalat sortiment'!AU90,\"\")","v":""},{"$f":"IF('Avtalat sortiment'!AY90<>\"\",'Avtalat sortiment'!AX90&'Avtalat sortiment'!BE90,\"\")","v":""},{"$f":"IF('Avtalat sortiment'!BI90<>\"\",'Avtalat sortiment'!BH90&'Avtalat sortiment'!BO90,\"\")","v":""}]
["Integrerad skalm och båge, imfria",1,null,null,null,null,null,null,null,null,null,null,null,null,null,null,null,null,null,null,null,null,null,null,null,null,null,null,null,null,null,null,null,null,null,null,null,null,null,null,null,null,null,null,null,null,null,null,null,null,null,null,null,null,null,null,null,null,null,null,null,null,null,null,null,null,null,null,null,null,null,null,null,null,null,null,null,{"$f":"IF('Avtalat sortiment'!K91<>\"\",'Avtalat sortiment'!$A91&'Avtalat sortiment'!Q91,\"\")","v":"39M"},{"$f":"IF('Avtalat sortiment'!U91<>\"\",'Avtalat sortiment'!T91&'Avtalat sortiment'!AA91,\"\")","v":"32"},{"$f":"IF('Avtalat sortiment'!AE91<>\"\",'Avtalat sortiment'!AD91&'Avtalat sortiment'!AK91,\"\")","v":""},{"$f":"IF('Avtalat sortiment'!AO91<>\"\",'Avtalat sortiment'!AN91&'Avtalat sortiment'!AU91,\"\")","v":""},{"$f":"IF('Avtalat sortiment'!AY91<>\"\",'Avtalat sortiment'!AX91&'Avtalat sortiment'!BE91,\"\")","v":""},{"$f":"IF('Avtalat sortiment'!BI91<>\"\",'Avtalat sortiment'!BH91&'Avtalat sortiment'!BO91,\"\")","v":""}]
["Justerbara, infällbara skalmar, imfria",1,null,null,null,null,null,null,null,null,null,null,null,null,null,null,null,null,null,null,null,null,null,null,null,null,null,null,null,null,null,null,null,null,null,null,null,null,null,null,null,null,null,null,null,null,null,null,null,null,null,null,null,null,null,null,null,null,null,null,null,null,null,null,null,null,null,null,null,null,null,null,null,null,null,null,null,{"$f":"IF('Avtalat sortiment'!K92<>\"\",'Avtalat sortiment'!$A92&'Avtalat sortiment'!Q92,\"\")","v":"39L"},{"$f":"IF('Avtalat sortiment'!U92<>\"\",'Avtalat sortiment'!T92&'Avtalat sortiment'!AA92,\"\")","v":"33"},{"$f":"IF('Avtalat sortiment'!AE92<>\"\",'Avtalat sortiment'!AD92&'Avtalat sortiment'!AK92,\"\")","v":""},{"$f":"IF('Avtalat sortiment'!AO92<>\"\",'Avtalat sortiment'!AN92&'Avtalat sortiment'!AU92,\"\")","v":""},{"$f":"IF('Avtalat sortiment'!AY92<>\"\",'Avtalat sortiment'!AX92&'Avtalat sortiment'!BE92,\"\")","v":""},{"$f":"IF('Avtalat sortiment'!BI92<>\"\",'Avtalat sortiment'!BH92&'Avtalat sortiment'!BO92,\"\")","v":""}]
["PC-visir",1,null,null,null,null,null,null,null,null,null,null,null,null,null,null,null,null,null,null,null,null,null,null,null,null,null,null,null,null,null,null,null,null,null,null,null,null,null,null,null,null,null,null,null,null,null,null,null,null,null,null,null,null,null,null,null,null,null,null,null,null,null,null,null,null,null,null,null,null,null,null,null,null,null,null,null,{"$f":"IF('Avtalat sortiment'!K93<>\"\",'Avtalat sortiment'!$A93&'Avtalat sortiment'!Q93,\"\")","v":"39XL"},{"$f":"IF('Avtalat sortiment'!U93<>\"\",'Avtalat sortiment'!T93&'Avtalat sortiment'!AA93,\"\")","v":"34"},{"$f":"IF('Avtalat sortiment'!AE93<>\"\",'Avtalat sortiment'!AD93&'Avtalat sortiment'!AK93,\"\")","v":""},{"$f":"IF('Avtalat sortiment'!AO93<>\"\",'Avtalat sortiment'!AN93&'Avtalat sortiment'!AU93,\"\")","v":""},{"$f":"IF('Avtalat sortiment'!AY93<>\"\",'Avtalat sortiment'!AX93&'Avtalat sortiment'!BE93,\"\")","v":""},{"$f":"IF('Avtalat sortiment'!BI93<>\"\",'Avtalat sortiment'!BH93&'Avtalat sortiment'!BO93,\"\")","v":""}]
["Klar PET-material",1,null,null,null,null,null,null,null,null,null,null,null,null,null,null,null,null,null,null,null,null,null,null,null,null,null,null,null,null,null,null,null,null,null,null,null,null,null,null,null,null,null,null,null,null,null,null,null,null,null,null,null,null,null,null,null,null,null,null,null,null,null,null,null,null,null,null,null,null,null,null,null,null,null,null,null,{"$f":"IF('Avtalat sortiment'!K94<>\"\",'Avtalat sortiment'!$A94&'Avtalat sortiment'!Q94,\"\")","v":"40L"},{"$f":"IF('Avtalat sortiment'!U94<>\"\",'Avtalat sortiment'!T94&'Avtalat sortiment'!AA94,\"\")","v":"35"},{"$f":"IF('Avtalat sortiment'!AE94<>\"\",'Avtalat sortiment'!AD94&'Avtalat sortiment'!AK94,\"\")","v":""},{"$f":"IF('Avtalat sortiment'!AO94<>\"\",'Avtalat sortiment'!AN94&'Avtalat sortiment'!AU94,\"\")","v":""},{"$f":"IF('Avtalat sortiment'!AY94<>\"\",'Avtalat sortiment'!AX94&'Avtalat sortiment'!BE94,\"\")","v":""},{"$f":"IF('Avtalat sortiment'!BI94<>\"\",'Avtalat sortiment'!BH94&'Avtalat sortiment'!BO94,\"\")","v":""}]
["PE (behandlad polyeten)",110,null,null,null,null,null,null,null,null,null,null,null,null,null,null,null,null,null,null,null,null,null,null,null,null,null,null,null,null,null,null,null,null,null,null,null,null,null,null,null,null,null,null,null,null,null,null,null,null,null,null,null,null,null,null,null,null,null,null,null,null,null,null,null,null,null,null,null,null,null,null,null,null,null,null,null,{"$f":"IF('Avtalat sortiment'!K95<>\"\",'Avtalat sortiment'!$A95&'Avtalat sortiment'!Q95,\"\")","v":"4139"},{"$f":"IF('Avtalat sortiment'!U95<>\"\",'Avtalat sortiment'!T95&'Avtalat sortiment'!AA95,\"\")","v":"36"},{"$f":"IF('Avtalat sortiment'!AE95<>\"\",'Avtalat sortiment'!AD95&'Avtalat sortiment'!AK95,\"\")","v":""},{"$f":"IF('Avtalat sortiment'!AO95<>\"\",'Avtalat sortiment'!AN95&'Avtalat sortiment'!AU95,\"\")","v":""},{"$f":"IF('Avtalat sortiment'!AY95<>\"\",'Avtalat sortiment'!AX95&'Avtalat sortiment'!BE95,\"\")","v":""},{"$f":"IF('Avtalat sortiment'!BI95<>\"\",'Avtalat sortiment'!BH95&'Avtalat sortiment'!BO95,\"\")","v":""}]
["PE (behandlad polyeten), återvunnet material",100,null,null,null,null,null,null,null,null,null,null,null,null,null,null,null,null,null,null,null,null,null,null,null,null,null,null,null,null,null,null,null,null,null,null,null,null,null,null,null,null,null,null,null,null,null,null,null,null,null,null,null,null,null,null,null,null,null,null,null,null,null,null,null,null,null,null,null,null,null,null,null,null,null,null,null,{"$f":"IF('Avtalat sortiment'!K96<>\"\",'Avtalat sortiment'!$A96&'Avtalat sortiment'!Q96,\"\")","v":"4140"},{"$f":"IF('Avtalat sortiment'!U96<>\"\",'Avtalat sortiment'!T96&'Avtalat sortiment'!AA96,\"\")","v":"37"},{"$f":"IF('Avtalat sortiment'!AE96<>\"\",'Avtalat sortiment'!AD96&'Avtalat sortiment'!AK96,\"\")","v":""},{"$f":"IF('Avtalat sortiment'!AO96<>\"\",'Avtalat sortiment'!AN96&'Avtalat sortiment'!AU96,\"\")","v":""},{"$f":"IF('Avtalat sortiment'!AY96<>\"\",'Avtalat sortiment'!AX96&'Avtalat sortiment'!BE96,\"\")","v":""},{"$f":"IF('Avtalat sortiment'!BI96<>\"\",'Avtalat sortiment'!BH96&'Avtalat sortiment'!BO96,\"\")","v":""}]
["Stövelskydd",60,null,null,null,null,null,null,null,null,null,null,null,null,null,null,null,null,null,null,null,null,null,null,null,null,null,null,null,null,null,null,null,null,null,null,null,null,null,null,null,null,null,null,null,null,null,null,null,null,null,null,null,null,null,null,null,null,null,null,null,null,null,null,null,null,null,null,null,null,null,null,null,null,null,null,null,{"$f":"IF('Avtalat sortiment'!K97<>\"\",'Avtalat sortiment'!$A97&'Avtalat sortiment'!Q97,\"\")","v":"4141"},{"$f":"IF('Avtalat sortiment'!U97<>\"\",'Avtalat sortiment'!T97&'Avtalat sortiment'!AA97,\"\")","v":"38"},{"$f":"IF('Avtalat sortiment'!AE97<>\"\",'Avtalat sortiment'!AD97&'Avtalat sortiment'!AK97,\"\")","v":""},{"$f":"IF('Avtalat sortiment'!AO97<>\"\",'Avtalat sortiment'!AN97&'Avtalat sortiment'!AU97,\"\")","v":""},{"$f":"IF('Avtalat sortiment'!AY97<>\"\",'Avtalat sortiment'!AX97&'Avtalat sortiment'!BE97,\"\")","v":""},{"$f":"IF('Avtalat sortiment'!BI97<>\"\",'Avtalat sortiment'!BH97&'Avtalat sortiment'!BO97,\"\")","v":""}]
["Operationsmössa",200,null,null,null,null,null,null,null,null,null,null,null,null,null,null,null,null,null,null,null,null,null,null,null,null,null,null,null,null,null,null,null,null,null,null,null,null,null,null,null,null,null,null,null,null,null,null,null,null,null,null,null,null,null,null,null,null,null,null,null,null,null,null,null,null,null,null,null,null,null,null,null,null,null,null,null,{"$f":"IF('Avtalat sortiment'!K98<>\"\",'Avtalat sortiment'!$A98&'Avtalat sortiment'!Q98,\"\")","v":"4142-46"},{"$f":"IF('Avtalat sortiment'!U98<>\"\",'Avtalat sortiment'!T98&'Avtalat sortiment'!AA98,\"\")","v":"39M"},{"$f":"IF('Avtalat sortiment'!AE98<>\"\",'Avtalat sortiment'!AD98&'Avtalat sortiment'!AK98,\"\")","v":""},{"$f":"IF('Avtalat sortiment'!AO98<>\"\",'Avtalat sortiment'!AN98&'Avtalat sortiment'!AU98,\"\")","v":""},{"$f":"IF('Avtalat sortiment'!AY98<>\"\",'Avtalat sortiment'!AX98&'Avtalat sortiment'!BE98,\"\")","v":""},{"$f":"IF('Avtalat sortiment'!BI98<>\"\",'Avtalat sortiment'!BH98&'Avtalat sortiment'!BO98,\"\")","v":""}]
["Hårnät",200,null,null,null,null,null,null,null,null,null,null,null,null,null,null,null,null,null,null,null,null,null,null,null,null,null,null,null,null,null,null,null,null,null,null,null,null,null,null,null,null,null,null,null,null,null,null,null,null,null,null,null,null,null,null,null,null,null,null,null,null,null,null,null,null,null,null,null,null,null,null,null,null,null,null,null,{"$f":"IF('Avtalat sortiment'!K99<>\"\",'Avtalat sortiment'!$A99&'Avtalat sortiment'!Q99,\"\")","v":"4142-46"},{"$f":"IF('Avtalat sortiment'!U99<>\"\",'Avtalat sortiment'!T99&'Avtalat sortiment'!AA99,\"\")","v":"40M"},{"$f":"IF('Avtalat sortiment'!AE99<>\"\",'Avtalat sortiment'!AD99&'Avtalat sortiment'!AK99,\"\")","v":""},{"$f":"IF('Avtalat sortiment'!AO99<>\"\",'Avtalat sortiment'!AN99&'Avtalat sortiment'!AU99,\"\")","v":""},{"$f":"IF('Avtalat sortiment'!AY99<>\"\",'Avtalat sortiment'!AX99&'Avtalat sortiment'!BE99,\"\")","v":""},{"$f":"IF('Avtalat sortiment'!BI99<>\"\",'Avtalat sortiment'!BH99&'Avtalat sortiment'!BO99,\"\")","v":""}]
["Med pump, 600 ml",1,null,null,null,null,null,null,null,null,null,null,null,null,null,null,null,null,null,null,null,null,null,null,null,null,null,null,null,null,null,null,null,null,null,null,null,null,null,null,null,null,null,null,null,null,null,null,null,null,null,null,null,null,null,null,null,null,null,null,null,null,null,null,null,null,null,null,null,null,null,null,null,null,null,null,null,{"$f":"IF('Avtalat sortiment'!K100<>\"\",'Avtalat sortiment'!$A100&'Avtalat sortiment'!Q100,\"\")","v":"4142-46"},{"$f":"IF('Avtalat sortiment'!U100<>\"\",'Avtalat sortiment'!T100&'Avtalat sortiment'!AA100,\"\")","v":"4142-46"},{"$f":"IF('Avtalat sortiment'!AE100<>\"\",'Avtalat sortiment'!AD100&'Avtalat sortiment'!AK100,\"\")","v":""},{"$f":"IF('Avtalat sortiment'!AO100<>\"\",'Avtalat sortiment'!AN100&'Avtalat sortiment'!AU100,\"\")","v":""},{"$f":"IF('Avtalat sortiment'!AY100<>\"\",'Avtalat sortiment'!AX100&'Avtalat sortiment'!BE100,\"\")","v":""},{"$f":"IF('Avtalat sortiment'!BI100<>\"\",'Avtalat sortiment'!BH100&'Avtalat sortiment'!BO100,\"\")","v":""}]
["1 liter",1,null,null,null,null,null,null,null,null,null,null,null,null,null,null,null,null,null,null,null,null,null,null,null,null,null,null,null,null,null,null,null,null,null,null,null,null,null,null,null,null,null,null,null,null,null,null,null,null,null,null,null,null,null,null,null,null,null,null,null,null,null,null,null,null,null,null,null,null,null,null,null,null,null,null,null,{"$f":"IF('Avtalat sortiment'!K101<>\"\",'Avtalat sortiment'!$A101&'Avtalat sortiment'!Q101,\"\")","v":"4142-46"},{"$f":"IF('Avtalat sortiment'!U101<>\"\",'Avtalat sortiment'!T101&'Avtalat sortiment'!AA101,\"\")","v":"42M"},{"$f":"IF('Avtalat sortiment'!AE101<>\"\",'Avtalat sortiment'!AD101&'Avtalat sortiment'!AK101,\"\")","v":""},{"$f":"IF('Avtalat sortiment'!AO101<>\"\",'Avtalat sortiment'!AN101&'Avtalat sortiment'!AU101,\"\")","v":""},{"$f":"IF('Avtalat sortiment'!AY101<>\"\",'Avtalat sortiment'!AX101&'Avtalat sortiment'!BE101,\"\")","v":""},{"$f":"IF('Avtalat sortiment'!BI101<>\"\",'Avtalat sortiment'!BH101&'Avtalat sortiment'!BO101,\"\")","v":""}]
["1 liter, etanol baserad",1,null,null,null,null,null,null,null,null,null,null,null,null,null,null,null,null,null,null,null,null,null,null,null,null,null,null,null,null,null,null,null,null,null,null,null,null,null,null,null,null,null,null,null,null,null,null,null,null,null,null,null,null,null,null,null,null,null,null,null,null,null,null,null,null,null,null,null,null,null,null,null,null,null,null,null,{"$f":"IF('Avtalat sortiment'!K102<>\"\",'Avtalat sortiment'!$A102&'Avtalat sortiment'!Q102,\"\")","v":"4142-46"},{"$f":"IF('Avtalat sortiment'!U102<>\"\",'Avtalat sortiment'!T102&'Avtalat sortiment'!AA102,\"\")","v":"43"},{"$f":"IF('Avtalat sortiment'!AE102<>\"\",'Avtalat sortiment'!AD102&'Avtalat sortiment'!AK102,\"\")","v":""},{"$f":"IF('Avtalat sortiment'!AO102<>\"\",'Avtalat sortiment'!AN102&'Avtalat sortiment'!AU102,\"\")","v":""},{"$f":"IF('Avtalat sortiment'!AY102<>\"\",'Avtalat sortiment'!AX102&'Avtalat sortiment'!BE102,\"\")","v":""},{"$f":"IF('Avtalat sortiment'!BI102<>\"\",'Avtalat sortiment'!BH102&'Avtalat sortiment'!BO102,\"\")","v":""}]
["1 liter, 45 volymprocent alkohol",1,null,null,null,null,null,null,null,null,null,null,null,null,null,null,null,null,null,null,null,null,null,null,null,null,null,null,null,null,null,null,null,null,null,null,null,null,null,null,null,null,null,null,null,null,null,null,null,null,null,null,null,null,null,null,null,null,null,null,null,null,null,null,null,null,null,null,null,null,null,null,null,null,null,null,null,{"$f":"IF('Avtalat sortiment'!K103<>\"\",'Avtalat sortiment'!$A103&'Avtalat sortiment'!Q103,\"\")","v":"4142-46"},{"$f":"IF('Avtalat sortiment'!U103<>\"\",'Avtalat sortiment'!T103&'Avtalat sortiment'!AA103,\"\")","v":"44"},{"$f":"IF('Avtalat sortiment'!AE103<>\"\",'Avtalat sortiment'!AD103&'Avtalat sortiment'!AK103,\"\")","v":""},{"$f":"IF('Avtalat sortiment'!AO103<>\"\",'Avtalat sortiment'!AN103&'Avtalat sortiment'!AU103,\"\")","v":""},{"$f":"IF('Avtalat sortiment'!AY103<>\"\",'Avtalat sortiment'!AX103&'Avtalat sortiment'!BE103,\"\")","v":""},{"$f":"IF('Avtalat sortiment'!BI103<>\"\",'Avtalat sortiment'!BH103&'Avtalat sortiment'!BO103,\"\")","v":""}]
["5 liter, 45 volymprocent alkohol",1,null,null,null,null,null,null,null,null,null,null,null,null,null,null,null,null,null,null,null,null,null,null,null,null,null,null,null,null,null,null,null,null,null,null,null,null,null,null,null,null,null,null,null,null,null,null,null,null,null,null,null,null,null,null,null,null,null,null,null,null,null,null,null,null,null,null,null,null,null,null,null,null,null,null,null,{"$f":"IF('Avtalat sortiment'!K104<>\"\",'Avtalat sortiment'!$A104&'Avtalat sortiment'!Q104,\"\")","v":"42M"},{"$f":"IF('Avtalat sortiment'!U104<>\"\",'Avtalat sortiment'!T104&'Avtalat sortiment'!AA104,\"\")","v":"45"},{"$f":"IF('Avtalat sortiment'!AE104<>\"\",'Avtalat sortiment'!AD104&'Avtalat sortiment'!AK104,\"\")","v":""},{"$f":"IF('Avtalat sortiment'!AO104<>\"\",'Avtalat sortiment'!AN104&'Avtalat sortiment'!AU104,\"\")","v":""},{"$f":"IF('Avtalat sortiment'!AY104<>\"\",'Avtalat sortiment'!AX104&'Avtalat sortiment'!BE104,\"\")","v":""},{"$f":"IF('Avtalat sortiment'!BI104<>\"\",'Avtalat sortiment'!BH104&'Avtalat sortiment'!BO104,\"\")","v":""}]
[null,null,null,null,null,null,null,null,null,null,null,null,null,null,null,null,null,null,null,null,null,null,null,null,null,null,null,null,null,null,null,null,null,null,null,null,null,null,null,null,null,null,null,null,null,null,null,null,null,null,null,null,null,null,null,null,null,null,null,null,null,null,null,null,null,null,null,null,null,null,null,null,null,null,null,null,null,{"$f":"IF('Avtalat sortiment'!K105<>\"\",'Avtalat sortiment'!$A105&'Avtalat sortiment'!Q105,\"\")","v":"43"},{"$f":"IF('Avtalat sortiment'!U105<>\"\",'Avtalat sortiment'!T105&'Avtalat sortiment'!AA105,\"\")","v":"46"},{"$f":"IF('Avtalat sortiment'!AE105<>\"\",'Avtalat sortiment'!AD105&'Avtalat sortiment'!AK105,\"\")","v":""},{"$f":"IF('Avtalat sortiment'!AO105<>\"\",'Avtalat sortiment'!AN105&'Avtalat sortiment'!AU105,\"\")","v":""},{"$f":"IF('Avtalat sortiment'!AY105<>\"\",'Avtalat sortiment'!AX105&'Avtalat sortiment'!BE105,\"\")","v":""},{"$f":"IF('Avtalat sortiment'!BI105<>\"\",'Avtalat sortiment'!BH105&'Avtalat sortiment'!BO105,\"\")","v":""}]
[null,null,null,null,null,null,null,null,null,null,null,null,null,null,null,null,null,null,null,null,null,null,null,null,null,null,null,null,null,null,null,null,null,null,null,null,null,null,null,null,null,null,null,null,null,null,null,null,null,null,null,null,null,null,null,null,null,null,null,null,null,null,null,null,null,null,null,null,null,null,null,null,null,null,null,null,null,{"$f":"IF('Avtalat sortiment'!K106<>\"\",'Avtalat sortiment'!$A106&'Avtalat sortiment'!Q106,\"\")","v":"44"},{"$f":"IF('Avtalat sortiment'!U106<>\"\",'Avtalat sortiment'!T106&'Avtalat sortiment'!AA106,\"\")","v":"47"},{"$f":"IF('Avtalat sortiment'!AE106<>\"\",'Avtalat sortiment'!AD106&'Avtalat sortiment'!AK106,\"\")","v":""},{"$f":"IF('Avtalat sortiment'!AO106<>\"\",'Avtalat sortiment'!AN106&'Avtalat sortiment'!AU106,\"\")","v":""},{"$f":"IF('Avtalat sortiment'!AY106<>\"\",'Avtalat sortiment'!AX106&'Avtalat sortiment'!BE106,\"\")","v":""},{"$f":"IF('Avtalat sortiment'!BI106<>\"\",'Avtalat sortiment'!BH106&'Avtalat sortiment'!BO106,\"\")","v":""}]
[null,null,null,null,null,null,null,null,null,null,null,null,null,null,null,null,null,null,null,null,null,null,null,null,null,null,null,null,null,null,null,null,null,null,null,null,null,null,null,null,null,null,null,null,null,null,null,null,null,null,null,null,null,null,null,null,null,null,null,null,null,null,null,null,null,null,null,null,null,null,null,null,null,null,null,null,null,{"$f":"IF('Avtalat sortiment'!K107<>\"\",'Avtalat sortiment'!$A107&'Avtalat sortiment'!Q107,\"\")","v":"45"},{"$f":"IF('Avtalat sortiment'!U107<>\"\",'Avtalat sortiment'!T107&'Avtalat sortiment'!AA107,\"\")","v":"48"},{"$f":"IF('Avtalat sortiment'!AE107<>\"\",'Avtalat sortiment'!AD107&'Avtalat sortiment'!AK107,\"\")","v":""},{"$f":"IF('Avtalat sortiment'!AO107<>\"\",'Avtalat sortiment'!AN107&'Avtalat sortiment'!AU107,\"\")","v":""},{"$f":"IF('Avtalat sortiment'!AY107<>\"\",'Avtalat sortiment'!AX107&'Avtalat sortiment'!BE107,\"\")","v":""},{"$f":"IF('Avtalat sortiment'!BI107<>\"\",'Avtalat sortiment'!BH107&'Avtalat sortiment'!BO107,\"\")","v":""}]
[null,null,null,null,null,null,null,null,null,null,null,{"$f":"'Avtalat sortiment'!K1","v":"Voky AB"},null,null,null,null,null,null,null,null,null,null,{"$f":"'Avtalat sortiment'!T1","v":"Procurator Sverige AB"},null,null,null,null,null,null,null,null,null,null,{"$f":"'Avtalat sortiment'!AD1","v":"Office Depot Svenska AB"},null,null,null,null,null,null,null,null,null,null,{"$f":"'Avtalat sortiment'!AN1","v":"Mediq Sverige AB"},null,null,null,null,null,null,null,null,null,null,{"$f":"'Avtalat sortiment'!AX1","v":"Lyreco Advantage Sweden AB"},null,null,null,null,null,null,null,null,null,null,{"$f":"'Avtalat sortiment'!BH1","v":"OneMed Sverige AB"},null,null,null,null,null,null,null,null,null,null,{"$f":"IF('Avtalat sortiment'!K108<>\"\",'Avtalat sortiment'!$A108&'Avtalat sortiment'!Q108,\"\")","v":"46"},{"$f":"IF('Avtalat sortiment'!U108<>\"\",'Avtalat sortiment'!T108&'Avtalat sortiment'!AA108,\"\")","v":"45"},{"$f":"IF('Avtalat sortiment'!AE108<>\"\",'Avtalat sortiment'!AD108&'Avtalat sortiment'!AK108,\"\")","v":""},{"$f":"IF('Avtalat sortiment'!AO108<>\"\",'Avtalat sortiment'!AN108&'Avtalat sortiment'!AU108,\"\")","v":""},{"$f":"IF('Avtalat sortiment'!AY108<>\"\",'Avtalat sortiment'!AX108&'Avtalat sortiment'!BE108,\"\")","v":""},{"$f":"IF('Avtalat sortiment'!BI108<>\"\",'Avtalat sortiment'!BH108&'Avtalat sortiment'!BO108,\"\")","v":""}]
[null,null,null,null,null,null,null,null,null,"Enhet","Varans position","Offererat pris per enhet","Leveranstid (Arbetsdagar)","Antal enheter i offererad vara","Ramavtalsleverantörens artikelnummer","Ramavtalsleverantörens länk till offererad vara","Ramavtalsleverantörens artikelbenämning","Varans storlek","Eventuell övrig information","Totalpris","Leveransstatus",null,"Offererat pris per enhet","Leveranstid (Arbetsdagar)","Antal enheter i offererad vara","Ramavtalsleverantörens artikelnummer","Ramavtalsleverantörens länk till offererad vara","Ramavtalsleverantörens artikelbenämning","Varans storlek","Eventuell övrig information","Totalpris","Leveransstatus",null,"Offererat pris per enhet","Leveranstid (Arbetsdagar)","Antal enheter i offererad vara","Ramavtalsleverantörens artikelnummer","Ramavtalsleverantörens länk till offererad vara","Ramavtalsleverantörens artikelbenämning","Varans storlek","Eventuell övrig information","Totalpris","Leveransstatus",null,"Offererat pris per enhet","Leveranstid (Arbetsdagar)","Antal enheter i offererad vara","Ramavtalsleverantörens artikelnummer","Ramavtalsleverantörens länk till offererad vara","Ramavtalsleverantörens artikelbenämning","Varans storlek","Eventuell övrig information","Totalpris","Leveransstatus",null,"Offererat pris per enhet","Leveranstid (Arbetsdagar)","Antal enheter i offererad vara","Ramavtalsleverantörens artikelnummer","Ramavtalsleverantörens länk till offererad vara","Ramavtalsleverantörens artikelbenämning","Varans storlek","Eventuell övrig information","Totalpris","Leveransstatus",null,"Offererat pris per enhet","Leveranstid (Arbetsdagar)","Antal enheter i offererad vara","Ramavtalsleverantörens artikelnummer","Ramavtalsleverantörens länk till offererad vara","Ramavtalsleverantörens artikelbenämning","Varans storlek","Eventuell övrig information","Totalpris","Leveransstatus",null,{"$f":"IF('Avtalat sortiment'!K109<>\"\",'Avtalat sortiment'!$A109&'Avtalat sortiment'!Q109,\"\")","v":"47"},{"$f":"IF('Avtalat sortiment'!U109<>\"\",'Avtalat sortiment'!T109&'Avtalat sortiment'!AA109,\"\")","v":"46"},{"$f":"IF('Avtalat sortiment'!AE109<>\"\",'Avtalat sortiment'!AD109&'Avtalat sortiment'!AK109,\"\")","v":""},{"$f":"IF('Avtalat sortiment'!AO109<>\"\",'Avtalat sortiment'!AN109&'Avtalat sortiment'!AU109,\"\")","v":""},{"$f":"IF('Avtalat sortiment'!AY109<>\"\",'Avtalat sortiment'!AX109&'Avtalat sortiment'!BE109,\"\")","v":""},{"$f":"IF('Avtalat sortiment'!BI109<>\"\",'Avtalat sortiment'!BH109&'Avtalat sortiment'!BO109,\"\")","v":""}]
[null,null,null,null,null,null,null,null,null,{"$f":"IF(Uträkningsmall!$A13=Funktioner!$B$1,IF(Funktioner!$B$3=\"\",\"\",Funktioner!$B$3),IF(Uträkningsmall!$A13=Funktioner!$C$1,IF(Funktioner!$C$3=\"\",\"\",Funktioner!$C$3),IF(Uträkningsmall!$A13=Funktioner!$D$1,IF(Funktioner!$D$3=\"\",\"\",Funktioner!$D$3),IF(Uträkningsmall!$A13=Funktioner!$E$1,IF(Funktioner!$E$3=\"\",\"\",Funktioner!$E$3),IF(Uträkningsmall!$A13=Funktioner!$F$1,IF(Funktioner!$F$3=\"\",\"\",Funktioner!$F$3),IF(Uträkningsmall!$A13=Funktioner!$G$1,IF(Funktioner!$G$3=\"\",\"\",Funktioner!$G$3),IF(Uträkningsmall!$A13=Funktioner!$H$1,IF(Funktioner!$H$3=\"\",\"\",Funktioner!$H$3),IF(Uträkningsmall!$A13=Funktioner!$I$1,IF(Funktioner!$I$3=\"\",\"\",Funktioner!$I$3),IF(Uträkningsmall!$A13=Funktioner!$J$1,IF(Funktioner!$J$3=\"\",\"\",Funktioner!$J$3),IF(Uträkningsmall!$A13=Funktioner!$K$1,IF(Funktioner!$K$3=\"\",\"\",Funktioner!$K$3),IF(Uträkningsmall!$A13=Funktioner!$L$1,IF(Funktioner!$L$3=\"\",\"\",Funktioner!$L$3),IF(Uträkningsmall!$A13=Funktioner!$M$1,IF(Funktioner!$M$3=\"\",\"\",Funktioner!$M$3),IF(Uträkningsmall!$A13=Funktioner!$N$1,IF(Funktioner!$N$3=\"\",\"\",Funktioner!$N$3),IF(Uträkningsmall!$A13=Funktioner!$O$1,IF(Funktioner!$O$3=\"\",\"\",Funktioner!$O$3),IF(Uträkningsmall!$A13=Funktioner!$P$1,IF(Funktioner!$P$3=\"\",\"\",Funktioner!$P$3),IF(Uträkningsmall!$A13=Funktioner!$Q$1,IF(Funktioner!$Q$3=\"\",\"\",Funktioner!$Q$3),IF(Uträkningsmall!$A13=Funktioner!$R$1,IF(Funktioner!$R$3=\"\",\"\",Funktioner!$R$3),IF(Uträkningsmall!$A13=Funktioner!$S$1,IF(Funktioner!$S$3=\"\",\"\",Funktioner!$S$3),IF(Uträkningsmall!$A13=Funktioner!$T$1,IF(Funktioner!$T$3=\"\",\"\",Funktioner!$T$3),IF(Uträkningsmall!$A13=Funktioner!$U$1,IF(Funktioner!$U$3=\"\",\"\",Funktioner!$U$3),IF(Uträkningsmall!$A13=Funktioner!$V$1,IF(Funktioner!$V$3=\"\",\"\",Funktioner!$V$3),IF(Uträkningsmall!$A13=Funktioner!$W$1,IF(Funktioner!$W$3=\"\",\"\",Funktioner!$W$3),IF(Uträkningsmall!$A13=Funktioner!$X$1,IF(Funktioner!$X$3=\"\",\"\",Funktioner!$X$3),IF(Uträkningsmall!$A13=Funktioner!$Y$1,IF(Funktioner!$Y$3=\"\",\"\",Funktioner!$Y$3),IF(Uträkningsmall!$A13=Funktioner!$Z$1,IF(Funktioner!$Z$3=\"\",\"\",Funktioner!$Z$3),IF(Uträkningsmall!$A13=Funktioner!$AA$1,IF(Funktioner!$AA$3=\"\",\"\",Funktioner!$AA$3),IF(Uträkningsmall!$A13=Funktioner!$AB$1,IF(Funktioner!$AB$3=\"\",\"\",Funktioner!$AB$3),IF(Uträkningsmall!$A13=Funktioner!$AC$1,IF(Funktioner!$AC$3=\"\",\"\",Funktioner!$AC$3),IF(Uträkningsmall!$A13=Funktioner!$AD$1,IF(Funktioner!$AD$3=\"\",\"\",Funktioner!$AD$3),IF(Uträkningsmall!$A13=Funktioner!$AE$1,IF(Funktioner!$AE$3=\"\",\"\",Funktioner!$AE$3),IF(Uträkningsmall!$A13=Funktioner!$AF$1,IF(Funktioner!$AF$3=\"\",\"\",Funktioner!$AF$3),IF(Uträkningsmall!$A13=Funktioner!$AG$1,IF(Funktioner!$AG$3=\"\",\"\",Funktioner!$AG$3),IF(Uträkningsmall!$A13=Funktioner!$AH$1,IF(Funktioner!$AH$3=\"\",\"\",Funktioner!$AH$3),IF(Uträkningsmall!$A13=Funktioner!$AI$1,IF(Funktioner!$AI$3=\"\",\"\",Funktioner!$AI$3),IF(Uträkningsmall!$A13=Funktioner!$AJ$1,IF(Funktioner!$AJ$3=\"\",\"\",Funktioner!$AJ$3),IF(Uträkningsmall!$A13=Funktioner!$AK$1,IF(Funktioner!$AK$3=\"\",\"\",Funktioner!$AK$3),IF(Uträkningsmall!$A13=Funktioner!$AL$1,IF(Funktioner!$AL$3=\"\",\"\",Funktioner!$AL$3),IF(Uträkningsmall!$A13=Funktioner!$AM$1,IF(Funktioner!$AM$3=\"\",\"\",Funktioner!$AM$3),IF(Uträkningsmall!$A13=Funktioner!$AN$1,IF(Funktioner!$AN$3=\"\",\"\",Funktioner!$AN$3),IF(Uträkningsmall!$A13=Funktioner!$AO$1,IF(Funktioner!$AO$3=\"\",\"\",Funktioner!$AO$3),IF(Uträkningsmall!$A13=Funktioner!$AP$1,IF(Funktioner!$AP$3=\"\",\"\",Funktioner!$AP$3),IF(Uträkningsmall!$A13=Funktioner!$AQ$1,IF(Funktioner!$AQ$3=\"\",\"\",Funktioner!$AQ$3),IF(Uträkningsmall!$A13=Funktioner!$AR$1,IF(Funktioner!$AR$3=\"\",\"\",Funktioner!$AR$3),IF(Uträkningsmall!$A13=Funktioner!$AS$1,IF(Funktioner!$AS$3=\"\",\"\",Funktioner!$AS$3),IF(Uträkningsmall!$A13=Funktioner!$AT$1,IF(Funktioner!$AT$3=\"\",\"\",Funktioner!$AT$3),IF(Uträkningsmall!$A13=Funktioner!$AU$1,IF(Funktioner!$AU$3=\"\",\"\",Funktioner!$AU$3),IF(Uträkningsmall!$A13=Funktioner!$AV$1,IF(Funktioner!$AV$3=\"\",\"\",Funktioner!$AV$3),\"\")))))))))))))))))))))))))))))))))))))))))))))))","v":""},{"$f":"Uträkningsmall!$A13&Uträkningsmall!$F13","v":""},{"$f":"IFERROR(INDEX('Avtalat sortiment'!$K$3:$R$279,MATCH($K110,Funktioner!$BZ$3:$BZ$280,0),MATCH(L$109,'Avtalat sortiment'!$K$2:$R$2,0)),\"\")","v":0},{"$f":"IFERROR(INDEX('Avtalat sortiment'!$K$3:$R$279,MATCH($K110,Funktioner!$BZ$3:$BZ$280,0),MATCH(M$109,'Avtalat sortiment'!$K$2:$R$2,0)),\"\")","v":0},{"$f":"IFERROR(INDEX('Avtalat sortiment'!$K$3:$R$279,MATCH($K110,Funktioner!$BZ$3:$BZ$280,0),MATCH(N$109,'Avtalat sortiment'!$K$2:$R$2,0)),\"\")","v":0},{"$f":"IFERROR(INDEX('Avtalat sortiment'!$K$3:$R$279,MATCH($K110,Funktioner!$BZ$3:$BZ$280,0),MATCH(O$109,'Avtalat sortiment'!$K$2:$R$2,0)),\"\")","v":0},{"$f":"IFERROR(INDEX('Avtalat sortiment'!$K$3:$R$279,MATCH($K110,Funktioner!$BZ$3:$BZ$280,0),MATCH(P$109,'Avtalat sortiment'!$K$2:$R$2,0)),\"\")","v":0},{"$f":"IFERROR(INDEX('Avtalat sortiment'!$K$3:$R$279,MATCH($K110,Funktioner!$BZ$3:$BZ$280,0),MATCH(Q$109,'Avtalat sortiment'!$K$2:$R$2,0)),\"\")","v":0},{"$f":"IFERROR(INDEX('Avtalat sortiment'!$K$3:$R$279,MATCH($K110,Funktioner!$BZ$3:$BZ$280,0),MATCH(R$109,'Avtalat sortiment'!$K$2:$R$2,0)),\"\")","v":0},{"$f":"IFERROR(INDEX('Avtalat sortiment'!$K$3:$R$279,MATCH($K110,Funktioner!$BZ$3:$BZ$280,0),MATCH(S$109,'Avtalat sortiment'!$K$2:$R$2,0)),\"\")","v":0},{"$f":"IF(Uträkningsmall!$G13=\"\",\"\",IF(U110=\"Kan ej leverera\",240000000,IF(ISNUMBER(L110),L110*Uträkningsmall!$G13,\"\")))","v":""},{"$f":"IF($K110=\"\",\"\",IF(OR(M110=\"\",M110=0),\"Kan ej leverera\",\"\"))","v":""},null,{"$f":"IFERROR(INDEX('Avtalat sortiment'!$U$3:$AB$279,MATCH($K110,Funktioner!$CA$3:$CA$280,0),MATCH(W$109,'Avtalat sortiment'!$U$2:$AB$2,0)),\"\")","v":0},{"$f":"IFERROR(INDEX('Avtalat sortiment'!$U$3:$AB$279,MATCH($K110,Funktioner!$CA$3:$CA$280,0),MATCH(X$109,'Avtalat sortiment'!$U$2:$AB$2,0)),\"\")","v":0},{"$f":"IFERROR(INDEX('Avtalat sortiment'!$U$3:$AB$279,MATCH($K110,Funktioner!$CA$3:$CA$280,0),MATCH(Y$109,'Avtalat sortiment'!$U$2:$AB$2,0)),\"\")","v":0},{"$f":"IFERROR(INDEX('Avtalat sortiment'!$U$3:$AB$279,MATCH($K110,Funktioner!$CA$3:$CA$280,0),MATCH(Z$109,'Avtalat sortiment'!$U$2:$AB$2,0)),\"\")","v":0},{"$f":"IFERROR(INDEX('Avtalat sortiment'!$U$3:$AB$279,MATCH($K110,Funktioner!$CA$3:$CA$280,0),MATCH(AA$109,'Avtalat sortiment'!$U$2:$AB$2,0)),\"\")","v":"https://www.procurator.com/svSE/c/Montagehandskar/Montagehandske-konstl%C3%A4der-Worksafe-A100?c=23_02_01&p=U-AR98&a=2052135"},{"$f":"IFERROR(INDEX('Avtalat sortiment'!$U$3:$AB$279,MATCH($K110,Funktioner!$CA$3:$CA$280,0),MATCH(AB$109,'Avtalat sortiment'!$U$2:$AB$2,0)),\"\")","v":"Montagehandske Worksafe A100 "},{"$f":"IFERROR(INDEX('Avtalat sortiment'!$U$3:$AB$279,MATCH($K110,Funktioner!$CA$3:$CA$280,0),MATCH(AC$109,'Avtalat sortiment'!$U$2:$AB$2,0)),\"\")","v":7},{"$f":"IFERROR(INDEX('Avtalat sortiment'!$K$3:$R$279,MATCH($K110,Funktioner!$BZ$3:$BZ$280,0),MATCH(AD$109,'Avtalat sortiment'!$K$2:$R$2,0)),\"\")","v":0},{"$f":"IF(Uträkningsmall!$G13=\"\",\"\",IF(AF110=\"Kan ej leverera\",240000000,IF(ISNUMBER(W110),W110*Uträkningsmall!$G13,\"\")))","v":""},{"$f":"IF($K110=\"\",\"\",IF(OR(X110=\"\",X110=0),\"Kan ej leverera\",\"\"))","v":""},null,{"$f":"IFERROR(INDEX('Avtalat sortiment'!$AE$3:$AL$279,MATCH($K110,Funktioner!$CB$3:$CB$280,0),MATCH(AH$109,'Avtalat sortiment'!$AE$2:$AL$2,0)),\"\")","v":0},{"$f":"IFERROR(INDEX('Avtalat sortiment'!$AE$3:$AL$279,MATCH($K110,Funktioner!$CB$3:$CB$280,0),MATCH(AI$109,'Avtalat sortiment'!$AE$2:$AL$2,0)),\"\")","v":0},{"$f":"IFERROR(INDEX('Avtalat sortiment'!$AE$3:$AL$279,MATCH($K110,Funktioner!$CB$3:$CB$280,0),MATCH(AJ$109,'Avtalat sortiment'!$AE$2:$AL$2,0)),\"\")","v":""},{"$f":"IFERROR(INDEX('Avtalat sortiment'!$AE$3:$AL$279,MATCH($K110,Funktioner!$CB$3:$CB$280,0),MATCH(AK$109,'Avtalat sortiment'!$AE$2:$AL$2,0)),\"\")","v":0},{"$f":"IFERROR(INDEX('Avtalat sortiment'!$AE$3:$AL$279,MATCH($K110,Funktioner!$CB$3:$CB$280,0),MATCH(AL$109,'Avtalat sortiment'!$AE$2:$AL$2,0)),\"\")","v":0},{"$f":"IFERROR(INDEX('Avtalat sortiment'!$AE$3:$AL$279,MATCH($K110,Funktioner!$CB$3:$CB$280,0),MATCH(AM$109,'Avtalat sortiment'!$AE$2:$AL$2,0)),\"\")","v":0},{"$f":"IFERROR(INDEX('Avtalat sortiment'!$AE$3:$AL$279,MATCH($K110,Funktioner!$CB$3:$CB$280,0),MATCH(AN$109,'Avtalat sortiment'!$AE$2:$AL$2,0)),\"\")","v":0},{"$f":"IFERROR(INDEX('Avtalat sortiment'!$AE$3:$AL$279,MATCH($K110,Funktioner!$CB$3:$CB$280,0),MATCH(AO$109,'Avtalat sortiment'!$AE$2:$AL$2,0)),\"\")","v":0},{"$f":"IF(Uträkningsmall!$G13=\"\",\"\",IF(AQ110=\"Kan ej leverera\",240000000,IF(ISNUMBER(AH110),AH110*Uträkningsmall!$G13,\"\")))","v":""},{"$f":"IF($K110=\"\",\"\",IF(OR(AI110=\"\",AI110=0),\"Kan ej leverera\",\"\"))","v":""},null,{"$f":"IFERROR(INDEX('Avtalat sortiment'!$AO$3:$AV$257,MATCH($K110,Funktioner!$CC$3:$CC$280,0),MATCH(AS$109,'Avtalat sortiment'!$AO$2:$AV$2,0)),\"\")","v":0},{"$f":"IFERROR(INDEX('Avtalat sortiment'!$AO$3:$AV$257,MATCH($K110,Funktioner!$CC$3:$CC$280,0),MATCH(AT$109,'Avtalat sortiment'!$AO$2:$AV$2,0)),\"\")","v":0},{"$f":"IFERROR(INDEX('Avtalat sortiment'!$AO$3:$AV$257,MATCH($K110,Funktioner!$CC$3:$CC$280,0),MATCH(AU$109,'Avtalat sortiment'!$AO$2:$AV$2,0)),\"\")","v":""},{"$f":"IFERROR(INDEX('Avtalat sortiment'!$AO$3:$AV$257,MATCH($K110,Funktioner!$CC$3:$CC$280,0),MATCH(AV$109,'Avtalat sortiment'!$AO$2:$AV$2,0)),\"\")","v":0},{"$f":"IFERROR(INDEX('Avtalat sortiment'!$AO$3:$AV$257,MATCH($K110,Funktioner!$CC$3:$CC$280,0),MATCH(AW$109,'Avtalat sortiment'!$AO$2:$AV$2,0)),\"\")","v":0},{"$f":"IFERROR(INDEX('Avtalat sortiment'!$AO$3:$AV$257,MATCH($K110,Funktioner!$CC$3:$CC$280,0),MATCH(AX$109,'Avtalat sortiment'!$AO$2:$AV$2,0)),\"\")","v":0},{"$f":"IFERROR(INDEX('Avtalat sortiment'!$AO$3:$AV$257,MATCH($K110,Funktioner!$CC$3:$CC$280,0),MATCH(AY$109,'Avtalat sortiment'!$AO$2:$AV$2,0)),\"\")","v":0},{"$f":"IFERROR(INDEX('Avtalat sortiment'!$AO$3:$AV$257,MATCH($K110,Funktioner!$CC$3:$CC$280,0),MATCH(AZ$109,'Avtalat sortiment'!$AO$2:$AV$2,0)),\"\")","v":0},{"$f":"IF(Uträkningsmall!$G13=\"\",\"\",IF(BB110=\"Kan ej leverera\",240000000,IF(ISNUMBER(AS110),AS110*Uträkningsmall!$G13,\"\")))","v":""},{"$f":"IF($K110=\"\",\"\",IF(OR(AT110=\"\",AT110=0),\"Kan ej leverera\",\"\"))","v":""},null,{"$f":"IFERROR(INDEX('Avtalat sortiment'!$AY$3:$BF$219,MATCH($K110,Funktioner!$CD$3:$CD$280,0),MATCH(BD$109,'Avtalat sortiment'!$AY$2:$BF$2,0)),\"\")","v":0},{"$f":"IFERROR(INDEX('Avtalat sortiment'!$AY$3:$BF$219,MATCH($K110,Funktioner!$CD$3:$CD$280,0),MATCH(BE$109,'Avtalat sortiment'!$AY$2:$BF$2,0)),\"\")","v":0},{"$f":"IFERROR(INDEX('Avtalat sortiment'!$AY$3:$BF$219,MATCH($K110,Funktioner!$CD$3:$CD$280,0),MATCH(BF$109,'Avtalat sortiment'!$AY$2:$BF$2,0)),\"\")","v":""},{"$f":"IFERROR(INDEX('Avtalat sortiment'!$AY$3:$BF$219,MATCH($K110,Funktioner!$CD$3:$CD$280,0),MATCH(BG$109,'Avtalat sortiment'!$AY$2:$BF$2,0)),\"\")","v":269173},{"$f":"IFERROR(INDEX('Avtalat sortiment'!$AY$3:$BF$219,MATCH($K110,Funktioner!$CD$3:$CD$280,0),MATCH(BH$109,'Avtalat sortiment'!$AY$2:$BF$2,0)),\"\")","v":"https://www.lyrecocontract.se/web/ePortal/ctrl?action=showiteminfo&itemNo=269173"},{"$f":"IFERROR(INDEX('Avtalat sortiment'!$AY$3:$BF$219,MATCH($K110,Funktioner!$CD$3:$CD$280,0),MATCH(BI$109,'Avtalat sortiment'!$AY$2:$BF$2,0)),\"\")","v":"Munskydd Typ IIR med öronband Blå 50/FP"},{"$f":"IFERROR(INDEX('Avtalat sortiment'!$AY$3:$BF$219,MATCH($K110,Funktioner!$CD$3:$CD$280,0),MATCH(BJ$109,'Avtalat sortiment'!$AY$2:$BF$2,0)),\"\")","v":0},{"$f":"IFERROR(INDEX('Avtalat sortiment'!$AY$3:$BF$219,MATCH($K110,Funktioner!$CD$3:$CD$280,0),MATCH(BK$109,'Avtalat sortiment'!$AY$2:$BF$2,0)),\"\")","v":"Inväntar återkoppling från vår leverantör, i enlighet med 6.6.2 i underlag anger vi därmed ej pris         "},{"$f":"IF(Uträkningsmall!$G13=\"\",\"\",IF(BM110=\"Kan ej leverera\",240000000,IF(ISNUMBER(BD110),BD110*Uträkningsmall!$G13,\"\")))","v":""},{"$f":"IF($K110=\"\",\"\",IF(OR(BE110=\"\",BE110=0),\"Kan ej leverera\",\"\"))","v":""},null,{"$f":"IFERROR(INDEX('Avtalat sortiment'!$BI$3:$BP$279,MATCH($K110,Funktioner!$CE$3:$CE$280,0),MATCH(BO$109,'Avtalat sortiment'!$BI$2:$BP$2,0)),\"\")","v":0},{"$f":"IFERROR(INDEX('Avtalat sortiment'!$BI$3:$BP$279,MATCH($K110,Funktioner!$CE$3:$CE$280,0),MATCH(BP$109,'Avtalat sortiment'!$BI$2:$BP$2,0)),\"\")","v":0},{"$f":"IFERROR(INDEX('Avtalat sortiment'!$BI$3:$BP$279,MATCH($K110,Funktioner!$CE$3:$CE$280,0),MATCH(BQ$109,'Avtalat sortiment'!$BI$2:$BP$2,0)),\"\")","v":0},{"$f":"IFERROR(INDEX('Avtalat sortiment'!$BI$3:$BP$279,MATCH($K110,Funktioner!$CE$3:$CE$280,0),MATCH(BR$109,'Avtalat sortiment'!$BI$2:$BP$2,0)),\"\")","v":0},{"$f":"IFERROR(INDEX('Avtalat sortiment'!$BI$3:$BP$279,MATCH($K110,Funktioner!$CE$3:$CE$280,0),MATCH(BS$109,'Avtalat sortiment'!$BI$2:$BP$2,0)),\"\")","v":0},{"$f":"IFERROR(INDEX('Avtalat sortiment'!$BI$3:$BP$279,MATCH($K110,Funktioner!$CE$3:$CE$280,0),MATCH(BT$109,'Avtalat sortiment'!$BI$2:$BP$2,0)),\"\")","v":0},{"$f":"IFERROR(INDEX('Avtalat sortiment'!$BI$3:$BP$279,MATCH($K110,Funktioner!$CE$3:$CE$280,0),MATCH(BU$109,'Avtalat sortiment'!$BI$2:$BP$2,0)),\"\")","v":0},{"$f":"IFERROR(INDEX('Avtalat sortiment'!$BI$3:$BP$279,MATCH($K110,Funktioner!$CE$3:$CE$280,0),MATCH(BV$109,'Avtalat sortiment'!$BI$2:$BP$2,0)),\"\")","v":0},{"$f":"IF(Uträkningsmall!$G13=\"\",\"\",IF(BX110=\"Kan ej leverera\",240000000,IF(ISNUMBER(BO110),BO110*Uträkningsmall!$G13,\"\")))","v":""},{"$f":"IF($K110=\"\",\"\",IF(OR(BP110=\"\",BP110=0),\"Kan ej leverera\",\"\"))","v":""},null,{"$f":"IF('Avtalat sortiment'!K110<>\"\",'Avtalat sortiment'!$A110&'Avtalat sortiment'!Q110,\"\")","v":"48"},{"$f":"IF('Avtalat sortiment'!U110<>\"\",'Avtalat sortiment'!T110&'Avtalat sortiment'!AA110,\"\")","v":"47"},{"$f":"IF('Avtalat sortiment'!AE110<>\"\",'Avtalat sortiment'!AD110&'Avtalat sortiment'!AK110,\"\")","v":""},{"$f":"IF('Avtalat sortiment'!AO110<>\"\",'Avtalat sortiment'!AN110&'Avtalat sortiment'!AU110,\"\")","v":""},{"$f":"IF('Avtalat sortiment'!AY110<>\"\",'Avtalat sortiment'!AX110&'Avtalat sortiment'!BE110,\"\")","v":""},{"$f":"IF('Avtalat sortiment'!BI110<>\"\",'Avtalat sortiment'!BH110&'Avtalat sortiment'!BO110,\"\")","v":""}]
[null,null,null,null,null,null,null,null,null,{"$f":"IF(Uträkningsmall!$A14=Funktioner!$B$1,IF(Funktioner!$B$3=\"\",\"\",Funktioner!$B$3),IF(Uträkningsmall!$A14=Funktioner!$C$1,IF(Funktioner!$C$3=\"\",\"\",Funktioner!$C$3),IF(Uträkningsmall!$A14=Funktioner!$D$1,IF(Funktioner!$D$3=\"\",\"\",Funktioner!$D$3),IF(Uträkningsmall!$A14=Funktioner!$E$1,IF(Funktioner!$E$3=\"\",\"\",Funktioner!$E$3),IF(Uträkningsmall!$A14=Funktioner!$F$1,IF(Funktioner!$F$3=\"\",\"\",Funktioner!$F$3),IF(Uträkningsmall!$A14=Funktioner!$G$1,IF(Funktioner!$G$3=\"\",\"\",Funktioner!$G$3),IF(Uträkningsmall!$A14=Funktioner!$H$1,IF(Funktioner!$H$3=\"\",\"\",Funktioner!$H$3),IF(Uträkningsmall!$A14=Funktioner!$I$1,IF(Funktioner!$I$3=\"\",\"\",Funktioner!$I$3),IF(Uträkningsmall!$A14=Funktioner!$J$1,IF(Funktioner!$J$3=\"\",\"\",Funktioner!$J$3),IF(Uträkningsmall!$A14=Funktioner!$K$1,IF(Funktioner!$K$3=\"\",\"\",Funktioner!$K$3),IF(Uträkningsmall!$A14=Funktioner!$L$1,IF(Funktioner!$L$3=\"\",\"\",Funktioner!$L$3),IF(Uträkningsmall!$A14=Funktioner!$M$1,IF(Funktioner!$M$3=\"\",\"\",Funktioner!$M$3),IF(Uträkningsmall!$A14=Funktioner!$N$1,IF(Funktioner!$N$3=\"\",\"\",Funktioner!$N$3),IF(Uträkningsmall!$A14=Funktioner!$O$1,IF(Funktioner!$O$3=\"\",\"\",Funktioner!$O$3),IF(Uträkningsmall!$A14=Funktioner!$P$1,IF(Funktioner!$P$3=\"\",\"\",Funktioner!$P$3),IF(Uträkningsmall!$A14=Funktioner!$Q$1,IF(Funktioner!$Q$3=\"\",\"\",Funktioner!$Q$3),IF(Uträkningsmall!$A14=Funktioner!$R$1,IF(Funktioner!$R$3=\"\",\"\",Funktioner!$R$3),IF(Uträkningsmall!$A14=Funktioner!$S$1,IF(Funktioner!$S$3=\"\",\"\",Funktioner!$S$3),IF(Uträkningsmall!$A14=Funktioner!$T$1,IF(Funktioner!$T$3=\"\",\"\",Funktioner!$T$3),IF(Uträkningsmall!$A14=Funktioner!$U$1,IF(Funktioner!$U$3=\"\",\"\",Funktioner!$U$3),IF(Uträkningsmall!$A14=Funktioner!$V$1,IF(Funktioner!$V$3=\"\",\"\",Funktioner!$V$3),IF(Uträkningsmall!$A14=Funktioner!$W$1,IF(Funktioner!$W$3=\"\",\"\",Funktioner!$W$3),IF(Uträkningsmall!$A14=Funktioner!$X$1,IF(Funktioner!$X$3=\"\",\"\",Funktioner!$X$3),IF(Uträkningsmall!$A14=Funktioner!$Y$1,IF(Funktioner!$Y$3=\"\",\"\",Funktioner!$Y$3),IF(Uträkningsmall!$A14=Funktioner!$Z$1,IF(Funktioner!$Z$3=\"\",\"\",Funktioner!$Z$3),IF(Uträkningsmall!$A14=Funktioner!$AA$1,IF(Funktioner!$AA$3=\"\",\"\",Funktioner!$AA$3),IF(Uträkningsmall!$A14=Funktioner!$AB$1,IF(Funktioner!$AB$3=\"\",\"\",Funktioner!$AB$3),IF(Uträkningsmall!$A14=Funktioner!$AC$1,IF(Funktioner!$AC$3=\"\",\"\",Funktioner!$AC$3),IF(Uträkningsmall!$A14=Funktioner!$AD$1,IF(Funktioner!$AD$3=\"\",\"\",Funktioner!$AD$3),IF(Uträkningsmall!$A14=Funktioner!$AE$1,IF(Funktioner!$AE$3=\"\",\"\",Funktioner!$AE$3),IF(Uträkningsmall!$A14=Funktioner!$AF$1,IF(Funktioner!$AF$3=\"\",\"\",Funktioner!$AF$3),IF(Uträkningsmall!$A14=Funktioner!$AG$1,IF(Funktioner!$AG$3=\"\",\"\",Funktioner!$AG$3),IF(Uträkningsmall!$A14=Funktioner!$AH$1,IF(Funktioner!$AH$3=\"\",\"\",Funktioner!$AH$3),IF(Uträkningsmall!$A14=Funktioner!$AI$1,IF(Funktioner!$AI$3=\"\",\"\",Funktioner!$AI$3),IF(Uträkningsmall!$A14=Funktioner!$AJ$1,IF(Funktioner!$AJ$3=\"\",\"\",Funktioner!$AJ$3),IF(Uträkningsmall!$A14=Funktioner!$AK$1,IF(Funktioner!$AK$3=\"\",\"\",Funktioner!$AK$3),IF(Uträkningsmall!$A14=Funktioner!$AL$1,IF(Funktioner!$AL$3=\"\",\"\",Funktioner!$AL$3),IF(Uträkningsmall!$A14=Funktioner!$AM$1,IF(Funktioner!$AM$3=\"\",\"\",Funktioner!$AM$3),IF(Uträkningsmall!$A14=Funktioner!$AN$1,IF(Funktioner!$AN$3=\"\",\"\",Funktioner!$AN$3),IF(Uträkningsmall!$A14=Funktioner!$AO$1,IF(Funktioner!$AO$3=\"\",\"\",Funktioner!$AO$3),IF(Uträkningsmall!$A14=Funktioner!$AP$1,IF(Funktioner!$AP$3=\"\",\"\",Funktioner!$AP$3),IF(Uträkningsmall!$A14=Funktioner!$AQ$1,IF(Funktioner!$AQ$3=\"\",\"\",Funktioner!$AQ$3),IF(Uträkningsmall!$A14=Funktioner!$AR$1,IF(Funktioner!$AR$3=\"\",\"\",Funktioner!$AR$3),IF(Uträkningsmall!$A14=Funktioner!$AS$1,IF(Funktioner!$AS$3=\"\",\"\",Funktioner!$AS$3),IF(Uträkningsmall!$A14=Funktioner!$AT$1,IF(Funktioner!$AT$3=\"\",\"\",Funktioner!$AT$3),IF(Uträkningsmall!$A14=Funktioner!$AU$1,IF(Funktioner!$AU$3=\"\",\"\",Funktioner!$AU$3),IF(Uträkningsmall!$A14=Funktioner!$AV$1,IF(Funktioner!$AV$3=\"\",\"\",Funktioner!$AV$3),\"\")))))))))))))))))))))))))))))))))))))))))))))))","v":""},{"$f":"Uträkningsmall!$A14&Uträkningsmall!$F14","v":""},{"$f":"IFERROR(INDEX('Avtalat sortiment'!$K$3:$R$279,MATCH($K111,Funktioner!$BZ$3:$BZ$280,0),MATCH(L$109,'Avtalat sortiment'!$K$2:$R$2,0)),\"\")","v":0},{"$f":"IFERROR(INDEX('Avtalat sortiment'!$K$3:$R$279,MATCH($K111,Funktioner!$BZ$3:$BZ$280,0),MATCH(M$109,'Avtalat sortiment'!$K$2:$R$2,0)),\"\")","v":0},{"$f":"IFERROR(INDEX('Avtalat sortiment'!$K$3:$R$279,MATCH($K111,Funktioner!$BZ$3:$BZ$280,0),MATCH(N$109,'Avtalat sortiment'!$K$2:$R$2,0)),\"\")","v":0},{"$f":"IFERROR(INDEX('Avtalat sortiment'!$K$3:$R$279,MATCH($K111,Funktioner!$BZ$3:$BZ$280,0),MATCH(O$109,'Avtalat sortiment'!$K$2:$R$2,0)),\"\")","v":0},{"$f":"IFERROR(INDEX('Avtalat sortiment'!$K$3:$R$279,MATCH($K111,Funktioner!$BZ$3:$BZ$280,0),MATCH(P$109,'Avtalat sortiment'!$K$2:$R$2,0)),\"\")","v":0},{"$f":"IFERROR(INDEX('Avtalat sortiment'!$K$3:$R$279,MATCH($K111,Funktioner!$BZ$3:$BZ$280,0),MATCH(Q$109,'Avtalat sortiment'!$K$2:$R$2,0)),\"\")","v":0},{"$f":"IFERROR(INDEX('Avtalat sortiment'!$K$3:$R$279,MATCH($K111,Funktioner!$BZ$3:$BZ$280,0),MATCH(R$109,'Avtalat sortiment'!$K$2:$R$2,0)),\"\")","v":0},{"$f":"IFERROR(INDEX('Avtalat sortiment'!$K$3:$R$279,MATCH($K111,Funktioner!$BZ$3:$BZ$280,0),MATCH(S$109,'Avtalat sortiment'!$K$2:$R$2,0)),\"\")","v":0},{"$f":"IF(Uträkningsmall!$G14=\"\",\"\",IF(U111=\"Kan ej leverera\",240000000,IF(ISNUMBER(L111),L111*Uträkningsmall!$G14,\"\")))","v":""},"",null,{"$f":"IFERROR(INDEX('Avtalat sortiment'!$U$3:$AB$279,MATCH($K111,Funktioner!$CA$3:$CA$280,0),MATCH(W$109,'Avtalat sortiment'!$U$2:$AB$2,0)),\"\")","v":0},{"$f":"IFERROR(INDEX('Avtalat sortiment'!$U$3:$AB$279,MATCH($K111,Funktioner!$CA$3:$CA$280,0),MATCH(X$109,'Avtalat sortiment'!$U$2:$AB$2,0)),\"\")","v":0},{"$f":"IFERROR(INDEX('Avtalat sortiment'!$U$3:$AB$279,MATCH($K111,Funktioner!$CA$3:$CA$280,0),MATCH(Y$109,'Avtalat sortiment'!$U$2:$AB$2,0)),\"\")","v":0},{"$f":"IFERROR(INDEX('Avtalat sortiment'!$U$3:$AB$279,MATCH($K111,Funktioner!$CA$3:$CA$280,0),MATCH(Z$109,'Avtalat sortiment'!$U$2:$AB$2,0)),\"\")","v":0},{"$f":"IFERROR(INDEX('Avtalat sortiment'!$U$3:$AB$279,MATCH($K111,Funktioner!$CA$3:$CA$280,0),MATCH(AA$109,'Avtalat sortiment'!$U$2:$AB$2,0)),\"\")","v":"https://www.procurator.com/svSE/c/Montagehandskar/Montagehandske-konstl%C3%A4der-Worksafe-A100?c=23_02_01&p=U-AR98&a=2052135"},{"$f":"IFERROR(INDEX('Avtalat sortiment'!$U$3:$AB$279,MATCH($K111,Funktioner!$CA$3:$CA$280,0),MATCH(AB$109,'Avtalat sortiment'!$U$2:$AB$2,0)),\"\")","v":"Montagehandske Worksafe A100 "},{"$f":"IFERROR(INDEX('Avtalat sortiment'!$U$3:$AB$279,MATCH($K111,Funktioner!$CA$3:$CA$280,0),MATCH(AC$109,'Avtalat sortiment'!$U$2:$AB$2,0)),\"\")","v":7},{"$f":"IFERROR(INDEX('Avtalat sortiment'!$K$3:$R$279,MATCH($K111,Funktioner!$BZ$3:$BZ$280,0),MATCH(AD$109,'Avtalat sortiment'!$K$2:$R$2,0)),\"\")","v":0},{"$f":"IF(Uträkningsmall!$G14=\"\",\"\",IF(AF111=\"Kan ej leverera\",240000000,IF(ISNUMBER(W111),W111*Uträkningsmall!$G14,\"\")))","v":""},"",null,{"$f":"IFERROR(INDEX('Avtalat sortiment'!$AE$3:$AL$279,MATCH($K111,Funktioner!$CB$3:$CB$280,0),MATCH(AH$109,'Avtalat sortiment'!$AE$2:$AL$2,0)),\"\")","v":0},{"$f":"IFERROR(INDEX('Avtalat sortiment'!$AE$3:$AL$279,MATCH($K111,Funktioner!$CB$3:$CB$280,0),MATCH(AI$109,'Avtalat sortiment'!$AE$2:$AL$2,0)),\"\")","v":0},{"$f":"IFERROR(INDEX('Avtalat sortiment'!$AE$3:$AL$279,MATCH($K111,Funktioner!$CB$3:$CB$280,0),MATCH(AJ$109,'Avtalat sortiment'!$AE$2:$AL$2,0)),\"\")","v":""},{"$f":"IFERROR(INDEX('Avtalat sortiment'!$AE$3:$AL$279,MATCH($K111,Funktioner!$CB$3:$CB$280,0),MATCH(AK$109,'Avtalat sortiment'!$AE$2:$AL$2,0)),\"\")","v":0},{"$f":"IFERROR(INDEX('Avtalat sortiment'!$AE$3:$AL$279,MATCH($K111,Funktioner!$CB$3:$CB$280,0),MATCH(AL$109,'Avtalat sortiment'!$AE$2:$AL$2,0)),\"\")","v":0},{"$f":"IFERROR(INDEX('Avtalat sortiment'!$AE$3:$AL$279,MATCH($K111,Funktioner!$CB$3:$CB$280,0),MATCH(AM$109,'Avtalat sortiment'!$AE$2:$AL$2,0)),\"\")","v":0},{"$f":"IFERROR(INDEX('Avtalat sortiment'!$AE$3:$AL$279,MATCH($K111,Funktioner!$CB$3:$CB$280,0),MATCH(AN$109,'Avtalat sortiment'!$AE$2:$AL$2,0)),\"\")","v":0},{"$f":"IFERROR(INDEX('Avtalat sortiment'!$AE$3:$AL$279,MATCH($K111,Funktioner!$CB$3:$CB$280,0),MATCH(AO$109,'Avtalat sortiment'!$AE$2:$AL$2,0)),\"\")","v":0},{"$f":"IF(Uträkningsmall!$G14=\"\",\"\",IF(AQ111=\"Kan ej leverera\",240000000,IF(ISNUMBER(AH111),AH111*Uträkningsmall!$G14,\"\")))","v":""},"",null,{"$f":"IFERROR(INDEX('Avtalat sortiment'!$AO$3:$AV$257,MATCH($K111,Funktioner!$CC$3:$CC$280,0),MATCH(AS$109,'Avtalat sortiment'!$AO$2:$AV$2,0)),\"\")","v":0},{"$f":"IFERROR(INDEX('Avtalat sortiment'!$AO$3:$AV$257,MATCH($K111,Funktioner!$CC$3:$CC$280,0),MATCH(AT$109,'Avtalat sortiment'!$AO$2:$AV$2,0)),\"\")","v":0},{"$f":"IFERROR(INDEX('Avtalat sortiment'!$AO$3:$AV$257,MATCH($K111,Funktioner!$CC$3:$CC$280,0),MATCH(AU$109,'Avtalat sortiment'!$AO$2:$AV$2,0)),\"\")","v":""},{"$f":"IFERROR(INDEX('Avtalat sortiment'!$AO$3:$AV$257,MATCH($K111,Funktioner!$CC$3:$CC$280,0),MATCH(AV$109,'Avtalat sortiment'!$AO$2:$AV$2,0)),\"\")","v":0},{"$f":"IFERROR(INDEX('Avtalat sortiment'!$AO$3:$AV$257,MATCH($K111,Funktioner!$CC$3:$CC$280,0),MATCH(AW$109,'Avtalat sortiment'!$AO$2:$AV$2,0)),\"\")","v":0},{"$f":"IFERROR(INDEX('Avtalat sortiment'!$AO$3:$AV$257,MATCH($K111,Funktioner!$CC$3:$CC$280,0),MATCH(AX$109,'Avtalat sortiment'!$AO$2:$AV$2,0)),\"\")","v":0},{"$f":"IFERROR(INDEX('Avtalat sortiment'!$AO$3:$AV$257,MATCH($K111,Funktioner!$CC$3:$CC$280,0),MATCH(AY$109,'Avtalat sortiment'!$AO$2:$AV$2,0)),\"\")","v":0},{"$f":"IFERROR(INDEX('Avtalat sortiment'!$AO$3:$AV$257,MATCH($K111,Funktioner!$CC$3:$CC$280,0),MATCH(AZ$109,'Avtalat sortiment'!$AO$2:$AV$2,0)),\"\")","v":0},{"$f":"IF(Uträkningsmall!$G14=\"\",\"\",IF(BB111=\"Kan ej leverera\",240000000,IF(ISNUMBER(AS111),AS111*Uträkningsmall!$G14,\"\")))","v":""},"",null,{"$f":"IFERROR(INDEX('Avtalat sortiment'!$AY$3:$BF$219,MATCH($K111,Funktioner!$CD$3:$CD$280,0),MATCH(BD$109,'Avtalat sortiment'!$AY$2:$BF$2,0)),\"\")","v":0},{"$f":"IFERROR(INDEX('Avtalat sortiment'!$AY$3:$BF$219,MATCH($K111,Funktioner!$CD$3:$CD$280,0),MATCH(BE$109,'Avtalat sortiment'!$AY$2:$BF$2,0)),\"\")","v":0},{"$f":"IFERROR(INDEX('Avtalat sortiment'!$AY$3:$BF$219,MATCH($K111,Funktioner!$CD$3:$CD$280,0),MATCH(BF$109,'Avtalat sortiment'!$AY$2:$BF$2,0)),\"\")","v":""},{"$f":"IFERROR(INDEX('Avtalat sortiment'!$AY$3:$BF$219,MATCH($K111,Funktioner!$CD$3:$CD$280,0),MATCH(BG$109,'Avtalat sortiment'!$AY$2:$BF$2,0)),\"\")","v":269173},{"$f":"IFERROR(INDEX('Avtalat sortiment'!$AY$3:$BF$219,MATCH($K111,Funktioner!$CD$3:$CD$280,0),MATCH(BH$109,'Avtalat sortiment'!$AY$2:$BF$2,0)),\"\")","v":"https://www.lyrecocontract.se/web/ePortal/ctrl?action=showiteminfo&itemNo=269173"},{"$f":"IFERROR(INDEX('Avtalat sortiment'!$AY$3:$BF$219,MATCH($K111,Funktioner!$CD$3:$CD$280,0),MATCH(BI$109,'Avtalat sortiment'!$AY$2:$BF$2,0)),\"\")","v":"Munskydd Typ IIR med öronband Blå 50/FP"},{"$f":"IFERROR(INDEX('Avtalat sortiment'!$AY$3:$BF$219,MATCH($K111,Funktioner!$CD$3:$CD$280,0),MATCH(BJ$109,'Avtalat sortiment'!$AY$2:$BF$2,0)),\"\")","v":0},{"$f":"IFERROR(INDEX('Avtalat sortiment'!$AY$3:$BF$219,MATCH($K111,Funktioner!$CD$3:$CD$280,0),MATCH(BK$109,'Avtalat sortiment'!$AY$2:$BF$2,0)),\"\")","v":"Inväntar återkoppling från vår leverantör, i enlighet med 6.6.2 i underlag anger vi därmed ej pris         "},{"$f":"IF(Uträkningsmall!$G14=\"\",\"\",IF(BM111=\"Kan ej leverera\",240000000,IF(ISNUMBER(BD111),BD111*Uträkningsmall!$G14,\"\")))","v":""},"",null,{"$f":"IFERROR(INDEX('Avtalat sortiment'!$BI$3:$BP$279,MATCH($K111,Funktioner!$CE$3:$CE$280,0),MATCH(BO$109,'Avtalat sortiment'!$BI$2:$BP$2,0)),\"\")","v":0},{"$f":"IFERROR(INDEX('Avtalat sortiment'!$BI$3:$BP$279,MATCH($K111,Funktioner!$CE$3:$CE$280,0),MATCH(BP$109,'Avtalat sortiment'!$BI$2:$BP$2,0)),\"\")","v":0},{"$f":"IFERROR(INDEX('Avtalat sortiment'!$BI$3:$BP$279,MATCH($K111,Funktioner!$CE$3:$CE$280,0),MATCH(BQ$109,'Avtalat sortiment'!$BI$2:$BP$2,0)),\"\")","v":0},{"$f":"IFERROR(INDEX('Avtalat sortiment'!$BI$3:$BP$279,MATCH($K111,Funktioner!$CE$3:$CE$280,0),MATCH(BR$109,'Avtalat sortiment'!$BI$2:$BP$2,0)),\"\")","v":0},{"$f":"IFERROR(INDEX('Avtalat sortiment'!$BI$3:$BP$279,MATCH($K111,Funktioner!$CE$3:$CE$280,0),MATCH(BS$109,'Avtalat sortiment'!$BI$2:$BP$2,0)),\"\")","v":0},{"$f":"IFERROR(INDEX('Avtalat sortiment'!$BI$3:$BP$279,MATCH($K111,Funktioner!$CE$3:$CE$280,0),MATCH(BT$109,'Avtalat sortiment'!$BI$2:$BP$2,0)),\"\")","v":0},{"$f":"IFERROR(INDEX('Avtalat sortiment'!$BI$3:$BP$279,MATCH($K111,Funktioner!$CE$3:$CE$280,0),MATCH(BU$109,'Avtalat sortiment'!$BI$2:$BP$2,0)),\"\")","v":0},{"$f":"IFERROR(INDEX('Avtalat sortiment'!$BI$3:$BP$279,MATCH($K111,Funktioner!$CE$3:$CE$280,0),MATCH(BV$109,'Avtalat sortiment'!$BI$2:$BP$2,0)),\"\")","v":0},{"$f":"IF(Uträkningsmall!$G14=\"\",\"\",IF(BX111=\"Kan ej leverera\",240000000,IF(ISNUMBER(BO111),BO111*Uträkningsmall!$G14,\"\")))","v":""},"",null,{"$f":"IF('Avtalat sortiment'!K111<>\"\",'Avtalat sortiment'!$A111&'Avtalat sortiment'!Q111,\"\")","v":""},{"$f":"IF('Avtalat sortiment'!U111<>\"\",'Avtalat sortiment'!T111&'Avtalat sortiment'!AA111,\"\")","v":"48"},{"$f":"IF('Avtalat sortiment'!AE111<>\"\",'Avtalat sortiment'!AD111&'Avtalat sortiment'!AK111,\"\")","v":""},{"$f":"IF('Avtalat sortiment'!AO111<>\"\",'Avtalat sortiment'!AN111&'Avtalat sortiment'!AU111,\"\")","v":""},{"$f":"IF('Avtalat sortiment'!AY111<>\"\",'Avtalat sortiment'!AX111&'Avtalat sortiment'!BE111,\"\")","v":""},{"$f":"IF('Avtalat sortiment'!BI111<>\"\",'Avtalat sortiment'!BH111&'Avtalat sortiment'!BO111,\"\")","v":""}]
[null,null,null,null,null,null,null,null,null,{"$f":"IF(Uträkningsmall!$A15=Funktioner!$B$1,IF(Funktioner!$B$3=\"\",\"\",Funktioner!$B$3),IF(Uträkningsmall!$A15=Funktioner!$C$1,IF(Funktioner!$C$3=\"\",\"\",Funktioner!$C$3),IF(Uträkningsmall!$A15=Funktioner!$D$1,IF(Funktioner!$D$3=\"\",\"\",Funktioner!$D$3),IF(Uträkningsmall!$A15=Funktioner!$E$1,IF(Funktioner!$E$3=\"\",\"\",Funktioner!$E$3),IF(Uträkningsmall!$A15=Funktioner!$F$1,IF(Funktioner!$F$3=\"\",\"\",Funktioner!$F$3),IF(Uträkningsmall!$A15=Funktioner!$G$1,IF(Funktioner!$G$3=\"\",\"\",Funktioner!$G$3),IF(Uträkningsmall!$A15=Funktioner!$H$1,IF(Funktioner!$H$3=\"\",\"\",Funktioner!$H$3),IF(Uträkningsmall!$A15=Funktioner!$I$1,IF(Funktioner!$I$3=\"\",\"\",Funktioner!$I$3),IF(Uträkningsmall!$A15=Funktioner!$J$1,IF(Funktioner!$J$3=\"\",\"\",Funktioner!$J$3),IF(Uträkningsmall!$A15=Funktioner!$K$1,IF(Funktioner!$K$3=\"\",\"\",Funktioner!$K$3),IF(Uträkningsmall!$A15=Funktioner!$L$1,IF(Funktioner!$L$3=\"\",\"\",Funktioner!$L$3),IF(Uträkningsmall!$A15=Funktioner!$M$1,IF(Funktioner!$M$3=\"\",\"\",Funktioner!$M$3),IF(Uträkningsmall!$A15=Funktioner!$N$1,IF(Funktioner!$N$3=\"\",\"\",Funktioner!$N$3),IF(Uträkningsmall!$A15=Funktioner!$O$1,IF(Funktioner!$O$3=\"\",\"\",Funktioner!$O$3),IF(Uträkningsmall!$A15=Funktioner!$P$1,IF(Funktioner!$P$3=\"\",\"\",Funktioner!$P$3),IF(Uträkningsmall!$A15=Funktioner!$Q$1,IF(Funktioner!$Q$3=\"\",\"\",Funktioner!$Q$3),IF(Uträkningsmall!$A15=Funktioner!$R$1,IF(Funktioner!$R$3=\"\",\"\",Funktioner!$R$3),IF(Uträkningsmall!$A15=Funktioner!$S$1,IF(Funktioner!$S$3=\"\",\"\",Funktioner!$S$3),IF(Uträkningsmall!$A15=Funktioner!$T$1,IF(Funktioner!$T$3=\"\",\"\",Funktioner!$T$3),IF(Uträkningsmall!$A15=Funktioner!$U$1,IF(Funktioner!$U$3=\"\",\"\",Funktioner!$U$3),IF(Uträkningsmall!$A15=Funktioner!$V$1,IF(Funktioner!$V$3=\"\",\"\",Funktioner!$V$3),IF(Uträkningsmall!$A15=Funktioner!$W$1,IF(Funktioner!$W$3=\"\",\"\",Funktioner!$W$3),IF(Uträkningsmall!$A15=Funktioner!$X$1,IF(Funktioner!$X$3=\"\",\"\",Funktioner!$X$3),IF(Uträkningsmall!$A15=Funktioner!$Y$1,IF(Funktioner!$Y$3=\"\",\"\",Funktioner!$Y$3),IF(Uträkningsmall!$A15=Funktioner!$Z$1,IF(Funktioner!$Z$3=\"\",\"\",Funktioner!$Z$3),IF(Uträkningsmall!$A15=Funktioner!$AA$1,IF(Funktioner!$AA$3=\"\",\"\",Funktioner!$AA$3),IF(Uträkningsmall!$A15=Funktioner!$AB$1,IF(Funktioner!$AB$3=\"\",\"\",Funktioner!$AB$3),IF(Uträkningsmall!$A15=Funktioner!$AC$1,IF(Funktioner!$AC$3=\"\",\"\",Funktioner!$AC$3),IF(Uträkningsmall!$A15=Funktioner!$AD$1,IF(Funktioner!$AD$3=\"\",\"\",Funktioner!$AD$3),IF(Uträkningsmall!$A15=Funktioner!$AE$1,IF(Funktioner!$AE$3=\"\",\"\",Funktioner!$AE$3),IF(Uträkningsmall!$A15=Funktioner!$AF$1,IF(Funktioner!$AF$3=\"\",\"\",Funktioner!$AF$3),IF(Uträkningsmall!$A15=Funktioner!$AG$1,IF(Funktioner!$AG$3=\"\",\"\",Funktioner!$AG$3),IF(Uträkningsmall!$A15=Funktioner!$AH$1,IF(Funktioner!$AH$3=\"\",\"\",Funktioner!$AH$3),IF(Uträkningsmall!$A15=Funktioner!$AI$1,IF(Funktioner!$AI$3=\"\",\"\",Funktioner!$AI$3),IF(Uträkningsmall!$A15=Funktioner!$AJ$1,IF(Funktioner!$AJ$3=\"\",\"\",Funktioner!$AJ$3),IF(Uträkningsmall!$A15=Funktioner!$AK$1,IF(Funktioner!$AK$3=\"\",\"\",Funktioner!$AK$3),IF(Uträkningsmall!$A15=Funktioner!$AL$1,IF(Funktioner!$AL$3=\"\",\"\",Funktioner!$AL$3),IF(Uträkningsmall!$A15=Funktioner!$AM$1,IF(Funktioner!$AM$3=\"\",\"\",Funktioner!$AM$3),IF(Uträkningsmall!$A15=Funktioner!$AN$1,IF(Funktioner!$AN$3=\"\",\"\",Funktioner!$AN$3),IF(Uträkningsmall!$A15=Funktioner!$AO$1,IF(Funktioner!$AO$3=\"\",\"\",Funktioner!$AO$3),IF(Uträkningsmall!$A15=Funktioner!$AP$1,IF(Funktioner!$AP$3=\"\",\"\",Funktioner!$AP$3),IF(Uträkningsmall!$A15=Funktioner!$AQ$1,IF(Funktioner!$AQ$3=\"\",\"\",Funktioner!$AQ$3),IF(Uträkningsmall!$A15=Funktioner!$AR$1,IF(Funktioner!$AR$3=\"\",\"\",Funktioner!$AR$3),IF(Uträkningsmall!$A15=Funktioner!$AS$1,IF(Funktioner!$AS$3=\"\",\"\",Funktioner!$AS$3),IF(Uträkningsmall!$A15=Funktioner!$AT$1,IF(Funktioner!$AT$3=\"\",\"\",Funktioner!$AT$3),IF(Uträkningsmall!$A15=Funktioner!$AU$1,IF(Funktioner!$AU$3=\"\",\"\",Funktioner!$AU$3),IF(Uträkningsmall!$A15=Funktioner!$AV$1,IF(Funktioner!$AV$3=\"\",\"\",Funktioner!$AV$3),\"\")))))))))))))))))))))))))))))))))))))))))))))))","v":""},{"$f":"Uträkningsmall!$A15&Uträkningsmall!$F15","v":""},{"$f":"IFERROR(INDEX('Avtalat sortiment'!$K$3:$R$279,MATCH($K112,Funktioner!$BZ$3:$BZ$280,0),MATCH(L$109,'Avtalat sortiment'!$K$2:$R$2,0)),\"\")","v":0},{"$f":"IFERROR(INDEX('Avtalat sortiment'!$K$3:$R$279,MATCH($K112,Funktioner!$BZ$3:$BZ$280,0),MATCH(M$109,'Avtalat sortiment'!$K$2:$R$2,0)),\"\")","v":0},{"$f":"IFERROR(INDEX('Avtalat sortiment'!$K$3:$R$279,MATCH($K112,Funktioner!$BZ$3:$BZ$280,0),MATCH(N$109,'Avtalat sortiment'!$K$2:$R$2,0)),\"\")","v":0},{"$f":"IFERROR(INDEX('Avtalat sortiment'!$K$3:$R$279,MATCH($K112,Funktioner!$BZ$3:$BZ$280,0),MATCH(O$109,'Avtalat sortiment'!$K$2:$R$2,0)),\"\")","v":0},{"$f":"IFERROR(INDEX('Avtalat sortiment'!$K$3:$R$279,MATCH($K112,Funktioner!$BZ$3:$BZ$280,0),MATCH(P$109,'Avtalat sortiment'!$K$2:$R$2,0)),\"\")","v":0},{"$f":"IFERROR(INDEX('Avtalat sortiment'!$K$3:$R$279,MATCH($K112,Funktioner!$BZ$3:$BZ$280,0),MATCH(Q$109,'Avtalat sortiment'!$K$2:$R$2,0)),\"\")","v":0},{"$f":"IFERROR(INDEX('Avtalat sortiment'!$K$3:$R$279,MATCH($K112,Funktioner!$BZ$3:$BZ$280,0),MATCH(R$109,'Avtalat sortiment'!$K$2:$R$2,0)),\"\")","v":0},{"$f":"IFERROR(INDEX('Avtalat sortiment'!$K$3:$R$279,MATCH($K112,Funktioner!$BZ$3:$BZ$280,0),MATCH(S$109,'Avtalat sortiment'!$K$2:$R$2,0)),\"\")","v":0},{"$f":"IF(Uträkningsmall!$G15=\"\",\"\",IF(U112=\"Kan ej leverera\",240000000,IF(ISNUMBER(L112),L112*Uträkningsmall!$G15,\"\")))","v":""},"",null,{"$f":"IFERROR(INDEX('Avtalat sortiment'!$U$3:$AB$279,MATCH($K112,Funktioner!$CA$3:$CA$280,0),MATCH(W$109,'Avtalat sortiment'!$U$2:$AB$2,0)),\"\")","v":0},{"$f":"IFERROR(INDEX('Avtalat sortiment'!$U$3:$AB$279,MATCH($K112,Funktioner!$CA$3:$CA$280,0),MATCH(X$109,'Avtalat sortiment'!$U$2:$AB$2,0)),\"\")","v":0},{"$f":"IFERROR(INDEX('Avtalat sortiment'!$U$3:$AB$279,MATCH($K112,Funktioner!$CA$3:$CA$280,0),MATCH(Y$109,'Avtalat sortiment'!$U$2:$AB$2,0)),\"\")","v":0},{"$f":"IFERROR(INDEX('Avtalat sortiment'!$U$3:$AB$279,MATCH($K112,Funktioner!$CA$3:$CA$280,0),MATCH(Z$109,'Avtalat sortiment'!$U$2:$AB$2,0)),\"\")","v":0},{"$f":"IFERROR(INDEX('Avtalat sortiment'!$U$3:$AB$279,MATCH($K112,Funktioner!$CA$3:$CA$280,0),MATCH(AA$109,'Avtalat sortiment'!$U$2:$AB$2,0)),\"\")","v":"https://www.procurator.com/svSE/c/Montagehandskar/Montagehandske-konstl%C3%A4der-Worksafe-A100?c=23_02_01&p=U-AR98&a=2052135"},{"$f":"IFERROR(INDEX('Avtalat sortiment'!$U$3:$AB$279,MATCH($K112,Funktioner!$CA$3:$CA$280,0),MATCH(AB$109,'Avtalat sortiment'!$U$2:$AB$2,0)),\"\")","v":"Montagehandske Worksafe A100 "},{"$f":"IFERROR(INDEX('Avtalat sortiment'!$U$3:$AB$279,MATCH($K112,Funktioner!$CA$3:$CA$280,0),MATCH(AC$109,'Avtalat sortiment'!$U$2:$AB$2,0)),\"\")","v":7},{"$f":"IFERROR(INDEX('Avtalat sortiment'!$K$3:$R$279,MATCH($K112,Funktioner!$BZ$3:$BZ$280,0),MATCH(AD$109,'Avtalat sortiment'!$K$2:$R$2,0)),\"\")","v":0},{"$f":"IF(Uträkningsmall!$G15=\"\",\"\",IF(AF112=\"Kan ej leverera\",240000000,IF(ISNUMBER(W112),W112*Uträkningsmall!$G15,\"\")))","v":""},"",null,{"$f":"IFERROR(INDEX('Avtalat sortiment'!$AE$3:$AL$279,MATCH($K112,Funktioner!$CB$3:$CB$280,0),MATCH(AH$109,'Avtalat sortiment'!$AE$2:$AL$2,0)),\"\")","v":0},{"$f":"IFERROR(INDEX('Avtalat sortiment'!$AE$3:$AL$279,MATCH($K112,Funktioner!$CB$3:$CB$280,0),MATCH(AI$109,'Avtalat sortiment'!$AE$2:$AL$2,0)),\"\")","v":0},{"$f":"IFERROR(INDEX('Avtalat sortiment'!$AE$3:$AL$279,MATCH($K112,Funktioner!$CB$3:$CB$280,0),MATCH(AJ$109,'Avtalat sortiment'!$AE$2:$AL$2,0)),\"\")","v":""},{"$f":"IFERROR(INDEX('Avtalat sortiment'!$AE$3:$AL$279,MATCH($K112,Funktioner!$CB$3:$CB$280,0),MATCH(AK$109,'Avtalat sortiment'!$AE$2:$AL$2,0)),\"\")","v":0},{"$f":"IFERROR(INDEX('Avtalat sortiment'!$AE$3:$AL$279,MATCH($K112,Funktioner!$CB$3:$CB$280,0),MATCH(AL$109,'Avtalat sortiment'!$AE$2:$AL$2,0)),\"\")","v":0},{"$f":"IFERROR(INDEX('Avtalat sortiment'!$AE$3:$AL$279,MATCH($K112,Funktioner!$CB$3:$CB$280,0),MATCH(AM$109,'Avtalat sortiment'!$AE$2:$AL$2,0)),\"\")","v":0},{"$f":"IFERROR(INDEX('Avtalat sortiment'!$AE$3:$AL$279,MATCH($K112,Funktioner!$CB$3:$CB$280,0),MATCH(AN$109,'Avtalat sortiment'!$AE$2:$AL$2,0)),\"\")","v":0},{"$f":"IFERROR(INDEX('Avtalat sortiment'!$AE$3:$AL$279,MATCH($K112,Funktioner!$CB$3:$CB$280,0),MATCH(AO$109,'Avtalat sortiment'!$AE$2:$AL$2,0)),\"\")","v":0},{"$f":"IF(Uträkningsmall!$G15=\"\",\"\",IF(AQ112=\"Kan ej leverera\",240000000,IF(ISNUMBER(AH112),AH112*Uträkningsmall!$G15,\"\")))","v":""},"",null,{"$f":"IFERROR(INDEX('Avtalat sortiment'!$AO$3:$AV$257,MATCH($K112,Funktioner!$CC$3:$CC$280,0),MATCH(AS$109,'Avtalat sortiment'!$AO$2:$AV$2,0)),\"\")","v":0},{"$f":"IFERROR(INDEX('Avtalat sortiment'!$AO$3:$AV$257,MATCH($K112,Funktioner!$CC$3:$CC$280,0),MATCH(AT$109,'Avtalat sortiment'!$AO$2:$AV$2,0)),\"\")","v":0},{"$f":"IFERROR(INDEX('Avtalat sortiment'!$AO$3:$AV$257,MATCH($K112,Funktioner!$CC$3:$CC$280,0),MATCH(AU$109,'Avtalat sortiment'!$AO$2:$AV$2,0)),\"\")","v":""},{"$f":"IFERROR(INDEX('Avtalat sortiment'!$AO$3:$AV$257,MATCH($K112,Funktioner!$CC$3:$CC$280,0),MATCH(AV$109,'Avtalat sortiment'!$AO$2:$AV$2,0)),\"\")","v":0},{"$f":"IFERROR(INDEX('Avtalat sortiment'!$AO$3:$AV$257,MATCH($K112,Funktioner!$CC$3:$CC$280,0),MATCH(AW$109,'Avtalat sortiment'!$AO$2:$AV$2,0)),\"\")","v":0},{"$f":"IFERROR(INDEX('Avtalat sortiment'!$AO$3:$AV$257,MATCH($K112,Funktioner!$CC$3:$CC$280,0),MATCH(AX$109,'Avtalat sortiment'!$AO$2:$AV$2,0)),\"\")","v":0},{"$f":"IFERROR(INDEX('Avtalat sortiment'!$AO$3:$AV$257,MATCH($K112,Funktioner!$CC$3:$CC$280,0),MATCH(AY$109,'Avtalat sortiment'!$AO$2:$AV$2,0)),\"\")","v":0},{"$f":"IFERROR(INDEX('Avtalat sortiment'!$AO$3:$AV$257,MATCH($K112,Funktioner!$CC$3:$CC$280,0),MATCH(AZ$109,'Avtalat sortiment'!$AO$2:$AV$2,0)),\"\")","v":0},{"$f":"IF(Uträkningsmall!$G15=\"\",\"\",IF(BB112=\"Kan ej leverera\",240000000,IF(ISNUMBER(AS112),AS112*Uträkningsmall!$G15,\"\")))","v":""},"",null,{"$f":"IFERROR(INDEX('Avtalat sortiment'!$AY$3:$BF$219,MATCH($K112,Funktioner!$CD$3:$CD$280,0),MATCH(BD$109,'Avtalat sortiment'!$AY$2:$BF$2,0)),\"\")","v":0},{"$f":"IFERROR(INDEX('Avtalat sortiment'!$AY$3:$BF$219,MATCH($K112,Funktioner!$CD$3:$CD$280,0),MATCH(BE$109,'Avtalat sortiment'!$AY$2:$BF$2,0)),\"\")","v":0},{"$f":"IFERROR(INDEX('Avtalat sortiment'!$AY$3:$BF$219,MATCH($K112,Funktioner!$CD$3:$CD$280,0),MATCH(BF$109,'Avtalat sortiment'!$AY$2:$BF$2,0)),\"\")","v":""},{"$f":"IFERROR(INDEX('Avtalat sortiment'!$AY$3:$BF$219,MATCH($K112,Funktioner!$CD$3:$CD$280,0),MATCH(BG$109,'Avtalat sortiment'!$AY$2:$BF$2,0)),\"\")","v":269173},{"$f":"IFERROR(INDEX('Avtalat sortiment'!$AY$3:$BF$219,MATCH($K112,Funktioner!$CD$3:$CD$280,0),MATCH(BH$109,'Avtalat sortiment'!$AY$2:$BF$2,0)),\"\")","v":"https://www.lyrecocontract.se/web/ePortal/ctrl?action=showiteminfo&itemNo=269173"},{"$f":"IFERROR(INDEX('Avtalat sortiment'!$AY$3:$BF$219,MATCH($K112,Funktioner!$CD$3:$CD$280,0),MATCH(BI$109,'Avtalat sortiment'!$AY$2:$BF$2,0)),\"\")","v":"Munskydd Typ IIR med öronband Blå 50/FP"},{"$f":"IFERROR(INDEX('Avtalat sortiment'!$AY$3:$BF$219,MATCH($K112,Funktioner!$CD$3:$CD$280,0),MATCH(BJ$109,'Avtalat sortiment'!$AY$2:$BF$2,0)),\"\")","v":0},{"$f":"IFERROR(INDEX('Avtalat sortiment'!$AY$3:$BF$219,MATCH($K112,Funktioner!$CD$3:$CD$280,0),MATCH(BK$109,'Avtalat sortiment'!$AY$2:$BF$2,0)),\"\")","v":"Inväntar återkoppling från vår leverantör, i enlighet med 6.6.2 i underlag anger vi därmed ej pris         "},{"$f":"IF(Uträkningsmall!$G15=\"\",\"\",IF(BM112=\"Kan ej leverera\",240000000,IF(ISNUMBER(BD112),BD112*Uträkningsmall!$G15,\"\")))","v":""},"",null,{"$f":"IFERROR(INDEX('Avtalat sortiment'!$BI$3:$BP$279,MATCH($K112,Funktioner!$CE$3:$CE$280,0),MATCH(BO$109,'Avtalat sortiment'!$BI$2:$BP$2,0)),\"\")","v":0},{"$f":"IFERROR(INDEX('Avtalat sortiment'!$BI$3:$BP$279,MATCH($K112,Funktioner!$CE$3:$CE$280,0),MATCH(BP$109,'Avtalat sortiment'!$BI$2:$BP$2,0)),\"\")","v":0},{"$f":"IFERROR(INDEX('Avtalat sortiment'!$BI$3:$BP$279,MATCH($K112,Funktioner!$CE$3:$CE$280,0),MATCH(BQ$109,'Avtalat sortiment'!$BI$2:$BP$2,0)),\"\")","v":0},{"$f":"IFERROR(INDEX('Avtalat sortiment'!$BI$3:$BP$279,MATCH($K112,Funktioner!$CE$3:$CE$280,0),MATCH(BR$109,'Avtalat sortiment'!$BI$2:$BP$2,0)),\"\")","v":0},{"$f":"IFERROR(INDEX('Avtalat sortiment'!$BI$3:$BP$279,MATCH($K112,Funktioner!$CE$3:$CE$280,0),MATCH(BS$109,'Avtalat sortiment'!$BI$2:$BP$2,0)),\"\")","v":0},{"$f":"IFERROR(INDEX('Avtalat sortiment'!$BI$3:$BP$279,MATCH($K112,Funktioner!$CE$3:$CE$280,0),MATCH(BT$109,'Avtalat sortiment'!$BI$2:$BP$2,0)),\"\")","v":0},{"$f":"IFERROR(INDEX('Avtalat sortiment'!$BI$3:$BP$279,MATCH($K112,Funktioner!$CE$3:$CE$280,0),MATCH(BU$109,'Avtalat sortiment'!$BI$2:$BP$2,0)),\"\")","v":0},{"$f":"IFERROR(INDEX('Avtalat sortiment'!$BI$3:$BP$279,MATCH($K112,Funktioner!$CE$3:$CE$280,0),MATCH(BV$109,'Avtalat sortiment'!$BI$2:$BP$2,0)),\"\")","v":0},{"$f":"IF(Uträkningsmall!$G15=\"\",\"\",IF(BX112=\"Kan ej leverera\",240000000,IF(ISNUMBER(BO112),BO112*Uträkningsmall!$G15,\"\")))","v":""},"",null,{"$f":"IF('Avtalat sortiment'!K112<>\"\",'Avtalat sortiment'!$A112&'Avtalat sortiment'!Q112,\"\")","v":""},{"$f":"IF('Avtalat sortiment'!U112<>\"\",'Avtalat sortiment'!T112&'Avtalat sortiment'!AA112,\"\")","v":""},{"$f":"IF('Avtalat sortiment'!AE112<>\"\",'Avtalat sortiment'!AD112&'Avtalat sortiment'!AK112,\"\")","v":""},{"$f":"IF('Avtalat sortiment'!AO112<>\"\",'Avtalat sortiment'!AN112&'Avtalat sortiment'!AU112,\"\")","v":""},{"$f":"IF('Avtalat sortiment'!AY112<>\"\",'Avtalat sortiment'!AX112&'Avtalat sortiment'!BE112,\"\")","v":""},{"$f":"IF('Avtalat sortiment'!BI112<>\"\",'Avtalat sortiment'!BH112&'Avtalat sortiment'!BO112,\"\")","v":""}]
[null,null,null,null,null,null,null,null,null,{"$f":"IF(Uträkningsmall!$A16=Funktioner!$B$1,IF(Funktioner!$B$3=\"\",\"\",Funktioner!$B$3),IF(Uträkningsmall!$A16=Funktioner!$C$1,IF(Funktioner!$C$3=\"\",\"\",Funktioner!$C$3),IF(Uträkningsmall!$A16=Funktioner!$D$1,IF(Funktioner!$D$3=\"\",\"\",Funktioner!$D$3),IF(Uträkningsmall!$A16=Funktioner!$E$1,IF(Funktioner!$E$3=\"\",\"\",Funktioner!$E$3),IF(Uträkningsmall!$A16=Funktioner!$F$1,IF(Funktioner!$F$3=\"\",\"\",Funktioner!$F$3),IF(Uträkningsmall!$A16=Funktioner!$G$1,IF(Funktioner!$G$3=\"\",\"\",Funktioner!$G$3),IF(Uträkningsmall!$A16=Funktioner!$H$1,IF(Funktioner!$H$3=\"\",\"\",Funktioner!$H$3),IF(Uträkningsmall!$A16=Funktioner!$I$1,IF(Funktioner!$I$3=\"\",\"\",Funktioner!$I$3),IF(Uträkningsmall!$A16=Funktioner!$J$1,IF(Funktioner!$J$3=\"\",\"\",Funktioner!$J$3),IF(Uträkningsmall!$A16=Funktioner!$K$1,IF(Funktioner!$K$3=\"\",\"\",Funktioner!$K$3),IF(Uträkningsmall!$A16=Funktioner!$L$1,IF(Funktioner!$L$3=\"\",\"\",Funktioner!$L$3),IF(Uträkningsmall!$A16=Funktioner!$M$1,IF(Funktioner!$M$3=\"\",\"\",Funktioner!$M$3),IF(Uträkningsmall!$A16=Funktioner!$N$1,IF(Funktioner!$N$3=\"\",\"\",Funktioner!$N$3),IF(Uträkningsmall!$A16=Funktioner!$O$1,IF(Funktioner!$O$3=\"\",\"\",Funktioner!$O$3),IF(Uträkningsmall!$A16=Funktioner!$P$1,IF(Funktioner!$P$3=\"\",\"\",Funktioner!$P$3),IF(Uträkningsmall!$A16=Funktioner!$Q$1,IF(Funktioner!$Q$3=\"\",\"\",Funktioner!$Q$3),IF(Uträkningsmall!$A16=Funktioner!$R$1,IF(Funktioner!$R$3=\"\",\"\",Funktioner!$R$3),IF(Uträkningsmall!$A16=Funktioner!$S$1,IF(Funktioner!$S$3=\"\",\"\",Funktioner!$S$3),IF(Uträkningsmall!$A16=Funktioner!$T$1,IF(Funktioner!$T$3=\"\",\"\",Funktioner!$T$3),IF(Uträkningsmall!$A16=Funktioner!$U$1,IF(Funktioner!$U$3=\"\",\"\",Funktioner!$U$3),IF(Uträkningsmall!$A16=Funktioner!$V$1,IF(Funktioner!$V$3=\"\",\"\",Funktioner!$V$3),IF(Uträkningsmall!$A16=Funktioner!$W$1,IF(Funktioner!$W$3=\"\",\"\",Funktioner!$W$3),IF(Uträkningsmall!$A16=Funktioner!$X$1,IF(Funktioner!$X$3=\"\",\"\",Funktioner!$X$3),IF(Uträkningsmall!$A16=Funktioner!$Y$1,IF(Funktioner!$Y$3=\"\",\"\",Funktioner!$Y$3),IF(Uträkningsmall!$A16=Funktioner!$Z$1,IF(Funktioner!$Z$3=\"\",\"\",Funktioner!$Z$3),IF(Uträkningsmall!$A16=Funktioner!$AA$1,IF(Funktioner!$AA$3=\"\",\"\",Funktioner!$AA$3),IF(Uträkningsmall!$A16=Funktioner!$AB$1,IF(Funktioner!$AB$3=\"\",\"\",Funktioner!$AB$3),IF(Uträkningsmall!$A16=Funktioner!$AC$1,IF(Funktioner!$AC$3=\"\",\"\",Funktioner!$AC$3),IF(Uträkningsmall!$A16=Funktioner!$AD$1,IF(Funktioner!$AD$3=\"\",\"\",Funktioner!$AD$3),IF(Uträkningsmall!$A16=Funktioner!$AE$1,IF(Funktioner!$AE$3=\"\",\"\",Funktioner!$AE$3),IF(Uträkningsmall!$A16=Funktioner!$AF$1,IF(Funktioner!$AF$3=\"\",\"\",Funktioner!$AF$3),IF(Uträkningsmall!$A16=Funktioner!$AG$1,IF(Funktioner!$AG$3=\"\",\"\",Funktioner!$AG$3),IF(Uträkningsmall!$A16=Funktioner!$AH$1,IF(Funktioner!$AH$3=\"\",\"\",Funktioner!$AH$3),IF(Uträkningsmall!$A16=Funktioner!$AI$1,IF(Funktioner!$AI$3=\"\",\"\",Funktioner!$AI$3),IF(Uträkningsmall!$A16=Funktioner!$AJ$1,IF(Funktioner!$AJ$3=\"\",\"\",Funktioner!$AJ$3),IF(Uträkningsmall!$A16=Funktioner!$AK$1,IF(Funktioner!$AK$3=\"\",\"\",Funktioner!$AK$3),IF(Uträkningsmall!$A16=Funktioner!$AL$1,IF(Funktioner!$AL$3=\"\",\"\",Funktioner!$AL$3),IF(Uträkningsmall!$A16=Funktioner!$AM$1,IF(Funktioner!$AM$3=\"\",\"\",Funktioner!$AM$3),IF(Uträkningsmall!$A16=Funktioner!$AN$1,IF(Funktioner!$AN$3=\"\",\"\",Funktioner!$AN$3),IF(Uträkningsmall!$A16=Funktioner!$AO$1,IF(Funktioner!$AO$3=\"\",\"\",Funktioner!$AO$3),IF(Uträkningsmall!$A16=Funktioner!$AP$1,IF(Funktioner!$AP$3=\"\",\"\",Funktioner!$AP$3),IF(Uträkningsmall!$A16=Funktioner!$AQ$1,IF(Funktioner!$AQ$3=\"\",\"\",Funktioner!$AQ$3),IF(Uträkningsmall!$A16=Funktioner!$AR$1,IF(Funktioner!$AR$3=\"\",\"\",Funktioner!$AR$3),IF(Uträkningsmall!$A16=Funktioner!$AS$1,IF(Funktioner!$AS$3=\"\",\"\",Funktioner!$AS$3),IF(Uträkningsmall!$A16=Funktioner!$AT$1,IF(Funktioner!$AT$3=\"\",\"\",Funktioner!$AT$3),IF(Uträkningsmall!$A16=Funktioner!$AU$1,IF(Funktioner!$AU$3=\"\",\"\",Funktioner!$AU$3),IF(Uträkningsmall!$A16=Funktioner!$AV$1,IF(Funktioner!$AV$3=\"\",\"\",Funktioner!$AV$3),\"\")))))))))))))))))))))))))))))))))))))))))))))))","v":""},{"$f":"Uträkningsmall!$A16&Uträkningsmall!$F16","v":""},{"$f":"IFERROR(INDEX('Avtalat sortiment'!$K$3:$R$279,MATCH($K113,Funktioner!$BZ$3:$BZ$280,0),MATCH(L$109,'Avtalat sortiment'!$K$2:$R$2,0)),\"\")","v":0},{"$f":"IFERROR(INDEX('Avtalat sortiment'!$K$3:$R$279,MATCH($K113,Funktioner!$BZ$3:$BZ$280,0),MATCH(M$109,'Avtalat sortiment'!$K$2:$R$2,0)),\"\")","v":0},{"$f":"IFERROR(INDEX('Avtalat sortiment'!$K$3:$R$279,MATCH($K113,Funktioner!$BZ$3:$BZ$280,0),MATCH(N$109,'Avtalat sortiment'!$K$2:$R$2,0)),\"\")","v":0},{"$f":"IFERROR(INDEX('Avtalat sortiment'!$K$3:$R$279,MATCH($K113,Funktioner!$BZ$3:$BZ$280,0),MATCH(O$109,'Avtalat sortiment'!$K$2:$R$2,0)),\"\")","v":0},{"$f":"IFERROR(INDEX('Avtalat sortiment'!$K$3:$R$279,MATCH($K113,Funktioner!$BZ$3:$BZ$280,0),MATCH(P$109,'Avtalat sortiment'!$K$2:$R$2,0)),\"\")","v":0},{"$f":"IFERROR(INDEX('Avtalat sortiment'!$K$3:$R$279,MATCH($K113,Funktioner!$BZ$3:$BZ$280,0),MATCH(Q$109,'Avtalat sortiment'!$K$2:$R$2,0)),\"\")","v":0},{"$f":"IFERROR(INDEX('Avtalat sortiment'!$K$3:$R$279,MATCH($K113,Funktioner!$BZ$3:$BZ$280,0),MATCH(R$109,'Avtalat sortiment'!$K$2:$R$2,0)),\"\")","v":0},{"$f":"IFERROR(INDEX('Avtalat sortiment'!$K$3:$R$279,MATCH($K113,Funktioner!$BZ$3:$BZ$280,0),MATCH(S$109,'Avtalat sortiment'!$K$2:$R$2,0)),\"\")","v":0},{"$f":"IF(Uträkningsmall!$G16=\"\",\"\",IF(U113=\"Kan ej leverera\",240000000,IF(ISNUMBER(L113),L113*Uträkningsmall!$G16,\"\")))","v":""},"",null,{"$f":"IFERROR(INDEX('Avtalat sortiment'!$U$3:$AB$279,MATCH($K113,Funktioner!$CA$3:$CA$280,0),MATCH(W$109,'Avtalat sortiment'!$U$2:$AB$2,0)),\"\")","v":0},{"$f":"IFERROR(INDEX('Avtalat sortiment'!$U$3:$AB$279,MATCH($K113,Funktioner!$CA$3:$CA$280,0),MATCH(X$109,'Avtalat sortiment'!$U$2:$AB$2,0)),\"\")","v":0},{"$f":"IFERROR(INDEX('Avtalat sortiment'!$U$3:$AB$279,MATCH($K113,Funktioner!$CA$3:$CA$280,0),MATCH(Y$109,'Avtalat sortiment'!$U$2:$AB$2,0)),\"\")","v":0},{"$f":"IFERROR(INDEX('Avtalat sortiment'!$U$3:$AB$279,MATCH($K113,Funktioner!$CA$3:$CA$280,0),MATCH(Z$109,'Avtalat sortiment'!$U$2:$AB$2,0)),\"\")","v":0},{"$f":"IFERROR(INDEX('Avtalat sortiment'!$U$3:$AB$279,MATCH($K113,Funktioner!$CA$3:$CA$280,0),MATCH(AA$109,'Avtalat sortiment'!$U$2:$AB$2,0)),\"\")","v":"https://www.procurator.com/svSE/c/Montagehandskar/Montagehandske-konstl%C3%A4der-Worksafe-A100?c=23_02_01&p=U-AR98&a=2052135"},{"$f":"IFERROR(INDEX('Avtalat sortiment'!$U$3:$AB$279,MATCH($K113,Funktioner!$CA$3:$CA$280,0),MATCH(AB$109,'Avtalat sortiment'!$U$2:$AB$2,0)),\"\")","v":"Montagehandske Worksafe A100 "},{"$f":"IFERROR(INDEX('Avtalat sortiment'!$U$3:$AB$279,MATCH($K113,Funktioner!$CA$3:$CA$280,0),MATCH(AC$109,'Avtalat sortiment'!$U$2:$AB$2,0)),\"\")","v":7},{"$f":"IFERROR(INDEX('Avtalat sortiment'!$K$3:$R$279,MATCH($K113,Funktioner!$BZ$3:$BZ$280,0),MATCH(AD$109,'Avtalat sortiment'!$K$2:$R$2,0)),\"\")","v":0},{"$f":"IF(Uträkningsmall!$G16=\"\",\"\",IF(AF113=\"Kan ej leverera\",240000000,IF(ISNUMBER(W113),W113*Uträkningsmall!$G16,\"\")))","v":""},"",null,{"$f":"IFERROR(INDEX('Avtalat sortiment'!$AE$3:$AL$279,MATCH($K113,Funktioner!$CB$3:$CB$280,0),MATCH(AH$109,'Avtalat sortiment'!$AE$2:$AL$2,0)),\"\")","v":0},{"$f":"IFERROR(INDEX('Avtalat sortiment'!$AE$3:$AL$279,MATCH($K113,Funktioner!$CB$3:$CB$280,0),MATCH(AI$109,'Avtalat sortiment'!$AE$2:$AL$2,0)),\"\")","v":0},{"$f":"IFERROR(INDEX('Avtalat sortiment'!$AE$3:$AL$279,MATCH($K113,Funktioner!$CB$3:$CB$280,0),MATCH(AJ$109,'Avtalat sortiment'!$AE$2:$AL$2,0)),\"\")","v":""},{"$f":"IFERROR(INDEX('Avtalat sortiment'!$AE$3:$AL$279,MATCH($K113,Funktioner!$CB$3:$CB$280,0),MATCH(AK$109,'Avtalat sortiment'!$AE$2:$AL$2,0)),\"\")","v":0},{"$f":"IFERROR(INDEX('Avtalat sortiment'!$AE$3:$AL$279,MATCH($K113,Funktioner!$CB$3:$CB$280,0),MATCH(AL$109,'Avtalat sortiment'!$AE$2:$AL$2,0)),\"\")","v":0},{"$f":"IFERROR(INDEX('Avtalat sortiment'!$AE$3:$AL$279,MATCH($K113,Funktioner!$CB$3:$CB$280,0),MATCH(AM$109,'Avtalat sortiment'!$AE$2:$AL$2,0)),\"\")","v":0},{"$f":"IFERROR(INDEX('Avtalat sortiment'!$AE$3:$AL$279,MATCH($K113,Funktioner!$CB$3:$CB$280,0),MATCH(AN$109,'Avtalat sortiment'!$AE$2:$AL$2,0)),\"\")","v":0},{"$f":"IFERROR(INDEX('Avtalat sortiment'!$AE$3:$AL$279,MATCH($K113,Funktioner!$CB$3:$CB$280,0),MATCH(AO$109,'Avtalat sortiment'!$AE$2:$AL$2,0)),\"\")","v":0},{"$f":"IF(Uträkningsmall!$G16=\"\",\"\",IF(AQ113=\"Kan ej leverera\",240000000,IF(ISNUMBER(AH113),AH113*Uträkningsmall!$G16,\"\")))","v":""},"",null,{"$f":"IFERROR(INDEX('Avtalat sortiment'!$AO$3:$AV$257,MATCH($K113,Funktioner!$CC$3:$CC$280,0),MATCH(AS$109,'Avtalat sortiment'!$AO$2:$AV$2,0)),\"\")","v":0},{"$f":"IFERROR(INDEX('Avtalat sortiment'!$AO$3:$AV$257,MATCH($K113,Funktioner!$CC$3:$CC$280,0),MATCH(AT$109,'Avtalat sortiment'!$AO$2:$AV$2,0)),\"\")","v":0},{"$f":"IFERROR(INDEX('Avtalat sortiment'!$AO$3:$AV$257,MATCH($K113,Funktioner!$CC$3:$CC$280,0),MATCH(AU$109,'Avtalat sortiment'!$AO$2:$AV$2,0)),\"\")","v":""},{"$f":"IFERROR(INDEX('Avtalat sortiment'!$AO$3:$AV$257,MATCH($K113,Funktioner!$CC$3:$CC$280,0),MATCH(AV$109,'Avtalat sortiment'!$AO$2:$AV$2,0)),\"\")","v":0},{"$f":"IFERROR(INDEX('Avtalat sortiment'!$AO$3:$AV$257,MATCH($K113,Funktioner!$CC$3:$CC$280,0),MATCH(AW$109,'Avtalat sortiment'!$AO$2:$AV$2,0)),\"\")","v":0},{"$f":"IFERROR(INDEX('Avtalat sortiment'!$AO$3:$AV$257,MATCH($K113,Funktioner!$CC$3:$CC$280,0),MATCH(AX$109,'Avtalat sortiment'!$AO$2:$AV$2,0)),\"\")","v":0},{"$f":"IFERROR(INDEX('Avtalat sortiment'!$AO$3:$AV$257,MATCH($K113,Funktioner!$CC$3:$CC$280,0),MATCH(AY$109,'Avtalat sortiment'!$AO$2:$AV$2,0)),\"\")","v":0},{"$f":"IFERROR(INDEX('Avtalat sortiment'!$AO$3:$AV$257,MATCH($K113,Funktioner!$CC$3:$CC$280,0),MATCH(AZ$109,'Avtalat sortiment'!$AO$2:$AV$2,0)),\"\")","v":0},{"$f":"IF(Uträkningsmall!$G16=\"\",\"\",IF(BB113=\"Kan ej leverera\",240000000,IF(ISNUMBER(AS113),AS113*Uträkningsmall!$G16,\"\")))","v":""},"",null,{"$f":"IFERROR(INDEX('Avtalat sortiment'!$AY$3:$BF$219,MATCH($K113,Funktioner!$CD$3:$CD$280,0),MATCH(BD$109,'Avtalat sortiment'!$AY$2:$BF$2,0)),\"\")","v":0},{"$f":"IFERROR(INDEX('Avtalat sortiment'!$AY$3:$BF$219,MATCH($K113,Funktioner!$CD$3:$CD$280,0),MATCH(BE$109,'Avtalat sortiment'!$AY$2:$BF$2,0)),\"\")","v":0},{"$f":"IFERROR(INDEX('Avtalat sortiment'!$AY$3:$BF$219,MATCH($K113,Funktioner!$CD$3:$CD$280,0),MATCH(BF$109,'Avtalat sortiment'!$AY$2:$BF$2,0)),\"\")","v":""},{"$f":"IFERROR(INDEX('Avtalat sortiment'!$AY$3:$BF$219,MATCH($K113,Funktioner!$CD$3:$CD$280,0),MATCH(BG$109,'Avtalat sortiment'!$AY$2:$BF$2,0)),\"\")","v":269173},{"$f":"IFERROR(INDEX('Avtalat sortiment'!$AY$3:$BF$219,MATCH($K113,Funktioner!$CD$3:$CD$280,0),MATCH(BH$109,'Avtalat sortiment'!$AY$2:$BF$2,0)),\"\")","v":"https://www.lyrecocontract.se/web/ePortal/ctrl?action=showiteminfo&itemNo=269173"},{"$f":"IFERROR(INDEX('Avtalat sortiment'!$AY$3:$BF$219,MATCH($K113,Funktioner!$CD$3:$CD$280,0),MATCH(BI$109,'Avtalat sortiment'!$AY$2:$BF$2,0)),\"\")","v":"Munskydd Typ IIR med öronband Blå 50/FP"},{"$f":"IFERROR(INDEX('Avtalat sortiment'!$AY$3:$BF$219,MATCH($K113,Funktioner!$CD$3:$CD$280,0),MATCH(BJ$109,'Avtalat sortiment'!$AY$2:$BF$2,0)),\"\")","v":0},{"$f":"IFERROR(INDEX('Avtalat sortiment'!$AY$3:$BF$219,MATCH($K113,Funktioner!$CD$3:$CD$280,0),MATCH(BK$109,'Avtalat sortiment'!$AY$2:$BF$2,0)),\"\")","v":"Inväntar återkoppling från vår leverantör, i enlighet med 6.6.2 i underlag anger vi därmed ej pris         "},{"$f":"IF(Uträkningsmall!$G16=\"\",\"\",IF(BM113=\"Kan ej leverera\",240000000,IF(ISNUMBER(BD113),BD113*Uträkningsmall!$G16,\"\")))","v":""},"",null,{"$f":"IFERROR(INDEX('Avtalat sortiment'!$BI$3:$BP$279,MATCH($K113,Funktioner!$CE$3:$CE$280,0),MATCH(BO$109,'Avtalat sortiment'!$BI$2:$BP$2,0)),\"\")","v":0},{"$f":"IFERROR(INDEX('Avtalat sortiment'!$BI$3:$BP$279,MATCH($K113,Funktioner!$CE$3:$CE$280,0),MATCH(BP$109,'Avtalat sortiment'!$BI$2:$BP$2,0)),\"\")","v":0},{"$f":"IFERROR(INDEX('Avtalat sortiment'!$BI$3:$BP$279,MATCH($K113,Funktioner!$CE$3:$CE$280,0),MATCH(BQ$109,'Avtalat sortiment'!$BI$2:$BP$2,0)),\"\")","v":0},{"$f":"IFERROR(INDEX('Avtalat sortiment'!$BI$3:$BP$279,MATCH($K113,Funktioner!$CE$3:$CE$280,0),MATCH(BR$109,'Avtalat sortiment'!$BI$2:$BP$2,0)),\"\")","v":0},{"$f":"IFERROR(INDEX('Avtalat sortiment'!$BI$3:$BP$279,MATCH($K113,Funktioner!$CE$3:$CE$280,0),MATCH(BS$109,'Avtalat sortiment'!$BI$2:$BP$2,0)),\"\")","v":0},{"$f":"IFERROR(INDEX('Avtalat sortiment'!$BI$3:$BP$279,MATCH($K113,Funktioner!$CE$3:$CE$280,0),MATCH(BT$109,'Avtalat sortiment'!$BI$2:$BP$2,0)),\"\")","v":0},{"$f":"IFERROR(INDEX('Avtalat sortiment'!$BI$3:$BP$279,MATCH($K113,Funktioner!$CE$3:$CE$280,0),MATCH(BU$109,'Avtalat sortiment'!$BI$2:$BP$2,0)),\"\")","v":0},{"$f":"IFERROR(INDEX('Avtalat sortiment'!$BI$3:$BP$279,MATCH($K113,Funktioner!$CE$3:$CE$280,0),MATCH(BV$109,'Avtalat sortiment'!$BI$2:$BP$2,0)),\"\")","v":0},{"$f":"IF(Uträkningsmall!$G16=\"\",\"\",IF(BX113=\"Kan ej leverera\",240000000,IF(ISNUMBER(BO113),BO113*Uträkningsmall!$G16,\"\")))","v":""},"",null,{"$f":"IF('Avtalat sortiment'!K113<>\"\",'Avtalat sortiment'!$A113&'Avtalat sortiment'!Q113,\"\")","v":""},{"$f":"IF('Avtalat sortiment'!U113<>\"\",'Avtalat sortiment'!T113&'Avtalat sortiment'!AA113,\"\")","v":""},{"$f":"IF('Avtalat sortiment'!AE113<>\"\",'Avtalat sortiment'!AD113&'Avtalat sortiment'!AK113,\"\")","v":""},{"$f":"IF('Avtalat sortiment'!AO113<>\"\",'Avtalat sortiment'!AN113&'Avtalat sortiment'!AU113,\"\")","v":""},{"$f":"IF('Avtalat sortiment'!AY113<>\"\",'Avtalat sortiment'!AX113&'Avtalat sortiment'!BE113,\"\")","v":""},{"$f":"IF('Avtalat sortiment'!BI113<>\"\",'Avtalat sortiment'!BH113&'Avtalat sortiment'!BO113,\"\")","v":""}]
[null,null,null,null,null,null,null,null,null,{"$f":"IF(Uträkningsmall!$A17=Funktioner!$B$1,IF(Funktioner!$B$3=\"\",\"\",Funktioner!$B$3),IF(Uträkningsmall!$A17=Funktioner!$C$1,IF(Funktioner!$C$3=\"\",\"\",Funktioner!$C$3),IF(Uträkningsmall!$A17=Funktioner!$D$1,IF(Funktioner!$D$3=\"\",\"\",Funktioner!$D$3),IF(Uträkningsmall!$A17=Funktioner!$E$1,IF(Funktioner!$E$3=\"\",\"\",Funktioner!$E$3),IF(Uträkningsmall!$A17=Funktioner!$F$1,IF(Funktioner!$F$3=\"\",\"\",Funktioner!$F$3),IF(Uträkningsmall!$A17=Funktioner!$G$1,IF(Funktioner!$G$3=\"\",\"\",Funktioner!$G$3),IF(Uträkningsmall!$A17=Funktioner!$H$1,IF(Funktioner!$H$3=\"\",\"\",Funktioner!$H$3),IF(Uträkningsmall!$A17=Funktioner!$I$1,IF(Funktioner!$I$3=\"\",\"\",Funktioner!$I$3),IF(Uträkningsmall!$A17=Funktioner!$J$1,IF(Funktioner!$J$3=\"\",\"\",Funktioner!$J$3),IF(Uträkningsmall!$A17=Funktioner!$K$1,IF(Funktioner!$K$3=\"\",\"\",Funktioner!$K$3),IF(Uträkningsmall!$A17=Funktioner!$L$1,IF(Funktioner!$L$3=\"\",\"\",Funktioner!$L$3),IF(Uträkningsmall!$A17=Funktioner!$M$1,IF(Funktioner!$M$3=\"\",\"\",Funktioner!$M$3),IF(Uträkningsmall!$A17=Funktioner!$N$1,IF(Funktioner!$N$3=\"\",\"\",Funktioner!$N$3),IF(Uträkningsmall!$A17=Funktioner!$O$1,IF(Funktioner!$O$3=\"\",\"\",Funktioner!$O$3),IF(Uträkningsmall!$A17=Funktioner!$P$1,IF(Funktioner!$P$3=\"\",\"\",Funktioner!$P$3),IF(Uträkningsmall!$A17=Funktioner!$Q$1,IF(Funktioner!$Q$3=\"\",\"\",Funktioner!$Q$3),IF(Uträkningsmall!$A17=Funktioner!$R$1,IF(Funktioner!$R$3=\"\",\"\",Funktioner!$R$3),IF(Uträkningsmall!$A17=Funktioner!$S$1,IF(Funktioner!$S$3=\"\",\"\",Funktioner!$S$3),IF(Uträkningsmall!$A17=Funktioner!$T$1,IF(Funktioner!$T$3=\"\",\"\",Funktioner!$T$3),IF(Uträkningsmall!$A17=Funktioner!$U$1,IF(Funktioner!$U$3=\"\",\"\",Funktioner!$U$3),IF(Uträkningsmall!$A17=Funktioner!$V$1,IF(Funktioner!$V$3=\"\",\"\",Funktioner!$V$3),IF(Uträkningsmall!$A17=Funktioner!$W$1,IF(Funktioner!$W$3=\"\",\"\",Funktioner!$W$3),IF(Uträkningsmall!$A17=Funktioner!$X$1,IF(Funktioner!$X$3=\"\",\"\",Funktioner!$X$3),IF(Uträkningsmall!$A17=Funktioner!$Y$1,IF(Funktioner!$Y$3=\"\",\"\",Funktioner!$Y$3),IF(Uträkningsmall!$A17=Funktioner!$Z$1,IF(Funktioner!$Z$3=\"\",\"\",Funktioner!$Z$3),IF(Uträkningsmall!$A17=Funktioner!$AA$1,IF(Funktioner!$AA$3=\"\",\"\",Funktioner!$AA$3),IF(Uträkningsmall!$A17=Funktioner!$AB$1,IF(Funktioner!$AB$3=\"\",\"\",Funktioner!$AB$3),IF(Uträkningsmall!$A17=Funktioner!$AC$1,IF(Funktioner!$AC$3=\"\",\"\",Funktioner!$AC$3),IF(Uträkningsmall!$A17=Funktioner!$AD$1,IF(Funktioner!$AD$3=\"\",\"\",Funktioner!$AD$3),IF(Uträkningsmall!$A17=Funktioner!$AE$1,IF(Funktioner!$AE$3=\"\",\"\",Funktioner!$AE$3),IF(Uträkningsmall!$A17=Funktioner!$AF$1,IF(Funktioner!$AF$3=\"\",\"\",Funktioner!$AF$3),IF(Uträkningsmall!$A17=Funktioner!$AG$1,IF(Funktioner!$AG$3=\"\",\"\",Funktioner!$AG$3),IF(Uträkningsmall!$A17=Funktioner!$AH$1,IF(Funktioner!$AH$3=\"\",\"\",Funktioner!$AH$3),IF(Uträkningsmall!$A17=Funktioner!$AI$1,IF(Funktioner!$AI$3=\"\",\"\",Funktioner!$AI$3),IF(Uträkningsmall!$A17=Funktioner!$AJ$1,IF(Funktioner!$AJ$3=\"\",\"\",Funktioner!$AJ$3),IF(Uträkningsmall!$A17=Funktioner!$AK$1,IF(Funktioner!$AK$3=\"\",\"\",Funktioner!$AK$3),IF(Uträkningsmall!$A17=Funktioner!$AL$1,IF(Funktioner!$AL$3=\"\",\"\",Funktioner!$AL$3),IF(Uträkningsmall!$A17=Funktioner!$AM$1,IF(Funktioner!$AM$3=\"\",\"\",Funktioner!$AM$3),IF(Uträkningsmall!$A17=Funktioner!$AN$1,IF(Funktioner!$AN$3=\"\",\"\",Funktioner!$AN$3),IF(Uträkningsmall!$A17=Funktioner!$AO$1,IF(Funktioner!$AO$3=\"\",\"\",Funktioner!$AO$3),IF(Uträkningsmall!$A17=Funktioner!$AP$1,IF(Funktioner!$AP$3=\"\",\"\",Funktioner!$AP$3),IF(Uträkningsmall!$A17=Funktioner!$AQ$1,IF(Funktioner!$AQ$3=\"\",\"\",Funktioner!$AQ$3),IF(Uträkningsmall!$A17=Funktioner!$AR$1,IF(Funktioner!$AR$3=\"\",\"\",Funktioner!$AR$3),IF(Uträkningsmall!$A17=Funktioner!$AS$1,IF(Funktioner!$AS$3=\"\",\"\",Funktioner!$AS$3),IF(Uträkningsmall!$A17=Funktioner!$AT$1,IF(Funktioner!$AT$3=\"\",\"\",Funktioner!$AT$3),IF(Uträkningsmall!$A17=Funktioner!$AU$1,IF(Funktioner!$AU$3=\"\",\"\",Funktioner!$AU$3),IF(Uträkningsmall!$A17=Funktioner!$AV$1,IF(Funktioner!$AV$3=\"\",\"\",Funktioner!$AV$3),\"\")))))))))))))))))))))))))))))))))))))))))))))))","v":""},{"$f":"Uträkningsmall!$A17&Uträkningsmall!$F17","v":""},{"$f":"IFERROR(INDEX('Avtalat sortiment'!$K$3:$R$279,MATCH($K114,Funktioner!$BZ$3:$BZ$280,0),MATCH(L$109,'Avtalat sortiment'!$K$2:$R$2,0)),\"\")","v":0},{"$f":"IFERROR(INDEX('Avtalat sortiment'!$K$3:$R$279,MATCH($K114,Funktioner!$BZ$3:$BZ$280,0),MATCH(M$109,'Avtalat sortiment'!$K$2:$R$2,0)),\"\")","v":0},{"$f":"IFERROR(INDEX('Avtalat sortiment'!$K$3:$R$279,MATCH($K114,Funktioner!$BZ$3:$BZ$280,0),MATCH(N$109,'Avtalat sortiment'!$K$2:$R$2,0)),\"\")","v":0},{"$f":"IFERROR(INDEX('Avtalat sortiment'!$K$3:$R$279,MATCH($K114,Funktioner!$BZ$3:$BZ$280,0),MATCH(O$109,'Avtalat sortiment'!$K$2:$R$2,0)),\"\")","v":0},{"$f":"IFERROR(INDEX('Avtalat sortiment'!$K$3:$R$279,MATCH($K114,Funktioner!$BZ$3:$BZ$280,0),MATCH(P$109,'Avtalat sortiment'!$K$2:$R$2,0)),\"\")","v":0},{"$f":"IFERROR(INDEX('Avtalat sortiment'!$K$3:$R$279,MATCH($K114,Funktioner!$BZ$3:$BZ$280,0),MATCH(Q$109,'Avtalat sortiment'!$K$2:$R$2,0)),\"\")","v":0},{"$f":"IFERROR(INDEX('Avtalat sortiment'!$K$3:$R$279,MATCH($K114,Funktioner!$BZ$3:$BZ$280,0),MATCH(R$109,'Avtalat sortiment'!$K$2:$R$2,0)),\"\")","v":0},{"$f":"IFERROR(INDEX('Avtalat sortiment'!$K$3:$R$279,MATCH($K114,Funktioner!$BZ$3:$BZ$280,0),MATCH(S$109,'Avtalat sortiment'!$K$2:$R$2,0)),\"\")","v":0},{"$f":"IF(Uträkningsmall!$G17=\"\",\"\",IF(U114=\"Kan ej leverera\",240000000,IF(ISNUMBER(L114),L114*Uträkningsmall!$G17,\"\")))","v":""},"",null,{"$f":"IFERROR(INDEX('Avtalat sortiment'!$U$3:$AB$279,MATCH($K114,Funktioner!$CA$3:$CA$280,0),MATCH(W$109,'Avtalat sortiment'!$U$2:$AB$2,0)),\"\")","v":0},{"$f":"IFERROR(INDEX('Avtalat sortiment'!$U$3:$AB$279,MATCH($K114,Funktioner!$CA$3:$CA$280,0),MATCH(X$109,'Avtalat sortiment'!$U$2:$AB$2,0)),\"\")","v":0},{"$f":"IFERROR(INDEX('Avtalat sortiment'!$U$3:$AB$279,MATCH($K114,Funktioner!$CA$3:$CA$280,0),MATCH(Y$109,'Avtalat sortiment'!$U$2:$AB$2,0)),\"\")","v":0},{"$f":"IFERROR(INDEX('Avtalat sortiment'!$U$3:$AB$279,MATCH($K114,Funktioner!$CA$3:$CA$280,0),MATCH(Z$109,'Avtalat sortiment'!$U$2:$AB$2,0)),\"\")","v":0},{"$f":"IFERROR(INDEX('Avtalat sortiment'!$U$3:$AB$279,MATCH($K114,Funktioner!$CA$3:$CA$280,0),MATCH(AA$109,'Avtalat sortiment'!$U$2:$AB$2,0)),\"\")","v":"https://www.procurator.com/svSE/c/Montagehandskar/Montagehandske-konstl%C3%A4der-Worksafe-A100?c=23_02_01&p=U-AR98&a=2052135"},{"$f":"IFERROR(INDEX('Avtalat sortiment'!$U$3:$AB$279,MATCH($K114,Funktioner!$CA$3:$CA$280,0),MATCH(AB$109,'Avtalat sortiment'!$U$2:$AB$2,0)),\"\")","v":"Montagehandske Worksafe A100 "},{"$f":"IFERROR(INDEX('Avtalat sortiment'!$U$3:$AB$279,MATCH($K114,Funktioner!$CA$3:$CA$280,0),MATCH(AC$109,'Avtalat sortiment'!$U$2:$AB$2,0)),\"\")","v":7},{"$f":"IFERROR(INDEX('Avtalat sortiment'!$K$3:$R$279,MATCH($K114,Funktioner!$BZ$3:$BZ$280,0),MATCH(AD$109,'Avtalat sortiment'!$K$2:$R$2,0)),\"\")","v":0},{"$f":"IF(Uträkningsmall!$G17=\"\",\"\",IF(AF114=\"Kan ej leverera\",240000000,IF(ISNUMBER(W114),W114*Uträkningsmall!$G17,\"\")))","v":""},"",null,{"$f":"IFERROR(INDEX('Avtalat sortiment'!$AE$3:$AL$279,MATCH($K114,Funktioner!$CB$3:$CB$280,0),MATCH(AH$109,'Avtalat sortiment'!$AE$2:$AL$2,0)),\"\")","v":0},{"$f":"IFERROR(INDEX('Avtalat sortiment'!$AE$3:$AL$279,MATCH($K114,Funktioner!$CB$3:$CB$280,0),MATCH(AI$109,'Avtalat sortiment'!$AE$2:$AL$2,0)),\"\")","v":0},{"$f":"IFERROR(INDEX('Avtalat sortiment'!$AE$3:$AL$279,MATCH($K114,Funktioner!$CB$3:$CB$280,0),MATCH(AJ$109,'Avtalat sortiment'!$AE$2:$AL$2,0)),\"\")","v":""},{"$f":"IFERROR(INDEX('Avtalat sortiment'!$AE$3:$AL$279,MATCH($K114,Funktioner!$CB$3:$CB$280,0),MATCH(AK$109,'Avtalat sortiment'!$AE$2:$AL$2,0)),\"\")","v":0},{"$f":"IFERROR(INDEX('Avtalat sortiment'!$AE$3:$AL$279,MATCH($K114,Funktioner!$CB$3:$CB$280,0),MATCH(AL$109,'Avtalat sortiment'!$AE$2:$AL$2,0)),\"\")","v":0},{"$f":"IFERROR(INDEX('Avtalat sortiment'!$AE$3:$AL$279,MATCH($K114,Funktioner!$CB$3:$CB$280,0),MATCH(AM$109,'Avtalat sortiment'!$AE$2:$AL$2,0)),\"\")","v":0},{"$f":"IFERROR(INDEX('Avtalat sortiment'!$AE$3:$AL$279,MATCH($K114,Funktioner!$CB$3:$CB$280,0),MATCH(AN$109,'Avtalat sortiment'!$AE$2:$AL$2,0)),\"\")","v":0},{"$f":"IFERROR(INDEX('Avtalat sortiment'!$AE$3:$AL$279,MATCH($K114,Funktioner!$CB$3:$CB$280,0),MATCH(AO$109,'Avtalat sortiment'!$AE$2:$AL$2,0)),\"\")","v":0},{"$f":"IF(Uträkningsmall!$G17=\"\",\"\",IF(AQ114=\"Kan ej leverera\",240000000,IF(ISNUMBER(AH114),AH114*Uträkningsmall!$G17,\"\")))","v":""},"",null,{"$f":"IFERROR(INDEX('Avtalat sortiment'!$AO$3:$AV$257,MATCH($K114,Funktioner!$CC$3:$CC$280,0),MATCH(AS$109,'Avtalat sortiment'!$AO$2:$AV$2,0)),\"\")","v":0},{"$f":"IFERROR(INDEX('Avtalat sortiment'!$AO$3:$AV$257,MATCH($K114,Funktioner!$CC$3:$CC$280,0),MATCH(AT$109,'Avtalat sortiment'!$AO$2:$AV$2,0)),\"\")","v":0},{"$f":"IFERROR(INDEX('Avtalat sortiment'!$AO$3:$AV$257,MATCH($K114,Funktioner!$CC$3:$CC$280,0),MATCH(AU$109,'Avtalat sortiment'!$AO$2:$AV$2,0)),\"\")","v":""},{"$f":"IFERROR(INDEX('Avtalat sortiment'!$AO$3:$AV$257,MATCH($K114,Funktioner!$CC$3:$CC$280,0),MATCH(AV$109,'Avtalat sortiment'!$AO$2:$AV$2,0)),\"\")","v":0},{"$f":"IFERROR(INDEX('Avtalat sortiment'!$AO$3:$AV$257,MATCH($K114,Funktioner!$CC$3:$CC$280,0),MATCH(AW$109,'Avtalat sortiment'!$AO$2:$AV$2,0)),\"\")","v":0},{"$f":"IFERROR(INDEX('Avtalat sortiment'!$AO$3:$AV$257,MATCH($K114,Funktioner!$CC$3:$CC$280,0),MATCH(AX$109,'Avtalat sortiment'!$AO$2:$AV$2,0)),\"\")","v":0},{"$f":"IFERROR(INDEX('Avtalat sortiment'!$AO$3:$AV$257,MATCH($K114,Funktioner!$CC$3:$CC$280,0),MATCH(AY$109,'Avtalat sortiment'!$AO$2:$AV$2,0)),\"\")","v":0},{"$f":"IFERROR(INDEX('Avtalat sortiment'!$AO$3:$AV$257,MATCH($K114,Funktioner!$CC$3:$CC$280,0),MATCH(AZ$109,'Avtalat sortiment'!$AO$2:$AV$2,0)),\"\")","v":0},{"$f":"IF(Uträkningsmall!$G17=\"\",\"\",IF(BB114=\"Kan ej leverera\",240000000,IF(ISNUMBER(AS114),AS114*Uträkningsmall!$G17,\"\")))","v":""},"",null,{"$f":"IFERROR(INDEX('Avtalat sortiment'!$AY$3:$BF$219,MATCH($K114,Funktioner!$CD$3:$CD$280,0),MATCH(BD$109,'Avtalat sortiment'!$AY$2:$BF$2,0)),\"\")","v":0},{"$f":"IFERROR(INDEX('Avtalat sortiment'!$AY$3:$BF$219,MATCH($K114,Funktioner!$CD$3:$CD$280,0),MATCH(BE$109,'Avtalat sortiment'!$AY$2:$BF$2,0)),\"\")","v":0},{"$f":"IFERROR(INDEX('Avtalat sortiment'!$AY$3:$BF$219,MATCH($K114,Funktioner!$CD$3:$CD$280,0),MATCH(BF$109,'Avtalat sortiment'!$AY$2:$BF$2,0)),\"\")","v":""},{"$f":"IFERROR(INDEX('Avtalat sortiment'!$AY$3:$BF$219,MATCH($K114,Funktioner!$CD$3:$CD$280,0),MATCH(BG$109,'Avtalat sortiment'!$AY$2:$BF$2,0)),\"\")","v":269173},{"$f":"IFERROR(INDEX('Avtalat sortiment'!$AY$3:$BF$219,MATCH($K114,Funktioner!$CD$3:$CD$280,0),MATCH(BH$109,'Avtalat sortiment'!$AY$2:$BF$2,0)),\"\")","v":"https://www.lyrecocontract.se/web/ePortal/ctrl?action=showiteminfo&itemNo=269173"},{"$f":"IFERROR(INDEX('Avtalat sortiment'!$AY$3:$BF$219,MATCH($K114,Funktioner!$CD$3:$CD$280,0),MATCH(BI$109,'Avtalat sortiment'!$AY$2:$BF$2,0)),\"\")","v":"Munskydd Typ IIR med öronband Blå 50/FP"},{"$f":"IFERROR(INDEX('Avtalat sortiment'!$AY$3:$BF$219,MATCH($K114,Funktioner!$CD$3:$CD$280,0),MATCH(BJ$109,'Avtalat sortiment'!$AY$2:$BF$2,0)),\"\")","v":0},{"$f":"IFERROR(INDEX('Avtalat sortiment'!$AY$3:$BF$219,MATCH($K114,Funktioner!$CD$3:$CD$280,0),MATCH(BK$109,'Avtalat sortiment'!$AY$2:$BF$2,0)),\"\")","v":"Inväntar återkoppling från vår leverantör, i enlighet med 6.6.2 i underlag anger vi därmed ej pris         "},{"$f":"IF(Uträkningsmall!$G17=\"\",\"\",IF(BM114=\"Kan ej leverera\",240000000,IF(ISNUMBER(BD114),BD114*Uträkningsmall!$G17,\"\")))","v":""},"",null,{"$f":"IFERROR(INDEX('Avtalat sortiment'!$BI$3:$BP$279,MATCH($K114,Funktioner!$CE$3:$CE$280,0),MATCH(BO$109,'Avtalat sortiment'!$BI$2:$BP$2,0)),\"\")","v":0},{"$f":"IFERROR(INDEX('Avtalat sortiment'!$BI$3:$BP$279,MATCH($K114,Funktioner!$CE$3:$CE$280,0),MATCH(BP$109,'Avtalat sortiment'!$BI$2:$BP$2,0)),\"\")","v":0},{"$f":"IFERROR(INDEX('Avtalat sortiment'!$BI$3:$BP$279,MATCH($K114,Funktioner!$CE$3:$CE$280,0),MATCH(BQ$109,'Avtalat sortiment'!$BI$2:$BP$2,0)),\"\")","v":0},{"$f":"IFERROR(INDEX('Avtalat sortiment'!$BI$3:$BP$279,MATCH($K114,Funktioner!$CE$3:$CE$280,0),MATCH(BR$109,'Avtalat sortiment'!$BI$2:$BP$2,0)),\"\")","v":0},{"$f":"IFERROR(INDEX('Avtalat sortiment'!$BI$3:$BP$279,MATCH($K114,Funktioner!$CE$3:$CE$280,0),MATCH(BS$109,'Avtalat sortiment'!$BI$2:$BP$2,0)),\"\")","v":0},{"$f":"IFERROR(INDEX('Avtalat sortiment'!$BI$3:$BP$279,MATCH($K114,Funktioner!$CE$3:$CE$280,0),MATCH(BT$109,'Avtalat sortiment'!$BI$2:$BP$2,0)),\"\")","v":0},{"$f":"IFERROR(INDEX('Avtalat sortiment'!$BI$3:$BP$279,MATCH($K114,Funktioner!$CE$3:$CE$280,0),MATCH(BU$109,'Avtalat sortiment'!$BI$2:$BP$2,0)),\"\")","v":0},{"$f":"IFERROR(INDEX('Avtalat sortiment'!$BI$3:$BP$279,MATCH($K114,Funktioner!$CE$3:$CE$280,0),MATCH(BV$109,'Avtalat sortiment'!$BI$2:$BP$2,0)),\"\")","v":0},{"$f":"IF(Uträkningsmall!$G17=\"\",\"\",IF(BX114=\"Kan ej leverera\",240000000,IF(ISNUMBER(BO114),BO114*Uträkningsmall!$G17,\"\")))","v":""},"",null,{"$f":"IF('Avtalat sortiment'!K114<>\"\",'Avtalat sortiment'!$A114&'Avtalat sortiment'!Q114,\"\")","v":""},{"$f":"IF('Avtalat sortiment'!U114<>\"\",'Avtalat sortiment'!T114&'Avtalat sortiment'!AA114,\"\")","v":""},{"$f":"IF('Avtalat sortiment'!AE114<>\"\",'Avtalat sortiment'!AD114&'Avtalat sortiment'!AK114,\"\")","v":""},{"$f":"IF('Avtalat sortiment'!AO114<>\"\",'Avtalat sortiment'!AN114&'Avtalat sortiment'!AU114,\"\")","v":""},{"$f":"IF('Avtalat sortiment'!AY114<>\"\",'Avtalat sortiment'!AX114&'Avtalat sortiment'!BE114,\"\")","v":""},{"$f":"IF('Avtalat sortiment'!BI114<>\"\",'Avtalat sortiment'!BH114&'Avtalat sortiment'!BO114,\"\")","v":""}]
[null,null,null,null,null,null,null,null,null,{"$f":"IF(Uträkningsmall!$A18=Funktioner!$B$1,IF(Funktioner!$B$3=\"\",\"\",Funktioner!$B$3),IF(Uträkningsmall!$A18=Funktioner!$C$1,IF(Funktioner!$C$3=\"\",\"\",Funktioner!$C$3),IF(Uträkningsmall!$A18=Funktioner!$D$1,IF(Funktioner!$D$3=\"\",\"\",Funktioner!$D$3),IF(Uträkningsmall!$A18=Funktioner!$E$1,IF(Funktioner!$E$3=\"\",\"\",Funktioner!$E$3),IF(Uträkningsmall!$A18=Funktioner!$F$1,IF(Funktioner!$F$3=\"\",\"\",Funktioner!$F$3),IF(Uträkningsmall!$A18=Funktioner!$G$1,IF(Funktioner!$G$3=\"\",\"\",Funktioner!$G$3),IF(Uträkningsmall!$A18=Funktioner!$H$1,IF(Funktioner!$H$3=\"\",\"\",Funktioner!$H$3),IF(Uträkningsmall!$A18=Funktioner!$I$1,IF(Funktioner!$I$3=\"\",\"\",Funktioner!$I$3),IF(Uträkningsmall!$A18=Funktioner!$J$1,IF(Funktioner!$J$3=\"\",\"\",Funktioner!$J$3),IF(Uträkningsmall!$A18=Funktioner!$K$1,IF(Funktioner!$K$3=\"\",\"\",Funktioner!$K$3),IF(Uträkningsmall!$A18=Funktioner!$L$1,IF(Funktioner!$L$3=\"\",\"\",Funktioner!$L$3),IF(Uträkningsmall!$A18=Funktioner!$M$1,IF(Funktioner!$M$3=\"\",\"\",Funktioner!$M$3),IF(Uträkningsmall!$A18=Funktioner!$N$1,IF(Funktioner!$N$3=\"\",\"\",Funktioner!$N$3),IF(Uträkningsmall!$A18=Funktioner!$O$1,IF(Funktioner!$O$3=\"\",\"\",Funktioner!$O$3),IF(Uträkningsmall!$A18=Funktioner!$P$1,IF(Funktioner!$P$3=\"\",\"\",Funktioner!$P$3),IF(Uträkningsmall!$A18=Funktioner!$Q$1,IF(Funktioner!$Q$3=\"\",\"\",Funktioner!$Q$3),IF(Uträkningsmall!$A18=Funktioner!$R$1,IF(Funktioner!$R$3=\"\",\"\",Funktioner!$R$3),IF(Uträkningsmall!$A18=Funktioner!$S$1,IF(Funktioner!$S$3=\"\",\"\",Funktioner!$S$3),IF(Uträkningsmall!$A18=Funktioner!$T$1,IF(Funktioner!$T$3=\"\",\"\",Funktioner!$T$3),IF(Uträkningsmall!$A18=Funktioner!$U$1,IF(Funktioner!$U$3=\"\",\"\",Funktioner!$U$3),IF(Uträkningsmall!$A18=Funktioner!$V$1,IF(Funktioner!$V$3=\"\",\"\",Funktioner!$V$3),IF(Uträkningsmall!$A18=Funktioner!$W$1,IF(Funktioner!$W$3=\"\",\"\",Funktioner!$W$3),IF(Uträkningsmall!$A18=Funktioner!$X$1,IF(Funktioner!$X$3=\"\",\"\",Funktioner!$X$3),IF(Uträkningsmall!$A18=Funktioner!$Y$1,IF(Funktioner!$Y$3=\"\",\"\",Funktioner!$Y$3),IF(Uträkningsmall!$A18=Funktioner!$Z$1,IF(Funktioner!$Z$3=\"\",\"\",Funktioner!$Z$3),IF(Uträkningsmall!$A18=Funktioner!$AA$1,IF(Funktioner!$AA$3=\"\",\"\",Funktioner!$AA$3),IF(Uträkningsmall!$A18=Funktioner!$AB$1,IF(Funktioner!$AB$3=\"\",\"\",Funktioner!$AB$3),IF(Uträkningsmall!$A18=Funktioner!$AC$1,IF(Funktioner!$AC$3=\"\",\"\",Funktioner!$AC$3),IF(Uträkningsmall!$A18=Funktioner!$AD$1,IF(Funktioner!$AD$3=\"\",\"\",Funktioner!$AD$3),IF(Uträkningsmall!$A18=Funktioner!$AE$1,IF(Funktioner!$AE$3=\"\",\"\",Funktioner!$AE$3),IF(Uträkningsmall!$A18=Funktioner!$AF$1,IF(Funktioner!$AF$3=\"\",\"\",Funktioner!$AF$3),IF(Uträkningsmall!$A18=Funktioner!$AG$1,IF(Funktioner!$AG$3=\"\",\"\",Funktioner!$AG$3),IF(Uträkningsmall!$A18=Funktioner!$AH$1,IF(Funktioner!$AH$3=\"\",\"\",Funktioner!$AH$3),IF(Uträkningsmall!$A18=Funktioner!$AI$1,IF(Funktioner!$AI$3=\"\",\"\",Funktioner!$AI$3),IF(Uträkningsmall!$A18=Funktioner!$AJ$1,IF(Funktioner!$AJ$3=\"\",\"\",Funktioner!$AJ$3),IF(Uträkningsmall!$A18=Funktioner!$AK$1,IF(Funktioner!$AK$3=\"\",\"\",Funktioner!$AK$3),IF(Uträkningsmall!$A18=Funktioner!$AL$1,IF(Funktioner!$AL$3=\"\",\"\",Funktioner!$AL$3),IF(Uträkningsmall!$A18=Funktioner!$AM$1,IF(Funktioner!$AM$3=\"\",\"\",Funktioner!$AM$3),IF(Uträkningsmall!$A18=Funktioner!$AN$1,IF(Funktioner!$AN$3=\"\",\"\",Funktioner!$AN$3),IF(Uträkningsmall!$A18=Funktioner!$AO$1,IF(Funktioner!$AO$3=\"\",\"\",Funktioner!$AO$3),IF(Uträkningsmall!$A18=Funktioner!$AP$1,IF(Funktioner!$AP$3=\"\",\"\",Funktioner!$AP$3),IF(Uträkningsmall!$A18=Funktioner!$AQ$1,IF(Funktioner!$AQ$3=\"\",\"\",Funktioner!$AQ$3),IF(Uträkningsmall!$A18=Funktioner!$AR$1,IF(Funktioner!$AR$3=\"\",\"\",Funktioner!$AR$3),IF(Uträkningsmall!$A18=Funktioner!$AS$1,IF(Funktioner!$AS$3=\"\",\"\",Funktioner!$AS$3),IF(Uträkningsmall!$A18=Funktioner!$AT$1,IF(Funktioner!$AT$3=\"\",\"\",Funktioner!$AT$3),IF(Uträkningsmall!$A18=Funktioner!$AU$1,IF(Funktioner!$AU$3=\"\",\"\",Funktioner!$AU$3),IF(Uträkningsmall!$A18=Funktioner!$AV$1,IF(Funktioner!$AV$3=\"\",\"\",Funktioner!$AV$3),\"\")))))))))))))))))))))))))))))))))))))))))))))))","v":""},{"$f":"Uträkningsmall!$A18&Uträkningsmall!$F18","v":""},{"$f":"IFERROR(INDEX('Avtalat sortiment'!$K$3:$R$279,MATCH($K115,Funktioner!$BZ$3:$BZ$280,0),MATCH(L$109,'Avtalat sortiment'!$K$2:$R$2,0)),\"\")","v":0},{"$f":"IFERROR(INDEX('Avtalat sortiment'!$K$3:$R$279,MATCH($K115,Funktioner!$BZ$3:$BZ$280,0),MATCH(M$109,'Avtalat sortiment'!$K$2:$R$2,0)),\"\")","v":0},{"$f":"IFERROR(INDEX('Avtalat sortiment'!$K$3:$R$279,MATCH($K115,Funktioner!$BZ$3:$BZ$280,0),MATCH(N$109,'Avtalat sortiment'!$K$2:$R$2,0)),\"\")","v":0},{"$f":"IFERROR(INDEX('Avtalat sortiment'!$K$3:$R$279,MATCH($K115,Funktioner!$BZ$3:$BZ$280,0),MATCH(O$109,'Avtalat sortiment'!$K$2:$R$2,0)),\"\")","v":0},{"$f":"IFERROR(INDEX('Avtalat sortiment'!$K$3:$R$279,MATCH($K115,Funktioner!$BZ$3:$BZ$280,0),MATCH(P$109,'Avtalat sortiment'!$K$2:$R$2,0)),\"\")","v":0},{"$f":"IFERROR(INDEX('Avtalat sortiment'!$K$3:$R$279,MATCH($K115,Funktioner!$BZ$3:$BZ$280,0),MATCH(Q$109,'Avtalat sortiment'!$K$2:$R$2,0)),\"\")","v":0},{"$f":"IFERROR(INDEX('Avtalat sortiment'!$K$3:$R$279,MATCH($K115,Funktioner!$BZ$3:$BZ$280,0),MATCH(R$109,'Avtalat sortiment'!$K$2:$R$2,0)),\"\")","v":0},{"$f":"IFERROR(INDEX('Avtalat sortiment'!$K$3:$R$279,MATCH($K115,Funktioner!$BZ$3:$BZ$280,0),MATCH(S$109,'Avtalat sortiment'!$K$2:$R$2,0)),\"\")","v":0},{"$f":"IF(Uträkningsmall!$G18=\"\",\"\",IF(U115=\"Kan ej leverera\",240000000,IF(ISNUMBER(L115),L115*Uträkningsmall!$G18,\"\")))","v":""},"",null,{"$f":"IFERROR(INDEX('Avtalat sortiment'!$U$3:$AB$279,MATCH($K115,Funktioner!$CA$3:$CA$280,0),MATCH(W$109,'Avtalat sortiment'!$U$2:$AB$2,0)),\"\")","v":0},{"$f":"IFERROR(INDEX('Avtalat sortiment'!$U$3:$AB$279,MATCH($K115,Funktioner!$CA$3:$CA$280,0),MATCH(X$109,'Avtalat sortiment'!$U$2:$AB$2,0)),\"\")","v":0},{"$f":"IFERROR(INDEX('Avtalat sortiment'!$U$3:$AB$279,MATCH($K115,Funktioner!$CA$3:$CA$280,0),MATCH(Y$109,'Avtalat sortiment'!$U$2:$AB$2,0)),\"\")","v":0},{"$f":"IFERROR(INDEX('Avtalat sortiment'!$U$3:$AB$279,MATCH($K115,Funktioner!$CA$3:$CA$280,0),MATCH(Z$109,'Avtalat sortiment'!$U$2:$AB$2,0)),\"\")","v":0},{"$f":"IFERROR(INDEX('Avtalat sortiment'!$U$3:$AB$279,MATCH($K115,Funktioner!$CA$3:$CA$280,0),MATCH(AA$109,'Avtalat sortiment'!$U$2:$AB$2,0)),\"\")","v":"https://www.procurator.com/svSE/c/Montagehandskar/Montagehandske-konstl%C3%A4der-Worksafe-A100?c=23_02_01&p=U-AR98&a=2052135"},{"$f":"IFERROR(INDEX('Avtalat sortiment'!$U$3:$AB$279,MATCH($K115,Funktioner!$CA$3:$CA$280,0),MATCH(AB$109,'Avtalat sortiment'!$U$2:$AB$2,0)),\"\")","v":"Montagehandske Worksafe A100 "},{"$f":"IFERROR(INDEX('Avtalat sortiment'!$U$3:$AB$279,MATCH($K115,Funktioner!$CA$3:$CA$280,0),MATCH(AC$109,'Avtalat sortiment'!$U$2:$AB$2,0)),\"\")","v":7},{"$f":"IFERROR(INDEX('Avtalat sortiment'!$K$3:$R$279,MATCH($K115,Funktioner!$BZ$3:$BZ$280,0),MATCH(AD$109,'Avtalat sortiment'!$K$2:$R$2,0)),\"\")","v":0},{"$f":"IF(Uträkningsmall!$G18=\"\",\"\",IF(AF115=\"Kan ej leverera\",240000000,IF(ISNUMBER(W115),W115*Uträkningsmall!$G18,\"\")))","v":""},"",null,{"$f":"IFERROR(INDEX('Avtalat sortiment'!$AE$3:$AL$279,MATCH($K115,Funktioner!$CB$3:$CB$280,0),MATCH(AH$109,'Avtalat sortiment'!$AE$2:$AL$2,0)),\"\")","v":0},{"$f":"IFERROR(INDEX('Avtalat sortiment'!$AE$3:$AL$279,MATCH($K115,Funktioner!$CB$3:$CB$280,0),MATCH(AI$109,'Avtalat sortiment'!$AE$2:$AL$2,0)),\"\")","v":0},{"$f":"IFERROR(INDEX('Avtalat sortiment'!$AE$3:$AL$279,MATCH($K115,Funktioner!$CB$3:$CB$280,0),MATCH(AJ$109,'Avtalat sortiment'!$AE$2:$AL$2,0)),\"\")","v":""},{"$f":"IFERROR(INDEX('Avtalat sortiment'!$AE$3:$AL$279,MATCH($K115,Funktioner!$CB$3:$CB$280,0),MATCH(AK$109,'Avtalat sortiment'!$AE$2:$AL$2,0)),\"\")","v":0},{"$f":"IFERROR(INDEX('Avtalat sortiment'!$AE$3:$AL$279,MATCH($K115,Funktioner!$CB$3:$CB$280,0),MATCH(AL$109,'Avtalat sortiment'!$AE$2:$AL$2,0)),\"\")","v":0},{"$f":"IFERROR(INDEX('Avtalat sortiment'!$AE$3:$AL$279,MATCH($K115,Funktioner!$CB$3:$CB$280,0),MATCH(AM$109,'Avtalat sortiment'!$AE$2:$AL$2,0)),\"\")","v":0},{"$f":"IFERROR(INDEX('Avtalat sortiment'!$AE$3:$AL$279,MATCH($K115,Funktioner!$CB$3:$CB$280,0),MATCH(AN$109,'Avtalat sortiment'!$AE$2:$AL$2,0)),\"\")","v":0},{"$f":"IFERROR(INDEX('Avtalat sortiment'!$AE$3:$AL$279,MATCH($K115,Funktioner!$CB$3:$CB$280,0),MATCH(AO$109,'Avtalat sortiment'!$AE$2:$AL$2,0)),\"\")","v":0},{"$f":"IF(Uträkningsmall!$G18=\"\",\"\",IF(AQ115=\"Kan ej leverera\",240000000,IF(ISNUMBER(AH115),AH115*Uträkningsmall!$G18,\"\")))","v":""},"",null,{"$f":"IFERROR(INDEX('Avtalat sortiment'!$AO$3:$AV$257,MATCH($K115,Funktioner!$CC$3:$CC$280,0),MATCH(AS$109,'Avtalat sortiment'!$AO$2:$AV$2,0)),\"\")","v":0},{"$f":"IFERROR(INDEX('Avtalat sortiment'!$AO$3:$AV$257,MATCH($K115,Funktioner!$CC$3:$CC$280,0),MATCH(AT$109,'Avtalat sortiment'!$AO$2:$AV$2,0)),\"\")","v":0},{"$f":"IFERROR(INDEX('Avtalat sortiment'!$AO$3:$AV$257,MATCH($K115,Funktioner!$CC$3:$CC$280,0),MATCH(AU$109,'Avtalat sortiment'!$AO$2:$AV$2,0)),\"\")","v":""},{"$f":"IFERROR(INDEX('Avtalat sortiment'!$AO$3:$AV$257,MATCH($K115,Funktioner!$CC$3:$CC$280,0),MATCH(AV$109,'Avtalat sortiment'!$AO$2:$AV$2,0)),\"\")","v":0},{"$f":"IFERROR(INDEX('Avtalat sortiment'!$AO$3:$AV$257,MATCH($K115,Funktioner!$CC$3:$CC$280,0),MATCH(AW$109,'Avtalat sortiment'!$AO$2:$AV$2,0)),\"\")","v":0},{"$f":"IFERROR(INDEX('Avtalat sortiment'!$AO$3:$AV$257,MATCH($K115,Funktioner!$CC$3:$CC$280,0),MATCH(AX$109,'Avtalat sortiment'!$AO$2:$AV$2,0)),\"\")","v":0},{"$f":"IFERROR(INDEX('Avtalat sortiment'!$AO$3:$AV$257,MATCH($K115,Funktioner!$CC$3:$CC$280,0),MATCH(AY$109,'Avtalat sortiment'!$AO$2:$AV$2,0)),\"\")","v":0},{"$f":"IFERROR(INDEX('Avtalat sortiment'!$AO$3:$AV$257,MATCH($K115,Funktioner!$CC$3:$CC$280,0),MATCH(AZ$109,'Avtalat sortiment'!$AO$2:$AV$2,0)),\"\")","v":0},{"$f":"IF(Uträkningsmall!$G18=\"\",\"\",IF(BB115=\"Kan ej leverera\",240000000,IF(ISNUMBER(AS115),AS115*Uträkningsmall!$G18,\"\")))","v":""},"",null,{"$f":"IFERROR(INDEX('Avtalat sortiment'!$AY$3:$BF$219,MATCH($K115,Funktioner!$CD$3:$CD$280,0),MATCH(BD$109,'Avtalat sortiment'!$AY$2:$BF$2,0)),\"\")","v":0},{"$f":"IFERROR(INDEX('Avtalat sortiment'!$AY$3:$BF$219,MATCH($K115,Funktioner!$CD$3:$CD$280,0),MATCH(BE$109,'Avtalat sortiment'!$AY$2:$BF$2,0)),\"\")","v":0},{"$f":"IFERROR(INDEX('Avtalat sortiment'!$AY$3:$BF$219,MATCH($K115,Funktioner!$CD$3:$CD$280,0),MATCH(BF$109,'Avtalat sortiment'!$AY$2:$BF$2,0)),\"\")","v":""},{"$f":"IFERROR(INDEX('Avtalat sortiment'!$AY$3:$BF$219,MATCH($K115,Funktioner!$CD$3:$CD$280,0),MATCH(BG$109,'Avtalat sortiment'!$AY$2:$BF$2,0)),\"\")","v":269173},{"$f":"IFERROR(INDEX('Avtalat sortiment'!$AY$3:$BF$219,MATCH($K115,Funktioner!$CD$3:$CD$280,0),MATCH(BH$109,'Avtalat sortiment'!$AY$2:$BF$2,0)),\"\")","v":"https://www.lyrecocontract.se/web/ePortal/ctrl?action=showiteminfo&itemNo=269173"},{"$f":"IFERROR(INDEX('Avtalat sortiment'!$AY$3:$BF$219,MATCH($K115,Funktioner!$CD$3:$CD$280,0),MATCH(BI$109,'Avtalat sortiment'!$AY$2:$BF$2,0)),\"\")","v":"Munskydd Typ IIR med öronband Blå 50/FP"},{"$f":"IFERROR(INDEX('Avtalat sortiment'!$AY$3:$BF$219,MATCH($K115,Funktioner!$CD$3:$CD$280,0),MATCH(BJ$109,'Avtalat sortiment'!$AY$2:$BF$2,0)),\"\")","v":0},{"$f":"IFERROR(INDEX('Avtalat sortiment'!$AY$3:$BF$219,MATCH($K115,Funktioner!$CD$3:$CD$280,0),MATCH(BK$109,'Avtalat sortiment'!$AY$2:$BF$2,0)),\"\")","v":"Inväntar återkoppling från vår leverantör, i enlighet med 6.6.2 i underlag anger vi därmed ej pris         "},{"$f":"IF(Uträkningsmall!$G18=\"\",\"\",IF(BM115=\"Kan ej leverera\",240000000,IF(ISNUMBER(BD115),BD115*Uträkningsmall!$G18,\"\")))","v":""},"",null,{"$f":"IFERROR(INDEX('Avtalat sortiment'!$BI$3:$BP$279,MATCH($K115,Funktioner!$CE$3:$CE$280,0),MATCH(BO$109,'Avtalat sortiment'!$BI$2:$BP$2,0)),\"\")","v":0},{"$f":"IFERROR(INDEX('Avtalat sortiment'!$BI$3:$BP$279,MATCH($K115,Funktioner!$CE$3:$CE$280,0),MATCH(BP$109,'Avtalat sortiment'!$BI$2:$BP$2,0)),\"\")","v":0},{"$f":"IFERROR(INDEX('Avtalat sortiment'!$BI$3:$BP$279,MATCH($K115,Funktioner!$CE$3:$CE$280,0),MATCH(BQ$109,'Avtalat sortiment'!$BI$2:$BP$2,0)),\"\")","v":0},{"$f":"IFERROR(INDEX('Avtalat sortiment'!$BI$3:$BP$279,MATCH($K115,Funktioner!$CE$3:$CE$280,0),MATCH(BR$109,'Avtalat sortiment'!$BI$2:$BP$2,0)),\"\")","v":0},{"$f":"IFERROR(INDEX('Avtalat sortiment'!$BI$3:$BP$279,MATCH($K115,Funktioner!$CE$3:$CE$280,0),MATCH(BS$109,'Avtalat sortiment'!$BI$2:$BP$2,0)),\"\")","v":0},{"$f":"IFERROR(INDEX('Avtalat sortiment'!$BI$3:$BP$279,MATCH($K115,Funktioner!$CE$3:$CE$280,0),MATCH(BT$109,'Avtalat sortiment'!$BI$2:$BP$2,0)),\"\")","v":0},{"$f":"IFERROR(INDEX('Avtalat sortiment'!$BI$3:$BP$279,MATCH($K115,Funktioner!$CE$3:$CE$280,0),MATCH(BU$109,'Avtalat sortiment'!$BI$2:$BP$2,0)),\"\")","v":0},{"$f":"IFERROR(INDEX('Avtalat sortiment'!$BI$3:$BP$279,MATCH($K115,Funktioner!$CE$3:$CE$280,0),MATCH(BV$109,'Avtalat sortiment'!$BI$2:$BP$2,0)),\"\")","v":0},{"$f":"IF(Uträkningsmall!$G18=\"\",\"\",IF(BX115=\"Kan ej leverera\",240000000,IF(ISNUMBER(BO115),BO115*Uträkningsmall!$G18,\"\")))","v":""},"",null,{"$f":"IF('Avtalat sortiment'!K115<>\"\",'Avtalat sortiment'!$A115&'Avtalat sortiment'!Q115,\"\")","v":""},{"$f":"IF('Avtalat sortiment'!U115<>\"\",'Avtalat sortiment'!T115&'Avtalat sortiment'!AA115,\"\")","v":""},{"$f":"IF('Avtalat sortiment'!AE115<>\"\",'Avtalat sortiment'!AD115&'Avtalat sortiment'!AK115,\"\")","v":""},{"$f":"IF('Avtalat sortiment'!AO115<>\"\",'Avtalat sortiment'!AN115&'Avtalat sortiment'!AU115,\"\")","v":""},{"$f":"IF('Avtalat sortiment'!AY115<>\"\",'Avtalat sortiment'!AX115&'Avtalat sortiment'!BE115,\"\")","v":""},{"$f":"IF('Avtalat sortiment'!BI115<>\"\",'Avtalat sortiment'!BH115&'Avtalat sortiment'!BO115,\"\")","v":""}]
[null,null,null,null,null,null,null,null,null,{"$f":"IF(Uträkningsmall!$A19=Funktioner!$B$1,IF(Funktioner!$B$3=\"\",\"\",Funktioner!$B$3),IF(Uträkningsmall!$A19=Funktioner!$C$1,IF(Funktioner!$C$3=\"\",\"\",Funktioner!$C$3),IF(Uträkningsmall!$A19=Funktioner!$D$1,IF(Funktioner!$D$3=\"\",\"\",Funktioner!$D$3),IF(Uträkningsmall!$A19=Funktioner!$E$1,IF(Funktioner!$E$3=\"\",\"\",Funktioner!$E$3),IF(Uträkningsmall!$A19=Funktioner!$F$1,IF(Funktioner!$F$3=\"\",\"\",Funktioner!$F$3),IF(Uträkningsmall!$A19=Funktioner!$G$1,IF(Funktioner!$G$3=\"\",\"\",Funktioner!$G$3),IF(Uträkningsmall!$A19=Funktioner!$H$1,IF(Funktioner!$H$3=\"\",\"\",Funktioner!$H$3),IF(Uträkningsmall!$A19=Funktioner!$I$1,IF(Funktioner!$I$3=\"\",\"\",Funktioner!$I$3),IF(Uträkningsmall!$A19=Funktioner!$J$1,IF(Funktioner!$J$3=\"\",\"\",Funktioner!$J$3),IF(Uträkningsmall!$A19=Funktioner!$K$1,IF(Funktioner!$K$3=\"\",\"\",Funktioner!$K$3),IF(Uträkningsmall!$A19=Funktioner!$L$1,IF(Funktioner!$L$3=\"\",\"\",Funktioner!$L$3),IF(Uträkningsmall!$A19=Funktioner!$M$1,IF(Funktioner!$M$3=\"\",\"\",Funktioner!$M$3),IF(Uträkningsmall!$A19=Funktioner!$N$1,IF(Funktioner!$N$3=\"\",\"\",Funktioner!$N$3),IF(Uträkningsmall!$A19=Funktioner!$O$1,IF(Funktioner!$O$3=\"\",\"\",Funktioner!$O$3),IF(Uträkningsmall!$A19=Funktioner!$P$1,IF(Funktioner!$P$3=\"\",\"\",Funktioner!$P$3),IF(Uträkningsmall!$A19=Funktioner!$Q$1,IF(Funktioner!$Q$3=\"\",\"\",Funktioner!$Q$3),IF(Uträkningsmall!$A19=Funktioner!$R$1,IF(Funktioner!$R$3=\"\",\"\",Funktioner!$R$3),IF(Uträkningsmall!$A19=Funktioner!$S$1,IF(Funktioner!$S$3=\"\",\"\",Funktioner!$S$3),IF(Uträkningsmall!$A19=Funktioner!$T$1,IF(Funktioner!$T$3=\"\",\"\",Funktioner!$T$3),IF(Uträkningsmall!$A19=Funktioner!$U$1,IF(Funktioner!$U$3=\"\",\"\",Funktioner!$U$3),IF(Uträkningsmall!$A19=Funktioner!$V$1,IF(Funktioner!$V$3=\"\",\"\",Funktioner!$V$3),IF(Uträkningsmall!$A19=Funktioner!$W$1,IF(Funktioner!$W$3=\"\",\"\",Funktioner!$W$3),IF(Uträkningsmall!$A19=Funktioner!$X$1,IF(Funktioner!$X$3=\"\",\"\",Funktioner!$X$3),IF(Uträkningsmall!$A19=Funktioner!$Y$1,IF(Funktioner!$Y$3=\"\",\"\",Funktioner!$Y$3),IF(Uträkningsmall!$A19=Funktioner!$Z$1,IF(Funktioner!$Z$3=\"\",\"\",Funktioner!$Z$3),IF(Uträkningsmall!$A19=Funktioner!$AA$1,IF(Funktioner!$AA$3=\"\",\"\",Funktioner!$AA$3),IF(Uträkningsmall!$A19=Funktioner!$AB$1,IF(Funktioner!$AB$3=\"\",\"\",Funktioner!$AB$3),IF(Uträkningsmall!$A19=Funktioner!$AC$1,IF(Funktioner!$AC$3=\"\",\"\",Funktioner!$AC$3),IF(Uträkningsmall!$A19=Funktioner!$AD$1,IF(Funktioner!$AD$3=\"\",\"\",Funktioner!$AD$3),IF(Uträkningsmall!$A19=Funktioner!$AE$1,IF(Funktioner!$AE$3=\"\",\"\",Funktioner!$AE$3),IF(Uträkningsmall!$A19=Funktioner!$AF$1,IF(Funktioner!$AF$3=\"\",\"\",Funktioner!$AF$3),IF(Uträkningsmall!$A19=Funktioner!$AG$1,IF(Funktioner!$AG$3=\"\",\"\",Funktioner!$AG$3),IF(Uträkningsmall!$A19=Funktioner!$AH$1,IF(Funktioner!$AH$3=\"\",\"\",Funktioner!$AH$3),IF(Uträkningsmall!$A19=Funktioner!$AI$1,IF(Funktioner!$AI$3=\"\",\"\",Funktioner!$AI$3),IF(Uträkningsmall!$A19=Funktioner!$AJ$1,IF(Funktioner!$AJ$3=\"\",\"\",Funktioner!$AJ$3),IF(Uträkningsmall!$A19=Funktioner!$AK$1,IF(Funktioner!$AK$3=\"\",\"\",Funktioner!$AK$3),IF(Uträkningsmall!$A19=Funktioner!$AL$1,IF(Funktioner!$AL$3=\"\",\"\",Funktioner!$AL$3),IF(Uträkningsmall!$A19=Funktioner!$AM$1,IF(Funktioner!$AM$3=\"\",\"\",Funktioner!$AM$3),IF(Uträkningsmall!$A19=Funktioner!$AN$1,IF(Funktioner!$AN$3=\"\",\"\",Funktioner!$AN$3),IF(Uträkningsmall!$A19=Funktioner!$AO$1,IF(Funktioner!$AO$3=\"\",\"\",Funktioner!$AO$3),IF(Uträkningsmall!$A19=Funktioner!$AP$1,IF(Funktioner!$AP$3=\"\",\"\",Funktioner!$AP$3),IF(Uträkningsmall!$A19=Funktioner!$AQ$1,IF(Funktioner!$AQ$3=\"\",\"\",Funktioner!$AQ$3),IF(Uträkningsmall!$A19=Funktioner!$AR$1,IF(Funktioner!$AR$3=\"\",\"\",Funktioner!$AR$3),IF(Uträkningsmall!$A19=Funktioner!$AS$1,IF(Funktioner!$AS$3=\"\",\"\",Funktioner!$AS$3),IF(Uträkningsmall!$A19=Funktioner!$AT$1,IF(Funktioner!$AT$3=\"\",\"\",Funktioner!$AT$3),IF(Uträkningsmall!$A19=Funktioner!$AU$1,IF(Funktioner!$AU$3=\"\",\"\",Funktioner!$AU$3),IF(Uträkningsmall!$A19=Funktioner!$AV$1,IF(Funktioner!$AV$3=\"\",\"\",Funktioner!$AV$3),\"\")))))))))))))))))))))))))))))))))))))))))))))))","v":""},{"$f":"Uträkningsmall!$A19&Uträkningsmall!$F19","v":""},{"$f":"IFERROR(INDEX('Avtalat sortiment'!$K$3:$R$279,MATCH($K116,Funktioner!$BZ$3:$BZ$280,0),MATCH(L$109,'Avtalat sortiment'!$K$2:$R$2,0)),\"\")","v":0},{"$f":"IFERROR(INDEX('Avtalat sortiment'!$K$3:$R$279,MATCH($K116,Funktioner!$BZ$3:$BZ$280,0),MATCH(M$109,'Avtalat sortiment'!$K$2:$R$2,0)),\"\")","v":0},{"$f":"IFERROR(INDEX('Avtalat sortiment'!$K$3:$R$279,MATCH($K116,Funktioner!$BZ$3:$BZ$280,0),MATCH(N$109,'Avtalat sortiment'!$K$2:$R$2,0)),\"\")","v":0},{"$f":"IFERROR(INDEX('Avtalat sortiment'!$K$3:$R$279,MATCH($K116,Funktioner!$BZ$3:$BZ$280,0),MATCH(O$109,'Avtalat sortiment'!$K$2:$R$2,0)),\"\")","v":0},{"$f":"IFERROR(INDEX('Avtalat sortiment'!$K$3:$R$279,MATCH($K116,Funktioner!$BZ$3:$BZ$280,0),MATCH(P$109,'Avtalat sortiment'!$K$2:$R$2,0)),\"\")","v":0},{"$f":"IFERROR(INDEX('Avtalat sortiment'!$K$3:$R$279,MATCH($K116,Funktioner!$BZ$3:$BZ$280,0),MATCH(Q$109,'Avtalat sortiment'!$K$2:$R$2,0)),\"\")","v":0},{"$f":"IFERROR(INDEX('Avtalat sortiment'!$K$3:$R$279,MATCH($K116,Funktioner!$BZ$3:$BZ$280,0),MATCH(R$109,'Avtalat sortiment'!$K$2:$R$2,0)),\"\")","v":0},{"$f":"IFERROR(INDEX('Avtalat sortiment'!$K$3:$R$279,MATCH($K116,Funktioner!$BZ$3:$BZ$280,0),MATCH(S$109,'Avtalat sortiment'!$K$2:$R$2,0)),\"\")","v":0},{"$f":"IF(Uträkningsmall!$G19=\"\",\"\",IF(U116=\"Kan ej leverera\",240000000,IF(ISNUMBER(L116),L116*Uträkningsmall!$G19,\"\")))","v":""},"",null,{"$f":"IFERROR(INDEX('Avtalat sortiment'!$U$3:$AB$279,MATCH($K116,Funktioner!$CA$3:$CA$280,0),MATCH(W$109,'Avtalat sortiment'!$U$2:$AB$2,0)),\"\")","v":0},{"$f":"IFERROR(INDEX('Avtalat sortiment'!$U$3:$AB$279,MATCH($K116,Funktioner!$CA$3:$CA$280,0),MATCH(X$109,'Avtalat sortiment'!$U$2:$AB$2,0)),\"\")","v":0},{"$f":"IFERROR(INDEX('Avtalat sortiment'!$U$3:$AB$279,MATCH($K116,Funktioner!$CA$3:$CA$280,0),MATCH(Y$109,'Avtalat sortiment'!$U$2:$AB$2,0)),\"\")","v":0},{"$f":"IFERROR(INDEX('Avtalat sortiment'!$U$3:$AB$279,MATCH($K116,Funktioner!$CA$3:$CA$280,0),MATCH(Z$109,'Avtalat sortiment'!$U$2:$AB$2,0)),\"\")","v":0},{"$f":"IFERROR(INDEX('Avtalat sortiment'!$U$3:$AB$279,MATCH($K116,Funktioner!$CA$3:$CA$280,0),MATCH(AA$109,'Avtalat sortiment'!$U$2:$AB$2,0)),\"\")","v":"https://www.procurator.com/svSE/c/Montagehandskar/Montagehandske-konstl%C3%A4der-Worksafe-A100?c=23_02_01&p=U-AR98&a=2052135"},{"$f":"IFERROR(INDEX('Avtalat sortiment'!$U$3:$AB$279,MATCH($K116,Funktioner!$CA$3:$CA$280,0),MATCH(AB$109,'Avtalat sortiment'!$U$2:$AB$2,0)),\"\")","v":"Montagehandske Worksafe A100 "},{"$f":"IFERROR(INDEX('Avtalat sortiment'!$U$3:$AB$279,MATCH($K116,Funktioner!$CA$3:$CA$280,0),MATCH(AC$109,'Avtalat sortiment'!$U$2:$AB$2,0)),\"\")","v":7},{"$f":"IFERROR(INDEX('Avtalat sortiment'!$K$3:$R$279,MATCH($K116,Funktioner!$BZ$3:$BZ$280,0),MATCH(AD$109,'Avtalat sortiment'!$K$2:$R$2,0)),\"\")","v":0},{"$f":"IF(Uträkningsmall!$G19=\"\",\"\",IF(AF116=\"Kan ej leverera\",240000000,IF(ISNUMBER(W116),W116*Uträkningsmall!$G19,\"\")))","v":""},"",null,{"$f":"IFERROR(INDEX('Avtalat sortiment'!$AE$3:$AL$279,MATCH($K116,Funktioner!$CB$3:$CB$280,0),MATCH(AH$109,'Avtalat sortiment'!$AE$2:$AL$2,0)),\"\")","v":0},{"$f":"IFERROR(INDEX('Avtalat sortiment'!$AE$3:$AL$279,MATCH($K116,Funktioner!$CB$3:$CB$280,0),MATCH(AI$109,'Avtalat sortiment'!$AE$2:$AL$2,0)),\"\")","v":0},{"$f":"IFERROR(INDEX('Avtalat sortiment'!$AE$3:$AL$279,MATCH($K116,Funktioner!$CB$3:$CB$280,0),MATCH(AJ$109,'Avtalat sortiment'!$AE$2:$AL$2,0)),\"\")","v":""},{"$f":"IFERROR(INDEX('Avtalat sortiment'!$AE$3:$AL$279,MATCH($K116,Funktioner!$CB$3:$CB$280,0),MATCH(AK$109,'Avtalat sortiment'!$AE$2:$AL$2,0)),\"\")","v":0},{"$f":"IFERROR(INDEX('Avtalat sortiment'!$AE$3:$AL$279,MATCH($K116,Funktioner!$CB$3:$CB$280,0),MATCH(AL$109,'Avtalat sortiment'!$AE$2:$AL$2,0)),\"\")","v":0},{"$f":"IFERROR(INDEX('Avtalat sortiment'!$AE$3:$AL$279,MATCH($K116,Funktioner!$CB$3:$CB$280,0),MATCH(AM$109,'Avtalat sortiment'!$AE$2:$AL$2,0)),\"\")","v":0},{"$f":"IFERROR(INDEX('Avtalat sortiment'!$AE$3:$AL$279,MATCH($K116,Funktioner!$CB$3:$CB$280,0),MATCH(AN$109,'Avtalat sortiment'!$AE$2:$AL$2,0)),\"\")","v":0},{"$f":"IFERROR(INDEX('Avtalat sortiment'!$AE$3:$AL$279,MATCH($K116,Funktioner!$CB$3:$CB$280,0),MATCH(AO$109,'Avtalat sortiment'!$AE$2:$AL$2,0)),\"\")","v":0},{"$f":"IF(Uträkningsmall!$G19=\"\",\"\",IF(AQ116=\"Kan ej leverera\",240000000,IF(ISNUMBER(AH116),AH116*Uträkningsmall!$G19,\"\")))","v":""},"",null,{"$f":"IFERROR(INDEX('Avtalat sortiment'!$AO$3:$AV$257,MATCH($K116,Funktioner!$CC$3:$CC$280,0),MATCH(AS$109,'Avtalat sortiment'!$AO$2:$AV$2,0)),\"\")","v":0},{"$f":"IFERROR(INDEX('Avtalat sortiment'!$AO$3:$AV$257,MATCH($K116,Funktioner!$CC$3:$CC$280,0),MATCH(AT$109,'Avtalat sortiment'!$AO$2:$AV$2,0)),\"\")","v":0},{"$f":"IFERROR(INDEX('Avtalat sortiment'!$AO$3:$AV$257,MATCH($K116,Funktioner!$CC$3:$CC$280,0),MATCH(AU$109,'Avtalat sortiment'!$AO$2:$AV$2,0)),\"\")","v":""},{"$f":"IFERROR(INDEX('Avtalat sortiment'!$AO$3:$AV$257,MATCH($K116,Funktioner!$CC$3:$CC$280,0),MATCH(AV$109,'Avtalat sortiment'!$AO$2:$AV$2,0)),\"\")","v":0},{"$f":"IFERROR(INDEX('Avtalat sortiment'!$AO$3:$AV$257,MATCH($K116,Funktioner!$CC$3:$CC$280,0),MATCH(AW$109,'Avtalat sortiment'!$AO$2:$AV$2,0)),\"\")","v":0},{"$f":"IFERROR(INDEX('Avtalat sortiment'!$AO$3:$AV$257,MATCH($K116,Funktioner!$CC$3:$CC$280,0),MATCH(AX$109,'Avtalat sortiment'!$AO$2:$AV$2,0)),\"\")","v":0},{"$f":"IFERROR(INDEX('Avtalat sortiment'!$AO$3:$AV$257,MATCH($K116,Funktioner!$CC$3:$CC$280,0),MATCH(AY$109,'Avtalat sortiment'!$AO$2:$AV$2,0)),\"\")","v":0},{"$f":"IFERROR(INDEX('Avtalat sortiment'!$AO$3:$AV$257,MATCH($K116,Funktioner!$CC$3:$CC$280,0),MATCH(AZ$109,'Avtalat sortiment'!$AO$2:$AV$2,0)),\"\")","v":0},{"$f":"IF(Uträkningsmall!$G19=\"\",\"\",IF(BB116=\"Kan ej leverera\",240000000,IF(ISNUMBER(AS116),AS116*Uträkningsmall!$G19,\"\")))","v":""},"",null,{"$f":"IFERROR(INDEX('Avtalat sortiment'!$AY$3:$BF$219,MATCH($K116,Funktioner!$CD$3:$CD$280,0),MATCH(BD$109,'Avtalat sortiment'!$AY$2:$BF$2,0)),\"\")","v":0},{"$f":"IFERROR(INDEX('Avtalat sortiment'!$AY$3:$BF$219,MATCH($K116,Funktioner!$CD$3:$CD$280,0),MATCH(BE$109,'Avtalat sortiment'!$AY$2:$BF$2,0)),\"\")","v":0},{"$f":"IFERROR(INDEX('Avtalat sortiment'!$AY$3:$BF$219,MATCH($K116,Funktioner!$CD$3:$CD$280,0),MATCH(BF$109,'Avtalat sortiment'!$AY$2:$BF$2,0)),\"\")","v":""},{"$f":"IFERROR(INDEX('Avtalat sortiment'!$AY$3:$BF$219,MATCH($K116,Funktioner!$CD$3:$CD$280,0),MATCH(BG$109,'Avtalat sortiment'!$AY$2:$BF$2,0)),\"\")","v":269173},{"$f":"IFERROR(INDEX('Avtalat sortiment'!$AY$3:$BF$219,MATCH($K116,Funktioner!$CD$3:$CD$280,0),MATCH(BH$109,'Avtalat sortiment'!$AY$2:$BF$2,0)),\"\")","v":"https://www.lyrecocontract.se/web/ePortal/ctrl?action=showiteminfo&itemNo=269173"},{"$f":"IFERROR(INDEX('Avtalat sortiment'!$AY$3:$BF$219,MATCH($K116,Funktioner!$CD$3:$CD$280,0),MATCH(BI$109,'Avtalat sortiment'!$AY$2:$BF$2,0)),\"\")","v":"Munskydd Typ IIR med öronband Blå 50/FP"},{"$f":"IFERROR(INDEX('Avtalat sortiment'!$AY$3:$BF$219,MATCH($K116,Funktioner!$CD$3:$CD$280,0),MATCH(BJ$109,'Avtalat sortiment'!$AY$2:$BF$2,0)),\"\")","v":0},{"$f":"IFERROR(INDEX('Avtalat sortiment'!$AY$3:$BF$219,MATCH($K116,Funktioner!$CD$3:$CD$280,0),MATCH(BK$109,'Avtalat sortiment'!$AY$2:$BF$2,0)),\"\")","v":"Inväntar återkoppling från vår leverantör, i enlighet med 6.6.2 i underlag anger vi därmed ej pris         "},{"$f":"IF(Uträkningsmall!$G19=\"\",\"\",IF(BM116=\"Kan ej leverera\",240000000,IF(ISNUMBER(BD116),BD116*Uträkningsmall!$G19,\"\")))","v":""},"",null,{"$f":"IFERROR(INDEX('Avtalat sortiment'!$BI$3:$BP$279,MATCH($K116,Funktioner!$CE$3:$CE$280,0),MATCH(BO$109,'Avtalat sortiment'!$BI$2:$BP$2,0)),\"\")","v":0},{"$f":"IFERROR(INDEX('Avtalat sortiment'!$BI$3:$BP$279,MATCH($K116,Funktioner!$CE$3:$CE$280,0),MATCH(BP$109,'Avtalat sortiment'!$BI$2:$BP$2,0)),\"\")","v":0},{"$f":"IFERROR(INDEX('Avtalat sortiment'!$BI$3:$BP$279,MATCH($K116,Funktioner!$CE$3:$CE$280,0),MATCH(BQ$109,'Avtalat sortiment'!$BI$2:$BP$2,0)),\"\")","v":0},{"$f":"IFERROR(INDEX('Avtalat sortiment'!$BI$3:$BP$279,MATCH($K116,Funktioner!$CE$3:$CE$280,0),MATCH(BR$109,'Avtalat sortiment'!$BI$2:$BP$2,0)),\"\")","v":0},{"$f":"IFERROR(INDEX('Avtalat sortiment'!$BI$3:$BP$279,MATCH($K116,Funktioner!$CE$3:$CE$280,0),MATCH(BS$109,'Avtalat sortiment'!$BI$2:$BP$2,0)),\"\")","v":0},{"$f":"IFERROR(INDEX('Avtalat sortiment'!$BI$3:$BP$279,MATCH($K116,Funktioner!$CE$3:$CE$280,0),MATCH(BT$109,'Avtalat sortiment'!$BI$2:$BP$2,0)),\"\")","v":0},{"$f":"IFERROR(INDEX('Avtalat sortiment'!$BI$3:$BP$279,MATCH($K116,Funktioner!$CE$3:$CE$280,0),MATCH(BU$109,'Avtalat sortiment'!$BI$2:$BP$2,0)),\"\")","v":0},{"$f":"IFERROR(INDEX('Avtalat sortiment'!$BI$3:$BP$279,MATCH($K116,Funktioner!$CE$3:$CE$280,0),MATCH(BV$109,'Avtalat sortiment'!$BI$2:$BP$2,0)),\"\")","v":0},{"$f":"IF(Uträkningsmall!$G19=\"\",\"\",IF(BX116=\"Kan ej leverera\",240000000,IF(ISNUMBER(BO116),BO116*Uträkningsmall!$G19,\"\")))","v":""},"",null,{"$f":"IF('Avtalat sortiment'!K116<>\"\",'Avtalat sortiment'!$A116&'Avtalat sortiment'!Q116,\"\")","v":""},{"$f":"IF('Avtalat sortiment'!U116<>\"\",'Avtalat sortiment'!T116&'Avtalat sortiment'!AA116,\"\")","v":""},{"$f":"IF('Avtalat sortiment'!AE116<>\"\",'Avtalat sortiment'!AD116&'Avtalat sortiment'!AK116,\"\")","v":""},{"$f":"IF('Avtalat sortiment'!AO116<>\"\",'Avtalat sortiment'!AN116&'Avtalat sortiment'!AU116,\"\")","v":""},{"$f":"IF('Avtalat sortiment'!AY116<>\"\",'Avtalat sortiment'!AX116&'Avtalat sortiment'!BE116,\"\")","v":""},{"$f":"IF('Avtalat sortiment'!BI116<>\"\",'Avtalat sortiment'!BH116&'Avtalat sortiment'!BO116,\"\")","v":""}]
[null,null,null,null,null,null,null,null,null,{"$f":"IF(Uträkningsmall!$A20=Funktioner!$B$1,IF(Funktioner!$B$3=\"\",\"\",Funktioner!$B$3),IF(Uträkningsmall!$A20=Funktioner!$C$1,IF(Funktioner!$C$3=\"\",\"\",Funktioner!$C$3),IF(Uträkningsmall!$A20=Funktioner!$D$1,IF(Funktioner!$D$3=\"\",\"\",Funktioner!$D$3),IF(Uträkningsmall!$A20=Funktioner!$E$1,IF(Funktioner!$E$3=\"\",\"\",Funktioner!$E$3),IF(Uträkningsmall!$A20=Funktioner!$F$1,IF(Funktioner!$F$3=\"\",\"\",Funktioner!$F$3),IF(Uträkningsmall!$A20=Funktioner!$G$1,IF(Funktioner!$G$3=\"\",\"\",Funktioner!$G$3),IF(Uträkningsmall!$A20=Funktioner!$H$1,IF(Funktioner!$H$3=\"\",\"\",Funktioner!$H$3),IF(Uträkningsmall!$A20=Funktioner!$I$1,IF(Funktioner!$I$3=\"\",\"\",Funktioner!$I$3),IF(Uträkningsmall!$A20=Funktioner!$J$1,IF(Funktioner!$J$3=\"\",\"\",Funktioner!$J$3),IF(Uträkningsmall!$A20=Funktioner!$K$1,IF(Funktioner!$K$3=\"\",\"\",Funktioner!$K$3),IF(Uträkningsmall!$A20=Funktioner!$L$1,IF(Funktioner!$L$3=\"\",\"\",Funktioner!$L$3),IF(Uträkningsmall!$A20=Funktioner!$M$1,IF(Funktioner!$M$3=\"\",\"\",Funktioner!$M$3),IF(Uträkningsmall!$A20=Funktioner!$N$1,IF(Funktioner!$N$3=\"\",\"\",Funktioner!$N$3),IF(Uträkningsmall!$A20=Funktioner!$O$1,IF(Funktioner!$O$3=\"\",\"\",Funktioner!$O$3),IF(Uträkningsmall!$A20=Funktioner!$P$1,IF(Funktioner!$P$3=\"\",\"\",Funktioner!$P$3),IF(Uträkningsmall!$A20=Funktioner!$Q$1,IF(Funktioner!$Q$3=\"\",\"\",Funktioner!$Q$3),IF(Uträkningsmall!$A20=Funktioner!$R$1,IF(Funktioner!$R$3=\"\",\"\",Funktioner!$R$3),IF(Uträkningsmall!$A20=Funktioner!$S$1,IF(Funktioner!$S$3=\"\",\"\",Funktioner!$S$3),IF(Uträkningsmall!$A20=Funktioner!$T$1,IF(Funktioner!$T$3=\"\",\"\",Funktioner!$T$3),IF(Uträkningsmall!$A20=Funktioner!$U$1,IF(Funktioner!$U$3=\"\",\"\",Funktioner!$U$3),IF(Uträkningsmall!$A20=Funktioner!$V$1,IF(Funktioner!$V$3=\"\",\"\",Funktioner!$V$3),IF(Uträkningsmall!$A20=Funktioner!$W$1,IF(Funktioner!$W$3=\"\",\"\",Funktioner!$W$3),IF(Uträkningsmall!$A20=Funktioner!$X$1,IF(Funktioner!$X$3=\"\",\"\",Funktioner!$X$3),IF(Uträkningsmall!$A20=Funktioner!$Y$1,IF(Funktioner!$Y$3=\"\",\"\",Funktioner!$Y$3),IF(Uträkningsmall!$A20=Funktioner!$Z$1,IF(Funktioner!$Z$3=\"\",\"\",Funktioner!$Z$3),IF(Uträkningsmall!$A20=Funktioner!$AA$1,IF(Funktioner!$AA$3=\"\",\"\",Funktioner!$AA$3),IF(Uträkningsmall!$A20=Funktioner!$AB$1,IF(Funktioner!$AB$3=\"\",\"\",Funktioner!$AB$3),IF(Uträkningsmall!$A20=Funktioner!$AC$1,IF(Funktioner!$AC$3=\"\",\"\",Funktioner!$AC$3),IF(Uträkningsmall!$A20=Funktioner!$AD$1,IF(Funktioner!$AD$3=\"\",\"\",Funktioner!$AD$3),IF(Uträkningsmall!$A20=Funktioner!$AE$1,IF(Funktioner!$AE$3=\"\",\"\",Funktioner!$AE$3),IF(Uträkningsmall!$A20=Funktioner!$AF$1,IF(Funktioner!$AF$3=\"\",\"\",Funktioner!$AF$3),IF(Uträkningsmall!$A20=Funktioner!$AG$1,IF(Funktioner!$AG$3=\"\",\"\",Funktioner!$AG$3),IF(Uträkningsmall!$A20=Funktioner!$AH$1,IF(Funktioner!$AH$3=\"\",\"\",Funktioner!$AH$3),IF(Uträkningsmall!$A20=Funktioner!$AI$1,IF(Funktioner!$AI$3=\"\",\"\",Funktioner!$AI$3),IF(Uträkningsmall!$A20=Funktioner!$AJ$1,IF(Funktioner!$AJ$3=\"\",\"\",Funktioner!$AJ$3),IF(Uträkningsmall!$A20=Funktioner!$AK$1,IF(Funktioner!$AK$3=\"\",\"\",Funktioner!$AK$3),IF(Uträkningsmall!$A20=Funktioner!$AL$1,IF(Funktioner!$AL$3=\"\",\"\",Funktioner!$AL$3),IF(Uträkningsmall!$A20=Funktioner!$AM$1,IF(Funktioner!$AM$3=\"\",\"\",Funktioner!$AM$3),IF(Uträkningsmall!$A20=Funktioner!$AN$1,IF(Funktioner!$AN$3=\"\",\"\",Funktioner!$AN$3),IF(Uträkningsmall!$A20=Funktioner!$AO$1,IF(Funktioner!$AO$3=\"\",\"\",Funktioner!$AO$3),IF(Uträkningsmall!$A20=Funktioner!$AP$1,IF(Funktioner!$AP$3=\"\",\"\",Funktioner!$AP$3),IF(Uträkningsmall!$A20=Funktioner!$AQ$1,IF(Funktioner!$AQ$3=\"\",\"\",Funktioner!$AQ$3),IF(Uträkningsmall!$A20=Funktioner!$AR$1,IF(Funktioner!$AR$3=\"\",\"\",Funktioner!$AR$3),IF(Uträkningsmall!$A20=Funktioner!$AS$1,IF(Funktioner!$AS$3=\"\",\"\",Funktioner!$AS$3),IF(Uträkningsmall!$A20=Funktioner!$AT$1,IF(Funktioner!$AT$3=\"\",\"\",Funktioner!$AT$3),IF(Uträkningsmall!$A20=Funktioner!$AU$1,IF(Funktioner!$AU$3=\"\",\"\",Funktioner!$AU$3),IF(Uträkningsmall!$A20=Funktioner!$AV$1,IF(Funktioner!$AV$3=\"\",\"\",Funktioner!$AV$3),\"\")))))))))))))))))))))))))))))))))))))))))))))))","v":""},{"$f":"Uträkningsmall!$A20&Uträkningsmall!$F20","v":""},{"$f":"IFERROR(INDEX('Avtalat sortiment'!$K$3:$R$279,MATCH($K117,Funktioner!$BZ$3:$BZ$280,0),MATCH(L$109,'Avtalat sortiment'!$K$2:$R$2,0)),\"\")","v":0},{"$f":"IFERROR(INDEX('Avtalat sortiment'!$K$3:$R$279,MATCH($K117,Funktioner!$BZ$3:$BZ$280,0),MATCH(M$109,'Avtalat sortiment'!$K$2:$R$2,0)),\"\")","v":0},{"$f":"IFERROR(INDEX('Avtalat sortiment'!$K$3:$R$279,MATCH($K117,Funktioner!$BZ$3:$BZ$280,0),MATCH(N$109,'Avtalat sortiment'!$K$2:$R$2,0)),\"\")","v":0},{"$f":"IFERROR(INDEX('Avtalat sortiment'!$K$3:$R$279,MATCH($K117,Funktioner!$BZ$3:$BZ$280,0),MATCH(O$109,'Avtalat sortiment'!$K$2:$R$2,0)),\"\")","v":0},{"$f":"IFERROR(INDEX('Avtalat sortiment'!$K$3:$R$279,MATCH($K117,Funktioner!$BZ$3:$BZ$280,0),MATCH(P$109,'Avtalat sortiment'!$K$2:$R$2,0)),\"\")","v":0},{"$f":"IFERROR(INDEX('Avtalat sortiment'!$K$3:$R$279,MATCH($K117,Funktioner!$BZ$3:$BZ$280,0),MATCH(Q$109,'Avtalat sortiment'!$K$2:$R$2,0)),\"\")","v":0},{"$f":"IFERROR(INDEX('Avtalat sortiment'!$K$3:$R$279,MATCH($K117,Funktioner!$BZ$3:$BZ$280,0),MATCH(R$109,'Avtalat sortiment'!$K$2:$R$2,0)),\"\")","v":0},{"$f":"IFERROR(INDEX('Avtalat sortiment'!$K$3:$R$279,MATCH($K117,Funktioner!$BZ$3:$BZ$280,0),MATCH(S$109,'Avtalat sortiment'!$K$2:$R$2,0)),\"\")","v":0},{"$f":"IF(Uträkningsmall!$G20=\"\",\"\",IF(U117=\"Kan ej leverera\",240000000,IF(ISNUMBER(L117),L117*Uträkningsmall!$G20,\"\")))","v":""},"",null,{"$f":"IFERROR(INDEX('Avtalat sortiment'!$U$3:$AB$279,MATCH($K117,Funktioner!$CA$3:$CA$280,0),MATCH(W$109,'Avtalat sortiment'!$U$2:$AB$2,0)),\"\")","v":0},{"$f":"IFERROR(INDEX('Avtalat sortiment'!$U$3:$AB$279,MATCH($K117,Funktioner!$CA$3:$CA$280,0),MATCH(X$109,'Avtalat sortiment'!$U$2:$AB$2,0)),\"\")","v":0},{"$f":"IFERROR(INDEX('Avtalat sortiment'!$U$3:$AB$279,MATCH($K117,Funktioner!$CA$3:$CA$280,0),MATCH(Y$109,'Avtalat sortiment'!$U$2:$AB$2,0)),\"\")","v":0},{"$f":"IFERROR(INDEX('Avtalat sortiment'!$U$3:$AB$279,MATCH($K117,Funktioner!$CA$3:$CA$280,0),MATCH(Z$109,'Avtalat sortiment'!$U$2:$AB$2,0)),\"\")","v":0},{"$f":"IFERROR(INDEX('Avtalat sortiment'!$U$3:$AB$279,MATCH($K117,Funktioner!$CA$3:$CA$280,0),MATCH(AA$109,'Avtalat sortiment'!$U$2:$AB$2,0)),\"\")","v":"https://www.procurator.com/svSE/c/Montagehandskar/Montagehandske-konstl%C3%A4der-Worksafe-A100?c=23_02_01&p=U-AR98&a=2052135"},{"$f":"IFERROR(INDEX('Avtalat sortiment'!$U$3:$AB$279,MATCH($K117,Funktioner!$CA$3:$CA$280,0),MATCH(AB$109,'Avtalat sortiment'!$U$2:$AB$2,0)),\"\")","v":"Montagehandske Worksafe A100 "},{"$f":"IFERROR(INDEX('Avtalat sortiment'!$U$3:$AB$279,MATCH($K117,Funktioner!$CA$3:$CA$280,0),MATCH(AC$109,'Avtalat sortiment'!$U$2:$AB$2,0)),\"\")","v":7},{"$f":"IFERROR(INDEX('Avtalat sortiment'!$K$3:$R$279,MATCH($K117,Funktioner!$BZ$3:$BZ$280,0),MATCH(AD$109,'Avtalat sortiment'!$K$2:$R$2,0)),\"\")","v":0},{"$f":"IF(Uträkningsmall!$G20=\"\",\"\",IF(AF117=\"Kan ej leverera\",240000000,IF(ISNUMBER(W117),W117*Uträkningsmall!$G20,\"\")))","v":""},"",null,{"$f":"IFERROR(INDEX('Avtalat sortiment'!$AE$3:$AL$279,MATCH($K117,Funktioner!$CB$3:$CB$280,0),MATCH(AH$109,'Avtalat sortiment'!$AE$2:$AL$2,0)),\"\")","v":0},{"$f":"IFERROR(INDEX('Avtalat sortiment'!$AE$3:$AL$279,MATCH($K117,Funktioner!$CB$3:$CB$280,0),MATCH(AI$109,'Avtalat sortiment'!$AE$2:$AL$2,0)),\"\")","v":0},{"$f":"IFERROR(INDEX('Avtalat sortiment'!$AE$3:$AL$279,MATCH($K117,Funktioner!$CB$3:$CB$280,0),MATCH(AJ$109,'Avtalat sortiment'!$AE$2:$AL$2,0)),\"\")","v":""},{"$f":"IFERROR(INDEX('Avtalat sortiment'!$AE$3:$AL$279,MATCH($K117,Funktioner!$CB$3:$CB$280,0),MATCH(AK$109,'Avtalat sortiment'!$AE$2:$AL$2,0)),\"\")","v":0},{"$f":"IFERROR(INDEX('Avtalat sortiment'!$AE$3:$AL$279,MATCH($K117,Funktioner!$CB$3:$CB$280,0),MATCH(AL$109,'Avtalat sortiment'!$AE$2:$AL$2,0)),\"\")","v":0},{"$f":"IFERROR(INDEX('Avtalat sortiment'!$AE$3:$AL$279,MATCH($K117,Funktioner!$CB$3:$CB$280,0),MATCH(AM$109,'Avtalat sortiment'!$AE$2:$AL$2,0)),\"\")","v":0},{"$f":"IFERROR(INDEX('Avtalat sortiment'!$AE$3:$AL$279,MATCH($K117,Funktioner!$CB$3:$CB$280,0),MATCH(AN$109,'Avtalat sortiment'!$AE$2:$AL$2,0)),\"\")","v":0},{"$f":"IFERROR(INDEX('Avtalat sortiment'!$AE$3:$AL$279,MATCH($K117,Funktioner!$CB$3:$CB$280,0),MATCH(AO$109,'Avtalat sortiment'!$AE$2:$AL$2,0)),\"\")","v":0},{"$f":"IF(Uträkningsmall!$G20=\"\",\"\",IF(AQ117=\"Kan ej leverera\",240000000,IF(ISNUMBER(AH117),AH117*Uträkningsmall!$G20,\"\")))","v":""},"",null,{"$f":"IFERROR(INDEX('Avtalat sortiment'!$AO$3:$AV$257,MATCH($K117,Funktioner!$CC$3:$CC$280,0),MATCH(AS$109,'Avtalat sortiment'!$AO$2:$AV$2,0)),\"\")","v":0},{"$f":"IFERROR(INDEX('Avtalat sortiment'!$AO$3:$AV$257,MATCH($K117,Funktioner!$CC$3:$CC$280,0),MATCH(AT$109,'Avtalat sortiment'!$AO$2:$AV$2,0)),\"\")","v":0},{"$f":"IFERROR(INDEX('Avtalat sortiment'!$AO$3:$AV$257,MATCH($K117,Funktioner!$CC$3:$CC$280,0),MATCH(AU$109,'Avtalat sortiment'!$AO$2:$AV$2,0)),\"\")","v":""},{"$f":"IFERROR(INDEX('Avtalat sortiment'!$AO$3:$AV$257,MATCH($K117,Funktioner!$CC$3:$CC$280,0),MATCH(AV$109,'Avtalat sortiment'!$AO$2:$AV$2,0)),\"\")","v":0},{"$f":"IFERROR(INDEX('Avtalat sortiment'!$AO$3:$AV$257,MATCH($K117,Funktioner!$CC$3:$CC$280,0),MATCH(AW$109,'Avtalat sortiment'!$AO$2:$AV$2,0)),\"\")","v":0},{"$f":"IFERROR(INDEX('Avtalat sortiment'!$AO$3:$AV$257,MATCH($K117,Funktioner!$CC$3:$CC$280,0),MATCH(AX$109,'Avtalat sortiment'!$AO$2:$AV$2,0)),\"\")","v":0},{"$f":"IFERROR(INDEX('Avtalat sortiment'!$AO$3:$AV$257,MATCH($K117,Funktioner!$CC$3:$CC$280,0),MATCH(AY$109,'Avtalat sortiment'!$AO$2:$AV$2,0)),\"\")","v":0},{"$f":"IFERROR(INDEX('Avtalat sortiment'!$AO$3:$AV$257,MATCH($K117,Funktioner!$CC$3:$CC$280,0),MATCH(AZ$109,'Avtalat sortiment'!$AO$2:$AV$2,0)),\"\")","v":0},{"$f":"IF(Uträkningsmall!$G20=\"\",\"\",IF(BB117=\"Kan ej leverera\",240000000,IF(ISNUMBER(AS117),AS117*Uträkningsmall!$G20,\"\")))","v":""},"",null,{"$f":"IFERROR(INDEX('Avtalat sortiment'!$AY$3:$BF$219,MATCH($K117,Funktioner!$CD$3:$CD$280,0),MATCH(BD$109,'Avtalat sortiment'!$AY$2:$BF$2,0)),\"\")","v":0},{"$f":"IFERROR(INDEX('Avtalat sortiment'!$AY$3:$BF$219,MATCH($K117,Funktioner!$CD$3:$CD$280,0),MATCH(BE$109,'Avtalat sortiment'!$AY$2:$BF$2,0)),\"\")","v":0},{"$f":"IFERROR(INDEX('Avtalat sortiment'!$AY$3:$BF$219,MATCH($K117,Funktioner!$CD$3:$CD$280,0),MATCH(BF$109,'Avtalat sortiment'!$AY$2:$BF$2,0)),\"\")","v":""},{"$f":"IFERROR(INDEX('Avtalat sortiment'!$AY$3:$BF$219,MATCH($K117,Funktioner!$CD$3:$CD$280,0),MATCH(BG$109,'Avtalat sortiment'!$AY$2:$BF$2,0)),\"\")","v":269173},{"$f":"IFERROR(INDEX('Avtalat sortiment'!$AY$3:$BF$219,MATCH($K117,Funktioner!$CD$3:$CD$280,0),MATCH(BH$109,'Avtalat sortiment'!$AY$2:$BF$2,0)),\"\")","v":"https://www.lyrecocontract.se/web/ePortal/ctrl?action=showiteminfo&itemNo=269173"},{"$f":"IFERROR(INDEX('Avtalat sortiment'!$AY$3:$BF$219,MATCH($K117,Funktioner!$CD$3:$CD$280,0),MATCH(BI$109,'Avtalat sortiment'!$AY$2:$BF$2,0)),\"\")","v":"Munskydd Typ IIR med öronband Blå 50/FP"},{"$f":"IFERROR(INDEX('Avtalat sortiment'!$AY$3:$BF$219,MATCH($K117,Funktioner!$CD$3:$CD$280,0),MATCH(BJ$109,'Avtalat sortiment'!$AY$2:$BF$2,0)),\"\")","v":0},{"$f":"IFERROR(INDEX('Avtalat sortiment'!$AY$3:$BF$219,MATCH($K117,Funktioner!$CD$3:$CD$280,0),MATCH(BK$109,'Avtalat sortiment'!$AY$2:$BF$2,0)),\"\")","v":"Inväntar återkoppling från vår leverantör, i enlighet med 6.6.2 i underlag anger vi därmed ej pris         "},{"$f":"IF(Uträkningsmall!$G20=\"\",\"\",IF(BM117=\"Kan ej leverera\",240000000,IF(ISNUMBER(BD117),BD117*Uträkningsmall!$G20,\"\")))","v":""},"",null,{"$f":"IFERROR(INDEX('Avtalat sortiment'!$BI$3:$BP$279,MATCH($K117,Funktioner!$CE$3:$CE$280,0),MATCH(BO$109,'Avtalat sortiment'!$BI$2:$BP$2,0)),\"\")","v":0},{"$f":"IFERROR(INDEX('Avtalat sortiment'!$BI$3:$BP$279,MATCH($K117,Funktioner!$CE$3:$CE$280,0),MATCH(BP$109,'Avtalat sortiment'!$BI$2:$BP$2,0)),\"\")","v":0},{"$f":"IFERROR(INDEX('Avtalat sortiment'!$BI$3:$BP$279,MATCH($K117,Funktioner!$CE$3:$CE$280,0),MATCH(BQ$109,'Avtalat sortiment'!$BI$2:$BP$2,0)),\"\")","v":0},{"$f":"IFERROR(INDEX('Avtalat sortiment'!$BI$3:$BP$279,MATCH($K117,Funktioner!$CE$3:$CE$280,0),MATCH(BR$109,'Avtalat sortiment'!$BI$2:$BP$2,0)),\"\")","v":0},{"$f":"IFERROR(INDEX('Avtalat sortiment'!$BI$3:$BP$279,MATCH($K117,Funktioner!$CE$3:$CE$280,0),MATCH(BS$109,'Avtalat sortiment'!$BI$2:$BP$2,0)),\"\")","v":0},{"$f":"IFERROR(INDEX('Avtalat sortiment'!$BI$3:$BP$279,MATCH($K117,Funktioner!$CE$3:$CE$280,0),MATCH(BT$109,'Avtalat sortiment'!$BI$2:$BP$2,0)),\"\")","v":0},{"$f":"IFERROR(INDEX('Avtalat sortiment'!$BI$3:$BP$279,MATCH($K117,Funktioner!$CE$3:$CE$280,0),MATCH(BU$109,'Avtalat sortiment'!$BI$2:$BP$2,0)),\"\")","v":0},{"$f":"IFERROR(INDEX('Avtalat sortiment'!$BI$3:$BP$279,MATCH($K117,Funktioner!$CE$3:$CE$280,0),MATCH(BV$109,'Avtalat sortiment'!$BI$2:$BP$2,0)),\"\")","v":0},{"$f":"IF(Uträkningsmall!$G20=\"\",\"\",IF(BX117=\"Kan ej leverera\",240000000,IF(ISNUMBER(BO117),BO117*Uträkningsmall!$G20,\"\")))","v":""},"",null,{"$f":"IF('Avtalat sortiment'!K117<>\"\",'Avtalat sortiment'!$A117&'Avtalat sortiment'!Q117,\"\")","v":""},{"$f":"IF('Avtalat sortiment'!U117<>\"\",'Avtalat sortiment'!T117&'Avtalat sortiment'!AA117,\"\")","v":""},{"$f":"IF('Avtalat sortiment'!AE117<>\"\",'Avtalat sortiment'!AD117&'Avtalat sortiment'!AK117,\"\")","v":""},{"$f":"IF('Avtalat sortiment'!AO117<>\"\",'Avtalat sortiment'!AN117&'Avtalat sortiment'!AU117,\"\")","v":""},{"$f":"IF('Avtalat sortiment'!AY117<>\"\",'Avtalat sortiment'!AX117&'Avtalat sortiment'!BE117,\"\")","v":""},{"$f":"IF('Avtalat sortiment'!BI117<>\"\",'Avtalat sortiment'!BH117&'Avtalat sortiment'!BO117,\"\")","v":""}]
[null,null,null,null,null,null,null,null,null,{"$f":"IF(Uträkningsmall!$A21=Funktioner!$B$1,IF(Funktioner!$B$3=\"\",\"\",Funktioner!$B$3),IF(Uträkningsmall!$A21=Funktioner!$C$1,IF(Funktioner!$C$3=\"\",\"\",Funktioner!$C$3),IF(Uträkningsmall!$A21=Funktioner!$D$1,IF(Funktioner!$D$3=\"\",\"\",Funktioner!$D$3),IF(Uträkningsmall!$A21=Funktioner!$E$1,IF(Funktioner!$E$3=\"\",\"\",Funktioner!$E$3),IF(Uträkningsmall!$A21=Funktioner!$F$1,IF(Funktioner!$F$3=\"\",\"\",Funktioner!$F$3),IF(Uträkningsmall!$A21=Funktioner!$G$1,IF(Funktioner!$G$3=\"\",\"\",Funktioner!$G$3),IF(Uträkningsmall!$A21=Funktioner!$H$1,IF(Funktioner!$H$3=\"\",\"\",Funktioner!$H$3),IF(Uträkningsmall!$A21=Funktioner!$I$1,IF(Funktioner!$I$3=\"\",\"\",Funktioner!$I$3),IF(Uträkningsmall!$A21=Funktioner!$J$1,IF(Funktioner!$J$3=\"\",\"\",Funktioner!$J$3),IF(Uträkningsmall!$A21=Funktioner!$K$1,IF(Funktioner!$K$3=\"\",\"\",Funktioner!$K$3),IF(Uträkningsmall!$A21=Funktioner!$L$1,IF(Funktioner!$L$3=\"\",\"\",Funktioner!$L$3),IF(Uträkningsmall!$A21=Funktioner!$M$1,IF(Funktioner!$M$3=\"\",\"\",Funktioner!$M$3),IF(Uträkningsmall!$A21=Funktioner!$N$1,IF(Funktioner!$N$3=\"\",\"\",Funktioner!$N$3),IF(Uträkningsmall!$A21=Funktioner!$O$1,IF(Funktioner!$O$3=\"\",\"\",Funktioner!$O$3),IF(Uträkningsmall!$A21=Funktioner!$P$1,IF(Funktioner!$P$3=\"\",\"\",Funktioner!$P$3),IF(Uträkningsmall!$A21=Funktioner!$Q$1,IF(Funktioner!$Q$3=\"\",\"\",Funktioner!$Q$3),IF(Uträkningsmall!$A21=Funktioner!$R$1,IF(Funktioner!$R$3=\"\",\"\",Funktioner!$R$3),IF(Uträkningsmall!$A21=Funktioner!$S$1,IF(Funktioner!$S$3=\"\",\"\",Funktioner!$S$3),IF(Uträkningsmall!$A21=Funktioner!$T$1,IF(Funktioner!$T$3=\"\",\"\",Funktioner!$T$3),IF(Uträkningsmall!$A21=Funktioner!$U$1,IF(Funktioner!$U$3=\"\",\"\",Funktioner!$U$3),IF(Uträkningsmall!$A21=Funktioner!$V$1,IF(Funktioner!$V$3=\"\",\"\",Funktioner!$V$3),IF(Uträkningsmall!$A21=Funktioner!$W$1,IF(Funktioner!$W$3=\"\",\"\",Funktioner!$W$3),IF(Uträkningsmall!$A21=Funktioner!$X$1,IF(Funktioner!$X$3=\"\",\"\",Funktioner!$X$3),IF(Uträkningsmall!$A21=Funktioner!$Y$1,IF(Funktioner!$Y$3=\"\",\"\",Funktioner!$Y$3),IF(Uträkningsmall!$A21=Funktioner!$Z$1,IF(Funktioner!$Z$3=\"\",\"\",Funktioner!$Z$3),IF(Uträkningsmall!$A21=Funktioner!$AA$1,IF(Funktioner!$AA$3=\"\",\"\",Funktioner!$AA$3),IF(Uträkningsmall!$A21=Funktioner!$AB$1,IF(Funktioner!$AB$3=\"\",\"\",Funktioner!$AB$3),IF(Uträkningsmall!$A21=Funktioner!$AC$1,IF(Funktioner!$AC$3=\"\",\"\",Funktioner!$AC$3),IF(Uträkningsmall!$A21=Funktioner!$AD$1,IF(Funktioner!$AD$3=\"\",\"\",Funktioner!$AD$3),IF(Uträkningsmall!$A21=Funktioner!$AE$1,IF(Funktioner!$AE$3=\"\",\"\",Funktioner!$AE$3),IF(Uträkningsmall!$A21=Funktioner!$AF$1,IF(Funktioner!$AF$3=\"\",\"\",Funktioner!$AF$3),IF(Uträkningsmall!$A21=Funktioner!$AG$1,IF(Funktioner!$AG$3=\"\",\"\",Funktioner!$AG$3),IF(Uträkningsmall!$A21=Funktioner!$AH$1,IF(Funktioner!$AH$3=\"\",\"\",Funktioner!$AH$3),IF(Uträkningsmall!$A21=Funktioner!$AI$1,IF(Funktioner!$AI$3=\"\",\"\",Funktioner!$AI$3),IF(Uträkningsmall!$A21=Funktioner!$AJ$1,IF(Funktioner!$AJ$3=\"\",\"\",Funktioner!$AJ$3),IF(Uträkningsmall!$A21=Funktioner!$AK$1,IF(Funktioner!$AK$3=\"\",\"\",Funktioner!$AK$3),IF(Uträkningsmall!$A21=Funktioner!$AL$1,IF(Funktioner!$AL$3=\"\",\"\",Funktioner!$AL$3),IF(Uträkningsmall!$A21=Funktioner!$AM$1,IF(Funktioner!$AM$3=\"\",\"\",Funktioner!$AM$3),IF(Uträkningsmall!$A21=Funktioner!$AN$1,IF(Funktioner!$AN$3=\"\",\"\",Funktioner!$AN$3),IF(Uträkningsmall!$A21=Funktioner!$AO$1,IF(Funktioner!$AO$3=\"\",\"\",Funktioner!$AO$3),IF(Uträkningsmall!$A21=Funktioner!$AP$1,IF(Funktioner!$AP$3=\"\",\"\",Funktioner!$AP$3),IF(Uträkningsmall!$A21=Funktioner!$AQ$1,IF(Funktioner!$AQ$3=\"\",\"\",Funktioner!$AQ$3),IF(Uträkningsmall!$A21=Funktioner!$AR$1,IF(Funktioner!$AR$3=\"\",\"\",Funktioner!$AR$3),IF(Uträkningsmall!$A21=Funktioner!$AS$1,IF(Funktioner!$AS$3=\"\",\"\",Funktioner!$AS$3),IF(Uträkningsmall!$A21=Funktioner!$AT$1,IF(Funktioner!$AT$3=\"\",\"\",Funktioner!$AT$3),IF(Uträkningsmall!$A21=Funktioner!$AU$1,IF(Funktioner!$AU$3=\"\",\"\",Funktioner!$AU$3),IF(Uträkningsmall!$A21=Funktioner!$AV$1,IF(Funktioner!$AV$3=\"\",\"\",Funktioner!$AV$3),\"\")))))))))))))))))))))))))))))))))))))))))))))))","v":""},{"$f":"Uträkningsmall!$A21&Uträkningsmall!$F21","v":""},{"$f":"IFERROR(INDEX('Avtalat sortiment'!$K$3:$R$279,MATCH($K118,Funktioner!$BZ$3:$BZ$280,0),MATCH(L$109,'Avtalat sortiment'!$K$2:$R$2,0)),\"\")","v":0},{"$f":"IFERROR(INDEX('Avtalat sortiment'!$K$3:$R$279,MATCH($K118,Funktioner!$BZ$3:$BZ$280,0),MATCH(M$109,'Avtalat sortiment'!$K$2:$R$2,0)),\"\")","v":0},{"$f":"IFERROR(INDEX('Avtalat sortiment'!$K$3:$R$279,MATCH($K118,Funktioner!$BZ$3:$BZ$280,0),MATCH(N$109,'Avtalat sortiment'!$K$2:$R$2,0)),\"\")","v":0},{"$f":"IFERROR(INDEX('Avtalat sortiment'!$K$3:$R$279,MATCH($K118,Funktioner!$BZ$3:$BZ$280,0),MATCH(O$109,'Avtalat sortiment'!$K$2:$R$2,0)),\"\")","v":0},{"$f":"IFERROR(INDEX('Avtalat sortiment'!$K$3:$R$279,MATCH($K118,Funktioner!$BZ$3:$BZ$280,0),MATCH(P$109,'Avtalat sortiment'!$K$2:$R$2,0)),\"\")","v":0},{"$f":"IFERROR(INDEX('Avtalat sortiment'!$K$3:$R$279,MATCH($K118,Funktioner!$BZ$3:$BZ$280,0),MATCH(Q$109,'Avtalat sortiment'!$K$2:$R$2,0)),\"\")","v":0},{"$f":"IFERROR(INDEX('Avtalat sortiment'!$K$3:$R$279,MATCH($K118,Funktioner!$BZ$3:$BZ$280,0),MATCH(R$109,'Avtalat sortiment'!$K$2:$R$2,0)),\"\")","v":0},{"$f":"IFERROR(INDEX('Avtalat sortiment'!$K$3:$R$279,MATCH($K118,Funktioner!$BZ$3:$BZ$280,0),MATCH(S$109,'Avtalat sortiment'!$K$2:$R$2,0)),\"\")","v":0},{"$f":"IF(Uträkningsmall!$G21=\"\",\"\",IF(U118=\"Kan ej leverera\",240000000,IF(ISNUMBER(L118),L118*Uträkningsmall!$G21,\"\")))","v":""},"",null,{"$f":"IFERROR(INDEX('Avtalat sortiment'!$U$3:$AB$279,MATCH($K118,Funktioner!$CA$3:$CA$280,0),MATCH(W$109,'Avtalat sortiment'!$U$2:$AB$2,0)),\"\")","v":0},{"$f":"IFERROR(INDEX('Avtalat sortiment'!$U$3:$AB$279,MATCH($K118,Funktioner!$CA$3:$CA$280,0),MATCH(X$109,'Avtalat sortiment'!$U$2:$AB$2,0)),\"\")","v":0},{"$f":"IFERROR(INDEX('Avtalat sortiment'!$U$3:$AB$279,MATCH($K118,Funktioner!$CA$3:$CA$280,0),MATCH(Y$109,'Avtalat sortiment'!$U$2:$AB$2,0)),\"\")","v":0},{"$f":"IFERROR(INDEX('Avtalat sortiment'!$U$3:$AB$279,MATCH($K118,Funktioner!$CA$3:$CA$280,0),MATCH(Z$109,'Avtalat sortiment'!$U$2:$AB$2,0)),\"\")","v":0},{"$f":"IFERROR(INDEX('Avtalat sortiment'!$U$3:$AB$279,MATCH($K118,Funktioner!$CA$3:$CA$280,0),MATCH(AA$109,'Avtalat sortiment'!$U$2:$AB$2,0)),\"\")","v":"https://www.procurator.com/svSE/c/Montagehandskar/Montagehandske-konstl%C3%A4der-Worksafe-A100?c=23_02_01&p=U-AR98&a=2052135"},{"$f":"IFERROR(INDEX('Avtalat sortiment'!$U$3:$AB$279,MATCH($K118,Funktioner!$CA$3:$CA$280,0),MATCH(AB$109,'Avtalat sortiment'!$U$2:$AB$2,0)),\"\")","v":"Montagehandske Worksafe A100 "},{"$f":"IFERROR(INDEX('Avtalat sortiment'!$U$3:$AB$279,MATCH($K118,Funktioner!$CA$3:$CA$280,0),MATCH(AC$109,'Avtalat sortiment'!$U$2:$AB$2,0)),\"\")","v":7},{"$f":"IFERROR(INDEX('Avtalat sortiment'!$K$3:$R$279,MATCH($K118,Funktioner!$BZ$3:$BZ$280,0),MATCH(AD$109,'Avtalat sortiment'!$K$2:$R$2,0)),\"\")","v":0},{"$f":"IF(Uträkningsmall!$G21=\"\",\"\",IF(AF118=\"Kan ej leverera\",240000000,IF(ISNUMBER(W118),W118*Uträkningsmall!$G21,\"\")))","v":""},"",null,{"$f":"IFERROR(INDEX('Avtalat sortiment'!$AE$3:$AL$279,MATCH($K118,Funktioner!$CB$3:$CB$280,0),MATCH(AH$109,'Avtalat sortiment'!$AE$2:$AL$2,0)),\"\")","v":0},{"$f":"IFERROR(INDEX('Avtalat sortiment'!$AE$3:$AL$279,MATCH($K118,Funktioner!$CB$3:$CB$280,0),MATCH(AI$109,'Avtalat sortiment'!$AE$2:$AL$2,0)),\"\")","v":0},{"$f":"IFERROR(INDEX('Avtalat sortiment'!$AE$3:$AL$279,MATCH($K118,Funktioner!$CB$3:$CB$280,0),MATCH(AJ$109,'Avtalat sortiment'!$AE$2:$AL$2,0)),\"\")","v":""},{"$f":"IFERROR(INDEX('Avtalat sortiment'!$AE$3:$AL$279,MATCH($K118,Funktioner!$CB$3:$CB$280,0),MATCH(AK$109,'Avtalat sortiment'!$AE$2:$AL$2,0)),\"\")","v":0},{"$f":"IFERROR(INDEX('Avtalat sortiment'!$AE$3:$AL$279,MATCH($K118,Funktioner!$CB$3:$CB$280,0),MATCH(AL$109,'Avtalat sortiment'!$AE$2:$AL$2,0)),\"\")","v":0},{"$f":"IFERROR(INDEX('Avtalat sortiment'!$AE$3:$AL$279,MATCH($K118,Funktioner!$CB$3:$CB$280,0),MATCH(AM$109,'Avtalat sortiment'!$AE$2:$AL$2,0)),\"\")","v":0},{"$f":"IFERROR(INDEX('Avtalat sortiment'!$AE$3:$AL$279,MATCH($K118,Funktioner!$CB$3:$CB$280,0),MATCH(AN$109,'Avtalat sortiment'!$AE$2:$AL$2,0)),\"\")","v":0},{"$f":"IFERROR(INDEX('Avtalat sortiment'!$AE$3:$AL$279,MATCH($K118,Funktioner!$CB$3:$CB$280,0),MATCH(AO$109,'Avtalat sortiment'!$AE$2:$AL$2,0)),\"\")","v":0},{"$f":"IF(Uträkningsmall!$G21=\"\",\"\",IF(AQ118=\"Kan ej leverera\",240000000,IF(ISNUMBER(AH118),AH118*Uträkningsmall!$G21,\"\")))","v":""},"",null,{"$f":"IFERROR(INDEX('Avtalat sortiment'!$AO$3:$AV$257,MATCH($K118,Funktioner!$CC$3:$CC$280,0),MATCH(AS$109,'Avtalat sortiment'!$AO$2:$AV$2,0)),\"\")","v":0},{"$f":"IFERROR(INDEX('Avtalat sortiment'!$AO$3:$AV$257,MATCH($K118,Funktioner!$CC$3:$CC$280,0),MATCH(AT$109,'Avtalat sortiment'!$AO$2:$AV$2,0)),\"\")","v":0},{"$f":"IFERROR(INDEX('Avtalat sortiment'!$AO$3:$AV$257,MATCH($K118,Funktioner!$CC$3:$CC$280,0),MATCH(AU$109,'Avtalat sortiment'!$AO$2:$AV$2,0)),\"\")","v":""},{"$f":"IFERROR(INDEX('Avtalat sortiment'!$AO$3:$AV$257,MATCH($K118,Funktioner!$CC$3:$CC$280,0),MATCH(AV$109,'Avtalat sortiment'!$AO$2:$AV$2,0)),\"\")","v":0},{"$f":"IFERROR(INDEX('Avtalat sortiment'!$AO$3:$AV$257,MATCH($K118,Funktioner!$CC$3:$CC$280,0),MATCH(AW$109,'Avtalat sortiment'!$AO$2:$AV$2,0)),\"\")","v":0},{"$f":"IFERROR(INDEX('Avtalat sortiment'!$AO$3:$AV$257,MATCH($K118,Funktioner!$CC$3:$CC$280,0),MATCH(AX$109,'Avtalat sortiment'!$AO$2:$AV$2,0)),\"\")","v":0},{"$f":"IFERROR(INDEX('Avtalat sortiment'!$AO$3:$AV$257,MATCH($K118,Funktioner!$CC$3:$CC$280,0),MATCH(AY$109,'Avtalat sortiment'!$AO$2:$AV$2,0)),\"\")","v":0},{"$f":"IFERROR(INDEX('Avtalat sortiment'!$AO$3:$AV$257,MATCH($K118,Funktioner!$CC$3:$CC$280,0),MATCH(AZ$109,'Avtalat sortiment'!$AO$2:$AV$2,0)),\"\")","v":0},{"$f":"IF(Uträkningsmall!$G21=\"\",\"\",IF(BB118=\"Kan ej leverera\",240000000,IF(ISNUMBER(AS118),AS118*Uträkningsmall!$G21,\"\")))","v":""},"",null,{"$f":"IFERROR(INDEX('Avtalat sortiment'!$AY$3:$BF$219,MATCH($K118,Funktioner!$CD$3:$CD$280,0),MATCH(BD$109,'Avtalat sortiment'!$AY$2:$BF$2,0)),\"\")","v":0},{"$f":"IFERROR(INDEX('Avtalat sortiment'!$AY$3:$BF$219,MATCH($K118,Funktioner!$CD$3:$CD$280,0),MATCH(BE$109,'Avtalat sortiment'!$AY$2:$BF$2,0)),\"\")","v":0},{"$f":"IFERROR(INDEX('Avtalat sortiment'!$AY$3:$BF$219,MATCH($K118,Funktioner!$CD$3:$CD$280,0),MATCH(BF$109,'Avtalat sortiment'!$AY$2:$BF$2,0)),\"\")","v":""},{"$f":"IFERROR(INDEX('Avtalat sortiment'!$AY$3:$BF$219,MATCH($K118,Funktioner!$CD$3:$CD$280,0),MATCH(BG$109,'Avtalat sortiment'!$AY$2:$BF$2,0)),\"\")","v":269173},{"$f":"IFERROR(INDEX('Avtalat sortiment'!$AY$3:$BF$219,MATCH($K118,Funktioner!$CD$3:$CD$280,0),MATCH(BH$109,'Avtalat sortiment'!$AY$2:$BF$2,0)),\"\")","v":"https://www.lyrecocontract.se/web/ePortal/ctrl?action=showiteminfo&itemNo=269173"},{"$f":"IFERROR(INDEX('Avtalat sortiment'!$AY$3:$BF$219,MATCH($K118,Funktioner!$CD$3:$CD$280,0),MATCH(BI$109,'Avtalat sortiment'!$AY$2:$BF$2,0)),\"\")","v":"Munskydd Typ IIR med öronband Blå 50/FP"},{"$f":"IFERROR(INDEX('Avtalat sortiment'!$AY$3:$BF$219,MATCH($K118,Funktioner!$CD$3:$CD$280,0),MATCH(BJ$109,'Avtalat sortiment'!$AY$2:$BF$2,0)),\"\")","v":0},{"$f":"IFERROR(INDEX('Avtalat sortiment'!$AY$3:$BF$219,MATCH($K118,Funktioner!$CD$3:$CD$280,0),MATCH(BK$109,'Avtalat sortiment'!$AY$2:$BF$2,0)),\"\")","v":"Inväntar återkoppling från vår leverantör, i enlighet med 6.6.2 i underlag anger vi därmed ej pris         "},{"$f":"IF(Uträkningsmall!$G21=\"\",\"\",IF(BM118=\"Kan ej leverera\",240000000,IF(ISNUMBER(BD118),BD118*Uträkningsmall!$G21,\"\")))","v":""},"",null,{"$f":"IFERROR(INDEX('Avtalat sortiment'!$BI$3:$BP$279,MATCH($K118,Funktioner!$CE$3:$CE$280,0),MATCH(BO$109,'Avtalat sortiment'!$BI$2:$BP$2,0)),\"\")","v":0},{"$f":"IFERROR(INDEX('Avtalat sortiment'!$BI$3:$BP$279,MATCH($K118,Funktioner!$CE$3:$CE$280,0),MATCH(BP$109,'Avtalat sortiment'!$BI$2:$BP$2,0)),\"\")","v":0},{"$f":"IFERROR(INDEX('Avtalat sortiment'!$BI$3:$BP$279,MATCH($K118,Funktioner!$CE$3:$CE$280,0),MATCH(BQ$109,'Avtalat sortiment'!$BI$2:$BP$2,0)),\"\")","v":0},{"$f":"IFERROR(INDEX('Avtalat sortiment'!$BI$3:$BP$279,MATCH($K118,Funktioner!$CE$3:$CE$280,0),MATCH(BR$109,'Avtalat sortiment'!$BI$2:$BP$2,0)),\"\")","v":0},{"$f":"IFERROR(INDEX('Avtalat sortiment'!$BI$3:$BP$279,MATCH($K118,Funktioner!$CE$3:$CE$280,0),MATCH(BS$109,'Avtalat sortiment'!$BI$2:$BP$2,0)),\"\")","v":0},{"$f":"IFERROR(INDEX('Avtalat sortiment'!$BI$3:$BP$279,MATCH($K118,Funktioner!$CE$3:$CE$280,0),MATCH(BT$109,'Avtalat sortiment'!$BI$2:$BP$2,0)),\"\")","v":0},{"$f":"IFERROR(INDEX('Avtalat sortiment'!$BI$3:$BP$279,MATCH($K118,Funktioner!$CE$3:$CE$280,0),MATCH(BU$109,'Avtalat sortiment'!$BI$2:$BP$2,0)),\"\")","v":0},{"$f":"IFERROR(INDEX('Avtalat sortiment'!$BI$3:$BP$279,MATCH($K118,Funktioner!$CE$3:$CE$280,0),MATCH(BV$109,'Avtalat sortiment'!$BI$2:$BP$2,0)),\"\")","v":0},{"$f":"IF(Uträkningsmall!$G21=\"\",\"\",IF(BX118=\"Kan ej leverera\",240000000,IF(ISNUMBER(BO118),BO118*Uträkningsmall!$G21,\"\")))","v":""},"",null,{"$f":"IF('Avtalat sortiment'!K118<>\"\",'Avtalat sortiment'!$A118&'Avtalat sortiment'!Q118,\"\")","v":""},{"$f":"IF('Avtalat sortiment'!U118<>\"\",'Avtalat sortiment'!T118&'Avtalat sortiment'!AA118,\"\")","v":""},{"$f":"IF('Avtalat sortiment'!AE118<>\"\",'Avtalat sortiment'!AD118&'Avtalat sortiment'!AK118,\"\")","v":""},{"$f":"IF('Avtalat sortiment'!AO118<>\"\",'Avtalat sortiment'!AN118&'Avtalat sortiment'!AU118,\"\")","v":""},{"$f":"IF('Avtalat sortiment'!AY118<>\"\",'Avtalat sortiment'!AX118&'Avtalat sortiment'!BE118,\"\")","v":""},{"$f":"IF('Avtalat sortiment'!BI118<>\"\",'Avtalat sortiment'!BH118&'Avtalat sortiment'!BO118,\"\")","v":""}]
[null,null,null,null,null,null,null,null,null,{"$f":"IF(Uträkningsmall!$A22=Funktioner!$B$1,IF(Funktioner!$B$3=\"\",\"\",Funktioner!$B$3),IF(Uträkningsmall!$A22=Funktioner!$C$1,IF(Funktioner!$C$3=\"\",\"\",Funktioner!$C$3),IF(Uträkningsmall!$A22=Funktioner!$D$1,IF(Funktioner!$D$3=\"\",\"\",Funktioner!$D$3),IF(Uträkningsmall!$A22=Funktioner!$E$1,IF(Funktioner!$E$3=\"\",\"\",Funktioner!$E$3),IF(Uträkningsmall!$A22=Funktioner!$F$1,IF(Funktioner!$F$3=\"\",\"\",Funktioner!$F$3),IF(Uträkningsmall!$A22=Funktioner!$G$1,IF(Funktioner!$G$3=\"\",\"\",Funktioner!$G$3),IF(Uträkningsmall!$A22=Funktioner!$H$1,IF(Funktioner!$H$3=\"\",\"\",Funktioner!$H$3),IF(Uträkningsmall!$A22=Funktioner!$I$1,IF(Funktioner!$I$3=\"\",\"\",Funktioner!$I$3),IF(Uträkningsmall!$A22=Funktioner!$J$1,IF(Funktioner!$J$3=\"\",\"\",Funktioner!$J$3),IF(Uträkningsmall!$A22=Funktioner!$K$1,IF(Funktioner!$K$3=\"\",\"\",Funktioner!$K$3),IF(Uträkningsmall!$A22=Funktioner!$L$1,IF(Funktioner!$L$3=\"\",\"\",Funktioner!$L$3),IF(Uträkningsmall!$A22=Funktioner!$M$1,IF(Funktioner!$M$3=\"\",\"\",Funktioner!$M$3),IF(Uträkningsmall!$A22=Funktioner!$N$1,IF(Funktioner!$N$3=\"\",\"\",Funktioner!$N$3),IF(Uträkningsmall!$A22=Funktioner!$O$1,IF(Funktioner!$O$3=\"\",\"\",Funktioner!$O$3),IF(Uträkningsmall!$A22=Funktioner!$P$1,IF(Funktioner!$P$3=\"\",\"\",Funktioner!$P$3),IF(Uträkningsmall!$A22=Funktioner!$Q$1,IF(Funktioner!$Q$3=\"\",\"\",Funktioner!$Q$3),IF(Uträkningsmall!$A22=Funktioner!$R$1,IF(Funktioner!$R$3=\"\",\"\",Funktioner!$R$3),IF(Uträkningsmall!$A22=Funktioner!$S$1,IF(Funktioner!$S$3=\"\",\"\",Funktioner!$S$3),IF(Uträkningsmall!$A22=Funktioner!$T$1,IF(Funktioner!$T$3=\"\",\"\",Funktioner!$T$3),IF(Uträkningsmall!$A22=Funktioner!$U$1,IF(Funktioner!$U$3=\"\",\"\",Funktioner!$U$3),IF(Uträkningsmall!$A22=Funktioner!$V$1,IF(Funktioner!$V$3=\"\",\"\",Funktioner!$V$3),IF(Uträkningsmall!$A22=Funktioner!$W$1,IF(Funktioner!$W$3=\"\",\"\",Funktioner!$W$3),IF(Uträkningsmall!$A22=Funktioner!$X$1,IF(Funktioner!$X$3=\"\",\"\",Funktioner!$X$3),IF(Uträkningsmall!$A22=Funktioner!$Y$1,IF(Funktioner!$Y$3=\"\",\"\",Funktioner!$Y$3),IF(Uträkningsmall!$A22=Funktioner!$Z$1,IF(Funktioner!$Z$3=\"\",\"\",Funktioner!$Z$3),IF(Uträkningsmall!$A22=Funktioner!$AA$1,IF(Funktioner!$AA$3=\"\",\"\",Funktioner!$AA$3),IF(Uträkningsmall!$A22=Funktioner!$AB$1,IF(Funktioner!$AB$3=\"\",\"\",Funktioner!$AB$3),IF(Uträkningsmall!$A22=Funktioner!$AC$1,IF(Funktioner!$AC$3=\"\",\"\",Funktioner!$AC$3),IF(Uträkningsmall!$A22=Funktioner!$AD$1,IF(Funktioner!$AD$3=\"\",\"\",Funktioner!$AD$3),IF(Uträkningsmall!$A22=Funktioner!$AE$1,IF(Funktioner!$AE$3=\"\",\"\",Funktioner!$AE$3),IF(Uträkningsmall!$A22=Funktioner!$AF$1,IF(Funktioner!$AF$3=\"\",\"\",Funktioner!$AF$3),IF(Uträkningsmall!$A22=Funktioner!$AG$1,IF(Funktioner!$AG$3=\"\",\"\",Funktioner!$AG$3),IF(Uträkningsmall!$A22=Funktioner!$AH$1,IF(Funktioner!$AH$3=\"\",\"\",Funktioner!$AH$3),IF(Uträkningsmall!$A22=Funktioner!$AI$1,IF(Funktioner!$AI$3=\"\",\"\",Funktioner!$AI$3),IF(Uträkningsmall!$A22=Funktioner!$AJ$1,IF(Funktioner!$AJ$3=\"\",\"\",Funktioner!$AJ$3),IF(Uträkningsmall!$A22=Funktioner!$AK$1,IF(Funktioner!$AK$3=\"\",\"\",Funktioner!$AK$3),IF(Uträkningsmall!$A22=Funktioner!$AL$1,IF(Funktioner!$AL$3=\"\",\"\",Funktioner!$AL$3),IF(Uträkningsmall!$A22=Funktioner!$AM$1,IF(Funktioner!$AM$3=\"\",\"\",Funktioner!$AM$3),IF(Uträkningsmall!$A22=Funktioner!$AN$1,IF(Funktioner!$AN$3=\"\",\"\",Funktioner!$AN$3),IF(Uträkningsmall!$A22=Funktioner!$AO$1,IF(Funktioner!$AO$3=\"\",\"\",Funktioner!$AO$3),IF(Uträkningsmall!$A22=Funktioner!$AP$1,IF(Funktioner!$AP$3=\"\",\"\",Funktioner!$AP$3),IF(Uträkningsmall!$A22=Funktioner!$AQ$1,IF(Funktioner!$AQ$3=\"\",\"\",Funktioner!$AQ$3),IF(Uträkningsmall!$A22=Funktioner!$AR$1,IF(Funktioner!$AR$3=\"\",\"\",Funktioner!$AR$3),IF(Uträkningsmall!$A22=Funktioner!$AS$1,IF(Funktioner!$AS$3=\"\",\"\",Funktioner!$AS$3),IF(Uträkningsmall!$A22=Funktioner!$AT$1,IF(Funktioner!$AT$3=\"\",\"\",Funktioner!$AT$3),IF(Uträkningsmall!$A22=Funktioner!$AU$1,IF(Funktioner!$AU$3=\"\",\"\",Funktioner!$AU$3),IF(Uträkningsmall!$A22=Funktioner!$AV$1,IF(Funktioner!$AV$3=\"\",\"\",Funktioner!$AV$3),\"\")))))))))))))))))))))))))))))))))))))))))))))))","v":""},{"$f":"Uträkningsmall!$A22&Uträkningsmall!$F22","v":""},{"$f":"IFERROR(INDEX('Avtalat sortiment'!$K$3:$R$279,MATCH($K119,Funktioner!$BZ$3:$BZ$280,0),MATCH(L$109,'Avtalat sortiment'!$K$2:$R$2,0)),\"\")","v":0},{"$f":"IFERROR(INDEX('Avtalat sortiment'!$K$3:$R$279,MATCH($K119,Funktioner!$BZ$3:$BZ$280,0),MATCH(M$109,'Avtalat sortiment'!$K$2:$R$2,0)),\"\")","v":0},{"$f":"IFERROR(INDEX('Avtalat sortiment'!$K$3:$R$279,MATCH($K119,Funktioner!$BZ$3:$BZ$280,0),MATCH(N$109,'Avtalat sortiment'!$K$2:$R$2,0)),\"\")","v":0},{"$f":"IFERROR(INDEX('Avtalat sortiment'!$K$3:$R$279,MATCH($K119,Funktioner!$BZ$3:$BZ$280,0),MATCH(O$109,'Avtalat sortiment'!$K$2:$R$2,0)),\"\")","v":0},{"$f":"IFERROR(INDEX('Avtalat sortiment'!$K$3:$R$279,MATCH($K119,Funktioner!$BZ$3:$BZ$280,0),MATCH(P$109,'Avtalat sortiment'!$K$2:$R$2,0)),\"\")","v":0},{"$f":"IFERROR(INDEX('Avtalat sortiment'!$K$3:$R$279,MATCH($K119,Funktioner!$BZ$3:$BZ$280,0),MATCH(Q$109,'Avtalat sortiment'!$K$2:$R$2,0)),\"\")","v":0},{"$f":"IFERROR(INDEX('Avtalat sortiment'!$K$3:$R$279,MATCH($K119,Funktioner!$BZ$3:$BZ$280,0),MATCH(R$109,'Avtalat sortiment'!$K$2:$R$2,0)),\"\")","v":0},{"$f":"IFERROR(INDEX('Avtalat sortiment'!$K$3:$R$279,MATCH($K119,Funktioner!$BZ$3:$BZ$280,0),MATCH(S$109,'Avtalat sortiment'!$K$2:$R$2,0)),\"\")","v":0},{"$f":"IF(Uträkningsmall!$G22=\"\",\"\",IF(U119=\"Kan ej leverera\",240000000,IF(ISNUMBER(L119),L119*Uträkningsmall!$G22,\"\")))","v":""},"",null,{"$f":"IFERROR(INDEX('Avtalat sortiment'!$U$3:$AB$279,MATCH($K119,Funktioner!$CA$3:$CA$280,0),MATCH(W$109,'Avtalat sortiment'!$U$2:$AB$2,0)),\"\")","v":0},{"$f":"IFERROR(INDEX('Avtalat sortiment'!$U$3:$AB$279,MATCH($K119,Funktioner!$CA$3:$CA$280,0),MATCH(X$109,'Avtalat sortiment'!$U$2:$AB$2,0)),\"\")","v":0},{"$f":"IFERROR(INDEX('Avtalat sortiment'!$U$3:$AB$279,MATCH($K119,Funktioner!$CA$3:$CA$280,0),MATCH(Y$109,'Avtalat sortiment'!$U$2:$AB$2,0)),\"\")","v":0},{"$f":"IFERROR(INDEX('Avtalat sortiment'!$U$3:$AB$279,MATCH($K119,Funktioner!$CA$3:$CA$280,0),MATCH(Z$109,'Avtalat sortiment'!$U$2:$AB$2,0)),\"\")","v":0},{"$f":"IFERROR(INDEX('Avtalat sortiment'!$U$3:$AB$279,MATCH($K119,Funktioner!$CA$3:$CA$280,0),MATCH(AA$109,'Avtalat sortiment'!$U$2:$AB$2,0)),\"\")","v":"https://www.procurator.com/svSE/c/Montagehandskar/Montagehandske-konstl%C3%A4der-Worksafe-A100?c=23_02_01&p=U-AR98&a=2052135"},{"$f":"IFERROR(INDEX('Avtalat sortiment'!$U$3:$AB$279,MATCH($K119,Funktioner!$CA$3:$CA$280,0),MATCH(AB$109,'Avtalat sortiment'!$U$2:$AB$2,0)),\"\")","v":"Montagehandske Worksafe A100 "},{"$f":"IFERROR(INDEX('Avtalat sortiment'!$U$3:$AB$279,MATCH($K119,Funktioner!$CA$3:$CA$280,0),MATCH(AC$109,'Avtalat sortiment'!$U$2:$AB$2,0)),\"\")","v":7},{"$f":"IFERROR(INDEX('Avtalat sortiment'!$K$3:$R$279,MATCH($K119,Funktioner!$BZ$3:$BZ$280,0),MATCH(AD$109,'Avtalat sortiment'!$K$2:$R$2,0)),\"\")","v":0},{"$f":"IF(Uträkningsmall!$G22=\"\",\"\",IF(AF119=\"Kan ej leverera\",240000000,IF(ISNUMBER(W119),W119*Uträkningsmall!$G22,\"\")))","v":""},"",null,{"$f":"IFERROR(INDEX('Avtalat sortiment'!$AE$3:$AL$279,MATCH($K119,Funktioner!$CB$3:$CB$280,0),MATCH(AH$109,'Avtalat sortiment'!$AE$2:$AL$2,0)),\"\")","v":0},{"$f":"IFERROR(INDEX('Avtalat sortiment'!$AE$3:$AL$279,MATCH($K119,Funktioner!$CB$3:$CB$280,0),MATCH(AI$109,'Avtalat sortiment'!$AE$2:$AL$2,0)),\"\")","v":0},{"$f":"IFERROR(INDEX('Avtalat sortiment'!$AE$3:$AL$279,MATCH($K119,Funktioner!$CB$3:$CB$280,0),MATCH(AJ$109,'Avtalat sortiment'!$AE$2:$AL$2,0)),\"\")","v":""},{"$f":"IFERROR(INDEX('Avtalat sortiment'!$AE$3:$AL$279,MATCH($K119,Funktioner!$CB$3:$CB$280,0),MATCH(AK$109,'Avtalat sortiment'!$AE$2:$AL$2,0)),\"\")","v":0},{"$f":"IFERROR(INDEX('Avtalat sortiment'!$AE$3:$AL$279,MATCH($K119,Funktioner!$CB$3:$CB$280,0),MATCH(AL$109,'Avtalat sortiment'!$AE$2:$AL$2,0)),\"\")","v":0},{"$f":"IFERROR(INDEX('Avtalat sortiment'!$AE$3:$AL$279,MATCH($K119,Funktioner!$CB$3:$CB$280,0),MATCH(AM$109,'Avtalat sortiment'!$AE$2:$AL$2,0)),\"\")","v":0},{"$f":"IFERROR(INDEX('Avtalat sortiment'!$AE$3:$AL$279,MATCH($K119,Funktioner!$CB$3:$CB$280,0),MATCH(AN$109,'Avtalat sortiment'!$AE$2:$AL$2,0)),\"\")","v":0},{"$f":"IFERROR(INDEX('Avtalat sortiment'!$AE$3:$AL$279,MATCH($K119,Funktioner!$CB$3:$CB$280,0),MATCH(AO$109,'Avtalat sortiment'!$AE$2:$AL$2,0)),\"\")","v":0},{"$f":"IF(Uträkningsmall!$G22=\"\",\"\",IF(AQ119=\"Kan ej leverera\",240000000,IF(ISNUMBER(AH119),AH119*Uträkningsmall!$G22,\"\")))","v":""},"",null,{"$f":"IFERROR(INDEX('Avtalat sortiment'!$AO$3:$AV$257,MATCH($K119,Funktioner!$CC$3:$CC$280,0),MATCH(AS$109,'Avtalat sortiment'!$AO$2:$AV$2,0)),\"\")","v":0},{"$f":"IFERROR(INDEX('Avtalat sortiment'!$AO$3:$AV$257,MATCH($K119,Funktioner!$CC$3:$CC$280,0),MATCH(AT$109,'Avtalat sortiment'!$AO$2:$AV$2,0)),\"\")","v":0},{"$f":"IFERROR(INDEX('Avtalat sortiment'!$AO$3:$AV$257,MATCH($K119,Funktioner!$CC$3:$CC$280,0),MATCH(AU$109,'Avtalat sortiment'!$AO$2:$AV$2,0)),\"\")","v":""},{"$f":"IFERROR(INDEX('Avtalat sortiment'!$AO$3:$AV$257,MATCH($K119,Funktioner!$CC$3:$CC$280,0),MATCH(AV$109,'Avtalat sortiment'!$AO$2:$AV$2,0)),\"\")","v":0},{"$f":"IFERROR(INDEX('Avtalat sortiment'!$AO$3:$AV$257,MATCH($K119,Funktioner!$CC$3:$CC$280,0),MATCH(AW$109,'Avtalat sortiment'!$AO$2:$AV$2,0)),\"\")","v":0},{"$f":"IFERROR(INDEX('Avtalat sortiment'!$AO$3:$AV$257,MATCH($K119,Funktioner!$CC$3:$CC$280,0),MATCH(AX$109,'Avtalat sortiment'!$AO$2:$AV$2,0)),\"\")","v":0},{"$f":"IFERROR(INDEX('Avtalat sortiment'!$AO$3:$AV$257,MATCH($K119,Funktioner!$CC$3:$CC$280,0),MATCH(AY$109,'Avtalat sortiment'!$AO$2:$AV$2,0)),\"\")","v":0},{"$f":"IFERROR(INDEX('Avtalat sortiment'!$AO$3:$AV$257,MATCH($K119,Funktioner!$CC$3:$CC$280,0),MATCH(AZ$109,'Avtalat sortiment'!$AO$2:$AV$2,0)),\"\")","v":0},{"$f":"IF(Uträkningsmall!$G22=\"\",\"\",IF(BB119=\"Kan ej leverera\",240000000,IF(ISNUMBER(AS119),AS119*Uträkningsmall!$G22,\"\")))","v":""},"",null,{"$f":"IFERROR(INDEX('Avtalat sortiment'!$AY$3:$BF$219,MATCH($K119,Funktioner!$CD$3:$CD$280,0),MATCH(BD$109,'Avtalat sortiment'!$AY$2:$BF$2,0)),\"\")","v":0},{"$f":"IFERROR(INDEX('Avtalat sortiment'!$AY$3:$BF$219,MATCH($K119,Funktioner!$CD$3:$CD$280,0),MATCH(BE$109,'Avtalat sortiment'!$AY$2:$BF$2,0)),\"\")","v":0},{"$f":"IFERROR(INDEX('Avtalat sortiment'!$AY$3:$BF$219,MATCH($K119,Funktioner!$CD$3:$CD$280,0),MATCH(BF$109,'Avtalat sortiment'!$AY$2:$BF$2,0)),\"\")","v":""},{"$f":"IFERROR(INDEX('Avtalat sortiment'!$AY$3:$BF$219,MATCH($K119,Funktioner!$CD$3:$CD$280,0),MATCH(BG$109,'Avtalat sortiment'!$AY$2:$BF$2,0)),\"\")","v":269173},{"$f":"IFERROR(INDEX('Avtalat sortiment'!$AY$3:$BF$219,MATCH($K119,Funktioner!$CD$3:$CD$280,0),MATCH(BH$109,'Avtalat sortiment'!$AY$2:$BF$2,0)),\"\")","v":"https://www.lyrecocontract.se/web/ePortal/ctrl?action=showiteminfo&itemNo=269173"},{"$f":"IFERROR(INDEX('Avtalat sortiment'!$AY$3:$BF$219,MATCH($K119,Funktioner!$CD$3:$CD$280,0),MATCH(BI$109,'Avtalat sortiment'!$AY$2:$BF$2,0)),\"\")","v":"Munskydd Typ IIR med öronband Blå 50/FP"},{"$f":"IFERROR(INDEX('Avtalat sortiment'!$AY$3:$BF$219,MATCH($K119,Funktioner!$CD$3:$CD$280,0),MATCH(BJ$109,'Avtalat sortiment'!$AY$2:$BF$2,0)),\"\")","v":0},{"$f":"IFERROR(INDEX('Avtalat sortiment'!$AY$3:$BF$219,MATCH($K119,Funktioner!$CD$3:$CD$280,0),MATCH(BK$109,'Avtalat sortiment'!$AY$2:$BF$2,0)),\"\")","v":"Inväntar återkoppling från vår leverantör, i enlighet med 6.6.2 i underlag anger vi därmed ej pris         "},{"$f":"IF(Uträkningsmall!$G22=\"\",\"\",IF(BM119=\"Kan ej leverera\",240000000,IF(ISNUMBER(BD119),BD119*Uträkningsmall!$G22,\"\")))","v":""},"",null,{"$f":"IFERROR(INDEX('Avtalat sortiment'!$BI$3:$BP$279,MATCH($K119,Funktioner!$CE$3:$CE$280,0),MATCH(BO$109,'Avtalat sortiment'!$BI$2:$BP$2,0)),\"\")","v":0},{"$f":"IFERROR(INDEX('Avtalat sortiment'!$BI$3:$BP$279,MATCH($K119,Funktioner!$CE$3:$CE$280,0),MATCH(BP$109,'Avtalat sortiment'!$BI$2:$BP$2,0)),\"\")","v":0},{"$f":"IFERROR(INDEX('Avtalat sortiment'!$BI$3:$BP$279,MATCH($K119,Funktioner!$CE$3:$CE$280,0),MATCH(BQ$109,'Avtalat sortiment'!$BI$2:$BP$2,0)),\"\")","v":0},{"$f":"IFERROR(INDEX('Avtalat sortiment'!$BI$3:$BP$279,MATCH($K119,Funktioner!$CE$3:$CE$280,0),MATCH(BR$109,'Avtalat sortiment'!$BI$2:$BP$2,0)),\"\")","v":0},{"$f":"IFERROR(INDEX('Avtalat sortiment'!$BI$3:$BP$279,MATCH($K119,Funktioner!$CE$3:$CE$280,0),MATCH(BS$109,'Avtalat sortiment'!$BI$2:$BP$2,0)),\"\")","v":0},{"$f":"IFERROR(INDEX('Avtalat sortiment'!$BI$3:$BP$279,MATCH($K119,Funktioner!$CE$3:$CE$280,0),MATCH(BT$109,'Avtalat sortiment'!$BI$2:$BP$2,0)),\"\")","v":0},{"$f":"IFERROR(INDEX('Avtalat sortiment'!$BI$3:$BP$279,MATCH($K119,Funktioner!$CE$3:$CE$280,0),MATCH(BU$109,'Avtalat sortiment'!$BI$2:$BP$2,0)),\"\")","v":0},{"$f":"IFERROR(INDEX('Avtalat sortiment'!$BI$3:$BP$279,MATCH($K119,Funktioner!$CE$3:$CE$280,0),MATCH(BV$109,'Avtalat sortiment'!$BI$2:$BP$2,0)),\"\")","v":0},{"$f":"IF(Uträkningsmall!$G22=\"\",\"\",IF(BX119=\"Kan ej leverera\",240000000,IF(ISNUMBER(BO119),BO119*Uträkningsmall!$G22,\"\")))","v":""},"",null,{"$f":"IF('Avtalat sortiment'!K119<>\"\",'Avtalat sortiment'!$A119&'Avtalat sortiment'!Q119,\"\")","v":""},{"$f":"IF('Avtalat sortiment'!U119<>\"\",'Avtalat sortiment'!T119&'Avtalat sortiment'!AA119,\"\")","v":""},{"$f":"IF('Avtalat sortiment'!AE119<>\"\",'Avtalat sortiment'!AD119&'Avtalat sortiment'!AK119,\"\")","v":""},{"$f":"IF('Avtalat sortiment'!AO119<>\"\",'Avtalat sortiment'!AN119&'Avtalat sortiment'!AU119,\"\")","v":""},{"$f":"IF('Avtalat sortiment'!AY119<>\"\",'Avtalat sortiment'!AX119&'Avtalat sortiment'!BE119,\"\")","v":""},{"$f":"IF('Avtalat sortiment'!BI119<>\"\",'Avtalat sortiment'!BH119&'Avtalat sortiment'!BO119,\"\")","v":""}]
[null,null,null,null,null,null,null,null,null,{"$f":"IF(Uträkningsmall!$A23=Funktioner!$B$1,IF(Funktioner!$B$3=\"\",\"\",Funktioner!$B$3),IF(Uträkningsmall!$A23=Funktioner!$C$1,IF(Funktioner!$C$3=\"\",\"\",Funktioner!$C$3),IF(Uträkningsmall!$A23=Funktioner!$D$1,IF(Funktioner!$D$3=\"\",\"\",Funktioner!$D$3),IF(Uträkningsmall!$A23=Funktioner!$E$1,IF(Funktioner!$E$3=\"\",\"\",Funktioner!$E$3),IF(Uträkningsmall!$A23=Funktioner!$F$1,IF(Funktioner!$F$3=\"\",\"\",Funktioner!$F$3),IF(Uträkningsmall!$A23=Funktioner!$G$1,IF(Funktioner!$G$3=\"\",\"\",Funktioner!$G$3),IF(Uträkningsmall!$A23=Funktioner!$H$1,IF(Funktioner!$H$3=\"\",\"\",Funktioner!$H$3),IF(Uträkningsmall!$A23=Funktioner!$I$1,IF(Funktioner!$I$3=\"\",\"\",Funktioner!$I$3),IF(Uträkningsmall!$A23=Funktioner!$J$1,IF(Funktioner!$J$3=\"\",\"\",Funktioner!$J$3),IF(Uträkningsmall!$A23=Funktioner!$K$1,IF(Funktioner!$K$3=\"\",\"\",Funktioner!$K$3),IF(Uträkningsmall!$A23=Funktioner!$L$1,IF(Funktioner!$L$3=\"\",\"\",Funktioner!$L$3),IF(Uträkningsmall!$A23=Funktioner!$M$1,IF(Funktioner!$M$3=\"\",\"\",Funktioner!$M$3),IF(Uträkningsmall!$A23=Funktioner!$N$1,IF(Funktioner!$N$3=\"\",\"\",Funktioner!$N$3),IF(Uträkningsmall!$A23=Funktioner!$O$1,IF(Funktioner!$O$3=\"\",\"\",Funktioner!$O$3),IF(Uträkningsmall!$A23=Funktioner!$P$1,IF(Funktioner!$P$3=\"\",\"\",Funktioner!$P$3),IF(Uträkningsmall!$A23=Funktioner!$Q$1,IF(Funktioner!$Q$3=\"\",\"\",Funktioner!$Q$3),IF(Uträkningsmall!$A23=Funktioner!$R$1,IF(Funktioner!$R$3=\"\",\"\",Funktioner!$R$3),IF(Uträkningsmall!$A23=Funktioner!$S$1,IF(Funktioner!$S$3=\"\",\"\",Funktioner!$S$3),IF(Uträkningsmall!$A23=Funktioner!$T$1,IF(Funktioner!$T$3=\"\",\"\",Funktioner!$T$3),IF(Uträkningsmall!$A23=Funktioner!$U$1,IF(Funktioner!$U$3=\"\",\"\",Funktioner!$U$3),IF(Uträkningsmall!$A23=Funktioner!$V$1,IF(Funktioner!$V$3=\"\",\"\",Funktioner!$V$3),IF(Uträkningsmall!$A23=Funktioner!$W$1,IF(Funktioner!$W$3=\"\",\"\",Funktioner!$W$3),IF(Uträkningsmall!$A23=Funktioner!$X$1,IF(Funktioner!$X$3=\"\",\"\",Funktioner!$X$3),IF(Uträkningsmall!$A23=Funktioner!$Y$1,IF(Funktioner!$Y$3=\"\",\"\",Funktioner!$Y$3),IF(Uträkningsmall!$A23=Funktioner!$Z$1,IF(Funktioner!$Z$3=\"\",\"\",Funktioner!$Z$3),IF(Uträkningsmall!$A23=Funktioner!$AA$1,IF(Funktioner!$AA$3=\"\",\"\",Funktioner!$AA$3),IF(Uträkningsmall!$A23=Funktioner!$AB$1,IF(Funktioner!$AB$3=\"\",\"\",Funktioner!$AB$3),IF(Uträkningsmall!$A23=Funktioner!$AC$1,IF(Funktioner!$AC$3=\"\",\"\",Funktioner!$AC$3),IF(Uträkningsmall!$A23=Funktioner!$AD$1,IF(Funktioner!$AD$3=\"\",\"\",Funktioner!$AD$3),IF(Uträkningsmall!$A23=Funktioner!$AE$1,IF(Funktioner!$AE$3=\"\",\"\",Funktioner!$AE$3),IF(Uträkningsmall!$A23=Funktioner!$AF$1,IF(Funktioner!$AF$3=\"\",\"\",Funktioner!$AF$3),IF(Uträkningsmall!$A23=Funktioner!$AG$1,IF(Funktioner!$AG$3=\"\",\"\",Funktioner!$AG$3),IF(Uträkningsmall!$A23=Funktioner!$AH$1,IF(Funktioner!$AH$3=\"\",\"\",Funktioner!$AH$3),IF(Uträkningsmall!$A23=Funktioner!$AI$1,IF(Funktioner!$AI$3=\"\",\"\",Funktioner!$AI$3),IF(Uträkningsmall!$A23=Funktioner!$AJ$1,IF(Funktioner!$AJ$3=\"\",\"\",Funktioner!$AJ$3),IF(Uträkningsmall!$A23=Funktioner!$AK$1,IF(Funktioner!$AK$3=\"\",\"\",Funktioner!$AK$3),IF(Uträkningsmall!$A23=Funktioner!$AL$1,IF(Funktioner!$AL$3=\"\",\"\",Funktioner!$AL$3),IF(Uträkningsmall!$A23=Funktioner!$AM$1,IF(Funktioner!$AM$3=\"\",\"\",Funktioner!$AM$3),IF(Uträkningsmall!$A23=Funktioner!$AN$1,IF(Funktioner!$AN$3=\"\",\"\",Funktioner!$AN$3),IF(Uträkningsmall!$A23=Funktioner!$AO$1,IF(Funktioner!$AO$3=\"\",\"\",Funktioner!$AO$3),IF(Uträkningsmall!$A23=Funktioner!$AP$1,IF(Funktioner!$AP$3=\"\",\"\",Funktioner!$AP$3),IF(Uträkningsmall!$A23=Funktioner!$AQ$1,IF(Funktioner!$AQ$3=\"\",\"\",Funktioner!$AQ$3),IF(Uträkningsmall!$A23=Funktioner!$AR$1,IF(Funktioner!$AR$3=\"\",\"\",Funktioner!$AR$3),IF(Uträkningsmall!$A23=Funktioner!$AS$1,IF(Funktioner!$AS$3=\"\",\"\",Funktioner!$AS$3),IF(Uträkningsmall!$A23=Funktioner!$AT$1,IF(Funktioner!$AT$3=\"\",\"\",Funktioner!$AT$3),IF(Uträkningsmall!$A23=Funktioner!$AU$1,IF(Funktioner!$AU$3=\"\",\"\",Funktioner!$AU$3),IF(Uträkningsmall!$A23=Funktioner!$AV$1,IF(Funktioner!$AV$3=\"\",\"\",Funktioner!$AV$3),\"\")))))))))))))))))))))))))))))))))))))))))))))))","v":""},{"$f":"Uträkningsmall!$A23&Uträkningsmall!$F23","v":""},{"$f":"IFERROR(INDEX('Avtalat sortiment'!$K$3:$R$279,MATCH($K120,Funktioner!$BZ$3:$BZ$280,0),MATCH(L$109,'Avtalat sortiment'!$K$2:$R$2,0)),\"\")","v":0},{"$f":"IFERROR(INDEX('Avtalat sortiment'!$K$3:$R$279,MATCH($K120,Funktioner!$BZ$3:$BZ$280,0),MATCH(M$109,'Avtalat sortiment'!$K$2:$R$2,0)),\"\")","v":0},{"$f":"IFERROR(INDEX('Avtalat sortiment'!$K$3:$R$279,MATCH($K120,Funktioner!$BZ$3:$BZ$280,0),MATCH(N$109,'Avtalat sortiment'!$K$2:$R$2,0)),\"\")","v":0},{"$f":"IFERROR(INDEX('Avtalat sortiment'!$K$3:$R$279,MATCH($K120,Funktioner!$BZ$3:$BZ$280,0),MATCH(O$109,'Avtalat sortiment'!$K$2:$R$2,0)),\"\")","v":0},{"$f":"IFERROR(INDEX('Avtalat sortiment'!$K$3:$R$279,MATCH($K120,Funktioner!$BZ$3:$BZ$280,0),MATCH(P$109,'Avtalat sortiment'!$K$2:$R$2,0)),\"\")","v":0},{"$f":"IFERROR(INDEX('Avtalat sortiment'!$K$3:$R$279,MATCH($K120,Funktioner!$BZ$3:$BZ$280,0),MATCH(Q$109,'Avtalat sortiment'!$K$2:$R$2,0)),\"\")","v":0},{"$f":"IFERROR(INDEX('Avtalat sortiment'!$K$3:$R$279,MATCH($K120,Funktioner!$BZ$3:$BZ$280,0),MATCH(R$109,'Avtalat sortiment'!$K$2:$R$2,0)),\"\")","v":0},{"$f":"IFERROR(INDEX('Avtalat sortiment'!$K$3:$R$279,MATCH($K120,Funktioner!$BZ$3:$BZ$280,0),MATCH(S$109,'Avtalat sortiment'!$K$2:$R$2,0)),\"\")","v":0},{"$f":"IF(Uträkningsmall!$G23=\"\",\"\",IF(U120=\"Kan ej leverera\",240000000,IF(ISNUMBER(L120),L120*Uträkningsmall!$G23,\"\")))","v":""},"",null,{"$f":"IFERROR(INDEX('Avtalat sortiment'!$U$3:$AB$279,MATCH($K120,Funktioner!$CA$3:$CA$280,0),MATCH(W$109,'Avtalat sortiment'!$U$2:$AB$2,0)),\"\")","v":0},{"$f":"IFERROR(INDEX('Avtalat sortiment'!$U$3:$AB$279,MATCH($K120,Funktioner!$CA$3:$CA$280,0),MATCH(X$109,'Avtalat sortiment'!$U$2:$AB$2,0)),\"\")","v":0},{"$f":"IFERROR(INDEX('Avtalat sortiment'!$U$3:$AB$279,MATCH($K120,Funktioner!$CA$3:$CA$280,0),MATCH(Y$109,'Avtalat sortiment'!$U$2:$AB$2,0)),\"\")","v":0},{"$f":"IFERROR(INDEX('Avtalat sortiment'!$U$3:$AB$279,MATCH($K120,Funktioner!$CA$3:$CA$280,0),MATCH(Z$109,'Avtalat sortiment'!$U$2:$AB$2,0)),\"\")","v":0},{"$f":"IFERROR(INDEX('Avtalat sortiment'!$U$3:$AB$279,MATCH($K120,Funktioner!$CA$3:$CA$280,0),MATCH(AA$109,'Avtalat sortiment'!$U$2:$AB$2,0)),\"\")","v":"https://www.procurator.com/svSE/c/Montagehandskar/Montagehandske-konstl%C3%A4der-Worksafe-A100?c=23_02_01&p=U-AR98&a=2052135"},{"$f":"IFERROR(INDEX('Avtalat sortiment'!$U$3:$AB$279,MATCH($K120,Funktioner!$CA$3:$CA$280,0),MATCH(AB$109,'Avtalat sortiment'!$U$2:$AB$2,0)),\"\")","v":"Montagehandske Worksafe A100 "},{"$f":"IFERROR(INDEX('Avtalat sortiment'!$U$3:$AB$279,MATCH($K120,Funktioner!$CA$3:$CA$280,0),MATCH(AC$109,'Avtalat sortiment'!$U$2:$AB$2,0)),\"\")","v":7},{"$f":"IFERROR(INDEX('Avtalat sortiment'!$K$3:$R$279,MATCH($K120,Funktioner!$BZ$3:$BZ$280,0),MATCH(AD$109,'Avtalat sortiment'!$K$2:$R$2,0)),\"\")","v":0},{"$f":"IF(Uträkningsmall!$G23=\"\",\"\",IF(AF120=\"Kan ej leverera\",240000000,IF(ISNUMBER(W120),W120*Uträkningsmall!$G23,\"\")))","v":""},"",null,{"$f":"IFERROR(INDEX('Avtalat sortiment'!$AE$3:$AL$279,MATCH($K120,Funktioner!$CB$3:$CB$280,0),MATCH(AH$109,'Avtalat sortiment'!$AE$2:$AL$2,0)),\"\")","v":0},{"$f":"IFERROR(INDEX('Avtalat sortiment'!$AE$3:$AL$279,MATCH($K120,Funktioner!$CB$3:$CB$280,0),MATCH(AI$109,'Avtalat sortiment'!$AE$2:$AL$2,0)),\"\")","v":0},{"$f":"IFERROR(INDEX('Avtalat sortiment'!$AE$3:$AL$279,MATCH($K120,Funktioner!$CB$3:$CB$280,0),MATCH(AJ$109,'Avtalat sortiment'!$AE$2:$AL$2,0)),\"\")","v":""},{"$f":"IFERROR(INDEX('Avtalat sortiment'!$AE$3:$AL$279,MATCH($K120,Funktioner!$CB$3:$CB$280,0),MATCH(AK$109,'Avtalat sortiment'!$AE$2:$AL$2,0)),\"\")","v":0},{"$f":"IFERROR(INDEX('Avtalat sortiment'!$AE$3:$AL$279,MATCH($K120,Funktioner!$CB$3:$CB$280,0),MATCH(AL$109,'Avtalat sortiment'!$AE$2:$AL$2,0)),\"\")","v":0},{"$f":"IFERROR(INDEX('Avtalat sortiment'!$AE$3:$AL$279,MATCH($K120,Funktioner!$CB$3:$CB$280,0),MATCH(AM$109,'Avtalat sortiment'!$AE$2:$AL$2,0)),\"\")","v":0},{"$f":"IFERROR(INDEX('Avtalat sortiment'!$AE$3:$AL$279,MATCH($K120,Funktioner!$CB$3:$CB$280,0),MATCH(AN$109,'Avtalat sortiment'!$AE$2:$AL$2,0)),\"\")","v":0},{"$f":"IFERROR(INDEX('Avtalat sortiment'!$AE$3:$AL$279,MATCH($K120,Funktioner!$CB$3:$CB$280,0),MATCH(AO$109,'Avtalat sortiment'!$AE$2:$AL$2,0)),\"\")","v":0},{"$f":"IF(Uträkningsmall!$G23=\"\",\"\",IF(AQ120=\"Kan ej leverera\",240000000,IF(ISNUMBER(AH120),AH120*Uträkningsmall!$G23,\"\")))","v":""},"",null,{"$f":"IFERROR(INDEX('Avtalat sortiment'!$AO$3:$AV$257,MATCH($K120,Funktioner!$CC$3:$CC$280,0),MATCH(AS$109,'Avtalat sortiment'!$AO$2:$AV$2,0)),\"\")","v":0},{"$f":"IFERROR(INDEX('Avtalat sortiment'!$AO$3:$AV$257,MATCH($K120,Funktioner!$CC$3:$CC$280,0),MATCH(AT$109,'Avtalat sortiment'!$AO$2:$AV$2,0)),\"\")","v":0},{"$f":"IFERROR(INDEX('Avtalat sortiment'!$AO$3:$AV$257,MATCH($K120,Funktioner!$CC$3:$CC$280,0),MATCH(AU$109,'Avtalat sortiment'!$AO$2:$AV$2,0)),\"\")","v":""},{"$f":"IFERROR(INDEX('Avtalat sortiment'!$AO$3:$AV$257,MATCH($K120,Funktioner!$CC$3:$CC$280,0),MATCH(AV$109,'Avtalat sortiment'!$AO$2:$AV$2,0)),\"\")","v":0},{"$f":"IFERROR(INDEX('Avtalat sortiment'!$AO$3:$AV$257,MATCH($K120,Funktioner!$CC$3:$CC$280,0),MATCH(AW$109,'Avtalat sortiment'!$AO$2:$AV$2,0)),\"\")","v":0},{"$f":"IFERROR(INDEX('Avtalat sortiment'!$AO$3:$AV$257,MATCH($K120,Funktioner!$CC$3:$CC$280,0),MATCH(AX$109,'Avtalat sortiment'!$AO$2:$AV$2,0)),\"\")","v":0},{"$f":"IFERROR(INDEX('Avtalat sortiment'!$AO$3:$AV$257,MATCH($K120,Funktioner!$CC$3:$CC$280,0),MATCH(AY$109,'Avtalat sortiment'!$AO$2:$AV$2,0)),\"\")","v":0},{"$f":"IFERROR(INDEX('Avtalat sortiment'!$AO$3:$AV$257,MATCH($K120,Funktioner!$CC$3:$CC$280,0),MATCH(AZ$109,'Avtalat sortiment'!$AO$2:$AV$2,0)),\"\")","v":0},{"$f":"IF(Uträkningsmall!$G23=\"\",\"\",IF(BB120=\"Kan ej leverera\",240000000,IF(ISNUMBER(AS120),AS120*Uträkningsmall!$G23,\"\")))","v":""},"",null,{"$f":"IFERROR(INDEX('Avtalat sortiment'!$AY$3:$BF$219,MATCH($K120,Funktioner!$CD$3:$CD$280,0),MATCH(BD$109,'Avtalat sortiment'!$AY$2:$BF$2,0)),\"\")","v":0},{"$f":"IFERROR(INDEX('Avtalat sortiment'!$AY$3:$BF$219,MATCH($K120,Funktioner!$CD$3:$CD$280,0),MATCH(BE$109,'Avtalat sortiment'!$AY$2:$BF$2,0)),\"\")","v":0},{"$f":"IFERROR(INDEX('Avtalat sortiment'!$AY$3:$BF$219,MATCH($K120,Funktioner!$CD$3:$CD$280,0),MATCH(BF$109,'Avtalat sortiment'!$AY$2:$BF$2,0)),\"\")","v":""},{"$f":"IFERROR(INDEX('Avtalat sortiment'!$AY$3:$BF$219,MATCH($K120,Funktioner!$CD$3:$CD$280,0),MATCH(BG$109,'Avtalat sortiment'!$AY$2:$BF$2,0)),\"\")","v":269173},{"$f":"IFERROR(INDEX('Avtalat sortiment'!$AY$3:$BF$219,MATCH($K120,Funktioner!$CD$3:$CD$280,0),MATCH(BH$109,'Avtalat sortiment'!$AY$2:$BF$2,0)),\"\")","v":"https://www.lyrecocontract.se/web/ePortal/ctrl?action=showiteminfo&itemNo=269173"},{"$f":"IFERROR(INDEX('Avtalat sortiment'!$AY$3:$BF$219,MATCH($K120,Funktioner!$CD$3:$CD$280,0),MATCH(BI$109,'Avtalat sortiment'!$AY$2:$BF$2,0)),\"\")","v":"Munskydd Typ IIR med öronband Blå 50/FP"},{"$f":"IFERROR(INDEX('Avtalat sortiment'!$AY$3:$BF$219,MATCH($K120,Funktioner!$CD$3:$CD$280,0),MATCH(BJ$109,'Avtalat sortiment'!$AY$2:$BF$2,0)),\"\")","v":0},{"$f":"IFERROR(INDEX('Avtalat sortiment'!$AY$3:$BF$219,MATCH($K120,Funktioner!$CD$3:$CD$280,0),MATCH(BK$109,'Avtalat sortiment'!$AY$2:$BF$2,0)),\"\")","v":"Inväntar återkoppling från vår leverantör, i enlighet med 6.6.2 i underlag anger vi därmed ej pris         "},{"$f":"IF(Uträkningsmall!$G23=\"\",\"\",IF(BM120=\"Kan ej leverera\",240000000,IF(ISNUMBER(BD120),BD120*Uträkningsmall!$G23,\"\")))","v":""},"",null,{"$f":"IFERROR(INDEX('Avtalat sortiment'!$BI$3:$BP$279,MATCH($K120,Funktioner!$CE$3:$CE$280,0),MATCH(BO$109,'Avtalat sortiment'!$BI$2:$BP$2,0)),\"\")","v":0},{"$f":"IFERROR(INDEX('Avtalat sortiment'!$BI$3:$BP$279,MATCH($K120,Funktioner!$CE$3:$CE$280,0),MATCH(BP$109,'Avtalat sortiment'!$BI$2:$BP$2,0)),\"\")","v":0},{"$f":"IFERROR(INDEX('Avtalat sortiment'!$BI$3:$BP$279,MATCH($K120,Funktioner!$CE$3:$CE$280,0),MATCH(BQ$109,'Avtalat sortiment'!$BI$2:$BP$2,0)),\"\")","v":0},{"$f":"IFERROR(INDEX('Avtalat sortiment'!$BI$3:$BP$279,MATCH($K120,Funktioner!$CE$3:$CE$280,0),MATCH(BR$109,'Avtalat sortiment'!$BI$2:$BP$2,0)),\"\")","v":0},{"$f":"IFERROR(INDEX('Avtalat sortiment'!$BI$3:$BP$279,MATCH($K120,Funktioner!$CE$3:$CE$280,0),MATCH(BS$109,'Avtalat sortiment'!$BI$2:$BP$2,0)),\"\")","v":0},{"$f":"IFERROR(INDEX('Avtalat sortiment'!$BI$3:$BP$279,MATCH($K120,Funktioner!$CE$3:$CE$280,0),MATCH(BT$109,'Avtalat sortiment'!$BI$2:$BP$2,0)),\"\")","v":0},{"$f":"IFERROR(INDEX('Avtalat sortiment'!$BI$3:$BP$279,MATCH($K120,Funktioner!$CE$3:$CE$280,0),MATCH(BU$109,'Avtalat sortiment'!$BI$2:$BP$2,0)),\"\")","v":0},{"$f":"IFERROR(INDEX('Avtalat sortiment'!$BI$3:$BP$279,MATCH($K120,Funktioner!$CE$3:$CE$280,0),MATCH(BV$109,'Avtalat sortiment'!$BI$2:$BP$2,0)),\"\")","v":0},{"$f":"IF(Uträkningsmall!$G23=\"\",\"\",IF(BX120=\"Kan ej leverera\",240000000,IF(ISNUMBER(BO120),BO120*Uträkningsmall!$G23,\"\")))","v":""},"",null,{"$f":"IF('Avtalat sortiment'!K120<>\"\",'Avtalat sortiment'!$A120&'Avtalat sortiment'!Q120,\"\")","v":""},{"$f":"IF('Avtalat sortiment'!U120<>\"\",'Avtalat sortiment'!T120&'Avtalat sortiment'!AA120,\"\")","v":""},{"$f":"IF('Avtalat sortiment'!AE120<>\"\",'Avtalat sortiment'!AD120&'Avtalat sortiment'!AK120,\"\")","v":""},{"$f":"IF('Avtalat sortiment'!AO120<>\"\",'Avtalat sortiment'!AN120&'Avtalat sortiment'!AU120,\"\")","v":""},{"$f":"IF('Avtalat sortiment'!AY120<>\"\",'Avtalat sortiment'!AX120&'Avtalat sortiment'!BE120,\"\")","v":""},{"$f":"IF('Avtalat sortiment'!BI120<>\"\",'Avtalat sortiment'!BH120&'Avtalat sortiment'!BO120,\"\")","v":""}]
[null,null,null,null,null,null,null,null,null,{"$f":"IF(Uträkningsmall!$A24=Funktioner!$B$1,IF(Funktioner!$B$3=\"\",\"\",Funktioner!$B$3),IF(Uträkningsmall!$A24=Funktioner!$C$1,IF(Funktioner!$C$3=\"\",\"\",Funktioner!$C$3),IF(Uträkningsmall!$A24=Funktioner!$D$1,IF(Funktioner!$D$3=\"\",\"\",Funktioner!$D$3),IF(Uträkningsmall!$A24=Funktioner!$E$1,IF(Funktioner!$E$3=\"\",\"\",Funktioner!$E$3),IF(Uträkningsmall!$A24=Funktioner!$F$1,IF(Funktioner!$F$3=\"\",\"\",Funktioner!$F$3),IF(Uträkningsmall!$A24=Funktioner!$G$1,IF(Funktioner!$G$3=\"\",\"\",Funktioner!$G$3),IF(Uträkningsmall!$A24=Funktioner!$H$1,IF(Funktioner!$H$3=\"\",\"\",Funktioner!$H$3),IF(Uträkningsmall!$A24=Funktioner!$I$1,IF(Funktioner!$I$3=\"\",\"\",Funktioner!$I$3),IF(Uträkningsmall!$A24=Funktioner!$J$1,IF(Funktioner!$J$3=\"\",\"\",Funktioner!$J$3),IF(Uträkningsmall!$A24=Funktioner!$K$1,IF(Funktioner!$K$3=\"\",\"\",Funktioner!$K$3),IF(Uträkningsmall!$A24=Funktioner!$L$1,IF(Funktioner!$L$3=\"\",\"\",Funktioner!$L$3),IF(Uträkningsmall!$A24=Funktioner!$M$1,IF(Funktioner!$M$3=\"\",\"\",Funktioner!$M$3),IF(Uträkningsmall!$A24=Funktioner!$N$1,IF(Funktioner!$N$3=\"\",\"\",Funktioner!$N$3),IF(Uträkningsmall!$A24=Funktioner!$O$1,IF(Funktioner!$O$3=\"\",\"\",Funktioner!$O$3),IF(Uträkningsmall!$A24=Funktioner!$P$1,IF(Funktioner!$P$3=\"\",\"\",Funktioner!$P$3),IF(Uträkningsmall!$A24=Funktioner!$Q$1,IF(Funktioner!$Q$3=\"\",\"\",Funktioner!$Q$3),IF(Uträkningsmall!$A24=Funktioner!$R$1,IF(Funktioner!$R$3=\"\",\"\",Funktioner!$R$3),IF(Uträkningsmall!$A24=Funktioner!$S$1,IF(Funktioner!$S$3=\"\",\"\",Funktioner!$S$3),IF(Uträkningsmall!$A24=Funktioner!$T$1,IF(Funktioner!$T$3=\"\",\"\",Funktioner!$T$3),IF(Uträkningsmall!$A24=Funktioner!$U$1,IF(Funktioner!$U$3=\"\",\"\",Funktioner!$U$3),IF(Uträkningsmall!$A24=Funktioner!$V$1,IF(Funktioner!$V$3=\"\",\"\",Funktioner!$V$3),IF(Uträkningsmall!$A24=Funktioner!$W$1,IF(Funktioner!$W$3=\"\",\"\",Funktioner!$W$3),IF(Uträkningsmall!$A24=Funktioner!$X$1,IF(Funktioner!$X$3=\"\",\"\",Funktioner!$X$3),IF(Uträkningsmall!$A24=Funktioner!$Y$1,IF(Funktioner!$Y$3=\"\",\"\",Funktioner!$Y$3),IF(Uträkningsmall!$A24=Funktioner!$Z$1,IF(Funktioner!$Z$3=\"\",\"\",Funktioner!$Z$3),IF(Uträkningsmall!$A24=Funktioner!$AA$1,IF(Funktioner!$AA$3=\"\",\"\",Funktioner!$AA$3),IF(Uträkningsmall!$A24=Funktioner!$AB$1,IF(Funktioner!$AB$3=\"\",\"\",Funktioner!$AB$3),IF(Uträkningsmall!$A24=Funktioner!$AC$1,IF(Funktioner!$AC$3=\"\",\"\",Funktioner!$AC$3),IF(Uträkningsmall!$A24=Funktioner!$AD$1,IF(Funktioner!$AD$3=\"\",\"\",Funktioner!$AD$3),IF(Uträkningsmall!$A24=Funktioner!$AE$1,IF(Funktioner!$AE$3=\"\",\"\",Funktioner!$AE$3),IF(Uträkningsmall!$A24=Funktioner!$AF$1,IF(Funktioner!$AF$3=\"\",\"\",Funktioner!$AF$3),IF(Uträkningsmall!$A24=Funktioner!$AG$1,IF(Funktioner!$AG$3=\"\",\"\",Funktioner!$AG$3),IF(Uträkningsmall!$A24=Funktioner!$AH$1,IF(Funktioner!$AH$3=\"\",\"\",Funktioner!$AH$3),IF(Uträkningsmall!$A24=Funktioner!$AI$1,IF(Funktioner!$AI$3=\"\",\"\",Funktioner!$AI$3),IF(Uträkningsmall!$A24=Funktioner!$AJ$1,IF(Funktioner!$AJ$3=\"\",\"\",Funktioner!$AJ$3),IF(Uträkningsmall!$A24=Funktioner!$AK$1,IF(Funktioner!$AK$3=\"\",\"\",Funktioner!$AK$3),IF(Uträkningsmall!$A24=Funktioner!$AL$1,IF(Funktioner!$AL$3=\"\",\"\",Funktioner!$AL$3),IF(Uträkningsmall!$A24=Funktioner!$AM$1,IF(Funktioner!$AM$3=\"\",\"\",Funktioner!$AM$3),IF(Uträkningsmall!$A24=Funktioner!$AN$1,IF(Funktioner!$AN$3=\"\",\"\",Funktioner!$AN$3),IF(Uträkningsmall!$A24=Funktioner!$AO$1,IF(Funktioner!$AO$3=\"\",\"\",Funktioner!$AO$3),IF(Uträkningsmall!$A24=Funktioner!$AP$1,IF(Funktioner!$AP$3=\"\",\"\",Funktioner!$AP$3),IF(Uträkningsmall!$A24=Funktioner!$AQ$1,IF(Funktioner!$AQ$3=\"\",\"\",Funktioner!$AQ$3),IF(Uträkningsmall!$A24=Funktioner!$AR$1,IF(Funktioner!$AR$3=\"\",\"\",Funktioner!$AR$3),IF(Uträkningsmall!$A24=Funktioner!$AS$1,IF(Funktioner!$AS$3=\"\",\"\",Funktioner!$AS$3),IF(Uträkningsmall!$A24=Funktioner!$AT$1,IF(Funktioner!$AT$3=\"\",\"\",Funktioner!$AT$3),IF(Uträkningsmall!$A24=Funktioner!$AU$1,IF(Funktioner!$AU$3=\"\",\"\",Funktioner!$AU$3),IF(Uträkningsmall!$A24=Funktioner!$AV$1,IF(Funktioner!$AV$3=\"\",\"\",Funktioner!$AV$3),\"\")))))))))))))))))))))))))))))))))))))))))))))))","v":""},{"$f":"Uträkningsmall!$A24&Uträkningsmall!$F24","v":""},{"$f":"IFERROR(INDEX('Avtalat sortiment'!$K$3:$R$279,MATCH($K121,Funktioner!$BZ$3:$BZ$280,0),MATCH(L$109,'Avtalat sortiment'!$K$2:$R$2,0)),\"\")","v":0},{"$f":"IFERROR(INDEX('Avtalat sortiment'!$K$3:$R$279,MATCH($K121,Funktioner!$BZ$3:$BZ$280,0),MATCH(M$109,'Avtalat sortiment'!$K$2:$R$2,0)),\"\")","v":0},{"$f":"IFERROR(INDEX('Avtalat sortiment'!$K$3:$R$279,MATCH($K121,Funktioner!$BZ$3:$BZ$280,0),MATCH(N$109,'Avtalat sortiment'!$K$2:$R$2,0)),\"\")","v":0},{"$f":"IFERROR(INDEX('Avtalat sortiment'!$K$3:$R$279,MATCH($K121,Funktioner!$BZ$3:$BZ$280,0),MATCH(O$109,'Avtalat sortiment'!$K$2:$R$2,0)),\"\")","v":0},{"$f":"IFERROR(INDEX('Avtalat sortiment'!$K$3:$R$279,MATCH($K121,Funktioner!$BZ$3:$BZ$280,0),MATCH(P$109,'Avtalat sortiment'!$K$2:$R$2,0)),\"\")","v":0},{"$f":"IFERROR(INDEX('Avtalat sortiment'!$K$3:$R$279,MATCH($K121,Funktioner!$BZ$3:$BZ$280,0),MATCH(Q$109,'Avtalat sortiment'!$K$2:$R$2,0)),\"\")","v":0},{"$f":"IFERROR(INDEX('Avtalat sortiment'!$K$3:$R$279,MATCH($K121,Funktioner!$BZ$3:$BZ$280,0),MATCH(R$109,'Avtalat sortiment'!$K$2:$R$2,0)),\"\")","v":0},{"$f":"IFERROR(INDEX('Avtalat sortiment'!$K$3:$R$279,MATCH($K121,Funktioner!$BZ$3:$BZ$280,0),MATCH(S$109,'Avtalat sortiment'!$K$2:$R$2,0)),\"\")","v":0},{"$f":"IF(Uträkningsmall!$G24=\"\",\"\",IF(U121=\"Kan ej leverera\",240000000,IF(ISNUMBER(L121),L121*Uträkningsmall!$G24,\"\")))","v":""},"",null,{"$f":"IFERROR(INDEX('Avtalat sortiment'!$U$3:$AB$279,MATCH($K121,Funktioner!$CA$3:$CA$280,0),MATCH(W$109,'Avtalat sortiment'!$U$2:$AB$2,0)),\"\")","v":0},{"$f":"IFERROR(INDEX('Avtalat sortiment'!$U$3:$AB$279,MATCH($K121,Funktioner!$CA$3:$CA$280,0),MATCH(X$109,'Avtalat sortiment'!$U$2:$AB$2,0)),\"\")","v":0},{"$f":"IFERROR(INDEX('Avtalat sortiment'!$U$3:$AB$279,MATCH($K121,Funktioner!$CA$3:$CA$280,0),MATCH(Y$109,'Avtalat sortiment'!$U$2:$AB$2,0)),\"\")","v":0},{"$f":"IFERROR(INDEX('Avtalat sortiment'!$U$3:$AB$279,MATCH($K121,Funktioner!$CA$3:$CA$280,0),MATCH(Z$109,'Avtalat sortiment'!$U$2:$AB$2,0)),\"\")","v":0},{"$f":"IFERROR(INDEX('Avtalat sortiment'!$U$3:$AB$279,MATCH($K121,Funktioner!$CA$3:$CA$280,0),MATCH(AA$109,'Avtalat sortiment'!$U$2:$AB$2,0)),\"\")","v":"https://www.procurator.com/svSE/c/Montagehandskar/Montagehandske-konstl%C3%A4der-Worksafe-A100?c=23_02_01&p=U-AR98&a=2052135"},{"$f":"IFERROR(INDEX('Avtalat sortiment'!$U$3:$AB$279,MATCH($K121,Funktioner!$CA$3:$CA$280,0),MATCH(AB$109,'Avtalat sortiment'!$U$2:$AB$2,0)),\"\")","v":"Montagehandske Worksafe A100 "},{"$f":"IFERROR(INDEX('Avtalat sortiment'!$U$3:$AB$279,MATCH($K121,Funktioner!$CA$3:$CA$280,0),MATCH(AC$109,'Avtalat sortiment'!$U$2:$AB$2,0)),\"\")","v":7},{"$f":"IFERROR(INDEX('Avtalat sortiment'!$K$3:$R$279,MATCH($K121,Funktioner!$BZ$3:$BZ$280,0),MATCH(AD$109,'Avtalat sortiment'!$K$2:$R$2,0)),\"\")","v":0},{"$f":"IF(Uträkningsmall!$G24=\"\",\"\",IF(AF121=\"Kan ej leverera\",240000000,IF(ISNUMBER(W121),W121*Uträkningsmall!$G24,\"\")))","v":""},"",null,{"$f":"IFERROR(INDEX('Avtalat sortiment'!$AE$3:$AL$279,MATCH($K121,Funktioner!$CB$3:$CB$280,0),MATCH(AH$109,'Avtalat sortiment'!$AE$2:$AL$2,0)),\"\")","v":0},{"$f":"IFERROR(INDEX('Avtalat sortiment'!$AE$3:$AL$279,MATCH($K121,Funktioner!$CB$3:$CB$280,0),MATCH(AI$109,'Avtalat sortiment'!$AE$2:$AL$2,0)),\"\")","v":0},{"$f":"IFERROR(INDEX('Avtalat sortiment'!$AE$3:$AL$279,MATCH($K121,Funktioner!$CB$3:$CB$280,0),MATCH(AJ$109,'Avtalat sortiment'!$AE$2:$AL$2,0)),\"\")","v":""},{"$f":"IFERROR(INDEX('Avtalat sortiment'!$AE$3:$AL$279,MATCH($K121,Funktioner!$CB$3:$CB$280,0),MATCH(AK$109,'Avtalat sortiment'!$AE$2:$AL$2,0)),\"\")","v":0},{"$f":"IFERROR(INDEX('Avtalat sortiment'!$AE$3:$AL$279,MATCH($K121,Funktioner!$CB$3:$CB$280,0),MATCH(AL$109,'Avtalat sortiment'!$AE$2:$AL$2,0)),\"\")","v":0},{"$f":"IFERROR(INDEX('Avtalat sortiment'!$AE$3:$AL$279,MATCH($K121,Funktioner!$CB$3:$CB$280,0),MATCH(AM$109,'Avtalat sortiment'!$AE$2:$AL$2,0)),\"\")","v":0},{"$f":"IFERROR(INDEX('Avtalat sortiment'!$AE$3:$AL$279,MATCH($K121,Funktioner!$CB$3:$CB$280,0),MATCH(AN$109,'Avtalat sortiment'!$AE$2:$AL$2,0)),\"\")","v":0},{"$f":"IFERROR(INDEX('Avtalat sortiment'!$AE$3:$AL$279,MATCH($K121,Funktioner!$CB$3:$CB$280,0),MATCH(AO$109,'Avtalat sortiment'!$AE$2:$AL$2,0)),\"\")","v":0},{"$f":"IF(Uträkningsmall!$G24=\"\",\"\",IF(AQ121=\"Kan ej leverera\",240000000,IF(ISNUMBER(AH121),AH121*Uträkningsmall!$G24,\"\")))","v":""},"",null,{"$f":"IFERROR(INDEX('Avtalat sortiment'!$AO$3:$AV$257,MATCH($K121,Funktioner!$CC$3:$CC$280,0),MATCH(AS$109,'Avtalat sortiment'!$AO$2:$AV$2,0)),\"\")","v":0},{"$f":"IFERROR(INDEX('Avtalat sortiment'!$AO$3:$AV$257,MATCH($K121,Funktioner!$CC$3:$CC$280,0),MATCH(AT$109,'Avtalat sortiment'!$AO$2:$AV$2,0)),\"\")","v":0},{"$f":"IFERROR(INDEX('Avtalat sortiment'!$AO$3:$AV$257,MATCH($K121,Funktioner!$CC$3:$CC$280,0),MATCH(AU$109,'Avtalat sortiment'!$AO$2:$AV$2,0)),\"\")","v":""},{"$f":"IFERROR(INDEX('Avtalat sortiment'!$AO$3:$AV$257,MATCH($K121,Funktioner!$CC$3:$CC$280,0),MATCH(AV$109,'Avtalat sortiment'!$AO$2:$AV$2,0)),\"\")","v":0},{"$f":"IFERROR(INDEX('Avtalat sortiment'!$AO$3:$AV$257,MATCH($K121,Funktioner!$CC$3:$CC$280,0),MATCH(AW$109,'Avtalat sortiment'!$AO$2:$AV$2,0)),\"\")","v":0},{"$f":"IFERROR(INDEX('Avtalat sortiment'!$AO$3:$AV$257,MATCH($K121,Funktioner!$CC$3:$CC$280,0),MATCH(AX$109,'Avtalat sortiment'!$AO$2:$AV$2,0)),\"\")","v":0},{"$f":"IFERROR(INDEX('Avtalat sortiment'!$AO$3:$AV$257,MATCH($K121,Funktioner!$CC$3:$CC$280,0),MATCH(AY$109,'Avtalat sortiment'!$AO$2:$AV$2,0)),\"\")","v":0},{"$f":"IFERROR(INDEX('Avtalat sortiment'!$AO$3:$AV$257,MATCH($K121,Funktioner!$CC$3:$CC$280,0),MATCH(AZ$109,'Avtalat sortiment'!$AO$2:$AV$2,0)),\"\")","v":0},{"$f":"IF(Uträkningsmall!$G24=\"\",\"\",IF(BB121=\"Kan ej leverera\",240000000,IF(ISNUMBER(AS121),AS121*Uträkningsmall!$G24,\"\")))","v":""},"",null,{"$f":"IFERROR(INDEX('Avtalat sortiment'!$AY$3:$BF$219,MATCH($K121,Funktioner!$CD$3:$CD$280,0),MATCH(BD$109,'Avtalat sortiment'!$AY$2:$BF$2,0)),\"\")","v":0},{"$f":"IFERROR(INDEX('Avtalat sortiment'!$AY$3:$BF$219,MATCH($K121,Funktioner!$CD$3:$CD$280,0),MATCH(BE$109,'Avtalat sortiment'!$AY$2:$BF$2,0)),\"\")","v":0},{"$f":"IFERROR(INDEX('Avtalat sortiment'!$AY$3:$BF$219,MATCH($K121,Funktioner!$CD$3:$CD$280,0),MATCH(BF$109,'Avtalat sortiment'!$AY$2:$BF$2,0)),\"\")","v":""},{"$f":"IFERROR(INDEX('Avtalat sortiment'!$AY$3:$BF$219,MATCH($K121,Funktioner!$CD$3:$CD$280,0),MATCH(BG$109,'Avtalat sortiment'!$AY$2:$BF$2,0)),\"\")","v":269173},{"$f":"IFERROR(INDEX('Avtalat sortiment'!$AY$3:$BF$219,MATCH($K121,Funktioner!$CD$3:$CD$280,0),MATCH(BH$109,'Avtalat sortiment'!$AY$2:$BF$2,0)),\"\")","v":"https://www.lyrecocontract.se/web/ePortal/ctrl?action=showiteminfo&itemNo=269173"},{"$f":"IFERROR(INDEX('Avtalat sortiment'!$AY$3:$BF$219,MATCH($K121,Funktioner!$CD$3:$CD$280,0),MATCH(BI$109,'Avtalat sortiment'!$AY$2:$BF$2,0)),\"\")","v":"Munskydd Typ IIR med öronband Blå 50/FP"},{"$f":"IFERROR(INDEX('Avtalat sortiment'!$AY$3:$BF$219,MATCH($K121,Funktioner!$CD$3:$CD$280,0),MATCH(BJ$109,'Avtalat sortiment'!$AY$2:$BF$2,0)),\"\")","v":0},{"$f":"IFERROR(INDEX('Avtalat sortiment'!$AY$3:$BF$219,MATCH($K121,Funktioner!$CD$3:$CD$280,0),MATCH(BK$109,'Avtalat sortiment'!$AY$2:$BF$2,0)),\"\")","v":"Inväntar återkoppling från vår leverantör, i enlighet med 6.6.2 i underlag anger vi därmed ej pris         "},{"$f":"IF(Uträkningsmall!$G24=\"\",\"\",IF(BM121=\"Kan ej leverera\",240000000,IF(ISNUMBER(BD121),BD121*Uträkningsmall!$G24,\"\")))","v":""},"",null,{"$f":"IFERROR(INDEX('Avtalat sortiment'!$BI$3:$BP$279,MATCH($K121,Funktioner!$CE$3:$CE$280,0),MATCH(BO$109,'Avtalat sortiment'!$BI$2:$BP$2,0)),\"\")","v":0},{"$f":"IFERROR(INDEX('Avtalat sortiment'!$BI$3:$BP$279,MATCH($K121,Funktioner!$CE$3:$CE$280,0),MATCH(BP$109,'Avtalat sortiment'!$BI$2:$BP$2,0)),\"\")","v":0},{"$f":"IFERROR(INDEX('Avtalat sortiment'!$BI$3:$BP$279,MATCH($K121,Funktioner!$CE$3:$CE$280,0),MATCH(BQ$109,'Avtalat sortiment'!$BI$2:$BP$2,0)),\"\")","v":0},{"$f":"IFERROR(INDEX('Avtalat sortiment'!$BI$3:$BP$279,MATCH($K121,Funktioner!$CE$3:$CE$280,0),MATCH(BR$109,'Avtalat sortiment'!$BI$2:$BP$2,0)),\"\")","v":0},{"$f":"IFERROR(INDEX('Avtalat sortiment'!$BI$3:$BP$279,MATCH($K121,Funktioner!$CE$3:$CE$280,0),MATCH(BS$109,'Avtalat sortiment'!$BI$2:$BP$2,0)),\"\")","v":0},{"$f":"IFERROR(INDEX('Avtalat sortiment'!$BI$3:$BP$279,MATCH($K121,Funktioner!$CE$3:$CE$280,0),MATCH(BT$109,'Avtalat sortiment'!$BI$2:$BP$2,0)),\"\")","v":0},{"$f":"IFERROR(INDEX('Avtalat sortiment'!$BI$3:$BP$279,MATCH($K121,Funktioner!$CE$3:$CE$280,0),MATCH(BU$109,'Avtalat sortiment'!$BI$2:$BP$2,0)),\"\")","v":0},{"$f":"IFERROR(INDEX('Avtalat sortiment'!$BI$3:$BP$279,MATCH($K121,Funktioner!$CE$3:$CE$280,0),MATCH(BV$109,'Avtalat sortiment'!$BI$2:$BP$2,0)),\"\")","v":0},{"$f":"IF(Uträkningsmall!$G24=\"\",\"\",IF(BX121=\"Kan ej leverera\",240000000,IF(ISNUMBER(BO121),BO121*Uträkningsmall!$G24,\"\")))","v":""},"",null,{"$f":"IF('Avtalat sortiment'!K121<>\"\",'Avtalat sortiment'!$A121&'Avtalat sortiment'!Q121,\"\")","v":""},{"$f":"IF('Avtalat sortiment'!U121<>\"\",'Avtalat sortiment'!T121&'Avtalat sortiment'!AA121,\"\")","v":""},{"$f":"IF('Avtalat sortiment'!AE121<>\"\",'Avtalat sortiment'!AD121&'Avtalat sortiment'!AK121,\"\")","v":""},{"$f":"IF('Avtalat sortiment'!AO121<>\"\",'Avtalat sortiment'!AN121&'Avtalat sortiment'!AU121,\"\")","v":""},{"$f":"IF('Avtalat sortiment'!AY121<>\"\",'Avtalat sortiment'!AX121&'Avtalat sortiment'!BE121,\"\")","v":""},{"$f":"IF('Avtalat sortiment'!BI121<>\"\",'Avtalat sortiment'!BH121&'Avtalat sortiment'!BO121,\"\")","v":""}]
[null,null,null,null,null,null,null,null,null,{"$f":"IF(Uträkningsmall!$A25=Funktioner!$B$1,IF(Funktioner!$B$3=\"\",\"\",Funktioner!$B$3),IF(Uträkningsmall!$A25=Funktioner!$C$1,IF(Funktioner!$C$3=\"\",\"\",Funktioner!$C$3),IF(Uträkningsmall!$A25=Funktioner!$D$1,IF(Funktioner!$D$3=\"\",\"\",Funktioner!$D$3),IF(Uträkningsmall!$A25=Funktioner!$E$1,IF(Funktioner!$E$3=\"\",\"\",Funktioner!$E$3),IF(Uträkningsmall!$A25=Funktioner!$F$1,IF(Funktioner!$F$3=\"\",\"\",Funktioner!$F$3),IF(Uträkningsmall!$A25=Funktioner!$G$1,IF(Funktioner!$G$3=\"\",\"\",Funktioner!$G$3),IF(Uträkningsmall!$A25=Funktioner!$H$1,IF(Funktioner!$H$3=\"\",\"\",Funktioner!$H$3),IF(Uträkningsmall!$A25=Funktioner!$I$1,IF(Funktioner!$I$3=\"\",\"\",Funktioner!$I$3),IF(Uträkningsmall!$A25=Funktioner!$J$1,IF(Funktioner!$J$3=\"\",\"\",Funktioner!$J$3),IF(Uträkningsmall!$A25=Funktioner!$K$1,IF(Funktioner!$K$3=\"\",\"\",Funktioner!$K$3),IF(Uträkningsmall!$A25=Funktioner!$L$1,IF(Funktioner!$L$3=\"\",\"\",Funktioner!$L$3),IF(Uträkningsmall!$A25=Funktioner!$M$1,IF(Funktioner!$M$3=\"\",\"\",Funktioner!$M$3),IF(Uträkningsmall!$A25=Funktioner!$N$1,IF(Funktioner!$N$3=\"\",\"\",Funktioner!$N$3),IF(Uträkningsmall!$A25=Funktioner!$O$1,IF(Funktioner!$O$3=\"\",\"\",Funktioner!$O$3),IF(Uträkningsmall!$A25=Funktioner!$P$1,IF(Funktioner!$P$3=\"\",\"\",Funktioner!$P$3),IF(Uträkningsmall!$A25=Funktioner!$Q$1,IF(Funktioner!$Q$3=\"\",\"\",Funktioner!$Q$3),IF(Uträkningsmall!$A25=Funktioner!$R$1,IF(Funktioner!$R$3=\"\",\"\",Funktioner!$R$3),IF(Uträkningsmall!$A25=Funktioner!$S$1,IF(Funktioner!$S$3=\"\",\"\",Funktioner!$S$3),IF(Uträkningsmall!$A25=Funktioner!$T$1,IF(Funktioner!$T$3=\"\",\"\",Funktioner!$T$3),IF(Uträkningsmall!$A25=Funktioner!$U$1,IF(Funktioner!$U$3=\"\",\"\",Funktioner!$U$3),IF(Uträkningsmall!$A25=Funktioner!$V$1,IF(Funktioner!$V$3=\"\",\"\",Funktioner!$V$3),IF(Uträkningsmall!$A25=Funktioner!$W$1,IF(Funktioner!$W$3=\"\",\"\",Funktioner!$W$3),IF(Uträkningsmall!$A25=Funktioner!$X$1,IF(Funktioner!$X$3=\"\",\"\",Funktioner!$X$3),IF(Uträkningsmall!$A25=Funktioner!$Y$1,IF(Funktioner!$Y$3=\"\",\"\",Funktioner!$Y$3),IF(Uträkningsmall!$A25=Funktioner!$Z$1,IF(Funktioner!$Z$3=\"\",\"\",Funktioner!$Z$3),IF(Uträkningsmall!$A25=Funktioner!$AA$1,IF(Funktioner!$AA$3=\"\",\"\",Funktioner!$AA$3),IF(Uträkningsmall!$A25=Funktioner!$AB$1,IF(Funktioner!$AB$3=\"\",\"\",Funktioner!$AB$3),IF(Uträkningsmall!$A25=Funktioner!$AC$1,IF(Funktioner!$AC$3=\"\",\"\",Funktioner!$AC$3),IF(Uträkningsmall!$A25=Funktioner!$AD$1,IF(Funktioner!$AD$3=\"\",\"\",Funktioner!$AD$3),IF(Uträkningsmall!$A25=Funktioner!$AE$1,IF(Funktioner!$AE$3=\"\",\"\",Funktioner!$AE$3),IF(Uträkningsmall!$A25=Funktioner!$AF$1,IF(Funktioner!$AF$3=\"\",\"\",Funktioner!$AF$3),IF(Uträkningsmall!$A25=Funktioner!$AG$1,IF(Funktioner!$AG$3=\"\",\"\",Funktioner!$AG$3),IF(Uträkningsmall!$A25=Funktioner!$AH$1,IF(Funktioner!$AH$3=\"\",\"\",Funktioner!$AH$3),IF(Uträkningsmall!$A25=Funktioner!$AI$1,IF(Funktioner!$AI$3=\"\",\"\",Funktioner!$AI$3),IF(Uträkningsmall!$A25=Funktioner!$AJ$1,IF(Funktioner!$AJ$3=\"\",\"\",Funktioner!$AJ$3),IF(Uträkningsmall!$A25=Funktioner!$AK$1,IF(Funktioner!$AK$3=\"\",\"\",Funktioner!$AK$3),IF(Uträkningsmall!$A25=Funktioner!$AL$1,IF(Funktioner!$AL$3=\"\",\"\",Funktioner!$AL$3),IF(Uträkningsmall!$A25=Funktioner!$AM$1,IF(Funktioner!$AM$3=\"\",\"\",Funktioner!$AM$3),IF(Uträkningsmall!$A25=Funktioner!$AN$1,IF(Funktioner!$AN$3=\"\",\"\",Funktioner!$AN$3),IF(Uträkningsmall!$A25=Funktioner!$AO$1,IF(Funktioner!$AO$3=\"\",\"\",Funktioner!$AO$3),IF(Uträkningsmall!$A25=Funktioner!$AP$1,IF(Funktioner!$AP$3=\"\",\"\",Funktioner!$AP$3),IF(Uträkningsmall!$A25=Funktioner!$AQ$1,IF(Funktioner!$AQ$3=\"\",\"\",Funktioner!$AQ$3),IF(Uträkningsmall!$A25=Funktioner!$AR$1,IF(Funktioner!$AR$3=\"\",\"\",Funktioner!$AR$3),IF(Uträkningsmall!$A25=Funktioner!$AS$1,IF(Funktioner!$AS$3=\"\",\"\",Funktioner!$AS$3),IF(Uträkningsmall!$A25=Funktioner!$AT$1,IF(Funktioner!$AT$3=\"\",\"\",Funktioner!$AT$3),IF(Uträkningsmall!$A25=Funktioner!$AU$1,IF(Funktioner!$AU$3=\"\",\"\",Funktioner!$AU$3),IF(Uträkningsmall!$A25=Funktioner!$AV$1,IF(Funktioner!$AV$3=\"\",\"\",Funktioner!$AV$3),\"\")))))))))))))))))))))))))))))))))))))))))))))))","v":""},{"$f":"Uträkningsmall!$A25&Uträkningsmall!$F25","v":""},{"$f":"IFERROR(INDEX('Avtalat sortiment'!$K$3:$R$279,MATCH($K122,Funktioner!$BZ$3:$BZ$280,0),MATCH(L$109,'Avtalat sortiment'!$K$2:$R$2,0)),\"\")","v":0},{"$f":"IFERROR(INDEX('Avtalat sortiment'!$K$3:$R$279,MATCH($K122,Funktioner!$BZ$3:$BZ$280,0),MATCH(M$109,'Avtalat sortiment'!$K$2:$R$2,0)),\"\")","v":0},{"$f":"IFERROR(INDEX('Avtalat sortiment'!$K$3:$R$279,MATCH($K122,Funktioner!$BZ$3:$BZ$280,0),MATCH(N$109,'Avtalat sortiment'!$K$2:$R$2,0)),\"\")","v":0},{"$f":"IFERROR(INDEX('Avtalat sortiment'!$K$3:$R$279,MATCH($K122,Funktioner!$BZ$3:$BZ$280,0),MATCH(O$109,'Avtalat sortiment'!$K$2:$R$2,0)),\"\")","v":0},{"$f":"IFERROR(INDEX('Avtalat sortiment'!$K$3:$R$279,MATCH($K122,Funktioner!$BZ$3:$BZ$280,0),MATCH(P$109,'Avtalat sortiment'!$K$2:$R$2,0)),\"\")","v":0},{"$f":"IFERROR(INDEX('Avtalat sortiment'!$K$3:$R$279,MATCH($K122,Funktioner!$BZ$3:$BZ$280,0),MATCH(Q$109,'Avtalat sortiment'!$K$2:$R$2,0)),\"\")","v":0},{"$f":"IFERROR(INDEX('Avtalat sortiment'!$K$3:$R$279,MATCH($K122,Funktioner!$BZ$3:$BZ$280,0),MATCH(R$109,'Avtalat sortiment'!$K$2:$R$2,0)),\"\")","v":0},{"$f":"IFERROR(INDEX('Avtalat sortiment'!$K$3:$R$279,MATCH($K122,Funktioner!$BZ$3:$BZ$280,0),MATCH(S$109,'Avtalat sortiment'!$K$2:$R$2,0)),\"\")","v":0},{"$f":"IF(Uträkningsmall!$G25=\"\",\"\",IF(U122=\"Kan ej leverera\",240000000,IF(ISNUMBER(L122),L122*Uträkningsmall!$G25,\"\")))","v":""},"",null,{"$f":"IFERROR(INDEX('Avtalat sortiment'!$U$3:$AB$279,MATCH($K122,Funktioner!$CA$3:$CA$280,0),MATCH(W$109,'Avtalat sortiment'!$U$2:$AB$2,0)),\"\")","v":0},{"$f":"IFERROR(INDEX('Avtalat sortiment'!$U$3:$AB$279,MATCH($K122,Funktioner!$CA$3:$CA$280,0),MATCH(X$109,'Avtalat sortiment'!$U$2:$AB$2,0)),\"\")","v":0},{"$f":"IFERROR(INDEX('Avtalat sortiment'!$U$3:$AB$279,MATCH($K122,Funktioner!$CA$3:$CA$280,0),MATCH(Y$109,'Avtalat sortiment'!$U$2:$AB$2,0)),\"\")","v":0},{"$f":"IFERROR(INDEX('Avtalat sortiment'!$U$3:$AB$279,MATCH($K122,Funktioner!$CA$3:$CA$280,0),MATCH(Z$109,'Avtalat sortiment'!$U$2:$AB$2,0)),\"\")","v":0},{"$f":"IFERROR(INDEX('Avtalat sortiment'!$U$3:$AB$279,MATCH($K122,Funktioner!$CA$3:$CA$280,0),MATCH(AA$109,'Avtalat sortiment'!$U$2:$AB$2,0)),\"\")","v":"https://www.procurator.com/svSE/c/Montagehandskar/Montagehandske-konstl%C3%A4der-Worksafe-A100?c=23_02_01&p=U-AR98&a=2052135"},{"$f":"IFERROR(INDEX('Avtalat sortiment'!$U$3:$AB$279,MATCH($K122,Funktioner!$CA$3:$CA$280,0),MATCH(AB$109,'Avtalat sortiment'!$U$2:$AB$2,0)),\"\")","v":"Montagehandske Worksafe A100 "},{"$f":"IFERROR(INDEX('Avtalat sortiment'!$U$3:$AB$279,MATCH($K122,Funktioner!$CA$3:$CA$280,0),MATCH(AC$109,'Avtalat sortiment'!$U$2:$AB$2,0)),\"\")","v":7},{"$f":"IFERROR(INDEX('Avtalat sortiment'!$K$3:$R$279,MATCH($K122,Funktioner!$BZ$3:$BZ$280,0),MATCH(AD$109,'Avtalat sortiment'!$K$2:$R$2,0)),\"\")","v":0},{"$f":"IF(Uträkningsmall!$G25=\"\",\"\",IF(AF122=\"Kan ej leverera\",240000000,IF(ISNUMBER(W122),W122*Uträkningsmall!$G25,\"\")))","v":""},"",null,{"$f":"IFERROR(INDEX('Avtalat sortiment'!$AE$3:$AL$279,MATCH($K122,Funktioner!$CB$3:$CB$280,0),MATCH(AH$109,'Avtalat sortiment'!$AE$2:$AL$2,0)),\"\")","v":0},{"$f":"IFERROR(INDEX('Avtalat sortiment'!$AE$3:$AL$279,MATCH($K122,Funktioner!$CB$3:$CB$280,0),MATCH(AI$109,'Avtalat sortiment'!$AE$2:$AL$2,0)),\"\")","v":0},{"$f":"IFERROR(INDEX('Avtalat sortiment'!$AE$3:$AL$279,MATCH($K122,Funktioner!$CB$3:$CB$280,0),MATCH(AJ$109,'Avtalat sortiment'!$AE$2:$AL$2,0)),\"\")","v":""},{"$f":"IFERROR(INDEX('Avtalat sortiment'!$AE$3:$AL$279,MATCH($K122,Funktioner!$CB$3:$CB$280,0),MATCH(AK$109,'Avtalat sortiment'!$AE$2:$AL$2,0)),\"\")","v":0},{"$f":"IFERROR(INDEX('Avtalat sortiment'!$AE$3:$AL$279,MATCH($K122,Funktioner!$CB$3:$CB$280,0),MATCH(AL$109,'Avtalat sortiment'!$AE$2:$AL$2,0)),\"\")","v":0},{"$f":"IFERROR(INDEX('Avtalat sortiment'!$AE$3:$AL$279,MATCH($K122,Funktioner!$CB$3:$CB$280,0),MATCH(AM$109,'Avtalat sortiment'!$AE$2:$AL$2,0)),\"\")","v":0},{"$f":"IFERROR(INDEX('Avtalat sortiment'!$AE$3:$AL$279,MATCH($K122,Funktioner!$CB$3:$CB$280,0),MATCH(AN$109,'Avtalat sortiment'!$AE$2:$AL$2,0)),\"\")","v":0},{"$f":"IFERROR(INDEX('Avtalat sortiment'!$AE$3:$AL$279,MATCH($K122,Funktioner!$CB$3:$CB$280,0),MATCH(AO$109,'Avtalat sortiment'!$AE$2:$AL$2,0)),\"\")","v":0},{"$f":"IF(Uträkningsmall!$G25=\"\",\"\",IF(AQ122=\"Kan ej leverera\",240000000,IF(ISNUMBER(AH122),AH122*Uträkningsmall!$G25,\"\")))","v":""},"",null,{"$f":"IFERROR(INDEX('Avtalat sortiment'!$AO$3:$AV$257,MATCH($K122,Funktioner!$CC$3:$CC$280,0),MATCH(AS$109,'Avtalat sortiment'!$AO$2:$AV$2,0)),\"\")","v":0},{"$f":"IFERROR(INDEX('Avtalat sortiment'!$AO$3:$AV$257,MATCH($K122,Funktioner!$CC$3:$CC$280,0),MATCH(AT$109,'Avtalat sortiment'!$AO$2:$AV$2,0)),\"\")","v":0},{"$f":"IFERROR(INDEX('Avtalat sortiment'!$AO$3:$AV$257,MATCH($K122,Funktioner!$CC$3:$CC$280,0),MATCH(AU$109,'Avtalat sortiment'!$AO$2:$AV$2,0)),\"\")","v":""},{"$f":"IFERROR(INDEX('Avtalat sortiment'!$AO$3:$AV$257,MATCH($K122,Funktioner!$CC$3:$CC$280,0),MATCH(AV$109,'Avtalat sortiment'!$AO$2:$AV$2,0)),\"\")","v":0},{"$f":"IFERROR(INDEX('Avtalat sortiment'!$AO$3:$AV$257,MATCH($K122,Funktioner!$CC$3:$CC$280,0),MATCH(AW$109,'Avtalat sortiment'!$AO$2:$AV$2,0)),\"\")","v":0},{"$f":"IFERROR(INDEX('Avtalat sortiment'!$AO$3:$AV$257,MATCH($K122,Funktioner!$CC$3:$CC$280,0),MATCH(AX$109,'Avtalat sortiment'!$AO$2:$AV$2,0)),\"\")","v":0},{"$f":"IFERROR(INDEX('Avtalat sortiment'!$AO$3:$AV$257,MATCH($K122,Funktioner!$CC$3:$CC$280,0),MATCH(AY$109,'Avtalat sortiment'!$AO$2:$AV$2,0)),\"\")","v":0},{"$f":"IFERROR(INDEX('Avtalat sortiment'!$AO$3:$AV$257,MATCH($K122,Funktioner!$CC$3:$CC$280,0),MATCH(AZ$109,'Avtalat sortiment'!$AO$2:$AV$2,0)),\"\")","v":0},{"$f":"IF(Uträkningsmall!$G25=\"\",\"\",IF(BB122=\"Kan ej leverera\",240000000,IF(ISNUMBER(AS122),AS122*Uträkningsmall!$G25,\"\")))","v":""},"",null,{"$f":"IFERROR(INDEX('Avtalat sortiment'!$AY$3:$BF$219,MATCH($K122,Funktioner!$CD$3:$CD$280,0),MATCH(BD$109,'Avtalat sortiment'!$AY$2:$BF$2,0)),\"\")","v":0},{"$f":"IFERROR(INDEX('Avtalat sortiment'!$AY$3:$BF$219,MATCH($K122,Funktioner!$CD$3:$CD$280,0),MATCH(BE$109,'Avtalat sortiment'!$AY$2:$BF$2,0)),\"\")","v":0},{"$f":"IFERROR(INDEX('Avtalat sortiment'!$AY$3:$BF$219,MATCH($K122,Funktioner!$CD$3:$CD$280,0),MATCH(BF$109,'Avtalat sortiment'!$AY$2:$BF$2,0)),\"\")","v":""},{"$f":"IFERROR(INDEX('Avtalat sortiment'!$AY$3:$BF$219,MATCH($K122,Funktioner!$CD$3:$CD$280,0),MATCH(BG$109,'Avtalat sortiment'!$AY$2:$BF$2,0)),\"\")","v":269173},{"$f":"IFERROR(INDEX('Avtalat sortiment'!$AY$3:$BF$219,MATCH($K122,Funktioner!$CD$3:$CD$280,0),MATCH(BH$109,'Avtalat sortiment'!$AY$2:$BF$2,0)),\"\")","v":"https://www.lyrecocontract.se/web/ePortal/ctrl?action=showiteminfo&itemNo=269173"},{"$f":"IFERROR(INDEX('Avtalat sortiment'!$AY$3:$BF$219,MATCH($K122,Funktioner!$CD$3:$CD$280,0),MATCH(BI$109,'Avtalat sortiment'!$AY$2:$BF$2,0)),\"\")","v":"Munskydd Typ IIR med öronband Blå 50/FP"},{"$f":"IFERROR(INDEX('Avtalat sortiment'!$AY$3:$BF$219,MATCH($K122,Funktioner!$CD$3:$CD$280,0),MATCH(BJ$109,'Avtalat sortiment'!$AY$2:$BF$2,0)),\"\")","v":0},{"$f":"IFERROR(INDEX('Avtalat sortiment'!$AY$3:$BF$219,MATCH($K122,Funktioner!$CD$3:$CD$280,0),MATCH(BK$109,'Avtalat sortiment'!$AY$2:$BF$2,0)),\"\")","v":"Inväntar återkoppling från vår leverantör, i enlighet med 6.6.2 i underlag anger vi därmed ej pris         "},{"$f":"IF(Uträkningsmall!$G25=\"\",\"\",IF(BM122=\"Kan ej leverera\",240000000,IF(ISNUMBER(BD122),BD122*Uträkningsmall!$G25,\"\")))","v":""},"",null,{"$f":"IFERROR(INDEX('Avtalat sortiment'!$BI$3:$BP$279,MATCH($K122,Funktioner!$CE$3:$CE$280,0),MATCH(BO$109,'Avtalat sortiment'!$BI$2:$BP$2,0)),\"\")","v":0},{"$f":"IFERROR(INDEX('Avtalat sortiment'!$BI$3:$BP$279,MATCH($K122,Funktioner!$CE$3:$CE$280,0),MATCH(BP$109,'Avtalat sortiment'!$BI$2:$BP$2,0)),\"\")","v":0},{"$f":"IFERROR(INDEX('Avtalat sortiment'!$BI$3:$BP$279,MATCH($K122,Funktioner!$CE$3:$CE$280,0),MATCH(BQ$109,'Avtalat sortiment'!$BI$2:$BP$2,0)),\"\")","v":0},{"$f":"IFERROR(INDEX('Avtalat sortiment'!$BI$3:$BP$279,MATCH($K122,Funktioner!$CE$3:$CE$280,0),MATCH(BR$109,'Avtalat sortiment'!$BI$2:$BP$2,0)),\"\")","v":0},{"$f":"IFERROR(INDEX('Avtalat sortiment'!$BI$3:$BP$279,MATCH($K122,Funktioner!$CE$3:$CE$280,0),MATCH(BS$109,'Avtalat sortiment'!$BI$2:$BP$2,0)),\"\")","v":0},{"$f":"IFERROR(INDEX('Avtalat sortiment'!$BI$3:$BP$279,MATCH($K122,Funktioner!$CE$3:$CE$280,0),MATCH(BT$109,'Avtalat sortiment'!$BI$2:$BP$2,0)),\"\")","v":0},{"$f":"IFERROR(INDEX('Avtalat sortiment'!$BI$3:$BP$279,MATCH($K122,Funktioner!$CE$3:$CE$280,0),MATCH(BU$109,'Avtalat sortiment'!$BI$2:$BP$2,0)),\"\")","v":0},{"$f":"IFERROR(INDEX('Avtalat sortiment'!$BI$3:$BP$279,MATCH($K122,Funktioner!$CE$3:$CE$280,0),MATCH(BV$109,'Avtalat sortiment'!$BI$2:$BP$2,0)),\"\")","v":0},{"$f":"IF(Uträkningsmall!$G25=\"\",\"\",IF(BX122=\"Kan ej leverera\",240000000,IF(ISNUMBER(BO122),BO122*Uträkningsmall!$G25,\"\")))","v":""},"",null,{"$f":"IF('Avtalat sortiment'!K122<>\"\",'Avtalat sortiment'!$A122&'Avtalat sortiment'!Q122,\"\")","v":""},{"$f":"IF('Avtalat sortiment'!U122<>\"\",'Avtalat sortiment'!T122&'Avtalat sortiment'!AA122,\"\")","v":""},{"$f":"IF('Avtalat sortiment'!AE122<>\"\",'Avtalat sortiment'!AD122&'Avtalat sortiment'!AK122,\"\")","v":""},{"$f":"IF('Avtalat sortiment'!AO122<>\"\",'Avtalat sortiment'!AN122&'Avtalat sortiment'!AU122,\"\")","v":""},{"$f":"IF('Avtalat sortiment'!AY122<>\"\",'Avtalat sortiment'!AX122&'Avtalat sortiment'!BE122,\"\")","v":""},{"$f":"IF('Avtalat sortiment'!BI122<>\"\",'Avtalat sortiment'!BH122&'Avtalat sortiment'!BO122,\"\")","v":""}]
[null,null,null,null,null,null,null,null,null,{"$f":"IF(Uträkningsmall!$A26=Funktioner!$B$1,IF(Funktioner!$B$3=\"\",\"\",Funktioner!$B$3),IF(Uträkningsmall!$A26=Funktioner!$C$1,IF(Funktioner!$C$3=\"\",\"\",Funktioner!$C$3),IF(Uträkningsmall!$A26=Funktioner!$D$1,IF(Funktioner!$D$3=\"\",\"\",Funktioner!$D$3),IF(Uträkningsmall!$A26=Funktioner!$E$1,IF(Funktioner!$E$3=\"\",\"\",Funktioner!$E$3),IF(Uträkningsmall!$A26=Funktioner!$F$1,IF(Funktioner!$F$3=\"\",\"\",Funktioner!$F$3),IF(Uträkningsmall!$A26=Funktioner!$G$1,IF(Funktioner!$G$3=\"\",\"\",Funktioner!$G$3),IF(Uträkningsmall!$A26=Funktioner!$H$1,IF(Funktioner!$H$3=\"\",\"\",Funktioner!$H$3),IF(Uträkningsmall!$A26=Funktioner!$I$1,IF(Funktioner!$I$3=\"\",\"\",Funktioner!$I$3),IF(Uträkningsmall!$A26=Funktioner!$J$1,IF(Funktioner!$J$3=\"\",\"\",Funktioner!$J$3),IF(Uträkningsmall!$A26=Funktioner!$K$1,IF(Funktioner!$K$3=\"\",\"\",Funktioner!$K$3),IF(Uträkningsmall!$A26=Funktioner!$L$1,IF(Funktioner!$L$3=\"\",\"\",Funktioner!$L$3),IF(Uträkningsmall!$A26=Funktioner!$M$1,IF(Funktioner!$M$3=\"\",\"\",Funktioner!$M$3),IF(Uträkningsmall!$A26=Funktioner!$N$1,IF(Funktioner!$N$3=\"\",\"\",Funktioner!$N$3),IF(Uträkningsmall!$A26=Funktioner!$O$1,IF(Funktioner!$O$3=\"\",\"\",Funktioner!$O$3),IF(Uträkningsmall!$A26=Funktioner!$P$1,IF(Funktioner!$P$3=\"\",\"\",Funktioner!$P$3),IF(Uträkningsmall!$A26=Funktioner!$Q$1,IF(Funktioner!$Q$3=\"\",\"\",Funktioner!$Q$3),IF(Uträkningsmall!$A26=Funktioner!$R$1,IF(Funktioner!$R$3=\"\",\"\",Funktioner!$R$3),IF(Uträkningsmall!$A26=Funktioner!$S$1,IF(Funktioner!$S$3=\"\",\"\",Funktioner!$S$3),IF(Uträkningsmall!$A26=Funktioner!$T$1,IF(Funktioner!$T$3=\"\",\"\",Funktioner!$T$3),IF(Uträkningsmall!$A26=Funktioner!$U$1,IF(Funktioner!$U$3=\"\",\"\",Funktioner!$U$3),IF(Uträkningsmall!$A26=Funktioner!$V$1,IF(Funktioner!$V$3=\"\",\"\",Funktioner!$V$3),IF(Uträkningsmall!$A26=Funktioner!$W$1,IF(Funktioner!$W$3=\"\",\"\",Funktioner!$W$3),IF(Uträkningsmall!$A26=Funktioner!$X$1,IF(Funktioner!$X$3=\"\",\"\",Funktioner!$X$3),IF(Uträkningsmall!$A26=Funktioner!$Y$1,IF(Funktioner!$Y$3=\"\",\"\",Funktioner!$Y$3),IF(Uträkningsmall!$A26=Funktioner!$Z$1,IF(Funktioner!$Z$3=\"\",\"\",Funktioner!$Z$3),IF(Uträkningsmall!$A26=Funktioner!$AA$1,IF(Funktioner!$AA$3=\"\",\"\",Funktioner!$AA$3),IF(Uträkningsmall!$A26=Funktioner!$AB$1,IF(Funktioner!$AB$3=\"\",\"\",Funktioner!$AB$3),IF(Uträkningsmall!$A26=Funktioner!$AC$1,IF(Funktioner!$AC$3=\"\",\"\",Funktioner!$AC$3),IF(Uträkningsmall!$A26=Funktioner!$AD$1,IF(Funktioner!$AD$3=\"\",\"\",Funktioner!$AD$3),IF(Uträkningsmall!$A26=Funktioner!$AE$1,IF(Funktioner!$AE$3=\"\",\"\",Funktioner!$AE$3),IF(Uträkningsmall!$A26=Funktioner!$AF$1,IF(Funktioner!$AF$3=\"\",\"\",Funktioner!$AF$3),IF(Uträkningsmall!$A26=Funktioner!$AG$1,IF(Funktioner!$AG$3=\"\",\"\",Funktioner!$AG$3),IF(Uträkningsmall!$A26=Funktioner!$AH$1,IF(Funktioner!$AH$3=\"\",\"\",Funktioner!$AH$3),IF(Uträkningsmall!$A26=Funktioner!$AI$1,IF(Funktioner!$AI$3=\"\",\"\",Funktioner!$AI$3),IF(Uträkningsmall!$A26=Funktioner!$AJ$1,IF(Funktioner!$AJ$3=\"\",\"\",Funktioner!$AJ$3),IF(Uträkningsmall!$A26=Funktioner!$AK$1,IF(Funktioner!$AK$3=\"\",\"\",Funktioner!$AK$3),IF(Uträkningsmall!$A26=Funktioner!$AL$1,IF(Funktioner!$AL$3=\"\",\"\",Funktioner!$AL$3),IF(Uträkningsmall!$A26=Funktioner!$AM$1,IF(Funktioner!$AM$3=\"\",\"\",Funktioner!$AM$3),IF(Uträkningsmall!$A26=Funktioner!$AN$1,IF(Funktioner!$AN$3=\"\",\"\",Funktioner!$AN$3),IF(Uträkningsmall!$A26=Funktioner!$AO$1,IF(Funktioner!$AO$3=\"\",\"\",Funktioner!$AO$3),IF(Uträkningsmall!$A26=Funktioner!$AP$1,IF(Funktioner!$AP$3=\"\",\"\",Funktioner!$AP$3),IF(Uträkningsmall!$A26=Funktioner!$AQ$1,IF(Funktioner!$AQ$3=\"\",\"\",Funktioner!$AQ$3),IF(Uträkningsmall!$A26=Funktioner!$AR$1,IF(Funktioner!$AR$3=\"\",\"\",Funktioner!$AR$3),IF(Uträkningsmall!$A26=Funktioner!$AS$1,IF(Funktioner!$AS$3=\"\",\"\",Funktioner!$AS$3),IF(Uträkningsmall!$A26=Funktioner!$AT$1,IF(Funktioner!$AT$3=\"\",\"\",Funktioner!$AT$3),IF(Uträkningsmall!$A26=Funktioner!$AU$1,IF(Funktioner!$AU$3=\"\",\"\",Funktioner!$AU$3),IF(Uträkningsmall!$A26=Funktioner!$AV$1,IF(Funktioner!$AV$3=\"\",\"\",Funktioner!$AV$3),\"\")))))))))))))))))))))))))))))))))))))))))))))))","v":""},{"$f":"Uträkningsmall!$A26&Uträkningsmall!$F26","v":""},{"$f":"IFERROR(INDEX('Avtalat sortiment'!$K$3:$R$279,MATCH($K123,Funktioner!$BZ$3:$BZ$280,0),MATCH(L$109,'Avtalat sortiment'!$K$2:$R$2,0)),\"\")","v":0},{"$f":"IFERROR(INDEX('Avtalat sortiment'!$K$3:$R$279,MATCH($K123,Funktioner!$BZ$3:$BZ$280,0),MATCH(M$109,'Avtalat sortiment'!$K$2:$R$2,0)),\"\")","v":0},{"$f":"IFERROR(INDEX('Avtalat sortiment'!$K$3:$R$279,MATCH($K123,Funktioner!$BZ$3:$BZ$280,0),MATCH(N$109,'Avtalat sortiment'!$K$2:$R$2,0)),\"\")","v":0},{"$f":"IFERROR(INDEX('Avtalat sortiment'!$K$3:$R$279,MATCH($K123,Funktioner!$BZ$3:$BZ$280,0),MATCH(O$109,'Avtalat sortiment'!$K$2:$R$2,0)),\"\")","v":0},{"$f":"IFERROR(INDEX('Avtalat sortiment'!$K$3:$R$279,MATCH($K123,Funktioner!$BZ$3:$BZ$280,0),MATCH(P$109,'Avtalat sortiment'!$K$2:$R$2,0)),\"\")","v":0},{"$f":"IFERROR(INDEX('Avtalat sortiment'!$K$3:$R$279,MATCH($K123,Funktioner!$BZ$3:$BZ$280,0),MATCH(Q$109,'Avtalat sortiment'!$K$2:$R$2,0)),\"\")","v":0},{"$f":"IFERROR(INDEX('Avtalat sortiment'!$K$3:$R$279,MATCH($K123,Funktioner!$BZ$3:$BZ$280,0),MATCH(R$109,'Avtalat sortiment'!$K$2:$R$2,0)),\"\")","v":0},{"$f":"IFERROR(INDEX('Avtalat sortiment'!$K$3:$R$279,MATCH($K123,Funktioner!$BZ$3:$BZ$280,0),MATCH(S$109,'Avtalat sortiment'!$K$2:$R$2,0)),\"\")","v":0},{"$f":"IF(Uträkningsmall!$G26=\"\",\"\",IF(U123=\"Kan ej leverera\",240000000,IF(ISNUMBER(L123),L123*Uträkningsmall!$G26,\"\")))","v":""},"",null,{"$f":"IFERROR(INDEX('Avtalat sortiment'!$U$3:$AB$279,MATCH($K123,Funktioner!$CA$3:$CA$280,0),MATCH(W$109,'Avtalat sortiment'!$U$2:$AB$2,0)),\"\")","v":0},{"$f":"IFERROR(INDEX('Avtalat sortiment'!$U$3:$AB$279,MATCH($K123,Funktioner!$CA$3:$CA$280,0),MATCH(X$109,'Avtalat sortiment'!$U$2:$AB$2,0)),\"\")","v":0},{"$f":"IFERROR(INDEX('Avtalat sortiment'!$U$3:$AB$279,MATCH($K123,Funktioner!$CA$3:$CA$280,0),MATCH(Y$109,'Avtalat sortiment'!$U$2:$AB$2,0)),\"\")","v":0},{"$f":"IFERROR(INDEX('Avtalat sortiment'!$U$3:$AB$279,MATCH($K123,Funktioner!$CA$3:$CA$280,0),MATCH(Z$109,'Avtalat sortiment'!$U$2:$AB$2,0)),\"\")","v":0},{"$f":"IFERROR(INDEX('Avtalat sortiment'!$U$3:$AB$279,MATCH($K123,Funktioner!$CA$3:$CA$280,0),MATCH(AA$109,'Avtalat sortiment'!$U$2:$AB$2,0)),\"\")","v":"https://www.procurator.com/svSE/c/Montagehandskar/Montagehandske-konstl%C3%A4der-Worksafe-A100?c=23_02_01&p=U-AR98&a=2052135"},{"$f":"IFERROR(INDEX('Avtalat sortiment'!$U$3:$AB$279,MATCH($K123,Funktioner!$CA$3:$CA$280,0),MATCH(AB$109,'Avtalat sortiment'!$U$2:$AB$2,0)),\"\")","v":"Montagehandske Worksafe A100 "},{"$f":"IFERROR(INDEX('Avtalat sortiment'!$U$3:$AB$279,MATCH($K123,Funktioner!$CA$3:$CA$280,0),MATCH(AC$109,'Avtalat sortiment'!$U$2:$AB$2,0)),\"\")","v":7},{"$f":"IFERROR(INDEX('Avtalat sortiment'!$K$3:$R$279,MATCH($K123,Funktioner!$BZ$3:$BZ$280,0),MATCH(AD$109,'Avtalat sortiment'!$K$2:$R$2,0)),\"\")","v":0},{"$f":"IF(Uträkningsmall!$G26=\"\",\"\",IF(AF123=\"Kan ej leverera\",240000000,IF(ISNUMBER(W123),W123*Uträkningsmall!$G26,\"\")))","v":""},"",null,{"$f":"IFERROR(INDEX('Avtalat sortiment'!$AE$3:$AL$279,MATCH($K123,Funktioner!$CB$3:$CB$280,0),MATCH(AH$109,'Avtalat sortiment'!$AE$2:$AL$2,0)),\"\")","v":0},{"$f":"IFERROR(INDEX('Avtalat sortiment'!$AE$3:$AL$279,MATCH($K123,Funktioner!$CB$3:$CB$280,0),MATCH(AI$109,'Avtalat sortiment'!$AE$2:$AL$2,0)),\"\")","v":0},{"$f":"IFERROR(INDEX('Avtalat sortiment'!$AE$3:$AL$279,MATCH($K123,Funktioner!$CB$3:$CB$280,0),MATCH(AJ$109,'Avtalat sortiment'!$AE$2:$AL$2,0)),\"\")","v":""},{"$f":"IFERROR(INDEX('Avtalat sortiment'!$AE$3:$AL$279,MATCH($K123,Funktioner!$CB$3:$CB$280,0),MATCH(AK$109,'Avtalat sortiment'!$AE$2:$AL$2,0)),\"\")","v":0},{"$f":"IFERROR(INDEX('Avtalat sortiment'!$AE$3:$AL$279,MATCH($K123,Funktioner!$CB$3:$CB$280,0),MATCH(AL$109,'Avtalat sortiment'!$AE$2:$AL$2,0)),\"\")","v":0},{"$f":"IFERROR(INDEX('Avtalat sortiment'!$AE$3:$AL$279,MATCH($K123,Funktioner!$CB$3:$CB$280,0),MATCH(AM$109,'Avtalat sortiment'!$AE$2:$AL$2,0)),\"\")","v":0},{"$f":"IFERROR(INDEX('Avtalat sortiment'!$AE$3:$AL$279,MATCH($K123,Funktioner!$CB$3:$CB$280,0),MATCH(AN$109,'Avtalat sortiment'!$AE$2:$AL$2,0)),\"\")","v":0},{"$f":"IFERROR(INDEX('Avtalat sortiment'!$AE$3:$AL$279,MATCH($K123,Funktioner!$CB$3:$CB$280,0),MATCH(AO$109,'Avtalat sortiment'!$AE$2:$AL$2,0)),\"\")","v":0},{"$f":"IF(Uträkningsmall!$G26=\"\",\"\",IF(AQ123=\"Kan ej leverera\",240000000,IF(ISNUMBER(AH123),AH123*Uträkningsmall!$G26,\"\")))","v":""},"",null,{"$f":"IFERROR(INDEX('Avtalat sortiment'!$AO$3:$AV$257,MATCH($K123,Funktioner!$CC$3:$CC$280,0),MATCH(AS$109,'Avtalat sortiment'!$AO$2:$AV$2,0)),\"\")","v":0},{"$f":"IFERROR(INDEX('Avtalat sortiment'!$AO$3:$AV$257,MATCH($K123,Funktioner!$CC$3:$CC$280,0),MATCH(AT$109,'Avtalat sortiment'!$AO$2:$AV$2,0)),\"\")","v":0},{"$f":"IFERROR(INDEX('Avtalat sortiment'!$AO$3:$AV$257,MATCH($K123,Funktioner!$CC$3:$CC$280,0),MATCH(AU$109,'Avtalat sortiment'!$AO$2:$AV$2,0)),\"\")","v":""},{"$f":"IFERROR(INDEX('Avtalat sortiment'!$AO$3:$AV$257,MATCH($K123,Funktioner!$CC$3:$CC$280,0),MATCH(AV$109,'Avtalat sortiment'!$AO$2:$AV$2,0)),\"\")","v":0},{"$f":"IFERROR(INDEX('Avtalat sortiment'!$AO$3:$AV$257,MATCH($K123,Funktioner!$CC$3:$CC$280,0),MATCH(AW$109,'Avtalat sortiment'!$AO$2:$AV$2,0)),\"\")","v":0},{"$f":"IFERROR(INDEX('Avtalat sortiment'!$AO$3:$AV$257,MATCH($K123,Funktioner!$CC$3:$CC$280,0),MATCH(AX$109,'Avtalat sortiment'!$AO$2:$AV$2,0)),\"\")","v":0},{"$f":"IFERROR(INDEX('Avtalat sortiment'!$AO$3:$AV$257,MATCH($K123,Funktioner!$CC$3:$CC$280,0),MATCH(AY$109,'Avtalat sortiment'!$AO$2:$AV$2,0)),\"\")","v":0},{"$f":"IFERROR(INDEX('Avtalat sortiment'!$AO$3:$AV$257,MATCH($K123,Funktioner!$CC$3:$CC$280,0),MATCH(AZ$109,'Avtalat sortiment'!$AO$2:$AV$2,0)),\"\")","v":0},{"$f":"IF(Uträkningsmall!$G26=\"\",\"\",IF(BB123=\"Kan ej leverera\",240000000,IF(ISNUMBER(AS123),AS123*Uträkningsmall!$G26,\"\")))","v":""},"",null,{"$f":"IFERROR(INDEX('Avtalat sortiment'!$AY$3:$BF$219,MATCH($K123,Funktioner!$CD$3:$CD$280,0),MATCH(BD$109,'Avtalat sortiment'!$AY$2:$BF$2,0)),\"\")","v":0},{"$f":"IFERROR(INDEX('Avtalat sortiment'!$AY$3:$BF$219,MATCH($K123,Funktioner!$CD$3:$CD$280,0),MATCH(BE$109,'Avtalat sortiment'!$AY$2:$BF$2,0)),\"\")","v":0},{"$f":"IFERROR(INDEX('Avtalat sortiment'!$AY$3:$BF$219,MATCH($K123,Funktioner!$CD$3:$CD$280,0),MATCH(BF$109,'Avtalat sortiment'!$AY$2:$BF$2,0)),\"\")","v":""},{"$f":"IFERROR(INDEX('Avtalat sortiment'!$AY$3:$BF$219,MATCH($K123,Funktioner!$CD$3:$CD$280,0),MATCH(BG$109,'Avtalat sortiment'!$AY$2:$BF$2,0)),\"\")","v":269173},{"$f":"IFERROR(INDEX('Avtalat sortiment'!$AY$3:$BF$219,MATCH($K123,Funktioner!$CD$3:$CD$280,0),MATCH(BH$109,'Avtalat sortiment'!$AY$2:$BF$2,0)),\"\")","v":"https://www.lyrecocontract.se/web/ePortal/ctrl?action=showiteminfo&itemNo=269173"},{"$f":"IFERROR(INDEX('Avtalat sortiment'!$AY$3:$BF$219,MATCH($K123,Funktioner!$CD$3:$CD$280,0),MATCH(BI$109,'Avtalat sortiment'!$AY$2:$BF$2,0)),\"\")","v":"Munskydd Typ IIR med öronband Blå 50/FP"},{"$f":"IFERROR(INDEX('Avtalat sortiment'!$AY$3:$BF$219,MATCH($K123,Funktioner!$CD$3:$CD$280,0),MATCH(BJ$109,'Avtalat sortiment'!$AY$2:$BF$2,0)),\"\")","v":0},{"$f":"IFERROR(INDEX('Avtalat sortiment'!$AY$3:$BF$219,MATCH($K123,Funktioner!$CD$3:$CD$280,0),MATCH(BK$109,'Avtalat sortiment'!$AY$2:$BF$2,0)),\"\")","v":"Inväntar återkoppling från vår leverantör, i enlighet med 6.6.2 i underlag anger vi därmed ej pris         "},{"$f":"IF(Uträkningsmall!$G26=\"\",\"\",IF(BM123=\"Kan ej leverera\",240000000,IF(ISNUMBER(BD123),BD123*Uträkningsmall!$G26,\"\")))","v":""},"",null,{"$f":"IFERROR(INDEX('Avtalat sortiment'!$BI$3:$BP$279,MATCH($K123,Funktioner!$CE$3:$CE$280,0),MATCH(BO$109,'Avtalat sortiment'!$BI$2:$BP$2,0)),\"\")","v":0},{"$f":"IFERROR(INDEX('Avtalat sortiment'!$BI$3:$BP$279,MATCH($K123,Funktioner!$CE$3:$CE$280,0),MATCH(BP$109,'Avtalat sortiment'!$BI$2:$BP$2,0)),\"\")","v":0},{"$f":"IFERROR(INDEX('Avtalat sortiment'!$BI$3:$BP$279,MATCH($K123,Funktioner!$CE$3:$CE$280,0),MATCH(BQ$109,'Avtalat sortiment'!$BI$2:$BP$2,0)),\"\")","v":0},{"$f":"IFERROR(INDEX('Avtalat sortiment'!$BI$3:$BP$279,MATCH($K123,Funktioner!$CE$3:$CE$280,0),MATCH(BR$109,'Avtalat sortiment'!$BI$2:$BP$2,0)),\"\")","v":0},{"$f":"IFERROR(INDEX('Avtalat sortiment'!$BI$3:$BP$279,MATCH($K123,Funktioner!$CE$3:$CE$280,0),MATCH(BS$109,'Avtalat sortiment'!$BI$2:$BP$2,0)),\"\")","v":0},{"$f":"IFERROR(INDEX('Avtalat sortiment'!$BI$3:$BP$279,MATCH($K123,Funktioner!$CE$3:$CE$280,0),MATCH(BT$109,'Avtalat sortiment'!$BI$2:$BP$2,0)),\"\")","v":0},{"$f":"IFERROR(INDEX('Avtalat sortiment'!$BI$3:$BP$279,MATCH($K123,Funktioner!$CE$3:$CE$280,0),MATCH(BU$109,'Avtalat sortiment'!$BI$2:$BP$2,0)),\"\")","v":0},{"$f":"IFERROR(INDEX('Avtalat sortiment'!$BI$3:$BP$279,MATCH($K123,Funktioner!$CE$3:$CE$280,0),MATCH(BV$109,'Avtalat sortiment'!$BI$2:$BP$2,0)),\"\")","v":0},{"$f":"IF(Uträkningsmall!$G26=\"\",\"\",IF(BX123=\"Kan ej leverera\",240000000,IF(ISNUMBER(BO123),BO123*Uträkningsmall!$G26,\"\")))","v":""},"",null,{"$f":"IF('Avtalat sortiment'!K123<>\"\",'Avtalat sortiment'!$A123&'Avtalat sortiment'!Q123,\"\")","v":""},{"$f":"IF('Avtalat sortiment'!U123<>\"\",'Avtalat sortiment'!T123&'Avtalat sortiment'!AA123,\"\")","v":""},{"$f":"IF('Avtalat sortiment'!AE123<>\"\",'Avtalat sortiment'!AD123&'Avtalat sortiment'!AK123,\"\")","v":""},{"$f":"IF('Avtalat sortiment'!AO123<>\"\",'Avtalat sortiment'!AN123&'Avtalat sortiment'!AU123,\"\")","v":""},{"$f":"IF('Avtalat sortiment'!AY123<>\"\",'Avtalat sortiment'!AX123&'Avtalat sortiment'!BE123,\"\")","v":""},{"$f":"IF('Avtalat sortiment'!BI123<>\"\",'Avtalat sortiment'!BH123&'Avtalat sortiment'!BO123,\"\")","v":""}]
[null,null,null,null,null,null,null,null,null,{"$f":"IF(Uträkningsmall!$A27=Funktioner!$B$1,IF(Funktioner!$B$3=\"\",\"\",Funktioner!$B$3),IF(Uträkningsmall!$A27=Funktioner!$C$1,IF(Funktioner!$C$3=\"\",\"\",Funktioner!$C$3),IF(Uträkningsmall!$A27=Funktioner!$D$1,IF(Funktioner!$D$3=\"\",\"\",Funktioner!$D$3),IF(Uträkningsmall!$A27=Funktioner!$E$1,IF(Funktioner!$E$3=\"\",\"\",Funktioner!$E$3),IF(Uträkningsmall!$A27=Funktioner!$F$1,IF(Funktioner!$F$3=\"\",\"\",Funktioner!$F$3),IF(Uträkningsmall!$A27=Funktioner!$G$1,IF(Funktioner!$G$3=\"\",\"\",Funktioner!$G$3),IF(Uträkningsmall!$A27=Funktioner!$H$1,IF(Funktioner!$H$3=\"\",\"\",Funktioner!$H$3),IF(Uträkningsmall!$A27=Funktioner!$I$1,IF(Funktioner!$I$3=\"\",\"\",Funktioner!$I$3),IF(Uträkningsmall!$A27=Funktioner!$J$1,IF(Funktioner!$J$3=\"\",\"\",Funktioner!$J$3),IF(Uträkningsmall!$A27=Funktioner!$K$1,IF(Funktioner!$K$3=\"\",\"\",Funktioner!$K$3),IF(Uträkningsmall!$A27=Funktioner!$L$1,IF(Funktioner!$L$3=\"\",\"\",Funktioner!$L$3),IF(Uträkningsmall!$A27=Funktioner!$M$1,IF(Funktioner!$M$3=\"\",\"\",Funktioner!$M$3),IF(Uträkningsmall!$A27=Funktioner!$N$1,IF(Funktioner!$N$3=\"\",\"\",Funktioner!$N$3),IF(Uträkningsmall!$A27=Funktioner!$O$1,IF(Funktioner!$O$3=\"\",\"\",Funktioner!$O$3),IF(Uträkningsmall!$A27=Funktioner!$P$1,IF(Funktioner!$P$3=\"\",\"\",Funktioner!$P$3),IF(Uträkningsmall!$A27=Funktioner!$Q$1,IF(Funktioner!$Q$3=\"\",\"\",Funktioner!$Q$3),IF(Uträkningsmall!$A27=Funktioner!$R$1,IF(Funktioner!$R$3=\"\",\"\",Funktioner!$R$3),IF(Uträkningsmall!$A27=Funktioner!$S$1,IF(Funktioner!$S$3=\"\",\"\",Funktioner!$S$3),IF(Uträkningsmall!$A27=Funktioner!$T$1,IF(Funktioner!$T$3=\"\",\"\",Funktioner!$T$3),IF(Uträkningsmall!$A27=Funktioner!$U$1,IF(Funktioner!$U$3=\"\",\"\",Funktioner!$U$3),IF(Uträkningsmall!$A27=Funktioner!$V$1,IF(Funktioner!$V$3=\"\",\"\",Funktioner!$V$3),IF(Uträkningsmall!$A27=Funktioner!$W$1,IF(Funktioner!$W$3=\"\",\"\",Funktioner!$W$3),IF(Uträkningsmall!$A27=Funktioner!$X$1,IF(Funktioner!$X$3=\"\",\"\",Funktioner!$X$3),IF(Uträkningsmall!$A27=Funktioner!$Y$1,IF(Funktioner!$Y$3=\"\",\"\",Funktioner!$Y$3),IF(Uträkningsmall!$A27=Funktioner!$Z$1,IF(Funktioner!$Z$3=\"\",\"\",Funktioner!$Z$3),IF(Uträkningsmall!$A27=Funktioner!$AA$1,IF(Funktioner!$AA$3=\"\",\"\",Funktioner!$AA$3),IF(Uträkningsmall!$A27=Funktioner!$AB$1,IF(Funktioner!$AB$3=\"\",\"\",Funktioner!$AB$3),IF(Uträkningsmall!$A27=Funktioner!$AC$1,IF(Funktioner!$AC$3=\"\",\"\",Funktioner!$AC$3),IF(Uträkningsmall!$A27=Funktioner!$AD$1,IF(Funktioner!$AD$3=\"\",\"\",Funktioner!$AD$3),IF(Uträkningsmall!$A27=Funktioner!$AE$1,IF(Funktioner!$AE$3=\"\",\"\",Funktioner!$AE$3),IF(Uträkningsmall!$A27=Funktioner!$AF$1,IF(Funktioner!$AF$3=\"\",\"\",Funktioner!$AF$3),IF(Uträkningsmall!$A27=Funktioner!$AG$1,IF(Funktioner!$AG$3=\"\",\"\",Funktioner!$AG$3),IF(Uträkningsmall!$A27=Funktioner!$AH$1,IF(Funktioner!$AH$3=\"\",\"\",Funktioner!$AH$3),IF(Uträkningsmall!$A27=Funktioner!$AI$1,IF(Funktioner!$AI$3=\"\",\"\",Funktioner!$AI$3),IF(Uträkningsmall!$A27=Funktioner!$AJ$1,IF(Funktioner!$AJ$3=\"\",\"\",Funktioner!$AJ$3),IF(Uträkningsmall!$A27=Funktioner!$AK$1,IF(Funktioner!$AK$3=\"\",\"\",Funktioner!$AK$3),IF(Uträkningsmall!$A27=Funktioner!$AL$1,IF(Funktioner!$AL$3=\"\",\"\",Funktioner!$AL$3),IF(Uträkningsmall!$A27=Funktioner!$AM$1,IF(Funktioner!$AM$3=\"\",\"\",Funktioner!$AM$3),IF(Uträkningsmall!$A27=Funktioner!$AN$1,IF(Funktioner!$AN$3=\"\",\"\",Funktioner!$AN$3),IF(Uträkningsmall!$A27=Funktioner!$AO$1,IF(Funktioner!$AO$3=\"\",\"\",Funktioner!$AO$3),IF(Uträkningsmall!$A27=Funktioner!$AP$1,IF(Funktioner!$AP$3=\"\",\"\",Funktioner!$AP$3),IF(Uträkningsmall!$A27=Funktioner!$AQ$1,IF(Funktioner!$AQ$3=\"\",\"\",Funktioner!$AQ$3),IF(Uträkningsmall!$A27=Funktioner!$AR$1,IF(Funktioner!$AR$3=\"\",\"\",Funktioner!$AR$3),IF(Uträkningsmall!$A27=Funktioner!$AS$1,IF(Funktioner!$AS$3=\"\",\"\",Funktioner!$AS$3),IF(Uträkningsmall!$A27=Funktioner!$AT$1,IF(Funktioner!$AT$3=\"\",\"\",Funktioner!$AT$3),IF(Uträkningsmall!$A27=Funktioner!$AU$1,IF(Funktioner!$AU$3=\"\",\"\",Funktioner!$AU$3),IF(Uträkningsmall!$A27=Funktioner!$AV$1,IF(Funktioner!$AV$3=\"\",\"\",Funktioner!$AV$3),\"\")))))))))))))))))))))))))))))))))))))))))))))))","v":""},{"$f":"Uträkningsmall!$A27&Uträkningsmall!$F27","v":""},{"$f":"IFERROR(INDEX('Avtalat sortiment'!$K$3:$R$279,MATCH($K124,Funktioner!$BZ$3:$BZ$280,0),MATCH(L$109,'Avtalat sortiment'!$K$2:$R$2,0)),\"\")","v":0},{"$f":"IFERROR(INDEX('Avtalat sortiment'!$K$3:$R$279,MATCH($K124,Funktioner!$BZ$3:$BZ$280,0),MATCH(M$109,'Avtalat sortiment'!$K$2:$R$2,0)),\"\")","v":0},{"$f":"IFERROR(INDEX('Avtalat sortiment'!$K$3:$R$279,MATCH($K124,Funktioner!$BZ$3:$BZ$280,0),MATCH(N$109,'Avtalat sortiment'!$K$2:$R$2,0)),\"\")","v":0},{"$f":"IFERROR(INDEX('Avtalat sortiment'!$K$3:$R$279,MATCH($K124,Funktioner!$BZ$3:$BZ$280,0),MATCH(O$109,'Avtalat sortiment'!$K$2:$R$2,0)),\"\")","v":0},{"$f":"IFERROR(INDEX('Avtalat sortiment'!$K$3:$R$279,MATCH($K124,Funktioner!$BZ$3:$BZ$280,0),MATCH(P$109,'Avtalat sortiment'!$K$2:$R$2,0)),\"\")","v":0},{"$f":"IFERROR(INDEX('Avtalat sortiment'!$K$3:$R$279,MATCH($K124,Funktioner!$BZ$3:$BZ$280,0),MATCH(Q$109,'Avtalat sortiment'!$K$2:$R$2,0)),\"\")","v":0},{"$f":"IFERROR(INDEX('Avtalat sortiment'!$K$3:$R$279,MATCH($K124,Funktioner!$BZ$3:$BZ$280,0),MATCH(R$109,'Avtalat sortiment'!$K$2:$R$2,0)),\"\")","v":0},{"$f":"IFERROR(INDEX('Avtalat sortiment'!$K$3:$R$279,MATCH($K124,Funktioner!$BZ$3:$BZ$280,0),MATCH(S$109,'Avtalat sortiment'!$K$2:$R$2,0)),\"\")","v":0},{"$f":"IF(Uträkningsmall!$G27=\"\",\"\",IF(U124=\"Kan ej leverera\",240000000,IF(ISNUMBER(L124),L124*Uträkningsmall!$G27,\"\")))","v":""},"",null,{"$f":"IFERROR(INDEX('Avtalat sortiment'!$U$3:$AB$279,MATCH($K124,Funktioner!$CA$3:$CA$280,0),MATCH(W$109,'Avtalat sortiment'!$U$2:$AB$2,0)),\"\")","v":0},{"$f":"IFERROR(INDEX('Avtalat sortiment'!$U$3:$AB$279,MATCH($K124,Funktioner!$CA$3:$CA$280,0),MATCH(X$109,'Avtalat sortiment'!$U$2:$AB$2,0)),\"\")","v":0},{"$f":"IFERROR(INDEX('Avtalat sortiment'!$U$3:$AB$279,MATCH($K124,Funktioner!$CA$3:$CA$280,0),MATCH(Y$109,'Avtalat sortiment'!$U$2:$AB$2,0)),\"\")","v":0},{"$f":"IFERROR(INDEX('Avtalat sortiment'!$U$3:$AB$279,MATCH($K124,Funktioner!$CA$3:$CA$280,0),MATCH(Z$109,'Avtalat sortiment'!$U$2:$AB$2,0)),\"\")","v":0},{"$f":"IFERROR(INDEX('Avtalat sortiment'!$U$3:$AB$279,MATCH($K124,Funktioner!$CA$3:$CA$280,0),MATCH(AA$109,'Avtalat sortiment'!$U$2:$AB$2,0)),\"\")","v":"https://www.procurator.com/svSE/c/Montagehandskar/Montagehandske-konstl%C3%A4der-Worksafe-A100?c=23_02_01&p=U-AR98&a=2052135"},{"$f":"IFERROR(INDEX('Avtalat sortiment'!$U$3:$AB$279,MATCH($K124,Funktioner!$CA$3:$CA$280,0),MATCH(AB$109,'Avtalat sortiment'!$U$2:$AB$2,0)),\"\")","v":"Montagehandske Worksafe A100 "},{"$f":"IFERROR(INDEX('Avtalat sortiment'!$U$3:$AB$279,MATCH($K124,Funktioner!$CA$3:$CA$280,0),MATCH(AC$109,'Avtalat sortiment'!$U$2:$AB$2,0)),\"\")","v":7},{"$f":"IFERROR(INDEX('Avtalat sortiment'!$K$3:$R$279,MATCH($K124,Funktioner!$BZ$3:$BZ$280,0),MATCH(AD$109,'Avtalat sortiment'!$K$2:$R$2,0)),\"\")","v":0},{"$f":"IF(Uträkningsmall!$G27=\"\",\"\",IF(AF124=\"Kan ej leverera\",240000000,IF(ISNUMBER(W124),W124*Uträkningsmall!$G27,\"\")))","v":""},"",null,{"$f":"IFERROR(INDEX('Avtalat sortiment'!$AE$3:$AL$279,MATCH($K124,Funktioner!$CB$3:$CB$280,0),MATCH(AH$109,'Avtalat sortiment'!$AE$2:$AL$2,0)),\"\")","v":0},{"$f":"IFERROR(INDEX('Avtalat sortiment'!$AE$3:$AL$279,MATCH($K124,Funktioner!$CB$3:$CB$280,0),MATCH(AI$109,'Avtalat sortiment'!$AE$2:$AL$2,0)),\"\")","v":0},{"$f":"IFERROR(INDEX('Avtalat sortiment'!$AE$3:$AL$279,MATCH($K124,Funktioner!$CB$3:$CB$280,0),MATCH(AJ$109,'Avtalat sortiment'!$AE$2:$AL$2,0)),\"\")","v":""},{"$f":"IFERROR(INDEX('Avtalat sortiment'!$AE$3:$AL$279,MATCH($K124,Funktioner!$CB$3:$CB$280,0),MATCH(AK$109,'Avtalat sortiment'!$AE$2:$AL$2,0)),\"\")","v":0},{"$f":"IFERROR(INDEX('Avtalat sortiment'!$AE$3:$AL$279,MATCH($K124,Funktioner!$CB$3:$CB$280,0),MATCH(AL$109,'Avtalat sortiment'!$AE$2:$AL$2,0)),\"\")","v":0},{"$f":"IFERROR(INDEX('Avtalat sortiment'!$AE$3:$AL$279,MATCH($K124,Funktioner!$CB$3:$CB$280,0),MATCH(AM$109,'Avtalat sortiment'!$AE$2:$AL$2,0)),\"\")","v":0},{"$f":"IFERROR(INDEX('Avtalat sortiment'!$AE$3:$AL$279,MATCH($K124,Funktioner!$CB$3:$CB$280,0),MATCH(AN$109,'Avtalat sortiment'!$AE$2:$AL$2,0)),\"\")","v":0},{"$f":"IFERROR(INDEX('Avtalat sortiment'!$AE$3:$AL$279,MATCH($K124,Funktioner!$CB$3:$CB$280,0),MATCH(AO$109,'Avtalat sortiment'!$AE$2:$AL$2,0)),\"\")","v":0},{"$f":"IF(Uträkningsmall!$G27=\"\",\"\",IF(AQ124=\"Kan ej leverera\",240000000,IF(ISNUMBER(AH124),AH124*Uträkningsmall!$G27,\"\")))","v":""},"",null,{"$f":"IFERROR(INDEX('Avtalat sortiment'!$AO$3:$AV$257,MATCH($K124,Funktioner!$CC$3:$CC$280,0),MATCH(AS$109,'Avtalat sortiment'!$AO$2:$AV$2,0)),\"\")","v":0},{"$f":"IFERROR(INDEX('Avtalat sortiment'!$AO$3:$AV$257,MATCH($K124,Funktioner!$CC$3:$CC$280,0),MATCH(AT$109,'Avtalat sortiment'!$AO$2:$AV$2,0)),\"\")","v":0},{"$f":"IFERROR(INDEX('Avtalat sortiment'!$AO$3:$AV$257,MATCH($K124,Funktioner!$CC$3:$CC$280,0),MATCH(AU$109,'Avtalat sortiment'!$AO$2:$AV$2,0)),\"\")","v":""},{"$f":"IFERROR(INDEX('Avtalat sortiment'!$AO$3:$AV$257,MATCH($K124,Funktioner!$CC$3:$CC$280,0),MATCH(AV$109,'Avtalat sortiment'!$AO$2:$AV$2,0)),\"\")","v":0},{"$f":"IFERROR(INDEX('Avtalat sortiment'!$AO$3:$AV$257,MATCH($K124,Funktioner!$CC$3:$CC$280,0),MATCH(AW$109,'Avtalat sortiment'!$AO$2:$AV$2,0)),\"\")","v":0},{"$f":"IFERROR(INDEX('Avtalat sortiment'!$AO$3:$AV$257,MATCH($K124,Funktioner!$CC$3:$CC$280,0),MATCH(AX$109,'Avtalat sortiment'!$AO$2:$AV$2,0)),\"\")","v":0},{"$f":"IFERROR(INDEX('Avtalat sortiment'!$AO$3:$AV$257,MATCH($K124,Funktioner!$CC$3:$CC$280,0),MATCH(AY$109,'Avtalat sortiment'!$AO$2:$AV$2,0)),\"\")","v":0},{"$f":"IFERROR(INDEX('Avtalat sortiment'!$AO$3:$AV$257,MATCH($K124,Funktioner!$CC$3:$CC$280,0),MATCH(AZ$109,'Avtalat sortiment'!$AO$2:$AV$2,0)),\"\")","v":0},{"$f":"IF(Uträkningsmall!$G27=\"\",\"\",IF(BB124=\"Kan ej leverera\",240000000,IF(ISNUMBER(AS124),AS124*Uträkningsmall!$G27,\"\")))","v":""},"",null,{"$f":"IFERROR(INDEX('Avtalat sortiment'!$AY$3:$BF$219,MATCH($K124,Funktioner!$CD$3:$CD$280,0),MATCH(BD$109,'Avtalat sortiment'!$AY$2:$BF$2,0)),\"\")","v":0},{"$f":"IFERROR(INDEX('Avtalat sortiment'!$AY$3:$BF$219,MATCH($K124,Funktioner!$CD$3:$CD$280,0),MATCH(BE$109,'Avtalat sortiment'!$AY$2:$BF$2,0)),\"\")","v":0},{"$f":"IFERROR(INDEX('Avtalat sortiment'!$AY$3:$BF$219,MATCH($K124,Funktioner!$CD$3:$CD$280,0),MATCH(BF$109,'Avtalat sortiment'!$AY$2:$BF$2,0)),\"\")","v":""},{"$f":"IFERROR(INDEX('Avtalat sortiment'!$AY$3:$BF$219,MATCH($K124,Funktioner!$CD$3:$CD$280,0),MATCH(BG$109,'Avtalat sortiment'!$AY$2:$BF$2,0)),\"\")","v":269173},{"$f":"IFERROR(INDEX('Avtalat sortiment'!$AY$3:$BF$219,MATCH($K124,Funktioner!$CD$3:$CD$280,0),MATCH(BH$109,'Avtalat sortiment'!$AY$2:$BF$2,0)),\"\")","v":"https://www.lyrecocontract.se/web/ePortal/ctrl?action=showiteminfo&itemNo=269173"},{"$f":"IFERROR(INDEX('Avtalat sortiment'!$AY$3:$BF$219,MATCH($K124,Funktioner!$CD$3:$CD$280,0),MATCH(BI$109,'Avtalat sortiment'!$AY$2:$BF$2,0)),\"\")","v":"Munskydd Typ IIR med öronband Blå 50/FP"},{"$f":"IFERROR(INDEX('Avtalat sortiment'!$AY$3:$BF$219,MATCH($K124,Funktioner!$CD$3:$CD$280,0),MATCH(BJ$109,'Avtalat sortiment'!$AY$2:$BF$2,0)),\"\")","v":0},{"$f":"IFERROR(INDEX('Avtalat sortiment'!$AY$3:$BF$219,MATCH($K124,Funktioner!$CD$3:$CD$280,0),MATCH(BK$109,'Avtalat sortiment'!$AY$2:$BF$2,0)),\"\")","v":"Inväntar återkoppling från vår leverantör, i enlighet med 6.6.2 i underlag anger vi därmed ej pris         "},{"$f":"IF(Uträkningsmall!$G27=\"\",\"\",IF(BM124=\"Kan ej leverera\",240000000,IF(ISNUMBER(BD124),BD124*Uträkningsmall!$G27,\"\")))","v":""},"",null,{"$f":"IFERROR(INDEX('Avtalat sortiment'!$BI$3:$BP$279,MATCH($K124,Funktioner!$CE$3:$CE$280,0),MATCH(BO$109,'Avtalat sortiment'!$BI$2:$BP$2,0)),\"\")","v":0},{"$f":"IFERROR(INDEX('Avtalat sortiment'!$BI$3:$BP$279,MATCH($K124,Funktioner!$CE$3:$CE$280,0),MATCH(BP$109,'Avtalat sortiment'!$BI$2:$BP$2,0)),\"\")","v":0},{"$f":"IFERROR(INDEX('Avtalat sortiment'!$BI$3:$BP$279,MATCH($K124,Funktioner!$CE$3:$CE$280,0),MATCH(BQ$109,'Avtalat sortiment'!$BI$2:$BP$2,0)),\"\")","v":0},{"$f":"IFERROR(INDEX('Avtalat sortiment'!$BI$3:$BP$279,MATCH($K124,Funktioner!$CE$3:$CE$280,0),MATCH(BR$109,'Avtalat sortiment'!$BI$2:$BP$2,0)),\"\")","v":0},{"$f":"IFERROR(INDEX('Avtalat sortiment'!$BI$3:$BP$279,MATCH($K124,Funktioner!$CE$3:$CE$280,0),MATCH(BS$109,'Avtalat sortiment'!$BI$2:$BP$2,0)),\"\")","v":0},{"$f":"IFERROR(INDEX('Avtalat sortiment'!$BI$3:$BP$279,MATCH($K124,Funktioner!$CE$3:$CE$280,0),MATCH(BT$109,'Avtalat sortiment'!$BI$2:$BP$2,0)),\"\")","v":0},{"$f":"IFERROR(INDEX('Avtalat sortiment'!$BI$3:$BP$279,MATCH($K124,Funktioner!$CE$3:$CE$280,0),MATCH(BU$109,'Avtalat sortiment'!$BI$2:$BP$2,0)),\"\")","v":0},{"$f":"IFERROR(INDEX('Avtalat sortiment'!$BI$3:$BP$279,MATCH($K124,Funktioner!$CE$3:$CE$280,0),MATCH(BV$109,'Avtalat sortiment'!$BI$2:$BP$2,0)),\"\")","v":0},{"$f":"IF(Uträkningsmall!$G27=\"\",\"\",IF(BX124=\"Kan ej leverera\",240000000,IF(ISNUMBER(BO124),BO124*Uträkningsmall!$G27,\"\")))","v":""},"",null,{"$f":"IF('Avtalat sortiment'!K124<>\"\",'Avtalat sortiment'!$A124&'Avtalat sortiment'!Q124,\"\")","v":""},{"$f":"IF('Avtalat sortiment'!U124<>\"\",'Avtalat sortiment'!T124&'Avtalat sortiment'!AA124,\"\")","v":""},{"$f":"IF('Avtalat sortiment'!AE124<>\"\",'Avtalat sortiment'!AD124&'Avtalat sortiment'!AK124,\"\")","v":""},{"$f":"IF('Avtalat sortiment'!AO124<>\"\",'Avtalat sortiment'!AN124&'Avtalat sortiment'!AU124,\"\")","v":""},{"$f":"IF('Avtalat sortiment'!AY124<>\"\",'Avtalat sortiment'!AX124&'Avtalat sortiment'!BE124,\"\")","v":""},{"$f":"IF('Avtalat sortiment'!BI124<>\"\",'Avtalat sortiment'!BH124&'Avtalat sortiment'!BO124,\"\")","v":""}]
[null,null,null,null,null,null,null,null,null,{"$f":"IF(Uträkningsmall!$A28=Funktioner!$B$1,IF(Funktioner!$B$3=\"\",\"\",Funktioner!$B$3),IF(Uträkningsmall!$A28=Funktioner!$C$1,IF(Funktioner!$C$3=\"\",\"\",Funktioner!$C$3),IF(Uträkningsmall!$A28=Funktioner!$D$1,IF(Funktioner!$D$3=\"\",\"\",Funktioner!$D$3),IF(Uträkningsmall!$A28=Funktioner!$E$1,IF(Funktioner!$E$3=\"\",\"\",Funktioner!$E$3),IF(Uträkningsmall!$A28=Funktioner!$F$1,IF(Funktioner!$F$3=\"\",\"\",Funktioner!$F$3),IF(Uträkningsmall!$A28=Funktioner!$G$1,IF(Funktioner!$G$3=\"\",\"\",Funktioner!$G$3),IF(Uträkningsmall!$A28=Funktioner!$H$1,IF(Funktioner!$H$3=\"\",\"\",Funktioner!$H$3),IF(Uträkningsmall!$A28=Funktioner!$I$1,IF(Funktioner!$I$3=\"\",\"\",Funktioner!$I$3),IF(Uträkningsmall!$A28=Funktioner!$J$1,IF(Funktioner!$J$3=\"\",\"\",Funktioner!$J$3),IF(Uträkningsmall!$A28=Funktioner!$K$1,IF(Funktioner!$K$3=\"\",\"\",Funktioner!$K$3),IF(Uträkningsmall!$A28=Funktioner!$L$1,IF(Funktioner!$L$3=\"\",\"\",Funktioner!$L$3),IF(Uträkningsmall!$A28=Funktioner!$M$1,IF(Funktioner!$M$3=\"\",\"\",Funktioner!$M$3),IF(Uträkningsmall!$A28=Funktioner!$N$1,IF(Funktioner!$N$3=\"\",\"\",Funktioner!$N$3),IF(Uträkningsmall!$A28=Funktioner!$O$1,IF(Funktioner!$O$3=\"\",\"\",Funktioner!$O$3),IF(Uträkningsmall!$A28=Funktioner!$P$1,IF(Funktioner!$P$3=\"\",\"\",Funktioner!$P$3),IF(Uträkningsmall!$A28=Funktioner!$Q$1,IF(Funktioner!$Q$3=\"\",\"\",Funktioner!$Q$3),IF(Uträkningsmall!$A28=Funktioner!$R$1,IF(Funktioner!$R$3=\"\",\"\",Funktioner!$R$3),IF(Uträkningsmall!$A28=Funktioner!$S$1,IF(Funktioner!$S$3=\"\",\"\",Funktioner!$S$3),IF(Uträkningsmall!$A28=Funktioner!$T$1,IF(Funktioner!$T$3=\"\",\"\",Funktioner!$T$3),IF(Uträkningsmall!$A28=Funktioner!$U$1,IF(Funktioner!$U$3=\"\",\"\",Funktioner!$U$3),IF(Uträkningsmall!$A28=Funktioner!$V$1,IF(Funktioner!$V$3=\"\",\"\",Funktioner!$V$3),IF(Uträkningsmall!$A28=Funktioner!$W$1,IF(Funktioner!$W$3=\"\",\"\",Funktioner!$W$3),IF(Uträkningsmall!$A28=Funktioner!$X$1,IF(Funktioner!$X$3=\"\",\"\",Funktioner!$X$3),IF(Uträkningsmall!$A28=Funktioner!$Y$1,IF(Funktioner!$Y$3=\"\",\"\",Funktioner!$Y$3),IF(Uträkningsmall!$A28=Funktioner!$Z$1,IF(Funktioner!$Z$3=\"\",\"\",Funktioner!$Z$3),IF(Uträkningsmall!$A28=Funktioner!$AA$1,IF(Funktioner!$AA$3=\"\",\"\",Funktioner!$AA$3),IF(Uträkningsmall!$A28=Funktioner!$AB$1,IF(Funktioner!$AB$3=\"\",\"\",Funktioner!$AB$3),IF(Uträkningsmall!$A28=Funktioner!$AC$1,IF(Funktioner!$AC$3=\"\",\"\",Funktioner!$AC$3),IF(Uträkningsmall!$A28=Funktioner!$AD$1,IF(Funktioner!$AD$3=\"\",\"\",Funktioner!$AD$3),IF(Uträkningsmall!$A28=Funktioner!$AE$1,IF(Funktioner!$AE$3=\"\",\"\",Funktioner!$AE$3),IF(Uträkningsmall!$A28=Funktioner!$AF$1,IF(Funktioner!$AF$3=\"\",\"\",Funktioner!$AF$3),IF(Uträkningsmall!$A28=Funktioner!$AG$1,IF(Funktioner!$AG$3=\"\",\"\",Funktioner!$AG$3),IF(Uträkningsmall!$A28=Funktioner!$AH$1,IF(Funktioner!$AH$3=\"\",\"\",Funktioner!$AH$3),IF(Uträkningsmall!$A28=Funktioner!$AI$1,IF(Funktioner!$AI$3=\"\",\"\",Funktioner!$AI$3),IF(Uträkningsmall!$A28=Funktioner!$AJ$1,IF(Funktioner!$AJ$3=\"\",\"\",Funktioner!$AJ$3),IF(Uträkningsmall!$A28=Funktioner!$AK$1,IF(Funktioner!$AK$3=\"\",\"\",Funktioner!$AK$3),IF(Uträkningsmall!$A28=Funktioner!$AL$1,IF(Funktioner!$AL$3=\"\",\"\",Funktioner!$AL$3),IF(Uträkningsmall!$A28=Funktioner!$AM$1,IF(Funktioner!$AM$3=\"\",\"\",Funktioner!$AM$3),IF(Uträkningsmall!$A28=Funktioner!$AN$1,IF(Funktioner!$AN$3=\"\",\"\",Funktioner!$AN$3),IF(Uträkningsmall!$A28=Funktioner!$AO$1,IF(Funktioner!$AO$3=\"\",\"\",Funktioner!$AO$3),IF(Uträkningsmall!$A28=Funktioner!$AP$1,IF(Funktioner!$AP$3=\"\",\"\",Funktioner!$AP$3),IF(Uträkningsmall!$A28=Funktioner!$AQ$1,IF(Funktioner!$AQ$3=\"\",\"\",Funktioner!$AQ$3),IF(Uträkningsmall!$A28=Funktioner!$AR$1,IF(Funktioner!$AR$3=\"\",\"\",Funktioner!$AR$3),IF(Uträkningsmall!$A28=Funktioner!$AS$1,IF(Funktioner!$AS$3=\"\",\"\",Funktioner!$AS$3),IF(Uträkningsmall!$A28=Funktioner!$AT$1,IF(Funktioner!$AT$3=\"\",\"\",Funktioner!$AT$3),IF(Uträkningsmall!$A28=Funktioner!$AU$1,IF(Funktioner!$AU$3=\"\",\"\",Funktioner!$AU$3),IF(Uträkningsmall!$A28=Funktioner!$AV$1,IF(Funktioner!$AV$3=\"\",\"\",Funktioner!$AV$3),\"\")))))))))))))))))))))))))))))))))))))))))))))))","v":""},{"$f":"Uträkningsmall!$A28&Uträkningsmall!$F28","v":""},{"$f":"IFERROR(INDEX('Avtalat sortiment'!$K$3:$R$279,MATCH($K125,Funktioner!$BZ$3:$BZ$280,0),MATCH(L$109,'Avtalat sortiment'!$K$2:$R$2,0)),\"\")","v":0},{"$f":"IFERROR(INDEX('Avtalat sortiment'!$K$3:$R$279,MATCH($K125,Funktioner!$BZ$3:$BZ$280,0),MATCH(M$109,'Avtalat sortiment'!$K$2:$R$2,0)),\"\")","v":0},{"$f":"IFERROR(INDEX('Avtalat sortiment'!$K$3:$R$279,MATCH($K125,Funktioner!$BZ$3:$BZ$280,0),MATCH(N$109,'Avtalat sortiment'!$K$2:$R$2,0)),\"\")","v":0},{"$f":"IFERROR(INDEX('Avtalat sortiment'!$K$3:$R$279,MATCH($K125,Funktioner!$BZ$3:$BZ$280,0),MATCH(O$109,'Avtalat sortiment'!$K$2:$R$2,0)),\"\")","v":0},{"$f":"IFERROR(INDEX('Avtalat sortiment'!$K$3:$R$279,MATCH($K125,Funktioner!$BZ$3:$BZ$280,0),MATCH(P$109,'Avtalat sortiment'!$K$2:$R$2,0)),\"\")","v":0},{"$f":"IFERROR(INDEX('Avtalat sortiment'!$K$3:$R$279,MATCH($K125,Funktioner!$BZ$3:$BZ$280,0),MATCH(Q$109,'Avtalat sortiment'!$K$2:$R$2,0)),\"\")","v":0},{"$f":"IFERROR(INDEX('Avtalat sortiment'!$K$3:$R$279,MATCH($K125,Funktioner!$BZ$3:$BZ$280,0),MATCH(R$109,'Avtalat sortiment'!$K$2:$R$2,0)),\"\")","v":0},{"$f":"IFERROR(INDEX('Avtalat sortiment'!$K$3:$R$279,MATCH($K125,Funktioner!$BZ$3:$BZ$280,0),MATCH(S$109,'Avtalat sortiment'!$K$2:$R$2,0)),\"\")","v":0},{"$f":"IF(Uträkningsmall!$G28=\"\",\"\",IF(U125=\"Kan ej leverera\",240000000,IF(ISNUMBER(L125),L125*Uträkningsmall!$G28,\"\")))","v":""},"",null,{"$f":"IFERROR(INDEX('Avtalat sortiment'!$U$3:$AB$279,MATCH($K125,Funktioner!$CA$3:$CA$280,0),MATCH(W$109,'Avtalat sortiment'!$U$2:$AB$2,0)),\"\")","v":0},{"$f":"IFERROR(INDEX('Avtalat sortiment'!$U$3:$AB$279,MATCH($K125,Funktioner!$CA$3:$CA$280,0),MATCH(X$109,'Avtalat sortiment'!$U$2:$AB$2,0)),\"\")","v":0},{"$f":"IFERROR(INDEX('Avtalat sortiment'!$U$3:$AB$279,MATCH($K125,Funktioner!$CA$3:$CA$280,0),MATCH(Y$109,'Avtalat sortiment'!$U$2:$AB$2,0)),\"\")","v":0},{"$f":"IFERROR(INDEX('Avtalat sortiment'!$U$3:$AB$279,MATCH($K125,Funktioner!$CA$3:$CA$280,0),MATCH(Z$109,'Avtalat sortiment'!$U$2:$AB$2,0)),\"\")","v":0},{"$f":"IFERROR(INDEX('Avtalat sortiment'!$U$3:$AB$279,MATCH($K125,Funktioner!$CA$3:$CA$280,0),MATCH(AA$109,'Avtalat sortiment'!$U$2:$AB$2,0)),\"\")","v":"https://www.procurator.com/svSE/c/Montagehandskar/Montagehandske-konstl%C3%A4der-Worksafe-A100?c=23_02_01&p=U-AR98&a=2052135"},{"$f":"IFERROR(INDEX('Avtalat sortiment'!$U$3:$AB$279,MATCH($K125,Funktioner!$CA$3:$CA$280,0),MATCH(AB$109,'Avtalat sortiment'!$U$2:$AB$2,0)),\"\")","v":"Montagehandske Worksafe A100 "},{"$f":"IFERROR(INDEX('Avtalat sortiment'!$U$3:$AB$279,MATCH($K125,Funktioner!$CA$3:$CA$280,0),MATCH(AC$109,'Avtalat sortiment'!$U$2:$AB$2,0)),\"\")","v":7},{"$f":"IFERROR(INDEX('Avtalat sortiment'!$K$3:$R$279,MATCH($K125,Funktioner!$BZ$3:$BZ$280,0),MATCH(AD$109,'Avtalat sortiment'!$K$2:$R$2,0)),\"\")","v":0},{"$f":"IF(Uträkningsmall!$G28=\"\",\"\",IF(AF125=\"Kan ej leverera\",240000000,IF(ISNUMBER(W125),W125*Uträkningsmall!$G28,\"\")))","v":""},"",null,{"$f":"IFERROR(INDEX('Avtalat sortiment'!$AE$3:$AL$279,MATCH($K125,Funktioner!$CB$3:$CB$280,0),MATCH(AH$109,'Avtalat sortiment'!$AE$2:$AL$2,0)),\"\")","v":0},{"$f":"IFERROR(INDEX('Avtalat sortiment'!$AE$3:$AL$279,MATCH($K125,Funktioner!$CB$3:$CB$280,0),MATCH(AI$109,'Avtalat sortiment'!$AE$2:$AL$2,0)),\"\")","v":0},{"$f":"IFERROR(INDEX('Avtalat sortiment'!$AE$3:$AL$279,MATCH($K125,Funktioner!$CB$3:$CB$280,0),MATCH(AJ$109,'Avtalat sortiment'!$AE$2:$AL$2,0)),\"\")","v":""},{"$f":"IFERROR(INDEX('Avtalat sortiment'!$AE$3:$AL$279,MATCH($K125,Funktioner!$CB$3:$CB$280,0),MATCH(AK$109,'Avtalat sortiment'!$AE$2:$AL$2,0)),\"\")","v":0},{"$f":"IFERROR(INDEX('Avtalat sortiment'!$AE$3:$AL$279,MATCH($K125,Funktioner!$CB$3:$CB$280,0),MATCH(AL$109,'Avtalat sortiment'!$AE$2:$AL$2,0)),\"\")","v":0},{"$f":"IFERROR(INDEX('Avtalat sortiment'!$AE$3:$AL$279,MATCH($K125,Funktioner!$CB$3:$CB$280,0),MATCH(AM$109,'Avtalat sortiment'!$AE$2:$AL$2,0)),\"\")","v":0},{"$f":"IFERROR(INDEX('Avtalat sortiment'!$AE$3:$AL$279,MATCH($K125,Funktioner!$CB$3:$CB$280,0),MATCH(AN$109,'Avtalat sortiment'!$AE$2:$AL$2,0)),\"\")","v":0},{"$f":"IFERROR(INDEX('Avtalat sortiment'!$AE$3:$AL$279,MATCH($K125,Funktioner!$CB$3:$CB$280,0),MATCH(AO$109,'Avtalat sortiment'!$AE$2:$AL$2,0)),\"\")","v":0},{"$f":"IF(Uträkningsmall!$G28=\"\",\"\",IF(AQ125=\"Kan ej leverera\",240000000,IF(ISNUMBER(AH125),AH125*Uträkningsmall!$G28,\"\")))","v":""},"",null,{"$f":"IFERROR(INDEX('Avtalat sortiment'!$AO$3:$AV$257,MATCH($K125,Funktioner!$CC$3:$CC$280,0),MATCH(AS$109,'Avtalat sortiment'!$AO$2:$AV$2,0)),\"\")","v":0},{"$f":"IFERROR(INDEX('Avtalat sortiment'!$AO$3:$AV$257,MATCH($K125,Funktioner!$CC$3:$CC$280,0),MATCH(AT$109,'Avtalat sortiment'!$AO$2:$AV$2,0)),\"\")","v":0},{"$f":"IFERROR(INDEX('Avtalat sortiment'!$AO$3:$AV$257,MATCH($K125,Funktioner!$CC$3:$CC$280,0),MATCH(AU$109,'Avtalat sortiment'!$AO$2:$AV$2,0)),\"\")","v":""},{"$f":"IFERROR(INDEX('Avtalat sortiment'!$AO$3:$AV$257,MATCH($K125,Funktioner!$CC$3:$CC$280,0),MATCH(AV$109,'Avtalat sortiment'!$AO$2:$AV$2,0)),\"\")","v":0},{"$f":"IFERROR(INDEX('Avtalat sortiment'!$AO$3:$AV$257,MATCH($K125,Funktioner!$CC$3:$CC$280,0),MATCH(AW$109,'Avtalat sortiment'!$AO$2:$AV$2,0)),\"\")","v":0},{"$f":"IFERROR(INDEX('Avtalat sortiment'!$AO$3:$AV$257,MATCH($K125,Funktioner!$CC$3:$CC$280,0),MATCH(AX$109,'Avtalat sortiment'!$AO$2:$AV$2,0)),\"\")","v":0},{"$f":"IFERROR(INDEX('Avtalat sortiment'!$AO$3:$AV$257,MATCH($K125,Funktioner!$CC$3:$CC$280,0),MATCH(AY$109,'Avtalat sortiment'!$AO$2:$AV$2,0)),\"\")","v":0},{"$f":"IFERROR(INDEX('Avtalat sortiment'!$AO$3:$AV$257,MATCH($K125,Funktioner!$CC$3:$CC$280,0),MATCH(AZ$109,'Avtalat sortiment'!$AO$2:$AV$2,0)),\"\")","v":0},{"$f":"IF(Uträkningsmall!$G28=\"\",\"\",IF(BB125=\"Kan ej leverera\",240000000,IF(ISNUMBER(AS125),AS125*Uträkningsmall!$G28,\"\")))","v":""},"",null,{"$f":"IFERROR(INDEX('Avtalat sortiment'!$AY$3:$BF$219,MATCH($K125,Funktioner!$CD$3:$CD$280,0),MATCH(BD$109,'Avtalat sortiment'!$AY$2:$BF$2,0)),\"\")","v":0},{"$f":"IFERROR(INDEX('Avtalat sortiment'!$AY$3:$BF$219,MATCH($K125,Funktioner!$CD$3:$CD$280,0),MATCH(BE$109,'Avtalat sortiment'!$AY$2:$BF$2,0)),\"\")","v":0},{"$f":"IFERROR(INDEX('Avtalat sortiment'!$AY$3:$BF$219,MATCH($K125,Funktioner!$CD$3:$CD$280,0),MATCH(BF$109,'Avtalat sortiment'!$AY$2:$BF$2,0)),\"\")","v":""},{"$f":"IFERROR(INDEX('Avtalat sortiment'!$AY$3:$BF$219,MATCH($K125,Funktioner!$CD$3:$CD$280,0),MATCH(BG$109,'Avtalat sortiment'!$AY$2:$BF$2,0)),\"\")","v":269173},{"$f":"IFERROR(INDEX('Avtalat sortiment'!$AY$3:$BF$219,MATCH($K125,Funktioner!$CD$3:$CD$280,0),MATCH(BH$109,'Avtalat sortiment'!$AY$2:$BF$2,0)),\"\")","v":"https://www.lyrecocontract.se/web/ePortal/ctrl?action=showiteminfo&itemNo=269173"},{"$f":"IFERROR(INDEX('Avtalat sortiment'!$AY$3:$BF$219,MATCH($K125,Funktioner!$CD$3:$CD$280,0),MATCH(BI$109,'Avtalat sortiment'!$AY$2:$BF$2,0)),\"\")","v":"Munskydd Typ IIR med öronband Blå 50/FP"},{"$f":"IFERROR(INDEX('Avtalat sortiment'!$AY$3:$BF$219,MATCH($K125,Funktioner!$CD$3:$CD$280,0),MATCH(BJ$109,'Avtalat sortiment'!$AY$2:$BF$2,0)),\"\")","v":0},{"$f":"IFERROR(INDEX('Avtalat sortiment'!$AY$3:$BF$219,MATCH($K125,Funktioner!$CD$3:$CD$280,0),MATCH(BK$109,'Avtalat sortiment'!$AY$2:$BF$2,0)),\"\")","v":"Inväntar återkoppling från vår leverantör, i enlighet med 6.6.2 i underlag anger vi därmed ej pris         "},{"$f":"IF(Uträkningsmall!$G28=\"\",\"\",IF(BM125=\"Kan ej leverera\",240000000,IF(ISNUMBER(BD125),BD125*Uträkningsmall!$G28,\"\")))","v":""},"",null,{"$f":"IFERROR(INDEX('Avtalat sortiment'!$BI$3:$BP$279,MATCH($K125,Funktioner!$CE$3:$CE$280,0),MATCH(BO$109,'Avtalat sortiment'!$BI$2:$BP$2,0)),\"\")","v":0},{"$f":"IFERROR(INDEX('Avtalat sortiment'!$BI$3:$BP$279,MATCH($K125,Funktioner!$CE$3:$CE$280,0),MATCH(BP$109,'Avtalat sortiment'!$BI$2:$BP$2,0)),\"\")","v":0},{"$f":"IFERROR(INDEX('Avtalat sortiment'!$BI$3:$BP$279,MATCH($K125,Funktioner!$CE$3:$CE$280,0),MATCH(BQ$109,'Avtalat sortiment'!$BI$2:$BP$2,0)),\"\")","v":0},{"$f":"IFERROR(INDEX('Avtalat sortiment'!$BI$3:$BP$279,MATCH($K125,Funktioner!$CE$3:$CE$280,0),MATCH(BR$109,'Avtalat sortiment'!$BI$2:$BP$2,0)),\"\")","v":0},{"$f":"IFERROR(INDEX('Avtalat sortiment'!$BI$3:$BP$279,MATCH($K125,Funktioner!$CE$3:$CE$280,0),MATCH(BS$109,'Avtalat sortiment'!$BI$2:$BP$2,0)),\"\")","v":0},{"$f":"IFERROR(INDEX('Avtalat sortiment'!$BI$3:$BP$279,MATCH($K125,Funktioner!$CE$3:$CE$280,0),MATCH(BT$109,'Avtalat sortiment'!$BI$2:$BP$2,0)),\"\")","v":0},{"$f":"IFERROR(INDEX('Avtalat sortiment'!$BI$3:$BP$279,MATCH($K125,Funktioner!$CE$3:$CE$280,0),MATCH(BU$109,'Avtalat sortiment'!$BI$2:$BP$2,0)),\"\")","v":0},{"$f":"IFERROR(INDEX('Avtalat sortiment'!$BI$3:$BP$279,MATCH($K125,Funktioner!$CE$3:$CE$280,0),MATCH(BV$109,'Avtalat sortiment'!$BI$2:$BP$2,0)),\"\")","v":0},{"$f":"IF(Uträkningsmall!$G28=\"\",\"\",IF(BX125=\"Kan ej leverera\",240000000,IF(ISNUMBER(BO125),BO125*Uträkningsmall!$G28,\"\")))","v":""},"",null,{"$f":"IF('Avtalat sortiment'!K125<>\"\",'Avtalat sortiment'!$A125&'Avtalat sortiment'!Q125,\"\")","v":""},{"$f":"IF('Avtalat sortiment'!U125<>\"\",'Avtalat sortiment'!T125&'Avtalat sortiment'!AA125,\"\")","v":""},{"$f":"IF('Avtalat sortiment'!AE125<>\"\",'Avtalat sortiment'!AD125&'Avtalat sortiment'!AK125,\"\")","v":""},{"$f":"IF('Avtalat sortiment'!AO125<>\"\",'Avtalat sortiment'!AN125&'Avtalat sortiment'!AU125,\"\")","v":""},{"$f":"IF('Avtalat sortiment'!AY125<>\"\",'Avtalat sortiment'!AX125&'Avtalat sortiment'!BE125,\"\")","v":""},{"$f":"IF('Avtalat sortiment'!BI125<>\"\",'Avtalat sortiment'!BH125&'Avtalat sortiment'!BO125,\"\")","v":""}]
[null,null,null,null,null,null,null,null,null,{"$f":"IF(Uträkningsmall!$A29=Funktioner!$B$1,IF(Funktioner!$B$3=\"\",\"\",Funktioner!$B$3),IF(Uträkningsmall!$A29=Funktioner!$C$1,IF(Funktioner!$C$3=\"\",\"\",Funktioner!$C$3),IF(Uträkningsmall!$A29=Funktioner!$D$1,IF(Funktioner!$D$3=\"\",\"\",Funktioner!$D$3),IF(Uträkningsmall!$A29=Funktioner!$E$1,IF(Funktioner!$E$3=\"\",\"\",Funktioner!$E$3),IF(Uträkningsmall!$A29=Funktioner!$F$1,IF(Funktioner!$F$3=\"\",\"\",Funktioner!$F$3),IF(Uträkningsmall!$A29=Funktioner!$G$1,IF(Funktioner!$G$3=\"\",\"\",Funktioner!$G$3),IF(Uträkningsmall!$A29=Funktioner!$H$1,IF(Funktioner!$H$3=\"\",\"\",Funktioner!$H$3),IF(Uträkningsmall!$A29=Funktioner!$I$1,IF(Funktioner!$I$3=\"\",\"\",Funktioner!$I$3),IF(Uträkningsmall!$A29=Funktioner!$J$1,IF(Funktioner!$J$3=\"\",\"\",Funktioner!$J$3),IF(Uträkningsmall!$A29=Funktioner!$K$1,IF(Funktioner!$K$3=\"\",\"\",Funktioner!$K$3),IF(Uträkningsmall!$A29=Funktioner!$L$1,IF(Funktioner!$L$3=\"\",\"\",Funktioner!$L$3),IF(Uträkningsmall!$A29=Funktioner!$M$1,IF(Funktioner!$M$3=\"\",\"\",Funktioner!$M$3),IF(Uträkningsmall!$A29=Funktioner!$N$1,IF(Funktioner!$N$3=\"\",\"\",Funktioner!$N$3),IF(Uträkningsmall!$A29=Funktioner!$O$1,IF(Funktioner!$O$3=\"\",\"\",Funktioner!$O$3),IF(Uträkningsmall!$A29=Funktioner!$P$1,IF(Funktioner!$P$3=\"\",\"\",Funktioner!$P$3),IF(Uträkningsmall!$A29=Funktioner!$Q$1,IF(Funktioner!$Q$3=\"\",\"\",Funktioner!$Q$3),IF(Uträkningsmall!$A29=Funktioner!$R$1,IF(Funktioner!$R$3=\"\",\"\",Funktioner!$R$3),IF(Uträkningsmall!$A29=Funktioner!$S$1,IF(Funktioner!$S$3=\"\",\"\",Funktioner!$S$3),IF(Uträkningsmall!$A29=Funktioner!$T$1,IF(Funktioner!$T$3=\"\",\"\",Funktioner!$T$3),IF(Uträkningsmall!$A29=Funktioner!$U$1,IF(Funktioner!$U$3=\"\",\"\",Funktioner!$U$3),IF(Uträkningsmall!$A29=Funktioner!$V$1,IF(Funktioner!$V$3=\"\",\"\",Funktioner!$V$3),IF(Uträkningsmall!$A29=Funktioner!$W$1,IF(Funktioner!$W$3=\"\",\"\",Funktioner!$W$3),IF(Uträkningsmall!$A29=Funktioner!$X$1,IF(Funktioner!$X$3=\"\",\"\",Funktioner!$X$3),IF(Uträkningsmall!$A29=Funktioner!$Y$1,IF(Funktioner!$Y$3=\"\",\"\",Funktioner!$Y$3),IF(Uträkningsmall!$A29=Funktioner!$Z$1,IF(Funktioner!$Z$3=\"\",\"\",Funktioner!$Z$3),IF(Uträkningsmall!$A29=Funktioner!$AA$1,IF(Funktioner!$AA$3=\"\",\"\",Funktioner!$AA$3),IF(Uträkningsmall!$A29=Funktioner!$AB$1,IF(Funktioner!$AB$3=\"\",\"\",Funktioner!$AB$3),IF(Uträkningsmall!$A29=Funktioner!$AC$1,IF(Funktioner!$AC$3=\"\",\"\",Funktioner!$AC$3),IF(Uträkningsmall!$A29=Funktioner!$AD$1,IF(Funktioner!$AD$3=\"\",\"\",Funktioner!$AD$3),IF(Uträkningsmall!$A29=Funktioner!$AE$1,IF(Funktioner!$AE$3=\"\",\"\",Funktioner!$AE$3),IF(Uträkningsmall!$A29=Funktioner!$AF$1,IF(Funktioner!$AF$3=\"\",\"\",Funktioner!$AF$3),IF(Uträkningsmall!$A29=Funktioner!$AG$1,IF(Funktioner!$AG$3=\"\",\"\",Funktioner!$AG$3),IF(Uträkningsmall!$A29=Funktioner!$AH$1,IF(Funktioner!$AH$3=\"\",\"\",Funktioner!$AH$3),IF(Uträkningsmall!$A29=Funktioner!$AI$1,IF(Funktioner!$AI$3=\"\",\"\",Funktioner!$AI$3),IF(Uträkningsmall!$A29=Funktioner!$AJ$1,IF(Funktioner!$AJ$3=\"\",\"\",Funktioner!$AJ$3),IF(Uträkningsmall!$A29=Funktioner!$AK$1,IF(Funktioner!$AK$3=\"\",\"\",Funktioner!$AK$3),IF(Uträkningsmall!$A29=Funktioner!$AL$1,IF(Funktioner!$AL$3=\"\",\"\",Funktioner!$AL$3),IF(Uträkningsmall!$A29=Funktioner!$AM$1,IF(Funktioner!$AM$3=\"\",\"\",Funktioner!$AM$3),IF(Uträkningsmall!$A29=Funktioner!$AN$1,IF(Funktioner!$AN$3=\"\",\"\",Funktioner!$AN$3),IF(Uträkningsmall!$A29=Funktioner!$AO$1,IF(Funktioner!$AO$3=\"\",\"\",Funktioner!$AO$3),IF(Uträkningsmall!$A29=Funktioner!$AP$1,IF(Funktioner!$AP$3=\"\",\"\",Funktioner!$AP$3),IF(Uträkningsmall!$A29=Funktioner!$AQ$1,IF(Funktioner!$AQ$3=\"\",\"\",Funktioner!$AQ$3),IF(Uträkningsmall!$A29=Funktioner!$AR$1,IF(Funktioner!$AR$3=\"\",\"\",Funktioner!$AR$3),IF(Uträkningsmall!$A29=Funktioner!$AS$1,IF(Funktioner!$AS$3=\"\",\"\",Funktioner!$AS$3),IF(Uträkningsmall!$A29=Funktioner!$AT$1,IF(Funktioner!$AT$3=\"\",\"\",Funktioner!$AT$3),IF(Uträkningsmall!$A29=Funktioner!$AU$1,IF(Funktioner!$AU$3=\"\",\"\",Funktioner!$AU$3),IF(Uträkningsmall!$A29=Funktioner!$AV$1,IF(Funktioner!$AV$3=\"\",\"\",Funktioner!$AV$3),\"\")))))))))))))))))))))))))))))))))))))))))))))))","v":""},{"$f":"Uträkningsmall!$A29&Uträkningsmall!$F29","v":""},{"$f":"IFERROR(INDEX('Avtalat sortiment'!$K$3:$R$279,MATCH($K126,Funktioner!$BZ$3:$BZ$280,0),MATCH(L$109,'Avtalat sortiment'!$K$2:$R$2,0)),\"\")","v":0},{"$f":"IFERROR(INDEX('Avtalat sortiment'!$K$3:$R$279,MATCH($K126,Funktioner!$BZ$3:$BZ$280,0),MATCH(M$109,'Avtalat sortiment'!$K$2:$R$2,0)),\"\")","v":0},{"$f":"IFERROR(INDEX('Avtalat sortiment'!$K$3:$R$279,MATCH($K126,Funktioner!$BZ$3:$BZ$280,0),MATCH(N$109,'Avtalat sortiment'!$K$2:$R$2,0)),\"\")","v":0},{"$f":"IFERROR(INDEX('Avtalat sortiment'!$K$3:$R$279,MATCH($K126,Funktioner!$BZ$3:$BZ$280,0),MATCH(O$109,'Avtalat sortiment'!$K$2:$R$2,0)),\"\")","v":0},{"$f":"IFERROR(INDEX('Avtalat sortiment'!$K$3:$R$279,MATCH($K126,Funktioner!$BZ$3:$BZ$280,0),MATCH(P$109,'Avtalat sortiment'!$K$2:$R$2,0)),\"\")","v":0},{"$f":"IFERROR(INDEX('Avtalat sortiment'!$K$3:$R$279,MATCH($K126,Funktioner!$BZ$3:$BZ$280,0),MATCH(Q$109,'Avtalat sortiment'!$K$2:$R$2,0)),\"\")","v":0},{"$f":"IFERROR(INDEX('Avtalat sortiment'!$K$3:$R$279,MATCH($K126,Funktioner!$BZ$3:$BZ$280,0),MATCH(R$109,'Avtalat sortiment'!$K$2:$R$2,0)),\"\")","v":0},{"$f":"IFERROR(INDEX('Avtalat sortiment'!$K$3:$R$279,MATCH($K126,Funktioner!$BZ$3:$BZ$280,0),MATCH(S$109,'Avtalat sortiment'!$K$2:$R$2,0)),\"\")","v":0},{"$f":"IF(Uträkningsmall!$G29=\"\",\"\",IF(U126=\"Kan ej leverera\",240000000,IF(ISNUMBER(L126),L126*Uträkningsmall!$G29,\"\")))","v":""},"",null,{"$f":"IFERROR(INDEX('Avtalat sortiment'!$U$3:$AB$279,MATCH($K126,Funktioner!$CA$3:$CA$280,0),MATCH(W$109,'Avtalat sortiment'!$U$2:$AB$2,0)),\"\")","v":0},{"$f":"IFERROR(INDEX('Avtalat sortiment'!$U$3:$AB$279,MATCH($K126,Funktioner!$CA$3:$CA$280,0),MATCH(X$109,'Avtalat sortiment'!$U$2:$AB$2,0)),\"\")","v":0},{"$f":"IFERROR(INDEX('Avtalat sortiment'!$U$3:$AB$279,MATCH($K126,Funktioner!$CA$3:$CA$280,0),MATCH(Y$109,'Avtalat sortiment'!$U$2:$AB$2,0)),\"\")","v":0},{"$f":"IFERROR(INDEX('Avtalat sortiment'!$U$3:$AB$279,MATCH($K126,Funktioner!$CA$3:$CA$280,0),MATCH(Z$109,'Avtalat sortiment'!$U$2:$AB$2,0)),\"\")","v":0},{"$f":"IFERROR(INDEX('Avtalat sortiment'!$U$3:$AB$279,MATCH($K126,Funktioner!$CA$3:$CA$280,0),MATCH(AA$109,'Avtalat sortiment'!$U$2:$AB$2,0)),\"\")","v":"https://www.procurator.com/svSE/c/Montagehandskar/Montagehandske-konstl%C3%A4der-Worksafe-A100?c=23_02_01&p=U-AR98&a=2052135"},{"$f":"IFERROR(INDEX('Avtalat sortiment'!$U$3:$AB$279,MATCH($K126,Funktioner!$CA$3:$CA$280,0),MATCH(AB$109,'Avtalat sortiment'!$U$2:$AB$2,0)),\"\")","v":"Montagehandske Worksafe A100 "},{"$f":"IFERROR(INDEX('Avtalat sortiment'!$U$3:$AB$279,MATCH($K126,Funktioner!$CA$3:$CA$280,0),MATCH(AC$109,'Avtalat sortiment'!$U$2:$AB$2,0)),\"\")","v":7},{"$f":"IFERROR(INDEX('Avtalat sortiment'!$K$3:$R$279,MATCH($K126,Funktioner!$BZ$3:$BZ$280,0),MATCH(AD$109,'Avtalat sortiment'!$K$2:$R$2,0)),\"\")","v":0},{"$f":"IF(Uträkningsmall!$G29=\"\",\"\",IF(AF126=\"Kan ej leverera\",240000000,IF(ISNUMBER(W126),W126*Uträkningsmall!$G29,\"\")))","v":""},"",null,{"$f":"IFERROR(INDEX('Avtalat sortiment'!$AE$3:$AL$279,MATCH($K126,Funktioner!$CB$3:$CB$280,0),MATCH(AH$109,'Avtalat sortiment'!$AE$2:$AL$2,0)),\"\")","v":0},{"$f":"IFERROR(INDEX('Avtalat sortiment'!$AE$3:$AL$279,MATCH($K126,Funktioner!$CB$3:$CB$280,0),MATCH(AI$109,'Avtalat sortiment'!$AE$2:$AL$2,0)),\"\")","v":0},{"$f":"IFERROR(INDEX('Avtalat sortiment'!$AE$3:$AL$279,MATCH($K126,Funktioner!$CB$3:$CB$280,0),MATCH(AJ$109,'Avtalat sortiment'!$AE$2:$AL$2,0)),\"\")","v":""},{"$f":"IFERROR(INDEX('Avtalat sortiment'!$AE$3:$AL$279,MATCH($K126,Funktioner!$CB$3:$CB$280,0),MATCH(AK$109,'Avtalat sortiment'!$AE$2:$AL$2,0)),\"\")","v":0},{"$f":"IFERROR(INDEX('Avtalat sortiment'!$AE$3:$AL$279,MATCH($K126,Funktioner!$CB$3:$CB$280,0),MATCH(AL$109,'Avtalat sortiment'!$AE$2:$AL$2,0)),\"\")","v":0},{"$f":"IFERROR(INDEX('Avtalat sortiment'!$AE$3:$AL$279,MATCH($K126,Funktioner!$CB$3:$CB$280,0),MATCH(AM$109,'Avtalat sortiment'!$AE$2:$AL$2,0)),\"\")","v":0},{"$f":"IFERROR(INDEX('Avtalat sortiment'!$AE$3:$AL$279,MATCH($K126,Funktioner!$CB$3:$CB$280,0),MATCH(AN$109,'Avtalat sortiment'!$AE$2:$AL$2,0)),\"\")","v":0},{"$f":"IFERROR(INDEX('Avtalat sortiment'!$AE$3:$AL$279,MATCH($K126,Funktioner!$CB$3:$CB$280,0),MATCH(AO$109,'Avtalat sortiment'!$AE$2:$AL$2,0)),\"\")","v":0},{"$f":"IF(Uträkningsmall!$G29=\"\",\"\",IF(AQ126=\"Kan ej leverera\",240000000,IF(ISNUMBER(AH126),AH126*Uträkningsmall!$G29,\"\")))","v":""},"",null,{"$f":"IFERROR(INDEX('Avtalat sortiment'!$AO$3:$AV$257,MATCH($K126,Funktioner!$CC$3:$CC$280,0),MATCH(AS$109,'Avtalat sortiment'!$AO$2:$AV$2,0)),\"\")","v":0},{"$f":"IFERROR(INDEX('Avtalat sortiment'!$AO$3:$AV$257,MATCH($K126,Funktioner!$CC$3:$CC$280,0),MATCH(AT$109,'Avtalat sortiment'!$AO$2:$AV$2,0)),\"\")","v":0},{"$f":"IFERROR(INDEX('Avtalat sortiment'!$AO$3:$AV$257,MATCH($K126,Funktioner!$CC$3:$CC$280,0),MATCH(AU$109,'Avtalat sortiment'!$AO$2:$AV$2,0)),\"\")","v":""},{"$f":"IFERROR(INDEX('Avtalat sortiment'!$AO$3:$AV$257,MATCH($K126,Funktioner!$CC$3:$CC$280,0),MATCH(AV$109,'Avtalat sortiment'!$AO$2:$AV$2,0)),\"\")","v":0},{"$f":"IFERROR(INDEX('Avtalat sortiment'!$AO$3:$AV$257,MATCH($K126,Funktioner!$CC$3:$CC$280,0),MATCH(AW$109,'Avtalat sortiment'!$AO$2:$AV$2,0)),\"\")","v":0},{"$f":"IFERROR(INDEX('Avtalat sortiment'!$AO$3:$AV$257,MATCH($K126,Funktioner!$CC$3:$CC$280,0),MATCH(AX$109,'Avtalat sortiment'!$AO$2:$AV$2,0)),\"\")","v":0},{"$f":"IFERROR(INDEX('Avtalat sortiment'!$AO$3:$AV$257,MATCH($K126,Funktioner!$CC$3:$CC$280,0),MATCH(AY$109,'Avtalat sortiment'!$AO$2:$AV$2,0)),\"\")","v":0},{"$f":"IFERROR(INDEX('Avtalat sortiment'!$AO$3:$AV$257,MATCH($K126,Funktioner!$CC$3:$CC$280,0),MATCH(AZ$109,'Avtalat sortiment'!$AO$2:$AV$2,0)),\"\")","v":0},{"$f":"IF(Uträkningsmall!$G29=\"\",\"\",IF(BB126=\"Kan ej leverera\",240000000,IF(ISNUMBER(AS126),AS126*Uträkningsmall!$G29,\"\")))","v":""},"",null,{"$f":"IFERROR(INDEX('Avtalat sortiment'!$AY$3:$BF$219,MATCH($K126,Funktioner!$CD$3:$CD$280,0),MATCH(BD$109,'Avtalat sortiment'!$AY$2:$BF$2,0)),\"\")","v":0},{"$f":"IFERROR(INDEX('Avtalat sortiment'!$AY$3:$BF$219,MATCH($K126,Funktioner!$CD$3:$CD$280,0),MATCH(BE$109,'Avtalat sortiment'!$AY$2:$BF$2,0)),\"\")","v":0},{"$f":"IFERROR(INDEX('Avtalat sortiment'!$AY$3:$BF$219,MATCH($K126,Funktioner!$CD$3:$CD$280,0),MATCH(BF$109,'Avtalat sortiment'!$AY$2:$BF$2,0)),\"\")","v":""},{"$f":"IFERROR(INDEX('Avtalat sortiment'!$AY$3:$BF$219,MATCH($K126,Funktioner!$CD$3:$CD$280,0),MATCH(BG$109,'Avtalat sortiment'!$AY$2:$BF$2,0)),\"\")","v":269173},{"$f":"IFERROR(INDEX('Avtalat sortiment'!$AY$3:$BF$219,MATCH($K126,Funktioner!$CD$3:$CD$280,0),MATCH(BH$109,'Avtalat sortiment'!$AY$2:$BF$2,0)),\"\")","v":"https://www.lyrecocontract.se/web/ePortal/ctrl?action=showiteminfo&itemNo=269173"},{"$f":"IFERROR(INDEX('Avtalat sortiment'!$AY$3:$BF$219,MATCH($K126,Funktioner!$CD$3:$CD$280,0),MATCH(BI$109,'Avtalat sortiment'!$AY$2:$BF$2,0)),\"\")","v":"Munskydd Typ IIR med öronband Blå 50/FP"},{"$f":"IFERROR(INDEX('Avtalat sortiment'!$AY$3:$BF$219,MATCH($K126,Funktioner!$CD$3:$CD$280,0),MATCH(BJ$109,'Avtalat sortiment'!$AY$2:$BF$2,0)),\"\")","v":0},{"$f":"IFERROR(INDEX('Avtalat sortiment'!$AY$3:$BF$219,MATCH($K126,Funktioner!$CD$3:$CD$280,0),MATCH(BK$109,'Avtalat sortiment'!$AY$2:$BF$2,0)),\"\")","v":"Inväntar återkoppling från vår leverantör, i enlighet med 6.6.2 i underlag anger vi därmed ej pris         "},{"$f":"IF(Uträkningsmall!$G29=\"\",\"\",IF(BM126=\"Kan ej leverera\",240000000,IF(ISNUMBER(BD126),BD126*Uträkningsmall!$G29,\"\")))","v":""},"",null,{"$f":"IFERROR(INDEX('Avtalat sortiment'!$BI$3:$BP$279,MATCH($K126,Funktioner!$CE$3:$CE$280,0),MATCH(BO$109,'Avtalat sortiment'!$BI$2:$BP$2,0)),\"\")","v":0},{"$f":"IFERROR(INDEX('Avtalat sortiment'!$BI$3:$BP$279,MATCH($K126,Funktioner!$CE$3:$CE$280,0),MATCH(BP$109,'Avtalat sortiment'!$BI$2:$BP$2,0)),\"\")","v":0},{"$f":"IFERROR(INDEX('Avtalat sortiment'!$BI$3:$BP$279,MATCH($K126,Funktioner!$CE$3:$CE$280,0),MATCH(BQ$109,'Avtalat sortiment'!$BI$2:$BP$2,0)),\"\")","v":0},{"$f":"IFERROR(INDEX('Avtalat sortiment'!$BI$3:$BP$279,MATCH($K126,Funktioner!$CE$3:$CE$280,0),MATCH(BR$109,'Avtalat sortiment'!$BI$2:$BP$2,0)),\"\")","v":0},{"$f":"IFERROR(INDEX('Avtalat sortiment'!$BI$3:$BP$279,MATCH($K126,Funktioner!$CE$3:$CE$280,0),MATCH(BS$109,'Avtalat sortiment'!$BI$2:$BP$2,0)),\"\")","v":0},{"$f":"IFERROR(INDEX('Avtalat sortiment'!$BI$3:$BP$279,MATCH($K126,Funktioner!$CE$3:$CE$280,0),MATCH(BT$109,'Avtalat sortiment'!$BI$2:$BP$2,0)),\"\")","v":0},{"$f":"IFERROR(INDEX('Avtalat sortiment'!$BI$3:$BP$279,MATCH($K126,Funktioner!$CE$3:$CE$280,0),MATCH(BU$109,'Avtalat sortiment'!$BI$2:$BP$2,0)),\"\")","v":0},{"$f":"IFERROR(INDEX('Avtalat sortiment'!$BI$3:$BP$279,MATCH($K126,Funktioner!$CE$3:$CE$280,0),MATCH(BV$109,'Avtalat sortiment'!$BI$2:$BP$2,0)),\"\")","v":0},{"$f":"IF(Uträkningsmall!$G29=\"\",\"\",IF(BX126=\"Kan ej leverera\",240000000,IF(ISNUMBER(BO126),BO126*Uträkningsmall!$G29,\"\")))","v":""},"",null,{"$f":"IF('Avtalat sortiment'!K126<>\"\",'Avtalat sortiment'!$A126&'Avtalat sortiment'!Q126,\"\")","v":""},{"$f":"IF('Avtalat sortiment'!U126<>\"\",'Avtalat sortiment'!T126&'Avtalat sortiment'!AA126,\"\")","v":""},{"$f":"IF('Avtalat sortiment'!AE126<>\"\",'Avtalat sortiment'!AD126&'Avtalat sortiment'!AK126,\"\")","v":""},{"$f":"IF('Avtalat sortiment'!AO126<>\"\",'Avtalat sortiment'!AN126&'Avtalat sortiment'!AU126,\"\")","v":""},{"$f":"IF('Avtalat sortiment'!AY126<>\"\",'Avtalat sortiment'!AX126&'Avtalat sortiment'!BE126,\"\")","v":""},{"$f":"IF('Avtalat sortiment'!BI126<>\"\",'Avtalat sortiment'!BH126&'Avtalat sortiment'!BO126,\"\")","v":""}]
[null,null,null,null,null,null,null,null,null,{"$f":"IF(Uträkningsmall!$A30=Funktioner!$B$1,IF(Funktioner!$B$3=\"\",\"\",Funktioner!$B$3),IF(Uträkningsmall!$A30=Funktioner!$C$1,IF(Funktioner!$C$3=\"\",\"\",Funktioner!$C$3),IF(Uträkningsmall!$A30=Funktioner!$D$1,IF(Funktioner!$D$3=\"\",\"\",Funktioner!$D$3),IF(Uträkningsmall!$A30=Funktioner!$E$1,IF(Funktioner!$E$3=\"\",\"\",Funktioner!$E$3),IF(Uträkningsmall!$A30=Funktioner!$F$1,IF(Funktioner!$F$3=\"\",\"\",Funktioner!$F$3),IF(Uträkningsmall!$A30=Funktioner!$G$1,IF(Funktioner!$G$3=\"\",\"\",Funktioner!$G$3),IF(Uträkningsmall!$A30=Funktioner!$H$1,IF(Funktioner!$H$3=\"\",\"\",Funktioner!$H$3),IF(Uträkningsmall!$A30=Funktioner!$I$1,IF(Funktioner!$I$3=\"\",\"\",Funktioner!$I$3),IF(Uträkningsmall!$A30=Funktioner!$J$1,IF(Funktioner!$J$3=\"\",\"\",Funktioner!$J$3),IF(Uträkningsmall!$A30=Funktioner!$K$1,IF(Funktioner!$K$3=\"\",\"\",Funktioner!$K$3),IF(Uträkningsmall!$A30=Funktioner!$L$1,IF(Funktioner!$L$3=\"\",\"\",Funktioner!$L$3),IF(Uträkningsmall!$A30=Funktioner!$M$1,IF(Funktioner!$M$3=\"\",\"\",Funktioner!$M$3),IF(Uträkningsmall!$A30=Funktioner!$N$1,IF(Funktioner!$N$3=\"\",\"\",Funktioner!$N$3),IF(Uträkningsmall!$A30=Funktioner!$O$1,IF(Funktioner!$O$3=\"\",\"\",Funktioner!$O$3),IF(Uträkningsmall!$A30=Funktioner!$P$1,IF(Funktioner!$P$3=\"\",\"\",Funktioner!$P$3),IF(Uträkningsmall!$A30=Funktioner!$Q$1,IF(Funktioner!$Q$3=\"\",\"\",Funktioner!$Q$3),IF(Uträkningsmall!$A30=Funktioner!$R$1,IF(Funktioner!$R$3=\"\",\"\",Funktioner!$R$3),IF(Uträkningsmall!$A30=Funktioner!$S$1,IF(Funktioner!$S$3=\"\",\"\",Funktioner!$S$3),IF(Uträkningsmall!$A30=Funktioner!$T$1,IF(Funktioner!$T$3=\"\",\"\",Funktioner!$T$3),IF(Uträkningsmall!$A30=Funktioner!$U$1,IF(Funktioner!$U$3=\"\",\"\",Funktioner!$U$3),IF(Uträkningsmall!$A30=Funktioner!$V$1,IF(Funktioner!$V$3=\"\",\"\",Funktioner!$V$3),IF(Uträkningsmall!$A30=Funktioner!$W$1,IF(Funktioner!$W$3=\"\",\"\",Funktioner!$W$3),IF(Uträkningsmall!$A30=Funktioner!$X$1,IF(Funktioner!$X$3=\"\",\"\",Funktioner!$X$3),IF(Uträkningsmall!$A30=Funktioner!$Y$1,IF(Funktioner!$Y$3=\"\",\"\",Funktioner!$Y$3),IF(Uträkningsmall!$A30=Funktioner!$Z$1,IF(Funktioner!$Z$3=\"\",\"\",Funktioner!$Z$3),IF(Uträkningsmall!$A30=Funktioner!$AA$1,IF(Funktioner!$AA$3=\"\",\"\",Funktioner!$AA$3),IF(Uträkningsmall!$A30=Funktioner!$AB$1,IF(Funktioner!$AB$3=\"\",\"\",Funktioner!$AB$3),IF(Uträkningsmall!$A30=Funktioner!$AC$1,IF(Funktioner!$AC$3=\"\",\"\",Funktioner!$AC$3),IF(Uträkningsmall!$A30=Funktioner!$AD$1,IF(Funktioner!$AD$3=\"\",\"\",Funktioner!$AD$3),IF(Uträkningsmall!$A30=Funktioner!$AE$1,IF(Funktioner!$AE$3=\"\",\"\",Funktioner!$AE$3),IF(Uträkningsmall!$A30=Funktioner!$AF$1,IF(Funktioner!$AF$3=\"\",\"\",Funktioner!$AF$3),IF(Uträkningsmall!$A30=Funktioner!$AG$1,IF(Funktioner!$AG$3=\"\",\"\",Funktioner!$AG$3),IF(Uträkningsmall!$A30=Funktioner!$AH$1,IF(Funktioner!$AH$3=\"\",\"\",Funktioner!$AH$3),IF(Uträkningsmall!$A30=Funktioner!$AI$1,IF(Funktioner!$AI$3=\"\",\"\",Funktioner!$AI$3),IF(Uträkningsmall!$A30=Funktioner!$AJ$1,IF(Funktioner!$AJ$3=\"\",\"\",Funktioner!$AJ$3),IF(Uträkningsmall!$A30=Funktioner!$AK$1,IF(Funktioner!$AK$3=\"\",\"\",Funktioner!$AK$3),IF(Uträkningsmall!$A30=Funktioner!$AL$1,IF(Funktioner!$AL$3=\"\",\"\",Funktioner!$AL$3),IF(Uträkningsmall!$A30=Funktioner!$AM$1,IF(Funktioner!$AM$3=\"\",\"\",Funktioner!$AM$3),IF(Uträkningsmall!$A30=Funktioner!$AN$1,IF(Funktioner!$AN$3=\"\",\"\",Funktioner!$AN$3),IF(Uträkningsmall!$A30=Funktioner!$AO$1,IF(Funktioner!$AO$3=\"\",\"\",Funktioner!$AO$3),IF(Uträkningsmall!$A30=Funktioner!$AP$1,IF(Funktioner!$AP$3=\"\",\"\",Funktioner!$AP$3),IF(Uträkningsmall!$A30=Funktioner!$AQ$1,IF(Funktioner!$AQ$3=\"\",\"\",Funktioner!$AQ$3),IF(Uträkningsmall!$A30=Funktioner!$AR$1,IF(Funktioner!$AR$3=\"\",\"\",Funktioner!$AR$3),IF(Uträkningsmall!$A30=Funktioner!$AS$1,IF(Funktioner!$AS$3=\"\",\"\",Funktioner!$AS$3),IF(Uträkningsmall!$A30=Funktioner!$AT$1,IF(Funktioner!$AT$3=\"\",\"\",Funktioner!$AT$3),IF(Uträkningsmall!$A30=Funktioner!$AU$1,IF(Funktioner!$AU$3=\"\",\"\",Funktioner!$AU$3),IF(Uträkningsmall!$A30=Funktioner!$AV$1,IF(Funktioner!$AV$3=\"\",\"\",Funktioner!$AV$3),\"\")))))))))))))))))))))))))))))))))))))))))))))))","v":""},{"$f":"Uträkningsmall!$A30&Uträkningsmall!$F30","v":""},{"$f":"IFERROR(INDEX('Avtalat sortiment'!$K$3:$R$279,MATCH($K127,Funktioner!$BZ$3:$BZ$280,0),MATCH(L$109,'Avtalat sortiment'!$K$2:$R$2,0)),\"\")","v":0},{"$f":"IFERROR(INDEX('Avtalat sortiment'!$K$3:$R$279,MATCH($K127,Funktioner!$BZ$3:$BZ$280,0),MATCH(M$109,'Avtalat sortiment'!$K$2:$R$2,0)),\"\")","v":0},{"$f":"IFERROR(INDEX('Avtalat sortiment'!$K$3:$R$279,MATCH($K127,Funktioner!$BZ$3:$BZ$280,0),MATCH(N$109,'Avtalat sortiment'!$K$2:$R$2,0)),\"\")","v":0},{"$f":"IFERROR(INDEX('Avtalat sortiment'!$K$3:$R$279,MATCH($K127,Funktioner!$BZ$3:$BZ$280,0),MATCH(O$109,'Avtalat sortiment'!$K$2:$R$2,0)),\"\")","v":0},{"$f":"IFERROR(INDEX('Avtalat sortiment'!$K$3:$R$279,MATCH($K127,Funktioner!$BZ$3:$BZ$280,0),MATCH(P$109,'Avtalat sortiment'!$K$2:$R$2,0)),\"\")","v":0},{"$f":"IFERROR(INDEX('Avtalat sortiment'!$K$3:$R$279,MATCH($K127,Funktioner!$BZ$3:$BZ$280,0),MATCH(Q$109,'Avtalat sortiment'!$K$2:$R$2,0)),\"\")","v":0},{"$f":"IFERROR(INDEX('Avtalat sortiment'!$K$3:$R$279,MATCH($K127,Funktioner!$BZ$3:$BZ$280,0),MATCH(R$109,'Avtalat sortiment'!$K$2:$R$2,0)),\"\")","v":0},{"$f":"IFERROR(INDEX('Avtalat sortiment'!$K$3:$R$279,MATCH($K127,Funktioner!$BZ$3:$BZ$280,0),MATCH(S$109,'Avtalat sortiment'!$K$2:$R$2,0)),\"\")","v":0},{"$f":"IF(Uträkningsmall!$G30=\"\",\"\",IF(U127=\"Kan ej leverera\",240000000,IF(ISNUMBER(L127),L127*Uträkningsmall!$G30,\"\")))","v":""},"",null,{"$f":"IFERROR(INDEX('Avtalat sortiment'!$U$3:$AB$279,MATCH($K127,Funktioner!$CA$3:$CA$280,0),MATCH(W$109,'Avtalat sortiment'!$U$2:$AB$2,0)),\"\")","v":0},{"$f":"IFERROR(INDEX('Avtalat sortiment'!$U$3:$AB$279,MATCH($K127,Funktioner!$CA$3:$CA$280,0),MATCH(X$109,'Avtalat sortiment'!$U$2:$AB$2,0)),\"\")","v":0},{"$f":"IFERROR(INDEX('Avtalat sortiment'!$U$3:$AB$279,MATCH($K127,Funktioner!$CA$3:$CA$280,0),MATCH(Y$109,'Avtalat sortiment'!$U$2:$AB$2,0)),\"\")","v":0},{"$f":"IFERROR(INDEX('Avtalat sortiment'!$U$3:$AB$279,MATCH($K127,Funktioner!$CA$3:$CA$280,0),MATCH(Z$109,'Avtalat sortiment'!$U$2:$AB$2,0)),\"\")","v":0},{"$f":"IFERROR(INDEX('Avtalat sortiment'!$U$3:$AB$279,MATCH($K127,Funktioner!$CA$3:$CA$280,0),MATCH(AA$109,'Avtalat sortiment'!$U$2:$AB$2,0)),\"\")","v":"https://www.procurator.com/svSE/c/Montagehandskar/Montagehandske-konstl%C3%A4der-Worksafe-A100?c=23_02_01&p=U-AR98&a=2052135"},{"$f":"IFERROR(INDEX('Avtalat sortiment'!$U$3:$AB$279,MATCH($K127,Funktioner!$CA$3:$CA$280,0),MATCH(AB$109,'Avtalat sortiment'!$U$2:$AB$2,0)),\"\")","v":"Montagehandske Worksafe A100 "},{"$f":"IFERROR(INDEX('Avtalat sortiment'!$U$3:$AB$279,MATCH($K127,Funktioner!$CA$3:$CA$280,0),MATCH(AC$109,'Avtalat sortiment'!$U$2:$AB$2,0)),\"\")","v":7},{"$f":"IFERROR(INDEX('Avtalat sortiment'!$K$3:$R$279,MATCH($K127,Funktioner!$BZ$3:$BZ$280,0),MATCH(AD$109,'Avtalat sortiment'!$K$2:$R$2,0)),\"\")","v":0},{"$f":"IF(Uträkningsmall!$G30=\"\",\"\",IF(AF127=\"Kan ej leverera\",240000000,IF(ISNUMBER(W127),W127*Uträkningsmall!$G30,\"\")))","v":""},"",null,{"$f":"IFERROR(INDEX('Avtalat sortiment'!$AE$3:$AL$279,MATCH($K127,Funktioner!$CB$3:$CB$280,0),MATCH(AH$109,'Avtalat sortiment'!$AE$2:$AL$2,0)),\"\")","v":0},{"$f":"IFERROR(INDEX('Avtalat sortiment'!$AE$3:$AL$279,MATCH($K127,Funktioner!$CB$3:$CB$280,0),MATCH(AI$109,'Avtalat sortiment'!$AE$2:$AL$2,0)),\"\")","v":0},{"$f":"IFERROR(INDEX('Avtalat sortiment'!$AE$3:$AL$279,MATCH($K127,Funktioner!$CB$3:$CB$280,0),MATCH(AJ$109,'Avtalat sortiment'!$AE$2:$AL$2,0)),\"\")","v":""},{"$f":"IFERROR(INDEX('Avtalat sortiment'!$AE$3:$AL$279,MATCH($K127,Funktioner!$CB$3:$CB$280,0),MATCH(AK$109,'Avtalat sortiment'!$AE$2:$AL$2,0)),\"\")","v":0},{"$f":"IFERROR(INDEX('Avtalat sortiment'!$AE$3:$AL$279,MATCH($K127,Funktioner!$CB$3:$CB$280,0),MATCH(AL$109,'Avtalat sortiment'!$AE$2:$AL$2,0)),\"\")","v":0},{"$f":"IFERROR(INDEX('Avtalat sortiment'!$AE$3:$AL$279,MATCH($K127,Funktioner!$CB$3:$CB$280,0),MATCH(AM$109,'Avtalat sortiment'!$AE$2:$AL$2,0)),\"\")","v":0},{"$f":"IFERROR(INDEX('Avtalat sortiment'!$AE$3:$AL$279,MATCH($K127,Funktioner!$CB$3:$CB$280,0),MATCH(AN$109,'Avtalat sortiment'!$AE$2:$AL$2,0)),\"\")","v":0},{"$f":"IFERROR(INDEX('Avtalat sortiment'!$AE$3:$AL$279,MATCH($K127,Funktioner!$CB$3:$CB$280,0),MATCH(AO$109,'Avtalat sortiment'!$AE$2:$AL$2,0)),\"\")","v":0},{"$f":"IF(Uträkningsmall!$G30=\"\",\"\",IF(AQ127=\"Kan ej leverera\",240000000,IF(ISNUMBER(AH127),AH127*Uträkningsmall!$G30,\"\")))","v":""},"",null,{"$f":"IFERROR(INDEX('Avtalat sortiment'!$AO$3:$AV$257,MATCH($K127,Funktioner!$CC$3:$CC$280,0),MATCH(AS$109,'Avtalat sortiment'!$AO$2:$AV$2,0)),\"\")","v":0},{"$f":"IFERROR(INDEX('Avtalat sortiment'!$AO$3:$AV$257,MATCH($K127,Funktioner!$CC$3:$CC$280,0),MATCH(AT$109,'Avtalat sortiment'!$AO$2:$AV$2,0)),\"\")","v":0},{"$f":"IFERROR(INDEX('Avtalat sortiment'!$AO$3:$AV$257,MATCH($K127,Funktioner!$CC$3:$CC$280,0),MATCH(AU$109,'Avtalat sortiment'!$AO$2:$AV$2,0)),\"\")","v":""},{"$f":"IFERROR(INDEX('Avtalat sortiment'!$AO$3:$AV$257,MATCH($K127,Funktioner!$CC$3:$CC$280,0),MATCH(AV$109,'Avtalat sortiment'!$AO$2:$AV$2,0)),\"\")","v":0},{"$f":"IFERROR(INDEX('Avtalat sortiment'!$AO$3:$AV$257,MATCH($K127,Funktioner!$CC$3:$CC$280,0),MATCH(AW$109,'Avtalat sortiment'!$AO$2:$AV$2,0)),\"\")","v":0},{"$f":"IFERROR(INDEX('Avtalat sortiment'!$AO$3:$AV$257,MATCH($K127,Funktioner!$CC$3:$CC$280,0),MATCH(AX$109,'Avtalat sortiment'!$AO$2:$AV$2,0)),\"\")","v":0},{"$f":"IFERROR(INDEX('Avtalat sortiment'!$AO$3:$AV$257,MATCH($K127,Funktioner!$CC$3:$CC$280,0),MATCH(AY$109,'Avtalat sortiment'!$AO$2:$AV$2,0)),\"\")","v":0},{"$f":"IFERROR(INDEX('Avtalat sortiment'!$AO$3:$AV$257,MATCH($K127,Funktioner!$CC$3:$CC$280,0),MATCH(AZ$109,'Avtalat sortiment'!$AO$2:$AV$2,0)),\"\")","v":0},{"$f":"IF(Uträkningsmall!$G30=\"\",\"\",IF(BB127=\"Kan ej leverera\",240000000,IF(ISNUMBER(AS127),AS127*Uträkningsmall!$G30,\"\")))","v":""},"",null,{"$f":"IFERROR(INDEX('Avtalat sortiment'!$AY$3:$BF$219,MATCH($K127,Funktioner!$CD$3:$CD$280,0),MATCH(BD$109,'Avtalat sortiment'!$AY$2:$BF$2,0)),\"\")","v":0},{"$f":"IFERROR(INDEX('Avtalat sortiment'!$AY$3:$BF$219,MATCH($K127,Funktioner!$CD$3:$CD$280,0),MATCH(BE$109,'Avtalat sortiment'!$AY$2:$BF$2,0)),\"\")","v":0},{"$f":"IFERROR(INDEX('Avtalat sortiment'!$AY$3:$BF$219,MATCH($K127,Funktioner!$CD$3:$CD$280,0),MATCH(BF$109,'Avtalat sortiment'!$AY$2:$BF$2,0)),\"\")","v":""},{"$f":"IFERROR(INDEX('Avtalat sortiment'!$AY$3:$BF$219,MATCH($K127,Funktioner!$CD$3:$CD$280,0),MATCH(BG$109,'Avtalat sortiment'!$AY$2:$BF$2,0)),\"\")","v":269173},{"$f":"IFERROR(INDEX('Avtalat sortiment'!$AY$3:$BF$219,MATCH($K127,Funktioner!$CD$3:$CD$280,0),MATCH(BH$109,'Avtalat sortiment'!$AY$2:$BF$2,0)),\"\")","v":"https://www.lyrecocontract.se/web/ePortal/ctrl?action=showiteminfo&itemNo=269173"},{"$f":"IFERROR(INDEX('Avtalat sortiment'!$AY$3:$BF$219,MATCH($K127,Funktioner!$CD$3:$CD$280,0),MATCH(BI$109,'Avtalat sortiment'!$AY$2:$BF$2,0)),\"\")","v":"Munskydd Typ IIR med öronband Blå 50/FP"},{"$f":"IFERROR(INDEX('Avtalat sortiment'!$AY$3:$BF$219,MATCH($K127,Funktioner!$CD$3:$CD$280,0),MATCH(BJ$109,'Avtalat sortiment'!$AY$2:$BF$2,0)),\"\")","v":0},{"$f":"IFERROR(INDEX('Avtalat sortiment'!$AY$3:$BF$219,MATCH($K127,Funktioner!$CD$3:$CD$280,0),MATCH(BK$109,'Avtalat sortiment'!$AY$2:$BF$2,0)),\"\")","v":"Inväntar återkoppling från vår leverantör, i enlighet med 6.6.2 i underlag anger vi därmed ej pris         "},{"$f":"IF(Uträkningsmall!$G30=\"\",\"\",IF(BM127=\"Kan ej leverera\",240000000,IF(ISNUMBER(BD127),BD127*Uträkningsmall!$G30,\"\")))","v":""},"",null,{"$f":"IFERROR(INDEX('Avtalat sortiment'!$BI$3:$BP$279,MATCH($K127,Funktioner!$CE$3:$CE$280,0),MATCH(BO$109,'Avtalat sortiment'!$BI$2:$BP$2,0)),\"\")","v":0},{"$f":"IFERROR(INDEX('Avtalat sortiment'!$BI$3:$BP$279,MATCH($K127,Funktioner!$CE$3:$CE$280,0),MATCH(BP$109,'Avtalat sortiment'!$BI$2:$BP$2,0)),\"\")","v":0},{"$f":"IFERROR(INDEX('Avtalat sortiment'!$BI$3:$BP$279,MATCH($K127,Funktioner!$CE$3:$CE$280,0),MATCH(BQ$109,'Avtalat sortiment'!$BI$2:$BP$2,0)),\"\")","v":0},{"$f":"IFERROR(INDEX('Avtalat sortiment'!$BI$3:$BP$279,MATCH($K127,Funktioner!$CE$3:$CE$280,0),MATCH(BR$109,'Avtalat sortiment'!$BI$2:$BP$2,0)),\"\")","v":0},{"$f":"IFERROR(INDEX('Avtalat sortiment'!$BI$3:$BP$279,MATCH($K127,Funktioner!$CE$3:$CE$280,0),MATCH(BS$109,'Avtalat sortiment'!$BI$2:$BP$2,0)),\"\")","v":0},{"$f":"IFERROR(INDEX('Avtalat sortiment'!$BI$3:$BP$279,MATCH($K127,Funktioner!$CE$3:$CE$280,0),MATCH(BT$109,'Avtalat sortiment'!$BI$2:$BP$2,0)),\"\")","v":0},{"$f":"IFERROR(INDEX('Avtalat sortiment'!$BI$3:$BP$279,MATCH($K127,Funktioner!$CE$3:$CE$280,0),MATCH(BU$109,'Avtalat sortiment'!$BI$2:$BP$2,0)),\"\")","v":0},{"$f":"IFERROR(INDEX('Avtalat sortiment'!$BI$3:$BP$279,MATCH($K127,Funktioner!$CE$3:$CE$280,0),MATCH(BV$109,'Avtalat sortiment'!$BI$2:$BP$2,0)),\"\")","v":0},{"$f":"IF(Uträkningsmall!$G30=\"\",\"\",IF(BX127=\"Kan ej leverera\",240000000,IF(ISNUMBER(BO127),BO127*Uträkningsmall!$G30,\"\")))","v":""},"",null,{"$f":"IF('Avtalat sortiment'!K127<>\"\",'Avtalat sortiment'!$A127&'Avtalat sortiment'!Q127,\"\")","v":""},{"$f":"IF('Avtalat sortiment'!U127<>\"\",'Avtalat sortiment'!T127&'Avtalat sortiment'!AA127,\"\")","v":""},{"$f":"IF('Avtalat sortiment'!AE127<>\"\",'Avtalat sortiment'!AD127&'Avtalat sortiment'!AK127,\"\")","v":""},{"$f":"IF('Avtalat sortiment'!AO127<>\"\",'Avtalat sortiment'!AN127&'Avtalat sortiment'!AU127,\"\")","v":""},{"$f":"IF('Avtalat sortiment'!AY127<>\"\",'Avtalat sortiment'!AX127&'Avtalat sortiment'!BE127,\"\")","v":""},{"$f":"IF('Avtalat sortiment'!BI127<>\"\",'Avtalat sortiment'!BH127&'Avtalat sortiment'!BO127,\"\")","v":""}]
[null,null,null,null,null,null,null,null,null,{"$f":"IF(Uträkningsmall!$A31=Funktioner!$B$1,IF(Funktioner!$B$3=\"\",\"\",Funktioner!$B$3),IF(Uträkningsmall!$A31=Funktioner!$C$1,IF(Funktioner!$C$3=\"\",\"\",Funktioner!$C$3),IF(Uträkningsmall!$A31=Funktioner!$D$1,IF(Funktioner!$D$3=\"\",\"\",Funktioner!$D$3),IF(Uträkningsmall!$A31=Funktioner!$E$1,IF(Funktioner!$E$3=\"\",\"\",Funktioner!$E$3),IF(Uträkningsmall!$A31=Funktioner!$F$1,IF(Funktioner!$F$3=\"\",\"\",Funktioner!$F$3),IF(Uträkningsmall!$A31=Funktioner!$G$1,IF(Funktioner!$G$3=\"\",\"\",Funktioner!$G$3),IF(Uträkningsmall!$A31=Funktioner!$H$1,IF(Funktioner!$H$3=\"\",\"\",Funktioner!$H$3),IF(Uträkningsmall!$A31=Funktioner!$I$1,IF(Funktioner!$I$3=\"\",\"\",Funktioner!$I$3),IF(Uträkningsmall!$A31=Funktioner!$J$1,IF(Funktioner!$J$3=\"\",\"\",Funktioner!$J$3),IF(Uträkningsmall!$A31=Funktioner!$K$1,IF(Funktioner!$K$3=\"\",\"\",Funktioner!$K$3),IF(Uträkningsmall!$A31=Funktioner!$L$1,IF(Funktioner!$L$3=\"\",\"\",Funktioner!$L$3),IF(Uträkningsmall!$A31=Funktioner!$M$1,IF(Funktioner!$M$3=\"\",\"\",Funktioner!$M$3),IF(Uträkningsmall!$A31=Funktioner!$N$1,IF(Funktioner!$N$3=\"\",\"\",Funktioner!$N$3),IF(Uträkningsmall!$A31=Funktioner!$O$1,IF(Funktioner!$O$3=\"\",\"\",Funktioner!$O$3),IF(Uträkningsmall!$A31=Funktioner!$P$1,IF(Funktioner!$P$3=\"\",\"\",Funktioner!$P$3),IF(Uträkningsmall!$A31=Funktioner!$Q$1,IF(Funktioner!$Q$3=\"\",\"\",Funktioner!$Q$3),IF(Uträkningsmall!$A31=Funktioner!$R$1,IF(Funktioner!$R$3=\"\",\"\",Funktioner!$R$3),IF(Uträkningsmall!$A31=Funktioner!$S$1,IF(Funktioner!$S$3=\"\",\"\",Funktioner!$S$3),IF(Uträkningsmall!$A31=Funktioner!$T$1,IF(Funktioner!$T$3=\"\",\"\",Funktioner!$T$3),IF(Uträkningsmall!$A31=Funktioner!$U$1,IF(Funktioner!$U$3=\"\",\"\",Funktioner!$U$3),IF(Uträkningsmall!$A31=Funktioner!$V$1,IF(Funktioner!$V$3=\"\",\"\",Funktioner!$V$3),IF(Uträkningsmall!$A31=Funktioner!$W$1,IF(Funktioner!$W$3=\"\",\"\",Funktioner!$W$3),IF(Uträkningsmall!$A31=Funktioner!$X$1,IF(Funktioner!$X$3=\"\",\"\",Funktioner!$X$3),IF(Uträkningsmall!$A31=Funktioner!$Y$1,IF(Funktioner!$Y$3=\"\",\"\",Funktioner!$Y$3),IF(Uträkningsmall!$A31=Funktioner!$Z$1,IF(Funktioner!$Z$3=\"\",\"\",Funktioner!$Z$3),IF(Uträkningsmall!$A31=Funktioner!$AA$1,IF(Funktioner!$AA$3=\"\",\"\",Funktioner!$AA$3),IF(Uträkningsmall!$A31=Funktioner!$AB$1,IF(Funktioner!$AB$3=\"\",\"\",Funktioner!$AB$3),IF(Uträkningsmall!$A31=Funktioner!$AC$1,IF(Funktioner!$AC$3=\"\",\"\",Funktioner!$AC$3),IF(Uträkningsmall!$A31=Funktioner!$AD$1,IF(Funktioner!$AD$3=\"\",\"\",Funktioner!$AD$3),IF(Uträkningsmall!$A31=Funktioner!$AE$1,IF(Funktioner!$AE$3=\"\",\"\",Funktioner!$AE$3),IF(Uträkningsmall!$A31=Funktioner!$AF$1,IF(Funktioner!$AF$3=\"\",\"\",Funktioner!$AF$3),IF(Uträkningsmall!$A31=Funktioner!$AG$1,IF(Funktioner!$AG$3=\"\",\"\",Funktioner!$AG$3),IF(Uträkningsmall!$A31=Funktioner!$AH$1,IF(Funktioner!$AH$3=\"\",\"\",Funktioner!$AH$3),IF(Uträkningsmall!$A31=Funktioner!$AI$1,IF(Funktioner!$AI$3=\"\",\"\",Funktioner!$AI$3),IF(Uträkningsmall!$A31=Funktioner!$AJ$1,IF(Funktioner!$AJ$3=\"\",\"\",Funktioner!$AJ$3),IF(Uträkningsmall!$A31=Funktioner!$AK$1,IF(Funktioner!$AK$3=\"\",\"\",Funktioner!$AK$3),IF(Uträkningsmall!$A31=Funktioner!$AL$1,IF(Funktioner!$AL$3=\"\",\"\",Funktioner!$AL$3),IF(Uträkningsmall!$A31=Funktioner!$AM$1,IF(Funktioner!$AM$3=\"\",\"\",Funktioner!$AM$3),IF(Uträkningsmall!$A31=Funktioner!$AN$1,IF(Funktioner!$AN$3=\"\",\"\",Funktioner!$AN$3),IF(Uträkningsmall!$A31=Funktioner!$AO$1,IF(Funktioner!$AO$3=\"\",\"\",Funktioner!$AO$3),IF(Uträkningsmall!$A31=Funktioner!$AP$1,IF(Funktioner!$AP$3=\"\",\"\",Funktioner!$AP$3),IF(Uträkningsmall!$A31=Funktioner!$AQ$1,IF(Funktioner!$AQ$3=\"\",\"\",Funktioner!$AQ$3),IF(Uträkningsmall!$A31=Funktioner!$AR$1,IF(Funktioner!$AR$3=\"\",\"\",Funktioner!$AR$3),IF(Uträkningsmall!$A31=Funktioner!$AS$1,IF(Funktioner!$AS$3=\"\",\"\",Funktioner!$AS$3),IF(Uträkningsmall!$A31=Funktioner!$AT$1,IF(Funktioner!$AT$3=\"\",\"\",Funktioner!$AT$3),IF(Uträkningsmall!$A31=Funktioner!$AU$1,IF(Funktioner!$AU$3=\"\",\"\",Funktioner!$AU$3),IF(Uträkningsmall!$A31=Funktioner!$AV$1,IF(Funktioner!$AV$3=\"\",\"\",Funktioner!$AV$3),\"\")))))))))))))))))))))))))))))))))))))))))))))))","v":""},{"$f":"Uträkningsmall!$A31&Uträkningsmall!$F31","v":""},{"$f":"IFERROR(INDEX('Avtalat sortiment'!$K$3:$R$279,MATCH($K128,Funktioner!$BZ$3:$BZ$280,0),MATCH(L$109,'Avtalat sortiment'!$K$2:$R$2,0)),\"\")","v":0},{"$f":"IFERROR(INDEX('Avtalat sortiment'!$K$3:$R$279,MATCH($K128,Funktioner!$BZ$3:$BZ$280,0),MATCH(M$109,'Avtalat sortiment'!$K$2:$R$2,0)),\"\")","v":0},{"$f":"IFERROR(INDEX('Avtalat sortiment'!$K$3:$R$279,MATCH($K128,Funktioner!$BZ$3:$BZ$280,0),MATCH(N$109,'Avtalat sortiment'!$K$2:$R$2,0)),\"\")","v":0},{"$f":"IFERROR(INDEX('Avtalat sortiment'!$K$3:$R$279,MATCH($K128,Funktioner!$BZ$3:$BZ$280,0),MATCH(O$109,'Avtalat sortiment'!$K$2:$R$2,0)),\"\")","v":0},{"$f":"IFERROR(INDEX('Avtalat sortiment'!$K$3:$R$279,MATCH($K128,Funktioner!$BZ$3:$BZ$280,0),MATCH(P$109,'Avtalat sortiment'!$K$2:$R$2,0)),\"\")","v":0},{"$f":"IFERROR(INDEX('Avtalat sortiment'!$K$3:$R$279,MATCH($K128,Funktioner!$BZ$3:$BZ$280,0),MATCH(Q$109,'Avtalat sortiment'!$K$2:$R$2,0)),\"\")","v":0},{"$f":"IFERROR(INDEX('Avtalat sortiment'!$K$3:$R$279,MATCH($K128,Funktioner!$BZ$3:$BZ$280,0),MATCH(R$109,'Avtalat sortiment'!$K$2:$R$2,0)),\"\")","v":0},{"$f":"IFERROR(INDEX('Avtalat sortiment'!$K$3:$R$279,MATCH($K128,Funktioner!$BZ$3:$BZ$280,0),MATCH(S$109,'Avtalat sortiment'!$K$2:$R$2,0)),\"\")","v":0},{"$f":"IF(Uträkningsmall!$G31=\"\",\"\",IF(U128=\"Kan ej leverera\",240000000,IF(ISNUMBER(L128),L128*Uträkningsmall!$G31,\"\")))","v":""},"",null,{"$f":"IFERROR(INDEX('Avtalat sortiment'!$U$3:$AB$279,MATCH($K128,Funktioner!$CA$3:$CA$280,0),MATCH(W$109,'Avtalat sortiment'!$U$2:$AB$2,0)),\"\")","v":0},{"$f":"IFERROR(INDEX('Avtalat sortiment'!$U$3:$AB$279,MATCH($K128,Funktioner!$CA$3:$CA$280,0),MATCH(X$109,'Avtalat sortiment'!$U$2:$AB$2,0)),\"\")","v":0},{"$f":"IFERROR(INDEX('Avtalat sortiment'!$U$3:$AB$279,MATCH($K128,Funktioner!$CA$3:$CA$280,0),MATCH(Y$109,'Avtalat sortiment'!$U$2:$AB$2,0)),\"\")","v":0},{"$f":"IFERROR(INDEX('Avtalat sortiment'!$U$3:$AB$279,MATCH($K128,Funktioner!$CA$3:$CA$280,0),MATCH(Z$109,'Avtalat sortiment'!$U$2:$AB$2,0)),\"\")","v":0},{"$f":"IFERROR(INDEX('Avtalat sortiment'!$U$3:$AB$279,MATCH($K128,Funktioner!$CA$3:$CA$280,0),MATCH(AA$109,'Avtalat sortiment'!$U$2:$AB$2,0)),\"\")","v":"https://www.procurator.com/svSE/c/Montagehandskar/Montagehandske-konstl%C3%A4der-Worksafe-A100?c=23_02_01&p=U-AR98&a=2052135"},{"$f":"IFERROR(INDEX('Avtalat sortiment'!$U$3:$AB$279,MATCH($K128,Funktioner!$CA$3:$CA$280,0),MATCH(AB$109,'Avtalat sortiment'!$U$2:$AB$2,0)),\"\")","v":"Montagehandske Worksafe A100 "},{"$f":"IFERROR(INDEX('Avtalat sortiment'!$U$3:$AB$279,MATCH($K128,Funktioner!$CA$3:$CA$280,0),MATCH(AC$109,'Avtalat sortiment'!$U$2:$AB$2,0)),\"\")","v":7},{"$f":"IFERROR(INDEX('Avtalat sortiment'!$K$3:$R$279,MATCH($K128,Funktioner!$BZ$3:$BZ$280,0),MATCH(AD$109,'Avtalat sortiment'!$K$2:$R$2,0)),\"\")","v":0},{"$f":"IF(Uträkningsmall!$G31=\"\",\"\",IF(AF128=\"Kan ej leverera\",240000000,IF(ISNUMBER(W128),W128*Uträkningsmall!$G31,\"\")))","v":""},"",null,{"$f":"IFERROR(INDEX('Avtalat sortiment'!$AE$3:$AL$279,MATCH($K128,Funktioner!$CB$3:$CB$280,0),MATCH(AH$109,'Avtalat sortiment'!$AE$2:$AL$2,0)),\"\")","v":0},{"$f":"IFERROR(INDEX('Avtalat sortiment'!$AE$3:$AL$279,MATCH($K128,Funktioner!$CB$3:$CB$280,0),MATCH(AI$109,'Avtalat sortiment'!$AE$2:$AL$2,0)),\"\")","v":0},{"$f":"IFERROR(INDEX('Avtalat sortiment'!$AE$3:$AL$279,MATCH($K128,Funktioner!$CB$3:$CB$280,0),MATCH(AJ$109,'Avtalat sortiment'!$AE$2:$AL$2,0)),\"\")","v":""},{"$f":"IFERROR(INDEX('Avtalat sortiment'!$AE$3:$AL$279,MATCH($K128,Funktioner!$CB$3:$CB$280,0),MATCH(AK$109,'Avtalat sortiment'!$AE$2:$AL$2,0)),\"\")","v":0},{"$f":"IFERROR(INDEX('Avtalat sortiment'!$AE$3:$AL$279,MATCH($K128,Funktioner!$CB$3:$CB$280,0),MATCH(AL$109,'Avtalat sortiment'!$AE$2:$AL$2,0)),\"\")","v":0},{"$f":"IFERROR(INDEX('Avtalat sortiment'!$AE$3:$AL$279,MATCH($K128,Funktioner!$CB$3:$CB$280,0),MATCH(AM$109,'Avtalat sortiment'!$AE$2:$AL$2,0)),\"\")","v":0},{"$f":"IFERROR(INDEX('Avtalat sortiment'!$AE$3:$AL$279,MATCH($K128,Funktioner!$CB$3:$CB$280,0),MATCH(AN$109,'Avtalat sortiment'!$AE$2:$AL$2,0)),\"\")","v":0},{"$f":"IFERROR(INDEX('Avtalat sortiment'!$AE$3:$AL$279,MATCH($K128,Funktioner!$CB$3:$CB$280,0),MATCH(AO$109,'Avtalat sortiment'!$AE$2:$AL$2,0)),\"\")","v":0},{"$f":"IF(Uträkningsmall!$G31=\"\",\"\",IF(AQ128=\"Kan ej leverera\",240000000,IF(ISNUMBER(AH128),AH128*Uträkningsmall!$G31,\"\")))","v":""},"",null,{"$f":"IFERROR(INDEX('Avtalat sortiment'!$AO$3:$AV$257,MATCH($K128,Funktioner!$CC$3:$CC$280,0),MATCH(AS$109,'Avtalat sortiment'!$AO$2:$AV$2,0)),\"\")","v":0},{"$f":"IFERROR(INDEX('Avtalat sortiment'!$AO$3:$AV$257,MATCH($K128,Funktioner!$CC$3:$CC$280,0),MATCH(AT$109,'Avtalat sortiment'!$AO$2:$AV$2,0)),\"\")","v":0},{"$f":"IFERROR(INDEX('Avtalat sortiment'!$AO$3:$AV$257,MATCH($K128,Funktioner!$CC$3:$CC$280,0),MATCH(AU$109,'Avtalat sortiment'!$AO$2:$AV$2,0)),\"\")","v":""},{"$f":"IFERROR(INDEX('Avtalat sortiment'!$AO$3:$AV$257,MATCH($K128,Funktioner!$CC$3:$CC$280,0),MATCH(AV$109,'Avtalat sortiment'!$AO$2:$AV$2,0)),\"\")","v":0},{"$f":"IFERROR(INDEX('Avtalat sortiment'!$AO$3:$AV$257,MATCH($K128,Funktioner!$CC$3:$CC$280,0),MATCH(AW$109,'Avtalat sortiment'!$AO$2:$AV$2,0)),\"\")","v":0},{"$f":"IFERROR(INDEX('Avtalat sortiment'!$AO$3:$AV$257,MATCH($K128,Funktioner!$CC$3:$CC$280,0),MATCH(AX$109,'Avtalat sortiment'!$AO$2:$AV$2,0)),\"\")","v":0},{"$f":"IFERROR(INDEX('Avtalat sortiment'!$AO$3:$AV$257,MATCH($K128,Funktioner!$CC$3:$CC$280,0),MATCH(AY$109,'Avtalat sortiment'!$AO$2:$AV$2,0)),\"\")","v":0},{"$f":"IFERROR(INDEX('Avtalat sortiment'!$AO$3:$AV$257,MATCH($K128,Funktioner!$CC$3:$CC$280,0),MATCH(AZ$109,'Avtalat sortiment'!$AO$2:$AV$2,0)),\"\")","v":0},{"$f":"IF(Uträkningsmall!$G31=\"\",\"\",IF(BB128=\"Kan ej leverera\",240000000,IF(ISNUMBER(AS128),AS128*Uträkningsmall!$G31,\"\")))","v":""},"",null,{"$f":"IFERROR(INDEX('Avtalat sortiment'!$AY$3:$BF$219,MATCH($K128,Funktioner!$CD$3:$CD$280,0),MATCH(BD$109,'Avtalat sortiment'!$AY$2:$BF$2,0)),\"\")","v":0},{"$f":"IFERROR(INDEX('Avtalat sortiment'!$AY$3:$BF$219,MATCH($K128,Funktioner!$CD$3:$CD$280,0),MATCH(BE$109,'Avtalat sortiment'!$AY$2:$BF$2,0)),\"\")","v":0},{"$f":"IFERROR(INDEX('Avtalat sortiment'!$AY$3:$BF$219,MATCH($K128,Funktioner!$CD$3:$CD$280,0),MATCH(BF$109,'Avtalat sortiment'!$AY$2:$BF$2,0)),\"\")","v":""},{"$f":"IFERROR(INDEX('Avtalat sortiment'!$AY$3:$BF$219,MATCH($K128,Funktioner!$CD$3:$CD$280,0),MATCH(BG$109,'Avtalat sortiment'!$AY$2:$BF$2,0)),\"\")","v":269173},{"$f":"IFERROR(INDEX('Avtalat sortiment'!$AY$3:$BF$219,MATCH($K128,Funktioner!$CD$3:$CD$280,0),MATCH(BH$109,'Avtalat sortiment'!$AY$2:$BF$2,0)),\"\")","v":"https://www.lyrecocontract.se/web/ePortal/ctrl?action=showiteminfo&itemNo=269173"},{"$f":"IFERROR(INDEX('Avtalat sortiment'!$AY$3:$BF$219,MATCH($K128,Funktioner!$CD$3:$CD$280,0),MATCH(BI$109,'Avtalat sortiment'!$AY$2:$BF$2,0)),\"\")","v":"Munskydd Typ IIR med öronband Blå 50/FP"},{"$f":"IFERROR(INDEX('Avtalat sortiment'!$AY$3:$BF$219,MATCH($K128,Funktioner!$CD$3:$CD$280,0),MATCH(BJ$109,'Avtalat sortiment'!$AY$2:$BF$2,0)),\"\")","v":0},{"$f":"IFERROR(INDEX('Avtalat sortiment'!$AY$3:$BF$219,MATCH($K128,Funktioner!$CD$3:$CD$280,0),MATCH(BK$109,'Avtalat sortiment'!$AY$2:$BF$2,0)),\"\")","v":"Inväntar återkoppling från vår leverantör, i enlighet med 6.6.2 i underlag anger vi därmed ej pris         "},{"$f":"IF(Uträkningsmall!$G31=\"\",\"\",IF(BM128=\"Kan ej leverera\",240000000,IF(ISNUMBER(BD128),BD128*Uträkningsmall!$G31,\"\")))","v":""},"",null,{"$f":"IFERROR(INDEX('Avtalat sortiment'!$BI$3:$BP$279,MATCH($K128,Funktioner!$CE$3:$CE$280,0),MATCH(BO$109,'Avtalat sortiment'!$BI$2:$BP$2,0)),\"\")","v":0},{"$f":"IFERROR(INDEX('Avtalat sortiment'!$BI$3:$BP$279,MATCH($K128,Funktioner!$CE$3:$CE$280,0),MATCH(BP$109,'Avtalat sortiment'!$BI$2:$BP$2,0)),\"\")","v":0},{"$f":"IFERROR(INDEX('Avtalat sortiment'!$BI$3:$BP$279,MATCH($K128,Funktioner!$CE$3:$CE$280,0),MATCH(BQ$109,'Avtalat sortiment'!$BI$2:$BP$2,0)),\"\")","v":0},{"$f":"IFERROR(INDEX('Avtalat sortiment'!$BI$3:$BP$279,MATCH($K128,Funktioner!$CE$3:$CE$280,0),MATCH(BR$109,'Avtalat sortiment'!$BI$2:$BP$2,0)),\"\")","v":0},{"$f":"IFERROR(INDEX('Avtalat sortiment'!$BI$3:$BP$279,MATCH($K128,Funktioner!$CE$3:$CE$280,0),MATCH(BS$109,'Avtalat sortiment'!$BI$2:$BP$2,0)),\"\")","v":0},{"$f":"IFERROR(INDEX('Avtalat sortiment'!$BI$3:$BP$279,MATCH($K128,Funktioner!$CE$3:$CE$280,0),MATCH(BT$109,'Avtalat sortiment'!$BI$2:$BP$2,0)),\"\")","v":0},{"$f":"IFERROR(INDEX('Avtalat sortiment'!$BI$3:$BP$279,MATCH($K128,Funktioner!$CE$3:$CE$280,0),MATCH(BU$109,'Avtalat sortiment'!$BI$2:$BP$2,0)),\"\")","v":0},{"$f":"IFERROR(INDEX('Avtalat sortiment'!$BI$3:$BP$279,MATCH($K128,Funktioner!$CE$3:$CE$280,0),MATCH(BV$109,'Avtalat sortiment'!$BI$2:$BP$2,0)),\"\")","v":0},{"$f":"IF(Uträkningsmall!$G31=\"\",\"\",IF(BX128=\"Kan ej leverera\",240000000,IF(ISNUMBER(BO128),BO128*Uträkningsmall!$G31,\"\")))","v":""},"",null,{"$f":"IF('Avtalat sortiment'!K128<>\"\",'Avtalat sortiment'!$A128&'Avtalat sortiment'!Q128,\"\")","v":""},{"$f":"IF('Avtalat sortiment'!U128<>\"\",'Avtalat sortiment'!T128&'Avtalat sortiment'!AA128,\"\")","v":""},{"$f":"IF('Avtalat sortiment'!AE128<>\"\",'Avtalat sortiment'!AD128&'Avtalat sortiment'!AK128,\"\")","v":""},{"$f":"IF('Avtalat sortiment'!AO128<>\"\",'Avtalat sortiment'!AN128&'Avtalat sortiment'!AU128,\"\")","v":""},{"$f":"IF('Avtalat sortiment'!AY128<>\"\",'Avtalat sortiment'!AX128&'Avtalat sortiment'!BE128,\"\")","v":""},{"$f":"IF('Avtalat sortiment'!BI128<>\"\",'Avtalat sortiment'!BH128&'Avtalat sortiment'!BO128,\"\")","v":""}]
[null,null,null,null,null,null,null,null,null,{"$f":"IF(Uträkningsmall!$A32=Funktioner!$B$1,IF(Funktioner!$B$3=\"\",\"\",Funktioner!$B$3),IF(Uträkningsmall!$A32=Funktioner!$C$1,IF(Funktioner!$C$3=\"\",\"\",Funktioner!$C$3),IF(Uträkningsmall!$A32=Funktioner!$D$1,IF(Funktioner!$D$3=\"\",\"\",Funktioner!$D$3),IF(Uträkningsmall!$A32=Funktioner!$E$1,IF(Funktioner!$E$3=\"\",\"\",Funktioner!$E$3),IF(Uträkningsmall!$A32=Funktioner!$F$1,IF(Funktioner!$F$3=\"\",\"\",Funktioner!$F$3),IF(Uträkningsmall!$A32=Funktioner!$G$1,IF(Funktioner!$G$3=\"\",\"\",Funktioner!$G$3),IF(Uträkningsmall!$A32=Funktioner!$H$1,IF(Funktioner!$H$3=\"\",\"\",Funktioner!$H$3),IF(Uträkningsmall!$A32=Funktioner!$I$1,IF(Funktioner!$I$3=\"\",\"\",Funktioner!$I$3),IF(Uträkningsmall!$A32=Funktioner!$J$1,IF(Funktioner!$J$3=\"\",\"\",Funktioner!$J$3),IF(Uträkningsmall!$A32=Funktioner!$K$1,IF(Funktioner!$K$3=\"\",\"\",Funktioner!$K$3),IF(Uträkningsmall!$A32=Funktioner!$L$1,IF(Funktioner!$L$3=\"\",\"\",Funktioner!$L$3),IF(Uträkningsmall!$A32=Funktioner!$M$1,IF(Funktioner!$M$3=\"\",\"\",Funktioner!$M$3),IF(Uträkningsmall!$A32=Funktioner!$N$1,IF(Funktioner!$N$3=\"\",\"\",Funktioner!$N$3),IF(Uträkningsmall!$A32=Funktioner!$O$1,IF(Funktioner!$O$3=\"\",\"\",Funktioner!$O$3),IF(Uträkningsmall!$A32=Funktioner!$P$1,IF(Funktioner!$P$3=\"\",\"\",Funktioner!$P$3),IF(Uträkningsmall!$A32=Funktioner!$Q$1,IF(Funktioner!$Q$3=\"\",\"\",Funktioner!$Q$3),IF(Uträkningsmall!$A32=Funktioner!$R$1,IF(Funktioner!$R$3=\"\",\"\",Funktioner!$R$3),IF(Uträkningsmall!$A32=Funktioner!$S$1,IF(Funktioner!$S$3=\"\",\"\",Funktioner!$S$3),IF(Uträkningsmall!$A32=Funktioner!$T$1,IF(Funktioner!$T$3=\"\",\"\",Funktioner!$T$3),IF(Uträkningsmall!$A32=Funktioner!$U$1,IF(Funktioner!$U$3=\"\",\"\",Funktioner!$U$3),IF(Uträkningsmall!$A32=Funktioner!$V$1,IF(Funktioner!$V$3=\"\",\"\",Funktioner!$V$3),IF(Uträkningsmall!$A32=Funktioner!$W$1,IF(Funktioner!$W$3=\"\",\"\",Funktioner!$W$3),IF(Uträkningsmall!$A32=Funktioner!$X$1,IF(Funktioner!$X$3=\"\",\"\",Funktioner!$X$3),IF(Uträkningsmall!$A32=Funktioner!$Y$1,IF(Funktioner!$Y$3=\"\",\"\",Funktioner!$Y$3),IF(Uträkningsmall!$A32=Funktioner!$Z$1,IF(Funktioner!$Z$3=\"\",\"\",Funktioner!$Z$3),IF(Uträkningsmall!$A32=Funktioner!$AA$1,IF(Funktioner!$AA$3=\"\",\"\",Funktioner!$AA$3),IF(Uträkningsmall!$A32=Funktioner!$AB$1,IF(Funktioner!$AB$3=\"\",\"\",Funktioner!$AB$3),IF(Uträkningsmall!$A32=Funktioner!$AC$1,IF(Funktioner!$AC$3=\"\",\"\",Funktioner!$AC$3),IF(Uträkningsmall!$A32=Funktioner!$AD$1,IF(Funktioner!$AD$3=\"\",\"\",Funktioner!$AD$3),IF(Uträkningsmall!$A32=Funktioner!$AE$1,IF(Funktioner!$AE$3=\"\",\"\",Funktioner!$AE$3),IF(Uträkningsmall!$A32=Funktioner!$AF$1,IF(Funktioner!$AF$3=\"\",\"\",Funktioner!$AF$3),IF(Uträkningsmall!$A32=Funktioner!$AG$1,IF(Funktioner!$AG$3=\"\",\"\",Funktioner!$AG$3),IF(Uträkningsmall!$A32=Funktioner!$AH$1,IF(Funktioner!$AH$3=\"\",\"\",Funktioner!$AH$3),IF(Uträkningsmall!$A32=Funktioner!$AI$1,IF(Funktioner!$AI$3=\"\",\"\",Funktioner!$AI$3),IF(Uträkningsmall!$A32=Funktioner!$AJ$1,IF(Funktioner!$AJ$3=\"\",\"\",Funktioner!$AJ$3),IF(Uträkningsmall!$A32=Funktioner!$AK$1,IF(Funktioner!$AK$3=\"\",\"\",Funktioner!$AK$3),IF(Uträkningsmall!$A32=Funktioner!$AL$1,IF(Funktioner!$AL$3=\"\",\"\",Funktioner!$AL$3),IF(Uträkningsmall!$A32=Funktioner!$AM$1,IF(Funktioner!$AM$3=\"\",\"\",Funktioner!$AM$3),IF(Uträkningsmall!$A32=Funktioner!$AN$1,IF(Funktioner!$AN$3=\"\",\"\",Funktioner!$AN$3),IF(Uträkningsmall!$A32=Funktioner!$AO$1,IF(Funktioner!$AO$3=\"\",\"\",Funktioner!$AO$3),IF(Uträkningsmall!$A32=Funktioner!$AP$1,IF(Funktioner!$AP$3=\"\",\"\",Funktioner!$AP$3),IF(Uträkningsmall!$A32=Funktioner!$AQ$1,IF(Funktioner!$AQ$3=\"\",\"\",Funktioner!$AQ$3),IF(Uträkningsmall!$A32=Funktioner!$AR$1,IF(Funktioner!$AR$3=\"\",\"\",Funktioner!$AR$3),IF(Uträkningsmall!$A32=Funktioner!$AS$1,IF(Funktioner!$AS$3=\"\",\"\",Funktioner!$AS$3),IF(Uträkningsmall!$A32=Funktioner!$AT$1,IF(Funktioner!$AT$3=\"\",\"\",Funktioner!$AT$3),IF(Uträkningsmall!$A32=Funktioner!$AU$1,IF(Funktioner!$AU$3=\"\",\"\",Funktioner!$AU$3),IF(Uträkningsmall!$A32=Funktioner!$AV$1,IF(Funktioner!$AV$3=\"\",\"\",Funktioner!$AV$3),\"\")))))))))))))))))))))))))))))))))))))))))))))))","v":""},{"$f":"Uträkningsmall!$A32&Uträkningsmall!$F32","v":""},{"$f":"IFERROR(INDEX('Avtalat sortiment'!$K$3:$R$279,MATCH($K129,Funktioner!$BZ$3:$BZ$280,0),MATCH(L$109,'Avtalat sortiment'!$K$2:$R$2,0)),\"\")","v":0},{"$f":"IFERROR(INDEX('Avtalat sortiment'!$K$3:$R$279,MATCH($K129,Funktioner!$BZ$3:$BZ$280,0),MATCH(M$109,'Avtalat sortiment'!$K$2:$R$2,0)),\"\")","v":0},{"$f":"IFERROR(INDEX('Avtalat sortiment'!$K$3:$R$279,MATCH($K129,Funktioner!$BZ$3:$BZ$280,0),MATCH(N$109,'Avtalat sortiment'!$K$2:$R$2,0)),\"\")","v":0},{"$f":"IFERROR(INDEX('Avtalat sortiment'!$K$3:$R$279,MATCH($K129,Funktioner!$BZ$3:$BZ$280,0),MATCH(O$109,'Avtalat sortiment'!$K$2:$R$2,0)),\"\")","v":0},{"$f":"IFERROR(INDEX('Avtalat sortiment'!$K$3:$R$279,MATCH($K129,Funktioner!$BZ$3:$BZ$280,0),MATCH(P$109,'Avtalat sortiment'!$K$2:$R$2,0)),\"\")","v":0},{"$f":"IFERROR(INDEX('Avtalat sortiment'!$K$3:$R$279,MATCH($K129,Funktioner!$BZ$3:$BZ$280,0),MATCH(Q$109,'Avtalat sortiment'!$K$2:$R$2,0)),\"\")","v":0},{"$f":"IFERROR(INDEX('Avtalat sortiment'!$K$3:$R$279,MATCH($K129,Funktioner!$BZ$3:$BZ$280,0),MATCH(R$109,'Avtalat sortiment'!$K$2:$R$2,0)),\"\")","v":0},{"$f":"IFERROR(INDEX('Avtalat sortiment'!$K$3:$R$279,MATCH($K129,Funktioner!$BZ$3:$BZ$280,0),MATCH(S$109,'Avtalat sortiment'!$K$2:$R$2,0)),\"\")","v":0},{"$f":"IF(Uträkningsmall!$G32=\"\",\"\",IF(U129=\"Kan ej leverera\",240000000,IF(ISNUMBER(L129),L129*Uträkningsmall!$G32,\"\")))","v":""},"",null,{"$f":"IFERROR(INDEX('Avtalat sortiment'!$U$3:$AB$279,MATCH($K129,Funktioner!$CA$3:$CA$280,0),MATCH(W$109,'Avtalat sortiment'!$U$2:$AB$2,0)),\"\")","v":0},{"$f":"IFERROR(INDEX('Avtalat sortiment'!$U$3:$AB$279,MATCH($K129,Funktioner!$CA$3:$CA$280,0),MATCH(X$109,'Avtalat sortiment'!$U$2:$AB$2,0)),\"\")","v":0},{"$f":"IFERROR(INDEX('Avtalat sortiment'!$U$3:$AB$279,MATCH($K129,Funktioner!$CA$3:$CA$280,0),MATCH(Y$109,'Avtalat sortiment'!$U$2:$AB$2,0)),\"\")","v":0},{"$f":"IFERROR(INDEX('Avtalat sortiment'!$U$3:$AB$279,MATCH($K129,Funktioner!$CA$3:$CA$280,0),MATCH(Z$109,'Avtalat sortiment'!$U$2:$AB$2,0)),\"\")","v":0},{"$f":"IFERROR(INDEX('Avtalat sortiment'!$U$3:$AB$279,MATCH($K129,Funktioner!$CA$3:$CA$280,0),MATCH(AA$109,'Avtalat sortiment'!$U$2:$AB$2,0)),\"\")","v":"https://www.procurator.com/svSE/c/Montagehandskar/Montagehandske-konstl%C3%A4der-Worksafe-A100?c=23_02_01&p=U-AR98&a=2052135"},{"$f":"IFERROR(INDEX('Avtalat sortiment'!$U$3:$AB$279,MATCH($K129,Funktioner!$CA$3:$CA$280,0),MATCH(AB$109,'Avtalat sortiment'!$U$2:$AB$2,0)),\"\")","v":"Montagehandske Worksafe A100 "},{"$f":"IFERROR(INDEX('Avtalat sortiment'!$U$3:$AB$279,MATCH($K129,Funktioner!$CA$3:$CA$280,0),MATCH(AC$109,'Avtalat sortiment'!$U$2:$AB$2,0)),\"\")","v":7},{"$f":"IFERROR(INDEX('Avtalat sortiment'!$K$3:$R$279,MATCH($K129,Funktioner!$BZ$3:$BZ$280,0),MATCH(AD$109,'Avtalat sortiment'!$K$2:$R$2,0)),\"\")","v":0},{"$f":"IF(Uträkningsmall!$G32=\"\",\"\",IF(AF129=\"Kan ej leverera\",240000000,IF(ISNUMBER(W129),W129*Uträkningsmall!$G32,\"\")))","v":""},"",null,{"$f":"IFERROR(INDEX('Avtalat sortiment'!$AE$3:$AL$279,MATCH($K129,Funktioner!$CB$3:$CB$280,0),MATCH(AH$109,'Avtalat sortiment'!$AE$2:$AL$2,0)),\"\")","v":0},{"$f":"IFERROR(INDEX('Avtalat sortiment'!$AE$3:$AL$279,MATCH($K129,Funktioner!$CB$3:$CB$280,0),MATCH(AI$109,'Avtalat sortiment'!$AE$2:$AL$2,0)),\"\")","v":0},{"$f":"IFERROR(INDEX('Avtalat sortiment'!$AE$3:$AL$279,MATCH($K129,Funktioner!$CB$3:$CB$280,0),MATCH(AJ$109,'Avtalat sortiment'!$AE$2:$AL$2,0)),\"\")","v":""},{"$f":"IFERROR(INDEX('Avtalat sortiment'!$AE$3:$AL$279,MATCH($K129,Funktioner!$CB$3:$CB$280,0),MATCH(AK$109,'Avtalat sortiment'!$AE$2:$AL$2,0)),\"\")","v":0},{"$f":"IFERROR(INDEX('Avtalat sortiment'!$AE$3:$AL$279,MATCH($K129,Funktioner!$CB$3:$CB$280,0),MATCH(AL$109,'Avtalat sortiment'!$AE$2:$AL$2,0)),\"\")","v":0},{"$f":"IFERROR(INDEX('Avtalat sortiment'!$AE$3:$AL$279,MATCH($K129,Funktioner!$CB$3:$CB$280,0),MATCH(AM$109,'Avtalat sortiment'!$AE$2:$AL$2,0)),\"\")","v":0},{"$f":"IFERROR(INDEX('Avtalat sortiment'!$AE$3:$AL$279,MATCH($K129,Funktioner!$CB$3:$CB$280,0),MATCH(AN$109,'Avtalat sortiment'!$AE$2:$AL$2,0)),\"\")","v":0},{"$f":"IFERROR(INDEX('Avtalat sortiment'!$AE$3:$AL$279,MATCH($K129,Funktioner!$CB$3:$CB$280,0),MATCH(AO$109,'Avtalat sortiment'!$AE$2:$AL$2,0)),\"\")","v":0},{"$f":"IF(Uträkningsmall!$G32=\"\",\"\",IF(AQ129=\"Kan ej leverera\",240000000,IF(ISNUMBER(AH129),AH129*Uträkningsmall!$G32,\"\")))","v":""},"",null,{"$f":"IFERROR(INDEX('Avtalat sortiment'!$AO$3:$AV$257,MATCH($K129,Funktioner!$CC$3:$CC$280,0),MATCH(AS$109,'Avtalat sortiment'!$AO$2:$AV$2,0)),\"\")","v":0},{"$f":"IFERROR(INDEX('Avtalat sortiment'!$AO$3:$AV$257,MATCH($K129,Funktioner!$CC$3:$CC$280,0),MATCH(AT$109,'Avtalat sortiment'!$AO$2:$AV$2,0)),\"\")","v":0},{"$f":"IFERROR(INDEX('Avtalat sortiment'!$AO$3:$AV$257,MATCH($K129,Funktioner!$CC$3:$CC$280,0),MATCH(AU$109,'Avtalat sortiment'!$AO$2:$AV$2,0)),\"\")","v":""},{"$f":"IFERROR(INDEX('Avtalat sortiment'!$AO$3:$AV$257,MATCH($K129,Funktioner!$CC$3:$CC$280,0),MATCH(AV$109,'Avtalat sortiment'!$AO$2:$AV$2,0)),\"\")","v":0},{"$f":"IFERROR(INDEX('Avtalat sortiment'!$AO$3:$AV$257,MATCH($K129,Funktioner!$CC$3:$CC$280,0),MATCH(AW$109,'Avtalat sortiment'!$AO$2:$AV$2,0)),\"\")","v":0},{"$f":"IFERROR(INDEX('Avtalat sortiment'!$AO$3:$AV$257,MATCH($K129,Funktioner!$CC$3:$CC$280,0),MATCH(AX$109,'Avtalat sortiment'!$AO$2:$AV$2,0)),\"\")","v":0},{"$f":"IFERROR(INDEX('Avtalat sortiment'!$AO$3:$AV$257,MATCH($K129,Funktioner!$CC$3:$CC$280,0),MATCH(AY$109,'Avtalat sortiment'!$AO$2:$AV$2,0)),\"\")","v":0},{"$f":"IFERROR(INDEX('Avtalat sortiment'!$AO$3:$AV$257,MATCH($K129,Funktioner!$CC$3:$CC$280,0),MATCH(AZ$109,'Avtalat sortiment'!$AO$2:$AV$2,0)),\"\")","v":0},{"$f":"IF(Uträkningsmall!$G32=\"\",\"\",IF(BB129=\"Kan ej leverera\",240000000,IF(ISNUMBER(AS129),AS129*Uträkningsmall!$G32,\"\")))","v":""},"",null,{"$f":"IFERROR(INDEX('Avtalat sortiment'!$AY$3:$BF$219,MATCH($K129,Funktioner!$CD$3:$CD$280,0),MATCH(BD$109,'Avtalat sortiment'!$AY$2:$BF$2,0)),\"\")","v":0},{"$f":"IFERROR(INDEX('Avtalat sortiment'!$AY$3:$BF$219,MATCH($K129,Funktioner!$CD$3:$CD$280,0),MATCH(BE$109,'Avtalat sortiment'!$AY$2:$BF$2,0)),\"\")","v":0},{"$f":"IFERROR(INDEX('Avtalat sortiment'!$AY$3:$BF$219,MATCH($K129,Funktioner!$CD$3:$CD$280,0),MATCH(BF$109,'Avtalat sortiment'!$AY$2:$BF$2,0)),\"\")","v":""},{"$f":"IFERROR(INDEX('Avtalat sortiment'!$AY$3:$BF$219,MATCH($K129,Funktioner!$CD$3:$CD$280,0),MATCH(BG$109,'Avtalat sortiment'!$AY$2:$BF$2,0)),\"\")","v":269173},{"$f":"IFERROR(INDEX('Avtalat sortiment'!$AY$3:$BF$219,MATCH($K129,Funktioner!$CD$3:$CD$280,0),MATCH(BH$109,'Avtalat sortiment'!$AY$2:$BF$2,0)),\"\")","v":"https://www.lyrecocontract.se/web/ePortal/ctrl?action=showiteminfo&itemNo=269173"},{"$f":"IFERROR(INDEX('Avtalat sortiment'!$AY$3:$BF$219,MATCH($K129,Funktioner!$CD$3:$CD$280,0),MATCH(BI$109,'Avtalat sortiment'!$AY$2:$BF$2,0)),\"\")","v":"Munskydd Typ IIR med öronband Blå 50/FP"},{"$f":"IFERROR(INDEX('Avtalat sortiment'!$AY$3:$BF$219,MATCH($K129,Funktioner!$CD$3:$CD$280,0),MATCH(BJ$109,'Avtalat sortiment'!$AY$2:$BF$2,0)),\"\")","v":0},{"$f":"IFERROR(INDEX('Avtalat sortiment'!$AY$3:$BF$219,MATCH($K129,Funktioner!$CD$3:$CD$280,0),MATCH(BK$109,'Avtalat sortiment'!$AY$2:$BF$2,0)),\"\")","v":"Inväntar återkoppling från vår leverantör, i enlighet med 6.6.2 i underlag anger vi därmed ej pris         "},{"$f":"IF(Uträkningsmall!$G32=\"\",\"\",IF(BM129=\"Kan ej leverera\",240000000,IF(ISNUMBER(BD129),BD129*Uträkningsmall!$G32,\"\")))","v":""},"",null,{"$f":"IFERROR(INDEX('Avtalat sortiment'!$BI$3:$BP$279,MATCH($K129,Funktioner!$CE$3:$CE$280,0),MATCH(BO$109,'Avtalat sortiment'!$BI$2:$BP$2,0)),\"\")","v":0},{"$f":"IFERROR(INDEX('Avtalat sortiment'!$BI$3:$BP$279,MATCH($K129,Funktioner!$CE$3:$CE$280,0),MATCH(BP$109,'Avtalat sortiment'!$BI$2:$BP$2,0)),\"\")","v":0},{"$f":"IFERROR(INDEX('Avtalat sortiment'!$BI$3:$BP$279,MATCH($K129,Funktioner!$CE$3:$CE$280,0),MATCH(BQ$109,'Avtalat sortiment'!$BI$2:$BP$2,0)),\"\")","v":0},{"$f":"IFERROR(INDEX('Avtalat sortiment'!$BI$3:$BP$279,MATCH($K129,Funktioner!$CE$3:$CE$280,0),MATCH(BR$109,'Avtalat sortiment'!$BI$2:$BP$2,0)),\"\")","v":0},{"$f":"IFERROR(INDEX('Avtalat sortiment'!$BI$3:$BP$279,MATCH($K129,Funktioner!$CE$3:$CE$280,0),MATCH(BS$109,'Avtalat sortiment'!$BI$2:$BP$2,0)),\"\")","v":0},{"$f":"IFERROR(INDEX('Avtalat sortiment'!$BI$3:$BP$279,MATCH($K129,Funktioner!$CE$3:$CE$280,0),MATCH(BT$109,'Avtalat sortiment'!$BI$2:$BP$2,0)),\"\")","v":0},{"$f":"IFERROR(INDEX('Avtalat sortiment'!$BI$3:$BP$279,MATCH($K129,Funktioner!$CE$3:$CE$280,0),MATCH(BU$109,'Avtalat sortiment'!$BI$2:$BP$2,0)),\"\")","v":0},{"$f":"IFERROR(INDEX('Avtalat sortiment'!$BI$3:$BP$279,MATCH($K129,Funktioner!$CE$3:$CE$280,0),MATCH(BV$109,'Avtalat sortiment'!$BI$2:$BP$2,0)),\"\")","v":0},{"$f":"IF(Uträkningsmall!$G32=\"\",\"\",IF(BX129=\"Kan ej leverera\",240000000,IF(ISNUMBER(BO129),BO129*Uträkningsmall!$G32,\"\")))","v":""},"",null,{"$f":"IF('Avtalat sortiment'!K129<>\"\",'Avtalat sortiment'!$A129&'Avtalat sortiment'!Q129,\"\")","v":""},{"$f":"IF('Avtalat sortiment'!U129<>\"\",'Avtalat sortiment'!T129&'Avtalat sortiment'!AA129,\"\")","v":""},{"$f":"IF('Avtalat sortiment'!AE129<>\"\",'Avtalat sortiment'!AD129&'Avtalat sortiment'!AK129,\"\")","v":""},{"$f":"IF('Avtalat sortiment'!AO129<>\"\",'Avtalat sortiment'!AN129&'Avtalat sortiment'!AU129,\"\")","v":""},{"$f":"IF('Avtalat sortiment'!AY129<>\"\",'Avtalat sortiment'!AX129&'Avtalat sortiment'!BE129,\"\")","v":""},{"$f":"IF('Avtalat sortiment'!BI129<>\"\",'Avtalat sortiment'!BH129&'Avtalat sortiment'!BO129,\"\")","v":""}]
[null,null,null,null,null,null,null,null,null,null,{"$f":"K110&K111&K112&K113&K114&K115&K116&K117&K118&K119&K120&K121&K122&K123&K124&K125&K126&K127&K128&K129","v":""},null,{"$f":"MAX(M$110:M$129)","v":0},null,null,null,null,null,"Totalsumma",{"$f":"SUM(T110:T129)","v":0},null,null,null,{"$f":"MAX(X$110:X$129)","v":0},null,null,null,null,null,"Totalsumma",{"$f":"SUM(AE110:AE129)","v":0},null,null,null,{"$f":"MAX(AI$110:AI$129)","v":0},null,null,null,null,null,"Totalsumma",{"$f":"SUM(AP110:AP129)","v":0},null,null,null,{"$f":"MAX(AT$110:AT$129)","v":0},null,null,null,null,null,"Totalsumma",{"$f":"SUM(BA110:BA129)","v":0},null,null,null,{"$f":"MAX(BE$110:BE$129)","v":0},null,null,null,null,null,"Totalsumma",{"$f":"SUM(BL110:BL129)","v":0},null,null,null,{"$f":"MAX(BP$110:BP$129)","v":0},null,null,null,null,null,"Totalsumma",{"$f":"SUM(BW110:BW129)","v":0},null,null,{"$f":"IF('Avtalat sortiment'!K130<>\"\",'Avtalat sortiment'!$A130&'Avtalat sortiment'!Q130,\"\")","v":""},{"$f":"IF('Avtalat sortiment'!U130<>\"\",'Avtalat sortiment'!T130&'Avtalat sortiment'!AA130,\"\")","v":""},{"$f":"IF('Avtalat sortiment'!AE130<>\"\",'Avtalat sortiment'!AD130&'Avtalat sortiment'!AK130,\"\")","v":""},{"$f":"IF('Avtalat sortiment'!AO130<>\"\",'Avtalat sortiment'!AN130&'Avtalat sortiment'!AU130,\"\")","v":""},{"$f":"IF('Avtalat sortiment'!AY130<>\"\",'Avtalat sortiment'!AX130&'Avtalat sortiment'!BE130,\"\")","v":""},{"$f":"IF('Avtalat sortiment'!BI130<>\"\",'Avtalat sortiment'!BH130&'Avtalat sortiment'!BO130,\"\")","v":""}]
[null,null,null,null,null,null,null,null,null,null,null,null,null,null,null,null,null,null,null,null,null,null,null,null,null,null,null,null,null,null,null,null,null,null,null,null,null,null,null,null,null,null,null,null,null,null,null,null,null,null,null,null,null,null,null,null,null,null,null,null,null,null,null,null,null,null,null,null,null,null,null,null,null,null,null,null,null,{"$f":"IF('Avtalat sortiment'!K131<>\"\",'Avtalat sortiment'!$A131&'Avtalat sortiment'!Q131,\"\")","v":""},{"$f":"IF('Avtalat sortiment'!U131<>\"\",'Avtalat sortiment'!T131&'Avtalat sortiment'!AA131,\"\")","v":""},{"$f":"IF('Avtalat sortiment'!AE131<>\"\",'Avtalat sortiment'!AD131&'Avtalat sortiment'!AK131,\"\")","v":""},{"$f":"IF('Avtalat sortiment'!AO131<>\"\",'Avtalat sortiment'!AN131&'Avtalat sortiment'!AU131,\"\")","v":""},{"$f":"IF('Avtalat sortiment'!AY131<>\"\",'Avtalat sortiment'!AX131&'Avtalat sortiment'!BE131,\"\")","v":""},{"$f":"IF('Avtalat sortiment'!BI131<>\"\",'Avtalat sortiment'!BH131&'Avtalat sortiment'!BO131,\"\")","v":""}]
[null,null,null,null,null,null,null,null,null,null,null,null,null,null,null,null,null,null,null,null,null,null,null,null,null,null,null,null,null,null,null,null,null,null,null,null,null,null,null,null,null,null,null,null,null,null,null,null,null,null,null,null,null,null,null,null,null,null,null,null,null,null,null,null,null,null,null,null,null,null,null,null,null,null,null,null,null,{"$f":"IF('Avtalat sortiment'!K132<>\"\",'Avtalat sortiment'!$A132&'Avtalat sortiment'!Q132,\"\")","v":""},{"$f":"IF('Avtalat sortiment'!U132<>\"\",'Avtalat sortiment'!T132&'Avtalat sortiment'!AA132,\"\")","v":""},{"$f":"IF('Avtalat sortiment'!AE132<>\"\",'Avtalat sortiment'!AD132&'Avtalat sortiment'!AK132,\"\")","v":""},{"$f":"IF('Avtalat sortiment'!AO132<>\"\",'Avtalat sortiment'!AN132&'Avtalat sortiment'!AU132,\"\")","v":""},{"$f":"IF('Avtalat sortiment'!AY132<>\"\",'Avtalat sortiment'!AX132&'Avtalat sortiment'!BE132,\"\")","v":""},{"$f":"IF('Avtalat sortiment'!BI132<>\"\",'Avtalat sortiment'!BH132&'Avtalat sortiment'!BO132,\"\")","v":""}]
[null,null,null,null,null,null,null,null,null,null,"Ramavtalsleverantör",{"$f":"'Avtalat sortiment'!K1","v":"Voky AB"},{"$f":"'Avtalat sortiment'!T1","v":"Procurator Sverige AB"},{"$f":"'Avtalat sortiment'!AD1","v":"Office Depot Svenska AB"},{"$f":"'Avtalat sortiment'!AN1","v":"Mediq Sverige AB"},{"$f":"'Avtalat sortiment'!AX1","v":"Lyreco Advantage Sweden AB"},{"$f":"'Avtalat sortiment'!BH1","v":"OneMed Sverige AB"},null,null,null,null,null,null,null,null,null,null,null,null,null,null,null,null,null,null,null,null,null,null,null,null,null,null,null,null,null,null,null,null,null,null,null,null,null,null,null,null,null,null,null,null,null,null,null,null,null,null,null,null,null,null,null,null,null,null,null,null,{"$f":"IF('Avtalat sortiment'!K133<>\"\",'Avtalat sortiment'!$A133&'Avtalat sortiment'!Q133,\"\")","v":""},{"$f":"IF('Avtalat sortiment'!U133<>\"\",'Avtalat sortiment'!T133&'Avtalat sortiment'!AA133,\"\")","v":""},{"$f":"IF('Avtalat sortiment'!AE133<>\"\",'Avtalat sortiment'!AD133&'Avtalat sortiment'!AK133,\"\")","v":""},{"$f":"IF('Avtalat sortiment'!AO133<>\"\",'Avtalat sortiment'!AN133&'Avtalat sortiment'!AU133,\"\")","v":""},{"$f":"IF('Avtalat sortiment'!AY133<>\"\",'Avtalat sortiment'!AX133&'Avtalat sortiment'!BE133,\"\")","v":""},{"$f":"IF('Avtalat sortiment'!BI133<>\"\",'Avtalat sortiment'!BH133&'Avtalat sortiment'!BO133,\"\")","v":""}]
[null,null,null,null,null,null,null,null,null,null,"Organisationsnummer",{"$f":"'Storlekar & Kontaktuppgifter'!B19","v":"556815-9072"},{"$f":"'Storlekar & Kontaktuppgifter'!C19","v":"556057-6554"},{"$f":"'Storlekar & Kontaktuppgifter'!D19","v":"556024-9558"},{"$f":"'Storlekar & Kontaktuppgifter'!E19","v":"556252-2317"},{"$f":"'Storlekar & Kontaktuppgifter'!F19","v":"556091-3591"},{"$f":"'Storlekar & Kontaktuppgifter'!G19","v":"556764-4140"},null,null,null,null,null,null,null,null,null,null,null,null,null,null,null,null,null,null,null,null,null,null,null,null,null,null,null,null,null,null,null,null,null,null,null,null,null,null,null,null,null,null,null,null,null,null,null,null,null,null,null,null,null,null,null,null,null,null,null,null,{"$f":"IF('Avtalat sortiment'!K134<>\"\",'Avtalat sortiment'!$A134&'Avtalat sortiment'!Q134,\"\")","v":""},{"$f":"IF('Avtalat sortiment'!U134<>\"\",'Avtalat sortiment'!T134&'Avtalat sortiment'!AA134,\"\")","v":""},{"$f":"IF('Avtalat sortiment'!AE134<>\"\",'Avtalat sortiment'!AD134&'Avtalat sortiment'!AK134,\"\")","v":""},{"$f":"IF('Avtalat sortiment'!AO134<>\"\",'Avtalat sortiment'!AN134&'Avtalat sortiment'!AU134,\"\")","v":""},{"$f":"IF('Avtalat sortiment'!AY134<>\"\",'Avtalat sortiment'!AX134&'Avtalat sortiment'!BE134,\"\")","v":""},{"$f":"IF('Avtalat sortiment'!BI134<>\"\",'Avtalat sortiment'!BH134&'Avtalat sortiment'!BO134,\"\")","v":""}]
[null,null,null,null,null,null,null,null,null,null,"Kontaktperson",{"$f":"'Storlekar & Kontaktuppgifter'!B20","v":"David Landin"},{"$f":"'Storlekar & Kontaktuppgifter'!C20","v":"Patrik Lindqvist"},{"$f":"'Storlekar & Kontaktuppgifter'!D20","v":"Fredrik Onsér"},{"$f":"'Storlekar & Kontaktuppgifter'!E20","v":"Carina Nilsson"},{"$f":"'Storlekar & Kontaktuppgifter'!F20","v":"Magnus Parenmark"},{"$f":"'Storlekar & Kontaktuppgifter'!G20","v":"Marlene Hansson"},null,null,null,null,null,null,null,null,null,null,null,null,null,null,null,null,null,null,null,null,null,null,null,null,null,null,null,null,null,null,null,null,null,null,null,null,null,null,null,null,null,null,null,null,null,null,null,null,null,null,null,null,null,null,null,null,null,null,null,null,{"$f":"IF('Avtalat sortiment'!K135<>\"\",'Avtalat sortiment'!$A135&'Avtalat sortiment'!Q135,\"\")","v":""},{"$f":"IF('Avtalat sortiment'!U135<>\"\",'Avtalat sortiment'!T135&'Avtalat sortiment'!AA135,\"\")","v":""},{"$f":"IF('Avtalat sortiment'!AE135<>\"\",'Avtalat sortiment'!AD135&'Avtalat sortiment'!AK135,\"\")","v":""},{"$f":"IF('Avtalat sortiment'!AO135<>\"\",'Avtalat sortiment'!AN135&'Avtalat sortiment'!AU135,\"\")","v":""},{"$f":"IF('Avtalat sortiment'!AY135<>\"\",'Avtalat sortiment'!AX135&'Avtalat sortiment'!BE135,\"\")","v":""},{"$f":"IF('Avtalat sortiment'!BI135<>\"\",'Avtalat sortiment'!BH135&'Avtalat sortiment'!BO135,\"\")","v":""}]
[null,null,null,null,null,null,null,null,null,null,"Telefonnummer",{"$f":"'Storlekar & Kontaktuppgifter'!B21","v":"010-155 60 59"},{"$f":"'Storlekar & Kontaktuppgifter'!C21","v":"010-604 00 74"},{"$f":"'Storlekar & Kontaktuppgifter'!D21","v":"072-374 85 91"},{"$f":"'Storlekar & Kontaktuppgifter'!E21","v":"031-3889000"},{"$f":"'Storlekar & Kontaktuppgifter'!F21","v":"070-6982272"},{"$f":"'Storlekar & Kontaktuppgifter'!G21","v":"070-666 80 22"},null,null,null,null,null,null,null,null,null,null,null,null,null,null,null,null,null,null,null,null,null,null,null,null,null,null,null,null,null,null,null,null,null,null,null,null,null,null,null,null,null,null,null,null,null,null,null,null,null,null,null,null,null,null,null,null,null,null,null,null,{"$f":"IF('Avtalat sortiment'!K136<>\"\",'Avtalat sortiment'!$A136&'Avtalat sortiment'!Q136,\"\")","v":""},{"$f":"IF('Avtalat sortiment'!U136<>\"\",'Avtalat sortiment'!T136&'Avtalat sortiment'!AA136,\"\")","v":""},{"$f":"IF('Avtalat sortiment'!AE136<>\"\",'Avtalat sortiment'!AD136&'Avtalat sortiment'!AK136,\"\")","v":""},{"$f":"IF('Avtalat sortiment'!AO136<>\"\",'Avtalat sortiment'!AN136&'Avtalat sortiment'!AU136,\"\")","v":""},{"$f":"IF('Avtalat sortiment'!AY136<>\"\",'Avtalat sortiment'!AX136&'Avtalat sortiment'!BE136,\"\")","v":""},{"$f":"IF('Avtalat sortiment'!BI136<>\"\",'Avtalat sortiment'!BH136&'Avtalat sortiment'!BO136,\"\")","v":""}]
[null,null,null,null,null,null,null,null,null,null,"E-postadress",{"$f":"'Storlekar & Kontaktuppgifter'!B22","v":"su@profilservice.se"},{"$f":"'Storlekar & Kontaktuppgifter'!C22","v":"order.public.se@procurator.com"},{"$f":"'Storlekar & Kontaktuppgifter'!D22","v":"kammarkollegiet-ppe@officedepot.se"},{"$f":"'Storlekar & Kontaktuppgifter'!E22","v":"kundservice@mediq.com"},{"$f":"'Storlekar & Kontaktuppgifter'!F22","v":"anbud.corporate.SE@lyreco.com"},{"$f":"'Storlekar & Kontaktuppgifter'!G22","v":"kundservice@onemed.com"},null,null,null,null,null,null,null,null,null,null,null,null,null,null,null,null,null,null,null,null,null,null,null,null,null,null,null,null,null,null,null,null,null,null,null,null,null,null,null,null,null,null,null,null,null,null,null,null,null,null,null,null,null,null,null,null,null,null,null,null,{"$f":"IF('Avtalat sortiment'!K137<>\"\",'Avtalat sortiment'!$A137&'Avtalat sortiment'!Q137,\"\")","v":""},{"$f":"IF('Avtalat sortiment'!U137<>\"\",'Avtalat sortiment'!T137&'Avtalat sortiment'!AA137,\"\")","v":""},{"$f":"IF('Avtalat sortiment'!AE137<>\"\",'Avtalat sortiment'!AD137&'Avtalat sortiment'!AK137,\"\")","v":""},{"$f":"IF('Avtalat sortiment'!AO137<>\"\",'Avtalat sortiment'!AN137&'Avtalat sortiment'!AU137,\"\")","v":""},{"$f":"IF('Avtalat sortiment'!AY137<>\"\",'Avtalat sortiment'!AX137&'Avtalat sortiment'!BE137,\"\")","v":""},{"$f":"IF('Avtalat sortiment'!BI137<>\"\",'Avtalat sortiment'!BH137&'Avtalat sortiment'!BO137,\"\")","v":""}]
[null,null,null,null,null,null,null,null,null,null,"Totalpris",{"$f":"IF($K$130=\"\",\"\",IF(Funktioner!$T$130=0,240000000,Funktioner!$T$130))","v":""},{"$f":"IF($K$130=\"\",\"\",IF(Funktioner!$AE$130=0,240000000,Funktioner!$AE$130))","v":""},{"$f":"IF($K$130=\"\",\"\",IF(Funktioner!$AP$130=0,240000000,Funktioner!$AP$130))","v":""},{"$f":"IF($K$130=\"\",\"\",IF(Funktioner!$BA$130=0,240000000,Funktioner!$BA$130))","v":""},{"$f":"IF($K$130=\"\",\"\",IF(Funktioner!$BL$130=0,240000000,Funktioner!$BL$130))","v":""},{"$f":"IF($K$130=\"\",\"\",IF(Funktioner!$BW$130=0,240000000,Funktioner!$BW$130))","v":""},null,null,null,null,null,null,null,null,null,null,null,null,null,null,null,null,null,null,null,null,null,null,null,null,null,null,null,null,null,null,null,null,null,null,null,null,null,null,null,null,null,null,null,null,null,null,null,null,null,null,null,null,null,null,null,null,null,null,null,null,{"$f":"IF('Avtalat sortiment'!K138<>\"\",'Avtalat sortiment'!$A138&'Avtalat sortiment'!Q138,\"\")","v":""},{"$f":"IF('Avtalat sortiment'!U138<>\"\",'Avtalat sortiment'!T138&'Avtalat sortiment'!AA138,\"\")","v":""},{"$f":"IF('Avtalat sortiment'!AE138<>\"\",'Avtalat sortiment'!AD138&'Avtalat sortiment'!AK138,\"\")","v":""},{"$f":"IF('Avtalat sortiment'!AO138<>\"\",'Avtalat sortiment'!AN138&'Avtalat sortiment'!AU138,\"\")","v":""},{"$f":"IF('Avtalat sortiment'!AY138<>\"\",'Avtalat sortiment'!AX138&'Avtalat sortiment'!BE138,\"\")","v":""},{"$f":"IF('Avtalat sortiment'!BI138<>\"\",'Avtalat sortiment'!BH138&'Avtalat sortiment'!BO138,\"\")","v":""}]
[null,null,null,null,null,null,null,null,null,null,null,null,null,null,null,null,null,null,null,null,null,null,null,null,null,null,null,null,null,null,null,null,null,null,null,null,null,null,null,null,null,null,null,null,null,null,null,null,null,null,null,null,null,null,null,null,null,null,null,null,null,null,null,null,null,null,null,null,null,null,null,null,null,null,null,null,null,{"$f":"IF('Avtalat sortiment'!K139<>\"\",'Avtalat sortiment'!$A139&'Avtalat sortiment'!Q139,\"\")","v":""},{"$f":"IF('Avtalat sortiment'!U139<>\"\",'Avtalat sortiment'!T139&'Avtalat sortiment'!AA139,\"\")","v":""},{"$f":"IF('Avtalat sortiment'!AE139<>\"\",'Avtalat sortiment'!AD139&'Avtalat sortiment'!AK139,\"\")","v":""},{"$f":"IF('Avtalat sortiment'!AO139<>\"\",'Avtalat sortiment'!AN139&'Avtalat sortiment'!AU139,\"\")","v":""},{"$f":"IF('Avtalat sortiment'!AY139<>\"\",'Avtalat sortiment'!AX139&'Avtalat sortiment'!BE139,\"\")","v":""},{"$f":"IF('Avtalat sortiment'!BI139<>\"\",'Avtalat sortiment'!BH139&'Avtalat sortiment'!BO139,\"\")","v":""}]
[null,null,null,null,null,null,null,null,null,null,"Rangordning:",{"$f":"IF(L$138=\"\",\"\",_xlfn.RANK.EQ(L$138,$L$138:$Q$138,1))","v":""},"","","","","",null,null,null,null,null,null,null,null,null,null,null,null,null,null,null,null,null,null,null,null,null,null,null,null,null,null,null,null,null,null,null,null,null,null,null,null,null,null,null,null,null,null,null,null,null,null,null,null,null,null,null,null,null,null,null,null,null,null,null,null,{"$f":"IF('Avtalat sortiment'!K140<>\"\",'Avtalat sortiment'!$A140&'Avtalat sortiment'!Q140,\"\")","v":""},{"$f":"IF('Avtalat sortiment'!U140<>\"\",'Avtalat sortiment'!T140&'Avtalat sortiment'!AA140,\"\")","v":""},{"$f":"IF('Avtalat sortiment'!AE140<>\"\",'Avtalat sortiment'!AD140&'Avtalat sortiment'!AK140,\"\")","v":""},{"$f":"IF('Avtalat sortiment'!AO140<>\"\",'Avtalat sortiment'!AN140&'Avtalat sortiment'!AU140,\"\")","v":""},{"$f":"IF('Avtalat sortiment'!AY140<>\"\",'Avtalat sortiment'!AX140&'Avtalat sortiment'!BE140,\"\")","v":""},{"$f":"IF('Avtalat sortiment'!BI140<>\"\",'Avtalat sortiment'!BH140&'Avtalat sortiment'!BO140,\"\")","v":""}]
[null,null,null,null,null,null,null,null,null,null,null,{"$f":"IF(L$140=\"\",\"\",L$140+0.01)","v":""},{"$f":"IF(M$140=\"\",\"\",M$140+0.02)","v":""},{"$f":"IF(N$140=\"\",\"\",N$140+0.03)","v":""},{"$f":"IF(O$140=\"\",\"\",O$140+0.04)","v":""},{"$f":"IF(P$140=\"\",\"\",P$140+0.05)","v":""},{"$f":"IF(Q$140=\"\",\"\",Q$140+0.06)","v":""},null,null,null,null,null,null,null,null,null,null,null,null,null,null,null,null,null,null,null,null,null,null,null,null,null,null,null,null,null,null,null,null,null,null,null,null,null,null,null,null,null,null,null,null,null,null,null,null,null,null,null,null,null,null,null,null,null,null,null,null,{"$f":"IF('Avtalat sortiment'!K141<>\"\",'Avtalat sortiment'!$A141&'Avtalat sortiment'!Q141,\"\")","v":""},{"$f":"IF('Avtalat sortiment'!U141<>\"\",'Avtalat sortiment'!T141&'Avtalat sortiment'!AA141,\"\")","v":""},{"$f":"IF('Avtalat sortiment'!AE141<>\"\",'Avtalat sortiment'!AD141&'Avtalat sortiment'!AK141,\"\")","v":""},{"$f":"IF('Avtalat sortiment'!AO141<>\"\",'Avtalat sortiment'!AN141&'Avtalat sortiment'!AU141,\"\")","v":""},{"$f":"IF('Avtalat sortiment'!AY141<>\"\",'Avtalat sortiment'!AX141&'Avtalat sortiment'!BE141,\"\")","v":""},{"$f":"IF('Avtalat sortiment'!BI141<>\"\",'Avtalat sortiment'!BH141&'Avtalat sortiment'!BO141,\"\")","v":""}]
[null,null,null,null,null,null,null,null,null,null,null,{"$f":"IF(L$141=\"\",\"\",_xlfn.RANK.EQ(L$141,$L$141:$Q$141,1))","v":""},"","","","","",null,null,null,null,null,null,null,null,null,null,null,null,null,null,null,null,null,null,null,null,null,null,null,null,null,null,null,null,null,null,null,null,null,null,null,null,null,null,null,null,null,null,null,null,null,null,null,null,null,null,null,null,null,null,null,null,null,null,null,null,{"$f":"IF('Avtalat sortiment'!K142<>\"\",'Avtalat sortiment'!$A142&'Avtalat sortiment'!Q142,\"\")","v":""},{"$f":"IF('Avtalat sortiment'!U142<>\"\",'Avtalat sortiment'!T142&'Avtalat sortiment'!AA142,\"\")","v":""},{"$f":"IF('Avtalat sortiment'!AE142<>\"\",'Avtalat sortiment'!AD142&'Avtalat sortiment'!AK142,\"\")","v":""},{"$f":"IF('Avtalat sortiment'!AO142<>\"\",'Avtalat sortiment'!AN142&'Avtalat sortiment'!AU142,\"\")","v":""},{"$f":"IF('Avtalat sortiment'!AY142<>\"\",'Avtalat sortiment'!AX142&'Avtalat sortiment'!BE142,\"\")","v":""},{"$f":"IF('Avtalat sortiment'!BI142<>\"\",'Avtalat sortiment'!BH142&'Avtalat sortiment'!BO142,\"\")","v":""}]
[null,null,null,null,null,null,null,null,null,null,null,null,null,null,{"$f":"SUM(Uträkningsmall!G13:G32)","v":0},null,null,null,null,null,null,null,null,null,null,null,null,null,null,null,null,null,null,null,null,null,null,null,null,null,null,null,null,null,null,null,null,null,null,null,null,null,null,null,null,null,null,null,null,null,null,null,null,null,null,null,null,null,null,null,null,null,null,null,null,null,null,{"$f":"IF('Avtalat sortiment'!K143<>\"\",'Avtalat sortiment'!$A143&'Avtalat sortiment'!Q143,\"\")","v":""},{"$f":"IF('Avtalat sortiment'!U143<>\"\",'Avtalat sortiment'!T143&'Avtalat sortiment'!AA143,\"\")","v":""},{"$f":"IF('Avtalat sortiment'!AE143<>\"\",'Avtalat sortiment'!AD143&'Avtalat sortiment'!AK143,\"\")","v":""},{"$f":"IF('Avtalat sortiment'!AO143<>\"\",'Avtalat sortiment'!AN143&'Avtalat sortiment'!AU143,\"\")","v":""},{"$f":"IF('Avtalat sortiment'!AY143<>\"\",'Avtalat sortiment'!AX143&'Avtalat sortiment'!BE143,\"\")","v":""},{"$f":"IF('Avtalat sortiment'!BI143<>\"\",'Avtalat sortiment'!BH143&'Avtalat sortiment'!BO143,\"\")","v":""}]
[null,null,null,null,null,null,null,null,null,null,"Rangordning","Ramavtalsleverantör","Totalpris","Leveranstid","Ramavtalsleverantör","Totalpris","Leveranstid",null,"Ramavtalsleverantör",{"$f":"IF(OR($S$152=0,$S$152>239000000),\"\",IF($T$152=K145,L145,IF($T$152=K146,L146,IF($T$152=K147,L147,IF($T$152=K148,L148,IF($T$152=K149,L149,IF($T$152=K150,L150,IF($T$152=K151,L151,IF($T$152=K152,L152,\"\")))))))))","v":""},null,"Ramavtalsleverantör","Totalpris","Leveranstid",null,null,null,null,null,null,null,null,null,null,null,null,null,null,null,null,null,null,null,null,null,null,null,null,null,null,null,null,null,null,null,null,null,null,null,null,null,null,null,null,null,null,null,null,null,null,null,null,null,null,null,null,null,{"$f":"IF('Avtalat sortiment'!K144<>\"\",'Avtalat sortiment'!$A144&'Avtalat sortiment'!Q144,\"\")","v":""},{"$f":"IF('Avtalat sortiment'!U144<>\"\",'Avtalat sortiment'!T144&'Avtalat sortiment'!AA144,\"\")","v":""},{"$f":"IF('Avtalat sortiment'!AE144<>\"\",'Avtalat sortiment'!AD144&'Avtalat sortiment'!AK144,\"\")","v":""},{"$f":"IF('Avtalat sortiment'!AO144<>\"\",'Avtalat sortiment'!AN144&'Avtalat sortiment'!AU144,\"\")","v":""},{"$f":"IF('Avtalat sortiment'!AY144<>\"\",'Avtalat sortiment'!AX144&'Avtalat sortiment'!BE144,\"\")","v":""},{"$f":"IF('Avtalat sortiment'!BI144<>\"\",'Avtalat sortiment'!BH144&'Avtalat sortiment'!BO144,\"\")","v":""}]
[null,null,null,null,null,null,null,null,null,null,1,{"$f":"IF($S$152=0,\"\",IF($L$142=$K145,$L$133,IF($M$142=$K145,$M$133,IF($N$142=$K145,$N$133,IF($O$142=$K145,$O$133,IF($P$142=$K145,$P$133,IF($Q$142=$K145,$Q$133)))))))","v":""},{"$f":"IF($S$152=0,\"\",IF($L$142=$K145,$L$138,IF($M$142=$K145,$M$138,IF($N$142=$K145,$N$138,IF($O$142=$K145,$O$138,IF($P$142=$K145,$P$138,IF($Q$142=$K145,$Q$138)))))))","v":""},{"$f":"IF($S$152=0,\"\",IF($L$142=$K145,$M$130,IF($M$142=$K145,$X$130,IF($N$142=$K145,$AI$130,IF($O$142=$K145,$AT$130,IF($P$142=$K145,$BE$130,IF($Q$142=$K145,$BP$130)))))))","v":""},{"$f":"IF($O$143=0,\"\",IF($M145=240000000,$L145&\" kan inte tillhandahålla detta avrop\",$L145))","v":""},{"$f":"IF($M145=240000000,0,$M145)","v":""},{"$f":"IF($N145=240000000,0,$N145)","v":""},null,"Organisationsnummer",{"$f":"IF($T$144=$L$133,$L134,IF($T$144=$M$133,$M134,IF($T$144=$N$133,$N134,IF($T$144=$O$133,$O134,IF($T$144=$P$133,$P134,IF($T$144=$Q$133,$Q134,\"\"))))))","v":""},null,{"$f":"IF($P145=\"\",\"\",IF($P145>240000000,O145&\" kan inte tillhandahålla detta avrop\",O145))","v":""},{"$f":"IF($S$151=0,\"\",IF($P145>240000000,0,P145))","v":""},"",null,null,null,null,null,null,null,null,null,null,null,null,null,null,null,null,null,null,null,null,null,null,null,null,null,null,null,null,null,null,null,null,null,null,null,null,null,null,null,null,null,null,null,null,null,null,null,null,null,null,null,null,null,{"$f":"IF('Avtalat sortiment'!K145<>\"\",'Avtalat sortiment'!$A145&'Avtalat sortiment'!Q145,\"\")","v":""},{"$f":"IF('Avtalat sortiment'!U145<>\"\",'Avtalat sortiment'!T145&'Avtalat sortiment'!AA145,\"\")","v":""},{"$f":"IF('Avtalat sortiment'!AE145<>\"\",'Avtalat sortiment'!AD145&'Avtalat sortiment'!AK145,\"\")","v":""},{"$f":"IF('Avtalat sortiment'!AO145<>\"\",'Avtalat sortiment'!AN145&'Avtalat sortiment'!AU145,\"\")","v":""},{"$f":"IF('Avtalat sortiment'!AY145<>\"\",'Avtalat sortiment'!AX145&'Avtalat sortiment'!BE145,\"\")","v":""},{"$f":"IF('Avtalat sortiment'!BI145<>\"\",'Avtalat sortiment'!BH145&'Avtalat sortiment'!BO145,\"\")","v":""}]
[null,null,null,null,null,null,null,null,null,null,2,"","","","","","",null,"Kontaktperson",{"$f":"IF($T$144=$L$133,$L135,IF($T$144=$M$133,$M135,IF($T$144=$N$133,$N135,IF($T$144=$O$133,$O135,IF($T$144=$P$133,$P135,IF($T$144=$Q$133,$Q135,\"\"))))))","v":""},null,"","","",null,null,null,null,null,null,null,null,null,null,null,null,null,null,null,null,null,null,null,null,null,null,null,null,null,null,null,null,null,null,null,null,null,null,null,null,null,null,null,null,null,null,null,null,null,null,null,null,null,null,null,null,null,{"$f":"IF('Avtalat sortiment'!K146<>\"\",'Avtalat sortiment'!$A146&'Avtalat sortiment'!Q146,\"\")","v":""},{"$f":"IF('Avtalat sortiment'!U146<>\"\",'Avtalat sortiment'!T146&'Avtalat sortiment'!AA146,\"\")","v":""},{"$f":"IF('Avtalat sortiment'!AE146<>\"\",'Avtalat sortiment'!AD146&'Avtalat sortiment'!AK146,\"\")","v":""},{"$f":"IF('Avtalat sortiment'!AO146<>\"\",'Avtalat sortiment'!AN146&'Avtalat sortiment'!AU146,\"\")","v":""},{"$f":"IF('Avtalat sortiment'!AY146<>\"\",'Avtalat sortiment'!AX146&'Avtalat sortiment'!BE146,\"\")","v":""},{"$f":"IF('Avtalat sortiment'!BI146<>\"\",'Avtalat sortiment'!BH146&'Avtalat sortiment'!BO146,\"\")","v":""}]
[null,null,null,null,null,null,null,null,null,null,3,"","","","","","",null,"Telefonnummer",{"$f":"IF($T$144=$L$133,$L136,IF($T$144=$M$133,$M136,IF($T$144=$N$133,$N136,IF($T$144=$O$133,$O136,IF($T$144=$P$133,$P136,IF($T$144=$Q$133,$Q136,\"\"))))))","v":""},null,"","","",null,null,null,null,null,null,null,null,null,null,null,null,null,null,null,null,null,null,null,null,null,null,null,null,null,null,null,null,null,null,null,null,null,null,null,null,null,null,null,null,null,null,null,null,null,null,null,null,null,null,null,null,null,{"$f":"IF('Avtalat sortiment'!K147<>\"\",'Avtalat sortiment'!$A147&'Avtalat sortiment'!Q147,\"\")","v":""},{"$f":"IF('Avtalat sortiment'!U147<>\"\",'Avtalat sortiment'!T147&'Avtalat sortiment'!AA147,\"\")","v":""},{"$f":"IF('Avtalat sortiment'!AE147<>\"\",'Avtalat sortiment'!AD147&'Avtalat sortiment'!AK147,\"\")","v":""},{"$f":"IF('Avtalat sortiment'!AO147<>\"\",'Avtalat sortiment'!AN147&'Avtalat sortiment'!AU147,\"\")","v":""},{"$f":"IF('Avtalat sortiment'!AY147<>\"\",'Avtalat sortiment'!AX147&'Avtalat sortiment'!BE147,\"\")","v":""},{"$f":"IF('Avtalat sortiment'!BI147<>\"\",'Avtalat sortiment'!BH147&'Avtalat sortiment'!BO147,\"\")","v":""}]
[null,null,null,null,null,null,null,null,null,null,4,"","","","","","",null,"E-postadress",{"$f":"IF($T$144=$L$133,$L137,IF($T$144=$M$133,$M137,IF($T$144=$N$133,$N137,IF($T$144=$O$133,$O137,IF($T$144=$P$133,$P137,IF($T$144=$Q$133,$Q137,\"\"))))))","v":""},null,"","","",null,null,null,null,null,null,null,null,null,null,null,null,null,null,null,null,null,null,null,null,null,null,null,null,null,null,null,null,null,null,null,null,null,null,null,null,null,null,null,null,null,null,null,null,null,null,null,null,null,null,null,null,null,{"$f":"IF('Avtalat sortiment'!K148<>\"\",'Avtalat sortiment'!$A148&'Avtalat sortiment'!Q148,\"\")","v":""},{"$f":"IF('Avtalat sortiment'!U148<>\"\",'Avtalat sortiment'!T148&'Avtalat sortiment'!AA148,\"\")","v":""},{"$f":"IF('Avtalat sortiment'!AE148<>\"\",'Avtalat sortiment'!AD148&'Avtalat sortiment'!AK148,\"\")","v":""},{"$f":"IF('Avtalat sortiment'!AO148<>\"\",'Avtalat sortiment'!AN148&'Avtalat sortiment'!AU148,\"\")","v":""},{"$f":"IF('Avtalat sortiment'!AY148<>\"\",'Avtalat sortiment'!AX148&'Avtalat sortiment'!BE148,\"\")","v":""},{"$f":"IF('Avtalat sortiment'!BI148<>\"\",'Avtalat sortiment'!BH148&'Avtalat sortiment'!BO148,\"\")","v":""}]
[null,null,null,null,null,null,null,null,null,null,5,"","","","","","",null,"Totalsumma",{"$f":"IF($T$144=$L$133,$L138,IF($T$144=$M$133,$M138,IF($T$144=$N$133,$N138,IF($T$144=$O$133,$O138,IF($T$144=$P$133,$P138,IF($T$144=$Q$133,$Q138,\"\"))))))","v":""},null,"","","",null,null,null,null,null,null,null,null,null,null,null,null,null,null,null,null,null,null,null,null,null,null,null,null,null,null,null,null,null,null,null,null,null,null,null,null,null,null,null,null,null,null,null,null,null,null,null,null,null,null,null,null,null,{"$f":"IF('Avtalat sortiment'!K149<>\"\",'Avtalat sortiment'!$A149&'Avtalat sortiment'!Q149,\"\")","v":""},{"$f":"IF('Avtalat sortiment'!U149<>\"\",'Avtalat sortiment'!T149&'Avtalat sortiment'!AA149,\"\")","v":""},{"$f":"IF('Avtalat sortiment'!AE149<>\"\",'Avtalat sortiment'!AD149&'Avtalat sortiment'!AK149,\"\")","v":""},{"$f":"IF('Avtalat sortiment'!AO149<>\"\",'Avtalat sortiment'!AN149&'Avtalat sortiment'!AU149,\"\")","v":""},{"$f":"IF('Avtalat sortiment'!AY149<>\"\",'Avtalat sortiment'!AX149&'Avtalat sortiment'!BE149,\"\")","v":""},{"$f":"IF('Avtalat sortiment'!BI149<>\"\",'Avtalat sortiment'!BH149&'Avtalat sortiment'!BO149,\"\")","v":""}]
[null,null,null,null,null,null,null,null,null,null,6,"","","","","","",null,null,null,null,"","","",null,null,null,null,null,null,null,null,null,null,null,null,null,null,null,null,null,null,null,null,null,null,null,null,null,null,null,null,null,null,null,null,null,null,null,null,null,null,null,null,null,null,null,null,null,null,null,null,null,null,null,null,null,{"$f":"IF('Avtalat sortiment'!K150<>\"\",'Avtalat sortiment'!$A150&'Avtalat sortiment'!Q150,\"\")","v":""},{"$f":"IF('Avtalat sortiment'!U150<>\"\",'Avtalat sortiment'!T150&'Avtalat sortiment'!AA150,\"\")","v":""},{"$f":"IF('Avtalat sortiment'!AE150<>\"\",'Avtalat sortiment'!AD150&'Avtalat sortiment'!AK150,\"\")","v":""},{"$f":"IF('Avtalat sortiment'!AO150<>\"\",'Avtalat sortiment'!AN150&'Avtalat sortiment'!AU150,\"\")","v":""},{"$f":"IF('Avtalat sortiment'!AY150<>\"\",'Avtalat sortiment'!AX150&'Avtalat sortiment'!BE150,\"\")","v":""},{"$f":"IF('Avtalat sortiment'!BI150<>\"\",'Avtalat sortiment'!BH150&'Avtalat sortiment'!BO150,\"\")","v":""}]
[null,null,null,null,null,null,null,null,null,null,7,"","","","","","",null,{"$f":"SUM(Funktioner!$T$130,Funktioner!$AE$130,Funktioner!$AP$130,Funktioner!$BA$130,Funktioner!$BL$130,Funktioner!$BW$130)","v":0},null,null,"","","",null,null,null,null,null,null,null,null,null,null,null,null,null,null,null,null,null,null,null,null,null,null,null,null,null,null,null,null,null,null,null,null,null,null,null,null,null,null,null,null,null,null,null,null,null,null,null,null,null,null,null,null,null,{"$f":"IF('Avtalat sortiment'!K151<>\"\",'Avtalat sortiment'!$A151&'Avtalat sortiment'!Q151,\"\")","v":""},{"$f":"IF('Avtalat sortiment'!U151<>\"\",'Avtalat sortiment'!T151&'Avtalat sortiment'!AA151,\"\")","v":""},{"$f":"IF('Avtalat sortiment'!AE151<>\"\",'Avtalat sortiment'!AD151&'Avtalat sortiment'!AK151,\"\")","v":""},{"$f":"IF('Avtalat sortiment'!AO151<>\"\",'Avtalat sortiment'!AN151&'Avtalat sortiment'!AU151,\"\")","v":""},{"$f":"IF('Avtalat sortiment'!AY151<>\"\",'Avtalat sortiment'!AX151&'Avtalat sortiment'!BE151,\"\")","v":""},{"$f":"IF('Avtalat sortiment'!BI151<>\"\",'Avtalat sortiment'!BH151&'Avtalat sortiment'!BO151,\"\")","v":""}]
[null,null,null,null,null,null,null,null,null,null,8,"","","","","","",null,{"$f":"IF($S$151=0,0,IF($L$142=$T$152,$L$138,IF($M$142=$T$152,$M$138,IF($N$142=$T$152,$N$138,IF($O$142=$T$152,$O$138,IF($P$142=$T$152,$P$138,IF($Q$142=$T$152,$Q$138)))))))","v":0},{"$f":"Uträkningsmall!$P$8","v":1},null,"","","",null,null,null,null,null,null,null,null,null,null,null,null,null,null,null,null,null,null,null,null,null,null,null,null,null,null,null,null,null,null,null,null,null,null,null,null,null,null,null,null,null,null,null,null,null,null,null,null,null,null,null,null,null,{"$f":"IF('Avtalat sortiment'!K152<>\"\",'Avtalat sortiment'!$A152&'Avtalat sortiment'!Q152,\"\")","v":""},{"$f":"IF('Avtalat sortiment'!U152<>\"\",'Avtalat sortiment'!T152&'Avtalat sortiment'!AA152,\"\")","v":""},{"$f":"IF('Avtalat sortiment'!AE152<>\"\",'Avtalat sortiment'!AD152&'Avtalat sortiment'!AK152,\"\")","v":""},{"$f":"IF('Avtalat sortiment'!AO152<>\"\",'Avtalat sortiment'!AN152&'Avtalat sortiment'!AU152,\"\")","v":""},{"$f":"IF('Avtalat sortiment'!AY152<>\"\",'Avtalat sortiment'!AX152&'Avtalat sortiment'!BE152,\"\")","v":""},{"$f":"IF('Avtalat sortiment'!BI152<>\"\",'Avtalat sortiment'!BH152&'Avtalat sortiment'!BO152,\"\")","v":""}]
[null,null,null,null,null,null,null,null,null,null,null,null,null,null,null,null,null,null,null,null,null,null,null,null,null,null,null,null,null,null,null,null,null,null,null,null,null,null,null,null,null,null,null,null,null,null,null,null,null,null,null,null,null,null,null,null,null,null,null,null,null,null,null,null,null,null,null,null,null,null,null,null,null,null,null,null,null,{"$f":"IF('Avtalat sortiment'!K153<>\"\",'Avtalat sortiment'!$A153&'Avtalat sortiment'!Q153,\"\")","v":""},{"$f":"IF('Avtalat sortiment'!U153<>\"\",'Avtalat sortiment'!T153&'Avtalat sortiment'!AA153,\"\")","v":""},{"$f":"IF('Avtalat sortiment'!AE153<>\"\",'Avtalat sortiment'!AD153&'Avtalat sortiment'!AK153,\"\")","v":""},{"$f":"IF('Avtalat sortiment'!AO153<>\"\",'Avtalat sortiment'!AN153&'Avtalat sortiment'!AU153,\"\")","v":""},{"$f":"IF('Avtalat sortiment'!AY153<>\"\",'Avtalat sortiment'!AX153&'Avtalat sortiment'!BE153,\"\")","v":""},{"$f":"IF('Avtalat sortiment'!BI153<>\"\",'Avtalat sortiment'!BH153&'Avtalat sortiment'!BO153,\"\")","v":""}]
[null,null,null,null,null,null,null,null,null,null,null,null,null,null,null,null,null,null,null,null,null,null,null,null,null,null,null,null,null,null,null,null,null,null,null,null,null,null,null,null,null,null,null,null,null,null,null,null,null,null,null,null,null,null,null,null,null,null,null,null,null,null,null,null,null,null,null,null,null,null,null,null,null,null,null,null,null,{"$f":"IF('Avtalat sortiment'!K154<>\"\",'Avtalat sortiment'!$A154&'Avtalat sortiment'!Q154,\"\")","v":""},{"$f":"IF('Avtalat sortiment'!U154<>\"\",'Avtalat sortiment'!T154&'Avtalat sortiment'!AA154,\"\")","v":""},{"$f":"IF('Avtalat sortiment'!AE154<>\"\",'Avtalat sortiment'!AD154&'Avtalat sortiment'!AK154,\"\")","v":""},{"$f":"IF('Avtalat sortiment'!AO154<>\"\",'Avtalat sortiment'!AN154&'Avtalat sortiment'!AU154,\"\")","v":""},{"$f":"IF('Avtalat sortiment'!AY154<>\"\",'Avtalat sortiment'!AX154&'Avtalat sortiment'!BE154,\"\")","v":""},{"$f":"IF('Avtalat sortiment'!BI154<>\"\",'Avtalat sortiment'!BH154&'Avtalat sortiment'!BO154,\"\")","v":""}]
[null,null,null,null,null,null,null,null,null,null,null,null,null,null,null,null,null,null,null,null,null,null,null,null,null,null,null,null,null,null,null,null,null,null,null,null,null,null,null,null,null,null,null,null,null,null,null,null,null,null,null,null,null,null,null,null,null,null,null,null,null,null,null,null,null,null,null,null,null,null,null,null,null,null,null,null,null,{"$f":"IF('Avtalat sortiment'!K155<>\"\",'Avtalat sortiment'!$A155&'Avtalat sortiment'!Q155,\"\")","v":""},{"$f":"IF('Avtalat sortiment'!U155<>\"\",'Avtalat sortiment'!T155&'Avtalat sortiment'!AA155,\"\")","v":""},{"$f":"IF('Avtalat sortiment'!AE155<>\"\",'Avtalat sortiment'!AD155&'Avtalat sortiment'!AK155,\"\")","v":""},{"$f":"IF('Avtalat sortiment'!AO155<>\"\",'Avtalat sortiment'!AN155&'Avtalat sortiment'!AU155,\"\")","v":""},{"$f":"IF('Avtalat sortiment'!AY155<>\"\",'Avtalat sortiment'!AX155&'Avtalat sortiment'!BE155,\"\")","v":""},{"$f":"IF('Avtalat sortiment'!BI155<>\"\",'Avtalat sortiment'!BH155&'Avtalat sortiment'!BO155,\"\")","v":""}]
[null,null,null,null,null,null,null,null,null,null,"Varans position","Offererat pris per enhet","Leveranstid","Antal enheter i offererad vara","Ramavtalsleverantörens artikelnummer","Ramavtalsleverantörens länk till offererad vara","Ramavtalsleverantörens artikelbenämning","Varans storlek","Eventuell övrig information","Totalpris",null,null,null,null,null,null,null,null,null,null,null,null,null,null,null,null,null,null,null,null,null,null,null,null,null,null,null,null,null,null,null,null,null,null,null,null,null,null,null,null,null,null,null,null,null,null,null,null,null,null,null,null,null,null,null,null,null,{"$f":"IF('Avtalat sortiment'!K156<>\"\",'Avtalat sortiment'!$A156&'Avtalat sortiment'!Q156,\"\")","v":""},{"$f":"IF('Avtalat sortiment'!U156<>\"\",'Avtalat sortiment'!T156&'Avtalat sortiment'!AA156,\"\")","v":""},{"$f":"IF('Avtalat sortiment'!AE156<>\"\",'Avtalat sortiment'!AD156&'Avtalat sortiment'!AK156,\"\")","v":""},{"$f":"IF('Avtalat sortiment'!AO156<>\"\",'Avtalat sortiment'!AN156&'Avtalat sortiment'!AU156,\"\")","v":""},{"$f":"IF('Avtalat sortiment'!AY156<>\"\",'Avtalat sortiment'!AX156&'Avtalat sortiment'!BE156,\"\")","v":""},{"$f":"IF('Avtalat sortiment'!BI156<>\"\",'Avtalat sortiment'!BH156&'Avtalat sortiment'!BO156,\"\")","v":""}]
[null,null,null,null,null,null,null,null,null,null,{"$f":"Funktioner!$K110","v":""},{"$f":"IF($K157=\"\",\"\",IF($T$144=$L$133,Funktioner!L110,IF($T$144=$M$133,Funktioner!W110,IF($T$144=$N$133,Funktioner!AH110,IF($T$144=$O$133,Funktioner!AS110,IF($T$144=$P$133,Funktioner!BD110,IF($T$144=$Q$133,Funktioner!BO110,\"\")))))))","v":""},{"$f":"IF($K157=\"\",\"\",IF($T$144=$L$133,Funktioner!M110,IF($T$144=$M$133,Funktioner!X110,IF($T$144=$N$133,Funktioner!AI110,IF($T$144=$O$133,Funktioner!AT110,IF($T$144=$P$133,Funktioner!BE110,IF($T$144=$Q$133,Funktioner!BP110,\"\")))))))","v":""},{"$f":"IF($K157=\"\",\"\",IF($T$144=$L$133,Funktioner!N110,IF($T$144=$M$133,Funktioner!Y110,IF($T$144=$N$133,Funktioner!AJ110,IF($T$144=$O$133,Funktioner!AU110,IF($T$144=$P$133,Funktioner!BF110,IF($T$144=$Q$133,Funktioner!BQ110,\"\")))))))","v":""},{"$f":"IF($K157=\"\",\"\",IF($T$144=$L$133,Funktioner!O110,IF($T$144=$M$133,Funktioner!Z110,IF($T$144=$N$133,Funktioner!AK110,IF($T$144=$O$133,Funktioner!AV110,IF($T$144=$P$133,Funktioner!BG110,IF($T$144=$Q$133,Funktioner!BR110,\"\")))))))","v":""},{"$f":"IF($K157=\"\",\"\",IF($T$144=$L$133,Funktioner!P110,IF($T$144=$M$133,Funktioner!AA110,IF($T$144=$N$133,Funktioner!AL110,IF($T$144=$O$133,Funktioner!AW110,IF($T$144=$P$133,Funktioner!BH110,IF($T$144=$Q$133,Funktioner!BS110,\"\")))))))","v":""},{"$f":"IF($K157=\"\",\"\",IF($T$144=$L$133,Funktioner!Q110,IF($T$144=$M$133,Funktioner!AB110,IF($T$144=$N$133,Funktioner!AM110,IF($T$144=$O$133,Funktioner!AX110,IF($T$144=$P$133,Funktioner!BI110,IF($T$144=$Q$133,Funktioner!BT110,\"\")))))))","v":""},{"$f":"IF($K157=\"\",\"\",IF($T$144=$L$133,Funktioner!R110,IF($T$144=$M$133,Funktioner!AC110,IF($T$144=$N$133,Funktioner!AN110,IF($T$144=$O$133,Funktioner!AY110,IF($T$144=$P$133,Funktioner!BJ110,IF($T$144=$Q$133,Funktioner!BU110,\"\")))))))","v":""},{"$f":"IF($K157=\"\",\"\",IF($T$144=$L$133,Funktioner!S110,IF($T$144=$M$133,Funktioner!AD110,IF($T$144=$N$133,Funktioner!AO110,IF($T$144=$O$133,Funktioner!AZ110,IF($T$144=$P$133,Funktioner!BK110,IF($T$144=$Q$133,Funktioner!BV110,\"\")))))))","v":""},{"$f":"IF($K157=\"\",\"\",IF($T$144=$L$133,Funktioner!T110,IF($T$144=$M$133,Funktioner!AE110,IF($T$144=$N$133,Funktioner!AP110,IF($T$144=$O$133,Funktioner!BA110,IF($T$144=$P$133,Funktioner!BL110,IF($T$144=$Q$133,Funktioner!BW110,\"\")))))))","v":""},null,null,null,null,null,null,null,null,null,null,null,null,null,null,null,null,null,null,null,null,null,null,null,null,null,null,null,null,null,null,null,null,null,null,null,null,null,null,null,null,null,null,null,null,null,null,null,null,null,null,null,null,null,null,null,null,null,{"$f":"IF('Avtalat sortiment'!K157<>\"\",'Avtalat sortiment'!$A157&'Avtalat sortiment'!Q157,\"\")","v":""},{"$f":"IF('Avtalat sortiment'!U157<>\"\",'Avtalat sortiment'!T157&'Avtalat sortiment'!AA157,\"\")","v":""},{"$f":"IF('Avtalat sortiment'!AE157<>\"\",'Avtalat sortiment'!AD157&'Avtalat sortiment'!AK157,\"\")","v":""},{"$f":"IF('Avtalat sortiment'!AO157<>\"\",'Avtalat sortiment'!AN157&'Avtalat sortiment'!AU157,\"\")","v":""},{"$f":"IF('Avtalat sortiment'!AY157<>\"\",'Avtalat sortiment'!AX157&'Avtalat sortiment'!BE157,\"\")","v":""},{"$f":"IF('Avtalat sortiment'!BI157<>\"\",'Avtalat sortiment'!BH157&'Avtalat sortiment'!BO157,\"\")","v":""}]
[null,null,null,null,null,null,null,null,null,null,{"$f":"Funktioner!$K111","v":""},{"$f":"IF($K158=\"\",\"\",IF($T$144=$L$133,Funktioner!L111,IF($T$144=$M$133,Funktioner!W111,IF($T$144=$N$133,Funktioner!AH111,IF($T$144=$O$133,Funktioner!AS111,IF($T$144=$P$133,Funktioner!BD111,IF($T$144=$Q$133,Funktioner!BO111,\"\")))))))","v":""},{"$f":"IF($K158=\"\",\"\",IF($T$144=$L$133,Funktioner!M111,IF($T$144=$M$133,Funktioner!X111,IF($T$144=$N$133,Funktioner!AI111,IF($T$144=$O$133,Funktioner!AT111,IF($T$144=$P$133,Funktioner!BE111,IF($T$144=$Q$133,Funktioner!BP111,\"\")))))))","v":""},{"$f":"IF($K158=\"\",\"\",IF($T$144=$L$133,Funktioner!N111,IF($T$144=$M$133,Funktioner!Y111,IF($T$144=$N$133,Funktioner!AJ111,IF($T$144=$O$133,Funktioner!AU111,IF($T$144=$P$133,Funktioner!BF111,IF($T$144=$Q$133,Funktioner!BQ111,\"\")))))))","v":""},{"$f":"IF($K158=\"\",\"\",IF($T$144=$L$133,Funktioner!O111,IF($T$144=$M$133,Funktioner!Z111,IF($T$144=$N$133,Funktioner!AK111,IF($T$144=$O$133,Funktioner!AV111,IF($T$144=$P$133,Funktioner!BG111,IF($T$144=$Q$133,Funktioner!BR111,\"\")))))))","v":""},{"$f":"IF($K158=\"\",\"\",IF($T$144=$L$133,Funktioner!P111,IF($T$144=$M$133,Funktioner!AA111,IF($T$144=$N$133,Funktioner!AL111,IF($T$144=$O$133,Funktioner!AW111,IF($T$144=$P$133,Funktioner!BH111,IF($T$144=$Q$133,Funktioner!BS111,\"\")))))))","v":""},{"$f":"IF($K158=\"\",\"\",IF($T$144=$L$133,Funktioner!Q111,IF($T$144=$M$133,Funktioner!AB111,IF($T$144=$N$133,Funktioner!AM111,IF($T$144=$O$133,Funktioner!AX111,IF($T$144=$P$133,Funktioner!BI111,IF($T$144=$Q$133,Funktioner!BT111,\"\")))))))","v":""},{"$f":"IF($K158=\"\",\"\",IF($T$144=$L$133,Funktioner!R111,IF($T$144=$M$133,Funktioner!AC111,IF($T$144=$N$133,Funktioner!AN111,IF($T$144=$O$133,Funktioner!AY111,IF($T$144=$P$133,Funktioner!BJ111,IF($T$144=$Q$133,Funktioner!BU111,\"\")))))))","v":""},{"$f":"IF($K158=\"\",\"\",IF($T$144=$L$133,Funktioner!S111,IF($T$144=$M$133,Funktioner!AD111,IF($T$144=$N$133,Funktioner!AO111,IF($T$144=$O$133,Funktioner!AZ111,IF($T$144=$P$133,Funktioner!BK111,IF($T$144=$Q$133,Funktioner!BV111,\"\")))))))","v":""},{"$f":"IF($K158=\"\",\"\",IF($T$144=$L$133,Funktioner!T111,IF($T$144=$M$133,Funktioner!AE111,IF($T$144=$N$133,Funktioner!AP111,IF($T$144=$O$133,Funktioner!BA111,IF($T$144=$P$133,Funktioner!BL111,IF($T$144=$Q$133,Funktioner!BW111,\"\")))))))","v":""},null,null,null,null,null,null,null,null,null,null,null,null,null,null,null,null,null,null,null,null,null,null,null,null,null,null,null,null,null,null,null,null,null,null,null,null,null,null,null,null,null,null,null,null,null,null,null,null,null,null,null,null,null,null,null,null,null,{"$f":"IF('Avtalat sortiment'!K158<>\"\",'Avtalat sortiment'!$A158&'Avtalat sortiment'!Q158,\"\")","v":""},{"$f":"IF('Avtalat sortiment'!U158<>\"\",'Avtalat sortiment'!T158&'Avtalat sortiment'!AA158,\"\")","v":""},{"$f":"IF('Avtalat sortiment'!AE158<>\"\",'Avtalat sortiment'!AD158&'Avtalat sortiment'!AK158,\"\")","v":""},{"$f":"IF('Avtalat sortiment'!AO158<>\"\",'Avtalat sortiment'!AN158&'Avtalat sortiment'!AU158,\"\")","v":""},{"$f":"IF('Avtalat sortiment'!AY158<>\"\",'Avtalat sortiment'!AX158&'Avtalat sortiment'!BE158,\"\")","v":""},{"$f":"IF('Avtalat sortiment'!BI158<>\"\",'Avtalat sortiment'!BH158&'Avtalat sortiment'!BO158,\"\")","v":""}]
[null,null,null,null,null,null,null,null,null,null,{"$f":"Funktioner!$K112","v":""},{"$f":"IF($K159=\"\",\"\",IF($T$144=$L$133,Funktioner!L112,IF($T$144=$M$133,Funktioner!W112,IF($T$144=$N$133,Funktioner!AH112,IF($T$144=$O$133,Funktioner!AS112,IF($T$144=$P$133,Funktioner!BD112,IF($T$144=$Q$133,Funktioner!BO112,\"\")))))))","v":""},{"$f":"IF($K159=\"\",\"\",IF($T$144=$L$133,Funktioner!M112,IF($T$144=$M$133,Funktioner!X112,IF($T$144=$N$133,Funktioner!AI112,IF($T$144=$O$133,Funktioner!AT112,IF($T$144=$P$133,Funktioner!BE112,IF($T$144=$Q$133,Funktioner!BP112,\"\")))))))","v":""},{"$f":"IF($K159=\"\",\"\",IF($T$144=$L$133,Funktioner!N112,IF($T$144=$M$133,Funktioner!Y112,IF($T$144=$N$133,Funktioner!AJ112,IF($T$144=$O$133,Funktioner!AU112,IF($T$144=$P$133,Funktioner!BF112,IF($T$144=$Q$133,Funktioner!BQ112,\"\")))))))","v":""},{"$f":"IF($K159=\"\",\"\",IF($T$144=$L$133,Funktioner!O112,IF($T$144=$M$133,Funktioner!Z112,IF($T$144=$N$133,Funktioner!AK112,IF($T$144=$O$133,Funktioner!AV112,IF($T$144=$P$133,Funktioner!BG112,IF($T$144=$Q$133,Funktioner!BR112,\"\")))))))","v":""},{"$f":"IF($K159=\"\",\"\",IF($T$144=$L$133,Funktioner!P112,IF($T$144=$M$133,Funktioner!AA112,IF($T$144=$N$133,Funktioner!AL112,IF($T$144=$O$133,Funktioner!AW112,IF($T$144=$P$133,Funktioner!BH112,IF($T$144=$Q$133,Funktioner!BS112,\"\")))))))","v":""},{"$f":"IF($K159=\"\",\"\",IF($T$144=$L$133,Funktioner!Q112,IF($T$144=$M$133,Funktioner!AB112,IF($T$144=$N$133,Funktioner!AM112,IF($T$144=$O$133,Funktioner!AX112,IF($T$144=$P$133,Funktioner!BI112,IF($T$144=$Q$133,Funktioner!BT112,\"\")))))))","v":""},{"$f":"IF($K159=\"\",\"\",IF($T$144=$L$133,Funktioner!R112,IF($T$144=$M$133,Funktioner!AC112,IF($T$144=$N$133,Funktioner!AN112,IF($T$144=$O$133,Funktioner!AY112,IF($T$144=$P$133,Funktioner!BJ112,IF($T$144=$Q$133,Funktioner!BU112,\"\")))))))","v":""},{"$f":"IF($K159=\"\",\"\",IF($T$144=$L$133,Funktioner!S112,IF($T$144=$M$133,Funktioner!AD112,IF($T$144=$N$133,Funktioner!AO112,IF($T$144=$O$133,Funktioner!AZ112,IF($T$144=$P$133,Funktioner!BK112,IF($T$144=$Q$133,Funktioner!BV112,\"\")))))))","v":""},{"$f":"IF($K159=\"\",\"\",IF($T$144=$L$133,Funktioner!T112,IF($T$144=$M$133,Funktioner!AE112,IF($T$144=$N$133,Funktioner!AP112,IF($T$144=$O$133,Funktioner!BA112,IF($T$144=$P$133,Funktioner!BL112,IF($T$144=$Q$133,Funktioner!BW112,\"\")))))))","v":""},null,null,null,null,null,null,null,null,null,null,null,null,null,null,null,null,null,null,null,null,null,null,null,null,null,null,null,null,null,null,null,null,null,null,null,null,null,null,null,null,null,null,null,null,null,null,null,null,null,null,null,null,null,null,null,null,null,{"$f":"IF('Avtalat sortiment'!K159<>\"\",'Avtalat sortiment'!$A159&'Avtalat sortiment'!Q159,\"\")","v":""},{"$f":"IF('Avtalat sortiment'!U159<>\"\",'Avtalat sortiment'!T159&'Avtalat sortiment'!AA159,\"\")","v":""},{"$f":"IF('Avtalat sortiment'!AE159<>\"\",'Avtalat sortiment'!AD159&'Avtalat sortiment'!AK159,\"\")","v":""},{"$f":"IF('Avtalat sortiment'!AO159<>\"\",'Avtalat sortiment'!AN159&'Avtalat sortiment'!AU159,\"\")","v":""},{"$f":"IF('Avtalat sortiment'!AY159<>\"\",'Avtalat sortiment'!AX159&'Avtalat sortiment'!BE159,\"\")","v":""},{"$f":"IF('Avtalat sortiment'!BI159<>\"\",'Avtalat sortiment'!BH159&'Avtalat sortiment'!BO159,\"\")","v":""}]
[null,null,null,null,null,null,null,null,null,null,{"$f":"Funktioner!$K113","v":""},{"$f":"IF($K160=\"\",\"\",IF($T$144=$L$133,Funktioner!L113,IF($T$144=$M$133,Funktioner!W113,IF($T$144=$N$133,Funktioner!AH113,IF($T$144=$O$133,Funktioner!AS113,IF($T$144=$P$133,Funktioner!BD113,IF($T$144=$Q$133,Funktioner!BO113,\"\")))))))","v":""},{"$f":"IF($K160=\"\",\"\",IF($T$144=$L$133,Funktioner!M113,IF($T$144=$M$133,Funktioner!X113,IF($T$144=$N$133,Funktioner!AI113,IF($T$144=$O$133,Funktioner!AT113,IF($T$144=$P$133,Funktioner!BE113,IF($T$144=$Q$133,Funktioner!BP113,\"\")))))))","v":""},{"$f":"IF($K160=\"\",\"\",IF($T$144=$L$133,Funktioner!N113,IF($T$144=$M$133,Funktioner!Y113,IF($T$144=$N$133,Funktioner!AJ113,IF($T$144=$O$133,Funktioner!AU113,IF($T$144=$P$133,Funktioner!BF113,IF($T$144=$Q$133,Funktioner!BQ113,\"\")))))))","v":""},{"$f":"IF($K160=\"\",\"\",IF($T$144=$L$133,Funktioner!O113,IF($T$144=$M$133,Funktioner!Z113,IF($T$144=$N$133,Funktioner!AK113,IF($T$144=$O$133,Funktioner!AV113,IF($T$144=$P$133,Funktioner!BG113,IF($T$144=$Q$133,Funktioner!BR113,\"\")))))))","v":""},{"$f":"IF($K160=\"\",\"\",IF($T$144=$L$133,Funktioner!P113,IF($T$144=$M$133,Funktioner!AA113,IF($T$144=$N$133,Funktioner!AL113,IF($T$144=$O$133,Funktioner!AW113,IF($T$144=$P$133,Funktioner!BH113,IF($T$144=$Q$133,Funktioner!BS113,\"\")))))))","v":""},{"$f":"IF($K160=\"\",\"\",IF($T$144=$L$133,Funktioner!Q113,IF($T$144=$M$133,Funktioner!AB113,IF($T$144=$N$133,Funktioner!AM113,IF($T$144=$O$133,Funktioner!AX113,IF($T$144=$P$133,Funktioner!BI113,IF($T$144=$Q$133,Funktioner!BT113,\"\")))))))","v":""},{"$f":"IF($K160=\"\",\"\",IF($T$144=$L$133,Funktioner!R113,IF($T$144=$M$133,Funktioner!AC113,IF($T$144=$N$133,Funktioner!AN113,IF($T$144=$O$133,Funktioner!AY113,IF($T$144=$P$133,Funktioner!BJ113,IF($T$144=$Q$133,Funktioner!BU113,\"\")))))))","v":""},{"$f":"IF($K160=\"\",\"\",IF($T$144=$L$133,Funktioner!S113,IF($T$144=$M$133,Funktioner!AD113,IF($T$144=$N$133,Funktioner!AO113,IF($T$144=$O$133,Funktioner!AZ113,IF($T$144=$P$133,Funktioner!BK113,IF($T$144=$Q$133,Funktioner!BV113,\"\")))))))","v":""},{"$f":"IF($K160=\"\",\"\",IF($T$144=$L$133,Funktioner!T113,IF($T$144=$M$133,Funktioner!AE113,IF($T$144=$N$133,Funktioner!AP113,IF($T$144=$O$133,Funktioner!BA113,IF($T$144=$P$133,Funktioner!BL113,IF($T$144=$Q$133,Funktioner!BW113,\"\")))))))","v":""},null,null,null,null,null,null,null,null,null,null,null,null,null,null,null,null,null,null,null,null,null,null,null,null,null,null,null,null,null,null,null,null,null,null,null,null,null,null,null,null,null,null,null,null,null,null,null,null,null,null,null,null,null,null,null,null,null,{"$f":"IF('Avtalat sortiment'!K160<>\"\",'Avtalat sortiment'!$A160&'Avtalat sortiment'!Q160,\"\")","v":""},{"$f":"IF('Avtalat sortiment'!U160<>\"\",'Avtalat sortiment'!T160&'Avtalat sortiment'!AA160,\"\")","v":""},{"$f":"IF('Avtalat sortiment'!AE160<>\"\",'Avtalat sortiment'!AD160&'Avtalat sortiment'!AK160,\"\")","v":""},{"$f":"IF('Avtalat sortiment'!AO160<>\"\",'Avtalat sortiment'!AN160&'Avtalat sortiment'!AU160,\"\")","v":""},{"$f":"IF('Avtalat sortiment'!AY160<>\"\",'Avtalat sortiment'!AX160&'Avtalat sortiment'!BE160,\"\")","v":""},{"$f":"IF('Avtalat sortiment'!BI160<>\"\",'Avtalat sortiment'!BH160&'Avtalat sortiment'!BO160,\"\")","v":""}]
[null,null,null,null,null,null,null,null,null,null,{"$f":"Funktioner!$K114","v":""},{"$f":"IF($K161=\"\",\"\",IF($T$144=$L$133,Funktioner!L114,IF($T$144=$M$133,Funktioner!W114,IF($T$144=$N$133,Funktioner!AH114,IF($T$144=$O$133,Funktioner!AS114,IF($T$144=$P$133,Funktioner!BD114,IF($T$144=$Q$133,Funktioner!BO114,\"\")))))))","v":""},{"$f":"IF($K161=\"\",\"\",IF($T$144=$L$133,Funktioner!M114,IF($T$144=$M$133,Funktioner!X114,IF($T$144=$N$133,Funktioner!AI114,IF($T$144=$O$133,Funktioner!AT114,IF($T$144=$P$133,Funktioner!BE114,IF($T$144=$Q$133,Funktioner!BP114,\"\")))))))","v":""},{"$f":"IF($K161=\"\",\"\",IF($T$144=$L$133,Funktioner!N114,IF($T$144=$M$133,Funktioner!Y114,IF($T$144=$N$133,Funktioner!AJ114,IF($T$144=$O$133,Funktioner!AU114,IF($T$144=$P$133,Funktioner!BF114,IF($T$144=$Q$133,Funktioner!BQ114,\"\")))))))","v":""},{"$f":"IF($K161=\"\",\"\",IF($T$144=$L$133,Funktioner!O114,IF($T$144=$M$133,Funktioner!Z114,IF($T$144=$N$133,Funktioner!AK114,IF($T$144=$O$133,Funktioner!AV114,IF($T$144=$P$133,Funktioner!BG114,IF($T$144=$Q$133,Funktioner!BR114,\"\")))))))","v":""},{"$f":"IF($K161=\"\",\"\",IF($T$144=$L$133,Funktioner!P114,IF($T$144=$M$133,Funktioner!AA114,IF($T$144=$N$133,Funktioner!AL114,IF($T$144=$O$133,Funktioner!AW114,IF($T$144=$P$133,Funktioner!BH114,IF($T$144=$Q$133,Funktioner!BS114,\"\")))))))","v":""},{"$f":"IF($K161=\"\",\"\",IF($T$144=$L$133,Funktioner!Q114,IF($T$144=$M$133,Funktioner!AB114,IF($T$144=$N$133,Funktioner!AM114,IF($T$144=$O$133,Funktioner!AX114,IF($T$144=$P$133,Funktioner!BI114,IF($T$144=$Q$133,Funktioner!BT114,\"\")))))))","v":""},{"$f":"IF($K161=\"\",\"\",IF($T$144=$L$133,Funktioner!R114,IF($T$144=$M$133,Funktioner!AC114,IF($T$144=$N$133,Funktioner!AN114,IF($T$144=$O$133,Funktioner!AY114,IF($T$144=$P$133,Funktioner!BJ114,IF($T$144=$Q$133,Funktioner!BU114,\"\")))))))","v":""},{"$f":"IF($K161=\"\",\"\",IF($T$144=$L$133,Funktioner!S114,IF($T$144=$M$133,Funktioner!AD114,IF($T$144=$N$133,Funktioner!AO114,IF($T$144=$O$133,Funktioner!AZ114,IF($T$144=$P$133,Funktioner!BK114,IF($T$144=$Q$133,Funktioner!BV114,\"\")))))))","v":""},{"$f":"IF($K161=\"\",\"\",IF($T$144=$L$133,Funktioner!T114,IF($T$144=$M$133,Funktioner!AE114,IF($T$144=$N$133,Funktioner!AP114,IF($T$144=$O$133,Funktioner!BA114,IF($T$144=$P$133,Funktioner!BL114,IF($T$144=$Q$133,Funktioner!BW114,\"\")))))))","v":""},null,null,null,null,null,null,null,null,null,null,null,null,null,null,null,null,null,null,null,null,null,null,null,null,null,null,null,null,null,null,null,null,null,null,null,null,null,null,null,null,null,null,null,null,null,null,null,null,null,null,null,null,null,null,null,null,null,{"$f":"IF('Avtalat sortiment'!K161<>\"\",'Avtalat sortiment'!$A161&'Avtalat sortiment'!Q161,\"\")","v":""},{"$f":"IF('Avtalat sortiment'!U161<>\"\",'Avtalat sortiment'!T161&'Avtalat sortiment'!AA161,\"\")","v":""},{"$f":"IF('Avtalat sortiment'!AE161<>\"\",'Avtalat sortiment'!AD161&'Avtalat sortiment'!AK161,\"\")","v":""},{"$f":"IF('Avtalat sortiment'!AO161<>\"\",'Avtalat sortiment'!AN161&'Avtalat sortiment'!AU161,\"\")","v":""},{"$f":"IF('Avtalat sortiment'!AY161<>\"\",'Avtalat sortiment'!AX161&'Avtalat sortiment'!BE161,\"\")","v":""},{"$f":"IF('Avtalat sortiment'!BI161<>\"\",'Avtalat sortiment'!BH161&'Avtalat sortiment'!BO161,\"\")","v":""}]
[null,null,null,null,null,null,null,null,null,null,{"$f":"Funktioner!$K115","v":""},{"$f":"IF($K162=\"\",\"\",IF($T$144=$L$133,Funktioner!L115,IF($T$144=$M$133,Funktioner!W115,IF($T$144=$N$133,Funktioner!AH115,IF($T$144=$O$133,Funktioner!AS115,IF($T$144=$P$133,Funktioner!BD115,IF($T$144=$Q$133,Funktioner!BO115,\"\")))))))","v":""},{"$f":"IF($K162=\"\",\"\",IF($T$144=$L$133,Funktioner!M115,IF($T$144=$M$133,Funktioner!X115,IF($T$144=$N$133,Funktioner!AI115,IF($T$144=$O$133,Funktioner!AT115,IF($T$144=$P$133,Funktioner!BE115,IF($T$144=$Q$133,Funktioner!BP115,\"\")))))))","v":""},{"$f":"IF($K162=\"\",\"\",IF($T$144=$L$133,Funktioner!N115,IF($T$144=$M$133,Funktioner!Y115,IF($T$144=$N$133,Funktioner!AJ115,IF($T$144=$O$133,Funktioner!AU115,IF($T$144=$P$133,Funktioner!BF115,IF($T$144=$Q$133,Funktioner!BQ115,\"\")))))))","v":""},{"$f":"IF($K162=\"\",\"\",IF($T$144=$L$133,Funktioner!O115,IF($T$144=$M$133,Funktioner!Z115,IF($T$144=$N$133,Funktioner!AK115,IF($T$144=$O$133,Funktioner!AV115,IF($T$144=$P$133,Funktioner!BG115,IF($T$144=$Q$133,Funktioner!BR115,\"\")))))))","v":""},{"$f":"IF($K162=\"\",\"\",IF($T$144=$L$133,Funktioner!P115,IF($T$144=$M$133,Funktioner!AA115,IF($T$144=$N$133,Funktioner!AL115,IF($T$144=$O$133,Funktioner!AW115,IF($T$144=$P$133,Funktioner!BH115,IF($T$144=$Q$133,Funktioner!BS115,\"\")))))))","v":""},{"$f":"IF($K162=\"\",\"\",IF($T$144=$L$133,Funktioner!Q115,IF($T$144=$M$133,Funktioner!AB115,IF($T$144=$N$133,Funktioner!AM115,IF($T$144=$O$133,Funktioner!AX115,IF($T$144=$P$133,Funktioner!BI115,IF($T$144=$Q$133,Funktioner!BT115,\"\")))))))","v":""},{"$f":"IF($K162=\"\",\"\",IF($T$144=$L$133,Funktioner!R115,IF($T$144=$M$133,Funktioner!AC115,IF($T$144=$N$133,Funktioner!AN115,IF($T$144=$O$133,Funktioner!AY115,IF($T$144=$P$133,Funktioner!BJ115,IF($T$144=$Q$133,Funktioner!BU115,\"\")))))))","v":""},{"$f":"IF($K162=\"\",\"\",IF($T$144=$L$133,Funktioner!S115,IF($T$144=$M$133,Funktioner!AD115,IF($T$144=$N$133,Funktioner!AO115,IF($T$144=$O$133,Funktioner!AZ115,IF($T$144=$P$133,Funktioner!BK115,IF($T$144=$Q$133,Funktioner!BV115,\"\")))))))","v":""},{"$f":"IF($K162=\"\",\"\",IF($T$144=$L$133,Funktioner!T115,IF($T$144=$M$133,Funktioner!AE115,IF($T$144=$N$133,Funktioner!AP115,IF($T$144=$O$133,Funktioner!BA115,IF($T$144=$P$133,Funktioner!BL115,IF($T$144=$Q$133,Funktioner!BW115,\"\")))))))","v":""},null,null,null,null,null,null,null,null,null,null,null,null,null,null,null,null,null,null,null,null,null,null,null,null,null,null,null,null,null,null,null,null,null,null,null,null,null,null,null,null,null,null,null,null,null,null,null,null,null,null,null,null,null,null,null,null,null,{"$f":"IF('Avtalat sortiment'!K162<>\"\",'Avtalat sortiment'!$A162&'Avtalat sortiment'!Q162,\"\")","v":""},{"$f":"IF('Avtalat sortiment'!U162<>\"\",'Avtalat sortiment'!T162&'Avtalat sortiment'!AA162,\"\")","v":""},{"$f":"IF('Avtalat sortiment'!AE162<>\"\",'Avtalat sortiment'!AD162&'Avtalat sortiment'!AK162,\"\")","v":""},{"$f":"IF('Avtalat sortiment'!AO162<>\"\",'Avtalat sortiment'!AN162&'Avtalat sortiment'!AU162,\"\")","v":""},{"$f":"IF('Avtalat sortiment'!AY162<>\"\",'Avtalat sortiment'!AX162&'Avtalat sortiment'!BE162,\"\")","v":""},{"$f":"IF('Avtalat sortiment'!BI162<>\"\",'Avtalat sortiment'!BH162&'Avtalat sortiment'!BO162,\"\")","v":""}]
[null,null,null,null,null,null,null,null,null,null,{"$f":"Funktioner!$K116","v":""},{"$f":"IF($K163=\"\",\"\",IF($T$144=$L$133,Funktioner!L116,IF($T$144=$M$133,Funktioner!W116,IF($T$144=$N$133,Funktioner!AH116,IF($T$144=$O$133,Funktioner!AS116,IF($T$144=$P$133,Funktioner!BD116,IF($T$144=$Q$133,Funktioner!BO116,\"\")))))))","v":""},{"$f":"IF($K163=\"\",\"\",IF($T$144=$L$133,Funktioner!M116,IF($T$144=$M$133,Funktioner!X116,IF($T$144=$N$133,Funktioner!AI116,IF($T$144=$O$133,Funktioner!AT116,IF($T$144=$P$133,Funktioner!BE116,IF($T$144=$Q$133,Funktioner!BP116,\"\")))))))","v":""},{"$f":"IF($K163=\"\",\"\",IF($T$144=$L$133,Funktioner!N116,IF($T$144=$M$133,Funktioner!Y116,IF($T$144=$N$133,Funktioner!AJ116,IF($T$144=$O$133,Funktioner!AU116,IF($T$144=$P$133,Funktioner!BF116,IF($T$144=$Q$133,Funktioner!BQ116,\"\")))))))","v":""},{"$f":"IF($K163=\"\",\"\",IF($T$144=$L$133,Funktioner!O116,IF($T$144=$M$133,Funktioner!Z116,IF($T$144=$N$133,Funktioner!AK116,IF($T$144=$O$133,Funktioner!AV116,IF($T$144=$P$133,Funktioner!BG116,IF($T$144=$Q$133,Funktioner!BR116,\"\")))))))","v":""},{"$f":"IF($K163=\"\",\"\",IF($T$144=$L$133,Funktioner!P116,IF($T$144=$M$133,Funktioner!AA116,IF($T$144=$N$133,Funktioner!AL116,IF($T$144=$O$133,Funktioner!AW116,IF($T$144=$P$133,Funktioner!BH116,IF($T$144=$Q$133,Funktioner!BS116,\"\")))))))","v":""},{"$f":"IF($K163=\"\",\"\",IF($T$144=$L$133,Funktioner!Q116,IF($T$144=$M$133,Funktioner!AB116,IF($T$144=$N$133,Funktioner!AM116,IF($T$144=$O$133,Funktioner!AX116,IF($T$144=$P$133,Funktioner!BI116,IF($T$144=$Q$133,Funktioner!BT116,\"\")))))))","v":""},{"$f":"IF($K163=\"\",\"\",IF($T$144=$L$133,Funktioner!R116,IF($T$144=$M$133,Funktioner!AC116,IF($T$144=$N$133,Funktioner!AN116,IF($T$144=$O$133,Funktioner!AY116,IF($T$144=$P$133,Funktioner!BJ116,IF($T$144=$Q$133,Funktioner!BU116,\"\")))))))","v":""},{"$f":"IF($K163=\"\",\"\",IF($T$144=$L$133,Funktioner!S116,IF($T$144=$M$133,Funktioner!AD116,IF($T$144=$N$133,Funktioner!AO116,IF($T$144=$O$133,Funktioner!AZ116,IF($T$144=$P$133,Funktioner!BK116,IF($T$144=$Q$133,Funktioner!BV116,\"\")))))))","v":""},{"$f":"IF($K163=\"\",\"\",IF($T$144=$L$133,Funktioner!T116,IF($T$144=$M$133,Funktioner!AE116,IF($T$144=$N$133,Funktioner!AP116,IF($T$144=$O$133,Funktioner!BA116,IF($T$144=$P$133,Funktioner!BL116,IF($T$144=$Q$133,Funktioner!BW116,\"\")))))))","v":""},null,null,null,null,null,null,null,null,null,null,null,null,null,null,null,null,null,null,null,null,null,null,null,null,null,null,null,null,null,null,null,null,null,null,null,null,null,null,null,null,null,null,null,null,null,null,null,null,null,null,null,null,null,null,null,null,null,{"$f":"IF('Avtalat sortiment'!K163<>\"\",'Avtalat sortiment'!$A163&'Avtalat sortiment'!Q163,\"\")","v":""},{"$f":"IF('Avtalat sortiment'!U163<>\"\",'Avtalat sortiment'!T163&'Avtalat sortiment'!AA163,\"\")","v":""},{"$f":"IF('Avtalat sortiment'!AE163<>\"\",'Avtalat sortiment'!AD163&'Avtalat sortiment'!AK163,\"\")","v":""},{"$f":"IF('Avtalat sortiment'!AO163<>\"\",'Avtalat sortiment'!AN163&'Avtalat sortiment'!AU163,\"\")","v":""},{"$f":"IF('Avtalat sortiment'!AY163<>\"\",'Avtalat sortiment'!AX163&'Avtalat sortiment'!BE163,\"\")","v":""},{"$f":"IF('Avtalat sortiment'!BI163<>\"\",'Avtalat sortiment'!BH163&'Avtalat sortiment'!BO163,\"\")","v":""}]
[null,null,null,null,null,null,null,null,null,null,{"$f":"Funktioner!$K117","v":""},{"$f":"IF($K164=\"\",\"\",IF($T$144=$L$133,Funktioner!L117,IF($T$144=$M$133,Funktioner!W117,IF($T$144=$N$133,Funktioner!AH117,IF($T$144=$O$133,Funktioner!AS117,IF($T$144=$P$133,Funktioner!BD117,IF($T$144=$Q$133,Funktioner!BO117,\"\")))))))","v":""},{"$f":"IF($K164=\"\",\"\",IF($T$144=$L$133,Funktioner!M117,IF($T$144=$M$133,Funktioner!X117,IF($T$144=$N$133,Funktioner!AI117,IF($T$144=$O$133,Funktioner!AT117,IF($T$144=$P$133,Funktioner!BE117,IF($T$144=$Q$133,Funktioner!BP117,\"\")))))))","v":""},{"$f":"IF($K164=\"\",\"\",IF($T$144=$L$133,Funktioner!N117,IF($T$144=$M$133,Funktioner!Y117,IF($T$144=$N$133,Funktioner!AJ117,IF($T$144=$O$133,Funktioner!AU117,IF($T$144=$P$133,Funktioner!BF117,IF($T$144=$Q$133,Funktioner!BQ117,\"\")))))))","v":""},{"$f":"IF($K164=\"\",\"\",IF($T$144=$L$133,Funktioner!O117,IF($T$144=$M$133,Funktioner!Z117,IF($T$144=$N$133,Funktioner!AK117,IF($T$144=$O$133,Funktioner!AV117,IF($T$144=$P$133,Funktioner!BG117,IF($T$144=$Q$133,Funktioner!BR117,\"\")))))))","v":""},{"$f":"IF($K164=\"\",\"\",IF($T$144=$L$133,Funktioner!P117,IF($T$144=$M$133,Funktioner!AA117,IF($T$144=$N$133,Funktioner!AL117,IF($T$144=$O$133,Funktioner!AW117,IF($T$144=$P$133,Funktioner!BH117,IF($T$144=$Q$133,Funktioner!BS117,\"\")))))))","v":""},{"$f":"IF($K164=\"\",\"\",IF($T$144=$L$133,Funktioner!Q117,IF($T$144=$M$133,Funktioner!AB117,IF($T$144=$N$133,Funktioner!AM117,IF($T$144=$O$133,Funktioner!AX117,IF($T$144=$P$133,Funktioner!BI117,IF($T$144=$Q$133,Funktioner!BT117,\"\")))))))","v":""},{"$f":"IF($K164=\"\",\"\",IF($T$144=$L$133,Funktioner!R117,IF($T$144=$M$133,Funktioner!AC117,IF($T$144=$N$133,Funktioner!AN117,IF($T$144=$O$133,Funktioner!AY117,IF($T$144=$P$133,Funktioner!BJ117,IF($T$144=$Q$133,Funktioner!BU117,\"\")))))))","v":""},{"$f":"IF($K164=\"\",\"\",IF($T$144=$L$133,Funktioner!S117,IF($T$144=$M$133,Funktioner!AD117,IF($T$144=$N$133,Funktioner!AO117,IF($T$144=$O$133,Funktioner!AZ117,IF($T$144=$P$133,Funktioner!BK117,IF($T$144=$Q$133,Funktioner!BV117,\"\")))))))","v":""},{"$f":"IF($K164=\"\",\"\",IF($T$144=$L$133,Funktioner!T117,IF($T$144=$M$133,Funktioner!AE117,IF($T$144=$N$133,Funktioner!AP117,IF($T$144=$O$133,Funktioner!BA117,IF($T$144=$P$133,Funktioner!BL117,IF($T$144=$Q$133,Funktioner!BW117,\"\")))))))","v":""},null,null,null,null,null,null,null,null,null,null,null,null,null,null,null,null,null,null,null,null,null,null,null,null,null,null,null,null,null,null,null,null,null,null,null,null,null,null,null,null,null,null,null,null,null,null,null,null,null,null,null,null,null,null,null,null,null,{"$f":"IF('Avtalat sortiment'!K164<>\"\",'Avtalat sortiment'!$A164&'Avtalat sortiment'!Q164,\"\")","v":""},{"$f":"IF('Avtalat sortiment'!U164<>\"\",'Avtalat sortiment'!T164&'Avtalat sortiment'!AA164,\"\")","v":""},{"$f":"IF('Avtalat sortiment'!AE164<>\"\",'Avtalat sortiment'!AD164&'Avtalat sortiment'!AK164,\"\")","v":""},{"$f":"IF('Avtalat sortiment'!AO164<>\"\",'Avtalat sortiment'!AN164&'Avtalat sortiment'!AU164,\"\")","v":""},{"$f":"IF('Avtalat sortiment'!AY164<>\"\",'Avtalat sortiment'!AX164&'Avtalat sortiment'!BE164,\"\")","v":""},{"$f":"IF('Avtalat sortiment'!BI164<>\"\",'Avtalat sortiment'!BH164&'Avtalat sortiment'!BO164,\"\")","v":""}]
[null,null,null,null,null,null,null,null,null,null,{"$f":"Funktioner!$K118","v":""},{"$f":"IF($K165=\"\",\"\",IF($T$144=$L$133,Funktioner!L118,IF($T$144=$M$133,Funktioner!W118,IF($T$144=$N$133,Funktioner!AH118,IF($T$144=$O$133,Funktioner!AS118,IF($T$144=$P$133,Funktioner!BD118,IF($T$144=$Q$133,Funktioner!BO118,\"\")))))))","v":""},{"$f":"IF($K165=\"\",\"\",IF($T$144=$L$133,Funktioner!M118,IF($T$144=$M$133,Funktioner!X118,IF($T$144=$N$133,Funktioner!AI118,IF($T$144=$O$133,Funktioner!AT118,IF($T$144=$P$133,Funktioner!BE118,IF($T$144=$Q$133,Funktioner!BP118,\"\")))))))","v":""},{"$f":"IF($K165=\"\",\"\",IF($T$144=$L$133,Funktioner!N118,IF($T$144=$M$133,Funktioner!Y118,IF($T$144=$N$133,Funktioner!AJ118,IF($T$144=$O$133,Funktioner!AU118,IF($T$144=$P$133,Funktioner!BF118,IF($T$144=$Q$133,Funktioner!BQ118,\"\")))))))","v":""},{"$f":"IF($K165=\"\",\"\",IF($T$144=$L$133,Funktioner!O118,IF($T$144=$M$133,Funktioner!Z118,IF($T$144=$N$133,Funktioner!AK118,IF($T$144=$O$133,Funktioner!AV118,IF($T$144=$P$133,Funktioner!BG118,IF($T$144=$Q$133,Funktioner!BR118,\"\")))))))","v":""},{"$f":"IF($K165=\"\",\"\",IF($T$144=$L$133,Funktioner!P118,IF($T$144=$M$133,Funktioner!AA118,IF($T$144=$N$133,Funktioner!AL118,IF($T$144=$O$133,Funktioner!AW118,IF($T$144=$P$133,Funktioner!BH118,IF($T$144=$Q$133,Funktioner!BS118,\"\")))))))","v":""},{"$f":"IF($K165=\"\",\"\",IF($T$144=$L$133,Funktioner!Q118,IF($T$144=$M$133,Funktioner!AB118,IF($T$144=$N$133,Funktioner!AM118,IF($T$144=$O$133,Funktioner!AX118,IF($T$144=$P$133,Funktioner!BI118,IF($T$144=$Q$133,Funktioner!BT118,\"\")))))))","v":""},{"$f":"IF($K165=\"\",\"\",IF($T$144=$L$133,Funktioner!R118,IF($T$144=$M$133,Funktioner!AC118,IF($T$144=$N$133,Funktioner!AN118,IF($T$144=$O$133,Funktioner!AY118,IF($T$144=$P$133,Funktioner!BJ118,IF($T$144=$Q$133,Funktioner!BU118,\"\")))))))","v":""},{"$f":"IF($K165=\"\",\"\",IF($T$144=$L$133,Funktioner!S118,IF($T$144=$M$133,Funktioner!AD118,IF($T$144=$N$133,Funktioner!AO118,IF($T$144=$O$133,Funktioner!AZ118,IF($T$144=$P$133,Funktioner!BK118,IF($T$144=$Q$133,Funktioner!BV118,\"\")))))))","v":""},{"$f":"IF($K165=\"\",\"\",IF($T$144=$L$133,Funktioner!T118,IF($T$144=$M$133,Funktioner!AE118,IF($T$144=$N$133,Funktioner!AP118,IF($T$144=$O$133,Funktioner!BA118,IF($T$144=$P$133,Funktioner!BL118,IF($T$144=$Q$133,Funktioner!BW118,\"\")))))))","v":""},null,null,null,null,null,null,null,null,null,null,null,null,null,null,null,null,null,null,null,null,null,null,null,null,null,null,null,null,null,null,null,null,null,null,null,null,null,null,null,null,null,null,null,null,null,null,null,null,null,null,null,null,null,null,null,null,null,{"$f":"IF('Avtalat sortiment'!K165<>\"\",'Avtalat sortiment'!$A165&'Avtalat sortiment'!Q165,\"\")","v":""},{"$f":"IF('Avtalat sortiment'!U165<>\"\",'Avtalat sortiment'!T165&'Avtalat sortiment'!AA165,\"\")","v":""},{"$f":"IF('Avtalat sortiment'!AE165<>\"\",'Avtalat sortiment'!AD165&'Avtalat sortiment'!AK165,\"\")","v":""},{"$f":"IF('Avtalat sortiment'!AO165<>\"\",'Avtalat sortiment'!AN165&'Avtalat sortiment'!AU165,\"\")","v":""},{"$f":"IF('Avtalat sortiment'!AY165<>\"\",'Avtalat sortiment'!AX165&'Avtalat sortiment'!BE165,\"\")","v":""},{"$f":"IF('Avtalat sortiment'!BI165<>\"\",'Avtalat sortiment'!BH165&'Avtalat sortiment'!BO165,\"\")","v":""}]
[null,null,null,null,null,null,null,null,null,null,{"$f":"Funktioner!$K119","v":""},{"$f":"IF($K166=\"\",\"\",IF($T$144=$L$133,Funktioner!L119,IF($T$144=$M$133,Funktioner!W119,IF($T$144=$N$133,Funktioner!AH119,IF($T$144=$O$133,Funktioner!AS119,IF($T$144=$P$133,Funktioner!BD119,IF($T$144=$Q$133,Funktioner!BO119,\"\")))))))","v":""},{"$f":"IF($K166=\"\",\"\",IF($T$144=$L$133,Funktioner!M119,IF($T$144=$M$133,Funktioner!X119,IF($T$144=$N$133,Funktioner!AI119,IF($T$144=$O$133,Funktioner!AT119,IF($T$144=$P$133,Funktioner!BE119,IF($T$144=$Q$133,Funktioner!BP119,\"\")))))))","v":""},{"$f":"IF($K166=\"\",\"\",IF($T$144=$L$133,Funktioner!N119,IF($T$144=$M$133,Funktioner!Y119,IF($T$144=$N$133,Funktioner!AJ119,IF($T$144=$O$133,Funktioner!AU119,IF($T$144=$P$133,Funktioner!BF119,IF($T$144=$Q$133,Funktioner!BQ119,\"\")))))))","v":""},{"$f":"IF($K166=\"\",\"\",IF($T$144=$L$133,Funktioner!O119,IF($T$144=$M$133,Funktioner!Z119,IF($T$144=$N$133,Funktioner!AK119,IF($T$144=$O$133,Funktioner!AV119,IF($T$144=$P$133,Funktioner!BG119,IF($T$144=$Q$133,Funktioner!BR119,\"\")))))))","v":""},{"$f":"IF($K166=\"\",\"\",IF($T$144=$L$133,Funktioner!P119,IF($T$144=$M$133,Funktioner!AA119,IF($T$144=$N$133,Funktioner!AL119,IF($T$144=$O$133,Funktioner!AW119,IF($T$144=$P$133,Funktioner!BH119,IF($T$144=$Q$133,Funktioner!BS119,\"\")))))))","v":""},{"$f":"IF($K166=\"\",\"\",IF($T$144=$L$133,Funktioner!Q119,IF($T$144=$M$133,Funktioner!AB119,IF($T$144=$N$133,Funktioner!AM119,IF($T$144=$O$133,Funktioner!AX119,IF($T$144=$P$133,Funktioner!BI119,IF($T$144=$Q$133,Funktioner!BT119,\"\")))))))","v":""},{"$f":"IF($K166=\"\",\"\",IF($T$144=$L$133,Funktioner!R119,IF($T$144=$M$133,Funktioner!AC119,IF($T$144=$N$133,Funktioner!AN119,IF($T$144=$O$133,Funktioner!AY119,IF($T$144=$P$133,Funktioner!BJ119,IF($T$144=$Q$133,Funktioner!BU119,\"\")))))))","v":""},{"$f":"IF($K166=\"\",\"\",IF($T$144=$L$133,Funktioner!S119,IF($T$144=$M$133,Funktioner!AD119,IF($T$144=$N$133,Funktioner!AO119,IF($T$144=$O$133,Funktioner!AZ119,IF($T$144=$P$133,Funktioner!BK119,IF($T$144=$Q$133,Funktioner!BV119,\"\")))))))","v":""},{"$f":"IF($K166=\"\",\"\",IF($T$144=$L$133,Funktioner!T119,IF($T$144=$M$133,Funktioner!AE119,IF($T$144=$N$133,Funktioner!AP119,IF($T$144=$O$133,Funktioner!BA119,IF($T$144=$P$133,Funktioner!BL119,IF($T$144=$Q$133,Funktioner!BW119,\"\")))))))","v":""},null,null,null,null,null,null,null,null,null,null,null,null,null,null,null,null,null,null,null,null,null,null,null,null,null,null,null,null,null,null,null,null,null,null,null,null,null,null,null,null,null,null,null,null,null,null,null,null,null,null,null,null,null,null,null,null,null,{"$f":"IF('Avtalat sortiment'!K166<>\"\",'Avtalat sortiment'!$A166&'Avtalat sortiment'!Q166,\"\")","v":""},{"$f":"IF('Avtalat sortiment'!U166<>\"\",'Avtalat sortiment'!T166&'Avtalat sortiment'!AA166,\"\")","v":""},{"$f":"IF('Avtalat sortiment'!AE166<>\"\",'Avtalat sortiment'!AD166&'Avtalat sortiment'!AK166,\"\")","v":""},{"$f":"IF('Avtalat sortiment'!AO166<>\"\",'Avtalat sortiment'!AN166&'Avtalat sortiment'!AU166,\"\")","v":""},{"$f":"IF('Avtalat sortiment'!AY166<>\"\",'Avtalat sortiment'!AX166&'Avtalat sortiment'!BE166,\"\")","v":""},{"$f":"IF('Avtalat sortiment'!BI166<>\"\",'Avtalat sortiment'!BH166&'Avtalat sortiment'!BO166,\"\")","v":""}]
[null,null,null,null,null,null,null,null,null,null,{"$f":"Funktioner!$K120","v":""},{"$f":"IF($K167=\"\",\"\",IF($T$144=$L$133,Funktioner!L120,IF($T$144=$M$133,Funktioner!W120,IF($T$144=$N$133,Funktioner!AH120,IF($T$144=$O$133,Funktioner!AS120,IF($T$144=$P$133,Funktioner!BD120,IF($T$144=$Q$133,Funktioner!BO120,\"\")))))))","v":""},{"$f":"IF($K167=\"\",\"\",IF($T$144=$L$133,Funktioner!M120,IF($T$144=$M$133,Funktioner!X120,IF($T$144=$N$133,Funktioner!AI120,IF($T$144=$O$133,Funktioner!AT120,IF($T$144=$P$133,Funktioner!BE120,IF($T$144=$Q$133,Funktioner!BP120,\"\")))))))","v":""},{"$f":"IF($K167=\"\",\"\",IF($T$144=$L$133,Funktioner!N120,IF($T$144=$M$133,Funktioner!Y120,IF($T$144=$N$133,Funktioner!AJ120,IF($T$144=$O$133,Funktioner!AU120,IF($T$144=$P$133,Funktioner!BF120,IF($T$144=$Q$133,Funktioner!BQ120,\"\")))))))","v":""},{"$f":"IF($K167=\"\",\"\",IF($T$144=$L$133,Funktioner!O120,IF($T$144=$M$133,Funktioner!Z120,IF($T$144=$N$133,Funktioner!AK120,IF($T$144=$O$133,Funktioner!AV120,IF($T$144=$P$133,Funktioner!BG120,IF($T$144=$Q$133,Funktioner!BR120,\"\")))))))","v":""},{"$f":"IF($K167=\"\",\"\",IF($T$144=$L$133,Funktioner!P120,IF($T$144=$M$133,Funktioner!AA120,IF($T$144=$N$133,Funktioner!AL120,IF($T$144=$O$133,Funktioner!AW120,IF($T$144=$P$133,Funktioner!BH120,IF($T$144=$Q$133,Funktioner!BS120,\"\")))))))","v":""},{"$f":"IF($K167=\"\",\"\",IF($T$144=$L$133,Funktioner!Q120,IF($T$144=$M$133,Funktioner!AB120,IF($T$144=$N$133,Funktioner!AM120,IF($T$144=$O$133,Funktioner!AX120,IF($T$144=$P$133,Funktioner!BI120,IF($T$144=$Q$133,Funktioner!BT120,\"\")))))))","v":""},{"$f":"IF($K167=\"\",\"\",IF($T$144=$L$133,Funktioner!R120,IF($T$144=$M$133,Funktioner!AC120,IF($T$144=$N$133,Funktioner!AN120,IF($T$144=$O$133,Funktioner!AY120,IF($T$144=$P$133,Funktioner!BJ120,IF($T$144=$Q$133,Funktioner!BU120,\"\")))))))","v":""},{"$f":"IF($K167=\"\",\"\",IF($T$144=$L$133,Funktioner!S120,IF($T$144=$M$133,Funktioner!AD120,IF($T$144=$N$133,Funktioner!AO120,IF($T$144=$O$133,Funktioner!AZ120,IF($T$144=$P$133,Funktioner!BK120,IF($T$144=$Q$133,Funktioner!BV120,\"\")))))))","v":""},{"$f":"IF($K167=\"\",\"\",IF($T$144=$L$133,Funktioner!T120,IF($T$144=$M$133,Funktioner!AE120,IF($T$144=$N$133,Funktioner!AP120,IF($T$144=$O$133,Funktioner!BA120,IF($T$144=$P$133,Funktioner!BL120,IF($T$144=$Q$133,Funktioner!BW120,\"\")))))))","v":""},null,null,null,null,null,null,null,null,null,null,null,null,null,null,null,null,null,null,null,null,null,null,null,null,null,null,null,null,null,null,null,null,null,null,null,null,null,null,null,null,null,null,null,null,null,null,null,null,null,null,null,null,null,null,null,null,null,{"$f":"IF('Avtalat sortiment'!K167<>\"\",'Avtalat sortiment'!$A167&'Avtalat sortiment'!Q167,\"\")","v":""},{"$f":"IF('Avtalat sortiment'!U167<>\"\",'Avtalat sortiment'!T167&'Avtalat sortiment'!AA167,\"\")","v":""},{"$f":"IF('Avtalat sortiment'!AE167<>\"\",'Avtalat sortiment'!AD167&'Avtalat sortiment'!AK167,\"\")","v":""},{"$f":"IF('Avtalat sortiment'!AO167<>\"\",'Avtalat sortiment'!AN167&'Avtalat sortiment'!AU167,\"\")","v":""},{"$f":"IF('Avtalat sortiment'!AY167<>\"\",'Avtalat sortiment'!AX167&'Avtalat sortiment'!BE167,\"\")","v":""},{"$f":"IF('Avtalat sortiment'!BI167<>\"\",'Avtalat sortiment'!BH167&'Avtalat sortiment'!BO167,\"\")","v":""}]
[null,null,null,null,null,null,null,null,null,null,{"$f":"Funktioner!$K121","v":""},{"$f":"IF($K168=\"\",\"\",IF($T$144=$L$133,Funktioner!L121,IF($T$144=$M$133,Funktioner!W121,IF($T$144=$N$133,Funktioner!AH121,IF($T$144=$O$133,Funktioner!AS121,IF($T$144=$P$133,Funktioner!BD121,IF($T$144=$Q$133,Funktioner!BO121,\"\")))))))","v":""},{"$f":"IF($K168=\"\",\"\",IF($T$144=$L$133,Funktioner!M121,IF($T$144=$M$133,Funktioner!X121,IF($T$144=$N$133,Funktioner!AI121,IF($T$144=$O$133,Funktioner!AT121,IF($T$144=$P$133,Funktioner!BE121,IF($T$144=$Q$133,Funktioner!BP121,\"\")))))))","v":""},{"$f":"IF($K168=\"\",\"\",IF($T$144=$L$133,Funktioner!N121,IF($T$144=$M$133,Funktioner!Y121,IF($T$144=$N$133,Funktioner!AJ121,IF($T$144=$O$133,Funktioner!AU121,IF($T$144=$P$133,Funktioner!BF121,IF($T$144=$Q$133,Funktioner!BQ121,\"\")))))))","v":""},{"$f":"IF($K168=\"\",\"\",IF($T$144=$L$133,Funktioner!O121,IF($T$144=$M$133,Funktioner!Z121,IF($T$144=$N$133,Funktioner!AK121,IF($T$144=$O$133,Funktioner!AV121,IF($T$144=$P$133,Funktioner!BG121,IF($T$144=$Q$133,Funktioner!BR121,\"\")))))))","v":""},{"$f":"IF($K168=\"\",\"\",IF($T$144=$L$133,Funktioner!P121,IF($T$144=$M$133,Funktioner!AA121,IF($T$144=$N$133,Funktioner!AL121,IF($T$144=$O$133,Funktioner!AW121,IF($T$144=$P$133,Funktioner!BH121,IF($T$144=$Q$133,Funktioner!BS121,\"\")))))))","v":""},{"$f":"IF($K168=\"\",\"\",IF($T$144=$L$133,Funktioner!Q121,IF($T$144=$M$133,Funktioner!AB121,IF($T$144=$N$133,Funktioner!AM121,IF($T$144=$O$133,Funktioner!AX121,IF($T$144=$P$133,Funktioner!BI121,IF($T$144=$Q$133,Funktioner!BT121,\"\")))))))","v":""},{"$f":"IF($K168=\"\",\"\",IF($T$144=$L$133,Funktioner!R121,IF($T$144=$M$133,Funktioner!AC121,IF($T$144=$N$133,Funktioner!AN121,IF($T$144=$O$133,Funktioner!AY121,IF($T$144=$P$133,Funktioner!BJ121,IF($T$144=$Q$133,Funktioner!BU121,\"\")))))))","v":""},{"$f":"IF($K168=\"\",\"\",IF($T$144=$L$133,Funktioner!S121,IF($T$144=$M$133,Funktioner!AD121,IF($T$144=$N$133,Funktioner!AO121,IF($T$144=$O$133,Funktioner!AZ121,IF($T$144=$P$133,Funktioner!BK121,IF($T$144=$Q$133,Funktioner!BV121,\"\")))))))","v":""},{"$f":"IF($K168=\"\",\"\",IF($T$144=$L$133,Funktioner!T121,IF($T$144=$M$133,Funktioner!AE121,IF($T$144=$N$133,Funktioner!AP121,IF($T$144=$O$133,Funktioner!BA121,IF($T$144=$P$133,Funktioner!BL121,IF($T$144=$Q$133,Funktioner!BW121,\"\")))))))","v":""},null,null,null,null,null,null,null,null,null,null,null,null,null,null,null,null,null,null,null,null,null,null,null,null,null,null,null,null,null,null,null,null,null,null,null,null,null,null,null,null,null,null,null,null,null,null,null,null,null,null,null,null,null,null,null,null,null,{"$f":"IF('Avtalat sortiment'!K168<>\"\",'Avtalat sortiment'!$A168&'Avtalat sortiment'!Q168,\"\")","v":""},{"$f":"IF('Avtalat sortiment'!U168<>\"\",'Avtalat sortiment'!T168&'Avtalat sortiment'!AA168,\"\")","v":""},{"$f":"IF('Avtalat sortiment'!AE168<>\"\",'Avtalat sortiment'!AD168&'Avtalat sortiment'!AK168,\"\")","v":""},{"$f":"IF('Avtalat sortiment'!AO168<>\"\",'Avtalat sortiment'!AN168&'Avtalat sortiment'!AU168,\"\")","v":""},{"$f":"IF('Avtalat sortiment'!AY168<>\"\",'Avtalat sortiment'!AX168&'Avtalat sortiment'!BE168,\"\")","v":""},{"$f":"IF('Avtalat sortiment'!BI168<>\"\",'Avtalat sortiment'!BH168&'Avtalat sortiment'!BO168,\"\")","v":""}]
[null,null,null,null,null,null,null,null,null,null,{"$f":"Funktioner!$K122","v":""},{"$f":"IF($K169=\"\",\"\",IF($T$144=$L$133,Funktioner!L122,IF($T$144=$M$133,Funktioner!W122,IF($T$144=$N$133,Funktioner!AH122,IF($T$144=$O$133,Funktioner!AS122,IF($T$144=$P$133,Funktioner!BD122,IF($T$144=$Q$133,Funktioner!BO122,\"\")))))))","v":""},{"$f":"IF($K169=\"\",\"\",IF($T$144=$L$133,Funktioner!M122,IF($T$144=$M$133,Funktioner!X122,IF($T$144=$N$133,Funktioner!AI122,IF($T$144=$O$133,Funktioner!AT122,IF($T$144=$P$133,Funktioner!BE122,IF($T$144=$Q$133,Funktioner!BP122,\"\")))))))","v":""},{"$f":"IF($K169=\"\",\"\",IF($T$144=$L$133,Funktioner!N122,IF($T$144=$M$133,Funktioner!Y122,IF($T$144=$N$133,Funktioner!AJ122,IF($T$144=$O$133,Funktioner!AU122,IF($T$144=$P$133,Funktioner!BF122,IF($T$144=$Q$133,Funktioner!BQ122,\"\")))))))","v":""},{"$f":"IF($K169=\"\",\"\",IF($T$144=$L$133,Funktioner!O122,IF($T$144=$M$133,Funktioner!Z122,IF($T$144=$N$133,Funktioner!AK122,IF($T$144=$O$133,Funktioner!AV122,IF($T$144=$P$133,Funktioner!BG122,IF($T$144=$Q$133,Funktioner!BR122,\"\")))))))","v":""},{"$f":"IF($K169=\"\",\"\",IF($T$144=$L$133,Funktioner!P122,IF($T$144=$M$133,Funktioner!AA122,IF($T$144=$N$133,Funktioner!AL122,IF($T$144=$O$133,Funktioner!AW122,IF($T$144=$P$133,Funktioner!BH122,IF($T$144=$Q$133,Funktioner!BS122,\"\")))))))","v":""},{"$f":"IF($K169=\"\",\"\",IF($T$144=$L$133,Funktioner!Q122,IF($T$144=$M$133,Funktioner!AB122,IF($T$144=$N$133,Funktioner!AM122,IF($T$144=$O$133,Funktioner!AX122,IF($T$144=$P$133,Funktioner!BI122,IF($T$144=$Q$133,Funktioner!BT122,\"\")))))))","v":""},{"$f":"IF($K169=\"\",\"\",IF($T$144=$L$133,Funktioner!R122,IF($T$144=$M$133,Funktioner!AC122,IF($T$144=$N$133,Funktioner!AN122,IF($T$144=$O$133,Funktioner!AY122,IF($T$144=$P$133,Funktioner!BJ122,IF($T$144=$Q$133,Funktioner!BU122,\"\")))))))","v":""},{"$f":"IF($K169=\"\",\"\",IF($T$144=$L$133,Funktioner!S122,IF($T$144=$M$133,Funktioner!AD122,IF($T$144=$N$133,Funktioner!AO122,IF($T$144=$O$133,Funktioner!AZ122,IF($T$144=$P$133,Funktioner!BK122,IF($T$144=$Q$133,Funktioner!BV122,\"\")))))))","v":""},{"$f":"IF($K169=\"\",\"\",IF($T$144=$L$133,Funktioner!T122,IF($T$144=$M$133,Funktioner!AE122,IF($T$144=$N$133,Funktioner!AP122,IF($T$144=$O$133,Funktioner!BA122,IF($T$144=$P$133,Funktioner!BL122,IF($T$144=$Q$133,Funktioner!BW122,\"\")))))))","v":""},null,null,null,null,null,null,null,null,null,null,null,null,null,null,null,null,null,null,null,null,null,null,null,null,null,null,null,null,null,null,null,null,null,null,null,null,null,null,null,null,null,null,null,null,null,null,null,null,null,null,null,null,null,null,null,null,null,{"$f":"IF('Avtalat sortiment'!K169<>\"\",'Avtalat sortiment'!$A169&'Avtalat sortiment'!Q169,\"\")","v":""},{"$f":"IF('Avtalat sortiment'!U169<>\"\",'Avtalat sortiment'!T169&'Avtalat sortiment'!AA169,\"\")","v":""},{"$f":"IF('Avtalat sortiment'!AE169<>\"\",'Avtalat sortiment'!AD169&'Avtalat sortiment'!AK169,\"\")","v":""},{"$f":"IF('Avtalat sortiment'!AO169<>\"\",'Avtalat sortiment'!AN169&'Avtalat sortiment'!AU169,\"\")","v":""},{"$f":"IF('Avtalat sortiment'!AY169<>\"\",'Avtalat sortiment'!AX169&'Avtalat sortiment'!BE169,\"\")","v":""},{"$f":"IF('Avtalat sortiment'!BI169<>\"\",'Avtalat sortiment'!BH169&'Avtalat sortiment'!BO169,\"\")","v":""}]
[null,null,null,null,null,null,null,null,null,null,{"$f":"Funktioner!$K123","v":""},{"$f":"IF($K170=\"\",\"\",IF($T$144=$L$133,Funktioner!L123,IF($T$144=$M$133,Funktioner!W123,IF($T$144=$N$133,Funktioner!AH123,IF($T$144=$O$133,Funktioner!AS123,IF($T$144=$P$133,Funktioner!BD123,IF($T$144=$Q$133,Funktioner!BO123,\"\")))))))","v":""},{"$f":"IF($K170=\"\",\"\",IF($T$144=$L$133,Funktioner!M123,IF($T$144=$M$133,Funktioner!X123,IF($T$144=$N$133,Funktioner!AI123,IF($T$144=$O$133,Funktioner!AT123,IF($T$144=$P$133,Funktioner!BE123,IF($T$144=$Q$133,Funktioner!BP123,\"\")))))))","v":""},{"$f":"IF($K170=\"\",\"\",IF($T$144=$L$133,Funktioner!N123,IF($T$144=$M$133,Funktioner!Y123,IF($T$144=$N$133,Funktioner!AJ123,IF($T$144=$O$133,Funktioner!AU123,IF($T$144=$P$133,Funktioner!BF123,IF($T$144=$Q$133,Funktioner!BQ123,\"\")))))))","v":""},{"$f":"IF($K170=\"\",\"\",IF($T$144=$L$133,Funktioner!O123,IF($T$144=$M$133,Funktioner!Z123,IF($T$144=$N$133,Funktioner!AK123,IF($T$144=$O$133,Funktioner!AV123,IF($T$144=$P$133,Funktioner!BG123,IF($T$144=$Q$133,Funktioner!BR123,\"\")))))))","v":""},{"$f":"IF($K170=\"\",\"\",IF($T$144=$L$133,Funktioner!P123,IF($T$144=$M$133,Funktioner!AA123,IF($T$144=$N$133,Funktioner!AL123,IF($T$144=$O$133,Funktioner!AW123,IF($T$144=$P$133,Funktioner!BH123,IF($T$144=$Q$133,Funktioner!BS123,\"\")))))))","v":""},{"$f":"IF($K170=\"\",\"\",IF($T$144=$L$133,Funktioner!Q123,IF($T$144=$M$133,Funktioner!AB123,IF($T$144=$N$133,Funktioner!AM123,IF($T$144=$O$133,Funktioner!AX123,IF($T$144=$P$133,Funktioner!BI123,IF($T$144=$Q$133,Funktioner!BT123,\"\")))))))","v":""},{"$f":"IF($K170=\"\",\"\",IF($T$144=$L$133,Funktioner!R123,IF($T$144=$M$133,Funktioner!AC123,IF($T$144=$N$133,Funktioner!AN123,IF($T$144=$O$133,Funktioner!AY123,IF($T$144=$P$133,Funktioner!BJ123,IF($T$144=$Q$133,Funktioner!BU123,\"\")))))))","v":""},{"$f":"IF($K170=\"\",\"\",IF($T$144=$L$133,Funktioner!S123,IF($T$144=$M$133,Funktioner!AD123,IF($T$144=$N$133,Funktioner!AO123,IF($T$144=$O$133,Funktioner!AZ123,IF($T$144=$P$133,Funktioner!BK123,IF($T$144=$Q$133,Funktioner!BV123,\"\")))))))","v":""},{"$f":"IF($K170=\"\",\"\",IF($T$144=$L$133,Funktioner!T123,IF($T$144=$M$133,Funktioner!AE123,IF($T$144=$N$133,Funktioner!AP123,IF($T$144=$O$133,Funktioner!BA123,IF($T$144=$P$133,Funktioner!BL123,IF($T$144=$Q$133,Funktioner!BW123,\"\")))))))","v":""},null,null,null,null,null,null,null,null,null,null,null,null,null,null,null,null,null,null,null,null,null,null,null,null,null,null,null,null,null,null,null,null,null,null,null,null,null,null,null,null,null,null,null,null,null,null,null,null,null,null,null,null,null,null,null,null,null,{"$f":"IF('Avtalat sortiment'!K170<>\"\",'Avtalat sortiment'!$A170&'Avtalat sortiment'!Q170,\"\")","v":""},{"$f":"IF('Avtalat sortiment'!U170<>\"\",'Avtalat sortiment'!T170&'Avtalat sortiment'!AA170,\"\")","v":""},{"$f":"IF('Avtalat sortiment'!AE170<>\"\",'Avtalat sortiment'!AD170&'Avtalat sortiment'!AK170,\"\")","v":""},{"$f":"IF('Avtalat sortiment'!AO170<>\"\",'Avtalat sortiment'!AN170&'Avtalat sortiment'!AU170,\"\")","v":""},{"$f":"IF('Avtalat sortiment'!AY170<>\"\",'Avtalat sortiment'!AX170&'Avtalat sortiment'!BE170,\"\")","v":""},{"$f":"IF('Avtalat sortiment'!BI170<>\"\",'Avtalat sortiment'!BH170&'Avtalat sortiment'!BO170,\"\")","v":""}]
[null,null,null,null,null,null,null,null,null,null,{"$f":"Funktioner!$K124","v":""},{"$f":"IF($K171=\"\",\"\",IF($T$144=$L$133,Funktioner!L124,IF($T$144=$M$133,Funktioner!W124,IF($T$144=$N$133,Funktioner!AH124,IF($T$144=$O$133,Funktioner!AS124,IF($T$144=$P$133,Funktioner!BD124,IF($T$144=$Q$133,Funktioner!BO124,\"\")))))))","v":""},{"$f":"IF($K171=\"\",\"\",IF($T$144=$L$133,Funktioner!M124,IF($T$144=$M$133,Funktioner!X124,IF($T$144=$N$133,Funktioner!AI124,IF($T$144=$O$133,Funktioner!AT124,IF($T$144=$P$133,Funktioner!BE124,IF($T$144=$Q$133,Funktioner!BP124,\"\")))))))","v":""},{"$f":"IF($K171=\"\",\"\",IF($T$144=$L$133,Funktioner!N124,IF($T$144=$M$133,Funktioner!Y124,IF($T$144=$N$133,Funktioner!AJ124,IF($T$144=$O$133,Funktioner!AU124,IF($T$144=$P$133,Funktioner!BF124,IF($T$144=$Q$133,Funktioner!BQ124,\"\")))))))","v":""},{"$f":"IF($K171=\"\",\"\",IF($T$144=$L$133,Funktioner!O124,IF($T$144=$M$133,Funktioner!Z124,IF($T$144=$N$133,Funktioner!AK124,IF($T$144=$O$133,Funktioner!AV124,IF($T$144=$P$133,Funktioner!BG124,IF($T$144=$Q$133,Funktioner!BR124,\"\")))))))","v":""},{"$f":"IF($K171=\"\",\"\",IF($T$144=$L$133,Funktioner!P124,IF($T$144=$M$133,Funktioner!AA124,IF($T$144=$N$133,Funktioner!AL124,IF($T$144=$O$133,Funktioner!AW124,IF($T$144=$P$133,Funktioner!BH124,IF($T$144=$Q$133,Funktioner!BS124,\"\")))))))","v":""},{"$f":"IF($K171=\"\",\"\",IF($T$144=$L$133,Funktioner!Q124,IF($T$144=$M$133,Funktioner!AB124,IF($T$144=$N$133,Funktioner!AM124,IF($T$144=$O$133,Funktioner!AX124,IF($T$144=$P$133,Funktioner!BI124,IF($T$144=$Q$133,Funktioner!BT124,\"\")))))))","v":""},{"$f":"IF($K171=\"\",\"\",IF($T$144=$L$133,Funktioner!R124,IF($T$144=$M$133,Funktioner!AC124,IF($T$144=$N$133,Funktioner!AN124,IF($T$144=$O$133,Funktioner!AY124,IF($T$144=$P$133,Funktioner!BJ124,IF($T$144=$Q$133,Funktioner!BU124,\"\")))))))","v":""},{"$f":"IF($K171=\"\",\"\",IF($T$144=$L$133,Funktioner!S124,IF($T$144=$M$133,Funktioner!AD124,IF($T$144=$N$133,Funktioner!AO124,IF($T$144=$O$133,Funktioner!AZ124,IF($T$144=$P$133,Funktioner!BK124,IF($T$144=$Q$133,Funktioner!BV124,\"\")))))))","v":""},{"$f":"IF($K171=\"\",\"\",IF($T$144=$L$133,Funktioner!T124,IF($T$144=$M$133,Funktioner!AE124,IF($T$144=$N$133,Funktioner!AP124,IF($T$144=$O$133,Funktioner!BA124,IF($T$144=$P$133,Funktioner!BL124,IF($T$144=$Q$133,Funktioner!BW124,\"\")))))))","v":""},null,null,null,null,null,null,null,null,null,null,null,null,null,null,null,null,null,null,null,null,null,null,null,null,null,null,null,null,null,null,null,null,null,null,null,null,null,null,null,null,null,null,null,null,null,null,null,null,null,null,null,null,null,null,null,null,null,{"$f":"IF('Avtalat sortiment'!K171<>\"\",'Avtalat sortiment'!$A171&'Avtalat sortiment'!Q171,\"\")","v":""},{"$f":"IF('Avtalat sortiment'!U171<>\"\",'Avtalat sortiment'!T171&'Avtalat sortiment'!AA171,\"\")","v":""},{"$f":"IF('Avtalat sortiment'!AE171<>\"\",'Avtalat sortiment'!AD171&'Avtalat sortiment'!AK171,\"\")","v":""},{"$f":"IF('Avtalat sortiment'!AO171<>\"\",'Avtalat sortiment'!AN171&'Avtalat sortiment'!AU171,\"\")","v":""},{"$f":"IF('Avtalat sortiment'!AY171<>\"\",'Avtalat sortiment'!AX171&'Avtalat sortiment'!BE171,\"\")","v":""},{"$f":"IF('Avtalat sortiment'!BI171<>\"\",'Avtalat sortiment'!BH171&'Avtalat sortiment'!BO171,\"\")","v":""}]
[null,null,null,null,null,null,null,null,null,null,{"$f":"Funktioner!$K125","v":""},{"$f":"IF($K172=\"\",\"\",IF($T$144=$L$133,Funktioner!L125,IF($T$144=$M$133,Funktioner!W125,IF($T$144=$N$133,Funktioner!AH125,IF($T$144=$O$133,Funktioner!AS125,IF($T$144=$P$133,Funktioner!BD125,IF($T$144=$Q$133,Funktioner!BO125,\"\")))))))","v":""},{"$f":"IF($K172=\"\",\"\",IF($T$144=$L$133,Funktioner!M125,IF($T$144=$M$133,Funktioner!X125,IF($T$144=$N$133,Funktioner!AI125,IF($T$144=$O$133,Funktioner!AT125,IF($T$144=$P$133,Funktioner!BE125,IF($T$144=$Q$133,Funktioner!BP125,\"\")))))))","v":""},{"$f":"IF($K172=\"\",\"\",IF($T$144=$L$133,Funktioner!N125,IF($T$144=$M$133,Funktioner!Y125,IF($T$144=$N$133,Funktioner!AJ125,IF($T$144=$O$133,Funktioner!AU125,IF($T$144=$P$133,Funktioner!BF125,IF($T$144=$Q$133,Funktioner!BQ125,\"\")))))))","v":""},{"$f":"IF($K172=\"\",\"\",IF($T$144=$L$133,Funktioner!O125,IF($T$144=$M$133,Funktioner!Z125,IF($T$144=$N$133,Funktioner!AK125,IF($T$144=$O$133,Funktioner!AV125,IF($T$144=$P$133,Funktioner!BG125,IF($T$144=$Q$133,Funktioner!BR125,\"\")))))))","v":""},{"$f":"IF($K172=\"\",\"\",IF($T$144=$L$133,Funktioner!P125,IF($T$144=$M$133,Funktioner!AA125,IF($T$144=$N$133,Funktioner!AL125,IF($T$144=$O$133,Funktioner!AW125,IF($T$144=$P$133,Funktioner!BH125,IF($T$144=$Q$133,Funktioner!BS125,\"\")))))))","v":""},{"$f":"IF($K172=\"\",\"\",IF($T$144=$L$133,Funktioner!Q125,IF($T$144=$M$133,Funktioner!AB125,IF($T$144=$N$133,Funktioner!AM125,IF($T$144=$O$133,Funktioner!AX125,IF($T$144=$P$133,Funktioner!BI125,IF($T$144=$Q$133,Funktioner!BT125,\"\")))))))","v":""},{"$f":"IF($K172=\"\",\"\",IF($T$144=$L$133,Funktioner!R125,IF($T$144=$M$133,Funktioner!AC125,IF($T$144=$N$133,Funktioner!AN125,IF($T$144=$O$133,Funktioner!AY125,IF($T$144=$P$133,Funktioner!BJ125,IF($T$144=$Q$133,Funktioner!BU125,\"\")))))))","v":""},{"$f":"IF($K172=\"\",\"\",IF($T$144=$L$133,Funktioner!S125,IF($T$144=$M$133,Funktioner!AD125,IF($T$144=$N$133,Funktioner!AO125,IF($T$144=$O$133,Funktioner!AZ125,IF($T$144=$P$133,Funktioner!BK125,IF($T$144=$Q$133,Funktioner!BV125,\"\")))))))","v":""},{"$f":"IF($K172=\"\",\"\",IF($T$144=$L$133,Funktioner!T125,IF($T$144=$M$133,Funktioner!AE125,IF($T$144=$N$133,Funktioner!AP125,IF($T$144=$O$133,Funktioner!BA125,IF($T$144=$P$133,Funktioner!BL125,IF($T$144=$Q$133,Funktioner!BW125,\"\")))))))","v":""},null,null,null,null,null,null,null,null,null,null,null,null,null,null,null,null,null,null,null,null,null,null,null,null,null,null,null,null,null,null,null,null,null,null,null,null,null,null,null,null,null,null,null,null,null,null,null,null,null,null,null,null,null,null,null,null,null,{"$f":"IF('Avtalat sortiment'!K172<>\"\",'Avtalat sortiment'!$A172&'Avtalat sortiment'!Q172,\"\")","v":""},{"$f":"IF('Avtalat sortiment'!U172<>\"\",'Avtalat sortiment'!T172&'Avtalat sortiment'!AA172,\"\")","v":""},{"$f":"IF('Avtalat sortiment'!AE172<>\"\",'Avtalat sortiment'!AD172&'Avtalat sortiment'!AK172,\"\")","v":""},{"$f":"IF('Avtalat sortiment'!AO172<>\"\",'Avtalat sortiment'!AN172&'Avtalat sortiment'!AU172,\"\")","v":""},{"$f":"IF('Avtalat sortiment'!AY172<>\"\",'Avtalat sortiment'!AX172&'Avtalat sortiment'!BE172,\"\")","v":""},{"$f":"IF('Avtalat sortiment'!BI172<>\"\",'Avtalat sortiment'!BH172&'Avtalat sortiment'!BO172,\"\")","v":""}]
[null,null,null,null,null,null,null,null,null,null,{"$f":"Funktioner!$K126","v":""},{"$f":"IF($K173=\"\",\"\",IF($T$144=$L$133,Funktioner!L126,IF($T$144=$M$133,Funktioner!W126,IF($T$144=$N$133,Funktioner!AH126,IF($T$144=$O$133,Funktioner!AS126,IF($T$144=$P$133,Funktioner!BD126,IF($T$144=$Q$133,Funktioner!BO126,\"\")))))))","v":""},{"$f":"IF($K173=\"\",\"\",IF($T$144=$L$133,Funktioner!M126,IF($T$144=$M$133,Funktioner!X126,IF($T$144=$N$133,Funktioner!AI126,IF($T$144=$O$133,Funktioner!AT126,IF($T$144=$P$133,Funktioner!BE126,IF($T$144=$Q$133,Funktioner!BP126,\"\")))))))","v":""},{"$f":"IF($K173=\"\",\"\",IF($T$144=$L$133,Funktioner!N126,IF($T$144=$M$133,Funktioner!Y126,IF($T$144=$N$133,Funktioner!AJ126,IF($T$144=$O$133,Funktioner!AU126,IF($T$144=$P$133,Funktioner!BF126,IF($T$144=$Q$133,Funktioner!BQ126,\"\")))))))","v":""},{"$f":"IF($K173=\"\",\"\",IF($T$144=$L$133,Funktioner!O126,IF($T$144=$M$133,Funktioner!Z126,IF($T$144=$N$133,Funktioner!AK126,IF($T$144=$O$133,Funktioner!AV126,IF($T$144=$P$133,Funktioner!BG126,IF($T$144=$Q$133,Funktioner!BR126,\"\")))))))","v":""},{"$f":"IF($K173=\"\",\"\",IF($T$144=$L$133,Funktioner!P126,IF($T$144=$M$133,Funktioner!AA126,IF($T$144=$N$133,Funktioner!AL126,IF($T$144=$O$133,Funktioner!AW126,IF($T$144=$P$133,Funktioner!BH126,IF($T$144=$Q$133,Funktioner!BS126,\"\")))))))","v":""},{"$f":"IF($K173=\"\",\"\",IF($T$144=$L$133,Funktioner!Q126,IF($T$144=$M$133,Funktioner!AB126,IF($T$144=$N$133,Funktioner!AM126,IF($T$144=$O$133,Funktioner!AX126,IF($T$144=$P$133,Funktioner!BI126,IF($T$144=$Q$133,Funktioner!BT126,\"\")))))))","v":""},{"$f":"IF($K173=\"\",\"\",IF($T$144=$L$133,Funktioner!R126,IF($T$144=$M$133,Funktioner!AC126,IF($T$144=$N$133,Funktioner!AN126,IF($T$144=$O$133,Funktioner!AY126,IF($T$144=$P$133,Funktioner!BJ126,IF($T$144=$Q$133,Funktioner!BU126,\"\")))))))","v":""},{"$f":"IF($K173=\"\",\"\",IF($T$144=$L$133,Funktioner!S126,IF($T$144=$M$133,Funktioner!AD126,IF($T$144=$N$133,Funktioner!AO126,IF($T$144=$O$133,Funktioner!AZ126,IF($T$144=$P$133,Funktioner!BK126,IF($T$144=$Q$133,Funktioner!BV126,\"\")))))))","v":""},{"$f":"IF($K173=\"\",\"\",IF($T$144=$L$133,Funktioner!T126,IF($T$144=$M$133,Funktioner!AE126,IF($T$144=$N$133,Funktioner!AP126,IF($T$144=$O$133,Funktioner!BA126,IF($T$144=$P$133,Funktioner!BL126,IF($T$144=$Q$133,Funktioner!BW126,\"\")))))))","v":""},null,null,null,null,null,null,null,null,null,null,null,null,null,null,null,null,null,null,null,null,null,null,null,null,null,null,null,null,null,null,null,null,null,null,null,null,null,null,null,null,null,null,null,null,null,null,null,null,null,null,null,null,null,null,null,null,null,{"$f":"IF('Avtalat sortiment'!K173<>\"\",'Avtalat sortiment'!$A173&'Avtalat sortiment'!Q173,\"\")","v":""},{"$f":"IF('Avtalat sortiment'!U173<>\"\",'Avtalat sortiment'!T173&'Avtalat sortiment'!AA173,\"\")","v":""},{"$f":"IF('Avtalat sortiment'!AE173<>\"\",'Avtalat sortiment'!AD173&'Avtalat sortiment'!AK173,\"\")","v":""},{"$f":"IF('Avtalat sortiment'!AO173<>\"\",'Avtalat sortiment'!AN173&'Avtalat sortiment'!AU173,\"\")","v":""},{"$f":"IF('Avtalat sortiment'!AY173<>\"\",'Avtalat sortiment'!AX173&'Avtalat sortiment'!BE173,\"\")","v":""},{"$f":"IF('Avtalat sortiment'!BI173<>\"\",'Avtalat sortiment'!BH173&'Avtalat sortiment'!BO173,\"\")","v":""}]
[null,null,null,null,null,null,null,null,null,null,{"$f":"Funktioner!$K127","v":""},{"$f":"IF($K174=\"\",\"\",IF($T$144=$L$133,Funktioner!L127,IF($T$144=$M$133,Funktioner!W127,IF($T$144=$N$133,Funktioner!AH127,IF($T$144=$O$133,Funktioner!AS127,IF($T$144=$P$133,Funktioner!BD127,IF($T$144=$Q$133,Funktioner!BO127,\"\")))))))","v":""},{"$f":"IF($K174=\"\",\"\",IF($T$144=$L$133,Funktioner!M127,IF($T$144=$M$133,Funktioner!X127,IF($T$144=$N$133,Funktioner!AI127,IF($T$144=$O$133,Funktioner!AT127,IF($T$144=$P$133,Funktioner!BE127,IF($T$144=$Q$133,Funktioner!BP127,\"\")))))))","v":""},{"$f":"IF($K174=\"\",\"\",IF($T$144=$L$133,Funktioner!N127,IF($T$144=$M$133,Funktioner!Y127,IF($T$144=$N$133,Funktioner!AJ127,IF($T$144=$O$133,Funktioner!AU127,IF($T$144=$P$133,Funktioner!BF127,IF($T$144=$Q$133,Funktioner!BQ127,\"\")))))))","v":""},{"$f":"IF($K174=\"\",\"\",IF($T$144=$L$133,Funktioner!O127,IF($T$144=$M$133,Funktioner!Z127,IF($T$144=$N$133,Funktioner!AK127,IF($T$144=$O$133,Funktioner!AV127,IF($T$144=$P$133,Funktioner!BG127,IF($T$144=$Q$133,Funktioner!BR127,\"\")))))))","v":""},{"$f":"IF($K174=\"\",\"\",IF($T$144=$L$133,Funktioner!P127,IF($T$144=$M$133,Funktioner!AA127,IF($T$144=$N$133,Funktioner!AL127,IF($T$144=$O$133,Funktioner!AW127,IF($T$144=$P$133,Funktioner!BH127,IF($T$144=$Q$133,Funktioner!BS127,\"\")))))))","v":""},{"$f":"IF($K174=\"\",\"\",IF($T$144=$L$133,Funktioner!Q127,IF($T$144=$M$133,Funktioner!AB127,IF($T$144=$N$133,Funktioner!AM127,IF($T$144=$O$133,Funktioner!AX127,IF($T$144=$P$133,Funktioner!BI127,IF($T$144=$Q$133,Funktioner!BT127,\"\")))))))","v":""},{"$f":"IF($K174=\"\",\"\",IF($T$144=$L$133,Funktioner!R127,IF($T$144=$M$133,Funktioner!AC127,IF($T$144=$N$133,Funktioner!AN127,IF($T$144=$O$133,Funktioner!AY127,IF($T$144=$P$133,Funktioner!BJ127,IF($T$144=$Q$133,Funktioner!BU127,\"\")))))))","v":""},{"$f":"IF($K174=\"\",\"\",IF($T$144=$L$133,Funktioner!S127,IF($T$144=$M$133,Funktioner!AD127,IF($T$144=$N$133,Funktioner!AO127,IF($T$144=$O$133,Funktioner!AZ127,IF($T$144=$P$133,Funktioner!BK127,IF($T$144=$Q$133,Funktioner!BV127,\"\")))))))","v":""},{"$f":"IF($K174=\"\",\"\",IF($T$144=$L$133,Funktioner!T127,IF($T$144=$M$133,Funktioner!AE127,IF($T$144=$N$133,Funktioner!AP127,IF($T$144=$O$133,Funktioner!BA127,IF($T$144=$P$133,Funktioner!BL127,IF($T$144=$Q$133,Funktioner!BW127,\"\")))))))","v":""},null,null,null,null,null,null,null,null,null,null,null,null,null,null,null,null,null,null,null,null,null,null,null,null,null,null,null,null,null,null,null,null,null,null,null,null,null,null,null,null,null,null,null,null,null,null,null,null,null,null,null,null,null,null,null,null,null,{"$f":"IF('Avtalat sortiment'!K174<>\"\",'Avtalat sortiment'!$A174&'Avtalat sortiment'!Q174,\"\")","v":""},{"$f":"IF('Avtalat sortiment'!U174<>\"\",'Avtalat sortiment'!T174&'Avtalat sortiment'!AA174,\"\")","v":""},{"$f":"IF('Avtalat sortiment'!AE174<>\"\",'Avtalat sortiment'!AD174&'Avtalat sortiment'!AK174,\"\")","v":""},{"$f":"IF('Avtalat sortiment'!AO174<>\"\",'Avtalat sortiment'!AN174&'Avtalat sortiment'!AU174,\"\")","v":""},{"$f":"IF('Avtalat sortiment'!AY174<>\"\",'Avtalat sortiment'!AX174&'Avtalat sortiment'!BE174,\"\")","v":""},{"$f":"IF('Avtalat sortiment'!BI174<>\"\",'Avtalat sortiment'!BH174&'Avtalat sortiment'!BO174,\"\")","v":""}]
[null,null,null,null,null,null,null,null,null,null,{"$f":"Funktioner!$K128","v":""},{"$f":"IF($K175=\"\",\"\",IF($T$144=$L$133,Funktioner!L128,IF($T$144=$M$133,Funktioner!W128,IF($T$144=$N$133,Funktioner!AH128,IF($T$144=$O$133,Funktioner!AS128,IF($T$144=$P$133,Funktioner!BD128,IF($T$144=$Q$133,Funktioner!BO128,\"\")))))))","v":""},{"$f":"IF($K175=\"\",\"\",IF($T$144=$L$133,Funktioner!M128,IF($T$144=$M$133,Funktioner!X128,IF($T$144=$N$133,Funktioner!AI128,IF($T$144=$O$133,Funktioner!AT128,IF($T$144=$P$133,Funktioner!BE128,IF($T$144=$Q$133,Funktioner!BP128,\"\")))))))","v":""},{"$f":"IF($K175=\"\",\"\",IF($T$144=$L$133,Funktioner!N128,IF($T$144=$M$133,Funktioner!Y128,IF($T$144=$N$133,Funktioner!AJ128,IF($T$144=$O$133,Funktioner!AU128,IF($T$144=$P$133,Funktioner!BF128,IF($T$144=$Q$133,Funktioner!BQ128,\"\")))))))","v":""},{"$f":"IF($K175=\"\",\"\",IF($T$144=$L$133,Funktioner!O128,IF($T$144=$M$133,Funktioner!Z128,IF($T$144=$N$133,Funktioner!AK128,IF($T$144=$O$133,Funktioner!AV128,IF($T$144=$P$133,Funktioner!BG128,IF($T$144=$Q$133,Funktioner!BR128,\"\")))))))","v":""},{"$f":"IF($K175=\"\",\"\",IF($T$144=$L$133,Funktioner!P128,IF($T$144=$M$133,Funktioner!AA128,IF($T$144=$N$133,Funktioner!AL128,IF($T$144=$O$133,Funktioner!AW128,IF($T$144=$P$133,Funktioner!BH128,IF($T$144=$Q$133,Funktioner!BS128,\"\")))))))","v":""},{"$f":"IF($K175=\"\",\"\",IF($T$144=$L$133,Funktioner!Q128,IF($T$144=$M$133,Funktioner!AB128,IF($T$144=$N$133,Funktioner!AM128,IF($T$144=$O$133,Funktioner!AX128,IF($T$144=$P$133,Funktioner!BI128,IF($T$144=$Q$133,Funktioner!BT128,\"\")))))))","v":""},{"$f":"IF($K175=\"\",\"\",IF($T$144=$L$133,Funktioner!R128,IF($T$144=$M$133,Funktioner!AC128,IF($T$144=$N$133,Funktioner!AN128,IF($T$144=$O$133,Funktioner!AY128,IF($T$144=$P$133,Funktioner!BJ128,IF($T$144=$Q$133,Funktioner!BU128,\"\")))))))","v":""},{"$f":"IF($K175=\"\",\"\",IF($T$144=$L$133,Funktioner!S128,IF($T$144=$M$133,Funktioner!AD128,IF($T$144=$N$133,Funktioner!AO128,IF($T$144=$O$133,Funktioner!AZ128,IF($T$144=$P$133,Funktioner!BK128,IF($T$144=$Q$133,Funktioner!BV128,\"\")))))))","v":""},{"$f":"IF($K175=\"\",\"\",IF($T$144=$L$133,Funktioner!T128,IF($T$144=$M$133,Funktioner!AE128,IF($T$144=$N$133,Funktioner!AP128,IF($T$144=$O$133,Funktioner!BA128,IF($T$144=$P$133,Funktioner!BL128,IF($T$144=$Q$133,Funktioner!BW128,\"\")))))))","v":""},null,null,null,null,null,null,null,null,null,null,null,null,null,null,null,null,null,null,null,null,null,null,null,null,null,null,null,null,null,null,null,null,null,null,null,null,null,null,null,null,null,null,null,null,null,null,null,null,null,null,null,null,null,null,null,null,null,{"$f":"IF('Avtalat sortiment'!K175<>\"\",'Avtalat sortiment'!$A175&'Avtalat sortiment'!Q175,\"\")","v":""},{"$f":"IF('Avtalat sortiment'!U175<>\"\",'Avtalat sortiment'!T175&'Avtalat sortiment'!AA175,\"\")","v":""},{"$f":"IF('Avtalat sortiment'!AE175<>\"\",'Avtalat sortiment'!AD175&'Avtalat sortiment'!AK175,\"\")","v":""},{"$f":"IF('Avtalat sortiment'!AO175<>\"\",'Avtalat sortiment'!AN175&'Avtalat sortiment'!AU175,\"\")","v":""},{"$f":"IF('Avtalat sortiment'!AY175<>\"\",'Avtalat sortiment'!AX175&'Avtalat sortiment'!BE175,\"\")","v":""},{"$f":"IF('Avtalat sortiment'!BI175<>\"\",'Avtalat sortiment'!BH175&'Avtalat sortiment'!BO175,\"\")","v":""}]
[null,null,null,null,null,null,null,null,null,null,{"$f":"Funktioner!$K129","v":""},{"$f":"IF($K176=\"\",\"\",IF($T$144=$L$133,Funktioner!L129,IF($T$144=$M$133,Funktioner!W129,IF($T$144=$N$133,Funktioner!AH129,IF($T$144=$O$133,Funktioner!AS129,IF($T$144=$P$133,Funktioner!BD129,IF($T$144=$Q$133,Funktioner!BO129,\"\")))))))","v":""},{"$f":"IF($K176=\"\",\"\",IF($T$144=$L$133,Funktioner!M129,IF($T$144=$M$133,Funktioner!X129,IF($T$144=$N$133,Funktioner!AI129,IF($T$144=$O$133,Funktioner!AT129,IF($T$144=$P$133,Funktioner!BE129,IF($T$144=$Q$133,Funktioner!BP129,\"\")))))))","v":""},{"$f":"IF($K176=\"\",\"\",IF($T$144=$L$133,Funktioner!N129,IF($T$144=$M$133,Funktioner!Y129,IF($T$144=$N$133,Funktioner!AJ129,IF($T$144=$O$133,Funktioner!AU129,IF($T$144=$P$133,Funktioner!BF129,IF($T$144=$Q$133,Funktioner!BQ129,\"\")))))))","v":""},{"$f":"IF($K176=\"\",\"\",IF($T$144=$L$133,Funktioner!O129,IF($T$144=$M$133,Funktioner!Z129,IF($T$144=$N$133,Funktioner!AK129,IF($T$144=$O$133,Funktioner!AV129,IF($T$144=$P$133,Funktioner!BG129,IF($T$144=$Q$133,Funktioner!BR129,\"\")))))))","v":""},{"$f":"IF($K176=\"\",\"\",IF($T$144=$L$133,Funktioner!P129,IF($T$144=$M$133,Funktioner!AA129,IF($T$144=$N$133,Funktioner!AL129,IF($T$144=$O$133,Funktioner!AW129,IF($T$144=$P$133,Funktioner!BH129,IF($T$144=$Q$133,Funktioner!BS129,\"\")))))))","v":""},{"$f":"IF($K176=\"\",\"\",IF($T$144=$L$133,Funktioner!Q129,IF($T$144=$M$133,Funktioner!AB129,IF($T$144=$N$133,Funktioner!AM129,IF($T$144=$O$133,Funktioner!AX129,IF($T$144=$P$133,Funktioner!BI129,IF($T$144=$Q$133,Funktioner!BT129,\"\")))))))","v":""},{"$f":"IF($K176=\"\",\"\",IF($T$144=$L$133,Funktioner!R129,IF($T$144=$M$133,Funktioner!AC129,IF($T$144=$N$133,Funktioner!AN129,IF($T$144=$O$133,Funktioner!AY129,IF($T$144=$P$133,Funktioner!BJ129,IF($T$144=$Q$133,Funktioner!BU129,\"\")))))))","v":""},{"$f":"IF($K176=\"\",\"\",IF($T$144=$L$133,Funktioner!S129,IF($T$144=$M$133,Funktioner!AD129,IF($T$144=$N$133,Funktioner!AO129,IF($T$144=$O$133,Funktioner!AZ129,IF($T$144=$P$133,Funktioner!BK129,IF($T$144=$Q$133,Funktioner!BV129,\"\")))))))","v":""},{"$f":"IF($K176=\"\",\"\",IF($T$144=$L$133,Funktioner!T129,IF($T$144=$M$133,Funktioner!AE129,IF($T$144=$N$133,Funktioner!AP129,IF($T$144=$O$133,Funktioner!BA129,IF($T$144=$P$133,Funktioner!BL129,IF($T$144=$Q$133,Funktioner!BW129,\"\")))))))","v":""},null,null,null,null,null,null,null,null,null,null,null,null,null,null,null,null,null,null,null,null,null,null,null,null,null,null,null,null,null,null,null,null,null,null,null,null,null,null,null,null,null,null,null,null,null,null,null,null,null,null,null,null,null,null,null,null,null,{"$f":"IF('Avtalat sortiment'!K176<>\"\",'Avtalat sortiment'!$A176&'Avtalat sortiment'!Q176,\"\")","v":""},{"$f":"IF('Avtalat sortiment'!U176<>\"\",'Avtalat sortiment'!T176&'Avtalat sortiment'!AA176,\"\")","v":""},{"$f":"IF('Avtalat sortiment'!AE176<>\"\",'Avtalat sortiment'!AD176&'Avtalat sortiment'!AK176,\"\")","v":""},{"$f":"IF('Avtalat sortiment'!AO176<>\"\",'Avtalat sortiment'!AN176&'Avtalat sortiment'!AU176,\"\")","v":""},{"$f":"IF('Avtalat sortiment'!AY176<>\"\",'Avtalat sortiment'!AX176&'Avtalat sortiment'!BE176,\"\")","v":""},{"$f":"IF('Avtalat sortiment'!BI176<>\"\",'Avtalat sortiment'!BH176&'Avtalat sortiment'!BO176,\"\")","v":""}]
[null,null,null,null,null,null,null,null,null,null,null,null,null,null,null,null,null,null,null,{"$f":"SUM(T157:T176)","v":0},null,null,null,null,null,null,null,null,null,null,null,null,null,null,null,null,null,null,null,null,null,null,null,null,null,null,null,null,null,null,null,null,null,null,null,null,null,null,null,null,null,null,null,null,null,null,null,null,null,null,null,null,null,null,null,null,null,{"$f":"IF('Avtalat sortiment'!K177<>\"\",'Avtalat sortiment'!$A177&'Avtalat sortiment'!Q177,\"\")","v":""},{"$f":"IF('Avtalat sortiment'!U177<>\"\",'Avtalat sortiment'!T177&'Avtalat sortiment'!AA177,\"\")","v":""},{"$f":"IF('Avtalat sortiment'!AE177<>\"\",'Avtalat sortiment'!AD177&'Avtalat sortiment'!AK177,\"\")","v":""},{"$f":"IF('Avtalat sortiment'!AO177<>\"\",'Avtalat sortiment'!AN177&'Avtalat sortiment'!AU177,\"\")","v":""},{"$f":"IF('Avtalat sortiment'!AY177<>\"\",'Avtalat sortiment'!AX177&'Avtalat sortiment'!BE177,\"\")","v":""},{"$f":"IF('Avtalat sortiment'!BI177<>\"\",'Avtalat sortiment'!BH177&'Avtalat sortiment'!BO177,\"\")","v":""}]
[null,null,null,null,null,null,null,null,null,null,null,null,null,null,null,null,null,null,null,null,null,null,null,null,null,null,null,null,null,null,null,null,null,null,null,null,null,null,null,null,null,null,null,null,null,null,null,null,null,null,null,null,null,null,null,null,null,null,null,null,null,null,null,null,null,null,null,null,null,null,null,null,null,null,null,null,null,{"$f":"IF('Avtalat sortiment'!K178<>\"\",'Avtalat sortiment'!$A178&'Avtalat sortiment'!Q178,\"\")","v":""},{"$f":"IF('Avtalat sortiment'!U178<>\"\",'Avtalat sortiment'!T178&'Avtalat sortiment'!AA178,\"\")","v":""},{"$f":"IF('Avtalat sortiment'!AE178<>\"\",'Avtalat sortiment'!AD178&'Avtalat sortiment'!AK178,\"\")","v":""},{"$f":"IF('Avtalat sortiment'!AO178<>\"\",'Avtalat sortiment'!AN178&'Avtalat sortiment'!AU178,\"\")","v":""},{"$f":"IF('Avtalat sortiment'!AY178<>\"\",'Avtalat sortiment'!AX178&'Avtalat sortiment'!BE178,\"\")","v":""},{"$f":"IF('Avtalat sortiment'!BI178<>\"\",'Avtalat sortiment'!BH178&'Avtalat sortiment'!BO178,\"\")","v":""}]
[null,null,null,null,null,null,null,null,null,null,null,null,null,null,null,null,null,null,null,null,null,null,null,null,null,null,null,null,null,null,null,null,null,null,null,null,null,null,null,null,null,null,null,null,null,null,null,null,null,null,null,null,null,null,null,null,null,null,null,null,null,null,null,null,null,null,null,null,null,null,null,null,null,null,null,null,null,{"$f":"IF('Avtalat sortiment'!K179<>\"\",'Avtalat sortiment'!$A179&'Avtalat sortiment'!Q179,\"\")","v":""},{"$f":"IF('Avtalat sortiment'!U179<>\"\",'Avtalat sortiment'!T179&'Avtalat sortiment'!AA179,\"\")","v":""},{"$f":"IF('Avtalat sortiment'!AE179<>\"\",'Avtalat sortiment'!AD179&'Avtalat sortiment'!AK179,\"\")","v":""},{"$f":"IF('Avtalat sortiment'!AO179<>\"\",'Avtalat sortiment'!AN179&'Avtalat sortiment'!AU179,\"\")","v":""},{"$f":"IF('Avtalat sortiment'!AY179<>\"\",'Avtalat sortiment'!AX179&'Avtalat sortiment'!BE179,\"\")","v":""},{"$f":"IF('Avtalat sortiment'!BI179<>\"\",'Avtalat sortiment'!BH179&'Avtalat sortiment'!BO179,\"\")","v":""}]
[null,null,null,null,null,null,null,null,null,null,"Varans position","Offererat pris per enhet","Leveranstid","Antal enheter i offererad vara","Ramavtalsleverantörens artikelnummer","Ramavtalsleverantörens länk till offererad vara","Ramavtalsleverantörens artikelbenämning","Varans storlek","Eventuell övrig information","Totalpris",null,null,null,null,null,null,null,null,null,null,null,null,null,null,null,null,null,null,null,null,null,null,null,null,null,null,null,null,null,null,null,null,null,null,null,null,null,null,null,null,null,null,null,null,null,null,null,null,null,null,null,null,null,null,null,null,null,{"$f":"IF('Avtalat sortiment'!K180<>\"\",'Avtalat sortiment'!$A180&'Avtalat sortiment'!Q180,\"\")","v":""},{"$f":"IF('Avtalat sortiment'!U180<>\"\",'Avtalat sortiment'!T180&'Avtalat sortiment'!AA180,\"\")","v":""},{"$f":"IF('Avtalat sortiment'!AE180<>\"\",'Avtalat sortiment'!AD180&'Avtalat sortiment'!AK180,\"\")","v":""},{"$f":"IF('Avtalat sortiment'!AO180<>\"\",'Avtalat sortiment'!AN180&'Avtalat sortiment'!AU180,\"\")","v":""},{"$f":"IF('Avtalat sortiment'!AY180<>\"\",'Avtalat sortiment'!AX180&'Avtalat sortiment'!BE180,\"\")","v":""},{"$f":"IF('Avtalat sortiment'!BI180<>\"\",'Avtalat sortiment'!BH180&'Avtalat sortiment'!BO180,\"\")","v":""}]
[null,null,null,null,null,null,null,null,null,null,{"$f":"IF($T$177>240000000,\"\",K157)","v":""},"","","","","","","","","",null,null,null,null,null,null,null,null,null,null,null,null,null,null,null,null,null,null,null,null,null,null,null,null,null,null,null,null,null,null,null,null,null,null,null,null,null,null,null,null,null,null,null,null,null,null,null,null,null,null,null,null,null,null,null,null,null,{"$f":"IF('Avtalat sortiment'!K181<>\"\",'Avtalat sortiment'!$A181&'Avtalat sortiment'!Q181,\"\")","v":""},{"$f":"IF('Avtalat sortiment'!U181<>\"\",'Avtalat sortiment'!T181&'Avtalat sortiment'!AA181,\"\")","v":""},{"$f":"IF('Avtalat sortiment'!AE181<>\"\",'Avtalat sortiment'!AD181&'Avtalat sortiment'!AK181,\"\")","v":""},{"$f":"IF('Avtalat sortiment'!AO181<>\"\",'Avtalat sortiment'!AN181&'Avtalat sortiment'!AU181,\"\")","v":""},{"$f":"IF('Avtalat sortiment'!AY181<>\"\",'Avtalat sortiment'!AX181&'Avtalat sortiment'!BE181,\"\")","v":""},{"$f":"IF('Avtalat sortiment'!BI181<>\"\",'Avtalat sortiment'!BH181&'Avtalat sortiment'!BO181,\"\")","v":""}]
[null,null,null,null,null,null,null,null,null,null,{"$f":"IF($T$177>240000000,\"\",K158)","v":""},"","","","","","","","","",null,null,null,null,null,null,null,null,null,null,null,null,null,null,null,null,null,null,null,null,null,null,null,null,null,null,null,null,null,null,null,null,null,null,null,null,null,null,null,null,null,null,null,null,null,null,null,null,null,null,null,null,null,null,null,null,null,{"$f":"IF('Avtalat sortiment'!K182<>\"\",'Avtalat sortiment'!$A182&'Avtalat sortiment'!Q182,\"\")","v":""},{"$f":"IF('Avtalat sortiment'!U182<>\"\",'Avtalat sortiment'!T182&'Avtalat sortiment'!AA182,\"\")","v":""},{"$f":"IF('Avtalat sortiment'!AE182<>\"\",'Avtalat sortiment'!AD182&'Avtalat sortiment'!AK182,\"\")","v":""},{"$f":"IF('Avtalat sortiment'!AO182<>\"\",'Avtalat sortiment'!AN182&'Avtalat sortiment'!AU182,\"\")","v":""},{"$f":"IF('Avtalat sortiment'!AY182<>\"\",'Avtalat sortiment'!AX182&'Avtalat sortiment'!BE182,\"\")","v":""},{"$f":"IF('Avtalat sortiment'!BI182<>\"\",'Avtalat sortiment'!BH182&'Avtalat sortiment'!BO182,\"\")","v":""}]
[null,null,null,null,null,null,null,null,null,null,{"$f":"IF($T$177>240000000,\"\",K159)","v":""},"","","","","","","","","",null,null,null,null,null,null,null,null,null,null,null,null,null,null,null,null,null,null,null,null,null,null,null,null,null,null,null,null,null,null,null,null,null,null,null,null,null,null,null,null,null,null,null,null,null,null,null,null,null,null,null,null,null,null,null,null,null,{"$f":"IF('Avtalat sortiment'!K183<>\"\",'Avtalat sortiment'!$A183&'Avtalat sortiment'!Q183,\"\")","v":""},{"$f":"IF('Avtalat sortiment'!U183<>\"\",'Avtalat sortiment'!T183&'Avtalat sortiment'!AA183,\"\")","v":""},{"$f":"IF('Avtalat sortiment'!AE183<>\"\",'Avtalat sortiment'!AD183&'Avtalat sortiment'!AK183,\"\")","v":""},{"$f":"IF('Avtalat sortiment'!AO183<>\"\",'Avtalat sortiment'!AN183&'Avtalat sortiment'!AU183,\"\")","v":""},{"$f":"IF('Avtalat sortiment'!AY183<>\"\",'Avtalat sortiment'!AX183&'Avtalat sortiment'!BE183,\"\")","v":""},{"$f":"IF('Avtalat sortiment'!BI183<>\"\",'Avtalat sortiment'!BH183&'Avtalat sortiment'!BO183,\"\")","v":""}]
[null,null,null,null,null,null,null,null,null,null,{"$f":"IF($T$177>240000000,\"\",K160)","v":""},"","","","","","","","","",null,null,null,null,null,null,null,null,null,null,null,null,null,null,null,null,null,null,null,null,null,null,null,null,null,null,null,null,null,null,null,null,null,null,null,null,null,null,null,null,null,null,null,null,null,null,null,null,null,null,null,null,null,null,null,null,null,{"$f":"IF('Avtalat sortiment'!K184<>\"\",'Avtalat sortiment'!$A184&'Avtalat sortiment'!Q184,\"\")","v":""},{"$f":"IF('Avtalat sortiment'!U184<>\"\",'Avtalat sortiment'!T184&'Avtalat sortiment'!AA184,\"\")","v":""},{"$f":"IF('Avtalat sortiment'!AE184<>\"\",'Avtalat sortiment'!AD184&'Avtalat sortiment'!AK184,\"\")","v":""},{"$f":"IF('Avtalat sortiment'!AO184<>\"\",'Avtalat sortiment'!AN184&'Avtalat sortiment'!AU184,\"\")","v":""},{"$f":"IF('Avtalat sortiment'!AY184<>\"\",'Avtalat sortiment'!AX184&'Avtalat sortiment'!BE184,\"\")","v":""},{"$f":"IF('Avtalat sortiment'!BI184<>\"\",'Avtalat sortiment'!BH184&'Avtalat sortiment'!BO184,\"\")","v":""}]
[null,null,null,null,null,null,null,null,null,null,{"$f":"IF($T$177>240000000,\"\",K161)","v":""},"","","","","","","","","",null,null,null,null,null,null,null,null,null,null,null,null,null,null,null,null,null,null,null,null,null,null,null,null,null,null,null,null,null,null,null,null,null,null,null,null,null,null,null,null,null,null,null,null,null,null,null,null,null,null,null,null,null,null,null,null,null,{"$f":"IF('Avtalat sortiment'!K185<>\"\",'Avtalat sortiment'!$A185&'Avtalat sortiment'!Q185,\"\")","v":""},{"$f":"IF('Avtalat sortiment'!U185<>\"\",'Avtalat sortiment'!T185&'Avtalat sortiment'!AA185,\"\")","v":""},{"$f":"IF('Avtalat sortiment'!AE185<>\"\",'Avtalat sortiment'!AD185&'Avtalat sortiment'!AK185,\"\")","v":""},{"$f":"IF('Avtalat sortiment'!AO185<>\"\",'Avtalat sortiment'!AN185&'Avtalat sortiment'!AU185,\"\")","v":""},{"$f":"IF('Avtalat sortiment'!AY185<>\"\",'Avtalat sortiment'!AX185&'Avtalat sortiment'!BE185,\"\")","v":""},{"$f":"IF('Avtalat sortiment'!BI185<>\"\",'Avtalat sortiment'!BH185&'Avtalat sortiment'!BO185,\"\")","v":""}]
[null,null,null,null,null,null,null,null,null,null,{"$f":"IF($T$177>240000000,\"\",K162)","v":""},"","","","","","","","","",null,null,null,null,null,null,null,null,null,null,null,null,null,null,null,null,null,null,null,null,null,null,null,null,null,null,null,null,null,null,null,null,null,null,null,null,null,null,null,null,null,null,null,null,null,null,null,null,null,null,null,null,null,null,null,null,null,{"$f":"IF('Avtalat sortiment'!K186<>\"\",'Avtalat sortiment'!$A186&'Avtalat sortiment'!Q186,\"\")","v":""},{"$f":"IF('Avtalat sortiment'!U186<>\"\",'Avtalat sortiment'!T186&'Avtalat sortiment'!AA186,\"\")","v":""},{"$f":"IF('Avtalat sortiment'!AE186<>\"\",'Avtalat sortiment'!AD186&'Avtalat sortiment'!AK186,\"\")","v":""},{"$f":"IF('Avtalat sortiment'!AO186<>\"\",'Avtalat sortiment'!AN186&'Avtalat sortiment'!AU186,\"\")","v":""},{"$f":"IF('Avtalat sortiment'!AY186<>\"\",'Avtalat sortiment'!AX186&'Avtalat sortiment'!BE186,\"\")","v":""},{"$f":"IF('Avtalat sortiment'!BI186<>\"\",'Avtalat sortiment'!BH186&'Avtalat sortiment'!BO186,\"\")","v":""}]
[null,null,null,null,null,null,null,null,null,null,{"$f":"IF($T$177>240000000,\"\",K163)","v":""},"","","","","","","","","",null,null,null,null,null,null,null,null,null,null,null,null,null,null,null,null,null,null,null,null,null,null,null,null,null,null,null,null,null,null,null,null,null,null,null,null,null,null,null,null,null,null,null,null,null,null,null,null,null,null,null,null,null,null,null,null,null,{"$f":"IF('Avtalat sortiment'!K187<>\"\",'Avtalat sortiment'!$A187&'Avtalat sortiment'!Q187,\"\")","v":""},{"$f":"IF('Avtalat sortiment'!U187<>\"\",'Avtalat sortiment'!T187&'Avtalat sortiment'!AA187,\"\")","v":""},{"$f":"IF('Avtalat sortiment'!AE187<>\"\",'Avtalat sortiment'!AD187&'Avtalat sortiment'!AK187,\"\")","v":""},{"$f":"IF('Avtalat sortiment'!AO187<>\"\",'Avtalat sortiment'!AN187&'Avtalat sortiment'!AU187,\"\")","v":""},{"$f":"IF('Avtalat sortiment'!AY187<>\"\",'Avtalat sortiment'!AX187&'Avtalat sortiment'!BE187,\"\")","v":""},{"$f":"IF('Avtalat sortiment'!BI187<>\"\",'Avtalat sortiment'!BH187&'Avtalat sortiment'!BO187,\"\")","v":""}]
[null,null,null,null,null,null,null,null,null,null,{"$f":"IF($T$177>240000000,\"\",K164)","v":""},"","","","","","","","","",null,null,null,null,null,null,null,null,null,null,null,null,null,null,null,null,null,null,null,null,null,null,null,null,null,null,null,null,null,null,null,null,null,null,null,null,null,null,null,null,null,null,null,null,null,null,null,null,null,null,null,null,null,null,null,null,null,{"$f":"IF('Avtalat sortiment'!K188<>\"\",'Avtalat sortiment'!$A188&'Avtalat sortiment'!Q188,\"\")","v":""},{"$f":"IF('Avtalat sortiment'!U188<>\"\",'Avtalat sortiment'!T188&'Avtalat sortiment'!AA188,\"\")","v":""},{"$f":"IF('Avtalat sortiment'!AE188<>\"\",'Avtalat sortiment'!AD188&'Avtalat sortiment'!AK188,\"\")","v":""},{"$f":"IF('Avtalat sortiment'!AO188<>\"\",'Avtalat sortiment'!AN188&'Avtalat sortiment'!AU188,\"\")","v":""},{"$f":"IF('Avtalat sortiment'!AY188<>\"\",'Avtalat sortiment'!AX188&'Avtalat sortiment'!BE188,\"\")","v":""},{"$f":"IF('Avtalat sortiment'!BI188<>\"\",'Avtalat sortiment'!BH188&'Avtalat sortiment'!BO188,\"\")","v":""}]
[null,null,null,null,null,null,null,null,null,null,{"$f":"IF($T$177>240000000,\"\",K165)","v":""},"","","","","","","","","",null,null,null,null,null,null,null,null,null,null,null,null,null,null,null,null,null,null,null,null,null,null,null,null,null,null,null,null,null,null,null,null,null,null,null,null,null,null,null,null,null,null,null,null,null,null,null,null,null,null,null,null,null,null,null,null,null,{"$f":"IF('Avtalat sortiment'!K189<>\"\",'Avtalat sortiment'!$A189&'Avtalat sortiment'!Q189,\"\")","v":""},{"$f":"IF('Avtalat sortiment'!U189<>\"\",'Avtalat sortiment'!T189&'Avtalat sortiment'!AA189,\"\")","v":""},{"$f":"IF('Avtalat sortiment'!AE189<>\"\",'Avtalat sortiment'!AD189&'Avtalat sortiment'!AK189,\"\")","v":""},{"$f":"IF('Avtalat sortiment'!AO189<>\"\",'Avtalat sortiment'!AN189&'Avtalat sortiment'!AU189,\"\")","v":""},{"$f":"IF('Avtalat sortiment'!AY189<>\"\",'Avtalat sortiment'!AX189&'Avtalat sortiment'!BE189,\"\")","v":""},{"$f":"IF('Avtalat sortiment'!BI189<>\"\",'Avtalat sortiment'!BH189&'Avtalat sortiment'!BO189,\"\")","v":""}]
[null,null,null,null,null,null,null,null,null,null,{"$f":"IF($T$177>240000000,\"\",K166)","v":""},"","","","","","","","","",null,null,null,null,null,null,null,null,null,null,null,null,null,null,null,null,null,null,null,null,null,null,null,null,null,null,null,null,null,null,null,null,null,null,null,null,null,null,null,null,null,null,null,null,null,null,null,null,null,null,null,null,null,null,null,null,null,{"$f":"IF('Avtalat sortiment'!K190<>\"\",'Avtalat sortiment'!$A190&'Avtalat sortiment'!Q190,\"\")","v":""},{"$f":"IF('Avtalat sortiment'!U190<>\"\",'Avtalat sortiment'!T190&'Avtalat sortiment'!AA190,\"\")","v":""},{"$f":"IF('Avtalat sortiment'!AE190<>\"\",'Avtalat sortiment'!AD190&'Avtalat sortiment'!AK190,\"\")","v":""},{"$f":"IF('Avtalat sortiment'!AO190<>\"\",'Avtalat sortiment'!AN190&'Avtalat sortiment'!AU190,\"\")","v":""},{"$f":"IF('Avtalat sortiment'!AY190<>\"\",'Avtalat sortiment'!AX190&'Avtalat sortiment'!BE190,\"\")","v":""},{"$f":"IF('Avtalat sortiment'!BI190<>\"\",'Avtalat sortiment'!BH190&'Avtalat sortiment'!BO190,\"\")","v":""}]
[null,null,null,null,null,null,null,null,null,null,{"$f":"IF($T$177>240000000,\"\",K167)","v":""},"","","","","","","","","",null,null,null,null,null,null,null,null,null,null,null,null,null,null,null,null,null,null,null,null,null,null,null,null,null,null,null,null,null,null,null,null,null,null,null,null,null,null,null,null,null,null,null,null,null,null,null,null,null,null,null,null,null,null,null,null,null,{"$f":"IF('Avtalat sortiment'!K191<>\"\",'Avtalat sortiment'!$A191&'Avtalat sortiment'!Q191,\"\")","v":""},{"$f":"IF('Avtalat sortiment'!U191<>\"\",'Avtalat sortiment'!T191&'Avtalat sortiment'!AA191,\"\")","v":""},{"$f":"IF('Avtalat sortiment'!AE191<>\"\",'Avtalat sortiment'!AD191&'Avtalat sortiment'!AK191,\"\")","v":""},{"$f":"IF('Avtalat sortiment'!AO191<>\"\",'Avtalat sortiment'!AN191&'Avtalat sortiment'!AU191,\"\")","v":""},{"$f":"IF('Avtalat sortiment'!AY191<>\"\",'Avtalat sortiment'!AX191&'Avtalat sortiment'!BE191,\"\")","v":""},{"$f":"IF('Avtalat sortiment'!BI191<>\"\",'Avtalat sortiment'!BH191&'Avtalat sortiment'!BO191,\"\")","v":""}]
[null,null,null,null,null,null,null,null,null,null,{"$f":"IF($T$177>240000000,\"\",K168)","v":""},"","","","","","","","","",null,null,null,null,null,null,null,null,null,null,null,null,null,null,null,null,null,null,null,null,null,null,null,null,null,null,null,null,null,null,null,null,null,null,null,null,null,null,null,null,null,null,null,null,null,null,null,null,null,null,null,null,null,null,null,null,null,{"$f":"IF('Avtalat sortiment'!K192<>\"\",'Avtalat sortiment'!$A192&'Avtalat sortiment'!Q192,\"\")","v":""},{"$f":"IF('Avtalat sortiment'!U192<>\"\",'Avtalat sortiment'!T192&'Avtalat sortiment'!AA192,\"\")","v":""},{"$f":"IF('Avtalat sortiment'!AE192<>\"\",'Avtalat sortiment'!AD192&'Avtalat sortiment'!AK192,\"\")","v":""},{"$f":"IF('Avtalat sortiment'!AO192<>\"\",'Avtalat sortiment'!AN192&'Avtalat sortiment'!AU192,\"\")","v":""},{"$f":"IF('Avtalat sortiment'!AY192<>\"\",'Avtalat sortiment'!AX192&'Avtalat sortiment'!BE192,\"\")","v":""},{"$f":"IF('Avtalat sortiment'!BI192<>\"\",'Avtalat sortiment'!BH192&'Avtalat sortiment'!BO192,\"\")","v":""}]
[null,null,null,null,null,null,null,null,null,null,{"$f":"IF($T$177>240000000,\"\",K169)","v":""},"","","","","","","","","",null,null,null,null,null,null,null,null,null,null,null,null,null,null,null,null,null,null,null,null,null,null,null,null,null,null,null,null,null,null,null,null,null,null,null,null,null,null,null,null,null,null,null,null,null,null,null,null,null,null,null,null,null,null,null,null,null,{"$f":"IF('Avtalat sortiment'!K193<>\"\",'Avtalat sortiment'!$A193&'Avtalat sortiment'!Q193,\"\")","v":""},{"$f":"IF('Avtalat sortiment'!U193<>\"\",'Avtalat sortiment'!T193&'Avtalat sortiment'!AA193,\"\")","v":""},{"$f":"IF('Avtalat sortiment'!AE193<>\"\",'Avtalat sortiment'!AD193&'Avtalat sortiment'!AK193,\"\")","v":""},{"$f":"IF('Avtalat sortiment'!AO193<>\"\",'Avtalat sortiment'!AN193&'Avtalat sortiment'!AU193,\"\")","v":""},{"$f":"IF('Avtalat sortiment'!AY193<>\"\",'Avtalat sortiment'!AX193&'Avtalat sortiment'!BE193,\"\")","v":""},{"$f":"IF('Avtalat sortiment'!BI193<>\"\",'Avtalat sortiment'!BH193&'Avtalat sortiment'!BO193,\"\")","v":""}]
[null,null,null,null,null,null,null,null,null,null,{"$f":"IF($T$177>240000000,\"\",K170)","v":""},"","","","","","","","","",null,null,null,null,null,null,null,null,null,null,null,null,null,null,null,null,null,null,null,null,null,null,null,null,null,null,null,null,null,null,null,null,null,null,null,null,null,null,null,null,null,null,null,null,null,null,null,null,null,null,null,null,null,null,null,null,null,{"$f":"IF('Avtalat sortiment'!K194<>\"\",'Avtalat sortiment'!$A194&'Avtalat sortiment'!Q194,\"\")","v":""},{"$f":"IF('Avtalat sortiment'!U194<>\"\",'Avtalat sortiment'!T194&'Avtalat sortiment'!AA194,\"\")","v":""},{"$f":"IF('Avtalat sortiment'!AE194<>\"\",'Avtalat sortiment'!AD194&'Avtalat sortiment'!AK194,\"\")","v":""},{"$f":"IF('Avtalat sortiment'!AO194<>\"\",'Avtalat sortiment'!AN194&'Avtalat sortiment'!AU194,\"\")","v":""},{"$f":"IF('Avtalat sortiment'!AY194<>\"\",'Avtalat sortiment'!AX194&'Avtalat sortiment'!BE194,\"\")","v":""},{"$f":"IF('Avtalat sortiment'!BI194<>\"\",'Avtalat sortiment'!BH194&'Avtalat sortiment'!BO194,\"\")","v":""}]
[null,null,null,null,null,null,null,null,null,null,{"$f":"IF($T$177>240000000,\"\",K171)","v":""},"","","","","","","","","",null,null,null,null,null,null,null,null,null,null,null,null,null,null,null,null,null,null,null,null,null,null,null,null,null,null,null,null,null,null,null,null,null,null,null,null,null,null,null,null,null,null,null,null,null,null,null,null,null,null,null,null,null,null,null,null,null,{"$f":"IF('Avtalat sortiment'!K195<>\"\",'Avtalat sortiment'!$A195&'Avtalat sortiment'!Q195,\"\")","v":""},{"$f":"IF('Avtalat sortiment'!U195<>\"\",'Avtalat sortiment'!T195&'Avtalat sortiment'!AA195,\"\")","v":""},{"$f":"IF('Avtalat sortiment'!AE195<>\"\",'Avtalat sortiment'!AD195&'Avtalat sortiment'!AK195,\"\")","v":""},{"$f":"IF('Avtalat sortiment'!AO195<>\"\",'Avtalat sortiment'!AN195&'Avtalat sortiment'!AU195,\"\")","v":""},{"$f":"IF('Avtalat sortiment'!AY195<>\"\",'Avtalat sortiment'!AX195&'Avtalat sortiment'!BE195,\"\")","v":""},{"$f":"IF('Avtalat sortiment'!BI195<>\"\",'Avtalat sortiment'!BH195&'Avtalat sortiment'!BO195,\"\")","v":""}]
[null,null,null,null,null,null,null,null,null,null,{"$f":"IF($T$177>240000000,\"\",K172)","v":""},"","","","","","","","","",null,null,null,null,null,null,null,null,null,null,null,null,null,null,null,null,null,null,null,null,null,null,null,null,null,null,null,null,null,null,null,null,null,null,null,null,null,null,null,null,null,null,null,null,null,null,null,null,null,null,null,null,null,null,null,null,null,{"$f":"IF('Avtalat sortiment'!K196<>\"\",'Avtalat sortiment'!$A196&'Avtalat sortiment'!Q196,\"\")","v":""},{"$f":"IF('Avtalat sortiment'!U196<>\"\",'Avtalat sortiment'!T196&'Avtalat sortiment'!AA196,\"\")","v":""},{"$f":"IF('Avtalat sortiment'!AE196<>\"\",'Avtalat sortiment'!AD196&'Avtalat sortiment'!AK196,\"\")","v":""},{"$f":"IF('Avtalat sortiment'!AO196<>\"\",'Avtalat sortiment'!AN196&'Avtalat sortiment'!AU196,\"\")","v":""},{"$f":"IF('Avtalat sortiment'!AY196<>\"\",'Avtalat sortiment'!AX196&'Avtalat sortiment'!BE196,\"\")","v":""},{"$f":"IF('Avtalat sortiment'!BI196<>\"\",'Avtalat sortiment'!BH196&'Avtalat sortiment'!BO196,\"\")","v":""}]
[null,null,null,null,null,null,null,null,null,null,{"$f":"IF($T$177>240000000,\"\",K173)","v":""},"","","","","","","","","",null,null,null,null,null,null,null,null,null,null,null,null,null,null,null,null,null,null,null,null,null,null,null,null,null,null,null,null,null,null,null,null,null,null,null,null,null,null,null,null,null,null,null,null,null,null,null,null,null,null,null,null,null,null,null,null,null,{"$f":"IF('Avtalat sortiment'!K197<>\"\",'Avtalat sortiment'!$A197&'Avtalat sortiment'!Q197,\"\")","v":""},{"$f":"IF('Avtalat sortiment'!U197<>\"\",'Avtalat sortiment'!T197&'Avtalat sortiment'!AA197,\"\")","v":""},{"$f":"IF('Avtalat sortiment'!AE197<>\"\",'Avtalat sortiment'!AD197&'Avtalat sortiment'!AK197,\"\")","v":""},{"$f":"IF('Avtalat sortiment'!AO197<>\"\",'Avtalat sortiment'!AN197&'Avtalat sortiment'!AU197,\"\")","v":""},{"$f":"IF('Avtalat sortiment'!AY197<>\"\",'Avtalat sortiment'!AX197&'Avtalat sortiment'!BE197,\"\")","v":""},{"$f":"IF('Avtalat sortiment'!BI197<>\"\",'Avtalat sortiment'!BH197&'Avtalat sortiment'!BO197,\"\")","v":""}]
[null,null,null,null,null,null,null,null,null,null,{"$f":"IF($T$177>240000000,\"\",K174)","v":""},"","","","","","","","","",null,null,null,null,null,null,null,null,null,null,null,null,null,null,null,null,null,null,null,null,null,null,null,null,null,null,null,null,null,null,null,null,null,null,null,null,null,null,null,null,null,null,null,null,null,null,null,null,null,null,null,null,null,null,null,null,null,{"$f":"IF('Avtalat sortiment'!K198<>\"\",'Avtalat sortiment'!$A198&'Avtalat sortiment'!Q198,\"\")","v":""},{"$f":"IF('Avtalat sortiment'!U198<>\"\",'Avtalat sortiment'!T198&'Avtalat sortiment'!AA198,\"\")","v":""},{"$f":"IF('Avtalat sortiment'!AE198<>\"\",'Avtalat sortiment'!AD198&'Avtalat sortiment'!AK198,\"\")","v":""},{"$f":"IF('Avtalat sortiment'!AO198<>\"\",'Avtalat sortiment'!AN198&'Avtalat sortiment'!AU198,\"\")","v":""},{"$f":"IF('Avtalat sortiment'!AY198<>\"\",'Avtalat sortiment'!AX198&'Avtalat sortiment'!BE198,\"\")","v":""},{"$f":"IF('Avtalat sortiment'!BI198<>\"\",'Avtalat sortiment'!BH198&'Avtalat sortiment'!BO198,\"\")","v":""}]
[null,null,null,null,null,null,null,null,null,null,{"$f":"IF($T$177>240000000,\"\",K175)","v":""},"","","","","","","","","",null,null,null,null,null,null,null,null,null,null,null,null,null,null,null,null,null,null,null,null,null,null,null,null,null,null,null,null,null,null,null,null,null,null,null,null,null,null,null,null,null,null,null,null,null,null,null,null,null,null,null,null,null,null,null,null,null,{"$f":"IF('Avtalat sortiment'!K199<>\"\",'Avtalat sortiment'!$A199&'Avtalat sortiment'!Q199,\"\")","v":""},{"$f":"IF('Avtalat sortiment'!U199<>\"\",'Avtalat sortiment'!T199&'Avtalat sortiment'!AA199,\"\")","v":""},{"$f":"IF('Avtalat sortiment'!AE199<>\"\",'Avtalat sortiment'!AD199&'Avtalat sortiment'!AK199,\"\")","v":""},{"$f":"IF('Avtalat sortiment'!AO199<>\"\",'Avtalat sortiment'!AN199&'Avtalat sortiment'!AU199,\"\")","v":""},{"$f":"IF('Avtalat sortiment'!AY199<>\"\",'Avtalat sortiment'!AX199&'Avtalat sortiment'!BE199,\"\")","v":""},{"$f":"IF('Avtalat sortiment'!BI199<>\"\",'Avtalat sortiment'!BH199&'Avtalat sortiment'!BO199,\"\")","v":""}]
[null,null,null,null,null,null,null,null,null,null,{"$f":"IF($T$177>240000000,\"\",K176)","v":""},"","","","","","","","","",null,null,null,null,null,null,null,null,null,null,null,null,null,null,null,null,null,null,null,null,null,null,null,null,null,null,null,null,null,null,null,null,null,null,null,null,null,null,null,null,null,null,null,null,null,null,null,null,null,null,null,null,null,null,null,null,null,{"$f":"IF('Avtalat sortiment'!K200<>\"\",'Avtalat sortiment'!$A200&'Avtalat sortiment'!Q200,\"\")","v":""},{"$f":"IF('Avtalat sortiment'!U200<>\"\",'Avtalat sortiment'!T200&'Avtalat sortiment'!AA200,\"\")","v":""},{"$f":"IF('Avtalat sortiment'!AE200<>\"\",'Avtalat sortiment'!AD200&'Avtalat sortiment'!AK200,\"\")","v":""},{"$f":"IF('Avtalat sortiment'!AO200<>\"\",'Avtalat sortiment'!AN200&'Avtalat sortiment'!AU200,\"\")","v":""},{"$f":"IF('Avtalat sortiment'!AY200<>\"\",'Avtalat sortiment'!AX200&'Avtalat sortiment'!BE200,\"\")","v":""},{"$f":"IF('Avtalat sortiment'!BI200<>\"\",'Avtalat sortiment'!BH200&'Avtalat sortiment'!BO200,\"\")","v":""}]
[null,null,null,null,null,null,null,null,null,null,null,null,null,null,null,null,null,null,null,{"$f":"SUM(T181:T200)","v":0},null,null,null,null,null,null,null,null,null,null,null,null,null,null,null,null,null,null,null,null,null,null,null,null,null,null,null,null,null,null,null,null,null,null,null,null,null,null,null,null,null,null,null,null,null,null,null,null,null,null,null,null,null,null,null,null,null,{"$f":"IF('Avtalat sortiment'!K201<>\"\",'Avtalat sortiment'!$A201&'Avtalat sortiment'!Q201,\"\")","v":""},{"$f":"IF('Avtalat sortiment'!U201<>\"\",'Avtalat sortiment'!T201&'Avtalat sortiment'!AA201,\"\")","v":""},{"$f":"IF('Avtalat sortiment'!AE201<>\"\",'Avtalat sortiment'!AD201&'Avtalat sortiment'!AK201,\"\")","v":""},{"$f":"IF('Avtalat sortiment'!AO201<>\"\",'Avtalat sortiment'!AN201&'Avtalat sortiment'!AU201,\"\")","v":""},{"$f":"IF('Avtalat sortiment'!AY201<>\"\",'Avtalat sortiment'!AX201&'Avtalat sortiment'!BE201,\"\")","v":""},{"$f":"IF('Avtalat sortiment'!BI201<>\"\",'Avtalat sortiment'!BH201&'Avtalat sortiment'!BO201,\"\")","v":""}]
[null,null,null,null,null,null,null,null,null,null,null,null,null,null,null,null,null,null,null,null,null,null,null,null,null,null,null,null,null,null,null,null,null,null,null,null,null,null,null,null,null,null,null,null,null,null,null,null,null,null,null,null,null,null,null,null,null,null,null,null,null,null,null,null,null,null,null,null,null,null,null,null,null,null,null,null,null,{"$f":"IF('Avtalat sortiment'!K202<>\"\",'Avtalat sortiment'!$A202&'Avtalat sortiment'!Q202,\"\")","v":""},{"$f":"IF('Avtalat sortiment'!U202<>\"\",'Avtalat sortiment'!T202&'Avtalat sortiment'!AA202,\"\")","v":""},{"$f":"IF('Avtalat sortiment'!AE202<>\"\",'Avtalat sortiment'!AD202&'Avtalat sortiment'!AK202,\"\")","v":""},{"$f":"IF('Avtalat sortiment'!AO202<>\"\",'Avtalat sortiment'!AN202&'Avtalat sortiment'!AU202,\"\")","v":""},{"$f":"IF('Avtalat sortiment'!AY202<>\"\",'Avtalat sortiment'!AX202&'Avtalat sortiment'!BE202,\"\")","v":""},{"$f":"IF('Avtalat sortiment'!BI202<>\"\",'Avtalat sortiment'!BH202&'Avtalat sortiment'!BO202,\"\")","v":""}]
[null,null,null,null,null,null,null,null,null,null,null,null,null,null,null,null,null,null,null,null,null,null,null,null,null,null,null,null,null,null,null,null,null,null,null,null,null,null,null,null,null,null,null,null,null,null,null,null,null,null,null,null,null,null,null,null,null,null,null,null,null,null,null,null,null,null,null,null,null,null,null,null,null,null,null,null,null,{"$f":"IF('Avtalat sortiment'!K203<>\"\",'Avtalat sortiment'!$A203&'Avtalat sortiment'!Q203,\"\")","v":""},{"$f":"IF('Avtalat sortiment'!U203<>\"\",'Avtalat sortiment'!T203&'Avtalat sortiment'!AA203,\"\")","v":""},{"$f":"IF('Avtalat sortiment'!AE203<>\"\",'Avtalat sortiment'!AD203&'Avtalat sortiment'!AK203,\"\")","v":""},{"$f":"IF('Avtalat sortiment'!AO203<>\"\",'Avtalat sortiment'!AN203&'Avtalat sortiment'!AU203,\"\")","v":""},{"$f":"IF('Avtalat sortiment'!AY203<>\"\",'Avtalat sortiment'!AX203&'Avtalat sortiment'!BE203,\"\")","v":""},{"$f":"IF('Avtalat sortiment'!BI203<>\"\",'Avtalat sortiment'!BH203&'Avtalat sortiment'!BO203,\"\")","v":""}]
[null,null,null,null,null,null,null,null,null,null,null,null,null,null,null,null,null,null,null,null,null,null,null,null,null,null,null,null,null,null,null,null,null,null,null,null,null,null,null,null,null,null,null,null,null,null,null,null,null,null,null,null,null,null,null,null,null,null,null,null,null,null,null,null,null,null,null,null,null,null,null,null,null,null,null,null,null,{"$f":"IF('Avtalat sortiment'!K204<>\"\",'Avtalat sortiment'!$A204&'Avtalat sortiment'!Q204,\"\")","v":""},{"$f":"IF('Avtalat sortiment'!U204<>\"\",'Avtalat sortiment'!T204&'Avtalat sortiment'!AA204,\"\")","v":""},{"$f":"IF('Avtalat sortiment'!AE204<>\"\",'Avtalat sortiment'!AD204&'Avtalat sortiment'!AK204,\"\")","v":""},{"$f":"IF('Avtalat sortiment'!AO204<>\"\",'Avtalat sortiment'!AN204&'Avtalat sortiment'!AU204,\"\")","v":""},{"$f":"IF('Avtalat sortiment'!AY204<>\"\",'Avtalat sortiment'!AX204&'Avtalat sortiment'!BE204,\"\")","v":""},{"$f":"IF('Avtalat sortiment'!BI204<>\"\",'Avtalat sortiment'!BH204&'Avtalat sortiment'!BO204,\"\")","v":""}]
[null,null,null,null,null,null,null,null,null,null,null,null,null,null,null,null,null,null,null,null,null,null,null,null,null,null,null,null,null,null,null,null,null,null,null,null,null,null,null,null,null,null,null,null,null,null,null,null,null,null,null,null,null,null,null,null,null,null,null,null,null,null,null,null,null,null,null,null,null,null,null,null,null,null,null,null,null,{"$f":"IF('Avtalat sortiment'!K205<>\"\",'Avtalat sortiment'!$A205&'Avtalat sortiment'!Q205,\"\")","v":""},{"$f":"IF('Avtalat sortiment'!U205<>\"\",'Avtalat sortiment'!T205&'Avtalat sortiment'!AA205,\"\")","v":""},{"$f":"IF('Avtalat sortiment'!AE205<>\"\",'Avtalat sortiment'!AD205&'Avtalat sortiment'!AK205,\"\")","v":""},{"$f":"IF('Avtalat sortiment'!AO205<>\"\",'Avtalat sortiment'!AN205&'Avtalat sortiment'!AU205,\"\")","v":""},{"$f":"IF('Avtalat sortiment'!AY205<>\"\",'Avtalat sortiment'!AX205&'Avtalat sortiment'!BE205,\"\")","v":""},{"$f":"IF('Avtalat sortiment'!BI205<>\"\",'Avtalat sortiment'!BH205&'Avtalat sortiment'!BO205,\"\")","v":""}]
[null,null,null,null,null,null,null,null,null,null,null,null,null,null,null,null,null,null,null,null,null,null,null,null,null,null,null,null,null,null,null,null,null,null,null,null,null,null,null,null,null,null,null,null,null,null,null,null,null,null,null,null,null,null,null,null,null,null,null,null,null,null,null,null,null,null,null,null,null,null,null,null,null,null,null,null,null,{"$f":"IF('Avtalat sortiment'!K206<>\"\",'Avtalat sortiment'!$A206&'Avtalat sortiment'!Q206,\"\")","v":""},{"$f":"IF('Avtalat sortiment'!U206<>\"\",'Avtalat sortiment'!T206&'Avtalat sortiment'!AA206,\"\")","v":""},{"$f":"IF('Avtalat sortiment'!AE206<>\"\",'Avtalat sortiment'!AD206&'Avtalat sortiment'!AK206,\"\")","v":""},{"$f":"IF('Avtalat sortiment'!AO206<>\"\",'Avtalat sortiment'!AN206&'Avtalat sortiment'!AU206,\"\")","v":""},{"$f":"IF('Avtalat sortiment'!AY206<>\"\",'Avtalat sortiment'!AX206&'Avtalat sortiment'!BE206,\"\")","v":""},{"$f":"IF('Avtalat sortiment'!BI206<>\"\",'Avtalat sortiment'!BH206&'Avtalat sortiment'!BO206,\"\")","v":""}]
[null,null,null,null,null,null,null,null,null,null,null,null,null,null,null,null,null,null,null,null,null,null,null,null,null,null,null,null,null,null,null,null,null,null,null,null,null,null,null,null,null,null,null,null,null,null,null,null,null,null,null,null,null,null,null,null,null,null,null,null,null,null,null,null,null,null,null,null,null,null,null,null,null,null,null,null,null,{"$f":"IF('Avtalat sortiment'!K207<>\"\",'Avtalat sortiment'!$A207&'Avtalat sortiment'!Q207,\"\")","v":""},{"$f":"IF('Avtalat sortiment'!U207<>\"\",'Avtalat sortiment'!T207&'Avtalat sortiment'!AA207,\"\")","v":""},{"$f":"IF('Avtalat sortiment'!AE207<>\"\",'Avtalat sortiment'!AD207&'Avtalat sortiment'!AK207,\"\")","v":""},{"$f":"IF('Avtalat sortiment'!AO207<>\"\",'Avtalat sortiment'!AN207&'Avtalat sortiment'!AU207,\"\")","v":""},{"$f":"IF('Avtalat sortiment'!AY207<>\"\",'Avtalat sortiment'!AX207&'Avtalat sortiment'!BE207,\"\")","v":""},{"$f":"IF('Avtalat sortiment'!BI207<>\"\",'Avtalat sortiment'!BH207&'Avtalat sortiment'!BO207,\"\")","v":""}]
[null,null,null,null,null,null,null,null,null,null,null,null,null,null,null,null,null,null,null,null,null,null,null,null,null,null,null,null,null,null,null,null,null,null,null,null,null,null,null,null,null,null,null,null,null,null,null,null,null,null,null,null,null,null,null,null,null,null,null,null,null,null,null,null,null,null,null,null,null,null,null,null,null,null,null,null,null,{"$f":"IF('Avtalat sortiment'!K208<>\"\",'Avtalat sortiment'!$A208&'Avtalat sortiment'!Q208,\"\")","v":""},{"$f":"IF('Avtalat sortiment'!U208<>\"\",'Avtalat sortiment'!T208&'Avtalat sortiment'!AA208,\"\")","v":""},{"$f":"IF('Avtalat sortiment'!AE208<>\"\",'Avtalat sortiment'!AD208&'Avtalat sortiment'!AK208,\"\")","v":""},{"$f":"IF('Avtalat sortiment'!AO208<>\"\",'Avtalat sortiment'!AN208&'Avtalat sortiment'!AU208,\"\")","v":""},{"$f":"IF('Avtalat sortiment'!AY208<>\"\",'Avtalat sortiment'!AX208&'Avtalat sortiment'!BE208,\"\")","v":""},{"$f":"IF('Avtalat sortiment'!BI208<>\"\",'Avtalat sortiment'!BH208&'Avtalat sortiment'!BO208,\"\")","v":""}]
[null,null,null,null,null,null,null,null,null,null,null,null,null,null,null,null,null,null,null,null,null,null,null,null,null,null,null,null,null,null,null,null,null,null,null,null,null,null,null,null,null,null,null,null,null,null,null,null,null,null,null,null,null,null,null,null,null,null,null,null,null,null,null,null,null,null,null,null,null,null,null,null,null,null,null,null,null,{"$f":"IF('Avtalat sortiment'!K209<>\"\",'Avtalat sortiment'!$A209&'Avtalat sortiment'!Q209,\"\")","v":""},{"$f":"IF('Avtalat sortiment'!U209<>\"\",'Avtalat sortiment'!T209&'Avtalat sortiment'!AA209,\"\")","v":""},{"$f":"IF('Avtalat sortiment'!AE209<>\"\",'Avtalat sortiment'!AD209&'Avtalat sortiment'!AK209,\"\")","v":""},{"$f":"IF('Avtalat sortiment'!AO209<>\"\",'Avtalat sortiment'!AN209&'Avtalat sortiment'!AU209,\"\")","v":""},{"$f":"IF('Avtalat sortiment'!AY209<>\"\",'Avtalat sortiment'!AX209&'Avtalat sortiment'!BE209,\"\")","v":""},{"$f":"IF('Avtalat sortiment'!BI209<>\"\",'Avtalat sortiment'!BH209&'Avtalat sortiment'!BO209,\"\")","v":""}]
[null,null,null,null,null,null,null,null,null,null,null,null,null,null,null,null,null,null,null,null,null,null,null,null,null,null,null,null,null,null,null,null,null,null,null,null,null,null,null,null,null,null,null,null,null,null,null,null,null,null,null,null,null,null,null,null,null,null,null,null,null,null,null,null,null,null,null,null,null,null,null,null,null,null,null,null,null,{"$f":"IF('Avtalat sortiment'!K210<>\"\",'Avtalat sortiment'!$A210&'Avtalat sortiment'!Q210,\"\")","v":""},{"$f":"IF('Avtalat sortiment'!U210<>\"\",'Avtalat sortiment'!T210&'Avtalat sortiment'!AA210,\"\")","v":""},{"$f":"IF('Avtalat sortiment'!AE210<>\"\",'Avtalat sortiment'!AD210&'Avtalat sortiment'!AK210,\"\")","v":""},{"$f":"IF('Avtalat sortiment'!AO210<>\"\",'Avtalat sortiment'!AN210&'Avtalat sortiment'!AU210,\"\")","v":""},{"$f":"IF('Avtalat sortiment'!AY210<>\"\",'Avtalat sortiment'!AX210&'Avtalat sortiment'!BE210,\"\")","v":""},{"$f":"IF('Avtalat sortiment'!BI210<>\"\",'Avtalat sortiment'!BH210&'Avtalat sortiment'!BO210,\"\")","v":""}]
[null,null,null,null,null,null,null,null,null,null,null,null,null,null,null,null,null,null,null,null,null,null,null,null,null,null,null,null,null,null,null,null,null,null,null,null,null,null,null,null,null,null,null,null,null,null,null,null,null,null,null,null,null,null,null,null,null,null,null,null,null,null,null,null,null,null,null,null,null,null,null,null,null,null,null,null,null,{"$f":"IF('Avtalat sortiment'!K211<>\"\",'Avtalat sortiment'!$A211&'Avtalat sortiment'!Q211,\"\")","v":""},{"$f":"IF('Avtalat sortiment'!U211<>\"\",'Avtalat sortiment'!T211&'Avtalat sortiment'!AA211,\"\")","v":""},{"$f":"IF('Avtalat sortiment'!AE211<>\"\",'Avtalat sortiment'!AD211&'Avtalat sortiment'!AK211,\"\")","v":""},{"$f":"IF('Avtalat sortiment'!AO211<>\"\",'Avtalat sortiment'!AN211&'Avtalat sortiment'!AU211,\"\")","v":""},{"$f":"IF('Avtalat sortiment'!AY211<>\"\",'Avtalat sortiment'!AX211&'Avtalat sortiment'!BE211,\"\")","v":""},{"$f":"IF('Avtalat sortiment'!BI211<>\"\",'Avtalat sortiment'!BH211&'Avtalat sortiment'!BO211,\"\")","v":""}]
[null,null,null,null,null,null,null,null,null,null,null,null,null,null,null,null,null,null,null,null,null,null,null,null,null,null,null,null,null,null,null,null,null,null,null,null,null,null,null,null,null,null,null,null,null,null,null,null,null,null,null,null,null,null,null,null,null,null,null,null,null,null,null,null,null,null,null,null,null,null,null,null,null,null,null,null,null,{"$f":"IF('Avtalat sortiment'!K212<>\"\",'Avtalat sortiment'!$A212&'Avtalat sortiment'!Q212,\"\")","v":""},{"$f":"IF('Avtalat sortiment'!U212<>\"\",'Avtalat sortiment'!T212&'Avtalat sortiment'!AA212,\"\")","v":""},{"$f":"IF('Avtalat sortiment'!AE212<>\"\",'Avtalat sortiment'!AD212&'Avtalat sortiment'!AK212,\"\")","v":""},{"$f":"IF('Avtalat sortiment'!AO212<>\"\",'Avtalat sortiment'!AN212&'Avtalat sortiment'!AU212,\"\")","v":""},{"$f":"IF('Avtalat sortiment'!AY212<>\"\",'Avtalat sortiment'!AX212&'Avtalat sortiment'!BE212,\"\")","v":""},{"$f":"IF('Avtalat sortiment'!BI212<>\"\",'Avtalat sortiment'!BH212&'Avtalat sortiment'!BO212,\"\")","v":""}]
[null,null,null,null,null,null,null,null,null,null,null,null,null,null,null,null,null,null,null,null,null,null,null,null,null,null,null,null,null,null,null,null,null,null,null,null,null,null,null,null,null,null,null,null,null,null,null,null,null,null,null,null,null,null,null,null,null,null,null,null,null,null,null,null,null,null,null,null,null,null,null,null,null,null,null,null,null,{"$f":"IF('Avtalat sortiment'!K213<>\"\",'Avtalat sortiment'!$A213&'Avtalat sortiment'!Q213,\"\")","v":""},{"$f":"IF('Avtalat sortiment'!U213<>\"\",'Avtalat sortiment'!T213&'Avtalat sortiment'!AA213,\"\")","v":""},{"$f":"IF('Avtalat sortiment'!AE213<>\"\",'Avtalat sortiment'!AD213&'Avtalat sortiment'!AK213,\"\")","v":""},{"$f":"IF('Avtalat sortiment'!AO213<>\"\",'Avtalat sortiment'!AN213&'Avtalat sortiment'!AU213,\"\")","v":""},{"$f":"IF('Avtalat sortiment'!AY213<>\"\",'Avtalat sortiment'!AX213&'Avtalat sortiment'!BE213,\"\")","v":""},{"$f":"IF('Avtalat sortiment'!BI213<>\"\",'Avtalat sortiment'!BH213&'Avtalat sortiment'!BO213,\"\")","v":""}]
[null,null,null,null,null,null,null,null,null,null,null,null,null,null,null,null,null,null,null,null,null,null,null,null,null,null,null,null,null,null,null,null,null,null,null,null,null,null,null,null,null,null,null,null,null,null,null,null,null,null,null,null,null,null,null,null,null,null,null,null,null,null,null,null,null,null,null,null,null,null,null,null,null,null,null,null,null,{"$f":"IF('Avtalat sortiment'!K214<>\"\",'Avtalat sortiment'!$A214&'Avtalat sortiment'!Q214,\"\")","v":""},{"$f":"IF('Avtalat sortiment'!U214<>\"\",'Avtalat sortiment'!T214&'Avtalat sortiment'!AA214,\"\")","v":""},{"$f":"IF('Avtalat sortiment'!AE214<>\"\",'Avtalat sortiment'!AD214&'Avtalat sortiment'!AK214,\"\")","v":""},{"$f":"IF('Avtalat sortiment'!AO214<>\"\",'Avtalat sortiment'!AN214&'Avtalat sortiment'!AU214,\"\")","v":""},{"$f":"IF('Avtalat sortiment'!AY214<>\"\",'Avtalat sortiment'!AX214&'Avtalat sortiment'!BE214,\"\")","v":""},{"$f":"IF('Avtalat sortiment'!BI214<>\"\",'Avtalat sortiment'!BH214&'Avtalat sortiment'!BO214,\"\")","v":""}]
[null,null,null,null,null,null,null,null,null,null,null,null,null,null,null,null,null,null,null,null,null,null,null,null,null,null,null,null,null,null,null,null,null,null,null,null,null,null,null,null,null,null,null,null,null,null,null,null,null,null,null,null,null,null,null,null,null,null,null,null,null,null,null,null,null,null,null,null,null,null,null,null,null,null,null,null,null,{"$f":"IF('Avtalat sortiment'!K215<>\"\",'Avtalat sortiment'!$A215&'Avtalat sortiment'!Q215,\"\")","v":""},{"$f":"IF('Avtalat sortiment'!U215<>\"\",'Avtalat sortiment'!T215&'Avtalat sortiment'!AA215,\"\")","v":""},{"$f":"IF('Avtalat sortiment'!AE215<>\"\",'Avtalat sortiment'!AD215&'Avtalat sortiment'!AK215,\"\")","v":""},{"$f":"IF('Avtalat sortiment'!AO215<>\"\",'Avtalat sortiment'!AN215&'Avtalat sortiment'!AU215,\"\")","v":""},{"$f":"IF('Avtalat sortiment'!AY215<>\"\",'Avtalat sortiment'!AX215&'Avtalat sortiment'!BE215,\"\")","v":""},{"$f":"IF('Avtalat sortiment'!BI215<>\"\",'Avtalat sortiment'!BH215&'Avtalat sortiment'!BO215,\"\")","v":""}]
[null,null,null,null,null,null,null,null,null,null,null,null,null,null,null,null,null,null,null,null,null,null,null,null,null,null,null,null,null,null,null,null,null,null,null,null,null,null,null,null,null,null,null,null,null,null,null,null,null,null,null,null,null,null,null,null,null,null,null,null,null,null,null,null,null,null,null,null,null,null,null,null,null,null,null,null,null,{"$f":"IF('Avtalat sortiment'!K216<>\"\",'Avtalat sortiment'!$A216&'Avtalat sortiment'!Q216,\"\")","v":""},{"$f":"IF('Avtalat sortiment'!U216<>\"\",'Avtalat sortiment'!T216&'Avtalat sortiment'!AA216,\"\")","v":""},{"$f":"IF('Avtalat sortiment'!AE216<>\"\",'Avtalat sortiment'!AD216&'Avtalat sortiment'!AK216,\"\")","v":""},{"$f":"IF('Avtalat sortiment'!AO216<>\"\",'Avtalat sortiment'!AN216&'Avtalat sortiment'!AU216,\"\")","v":""},{"$f":"IF('Avtalat sortiment'!AY216<>\"\",'Avtalat sortiment'!AX216&'Avtalat sortiment'!BE216,\"\")","v":""},{"$f":"IF('Avtalat sortiment'!BI216<>\"\",'Avtalat sortiment'!BH216&'Avtalat sortiment'!BO216,\"\")","v":""}]
[null,null,null,null,null,null,null,null,null,null,null,null,null,null,null,null,null,null,null,null,null,null,null,null,null,null,null,null,null,null,null,null,null,null,null,null,null,null,null,null,null,null,null,null,null,null,null,null,null,null,null,null,null,null,null,null,null,null,null,null,null,null,null,null,null,null,null,null,null,null,null,null,null,null,null,null,null,{"$f":"IF('Avtalat sortiment'!K217<>\"\",'Avtalat sortiment'!$A217&'Avtalat sortiment'!Q217,\"\")","v":""},{"$f":"IF('Avtalat sortiment'!U217<>\"\",'Avtalat sortiment'!T217&'Avtalat sortiment'!AA217,\"\")","v":""},{"$f":"IF('Avtalat sortiment'!AE217<>\"\",'Avtalat sortiment'!AD217&'Avtalat sortiment'!AK217,\"\")","v":""},{"$f":"IF('Avtalat sortiment'!AO217<>\"\",'Avtalat sortiment'!AN217&'Avtalat sortiment'!AU217,\"\")","v":""},{"$f":"IF('Avtalat sortiment'!AY217<>\"\",'Avtalat sortiment'!AX217&'Avtalat sortiment'!BE217,\"\")","v":""},{"$f":"IF('Avtalat sortiment'!BI217<>\"\",'Avtalat sortiment'!BH217&'Avtalat sortiment'!BO217,\"\")","v":""}]
[null,null,null,null,null,null,null,null,null,null,null,null,null,null,null,null,null,null,null,null,null,null,null,null,null,null,null,null,null,null,null,null,null,null,null,null,null,null,null,null,null,null,null,null,null,null,null,null,null,null,null,null,null,null,null,null,null,null,null,null,null,null,null,null,null,null,null,null,null,null,null,null,null,null,null,null,null,{"$f":"IF('Avtalat sortiment'!K218<>\"\",'Avtalat sortiment'!$A218&'Avtalat sortiment'!Q218,\"\")","v":""},{"$f":"IF('Avtalat sortiment'!U218<>\"\",'Avtalat sortiment'!T218&'Avtalat sortiment'!AA218,\"\")","v":""},{"$f":"IF('Avtalat sortiment'!AE218<>\"\",'Avtalat sortiment'!AD218&'Avtalat sortiment'!AK218,\"\")","v":""},{"$f":"IF('Avtalat sortiment'!AO218<>\"\",'Avtalat sortiment'!AN218&'Avtalat sortiment'!AU218,\"\")","v":""},{"$f":"IF('Avtalat sortiment'!AY218<>\"\",'Avtalat sortiment'!AX218&'Avtalat sortiment'!BE218,\"\")","v":""},{"$f":"IF('Avtalat sortiment'!BI218<>\"\",'Avtalat sortiment'!BH218&'Avtalat sortiment'!BO218,\"\")","v":""}]
[null,null,null,null,null,null,null,null,null,null,null,null,null,null,null,null,null,null,null,null,null,null,null,null,null,null,null,null,null,null,null,null,null,null,null,null,null,null,null,null,null,null,null,null,null,null,null,null,null,null,null,null,null,null,null,null,null,null,null,null,null,null,null,null,null,null,null,null,null,null,null,null,null,null,null,null,null,{"$f":"IF('Avtalat sortiment'!K219<>\"\",'Avtalat sortiment'!$A219&'Avtalat sortiment'!Q219,\"\")","v":""},{"$f":"IF('Avtalat sortiment'!U219<>\"\",'Avtalat sortiment'!T219&'Avtalat sortiment'!AA219,\"\")","v":""},{"$f":"IF('Avtalat sortiment'!AE219<>\"\",'Avtalat sortiment'!AD219&'Avtalat sortiment'!AK219,\"\")","v":""},{"$f":"IF('Avtalat sortiment'!AO219<>\"\",'Avtalat sortiment'!AN219&'Avtalat sortiment'!AU219,\"\")","v":""},{"$f":"IF('Avtalat sortiment'!AY219<>\"\",'Avtalat sortiment'!AX219&'Avtalat sortiment'!BE219,\"\")","v":""},{"$f":"IF('Avtalat sortiment'!BI219<>\"\",'Avtalat sortiment'!BH219&'Avtalat sortiment'!BO219,\"\")","v":""}]
[null,null,null,null,null,null,null,null,null,null,null,null,null,null,null,null,null,null,null,null,null,null,null,null,null,null,null,null,null,null,null,null,null,null,null,null,null,null,null,null,null,null,null,null,null,null,null,null,null,null,null,null,null,null,null,null,null,null,null,null,null,null,null,null,null,null,null,null,null,null,null,null,null,null,null,null,null,{"$f":"IF('Avtalat sortiment'!K220<>\"\",'Avtalat sortiment'!$A220&'Avtalat sortiment'!Q220,\"\")","v":""},{"$f":"IF('Avtalat sortiment'!U220<>\"\",'Avtalat sortiment'!T220&'Avtalat sortiment'!AA220,\"\")","v":""},{"$f":"IF('Avtalat sortiment'!AE220<>\"\",'Avtalat sortiment'!AD220&'Avtalat sortiment'!AK220,\"\")","v":""},{"$f":"IF('Avtalat sortiment'!AO220<>\"\",'Avtalat sortiment'!AN220&'Avtalat sortiment'!AU220,\"\")","v":""},{"$f":"IF('Avtalat sortiment'!AY220<>\"\",'Avtalat sortiment'!AX220&'Avtalat sortiment'!BE220,\"\")","v":""},{"$f":"IF('Avtalat sortiment'!BI220<>\"\",'Avtalat sortiment'!BH220&'Avtalat sortiment'!BO220,\"\")","v":""}]
[null,null,null,null,null,null,null,null,null,null,null,null,null,null,null,null,null,null,null,null,null,null,null,null,null,null,null,null,null,null,null,null,null,null,null,null,null,null,null,null,null,null,null,null,null,null,null,null,null,null,null,null,null,null,null,null,null,null,null,null,null,null,null,null,null,null,null,null,null,null,null,null,null,null,null,null,null,{"$f":"IF('Avtalat sortiment'!K221<>\"\",'Avtalat sortiment'!$A221&'Avtalat sortiment'!Q221,\"\")","v":""},{"$f":"IF('Avtalat sortiment'!U221<>\"\",'Avtalat sortiment'!T221&'Avtalat sortiment'!AA221,\"\")","v":""},{"$f":"IF('Avtalat sortiment'!AE221<>\"\",'Avtalat sortiment'!AD221&'Avtalat sortiment'!AK221,\"\")","v":""},{"$f":"IF('Avtalat sortiment'!AO221<>\"\",'Avtalat sortiment'!AN221&'Avtalat sortiment'!AU221,\"\")","v":""},{"$f":"IF('Avtalat sortiment'!AY221<>\"\",'Avtalat sortiment'!AX221&'Avtalat sortiment'!BE221,\"\")","v":""},{"$f":"IF('Avtalat sortiment'!BI221<>\"\",'Avtalat sortiment'!BH221&'Avtalat sortiment'!BO221,\"\")","v":""}]
[null,null,null,null,null,null,null,null,null,null,null,null,null,null,null,null,null,null,null,null,null,null,null,null,null,null,null,null,null,null,null,null,null,null,null,null,null,null,null,null,null,null,null,null,null,null,null,null,null,null,null,null,null,null,null,null,null,null,null,null,null,null,null,null,null,null,null,null,null,null,null,null,null,null,null,null,null,{"$f":"IF('Avtalat sortiment'!K222<>\"\",'Avtalat sortiment'!$A222&'Avtalat sortiment'!Q222,\"\")","v":""},{"$f":"IF('Avtalat sortiment'!U222<>\"\",'Avtalat sortiment'!T222&'Avtalat sortiment'!AA222,\"\")","v":""},{"$f":"IF('Avtalat sortiment'!AE222<>\"\",'Avtalat sortiment'!AD222&'Avtalat sortiment'!AK222,\"\")","v":""},{"$f":"IF('Avtalat sortiment'!AO222<>\"\",'Avtalat sortiment'!AN222&'Avtalat sortiment'!AU222,\"\")","v":""},{"$f":"IF('Avtalat sortiment'!AY222<>\"\",'Avtalat sortiment'!AX222&'Avtalat sortiment'!BE222,\"\")","v":""},{"$f":"IF('Avtalat sortiment'!BI222<>\"\",'Avtalat sortiment'!BH222&'Avtalat sortiment'!BO222,\"\")","v":""}]
[null,null,null,null,null,null,null,null,null,null,null,null,null,null,null,null,null,null,null,null,null,null,null,null,null,null,null,null,null,null,null,null,null,null,null,null,null,null,null,null,null,null,null,null,null,null,null,null,null,null,null,null,null,null,null,null,null,null,null,null,null,null,null,null,null,null,null,null,null,null,null,null,null,null,null,null,null,{"$f":"IF('Avtalat sortiment'!K223<>\"\",'Avtalat sortiment'!$A223&'Avtalat sortiment'!Q223,\"\")","v":""},{"$f":"IF('Avtalat sortiment'!U223<>\"\",'Avtalat sortiment'!T223&'Avtalat sortiment'!AA223,\"\")","v":""},{"$f":"IF('Avtalat sortiment'!AE223<>\"\",'Avtalat sortiment'!AD223&'Avtalat sortiment'!AK223,\"\")","v":""},{"$f":"IF('Avtalat sortiment'!AO223<>\"\",'Avtalat sortiment'!AN223&'Avtalat sortiment'!AU223,\"\")","v":""},{"$f":"IF('Avtalat sortiment'!AY223<>\"\",'Avtalat sortiment'!AX223&'Avtalat sortiment'!BE223,\"\")","v":""},{"$f":"IF('Avtalat sortiment'!BI223<>\"\",'Avtalat sortiment'!BH223&'Avtalat sortiment'!BO223,\"\")","v":""}]
[null,null,null,null,null,null,null,null,null,null,null,null,null,null,null,null,null,null,null,null,null,null,null,null,null,null,null,null,null,null,null,null,null,null,null,null,null,null,null,null,null,null,null,null,null,null,null,null,null,null,null,null,null,null,null,null,null,null,null,null,null,null,null,null,null,null,null,null,null,null,null,null,null,null,null,null,null,{"$f":"IF('Avtalat sortiment'!K224<>\"\",'Avtalat sortiment'!$A224&'Avtalat sortiment'!Q224,\"\")","v":""},{"$f":"IF('Avtalat sortiment'!U224<>\"\",'Avtalat sortiment'!T224&'Avtalat sortiment'!AA224,\"\")","v":""},{"$f":"IF('Avtalat sortiment'!AE224<>\"\",'Avtalat sortiment'!AD224&'Avtalat sortiment'!AK224,\"\")","v":""},{"$f":"IF('Avtalat sortiment'!AO224<>\"\",'Avtalat sortiment'!AN224&'Avtalat sortiment'!AU224,\"\")","v":""},{"$f":"IF('Avtalat sortiment'!AY224<>\"\",'Avtalat sortiment'!AX224&'Avtalat sortiment'!BE224,\"\")","v":""},{"$f":"IF('Avtalat sortiment'!BI224<>\"\",'Avtalat sortiment'!BH224&'Avtalat sortiment'!BO224,\"\")","v":""}]
[null,null,null,null,null,null,null,null,null,null,null,null,null,null,null,null,null,null,null,null,null,null,null,null,null,null,null,null,null,null,null,null,null,null,null,null,null,null,null,null,null,null,null,null,null,null,null,null,null,null,null,null,null,null,null,null,null,null,null,null,null,null,null,null,null,null,null,null,null,null,null,null,null,null,null,null,null,{"$f":"IF('Avtalat sortiment'!K225<>\"\",'Avtalat sortiment'!$A225&'Avtalat sortiment'!Q225,\"\")","v":""},{"$f":"IF('Avtalat sortiment'!U225<>\"\",'Avtalat sortiment'!T225&'Avtalat sortiment'!AA225,\"\")","v":""},{"$f":"IF('Avtalat sortiment'!AE225<>\"\",'Avtalat sortiment'!AD225&'Avtalat sortiment'!AK225,\"\")","v":""},{"$f":"IF('Avtalat sortiment'!AO225<>\"\",'Avtalat sortiment'!AN225&'Avtalat sortiment'!AU225,\"\")","v":""},{"$f":"IF('Avtalat sortiment'!AY225<>\"\",'Avtalat sortiment'!AX225&'Avtalat sortiment'!BE225,\"\")","v":""},{"$f":"IF('Avtalat sortiment'!BI225<>\"\",'Avtalat sortiment'!BH225&'Avtalat sortiment'!BO225,\"\")","v":""}]
[null,null,null,null,null,null,null,null,null,null,null,null,null,null,null,null,null,null,null,null,null,null,null,null,null,null,null,null,null,null,null,null,null,null,null,null,null,null,null,null,null,null,null,null,null,null,null,null,null,null,null,null,null,null,null,null,null,null,null,null,null,null,null,null,null,null,null,null,null,null,null,null,null,null,null,null,null,{"$f":"IF('Avtalat sortiment'!K226<>\"\",'Avtalat sortiment'!$A226&'Avtalat sortiment'!Q226,\"\")","v":""},{"$f":"IF('Avtalat sortiment'!U226<>\"\",'Avtalat sortiment'!T226&'Avtalat sortiment'!AA226,\"\")","v":""},{"$f":"IF('Avtalat sortiment'!AE226<>\"\",'Avtalat sortiment'!AD226&'Avtalat sortiment'!AK226,\"\")","v":""},{"$f":"IF('Avtalat sortiment'!AO226<>\"\",'Avtalat sortiment'!AN226&'Avtalat sortiment'!AU226,\"\")","v":""},{"$f":"IF('Avtalat sortiment'!AY226<>\"\",'Avtalat sortiment'!AX226&'Avtalat sortiment'!BE226,\"\")","v":""},{"$f":"IF('Avtalat sortiment'!BI226<>\"\",'Avtalat sortiment'!BH226&'Avtalat sortiment'!BO226,\"\")","v":""}]
[null,null,null,null,null,null,null,null,null,null,null,null,null,null,null,null,null,null,null,null,null,null,null,null,null,null,null,null,null,null,null,null,null,null,null,null,null,null,null,null,null,null,null,null,null,null,null,null,null,null,null,null,null,null,null,null,null,null,null,null,null,null,null,null,null,null,null,null,null,null,null,null,null,null,null,null,null,{"$f":"IF('Avtalat sortiment'!K227<>\"\",'Avtalat sortiment'!$A227&'Avtalat sortiment'!Q227,\"\")","v":""},{"$f":"IF('Avtalat sortiment'!U227<>\"\",'Avtalat sortiment'!T227&'Avtalat sortiment'!AA227,\"\")","v":""},{"$f":"IF('Avtalat sortiment'!AE227<>\"\",'Avtalat sortiment'!AD227&'Avtalat sortiment'!AK227,\"\")","v":""},{"$f":"IF('Avtalat sortiment'!AO227<>\"\",'Avtalat sortiment'!AN227&'Avtalat sortiment'!AU227,\"\")","v":""},{"$f":"IF('Avtalat sortiment'!AY227<>\"\",'Avtalat sortiment'!AX227&'Avtalat sortiment'!BE227,\"\")","v":""},{"$f":"IF('Avtalat sortiment'!BI227<>\"\",'Avtalat sortiment'!BH227&'Avtalat sortiment'!BO227,\"\")","v":""}]
[null,null,null,null,null,null,null,null,null,null,null,null,null,null,null,null,null,null,null,null,null,null,null,null,null,null,null,null,null,null,null,null,null,null,null,null,null,null,null,null,null,null,null,null,null,null,null,null,null,null,null,null,null,null,null,null,null,null,null,null,null,null,null,null,null,null,null,null,null,null,null,null,null,null,null,null,null,{"$f":"IF('Avtalat sortiment'!K228<>\"\",'Avtalat sortiment'!$A228&'Avtalat sortiment'!Q228,\"\")","v":""},{"$f":"IF('Avtalat sortiment'!U228<>\"\",'Avtalat sortiment'!T228&'Avtalat sortiment'!AA228,\"\")","v":""},{"$f":"IF('Avtalat sortiment'!AE228<>\"\",'Avtalat sortiment'!AD228&'Avtalat sortiment'!AK228,\"\")","v":""},{"$f":"IF('Avtalat sortiment'!AO228<>\"\",'Avtalat sortiment'!AN228&'Avtalat sortiment'!AU228,\"\")","v":""},{"$f":"IF('Avtalat sortiment'!AY228<>\"\",'Avtalat sortiment'!AX228&'Avtalat sortiment'!BE228,\"\")","v":""},{"$f":"IF('Avtalat sortiment'!BI228<>\"\",'Avtalat sortiment'!BH228&'Avtalat sortiment'!BO228,\"\")","v":""}]
[null,null,null,null,null,null,null,null,null,null,null,null,null,null,null,null,null,null,null,null,null,null,null,null,null,null,null,null,null,null,null,null,null,null,null,null,null,null,null,null,null,null,null,null,null,null,null,null,null,null,null,null,null,null,null,null,null,null,null,null,null,null,null,null,null,null,null,null,null,null,null,null,null,null,null,null,null,{"$f":"IF('Avtalat sortiment'!K229<>\"\",'Avtalat sortiment'!$A229&'Avtalat sortiment'!Q229,\"\")","v":""},{"$f":"IF('Avtalat sortiment'!U229<>\"\",'Avtalat sortiment'!T229&'Avtalat sortiment'!AA229,\"\")","v":""},{"$f":"IF('Avtalat sortiment'!AE229<>\"\",'Avtalat sortiment'!AD229&'Avtalat sortiment'!AK229,\"\")","v":""},{"$f":"IF('Avtalat sortiment'!AO229<>\"\",'Avtalat sortiment'!AN229&'Avtalat sortiment'!AU229,\"\")","v":""},{"$f":"IF('Avtalat sortiment'!AY229<>\"\",'Avtalat sortiment'!AX229&'Avtalat sortiment'!BE229,\"\")","v":""},{"$f":"IF('Avtalat sortiment'!BI229<>\"\",'Avtalat sortiment'!BH229&'Avtalat sortiment'!BO229,\"\")","v":""}]
[null,null,null,null,null,null,null,null,null,null,null,null,null,null,null,null,null,null,null,null,null,null,null,null,null,null,null,null,null,null,null,null,null,null,null,null,null,null,null,null,null,null,null,null,null,null,null,null,null,null,null,null,null,null,null,null,null,null,null,null,null,null,null,null,null,null,null,null,null,null,null,null,null,null,null,null,null,{"$f":"IF('Avtalat sortiment'!K230<>\"\",'Avtalat sortiment'!$A230&'Avtalat sortiment'!Q230,\"\")","v":""},{"$f":"IF('Avtalat sortiment'!U230<>\"\",'Avtalat sortiment'!T230&'Avtalat sortiment'!AA230,\"\")","v":""},{"$f":"IF('Avtalat sortiment'!AE230<>\"\",'Avtalat sortiment'!AD230&'Avtalat sortiment'!AK230,\"\")","v":""},{"$f":"IF('Avtalat sortiment'!AO230<>\"\",'Avtalat sortiment'!AN230&'Avtalat sortiment'!AU230,\"\")","v":""},{"$f":"IF('Avtalat sortiment'!AY230<>\"\",'Avtalat sortiment'!AX230&'Avtalat sortiment'!BE230,\"\")","v":""},{"$f":"IF('Avtalat sortiment'!BI230<>\"\",'Avtalat sortiment'!BH230&'Avtalat sortiment'!BO230,\"\")","v":""}]
[null,null,null,null,null,null,null,null,null,null,null,null,null,null,null,null,null,null,null,null,null,null,null,null,null,null,null,null,null,null,null,null,null,null,null,null,null,null,null,null,null,null,null,null,null,null,null,null,null,null,null,null,null,null,null,null,null,null,null,null,null,null,null,null,null,null,null,null,null,null,null,null,null,null,null,null,null,{"$f":"IF('Avtalat sortiment'!K231<>\"\",'Avtalat sortiment'!$A231&'Avtalat sortiment'!Q231,\"\")","v":""},{"$f":"IF('Avtalat sortiment'!U231<>\"\",'Avtalat sortiment'!T231&'Avtalat sortiment'!AA231,\"\")","v":""},{"$f":"IF('Avtalat sortiment'!AE231<>\"\",'Avtalat sortiment'!AD231&'Avtalat sortiment'!AK231,\"\")","v":""},{"$f":"IF('Avtalat sortiment'!AO231<>\"\",'Avtalat sortiment'!AN231&'Avtalat sortiment'!AU231,\"\")","v":""},{"$f":"IF('Avtalat sortiment'!AY231<>\"\",'Avtalat sortiment'!AX231&'Avtalat sortiment'!BE231,\"\")","v":""},{"$f":"IF('Avtalat sortiment'!BI231<>\"\",'Avtalat sortiment'!BH231&'Avtalat sortiment'!BO231,\"\")","v":""}]
[null,null,null,null,null,null,null,null,null,null,null,null,null,null,null,null,null,null,null,null,null,null,null,null,null,null,null,null,null,null,null,null,null,null,null,null,null,null,null,null,null,null,null,null,null,null,null,null,null,null,null,null,null,null,null,null,null,null,null,null,null,null,null,null,null,null,null,null,null,null,null,null,null,null,null,null,null,{"$f":"IF('Avtalat sortiment'!K232<>\"\",'Avtalat sortiment'!$A232&'Avtalat sortiment'!Q232,\"\")","v":""},{"$f":"IF('Avtalat sortiment'!U232<>\"\",'Avtalat sortiment'!T232&'Avtalat sortiment'!AA232,\"\")","v":""},{"$f":"IF('Avtalat sortiment'!AE232<>\"\",'Avtalat sortiment'!AD232&'Avtalat sortiment'!AK232,\"\")","v":""},{"$f":"IF('Avtalat sortiment'!AO232<>\"\",'Avtalat sortiment'!AN232&'Avtalat sortiment'!AU232,\"\")","v":""},{"$f":"IF('Avtalat sortiment'!AY232<>\"\",'Avtalat sortiment'!AX232&'Avtalat sortiment'!BE232,\"\")","v":""},{"$f":"IF('Avtalat sortiment'!BI232<>\"\",'Avtalat sortiment'!BH232&'Avtalat sortiment'!BO232,\"\")","v":""}]
[null,null,null,null,null,null,null,null,null,null,null,null,null,null,null,null,null,null,null,null,null,null,null,null,null,null,null,null,null,null,null,null,null,null,null,null,null,null,null,null,null,null,null,null,null,null,null,null,null,null,null,null,null,null,null,null,null,null,null,null,null,null,null,null,null,null,null,null,null,null,null,null,null,null,null,null,null,{"$f":"IF('Avtalat sortiment'!K233<>\"\",'Avtalat sortiment'!$A233&'Avtalat sortiment'!Q233,\"\")","v":""},{"$f":"IF('Avtalat sortiment'!U233<>\"\",'Avtalat sortiment'!T233&'Avtalat sortiment'!AA233,\"\")","v":""},{"$f":"IF('Avtalat sortiment'!AE233<>\"\",'Avtalat sortiment'!AD233&'Avtalat sortiment'!AK233,\"\")","v":""},{"$f":"IF('Avtalat sortiment'!AO233<>\"\",'Avtalat sortiment'!AN233&'Avtalat sortiment'!AU233,\"\")","v":""},{"$f":"IF('Avtalat sortiment'!AY233<>\"\",'Avtalat sortiment'!AX233&'Avtalat sortiment'!BE233,\"\")","v":""},{"$f":"IF('Avtalat sortiment'!BI233<>\"\",'Avtalat sortiment'!BH233&'Avtalat sortiment'!BO233,\"\")","v":""}]
[null,null,null,null,null,null,null,null,null,null,null,null,null,null,null,null,null,null,null,null,null,null,null,null,null,null,null,null,null,null,null,null,null,null,null,null,null,null,null,null,null,null,null,null,null,null,null,null,null,null,null,null,null,null,null,null,null,null,null,null,null,null,null,null,null,null,null,null,null,null,null,null,null,null,null,null,null,{"$f":"IF('Avtalat sortiment'!K234<>\"\",'Avtalat sortiment'!$A234&'Avtalat sortiment'!Q234,\"\")","v":""},{"$f":"IF('Avtalat sortiment'!U234<>\"\",'Avtalat sortiment'!T234&'Avtalat sortiment'!AA234,\"\")","v":""},{"$f":"IF('Avtalat sortiment'!AE234<>\"\",'Avtalat sortiment'!AD234&'Avtalat sortiment'!AK234,\"\")","v":""},{"$f":"IF('Avtalat sortiment'!AO234<>\"\",'Avtalat sortiment'!AN234&'Avtalat sortiment'!AU234,\"\")","v":""},{"$f":"IF('Avtalat sortiment'!AY234<>\"\",'Avtalat sortiment'!AX234&'Avtalat sortiment'!BE234,\"\")","v":""},{"$f":"IF('Avtalat sortiment'!BI234<>\"\",'Avtalat sortiment'!BH234&'Avtalat sortiment'!BO234,\"\")","v":""}]
[null,null,null,null,null,null,null,null,null,null,null,null,null,null,null,null,null,null,null,null,null,null,null,null,null,null,null,null,null,null,null,null,null,null,null,null,null,null,null,null,null,null,null,null,null,null,null,null,null,null,null,null,null,null,null,null,null,null,null,null,null,null,null,null,null,null,null,null,null,null,null,null,null,null,null,null,null,{"$f":"IF('Avtalat sortiment'!K235<>\"\",'Avtalat sortiment'!$A235&'Avtalat sortiment'!Q235,\"\")","v":""},{"$f":"IF('Avtalat sortiment'!U235<>\"\",'Avtalat sortiment'!T235&'Avtalat sortiment'!AA235,\"\")","v":""},{"$f":"IF('Avtalat sortiment'!AE235<>\"\",'Avtalat sortiment'!AD235&'Avtalat sortiment'!AK235,\"\")","v":""},{"$f":"IF('Avtalat sortiment'!AO235<>\"\",'Avtalat sortiment'!AN235&'Avtalat sortiment'!AU235,\"\")","v":""},{"$f":"IF('Avtalat sortiment'!AY235<>\"\",'Avtalat sortiment'!AX235&'Avtalat sortiment'!BE235,\"\")","v":""},{"$f":"IF('Avtalat sortiment'!BI235<>\"\",'Avtalat sortiment'!BH235&'Avtalat sortiment'!BO235,\"\")","v":""}]
[null,null,null,null,null,null,null,null,null,null,null,null,null,null,null,null,null,null,null,null,null,null,null,null,null,null,null,null,null,null,null,null,null,null,null,null,null,null,null,null,null,null,null,null,null,null,null,null,null,null,null,null,null,null,null,null,null,null,null,null,null,null,null,null,null,null,null,null,null,null,null,null,null,null,null,null,null,{"$f":"IF('Avtalat sortiment'!K236<>\"\",'Avtalat sortiment'!$A236&'Avtalat sortiment'!Q236,\"\")","v":""},{"$f":"IF('Avtalat sortiment'!U236<>\"\",'Avtalat sortiment'!T236&'Avtalat sortiment'!AA236,\"\")","v":""},{"$f":"IF('Avtalat sortiment'!AE236<>\"\",'Avtalat sortiment'!AD236&'Avtalat sortiment'!AK236,\"\")","v":""},{"$f":"IF('Avtalat sortiment'!AO236<>\"\",'Avtalat sortiment'!AN236&'Avtalat sortiment'!AU236,\"\")","v":""},{"$f":"IF('Avtalat sortiment'!AY236<>\"\",'Avtalat sortiment'!AX236&'Avtalat sortiment'!BE236,\"\")","v":""},{"$f":"IF('Avtalat sortiment'!BI236<>\"\",'Avtalat sortiment'!BH236&'Avtalat sortiment'!BO236,\"\")","v":""}]
[null,null,null,null,null,null,null,null,null,null,null,null,null,null,null,null,null,null,null,null,null,null,null,null,null,null,null,null,null,null,null,null,null,null,null,null,null,null,null,null,null,null,null,null,null,null,null,null,null,null,null,null,null,null,null,null,null,null,null,null,null,null,null,null,null,null,null,null,null,null,null,null,null,null,null,null,null,{"$f":"IF('Avtalat sortiment'!K237<>\"\",'Avtalat sortiment'!$A237&'Avtalat sortiment'!Q237,\"\")","v":""},{"$f":"IF('Avtalat sortiment'!U237<>\"\",'Avtalat sortiment'!T237&'Avtalat sortiment'!AA237,\"\")","v":""},{"$f":"IF('Avtalat sortiment'!AE237<>\"\",'Avtalat sortiment'!AD237&'Avtalat sortiment'!AK237,\"\")","v":""},{"$f":"IF('Avtalat sortiment'!AO237<>\"\",'Avtalat sortiment'!AN237&'Avtalat sortiment'!AU237,\"\")","v":""},{"$f":"IF('Avtalat sortiment'!AY237<>\"\",'Avtalat sortiment'!AX237&'Avtalat sortiment'!BE237,\"\")","v":""},{"$f":"IF('Avtalat sortiment'!BI237<>\"\",'Avtalat sortiment'!BH237&'Avtalat sortiment'!BO237,\"\")","v":""}]
[null,null,null,null,null,null,null,null,null,null,null,null,null,null,null,null,null,null,null,null,null,null,null,null,null,null,null,null,null,null,null,null,null,null,null,null,null,null,null,null,null,null,null,null,null,null,null,null,null,null,null,null,null,null,null,null,null,null,null,null,null,null,null,null,null,null,null,null,null,null,null,null,null,null,null,null,null,{"$f":"IF('Avtalat sortiment'!K238<>\"\",'Avtalat sortiment'!$A238&'Avtalat sortiment'!Q238,\"\")","v":""},{"$f":"IF('Avtalat sortiment'!U238<>\"\",'Avtalat sortiment'!T238&'Avtalat sortiment'!AA238,\"\")","v":""},{"$f":"IF('Avtalat sortiment'!AE238<>\"\",'Avtalat sortiment'!AD238&'Avtalat sortiment'!AK238,\"\")","v":""},{"$f":"IF('Avtalat sortiment'!AO238<>\"\",'Avtalat sortiment'!AN238&'Avtalat sortiment'!AU238,\"\")","v":""},{"$f":"IF('Avtalat sortiment'!AY238<>\"\",'Avtalat sortiment'!AX238&'Avtalat sortiment'!BE238,\"\")","v":""},{"$f":"IF('Avtalat sortiment'!BI238<>\"\",'Avtalat sortiment'!BH238&'Avtalat sortiment'!BO238,\"\")","v":""}]
[null,null,null,null,null,null,null,null,null,null,null,null,null,null,null,null,null,null,null,null,null,null,null,null,null,null,null,null,null,null,null,null,null,null,null,null,null,null,null,null,null,null,null,null,null,null,null,null,null,null,null,null,null,null,null,null,null,null,null,null,null,null,null,null,null,null,null,null,null,null,null,null,null,null,null,null,null,{"$f":"IF('Avtalat sortiment'!K239<>\"\",'Avtalat sortiment'!$A239&'Avtalat sortiment'!Q239,\"\")","v":""},{"$f":"IF('Avtalat sortiment'!U239<>\"\",'Avtalat sortiment'!T239&'Avtalat sortiment'!AA239,\"\")","v":""},{"$f":"IF('Avtalat sortiment'!AE239<>\"\",'Avtalat sortiment'!AD239&'Avtalat sortiment'!AK239,\"\")","v":""},{"$f":"IF('Avtalat sortiment'!AO239<>\"\",'Avtalat sortiment'!AN239&'Avtalat sortiment'!AU239,\"\")","v":""},{"$f":"IF('Avtalat sortiment'!AY239<>\"\",'Avtalat sortiment'!AX239&'Avtalat sortiment'!BE239,\"\")","v":""},{"$f":"IF('Avtalat sortiment'!BI239<>\"\",'Avtalat sortiment'!BH239&'Avtalat sortiment'!BO239,\"\")","v":""}]
[null,null,null,null,null,null,null,null,null,null,null,null,null,null,null,null,null,null,null,null,null,null,null,null,null,null,null,null,null,null,null,null,null,null,null,null,null,null,null,null,null,null,null,null,null,null,null,null,null,null,null,null,null,null,null,null,null,null,null,null,null,null,null,null,null,null,null,null,null,null,null,null,null,null,null,null,null,{"$f":"IF('Avtalat sortiment'!K240<>\"\",'Avtalat sortiment'!$A240&'Avtalat sortiment'!Q240,\"\")","v":""},{"$f":"IF('Avtalat sortiment'!U240<>\"\",'Avtalat sortiment'!T240&'Avtalat sortiment'!AA240,\"\")","v":""},{"$f":"IF('Avtalat sortiment'!AE240<>\"\",'Avtalat sortiment'!AD240&'Avtalat sortiment'!AK240,\"\")","v":""},{"$f":"IF('Avtalat sortiment'!AO240<>\"\",'Avtalat sortiment'!AN240&'Avtalat sortiment'!AU240,\"\")","v":""},{"$f":"IF('Avtalat sortiment'!AY240<>\"\",'Avtalat sortiment'!AX240&'Avtalat sortiment'!BE240,\"\")","v":""},{"$f":"IF('Avtalat sortiment'!BI240<>\"\",'Avtalat sortiment'!BH240&'Avtalat sortiment'!BO240,\"\")","v":""}]
[null,null,null,null,null,null,null,null,null,null,null,null,null,null,null,null,null,null,null,null,null,null,null,null,null,null,null,null,null,null,null,null,null,null,null,null,null,null,null,null,null,null,null,null,null,null,null,null,null,null,null,null,null,null,null,null,null,null,null,null,null,null,null,null,null,null,null,null,null,null,null,null,null,null,null,null,null,{"$f":"IF('Avtalat sortiment'!K241<>\"\",'Avtalat sortiment'!$A241&'Avtalat sortiment'!Q241,\"\")","v":""},{"$f":"IF('Avtalat sortiment'!U241<>\"\",'Avtalat sortiment'!T241&'Avtalat sortiment'!AA241,\"\")","v":""},{"$f":"IF('Avtalat sortiment'!AE241<>\"\",'Avtalat sortiment'!AD241&'Avtalat sortiment'!AK241,\"\")","v":""},{"$f":"IF('Avtalat sortiment'!AO241<>\"\",'Avtalat sortiment'!AN241&'Avtalat sortiment'!AU241,\"\")","v":""},{"$f":"IF('Avtalat sortiment'!AY241<>\"\",'Avtalat sortiment'!AX241&'Avtalat sortiment'!BE241,\"\")","v":""},{"$f":"IF('Avtalat sortiment'!BI241<>\"\",'Avtalat sortiment'!BH241&'Avtalat sortiment'!BO241,\"\")","v":""}]
[null,null,null,null,null,null,null,null,null,null,null,null,null,null,null,null,null,null,null,null,null,null,null,null,null,null,null,null,null,null,null,null,null,null,null,null,null,null,null,null,null,null,null,null,null,null,null,null,null,null,null,null,null,null,null,null,null,null,null,null,null,null,null,null,null,null,null,null,null,null,null,null,null,null,null,null,null,{"$f":"IF('Avtalat sortiment'!K242<>\"\",'Avtalat sortiment'!$A242&'Avtalat sortiment'!Q242,\"\")","v":""},{"$f":"IF('Avtalat sortiment'!U242<>\"\",'Avtalat sortiment'!T242&'Avtalat sortiment'!AA242,\"\")","v":""},{"$f":"IF('Avtalat sortiment'!AE242<>\"\",'Avtalat sortiment'!AD242&'Avtalat sortiment'!AK242,\"\")","v":""},{"$f":"IF('Avtalat sortiment'!AO242<>\"\",'Avtalat sortiment'!AN242&'Avtalat sortiment'!AU242,\"\")","v":""},{"$f":"IF('Avtalat sortiment'!AY242<>\"\",'Avtalat sortiment'!AX242&'Avtalat sortiment'!BE242,\"\")","v":""},{"$f":"IF('Avtalat sortiment'!BI242<>\"\",'Avtalat sortiment'!BH242&'Avtalat sortiment'!BO242,\"\")","v":""}]
[null,null,null,null,null,null,null,null,null,null,null,null,null,null,null,null,null,null,null,null,null,null,null,null,null,null,null,null,null,null,null,null,null,null,null,null,null,null,null,null,null,null,null,null,null,null,null,null,null,null,null,null,null,null,null,null,null,null,null,null,null,null,null,null,null,null,null,null,null,null,null,null,null,null,null,null,null,{"$f":"IF('Avtalat sortiment'!K243<>\"\",'Avtalat sortiment'!$A243&'Avtalat sortiment'!Q243,\"\")","v":""},{"$f":"IF('Avtalat sortiment'!U243<>\"\",'Avtalat sortiment'!T243&'Avtalat sortiment'!AA243,\"\")","v":""},{"$f":"IF('Avtalat sortiment'!AE243<>\"\",'Avtalat sortiment'!AD243&'Avtalat sortiment'!AK243,\"\")","v":""},{"$f":"IF('Avtalat sortiment'!AO243<>\"\",'Avtalat sortiment'!AN243&'Avtalat sortiment'!AU243,\"\")","v":""},{"$f":"IF('Avtalat sortiment'!AY243<>\"\",'Avtalat sortiment'!AX243&'Avtalat sortiment'!BE243,\"\")","v":""},{"$f":"IF('Avtalat sortiment'!BI243<>\"\",'Avtalat sortiment'!BH243&'Avtalat sortiment'!BO243,\"\")","v":""}]
[null,null,null,null,null,null,null,null,null,null,null,null,null,null,null,null,null,null,null,null,null,null,null,null,null,null,null,null,null,null,null,null,null,null,null,null,null,null,null,null,null,null,null,null,null,null,null,null,null,null,null,null,null,null,null,null,null,null,null,null,null,null,null,null,null,null,null,null,null,null,null,null,null,null,null,null,null,{"$f":"IF('Avtalat sortiment'!K244<>\"\",'Avtalat sortiment'!$A244&'Avtalat sortiment'!Q244,\"\")","v":""},{"$f":"IF('Avtalat sortiment'!U244<>\"\",'Avtalat sortiment'!T244&'Avtalat sortiment'!AA244,\"\")","v":""},{"$f":"IF('Avtalat sortiment'!AE244<>\"\",'Avtalat sortiment'!AD244&'Avtalat sortiment'!AK244,\"\")","v":""},{"$f":"IF('Avtalat sortiment'!AO244<>\"\",'Avtalat sortiment'!AN244&'Avtalat sortiment'!AU244,\"\")","v":""},{"$f":"IF('Avtalat sortiment'!AY244<>\"\",'Avtalat sortiment'!AX244&'Avtalat sortiment'!BE244,\"\")","v":""},{"$f":"IF('Avtalat sortiment'!BI244<>\"\",'Avtalat sortiment'!BH244&'Avtalat sortiment'!BO244,\"\")","v":""}]
[null,null,null,null,null,null,null,null,null,null,null,null,null,null,null,null,null,null,null,null,null,null,null,null,null,null,null,null,null,null,null,null,null,null,null,null,null,null,null,null,null,null,null,null,null,null,null,null,null,null,null,null,null,null,null,null,null,null,null,null,null,null,null,null,null,null,null,null,null,null,null,null,null,null,null,null,null,{"$f":"IF('Avtalat sortiment'!K245<>\"\",'Avtalat sortiment'!$A245&'Avtalat sortiment'!Q245,\"\")","v":""},{"$f":"IF('Avtalat sortiment'!U245<>\"\",'Avtalat sortiment'!T245&'Avtalat sortiment'!AA245,\"\")","v":""},{"$f":"IF('Avtalat sortiment'!AE245<>\"\",'Avtalat sortiment'!AD245&'Avtalat sortiment'!AK245,\"\")","v":""},{"$f":"IF('Avtalat sortiment'!AO245<>\"\",'Avtalat sortiment'!AN245&'Avtalat sortiment'!AU245,\"\")","v":""},{"$f":"IF('Avtalat sortiment'!AY245<>\"\",'Avtalat sortiment'!AX245&'Avtalat sortiment'!BE245,\"\")","v":""},{"$f":"IF('Avtalat sortiment'!BI245<>\"\",'Avtalat sortiment'!BH245&'Avtalat sortiment'!BO245,\"\")","v":""}]
[null,null,null,null,null,null,null,null,null,null,null,null,null,null,null,null,null,null,null,null,null,null,null,null,null,null,null,null,null,null,null,null,null,null,null,null,null,null,null,null,null,null,null,null,null,null,null,null,null,null,null,null,null,null,null,null,null,null,null,null,null,null,null,null,null,null,null,null,null,null,null,null,null,null,null,null,null,{"$f":"IF('Avtalat sortiment'!K246<>\"\",'Avtalat sortiment'!$A246&'Avtalat sortiment'!Q246,\"\")","v":""},{"$f":"IF('Avtalat sortiment'!U246<>\"\",'Avtalat sortiment'!T246&'Avtalat sortiment'!AA246,\"\")","v":""},{"$f":"IF('Avtalat sortiment'!AE246<>\"\",'Avtalat sortiment'!AD246&'Avtalat sortiment'!AK246,\"\")","v":""},{"$f":"IF('Avtalat sortiment'!AO246<>\"\",'Avtalat sortiment'!AN246&'Avtalat sortiment'!AU246,\"\")","v":""},{"$f":"IF('Avtalat sortiment'!AY246<>\"\",'Avtalat sortiment'!AX246&'Avtalat sortiment'!BE246,\"\")","v":""},{"$f":"IF('Avtalat sortiment'!BI246<>\"\",'Avtalat sortiment'!BH246&'Avtalat sortiment'!BO246,\"\")","v":""}]
[null,null,null,null,null,null,null,null,null,null,null,null,null,null,null,null,null,null,null,null,null,null,null,null,null,null,null,null,null,null,null,null,null,null,null,null,null,null,null,null,null,null,null,null,null,null,null,null,null,null,null,null,null,null,null,null,null,null,null,null,null,null,null,null,null,null,null,null,null,null,null,null,null,null,null,null,null,{"$f":"IF('Avtalat sortiment'!K247<>\"\",'Avtalat sortiment'!$A247&'Avtalat sortiment'!Q247,\"\")","v":""},{"$f":"IF('Avtalat sortiment'!U247<>\"\",'Avtalat sortiment'!T247&'Avtalat sortiment'!AA247,\"\")","v":""},{"$f":"IF('Avtalat sortiment'!AE247<>\"\",'Avtalat sortiment'!AD247&'Avtalat sortiment'!AK247,\"\")","v":""},{"$f":"IF('Avtalat sortiment'!AO247<>\"\",'Avtalat sortiment'!AN247&'Avtalat sortiment'!AU247,\"\")","v":""},{"$f":"IF('Avtalat sortiment'!AY247<>\"\",'Avtalat sortiment'!AX247&'Avtalat sortiment'!BE247,\"\")","v":""},{"$f":"IF('Avtalat sortiment'!BI247<>\"\",'Avtalat sortiment'!BH247&'Avtalat sortiment'!BO247,\"\")","v":""}]
[null,null,null,null,null,null,null,null,null,null,null,null,null,null,null,null,null,null,null,null,null,null,null,null,null,null,null,null,null,null,null,null,null,null,null,null,null,null,null,null,null,null,null,null,null,null,null,null,null,null,null,null,null,null,null,null,null,null,null,null,null,null,null,null,null,null,null,null,null,null,null,null,null,null,null,null,null,{"$f":"IF('Avtalat sortiment'!K248<>\"\",'Avtalat sortiment'!$A248&'Avtalat sortiment'!Q248,\"\")","v":""},{"$f":"IF('Avtalat sortiment'!U248<>\"\",'Avtalat sortiment'!T248&'Avtalat sortiment'!AA248,\"\")","v":""},{"$f":"IF('Avtalat sortiment'!AE248<>\"\",'Avtalat sortiment'!AD248&'Avtalat sortiment'!AK248,\"\")","v":""},{"$f":"IF('Avtalat sortiment'!AO248<>\"\",'Avtalat sortiment'!AN248&'Avtalat sortiment'!AU248,\"\")","v":""},{"$f":"IF('Avtalat sortiment'!AY248<>\"\",'Avtalat sortiment'!AX248&'Avtalat sortiment'!BE248,\"\")","v":""},{"$f":"IF('Avtalat sortiment'!BI248<>\"\",'Avtalat sortiment'!BH248&'Avtalat sortiment'!BO248,\"\")","v":""}]
[null,null,null,null,null,null,null,null,null,null,null,null,null,null,null,null,null,null,null,null,null,null,null,null,null,null,null,null,null,null,null,null,null,null,null,null,null,null,null,null,null,null,null,null,null,null,null,null,null,null,null,null,null,null,null,null,null,null,null,null,null,null,null,null,null,null,null,null,null,null,null,null,null,null,null,null,null,{"$f":"IF('Avtalat sortiment'!K249<>\"\",'Avtalat sortiment'!$A249&'Avtalat sortiment'!Q249,\"\")","v":""},{"$f":"IF('Avtalat sortiment'!U249<>\"\",'Avtalat sortiment'!T249&'Avtalat sortiment'!AA249,\"\")","v":""},{"$f":"IF('Avtalat sortiment'!AE249<>\"\",'Avtalat sortiment'!AD249&'Avtalat sortiment'!AK249,\"\")","v":""},{"$f":"IF('Avtalat sortiment'!AO249<>\"\",'Avtalat sortiment'!AN249&'Avtalat sortiment'!AU249,\"\")","v":""},{"$f":"IF('Avtalat sortiment'!AY249<>\"\",'Avtalat sortiment'!AX249&'Avtalat sortiment'!BE249,\"\")","v":""},{"$f":"IF('Avtalat sortiment'!BI249<>\"\",'Avtalat sortiment'!BH249&'Avtalat sortiment'!BO249,\"\")","v":""}]
[null,null,null,null,null,null,null,null,null,null,null,null,null,null,null,null,null,null,null,null,null,null,null,null,null,null,null,null,null,null,null,null,null,null,null,null,null,null,null,null,null,null,null,null,null,null,null,null,null,null,null,null,null,null,null,null,null,null,null,null,null,null,null,null,null,null,null,null,null,null,null,null,null,null,null,null,null,{"$f":"IF('Avtalat sortiment'!K250<>\"\",'Avtalat sortiment'!$A250&'Avtalat sortiment'!Q250,\"\")","v":""},{"$f":"IF('Avtalat sortiment'!U250<>\"\",'Avtalat sortiment'!T250&'Avtalat sortiment'!AA250,\"\")","v":""},{"$f":"IF('Avtalat sortiment'!AE250<>\"\",'Avtalat sortiment'!AD250&'Avtalat sortiment'!AK250,\"\")","v":""},{"$f":"IF('Avtalat sortiment'!AO250<>\"\",'Avtalat sortiment'!AN250&'Avtalat sortiment'!AU250,\"\")","v":""},{"$f":"IF('Avtalat sortiment'!AY250<>\"\",'Avtalat sortiment'!AX250&'Avtalat sortiment'!BE250,\"\")","v":""},{"$f":"IF('Avtalat sortiment'!BI250<>\"\",'Avtalat sortiment'!BH250&'Avtalat sortiment'!BO250,\"\")","v":""}]
[null,null,null,null,null,null,null,null,null,null,null,null,null,null,null,null,null,null,null,null,null,null,null,null,null,null,null,null,null,null,null,null,null,null,null,null,null,null,null,null,null,null,null,null,null,null,null,null,null,null,null,null,null,null,null,null,null,null,null,null,null,null,null,null,null,null,null,null,null,null,null,null,null,null,null,null,null,{"$f":"IF('Avtalat sortiment'!K251<>\"\",'Avtalat sortiment'!$A251&'Avtalat sortiment'!Q251,\"\")","v":""},{"$f":"IF('Avtalat sortiment'!U251<>\"\",'Avtalat sortiment'!T251&'Avtalat sortiment'!AA251,\"\")","v":""},{"$f":"IF('Avtalat sortiment'!AE251<>\"\",'Avtalat sortiment'!AD251&'Avtalat sortiment'!AK251,\"\")","v":""},{"$f":"IF('Avtalat sortiment'!AO251<>\"\",'Avtalat sortiment'!AN251&'Avtalat sortiment'!AU251,\"\")","v":""},{"$f":"IF('Avtalat sortiment'!AY251<>\"\",'Avtalat sortiment'!AX251&'Avtalat sortiment'!BE251,\"\")","v":""},{"$f":"IF('Avtalat sortiment'!BI251<>\"\",'Avtalat sortiment'!BH251&'Avtalat sortiment'!BO251,\"\")","v":""}]
[null,null,null,null,null,null,null,null,null,null,null,null,null,null,null,null,null,null,null,null,null,null,null,null,null,null,null,null,null,null,null,null,null,null,null,null,null,null,null,null,null,null,null,null,null,null,null,null,null,null,null,null,null,null,null,null,null,null,null,null,null,null,null,null,null,null,null,null,null,null,null,null,null,null,null,null,null,{"$f":"IF('Avtalat sortiment'!K252<>\"\",'Avtalat sortiment'!$A252&'Avtalat sortiment'!Q252,\"\")","v":""},{"$f":"IF('Avtalat sortiment'!U252<>\"\",'Avtalat sortiment'!T252&'Avtalat sortiment'!AA252,\"\")","v":""},{"$f":"IF('Avtalat sortiment'!AE252<>\"\",'Avtalat sortiment'!AD252&'Avtalat sortiment'!AK252,\"\")","v":""},{"$f":"IF('Avtalat sortiment'!AO252<>\"\",'Avtalat sortiment'!AN252&'Avtalat sortiment'!AU252,\"\")","v":""},{"$f":"IF('Avtalat sortiment'!AY252<>\"\",'Avtalat sortiment'!AX252&'Avtalat sortiment'!BE252,\"\")","v":""},{"$f":"IF('Avtalat sortiment'!BI252<>\"\",'Avtalat sortiment'!BH252&'Avtalat sortiment'!BO252,\"\")","v":""}]
[null,null,null,null,null,null,null,null,null,null,null,null,null,null,null,null,null,null,null,null,null,null,null,null,null,null,null,null,null,null,null,null,null,null,null,null,null,null,null,null,null,null,null,null,null,null,null,null,null,null,null,null,null,null,null,null,null,null,null,null,null,null,null,null,null,null,null,null,null,null,null,null,null,null,null,null,null,{"$f":"IF('Avtalat sortiment'!K253<>\"\",'Avtalat sortiment'!$A253&'Avtalat sortiment'!Q253,\"\")","v":""},{"$f":"IF('Avtalat sortiment'!U253<>\"\",'Avtalat sortiment'!T253&'Avtalat sortiment'!AA253,\"\")","v":""},{"$f":"IF('Avtalat sortiment'!AE253<>\"\",'Avtalat sortiment'!AD253&'Avtalat sortiment'!AK253,\"\")","v":""},{"$f":"IF('Avtalat sortiment'!AO253<>\"\",'Avtalat sortiment'!AN253&'Avtalat sortiment'!AU253,\"\")","v":""},{"$f":"IF('Avtalat sortiment'!AY253<>\"\",'Avtalat sortiment'!AX253&'Avtalat sortiment'!BE253,\"\")","v":""},{"$f":"IF('Avtalat sortiment'!BI253<>\"\",'Avtalat sortiment'!BH253&'Avtalat sortiment'!BO253,\"\")","v":""}]
[null,null,null,null,null,null,null,null,null,null,null,null,null,null,null,null,null,null,null,null,null,null,null,null,null,null,null,null,null,null,null,null,null,null,null,null,null,null,null,null,null,null,null,null,null,null,null,null,null,null,null,null,null,null,null,null,null,null,null,null,null,null,null,null,null,null,null,null,null,null,null,null,null,null,null,null,null,{"$f":"IF('Avtalat sortiment'!K254<>\"\",'Avtalat sortiment'!$A254&'Avtalat sortiment'!Q254,\"\")","v":""},{"$f":"IF('Avtalat sortiment'!U254<>\"\",'Avtalat sortiment'!T254&'Avtalat sortiment'!AA254,\"\")","v":""},{"$f":"IF('Avtalat sortiment'!AE254<>\"\",'Avtalat sortiment'!AD254&'Avtalat sortiment'!AK254,\"\")","v":""},{"$f":"IF('Avtalat sortiment'!AO254<>\"\",'Avtalat sortiment'!AN254&'Avtalat sortiment'!AU254,\"\")","v":""},{"$f":"IF('Avtalat sortiment'!AY254<>\"\",'Avtalat sortiment'!AX254&'Avtalat sortiment'!BE254,\"\")","v":""},{"$f":"IF('Avtalat sortiment'!BI254<>\"\",'Avtalat sortiment'!BH254&'Avtalat sortiment'!BO254,\"\")","v":""}]
[null,null,null,null,null,null,null,null,null,null,null,null,null,null,null,null,null,null,null,null,null,null,null,null,null,null,null,null,null,null,null,null,null,null,null,null,null,null,null,null,null,null,null,null,null,null,null,null,null,null,null,null,null,null,null,null,null,null,null,null,null,null,null,null,null,null,null,null,null,null,null,null,null,null,null,null,null,{"$f":"IF('Avtalat sortiment'!K255<>\"\",'Avtalat sortiment'!$A255&'Avtalat sortiment'!Q255,\"\")","v":""},{"$f":"IF('Avtalat sortiment'!U255<>\"\",'Avtalat sortiment'!T255&'Avtalat sortiment'!AA255,\"\")","v":""},{"$f":"IF('Avtalat sortiment'!AE255<>\"\",'Avtalat sortiment'!AD255&'Avtalat sortiment'!AK255,\"\")","v":""},{"$f":"IF('Avtalat sortiment'!AO255<>\"\",'Avtalat sortiment'!AN255&'Avtalat sortiment'!AU255,\"\")","v":""},{"$f":"IF('Avtalat sortiment'!AY255<>\"\",'Avtalat sortiment'!AX255&'Avtalat sortiment'!BE255,\"\")","v":""},{"$f":"IF('Avtalat sortiment'!BI255<>\"\",'Avtalat sortiment'!BH255&'Avtalat sortiment'!BO255,\"\")","v":""}]
[null,null,null,null,null,null,null,null,null,null,null,null,null,null,null,null,null,null,null,null,null,null,null,null,null,null,null,null,null,null,null,null,null,null,null,null,null,null,null,null,null,null,null,null,null,null,null,null,null,null,null,null,null,null,null,null,null,null,null,null,null,null,null,null,null,null,null,null,null,null,null,null,null,null,null,null,null,{"$f":"IF('Avtalat sortiment'!K256<>\"\",'Avtalat sortiment'!$A256&'Avtalat sortiment'!Q256,\"\")","v":""},{"$f":"IF('Avtalat sortiment'!U256<>\"\",'Avtalat sortiment'!T256&'Avtalat sortiment'!AA256,\"\")","v":""},{"$f":"IF('Avtalat sortiment'!AE256<>\"\",'Avtalat sortiment'!AD256&'Avtalat sortiment'!AK256,\"\")","v":""},{"$f":"IF('Avtalat sortiment'!AO256<>\"\",'Avtalat sortiment'!AN256&'Avtalat sortiment'!AU256,\"\")","v":""},{"$f":"IF('Avtalat sortiment'!AY256<>\"\",'Avtalat sortiment'!AX256&'Avtalat sortiment'!BE256,\"\")","v":""},{"$f":"IF('Avtalat sortiment'!BI256<>\"\",'Avtalat sortiment'!BH256&'Avtalat sortiment'!BO256,\"\")","v":""}]
[null,null,null,null,null,null,null,null,null,null,null,null,null,null,null,null,null,null,null,null,null,null,null,null,null,null,null,null,null,null,null,null,null,null,null,null,null,null,null,null,null,null,null,null,null,null,null,null,null,null,null,null,null,null,null,null,null,null,null,null,null,null,null,null,null,null,null,null,null,null,null,null,null,null,null,null,null,{"$f":"IF('Avtalat sortiment'!K257<>\"\",'Avtalat sortiment'!$A257&'Avtalat sortiment'!Q257,\"\")","v":""},{"$f":"IF('Avtalat sortiment'!U257<>\"\",'Avtalat sortiment'!T257&'Avtalat sortiment'!AA257,\"\")","v":""},{"$f":"IF('Avtalat sortiment'!AE257<>\"\",'Avtalat sortiment'!AD257&'Avtalat sortiment'!AK257,\"\")","v":""},{"$f":"IF('Avtalat sortiment'!AO257<>\"\",'Avtalat sortiment'!AN257&'Avtalat sortiment'!AU257,\"\")","v":""},{"$f":"IF('Avtalat sortiment'!AY257<>\"\",'Avtalat sortiment'!AX257&'Avtalat sortiment'!BE257,\"\")","v":""},{"$f":"IF('Avtalat sortiment'!BI257<>\"\",'Avtalat sortiment'!BH257&'Avtalat sortiment'!BO257,\"\")","v":""}]
[null,null,null,null,null,null,null,null,null,null,null,null,null,null,null,null,null,null,null,null,null,null,null,null,null,null,null,null,null,null,null,null,null,null,null,null,null,null,null,null,null,null,null,null,null,null,null,null,null,null,null,null,null,null,null,null,null,null,null,null,null,null,null,null,null,null,null,null,null,null,null,null,null,null,null,null,null,{"$f":"IF('Avtalat sortiment'!K258<>\"\",'Avtalat sortiment'!$A258&'Avtalat sortiment'!Q258,\"\")","v":""},{"$f":"IF('Avtalat sortiment'!U258<>\"\",'Avtalat sortiment'!T258&'Avtalat sortiment'!AA258,\"\")","v":""},{"$f":"IF('Avtalat sortiment'!AE258<>\"\",'Avtalat sortiment'!AD258&'Avtalat sortiment'!AK258,\"\")","v":""},{"$f":"IF('Avtalat sortiment'!AO258<>\"\",'Avtalat sortiment'!AN258&'Avtalat sortiment'!AU258,\"\")","v":""},{"$f":"IF('Avtalat sortiment'!AY258<>\"\",'Avtalat sortiment'!AX258&'Avtalat sortiment'!BE258,\"\")","v":""},{"$f":"IF('Avtalat sortiment'!BI258<>\"\",'Avtalat sortiment'!BH258&'Avtalat sortiment'!BO258,\"\")","v":""}]
[null,null,null,null,null,null,null,null,null,null,null,null,null,null,null,null,null,null,null,null,null,null,null,null,null,null,null,null,null,null,null,null,null,null,null,null,null,null,null,null,null,null,null,null,null,null,null,null,null,null,null,null,null,null,null,null,null,null,null,null,null,null,null,null,null,null,null,null,null,null,null,null,null,null,null,null,null,{"$f":"IF('Avtalat sortiment'!K259<>\"\",'Avtalat sortiment'!$A259&'Avtalat sortiment'!Q259,\"\")","v":""},{"$f":"IF('Avtalat sortiment'!U259<>\"\",'Avtalat sortiment'!T259&'Avtalat sortiment'!AA259,\"\")","v":""},{"$f":"IF('Avtalat sortiment'!AE259<>\"\",'Avtalat sortiment'!AD259&'Avtalat sortiment'!AK259,\"\")","v":""},{"$f":"IF('Avtalat sortiment'!AO259<>\"\",'Avtalat sortiment'!AN259&'Avtalat sortiment'!AU259,\"\")","v":""},{"$f":"IF('Avtalat sortiment'!AY259<>\"\",'Avtalat sortiment'!AX259&'Avtalat sortiment'!BE259,\"\")","v":""},{"$f":"IF('Avtalat sortiment'!BI259<>\"\",'Avtalat sortiment'!BH259&'Avtalat sortiment'!BO259,\"\")","v":""}]
[null,null,null,null,null,null,null,null,null,null,null,null,null,null,null,null,null,null,null,null,null,null,null,null,null,null,null,null,null,null,null,null,null,null,null,null,null,null,null,null,null,null,null,null,null,null,null,null,null,null,null,null,null,null,null,null,null,null,null,null,null,null,null,null,null,null,null,null,null,null,null,null,null,null,null,null,null,{"$f":"IF('Avtalat sortiment'!K260<>\"\",'Avtalat sortiment'!$A260&'Avtalat sortiment'!Q260,\"\")","v":""},{"$f":"IF('Avtalat sortiment'!U260<>\"\",'Avtalat sortiment'!T260&'Avtalat sortiment'!AA260,\"\")","v":""},{"$f":"IF('Avtalat sortiment'!AE260<>\"\",'Avtalat sortiment'!AD260&'Avtalat sortiment'!AK260,\"\")","v":""},{"$f":"IF('Avtalat sortiment'!AO260<>\"\",'Avtalat sortiment'!AN260&'Avtalat sortiment'!AU260,\"\")","v":""},{"$f":"IF('Avtalat sortiment'!AY260<>\"\",'Avtalat sortiment'!AX260&'Avtalat sortiment'!BE260,\"\")","v":""},{"$f":"IF('Avtalat sortiment'!BI260<>\"\",'Avtalat sortiment'!BH260&'Avtalat sortiment'!BO260,\"\")","v":""}]
[null,null,null,null,null,null,null,null,null,null,null,null,null,null,null,null,null,null,null,null,null,null,null,null,null,null,null,null,null,null,null,null,null,null,null,null,null,null,null,null,null,null,null,null,null,null,null,null,null,null,null,null,null,null,null,null,null,null,null,null,null,null,null,null,null,null,null,null,null,null,null,null,null,null,null,null,null,{"$f":"IF('Avtalat sortiment'!K261<>\"\",'Avtalat sortiment'!$A261&'Avtalat sortiment'!Q261,\"\")","v":""},{"$f":"IF('Avtalat sortiment'!U261<>\"\",'Avtalat sortiment'!T261&'Avtalat sortiment'!AA261,\"\")","v":""},{"$f":"IF('Avtalat sortiment'!AE261<>\"\",'Avtalat sortiment'!AD261&'Avtalat sortiment'!AK261,\"\")","v":""},{"$f":"IF('Avtalat sortiment'!AO261<>\"\",'Avtalat sortiment'!AN261&'Avtalat sortiment'!AU261,\"\")","v":""},{"$f":"IF('Avtalat sortiment'!AY261<>\"\",'Avtalat sortiment'!AX261&'Avtalat sortiment'!BE261,\"\")","v":""},{"$f":"IF('Avtalat sortiment'!BI261<>\"\",'Avtalat sortiment'!BH261&'Avtalat sortiment'!BO261,\"\")","v":""}]
[null,null,null,null,null,null,null,null,null,null,null,null,null,null,null,null,null,null,null,null,null,null,null,null,null,null,null,null,null,null,null,null,null,null,null,null,null,null,null,null,null,null,null,null,null,null,null,null,null,null,null,null,null,null,null,null,null,null,null,null,null,null,null,null,null,null,null,null,null,null,null,null,null,null,null,null,null,{"$f":"IF('Avtalat sortiment'!K262<>\"\",'Avtalat sortiment'!$A262&'Avtalat sortiment'!Q262,\"\")","v":""},{"$f":"IF('Avtalat sortiment'!U262<>\"\",'Avtalat sortiment'!T262&'Avtalat sortiment'!AA262,\"\")","v":""},{"$f":"IF('Avtalat sortiment'!AE262<>\"\",'Avtalat sortiment'!AD262&'Avtalat sortiment'!AK262,\"\")","v":""},{"$f":"IF('Avtalat sortiment'!AO262<>\"\",'Avtalat sortiment'!AN262&'Avtalat sortiment'!AU262,\"\")","v":""},{"$f":"IF('Avtalat sortiment'!AY262<>\"\",'Avtalat sortiment'!AX262&'Avtalat sortiment'!BE262,\"\")","v":""},{"$f":"IF('Avtalat sortiment'!BI262<>\"\",'Avtalat sortiment'!BH262&'Avtalat sortiment'!BO262,\"\")","v":""}]
[null,null,null,null,null,null,null,null,null,null,null,null,null,null,null,null,null,null,null,null,null,null,null,null,null,null,null,null,null,null,null,null,null,null,null,null,null,null,null,null,null,null,null,null,null,null,null,null,null,null,null,null,null,null,null,null,null,null,null,null,null,null,null,null,null,null,null,null,null,null,null,null,null,null,null,null,null,{"$f":"IF('Avtalat sortiment'!K263<>\"\",'Avtalat sortiment'!$A263&'Avtalat sortiment'!Q263,\"\")","v":""},{"$f":"IF('Avtalat sortiment'!U263<>\"\",'Avtalat sortiment'!T263&'Avtalat sortiment'!AA263,\"\")","v":""},{"$f":"IF('Avtalat sortiment'!AE263<>\"\",'Avtalat sortiment'!AD263&'Avtalat sortiment'!AK263,\"\")","v":""},{"$f":"IF('Avtalat sortiment'!AO263<>\"\",'Avtalat sortiment'!AN263&'Avtalat sortiment'!AU263,\"\")","v":""},{"$f":"IF('Avtalat sortiment'!AY263<>\"\",'Avtalat sortiment'!AX263&'Avtalat sortiment'!BE263,\"\")","v":""},{"$f":"IF('Avtalat sortiment'!BI263<>\"\",'Avtalat sortiment'!BH263&'Avtalat sortiment'!BO263,\"\")","v":""}]
[null,null,null,null,null,null,null,null,null,null,null,null,null,null,null,null,null,null,null,null,null,null,null,null,null,null,null,null,null,null,null,null,null,null,null,null,null,null,null,null,null,null,null,null,null,null,null,null,null,null,null,null,null,null,null,null,null,null,null,null,null,null,null,null,null,null,null,null,null,null,null,null,null,null,null,null,null,{"$f":"IF('Avtalat sortiment'!K264<>\"\",'Avtalat sortiment'!$A264&'Avtalat sortiment'!Q264,\"\")","v":""},{"$f":"IF('Avtalat sortiment'!U264<>\"\",'Avtalat sortiment'!T264&'Avtalat sortiment'!AA264,\"\")","v":""},{"$f":"IF('Avtalat sortiment'!AE264<>\"\",'Avtalat sortiment'!AD264&'Avtalat sortiment'!AK264,\"\")","v":""},{"$f":"IF('Avtalat sortiment'!AO264<>\"\",'Avtalat sortiment'!AN264&'Avtalat sortiment'!AU264,\"\")","v":""},{"$f":"IF('Avtalat sortiment'!AY264<>\"\",'Avtalat sortiment'!AX264&'Avtalat sortiment'!BE264,\"\")","v":""},{"$f":"IF('Avtalat sortiment'!BI264<>\"\",'Avtalat sortiment'!BH264&'Avtalat sortiment'!BO264,\"\")","v":""}]
[null,null,null,null,null,null,null,null,null,null,null,null,null,null,null,null,null,null,null,null,null,null,null,null,null,null,null,null,null,null,null,null,null,null,null,null,null,null,null,null,null,null,null,null,null,null,null,null,null,null,null,null,null,null,null,null,null,null,null,null,null,null,null,null,null,null,null,null,null,null,null,null,null,null,null,null,null,{"$f":"IF('Avtalat sortiment'!K265<>\"\",'Avtalat sortiment'!$A265&'Avtalat sortiment'!Q265,\"\")","v":""},{"$f":"IF('Avtalat sortiment'!U265<>\"\",'Avtalat sortiment'!T265&'Avtalat sortiment'!AA265,\"\")","v":""},{"$f":"IF('Avtalat sortiment'!AE265<>\"\",'Avtalat sortiment'!AD265&'Avtalat sortiment'!AK265,\"\")","v":""},{"$f":"IF('Avtalat sortiment'!AO265<>\"\",'Avtalat sortiment'!AN265&'Avtalat sortiment'!AU265,\"\")","v":""},{"$f":"IF('Avtalat sortiment'!AY265<>\"\",'Avtalat sortiment'!AX265&'Avtalat sortiment'!BE265,\"\")","v":""},{"$f":"IF('Avtalat sortiment'!BI265<>\"\",'Avtalat sortiment'!BH265&'Avtalat sortiment'!BO265,\"\")","v":""}]
[null,null,null,null,null,null,null,null,null,null,null,null,null,null,null,null,null,null,null,null,null,null,null,null,null,null,null,null,null,null,null,null,null,null,null,null,null,null,null,null,null,null,null,null,null,null,null,null,null,null,null,null,null,null,null,null,null,null,null,null,null,null,null,null,null,null,null,null,null,null,null,null,null,null,null,null,null,{"$f":"IF('Avtalat sortiment'!K266<>\"\",'Avtalat sortiment'!$A266&'Avtalat sortiment'!Q266,\"\")","v":""},{"$f":"IF('Avtalat sortiment'!U266<>\"\",'Avtalat sortiment'!T266&'Avtalat sortiment'!AA266,\"\")","v":""},{"$f":"IF('Avtalat sortiment'!AE266<>\"\",'Avtalat sortiment'!AD266&'Avtalat sortiment'!AK266,\"\")","v":""},{"$f":"IF('Avtalat sortiment'!AO266<>\"\",'Avtalat sortiment'!AN266&'Avtalat sortiment'!AU266,\"\")","v":""},{"$f":"IF('Avtalat sortiment'!AY266<>\"\",'Avtalat sortiment'!AX266&'Avtalat sortiment'!BE266,\"\")","v":""},{"$f":"IF('Avtalat sortiment'!BI266<>\"\",'Avtalat sortiment'!BH266&'Avtalat sortiment'!BO266,\"\")","v":""}]
[null,null,null,null,null,null,null,null,null,null,null,null,null,null,null,null,null,null,null,null,null,null,null,null,null,null,null,null,null,null,null,null,null,null,null,null,null,null,null,null,null,null,null,null,null,null,null,null,null,null,null,null,null,null,null,null,null,null,null,null,null,null,null,null,null,null,null,null,null,null,null,null,null,null,null,null,null,{"$f":"IF('Avtalat sortiment'!K267<>\"\",'Avtalat sortiment'!$A267&'Avtalat sortiment'!Q267,\"\")","v":""},{"$f":"IF('Avtalat sortiment'!U267<>\"\",'Avtalat sortiment'!T267&'Avtalat sortiment'!AA267,\"\")","v":""},{"$f":"IF('Avtalat sortiment'!AE267<>\"\",'Avtalat sortiment'!AD267&'Avtalat sortiment'!AK267,\"\")","v":""},{"$f":"IF('Avtalat sortiment'!AO267<>\"\",'Avtalat sortiment'!AN267&'Avtalat sortiment'!AU267,\"\")","v":""},{"$f":"IF('Avtalat sortiment'!AY267<>\"\",'Avtalat sortiment'!AX267&'Avtalat sortiment'!BE267,\"\")","v":""},{"$f":"IF('Avtalat sortiment'!BI267<>\"\",'Avtalat sortiment'!BH267&'Avtalat sortiment'!BO267,\"\")","v":""}]
[null,null,null,null,null,null,null,null,null,null,null,null,null,null,null,null,null,null,null,null,null,null,null,null,null,null,null,null,null,null,null,null,null,null,null,null,null,null,null,null,null,null,null,null,null,null,null,null,null,null,null,null,null,null,null,null,null,null,null,null,null,null,null,null,null,null,null,null,null,null,null,null,null,null,null,null,null,{"$f":"IF('Avtalat sortiment'!K268<>\"\",'Avtalat sortiment'!$A268&'Avtalat sortiment'!Q268,\"\")","v":""},{"$f":"IF('Avtalat sortiment'!U268<>\"\",'Avtalat sortiment'!T268&'Avtalat sortiment'!AA268,\"\")","v":""},{"$f":"IF('Avtalat sortiment'!AE268<>\"\",'Avtalat sortiment'!AD268&'Avtalat sortiment'!AK268,\"\")","v":""},{"$f":"IF('Avtalat sortiment'!AO268<>\"\",'Avtalat sortiment'!AN268&'Avtalat sortiment'!AU268,\"\")","v":""},{"$f":"IF('Avtalat sortiment'!AY268<>\"\",'Avtalat sortiment'!AX268&'Avtalat sortiment'!BE268,\"\")","v":""},{"$f":"IF('Avtalat sortiment'!BI268<>\"\",'Avtalat sortiment'!BH268&'Avtalat sortiment'!BO268,\"\")","v":""}]
[null,null,null,null,null,null,null,null,null,null,null,null,null,null,null,null,null,null,null,null,null,null,null,null,null,null,null,null,null,null,null,null,null,null,null,null,null,null,null,null,null,null,null,null,null,null,null,null,null,null,null,null,null,null,null,null,null,null,null,null,null,null,null,null,null,null,null,null,null,null,null,null,null,null,null,null,null,{"$f":"IF('Avtalat sortiment'!K269<>\"\",'Avtalat sortiment'!$A269&'Avtalat sortiment'!Q269,\"\")","v":""},{"$f":"IF('Avtalat sortiment'!U269<>\"\",'Avtalat sortiment'!T269&'Avtalat sortiment'!AA269,\"\")","v":""},{"$f":"IF('Avtalat sortiment'!AE269<>\"\",'Avtalat sortiment'!AD269&'Avtalat sortiment'!AK269,\"\")","v":""},{"$f":"IF('Avtalat sortiment'!AO269<>\"\",'Avtalat sortiment'!AN269&'Avtalat sortiment'!AU269,\"\")","v":""},{"$f":"IF('Avtalat sortiment'!AY269<>\"\",'Avtalat sortiment'!AX269&'Avtalat sortiment'!BE269,\"\")","v":""},{"$f":"IF('Avtalat sortiment'!BI269<>\"\",'Avtalat sortiment'!BH269&'Avtalat sortiment'!BO269,\"\")","v":""}]
[null,null,null,null,null,null,null,null,null,null,null,null,null,null,null,null,null,null,null,null,null,null,null,null,null,null,null,null,null,null,null,null,null,null,null,null,null,null,null,null,null,null,null,null,null,null,null,null,null,null,null,null,null,null,null,null,null,null,null,null,null,null,null,null,null,null,null,null,null,null,null,null,null,null,null,null,null,{"$f":"IF('Avtalat sortiment'!K270<>\"\",'Avtalat sortiment'!$A270&'Avtalat sortiment'!Q270,\"\")","v":""},{"$f":"IF('Avtalat sortiment'!U270<>\"\",'Avtalat sortiment'!T270&'Avtalat sortiment'!AA270,\"\")","v":""},{"$f":"IF('Avtalat sortiment'!AE270<>\"\",'Avtalat sortiment'!AD270&'Avtalat sortiment'!AK270,\"\")","v":""},{"$f":"IF('Avtalat sortiment'!AO270<>\"\",'Avtalat sortiment'!AN270&'Avtalat sortiment'!AU270,\"\")","v":""},{"$f":"IF('Avtalat sortiment'!AY270<>\"\",'Avtalat sortiment'!AX270&'Avtalat sortiment'!BE270,\"\")","v":""},{"$f":"IF('Avtalat sortiment'!BI270<>\"\",'Avtalat sortiment'!BH270&'Avtalat sortiment'!BO270,\"\")","v":""}]
[null,null,null,null,null,null,null,null,null,null,null,null,null,null,null,null,null,null,null,null,null,null,null,null,null,null,null,null,null,null,null,null,null,null,null,null,null,null,null,null,null,null,null,null,null,null,null,null,null,null,null,null,null,null,null,null,null,null,null,null,null,null,null,null,null,null,null,null,null,null,null,null,null,null,null,null,null,{"$f":"IF('Avtalat sortiment'!K271<>\"\",'Avtalat sortiment'!$A271&'Avtalat sortiment'!Q271,\"\")","v":""},{"$f":"IF('Avtalat sortiment'!U271<>\"\",'Avtalat sortiment'!T271&'Avtalat sortiment'!AA271,\"\")","v":""},{"$f":"IF('Avtalat sortiment'!AE271<>\"\",'Avtalat sortiment'!AD271&'Avtalat sortiment'!AK271,\"\")","v":""},{"$f":"IF('Avtalat sortiment'!AO271<>\"\",'Avtalat sortiment'!AN271&'Avtalat sortiment'!AU271,\"\")","v":""},{"$f":"IF('Avtalat sortiment'!AY271<>\"\",'Avtalat sortiment'!AX271&'Avtalat sortiment'!BE271,\"\")","v":""},{"$f":"IF('Avtalat sortiment'!BI271<>\"\",'Avtalat sortiment'!BH271&'Avtalat sortiment'!BO271,\"\")","v":""}]
[null,null,null,null,null,null,null,null,null,null,null,null,null,null,null,null,null,null,null,null,null,null,null,null,null,null,null,null,null,null,null,null,null,null,null,null,null,null,null,null,null,null,null,null,null,null,null,null,null,null,null,null,null,null,null,null,null,null,null,null,null,null,null,null,null,null,null,null,null,null,null,null,null,null,null,null,null,{"$f":"IF('Avtalat sortiment'!K272<>\"\",'Avtalat sortiment'!$A272&'Avtalat sortiment'!Q272,\"\")","v":""},{"$f":"IF('Avtalat sortiment'!U272<>\"\",'Avtalat sortiment'!T272&'Avtalat sortiment'!AA272,\"\")","v":""},{"$f":"IF('Avtalat sortiment'!AE272<>\"\",'Avtalat sortiment'!AD272&'Avtalat sortiment'!AK272,\"\")","v":""},{"$f":"IF('Avtalat sortiment'!AO272<>\"\",'Avtalat sortiment'!AN272&'Avtalat sortiment'!AU272,\"\")","v":""},{"$f":"IF('Avtalat sortiment'!AY272<>\"\",'Avtalat sortiment'!AX272&'Avtalat sortiment'!BE272,\"\")","v":""},{"$f":"IF('Avtalat sortiment'!BI272<>\"\",'Avtalat sortiment'!BH272&'Avtalat sortiment'!BO272,\"\")","v":""}]
[null,null,null,null,null,null,null,null,null,null,null,null,null,null,null,null,null,null,null,null,null,null,null,null,null,null,null,null,null,null,null,null,null,null,null,null,null,null,null,null,null,null,null,null,null,null,null,null,null,null,null,null,null,null,null,null,null,null,null,null,null,null,null,null,null,null,null,null,null,null,null,null,null,null,null,null,null,{"$f":"IF('Avtalat sortiment'!K273<>\"\",'Avtalat sortiment'!$A273&'Avtalat sortiment'!Q273,\"\")","v":""},{"$f":"IF('Avtalat sortiment'!U273<>\"\",'Avtalat sortiment'!T273&'Avtalat sortiment'!AA273,\"\")","v":""},{"$f":"IF('Avtalat sortiment'!AE273<>\"\",'Avtalat sortiment'!AD273&'Avtalat sortiment'!AK273,\"\")","v":""},{"$f":"IF('Avtalat sortiment'!AO273<>\"\",'Avtalat sortiment'!AN273&'Avtalat sortiment'!AU273,\"\")","v":""},{"$f":"IF('Avtalat sortiment'!AY273<>\"\",'Avtalat sortiment'!AX273&'Avtalat sortiment'!BE273,\"\")","v":""},{"$f":"IF('Avtalat sortiment'!BI273<>\"\",'Avtalat sortiment'!BH273&'Avtalat sortiment'!BO273,\"\")","v":""}]
[null,null,null,null,null,null,null,null,null,null,null,null,null,null,null,null,null,null,null,null,null,null,null,null,null,null,null,null,null,null,null,null,null,null,null,null,null,null,null,null,null,null,null,null,null,null,null,null,null,null,null,null,null,null,null,null,null,null,null,null,null,null,null,null,null,null,null,null,null,null,null,null,null,null,null,null,null,{"$f":"IF('Avtalat sortiment'!K274<>\"\",'Avtalat sortiment'!$A274&'Avtalat sortiment'!Q274,\"\")","v":""},{"$f":"IF('Avtalat sortiment'!U274<>\"\",'Avtalat sortiment'!T274&'Avtalat sortiment'!AA274,\"\")","v":""},{"$f":"IF('Avtalat sortiment'!AE274<>\"\",'Avtalat sortiment'!AD274&'Avtalat sortiment'!AK274,\"\")","v":""},{"$f":"IF('Avtalat sortiment'!AO274<>\"\",'Avtalat sortiment'!AN274&'Avtalat sortiment'!AU274,\"\")","v":""},{"$f":"IF('Avtalat sortiment'!AY274<>\"\",'Avtalat sortiment'!AX274&'Avtalat sortiment'!BE274,\"\")","v":""},{"$f":"IF('Avtalat sortiment'!BI274<>\"\",'Avtalat sortiment'!BH274&'Avtalat sortiment'!BO274,\"\")","v":""}]
[null,null,null,null,null,null,null,null,null,null,null,null,null,null,null,null,null,null,null,null,null,null,null,null,null,null,null,null,null,null,null,null,null,null,null,null,null,null,null,null,null,null,null,null,null,null,null,null,null,null,null,null,null,null,null,null,null,null,null,null,null,null,null,null,null,null,null,null,null,null,null,null,null,null,null,null,null,{"$f":"IF('Avtalat sortiment'!K275<>\"\",'Avtalat sortiment'!$A275&'Avtalat sortiment'!Q275,\"\")","v":""},{"$f":"IF('Avtalat sortiment'!U275<>\"\",'Avtalat sortiment'!T275&'Avtalat sortiment'!AA275,\"\")","v":""},{"$f":"IF('Avtalat sortiment'!AE275<>\"\",'Avtalat sortiment'!AD275&'Avtalat sortiment'!AK275,\"\")","v":""},{"$f":"IF('Avtalat sortiment'!AO275<>\"\",'Avtalat sortiment'!AN275&'Avtalat sortiment'!AU275,\"\")","v":""},{"$f":"IF('Avtalat sortiment'!AY275<>\"\",'Avtalat sortiment'!AX275&'Avtalat sortiment'!BE275,\"\")","v":""},{"$f":"IF('Avtalat sortiment'!BI275<>\"\",'Avtalat sortiment'!BH275&'Avtalat sortiment'!BO275,\"\")","v":""}]
[null,null,null,null,null,null,null,null,null,null,null,null,null,null,null,null,null,null,null,null,null,null,null,null,null,null,null,null,null,null,null,null,null,null,null,null,null,null,null,null,null,null,null,null,null,null,null,null,null,null,null,null,null,null,null,null,null,null,null,null,null,null,null,null,null,null,null,null,null,null,null,null,null,null,null,null,null,{"$f":"IF('Avtalat sortiment'!K276<>\"\",'Avtalat sortiment'!$A276&'Avtalat sortiment'!Q276,\"\")","v":""},{"$f":"IF('Avtalat sortiment'!U276<>\"\",'Avtalat sortiment'!T276&'Avtalat sortiment'!AA276,\"\")","v":""},{"$f":"IF('Avtalat sortiment'!AE276<>\"\",'Avtalat sortiment'!AD276&'Avtalat sortiment'!AK276,\"\")","v":""},{"$f":"IF('Avtalat sortiment'!AO276<>\"\",'Avtalat sortiment'!AN276&'Avtalat sortiment'!AU276,\"\")","v":""},{"$f":"IF('Avtalat sortiment'!AY276<>\"\",'Avtalat sortiment'!AX276&'Avtalat sortiment'!BE276,\"\")","v":""},{"$f":"IF('Avtalat sortiment'!BI276<>\"\",'Avtalat sortiment'!BH276&'Avtalat sortiment'!BO276,\"\")","v":""}]
[null,null,null,null,null,null,null,null,null,null,null,null,null,null,null,null,null,null,null,null,null,null,null,null,null,null,null,null,null,null,null,null,null,null,null,null,null,null,null,null,null,null,null,null,null,null,null,null,null,null,null,null,null,null,null,null,null,null,null,null,null,null,null,null,null,null,null,null,null,null,null,null,null,null,null,null,null,{"$f":"IF('Avtalat sortiment'!K277<>\"\",'Avtalat sortiment'!$A277&'Avtalat sortiment'!Q277,\"\")","v":""},{"$f":"IF('Avtalat sortiment'!U277<>\"\",'Avtalat sortiment'!T277&'Avtalat sortiment'!AA277,\"\")","v":""},{"$f":"IF('Avtalat sortiment'!AE277<>\"\",'Avtalat sortiment'!AD277&'Avtalat sortiment'!AK277,\"\")","v":""},{"$f":"IF('Avtalat sortiment'!AO277<>\"\",'Avtalat sortiment'!AN277&'Avtalat sortiment'!AU277,\"\")","v":""},{"$f":"IF('Avtalat sortiment'!AY277<>\"\",'Avtalat sortiment'!AX277&'Avtalat sortiment'!BE277,\"\")","v":""},{"$f":"IF('Avtalat sortiment'!BI277<>\"\",'Avtalat sortiment'!BH277&'Avtalat sortiment'!BO277,\"\")","v":""}]
[null,null,null,null,null,null,null,null,null,null,null,null,null,null,null,null,null,null,null,null,null,null,null,null,null,null,null,null,null,null,null,null,null,null,null,null,null,null,null,null,null,null,null,null,null,null,null,null,null,null,null,null,null,null,null,null,null,null,null,null,null,null,null,null,null,null,null,null,null,null,null,null,null,null,null,null,null,{"$f":"IF('Avtalat sortiment'!K278<>\"\",'Avtalat sortiment'!$A278&'Avtalat sortiment'!Q278,\"\")","v":""},{"$f":"IF('Avtalat sortiment'!U278<>\"\",'Avtalat sortiment'!T278&'Avtalat sortiment'!AA278,\"\")","v":""},{"$f":"IF('Avtalat sortiment'!AE278<>\"\",'Avtalat sortiment'!AD278&'Avtalat sortiment'!AK278,\"\")","v":""},{"$f":"IF('Avtalat sortiment'!AO278<>\"\",'Avtalat sortiment'!AN278&'Avtalat sortiment'!AU278,\"\")","v":""},{"$f":"IF('Avtalat sortiment'!AY278<>\"\",'Avtalat sortiment'!AX278&'Avtalat sortiment'!BE278,\"\")","v":""},{"$f":"IF('Avtalat sortiment'!BI278<>\"\",'Avtalat sortiment'!BH278&'Avtalat sortiment'!BO278,\"\")","v":""}]
[null,null,null,null,null,null,null,null,null,null,null,null,null,null,null,null,null,null,null,null,null,null,null,null,null,null,null,null,null,null,null,null,null,null,null,null,null,null,null,null,null,null,null,null,null,null,null,null,null,null,null,null,null,null,null,null,null,null,null,null,null,null,null,null,null,null,null,null,null,null,null,null,null,null,null,null,null,{"$f":"IF('Avtalat sortiment'!K279<>\"\",'Avtalat sortiment'!$A279&'Avtalat sortiment'!Q279,\"\")","v":""},{"$f":"IF('Avtalat sortiment'!U279<>\"\",'Avtalat sortiment'!T279&'Avtalat sortiment'!AA279,\"\")","v":""},{"$f":"IF('Avtalat sortiment'!AE279<>\"\",'Avtalat sortiment'!AD279&'Avtalat sortiment'!AK279,\"\")","v":""},{"$f":"IF('Avtalat sortiment'!AO279<>\"\",'Avtalat sortiment'!AN279&'Avtalat sortiment'!AU279,\"\")","v":""},{"$f":"IF('Avtalat sortiment'!AY279<>\"\",'Avtalat sortiment'!AX279&'Avtalat sortiment'!BE279,\"\")","v":""},{"$f":"IF('Avtalat sortiment'!BI279<>\"\",'Avtalat sortiment'!BH279&'Avtalat sortiment'!BO279,\"\")","v":""}]
[null,null,null,null,null,null,null,null,null,null,null,null,null,null,null,null,null,null,null,null,null,null,null,null,null,null,null,null,null,null,null,null,null,null,null,null,null,null,null,null,null,null,null,null,null,null,null,null,null,null,null,null,null,null,null,null,null,null,null,null,null,null,null,null,null,null,null,null,null,null,null,null,null,null,null,null,null,{"$f":"IF('Avtalat sortiment'!K280<>\"\",'Avtalat sortiment'!$A280&'Avtalat sortiment'!Q280,\"\")","v":""},{"$f":"IF('Avtalat sortiment'!U280<>\"\",'Avtalat sortiment'!T280&'Avtalat sortiment'!AA280,\"\")","v":""},{"$f":"IF('Avtalat sortiment'!AE280<>\"\",'Avtalat sortiment'!AD280&'Avtalat sortiment'!AK280,\"\")","v":""},{"$f":"IF('Avtalat sortiment'!AO280<>\"\",'Avtalat sortiment'!AN280&'Avtalat sortiment'!AU280,\"\")","v":""},{"$f":"IF('Avtalat sortiment'!AY280<>\"\",'Avtalat sortiment'!AX280&'Avtalat sortiment'!BE280,\"\")","v":""},{"$f":"IF('Avtalat sortiment'!BI280<>\"\",'Avtalat sortiment'!BH280&'Avtalat sortiment'!BO280,\"\")","v":""}]
[null,null,null,null,null,null,null,null,null,null,null,null,null,null,null,null,null,null,null,null,null,null,null,null,null,null,null,null,null,null,null,null,null,null,null,null,null,null,null,null,null,null,null,null,null,null,null,null,null,null,null,null,null,null,null,null,null,null,null,null,null,null,null,null,null,null,null,null,null,null,null,null,null,null,null,null,null,{"$f":"IF('Avtalat sortiment'!K281<>\"\",'Avtalat sortiment'!$A281&'Avtalat sortiment'!Q281,\"\")","v":""},{"$f":"IF('Avtalat sortiment'!U281<>\"\",'Avtalat sortiment'!T281&'Avtalat sortiment'!AA281,\"\")","v":""},{"$f":"IF('Avtalat sortiment'!AE281<>\"\",'Avtalat sortiment'!AD281&'Avtalat sortiment'!AK281,\"\")","v":""},{"$f":"IF('Avtalat sortiment'!AO281<>\"\",'Avtalat sortiment'!AN281&'Avtalat sortiment'!AU281,\"\")","v":""},{"$f":"IF('Avtalat sortiment'!AY281<>\"\",'Avtalat sortiment'!AX281&'Avtalat sortiment'!BE281,\"\")","v":""},{"$f":"IF('Avtalat sortiment'!BI281<>\"\",'Avtalat sortiment'!BH281&'Avtalat sortiment'!BO281,\"\")","v":""}]
[null,null,null,null,null,null,null,null,null,null,null,null,null,null,null,null,null,null,null,null,null,null,null,null,null,null,null,null,null,null,null,null,null,null,null,null,null,null,null,null,null,null,null,null,null,null,null,null,null,null,null,null,null,null,null,null,null,null,null,null,null,null,null,null,null,null,null,null,null,null,null,null,null,null,null,null,null,{"$f":"IF('Avtalat sortiment'!K282<>\"\",'Avtalat sortiment'!$A282&'Avtalat sortiment'!Q282,\"\")","v":""},{"$f":"IF('Avtalat sortiment'!U282<>\"\",'Avtalat sortiment'!T282&'Avtalat sortiment'!AA282,\"\")","v":""},{"$f":"IF('Avtalat sortiment'!AE282<>\"\",'Avtalat sortiment'!AD282&'Avtalat sortiment'!AK282,\"\")","v":""},{"$f":"IF('Avtalat sortiment'!AO282<>\"\",'Avtalat sortiment'!AN282&'Avtalat sortiment'!AU282,\"\")","v":""},{"$f":"IF('Avtalat sortiment'!AY282<>\"\",'Avtalat sortiment'!AX282&'Avtalat sortiment'!BE282,\"\")","v":""},{"$f":"IF('Avtalat sortiment'!BI282<>\"\",'Avtalat sortiment'!BH282&'Avtalat sortiment'!BO282,\"\")","v":""}]
[null,null,null,null,null,null,null,null,null,null,null,null,null,null,null,null,null,null,null,null,null,null,null,null,null,null,null,null,null,null,null,null,null,null,null,null,null,null,null,null,null,null,null,null,null,null,null,null,null,null,null,null,null,null,null,null,null,null,null,null,null,null,null,null,null,null,null,null,null,null,null,null,null,null,null,null,null,{"$f":"IF('Avtalat sortiment'!K283<>\"\",'Avtalat sortiment'!$A283&'Avtalat sortiment'!Q283,\"\")","v":""},{"$f":"IF('Avtalat sortiment'!U283<>\"\",'Avtalat sortiment'!T283&'Avtalat sortiment'!AA283,\"\")","v":""},{"$f":"IF('Avtalat sortiment'!AE283<>\"\",'Avtalat sortiment'!AD283&'Avtalat sortiment'!AK283,\"\")","v":""},{"$f":"IF('Avtalat sortiment'!AO283<>\"\",'Avtalat sortiment'!AN283&'Avtalat sortiment'!AU283,\"\")","v":""},{"$f":"IF('Avtalat sortiment'!AY283<>\"\",'Avtalat sortiment'!AX283&'Avtalat sortiment'!BE283,\"\")","v":""},{"$f":"IF('Avtalat sortiment'!BI283<>\"\",'Avtalat sortiment'!BH283&'Avtalat sortiment'!BO283,\"\")","v":""}]
[null,null,null,null,null,null,null,null,null,null,null,null,null,null,null,null,null,null,null,null,null,null,null,null,null,null,null,null,null,null,null,null,null,null,null,null,null,null,null,null,null,null,null,null,null,null,null,null,null,null,null,null,null,null,null,null,null,null,null,null,null,null,null,null,null,null,null,null,null,null,null,null,null,null,null,null,null,{"$f":"IF('Avtalat sortiment'!K284<>\"\",'Avtalat sortiment'!$A284&'Avtalat sortiment'!Q284,\"\")","v":""},{"$f":"IF('Avtalat sortiment'!U284<>\"\",'Avtalat sortiment'!T284&'Avtalat sortiment'!AA284,\"\")","v":""},{"$f":"IF('Avtalat sortiment'!AE284<>\"\",'Avtalat sortiment'!AD284&'Avtalat sortiment'!AK284,\"\")","v":""},{"$f":"IF('Avtalat sortiment'!AO284<>\"\",'Avtalat sortiment'!AN284&'Avtalat sortiment'!AU284,\"\")","v":""},{"$f":"IF('Avtalat sortiment'!AY284<>\"\",'Avtalat sortiment'!AX284&'Avtalat sortiment'!BE284,\"\")","v":""},{"$f":"IF('Avtalat sortiment'!BI284<>\"\",'Avtalat sortiment'!BH284&'Avtalat sortiment'!BO284,\"\")","v":""}]
[null,null,null,null,null,null,null,null,null,null,null,null,null,null,null,null,null,null,null,null,null,null,null,null,null,null,null,null,null,null,null,null,null,null,null,null,null,null,null,null,null,null,null,null,null,null,null,null,null,null,null,null,null,null,null,null,null,null,null,null,null,null,null,null,null,null,null,null,null,null,null,null,null,null,null,null,null,{"$f":"IF('Avtalat sortiment'!K285<>\"\",'Avtalat sortiment'!$A285&'Avtalat sortiment'!Q285,\"\")","v":""},{"$f":"IF('Avtalat sortiment'!U285<>\"\",'Avtalat sortiment'!T285&'Avtalat sortiment'!AA285,\"\")","v":""},{"$f":"IF('Avtalat sortiment'!AE285<>\"\",'Avtalat sortiment'!AD285&'Avtalat sortiment'!AK285,\"\")","v":""},{"$f":"IF('Avtalat sortiment'!AO285<>\"\",'Avtalat sortiment'!AN285&'Avtalat sortiment'!AU285,\"\")","v":""},{"$f":"IF('Avtalat sortiment'!AY285<>\"\",'Avtalat sortiment'!AX285&'Avtalat sortiment'!BE285,\"\")","v":""},{"$f":"IF('Avtalat sortiment'!BI285<>\"\",'Avtalat sortiment'!BH285&'Avtalat sortiment'!BO285,\"\")","v":""}]
[null,null,null,null,null,null,null,null,null,null,null,null,null,null,null,null,null,null,null,null,null,null,null,null,null,null,null,null,null,null,null,null,null,null,null,null,null,null,null,null,null,null,null,null,null,null,null,null,null,null,null,null,null,null,null,null,null,null,null,null,null,null,null,null,null,null,null,null,null,null,null,null,null,null,null,null,null,{"$f":"IF('Avtalat sortiment'!K286<>\"\",'Avtalat sortiment'!$A286&'Avtalat sortiment'!Q286,\"\")","v":""},{"$f":"IF('Avtalat sortiment'!U286<>\"\",'Avtalat sortiment'!T286&'Avtalat sortiment'!AA286,\"\")","v":""},{"$f":"IF('Avtalat sortiment'!AE286<>\"\",'Avtalat sortiment'!AD286&'Avtalat sortiment'!AK286,\"\")","v":""},{"$f":"IF('Avtalat sortiment'!AO286<>\"\",'Avtalat sortiment'!AN286&'Avtalat sortiment'!AU286,\"\")","v":""},{"$f":"IF('Avtalat sortiment'!AY286<>\"\",'Avtalat sortiment'!AX286&'Avtalat sortiment'!BE286,\"\")","v":""},{"$f":"IF('Avtalat sortiment'!BI286<>\"\",'Avtalat sortiment'!BH286&'Avtalat sortiment'!BO286,\"\")","v":""}]
[null,null,null,null,null,null,null,null,null,null,null,null,null,null,null,null,null,null,null,null,null,null,null,null,null,null,null,null,null,null,null,null,null,null,null,null,null,null,null,null,null,null,null,null,null,null,null,null,null,null,null,null,null,null,null,null,null,null,null,null,null,null,null,null,null,null,null,null,null,null,null,null,null,null,null,null,null,{"$f":"IF('Avtalat sortiment'!K287<>\"\",'Avtalat sortiment'!$A287&'Avtalat sortiment'!Q287,\"\")","v":""},{"$f":"IF('Avtalat sortiment'!U287<>\"\",'Avtalat sortiment'!T287&'Avtalat sortiment'!AA287,\"\")","v":""},{"$f":"IF('Avtalat sortiment'!AE287<>\"\",'Avtalat sortiment'!AD287&'Avtalat sortiment'!AK287,\"\")","v":""},{"$f":"IF('Avtalat sortiment'!AO287<>\"\",'Avtalat sortiment'!AN287&'Avtalat sortiment'!AU287,\"\")","v":""},{"$f":"IF('Avtalat sortiment'!AY287<>\"\",'Avtalat sortiment'!AX287&'Avtalat sortiment'!BE287,\"\")","v":""},{"$f":"IF('Avtalat sortiment'!BI287<>\"\",'Avtalat sortiment'!BH287&'Avtalat sortiment'!BO287,\"\")","v":""}]
[null,null,null,null,null,null,null,null,null,null,null,null,null,null,null,null,null,null,null,null,null,null,null,null,null,null,null,null,null,null,null,null,null,null,null,null,null,null,null,null,null,null,null,null,null,null,null,null,null,null,null,null,null,null,null,null,null,null,null,null,null,null,null,null,null,null,null,null,null,null,null,null,null,null,null,null,null,{"$f":"IF('Avtalat sortiment'!K288<>\"\",'Avtalat sortiment'!$A288&'Avtalat sortiment'!Q288,\"\")","v":""},{"$f":"IF('Avtalat sortiment'!U288<>\"\",'Avtalat sortiment'!T288&'Avtalat sortiment'!AA288,\"\")","v":""},{"$f":"IF('Avtalat sortiment'!AE288<>\"\",'Avtalat sortiment'!AD288&'Avtalat sortiment'!AK288,\"\")","v":""},{"$f":"IF('Avtalat sortiment'!AO288<>\"\",'Avtalat sortiment'!AN288&'Avtalat sortiment'!AU288,\"\")","v":""},{"$f":"IF('Avtalat sortiment'!AY288<>\"\",'Avtalat sortiment'!AX288&'Avtalat sortiment'!BE288,\"\")","v":""},{"$f":"IF('Avtalat sortiment'!BI288<>\"\",'Avtalat sortiment'!BH288&'Avtalat sortiment'!BO288,\"\")","v":""}]
[null,null,null,null,null,null,null,null,null,null,null,null,null,null,null,null,null,null,null,null,null,null,null,null,null,null,null,null,null,null,null,null,null,null,null,null,null,null,null,null,null,null,null,null,null,null,null,null,null,null,null,null,null,null,null,null,null,null,null,null,null,null,null,null,null,null,null,null,null,null,null,null,null,null,null,null,null,{"$f":"IF('Avtalat sortiment'!K289<>\"\",'Avtalat sortiment'!$A289&'Avtalat sortiment'!Q289,\"\")","v":""},{"$f":"IF('Avtalat sortiment'!U289<>\"\",'Avtalat sortiment'!T289&'Avtalat sortiment'!AA289,\"\")","v":""},{"$f":"IF('Avtalat sortiment'!AE289<>\"\",'Avtalat sortiment'!AD289&'Avtalat sortiment'!AK289,\"\")","v":""},{"$f":"IF('Avtalat sortiment'!AO289<>\"\",'Avtalat sortiment'!AN289&'Avtalat sortiment'!AU289,\"\")","v":""},{"$f":"IF('Avtalat sortiment'!AY289<>\"\",'Avtalat sortiment'!AX289&'Avtalat sortiment'!BE289,\"\")","v":""},{"$f":"IF('Avtalat sortiment'!BI289<>\"\",'Avtalat sortiment'!BH289&'Avtalat sortiment'!BO289,\"\")","v":""}]
[null,null,null,null,null,null,null,null,null,null,null,null,null,null,null,null,null,null,null,null,null,null,null,null,null,null,null,null,null,null,null,null,null,null,null,null,null,null,null,null,null,null,null,null,null,null,null,null,null,null,null,null,null,null,null,null,null,null,null,null,null,null,null,null,null,null,null,null,null,null,null,null,null,null,null,null,null,{"$f":"IF('Avtalat sortiment'!K290<>\"\",'Avtalat sortiment'!$A290&'Avtalat sortiment'!Q290,\"\")","v":""},{"$f":"IF('Avtalat sortiment'!U290<>\"\",'Avtalat sortiment'!T290&'Avtalat sortiment'!AA290,\"\")","v":""},{"$f":"IF('Avtalat sortiment'!AE290<>\"\",'Avtalat sortiment'!AD290&'Avtalat sortiment'!AK290,\"\")","v":""},{"$f":"IF('Avtalat sortiment'!AO290<>\"\",'Avtalat sortiment'!AN290&'Avtalat sortiment'!AU290,\"\")","v":""},{"$f":"IF('Avtalat sortiment'!AY290<>\"\",'Avtalat sortiment'!AX290&'Avtalat sortiment'!BE290,\"\")","v":""},{"$f":"IF('Avtalat sortiment'!BI290<>\"\",'Avtalat sortiment'!BH290&'Avtalat sortiment'!BO290,\"\")","v":""}]
[null,null,null,null,null,null,null,null,null,null,null,null,null,null,null,null,null,null,null,null,null,null,null,null,null,null,null,null,null,null,null,null,null,null,null,null,null,null,null,null,null,null,null,null,null,null,null,null,null,null,null,null,null,null,null,null,null,null,null,null,null,null,null,null,null,null,null,null,null,null,null,null,null,null,null,null,null,{"$f":"IF('Avtalat sortiment'!K291<>\"\",'Avtalat sortiment'!$A291&'Avtalat sortiment'!Q291,\"\")","v":""},{"$f":"IF('Avtalat sortiment'!U291<>\"\",'Avtalat sortiment'!T291&'Avtalat sortiment'!AA291,\"\")","v":""},{"$f":"IF('Avtalat sortiment'!AE291<>\"\",'Avtalat sortiment'!AD291&'Avtalat sortiment'!AK291,\"\")","v":""},{"$f":"IF('Avtalat sortiment'!AO291<>\"\",'Avtalat sortiment'!AN291&'Avtalat sortiment'!AU291,\"\")","v":""},{"$f":"IF('Avtalat sortiment'!AY291<>\"\",'Avtalat sortiment'!AX291&'Avtalat sortiment'!BE291,\"\")","v":""},{"$f":"IF('Avtalat sortiment'!BI291<>\"\",'Avtalat sortiment'!BH291&'Avtalat sortiment'!BO291,\"\")","v":""}]
[null,null,null,null,null,null,null,null,null,null,null,null,null,null,null,null,null,null,null,null,null,null,null,null,null,null,null,null,null,null,null,null,null,null,null,null,null,null,null,null,null,null,null,null,null,null,null,null,null,null,null,null,null,null,null,null,null,null,null,null,null,null,null,null,null,null,null,null,null,null,null,null,null,null,null,null,null,{"$f":"IF('Avtalat sortiment'!K292<>\"\",'Avtalat sortiment'!$A292&'Avtalat sortiment'!Q292,\"\")","v":""},{"$f":"IF('Avtalat sortiment'!U292<>\"\",'Avtalat sortiment'!T292&'Avtalat sortiment'!AA292,\"\")","v":""},{"$f":"IF('Avtalat sortiment'!AE292<>\"\",'Avtalat sortiment'!AD292&'Avtalat sortiment'!AK292,\"\")","v":""},{"$f":"IF('Avtalat sortiment'!AO292<>\"\",'Avtalat sortiment'!AN292&'Avtalat sortiment'!AU292,\"\")","v":""},{"$f":"IF('Avtalat sortiment'!AY292<>\"\",'Avtalat sortiment'!AX292&'Avtalat sortiment'!BE292,\"\")","v":""},{"$f":"IF('Avtalat sortiment'!BI292<>\"\",'Avtalat sortiment'!BH292&'Avtalat sortiment'!BO292,\"\")","v":""}]
[null,null,null,null,null,null,null,null,null,null,null,null,null,null,null,null,null,null,null,null,null,null,null,null,null,null,null,null,null,null,null,null,null,null,null,null,null,null,null,null,null,null,null,null,null,null,null,null,null,null,null,null,null,null,null,null,null,null,null,null,null,null,null,null,null,null,null,null,null,null,null,null,null,null,null,null,null,{"$f":"IF('Avtalat sortiment'!K293<>\"\",'Avtalat sortiment'!$A293&'Avtalat sortiment'!Q293,\"\")","v":""},{"$f":"IF('Avtalat sortiment'!U293<>\"\",'Avtalat sortiment'!T293&'Avtalat sortiment'!AA293,\"\")","v":""},{"$f":"IF('Avtalat sortiment'!AE293<>\"\",'Avtalat sortiment'!AD293&'Avtalat sortiment'!AK293,\"\")","v":""},{"$f":"IF('Avtalat sortiment'!AO293<>\"\",'Avtalat sortiment'!AN293&'Avtalat sortiment'!AU293,\"\")","v":""},{"$f":"IF('Avtalat sortiment'!AY293<>\"\",'Avtalat sortiment'!AX293&'Avtalat sortiment'!BE293,\"\")","v":""},{"$f":"IF('Avtalat sortiment'!BI293<>\"\",'Avtalat sortiment'!BH293&'Avtalat sortiment'!BO293,\"\")","v":""}]
[null,null,null,null,null,null,null,null,null,null,null,null,null,null,null,null,null,null,null,null,null,null,null,null,null,null,null,null,null,null,null,null,null,null,null,null,null,null,null,null,null,null,null,null,null,null,null,null,null,null,null,null,null,null,null,null,null,null,null,null,null,null,null,null,null,null,null,null,null,null,null,null,null,null,null,null,null,{"$f":"IF('Avtalat sortiment'!K294<>\"\",'Avtalat sortiment'!$A294&'Avtalat sortiment'!Q294,\"\")","v":""},{"$f":"IF('Avtalat sortiment'!U294<>\"\",'Avtalat sortiment'!T294&'Avtalat sortiment'!AA294,\"\")","v":""},{"$f":"IF('Avtalat sortiment'!AE294<>\"\",'Avtalat sortiment'!AD294&'Avtalat sortiment'!AK294,\"\")","v":""},{"$f":"IF('Avtalat sortiment'!AO294<>\"\",'Avtalat sortiment'!AN294&'Avtalat sortiment'!AU294,\"\")","v":""},{"$f":"IF('Avtalat sortiment'!AY294<>\"\",'Avtalat sortiment'!AX294&'Avtalat sortiment'!BE294,\"\")","v":""},{"$f":"IF('Avtalat sortiment'!BI294<>\"\",'Avtalat sortiment'!BH294&'Avtalat sortiment'!BO294,\"\")","v":""}]
[null,null,null,null,null,null,null,null,null,null,null,null,null,null,null,null,null,null,null,null,null,null,null,null,null,null,null,null,null,null,null,null,null,null,null,null,null,null,null,null,null,null,null,null,null,null,null,null,null,null,null,null,null,null,null,null,null,null,null,null,null,null,null,null,null,null,null,null,null,null,null,null,null,null,null,null,null,{"$f":"IF('Avtalat sortiment'!K295<>\"\",'Avtalat sortiment'!$A295&'Avtalat sortiment'!Q295,\"\")","v":""},{"$f":"IF('Avtalat sortiment'!U295<>\"\",'Avtalat sortiment'!T295&'Avtalat sortiment'!AA295,\"\")","v":""},{"$f":"IF('Avtalat sortiment'!AE295<>\"\",'Avtalat sortiment'!AD295&'Avtalat sortiment'!AK295,\"\")","v":""},{"$f":"IF('Avtalat sortiment'!AO295<>\"\",'Avtalat sortiment'!AN295&'Avtalat sortiment'!AU295,\"\")","v":""},{"$f":"IF('Avtalat sortiment'!AY295<>\"\",'Avtalat sortiment'!AX295&'Avtalat sortiment'!BE295,\"\")","v":""},{"$f":"IF('Avtalat sortiment'!BI295<>\"\",'Avtalat sortiment'!BH295&'Avtalat sortiment'!BO295,\"\")","v":""}]
[null,null,null,null,null,null,null,null,null,null,null,null,null,null,null,null,null,null,null,null,null,null,null,null,null,null,null,null,null,null,null,null,null,null,null,null,null,null,null,null,null,null,null,null,null,null,null,null,null,null,null,null,null,null,null,null,null,null,null,null,null,null,null,null,null,null,null,null,null,null,null,null,null,null,null,null,null,{"$f":"IF('Avtalat sortiment'!K296<>\"\",'Avtalat sortiment'!$A296&'Avtalat sortiment'!Q296,\"\")","v":""},{"$f":"IF('Avtalat sortiment'!U296<>\"\",'Avtalat sortiment'!T296&'Avtalat sortiment'!AA296,\"\")","v":""},{"$f":"IF('Avtalat sortiment'!AE296<>\"\",'Avtalat sortiment'!AD296&'Avtalat sortiment'!AK296,\"\")","v":""},{"$f":"IF('Avtalat sortiment'!AO296<>\"\",'Avtalat sortiment'!AN296&'Avtalat sortiment'!AU296,\"\")","v":""},{"$f":"IF('Avtalat sortiment'!AY296<>\"\",'Avtalat sortiment'!AX296&'Avtalat sortiment'!BE296,\"\")","v":""},{"$f":"IF('Avtalat sortiment'!BI296<>\"\",'Avtalat sortiment'!BH296&'Avtalat sortiment'!BO296,\"\")","v":""}]
[null,null,null,null,null,null,null,null,null,null,null,null,null,null,null,null,null,null,null,null,null,null,null,null,null,null,null,null,null,null,null,null,null,null,null,null,null,null,null,null,null,null,null,null,null,null,null,null,null,null,null,null,null,null,null,null,null,null,null,null,null,null,null,null,null,null,null,null,null,null,null,null,null,null,null,null,null,{"$f":"IF('Avtalat sortiment'!K297<>\"\",'Avtalat sortiment'!$A297&'Avtalat sortiment'!Q297,\"\")","v":""},{"$f":"IF('Avtalat sortiment'!U297<>\"\",'Avtalat sortiment'!T297&'Avtalat sortiment'!AA297,\"\")","v":""},{"$f":"IF('Avtalat sortiment'!AE297<>\"\",'Avtalat sortiment'!AD297&'Avtalat sortiment'!AK297,\"\")","v":""},{"$f":"IF('Avtalat sortiment'!AO297<>\"\",'Avtalat sortiment'!AN297&'Avtalat sortiment'!AU297,\"\")","v":""},{"$f":"IF('Avtalat sortiment'!AY297<>\"\",'Avtalat sortiment'!AX297&'Avtalat sortiment'!BE297,\"\")","v":""},{"$f":"IF('Avtalat sortiment'!BI297<>\"\",'Avtalat sortiment'!BH297&'Avtalat sortiment'!BO297,\"\")","v":""}]
[null,null,null,null,null,null,null,null,null,null,null,null,null,null,null,null,null,null,null,null,null,null,null,null,null,null,null,null,null,null,null,null,null,null,null,null,null,null,null,null,null,null,null,null,null,null,null,null,null,null,null,null,null,null,null,null,null,null,null,null,null,null,null,null,null,null,null,null,null,null,null,null,null,null,null,null,null,{"$f":"IF('Avtalat sortiment'!K298<>\"\",'Avtalat sortiment'!$A298&'Avtalat sortiment'!Q298,\"\")","v":""},{"$f":"IF('Avtalat sortiment'!U298<>\"\",'Avtalat sortiment'!T298&'Avtalat sortiment'!AA298,\"\")","v":""},{"$f":"IF('Avtalat sortiment'!AE298<>\"\",'Avtalat sortiment'!AD298&'Avtalat sortiment'!AK298,\"\")","v":""},{"$f":"IF('Avtalat sortiment'!AO298<>\"\",'Avtalat sortiment'!AN298&'Avtalat sortiment'!AU298,\"\")","v":""},{"$f":"IF('Avtalat sortiment'!AY298<>\"\",'Avtalat sortiment'!AX298&'Avtalat sortiment'!BE298,\"\")","v":""},{"$f":"IF('Avtalat sortiment'!BI298<>\"\",'Avtalat sortiment'!BH298&'Avtalat sortiment'!BO298,\"\")","v":""}]
[null,null,null,null,null,null,null,null,null,null,null,null,null,null,null,null,null,null,null,null,null,null,null,null,null,null,null,null,null,null,null,null,null,null,null,null,null,null,null,null,null,null,null,null,null,null,null,null,null,null,null,null,null,null,null,null,null,null,null,null,null,null,null,null,null,null,null,null,null,null,null,null,null,null,null,null,null,{"$f":"IF('Avtalat sortiment'!K299<>\"\",'Avtalat sortiment'!$A299&'Avtalat sortiment'!Q299,\"\")","v":""},{"$f":"IF('Avtalat sortiment'!U299<>\"\",'Avtalat sortiment'!T299&'Avtalat sortiment'!AA299,\"\")","v":""},{"$f":"IF('Avtalat sortiment'!AE299<>\"\",'Avtalat sortiment'!AD299&'Avtalat sortiment'!AK299,\"\")","v":""},{"$f":"IF('Avtalat sortiment'!AO299<>\"\",'Avtalat sortiment'!AN299&'Avtalat sortiment'!AU299,\"\")","v":""},{"$f":"IF('Avtalat sortiment'!AY299<>\"\",'Avtalat sortiment'!AX299&'Avtalat sortiment'!BE299,\"\")","v":""},{"$f":"IF('Avtalat sortiment'!BI299<>\"\",'Avtalat sortiment'!BH299&'Avtalat sortiment'!BO299,\"\")","v":""}]
[null,null,null,null,null,null,null,null,null,null,null,null,null,null,null,null,null,null,null,null,null,null,null,null,null,null,null,null,null,null,null,null,null,null,null,null,null,null,null,null,null,null,null,null,null,null,null,null,null,null,null,null,null,null,null,null,null,null,null,null,null,null,null,null,null,null,null,null,null,null,null,null,null,null,null,null,null,{"$f":"IF('Avtalat sortiment'!K300<>\"\",'Avtalat sortiment'!$A300&'Avtalat sortiment'!Q300,\"\")","v":""},{"$f":"IF('Avtalat sortiment'!U300<>\"\",'Avtalat sortiment'!T300&'Avtalat sortiment'!AA300,\"\")","v":""},{"$f":"IF('Avtalat sortiment'!AE300<>\"\",'Avtalat sortiment'!AD300&'Avtalat sortiment'!AK300,\"\")","v":""},{"$f":"IF('Avtalat sortiment'!AO300<>\"\",'Avtalat sortiment'!AN300&'Avtalat sortiment'!AU300,\"\")","v":""},{"$f":"IF('Avtalat sortiment'!AY300<>\"\",'Avtalat sortiment'!AX300&'Avtalat sortiment'!BE300,\"\")","v":""},{"$f":"IF('Avtalat sortiment'!BI300<>\"\",'Avtalat sortiment'!BH300&'Avtalat sortiment'!BO300,\"\")","v":""}]
[null,null,null,null,null,null,null,null,null,null,null,null,null,null,null,null,null,null,null,null,null,null,null,null,null,null,null,null,null,null,null,null,null,null,null,null,null,null,null,null,null,null,null,null,null,null,null,null,null,null,null,null,null,null,null,null,null,null,null,null,null,null,null,null,null,null,null,null,null,null,null,null,null,null,null,null,null,{"$f":"IF('Avtalat sortiment'!K301<>\"\",'Avtalat sortiment'!$A301&'Avtalat sortiment'!Q301,\"\")","v":""},{"$f":"IF('Avtalat sortiment'!U301<>\"\",'Avtalat sortiment'!T301&'Avtalat sortiment'!AA301,\"\")","v":""},{"$f":"IF('Avtalat sortiment'!AE301<>\"\",'Avtalat sortiment'!AD301&'Avtalat sortiment'!AK301,\"\")","v":""},{"$f":"IF('Avtalat sortiment'!AO301<>\"\",'Avtalat sortiment'!AN301&'Avtalat sortiment'!AU301,\"\")","v":""},{"$f":"IF('Avtalat sortiment'!AY301<>\"\",'Avtalat sortiment'!AX301&'Avtalat sortiment'!BE301,\"\")","v":""},{"$f":"IF('Avtalat sortiment'!BI301<>\"\",'Avtalat sortiment'!BH301&'Avtalat sortiment'!BO301,\"\")","v":""}]
[null,null,null,null,null,null,null,null,null,null,null,null,null,null,null,null,null,null,null,null,null,null,null,null,null,null,null,null,null,null,null,null,null,null,null,null,null,null,null,null,null,null,null,null,null,null,null,null,null,null,null,null,null,null,null,null,null,null,null,null,null,null,null,null,null,null,null,null,null,null,null,null,null,null,null,null,null,{"$f":"IF('Avtalat sortiment'!K302<>\"\",'Avtalat sortiment'!$A302&'Avtalat sortiment'!Q302,\"\")","v":""},{"$f":"IF('Avtalat sortiment'!U302<>\"\",'Avtalat sortiment'!T302&'Avtalat sortiment'!AA302,\"\")","v":""},{"$f":"IF('Avtalat sortiment'!AE302<>\"\",'Avtalat sortiment'!AD302&'Avtalat sortiment'!AK302,\"\")","v":""},{"$f":"IF('Avtalat sortiment'!AO302<>\"\",'Avtalat sortiment'!AN302&'Avtalat sortiment'!AU302,\"\")","v":""},{"$f":"IF('Avtalat sortiment'!AY302<>\"\",'Avtalat sortiment'!AX302&'Avtalat sortiment'!BE302,\"\")","v":""},{"$f":"IF('Avtalat sortiment'!BI302<>\"\",'Avtalat sortiment'!BH302&'Avtalat sortiment'!BO302,\"\")","v":""}]

{"sheet":"Storlekar & Kontaktuppgifter","index":6,"n_rows":22,"n_cols":19,"rows_kept":22,"cut":false,"hidden":true,"merged":[]}
["Position15","Position16","Position17","Position19","Position20","Position21","Position22","Position23","Position24","Position25","Position26","Position27","Position28","Position29","Position30","Position39","Position40","Position41","Position42"]
["XXS","XXS","XXS",6,6,6,"XXS","XXS","XXS","XXS","XXS","XXS","XXS","XXS","XXS","XXS","XXS",39,"S"]
["XS","XS","XS",7,7,7,"XS","XS","XS","XS","XS","XS","XS","XS","XS","XS","XS",40,"M"]
["S","S","S",8,8,8,"S","S","S","S","S","S","S","S","S","S","S",41,"L"]
["M","M","M",9,9,9,"M","M","M","M","M","M","M","M","M","M","M","42-46","XL"]
["L","L","L",10,10,10,"L","L","L","L","L","L","L","L","L","L","L"]
["XL","XL","XL",11,11,11,"XL","XL","XL","XL","XL","XL","XL","XL","XL","XL","XL"]
["XXL","XXL","XXL",12,12,12,"XXL","XXL","XXL","XXL","XXL","XXL","XXL","XXL","XXL","XXL","XXL"]
["XXXL","XXXL","XXXL",13,null,null,"XXXL","XXXL","XXXL","XXXL","XXXL","XXXL","XXXL","XXXL","XXXL","XXXL","XXXL"]
[]
[]
[]
[]
[]
[]
[]
[]
["Ramavtalsleverantör","Voky AB","Procurator Sverige AB","Office Depot Svenska AB","Mediq Sverige AB","Lyreco Advantage Sweden AB","OneMed Sverige AB"]
["Organisationsnummer","556815-9072","556057-6554","556024-9558","556252-2317","556091-3591","556764-4140"]
["Kontaktperson","David Landin","Patrik Lindqvist","Fredrik Onsér","Carina Nilsson","Magnus Parenmark","Marlene Hansson"]
["Telefonnummer","010-155 60 59","010-604 00 74","072-374 85 91","031-3889000","070-6982272","070-666 80 22"]
["E-postadress","su@profilservice.se","order.public.se@procurator.com","kammarkollegiet-ppe@officedepot.se","kundservice@mediq.com","anbud.corporate.SE@lyreco.com","kundservice@onemed.com"]