Workbook
Name AntalSpec01: '1 Spec. - 2. Relativ viktning'!#REF!
Name AntalSpec01: '1 Spec. - 3. Mervärdesmodell'!#REF!
Name AntalSpec01: '1 Spec. - 4. Annan modell'!#REF!
Name AntalSpec01: '1 Spec. - 1. Lägsta pris'!#REF!
Name ButtonStatus: SysAdmin!$D$2
Name ButtonText: SysAdmin!$E$2
Name Cell_CB_St2_Rd1: '1 Spec. - 2. Relativ viktning'!#REF!
Name Cell_CB_St2_Rd1: '1 Spec. - 3. Mervärdesmodell'!#REF!
Name Cell_CB_St2_Rd1: '1 Spec. - 4. Annan modell'!#REF!
Name Cell_CB_St2_Rd1: Information!$N$44
Name Cell_CB_St2_Rd1: '1 Spec. - 1. Lägsta pris'!#REF!
Name Cell_CB_St2_Rd10: '1 Spec. - 2. Relativ viktning'!#REF!
Name Cell_CB_St2_Rd10: '1 Spec. - 3. Mervärdesmodell'!#REF!
Name Cell_CB_St2_Rd10: '1 Spec. - 4. Annan modell'!#REF!
Name Cell_CB_St2_Rd10: '1 Spec. - 1. Lägsta pris'!#REF!
Name Cell_CB_St2_Rd11: '1 Spec. - 2. Relativ viktning'!#REF!
Name Cell_CB_St2_Rd11: '1 Spec. - 3. Mervärdesmodell'!#REF!
Name Cell_CB_St2_Rd11: '1 Spec. - 4. Annan modell'!#REF!
Name Cell_CB_St2_Rd11: Information!$N$45
Name Cell_CB_St2_Rd11: '1 Spec. - 1. Lägsta pris'!#REF!
Name Cell_CB_St2_Rd12: '1 Spec. - 2. Relativ viktning'!#REF!
Name Cell_CB_St2_Rd12: '1 Spec. - 3. Mervärdesmodell'!#REF!
Name Cell_CB_St2_Rd12: '1 Spec. - 4. Annan modell'!#REF!
Name Cell_CB_St2_Rd12: Information!$N$46
Name Cell_CB_St2_Rd12: '1 Spec. - 1. Lägsta pris'!#REF!
Name Cell_CB_St2_Rd13: '1 Spec. - 2. Relativ viktning'!#REF!
Name Cell_CB_St2_Rd13: '1 Spec. - 3. Mervärdesmodell'!#REF!
Name Cell_CB_St2_Rd13: '1 Spec. - 4. Annan modell'!#REF!
Name Cell_CB_St2_Rd13: Information!$N$47
Name Cell_CB_St2_Rd13: '1 Spec. - 1. Lägsta pris'!#REF!
Name Cell_CB_St2_Rd14: '1 Spec. - 2. Relativ viktning'!#REF!
Name Cell_CB_St2_Rd14: '1 Spec. - 3. Mervärdesmodell'!#REF!
Name Cell_CB_St2_Rd14: '1 Spec. - 4. Annan modell'!#REF!
Name Cell_CB_St2_Rd14: Information!$N$48
Name Cell_CB_St2_Rd14: '1 Spec. - 1. Lägsta pris'!#REF!
Name Cell_CB_St2_Rd15: '1 Spec. - 2. Relativ viktning'!#REF!
Name Cell_CB_St2_Rd15: '1 Spec. - 3. Mervärdesmodell'!#REF!
Name Cell_CB_St2_Rd15: '1 Spec. - 4. Annan modell'!#REF!
Name Cell_CB_St2_Rd15: Information!$N$49
Name Cell_CB_St2_Rd15: '1 Spec. - 1. Lägsta pris'!#REF!
Name Cell_CB_St2_Rd16: '1 Spec. - 2. Relativ viktning'!#REF!
Name Cell_CB_St2_Rd16: '1 Spec. - 3. Mervärdesmodell'!#REF!
Name Cell_CB_St2_Rd16: '1 Spec. - 4. Annan modell'!#REF!
Name Cell_CB_St2_Rd16: Information!$N$50
Name Cell_CB_St2_Rd16: '1 Spec. - 1. Lägsta pris'!#REF!
Name Cell_CB_St2_Rd17: '1 Spec. - 2. Relativ viktning'!#REF!
Name Cell_CB_St2_Rd17: '1 Spec. - 3. Mervärdesmodell'!#REF!
Name Cell_CB_St2_Rd17: '1 Spec. - 4. Annan modell'!#REF!
Name Cell_CB_St2_Rd17: Information!$N$51
Name Cell_CB_St2_Rd17: '1 Spec. - 1. Lägsta pris'!#REF!
Name Cell_CB_St2_Rd18: '1 Spec. - 2. Relativ viktning'!#REF!
Name Cell_CB_St2_Rd18: '1 Spec. - 3. Mervärdesmodell'!#REF!
Name Cell_CB_St2_Rd18: '1 Spec. - 4. Annan modell'!#REF!
Name Cell_CB_St2_Rd18: Information!$N$52
Name Cell_CB_St2_Rd18: '1 Spec. - 1. Lägsta pris'!#REF!
Name Cell_CB_St2_Rd19: '1 Spec. - 2. Relativ viktning'!#REF!
Name Cell_CB_St2_Rd19: '1 Spec. - 3. Mervärdesmodell'!#REF!
Name Cell_CB_St2_Rd19: '1 Spec. - 4. Annan modell'!#REF!
Name Cell_CB_St2_Rd19: Information!$N$53
Name Cell_CB_St2_Rd19: '1 Spec. - 1. Lägsta pris'!#REF!

Sheet Information
X1: Förvaltning21
B3: Avropsförfrågan - förnyad konkurrensutsättning
B4: inom området
B5: Bevakningstjänster och larmcentraltjänster
B6: Ramavtalsnummer: 23.3-2611-2022
B8: Information
B9: Makrofri blankett - blanketten innehåller inga makron vilket innebär att det inte automatiskt går att öka antal rader, välja utvärderingsmodell eller låsa blanketten innan utskick.
B10: Den här blanketten är utformad med (utöver denna) 4 flikar, en per utvärderingsmodell samt en för avtalstecknande. Välj flik för er avropsförfrågan beroende på vilken utvärderingsmodell ni föredrar att använda vid utvärdering av inkomna avropssvar. Välj utvärderingsmodell i kolumn C nedan. Observera att endast en modell (flik) ska väljas. Därefter fyller ni i de gula fälten för avropet i vald flik.
B11: Alternativen i denna blankett är följande:
B12: 1. Lägsta pris - endast obligatoriska krav (ska-krav), lägsta totalpris tilldelas kontrakt | C12: Jag väljer denna modell (Välj "Ja" i lista):
B13: 2. Relativ viktning - summan av viktade poäng för pris och uppfyllda tilldelningskriterier (bör-krav), högsta slutsumma tilldelas kontrakt | C13: Jag väljer denna modell (Välj "Ja" i lista):
B14: 3. Mervärde - prisavdrag för uppfyllda tilldelningskriterier (bör-krav), lägsta totalpris efter prisavdrag tilldelas kontrakt | C14: Jag väljer denna modell (Välj "Ja" i lista):
B15: 4. Annan modell - egen utvärderingsmodell (ska beskrivas i fritext) | C15: Jag väljer denna modell (Välj "Ja" i lista):
B81: 1
B82: 1
B83: 1
B84: 1
B85: 1
B86: 1
B87: 1

Sheet 1 Spec. - 1. Lägsta pris
B1: =IF(Information!D12="","Om ingen text finns - välj utvärderingsmodell i fliken ""Information""","") -> Om ingen text finns - välj utvärderingsmodell i fliken "Information"
O2: ="Avrop nr: "&B15 -> Avrop nr: | W2: ="Avrop nr: "&B15 -> Avrop nr:
B3: Avropsförfrågan | P3: Avropssvar | AH3: =OR(AH4:AH933) -> TRUE
B4: Instruktion till avropande organisation: Spara ned blanketten på din dator. Gulmarkerade rutor fylls i av avropare innan blanketten skickas. Blanketten skickas med e-post till antagna leverantörer inom aktuellt avropsområde. Se vidare "Vägledning vid avrop". | J4: Ramavtalsområde | P4: Instruktion till leverantör: Blåmarkerade rutor fylls i av leverantören. Läs och kontrollera obligatoriska krav. Returnera blanketten med e-post till avropande organisation (oavsett Ja eller Nej). Mer information finns under vissa rubriker
J5: Bevakningstjänster och larmcentraltjänster
B6: Steg 1 - Administrativa uppgifter | J6: Avrop med förnyad konkurrensutsättning Kammarkollegiets diarienr.
B7: Uppgifter om avropande organisation | P7: Uppgifter om Ramavtalsleverantören
B8: Myndighet/Organisation (namn) | H8: Organisationsnummer | J8: 23.3-2611-2022 | P8: Ramavtalsleverantörens namn | V8: Organisationsnummer
J9: Avropsblankett
B10: Postadress | E10: Postnummer | H10: Ort | J10: Version 3,15 | P10: Kontaktperson | T10: E-post
B12: Avdelning, enhet etc | E12: Kontaktperson | H12: Telefon | P12: Postadress | T12: Postnummer | V12: Ort
B14: Referens/diarienr för avropet | E14: E-post | P14: Telefon | T14: Offertnummer el likn för detta avropssvar
P16: Avropssvar lämnas Ja/Nej | S16: Om Nej, motivering
AH17: =IF(AND(P17=0,P17<>"Ja"),TRUE,FALSE) -> TRUE
B19: Förnyad kontroll av leverantörskrav (ESPD) | P19: Leverantörskrav (ESPD) - Ramavtalsleverantörens intygande
B20: Av 15 kap. 1 samt 4 §§ LOU framgår att ramavtalsleverantören ska lämna en ny egenförsäkran samt att en ny kontroll av kvalificeringskrav och uteslutningsgrunder ska genomföras vid avrop genom förnyad konkurrensutsättning. Kammarkollegiet ansvarar för denna kontrollskyldighet genom att löpande genomföra leverantörsprövning under hela ramavtalsperioden. Kontrollskyldigheten bör också hanteras så att ramavtalsleverantören i sitt avropssvar bekräftar att i ramavtalsupphandlingen lämnad egenförsäkran fortfarande är korrekt, samt att ingivna bevis fortfarande är aktuella. Avropande myndighet kan själv begära in ett eller flera bevis enligt punkten 2 till höger. | P20: Genom att lämna avropssvar, bekräftar ramavtalsleverantören följande: 1. Att i ramavtalsupphandlingen lämnad egenförsäkran fortfarande är korrekt. 2. Att i ramavtalsupphandlingen ingivna bevis, såsom Sanningsförsäkran avseende uteslutningsgrunder (gällande leverantören och ev. åberopade företag) fortfarande aktuella. 3. Att ramavtalsleverantören har säkerställt att ev. åberopade företag inte omfattas av någon uteslutningsgrund. Med "åberopat företag" avses specifikt en underleverantör som har åberopats i ramavtalsupphandlingen för att uppfylla krav på ekonomisk, teknisk och yrkesmässig kapacitet”.
P26: Uppgift om underleverantörer (i förekommande fall)
B27: Information om avropet, t ex syfte och omfattning | P27: Redogör för vilka underleverantör/er inkl. org. nr. som kommer att medverka till fullgörandet av kontraktet samt vilka delar underleverantörerna fullgör. Med Underleverantör avses en juridisk eller fysisk person som Ramavtalsleverantören anlitar för att fullgöra hela eller delar av det åtagande som följer av Ramavtalet och Kontrakt.
B30: Sista dag för att ställa frågor | D30: Sista dag för svar på frågor | G30: E-post för frågor (om annan än ovan)
B33: Sista dag för avropssvar | D33: Avropssvarets giltighetstid | G33: Avtalsspärr efter tilldelningsbeslut
G34: Avtalsspärr kommer att iakttas?
B36: Kontraktets giltighetstid (t.o.m. datum) | D36: Förlängningsoption (t.o.m. datum)
B39: Ange geografiskt område
B40: Delområde 1
B42: Ange aktuella län för avropet. Markera med ett "X" i de gula fälten bredvid respektive län.
B43: =Admin!J56 -> Flerregionalt
B44: =Admin!J57 -> Blekinge län
B45: =Admin!J58 -> Dalarnas län
B46: =Admin!J59 -> Gotlands län
B47: =Admin!J60 -> Gävleborgs län
B48: =Admin!J61 -> Hallands län
B49: =Admin!J62 -> Jämtlands län
B50: =Admin!J63 -> Jönköpings län
B51: =Admin!J64 -> Kalmar län
B52: =Admin!J65 -> Kronobergs län
B53: =Admin!J66 -> Norrbottens län
B54: =Admin!J67 -> Skånes län
... B64: =Admin!J77 -> Östergötlands lön
B66: Sammanställning - val av län | C66: =Admin!$N$26
B69: Ange varu/tjänsteområde
...

Sheet 1 Spec. - 2. Relativ viktning
B1: =IF(Information!D13="","Om ingen text finns - välj utvärderingsmodell i fliken ""Information""","") -> Om ingen text finns - välj utvärderingsmodell i fliken "Information"
O2: ="Avrop nr: "&B15 -> Avrop nr: | W2: ="Avrop nr: "&B15 -> Avrop nr:
B3: Avropsförfrågan | P3: Avropssvar | AH3: =OR(AH4:AH974) -> TRUE
B4: Instruktion till avropande organisation: Spara ned blanketten på din dator. Gulmarkerade rutor fylls i av avropare innan blanketten skickas. Blanketten skickas med e-post till antagna leverantörer inom aktuellt avropsområde. Se vidare "Vägledning vid avrop". | J4: Ramavtalsområde | P4: Instruktion till leverantör: Blåmarkerade rutor fylls i av leverantören. Läs och kontrollera obligatoriska krav. Returnera blanketten med e-post till avropande organisation (oavsett Ja eller Nej). Mer information finns under vissa rubriker
J5: ='1 Spec. - 1. Lägsta pris'!J5 -> Bevakningstjänster och larmcentraltjänster
B6: Steg 1 - Administrativa uppgifter | J6: Avrop med förnyad konkurrensutsättning Kammarkollegiets diarienr.
B7: Uppgifter om avropande organisation | P7: Uppgifter om Ramavtalsleverantören
B8: Myndighet/Organisation (namn) | H8: Organisationsnummer | J8: ='1 Spec. - 1. Lägsta pris'!J8 -> 23.3-2611-2022 | P8: Ramavtalsleverantörens namn | V8: Organisationsnummer
J9: Avropsblankett
B10: Postadress | E10: Postnummer | H10: Ort | J10: ='1 Spec. - 1. Lägsta pris'!J10 -> Version 3,15 | P10: Kontaktperson | T10: E-post
B12: Avdelning, enhet etc | E12: Kontaktperson | H12: Telefon | P12: Postadress | T12: Postnummer | V12: Ort
B14: Referens/diarienr för avropet | E14: E-post | P14: Telefon | T14: Offertnummer el likn för detta avropssvar
P16: Avropssvar lämnas Ja/Nej | S16: Om Nej, motivering
AH17: =IF(AND(P17=0,P17<>"Ja"),TRUE,FALSE) -> TRUE
B19: Förnyad kontroll av leverantörskrav (ESPD) | P19: Leverantörskrav (ESPD) - Ramavtalsleverantörens intygande
B20: Av 15 kap. 1 samt 4 §§ LOU framgår att ramavtalsleverantören ska lämna en ny egenförsäkran samt att en ny kontroll av kvalificeringskrav och uteslutningsgrunder ska genomföras vid avrop genom förnyad konkurrensutsättning. Kammarkollegiet ansvarar för denna kontrollskyldighet genom att löpande genomföra leverantörsprövning under hela ramavtalsperioden. Kontrollskyldigheten bör också hanteras så att ramavtalsleverantören i sitt avropssvar bekräftar att i ramavtalsupphandlingen lämnad egenförsäkran fortfarande är korrekt, samt att ingivna bevis fortfarande är aktuella. Avropande myndighet kan själv begära in ett eller flera bevis enligt punkten 2 till höger. | P20: Genom att lämna avropssvar, bekräftar ramavtalsleverantören följande: 1. Att i ramavtalsupphandlingen lämnad egenförsäkran fortfarande är korrekt. 2. Att i ramavtalsupphandlingen ingivna bevis, såsom Sanningsförsäkran avseende uteslutningsgrunder (gällande leverantören och ev. åberopade företag) fortfarande aktuella. 3. Att ramavtalsleverantören har säkerställt att ev. åberopade företag inte omfattas av någon uteslutningsgrund. Med "åberopat företag" avses specifikt en underleverantör som har åberopats i ramavtalsupphandlingen för att uppfylla krav på ekonomisk, teknisk och yrkesmässig kapacitet”.
P26: Uppgift om underleverantörer (i förekommande fall)
B27: Information om avropet, t ex syfte och omfattning | P27: Redogör för vilka underleverantör/er inkl. org. nr. som kommer att medverka till fullgörandet av kontraktet samt vilka delar underleverantörerna fullgör. Med Underleverantör avses en juridisk eller fysisk person som Ramavtalsleverantören anlitar för att fullgöra hela eller delar av det åtagande som följer av Ramavtalet och Kontrakt.
B30: Sista dag för att ställa frågor | D30: Sista dag för svar på frågor | G30: E-post för frågor (om annan än ovan)
B33: Sista dag för avropssvar | D33: Avropssvarets giltighetstid | G33: Avtalsspärr efter tilldelningsbeslut
G34: Avtalsspärr kommer att iakttas?
B36: Kontraktets giltighetstid (t.o.m. datum) | D36: Förlängningsoption (t.o.m. datum)
B39: Ange geografiskt område
B40: Delområde 1
B42: Ange aktuella län för avropet. Markera med ett "X" i de gula fälten bredvid respektive län.
B43: =Admin!J56 -> Flerregionalt
B44: =Admin!J57 -> Blekinge län
B45: =Admin!J58 -> Dalarnas län
B46: =Admin!J59 -> Gotlands län
B47: =Admin!J60 -> Gävleborgs län
B48: =Admin!J61 -> Hallands län
B49: =Admin!J62 -> Jämtlands län
B50: =Admin!J63 -> Jönköpings län
B51: =Admin!J64 -> Kalmar län
B52: =Admin!J65 -> Kronobergs län
B53: =Admin!J66 -> Norrbottens län
B54: =Admin!J67 -> Skånes län
... B64: =Admin!J77 -> Östergötlands lön
B66: Sammanställning - val av län | C66: =Admin!$S$26
B69: Ange varu/tjänsteområde
...

Sheet 1 Spec. - 3. Mervärdesmodell
B1: =IF(Information!D14="","Om ingen text finns - välj utvärderingsmodell i fliken ""Information""","") -> Om ingen text finns - välj utvärderingsmodell i fliken "Information"
O2: ="Avrop nr: "&B15 -> Avrop nr: | W2: ="Avrop nr: "&B15 -> Avrop nr:
B3: Avropsförfrågan | P3: Avropssvar | AH3: =OR(AH4:AH971) -> TRUE
B4: Instruktion till avropande organisation: Spara ned blanketten på din dator. Gulmarkerade rutor fylls i av avropare innan blanketten skickas. Blanketten skickas med e-post till antagna leverantörer inom aktuellt avropsområde. Se vidare "Vägledning vid avrop". | J4: Ramavtalsområde | P4: Instruktion till leverantör: Blåmarkerade rutor fylls i av leverantören. Läs och kontrollera obligatoriska krav. Returnera blanketten med e-post till avropande organisation (oavsett Ja eller Nej). Mer information finns under vissa rubriker
J5: ='1 Spec. - 1. Lägsta pris'!J5 -> Bevakningstjänster och larmcentraltjänster
B6: Steg 1 - Administrativa uppgifter | J6: Avrop med förnyad konkurrensutsättning Kammarkollegiets diarienr.
B7: Uppgifter om avropande organisation | P7: Uppgifter om Ramavtalsleverantören
B8: Myndighet/Organisation (namn) | H8: Organisationsnummer | J8: ='1 Spec. - 1. Lägsta pris'!J8 -> 23.3-2611-2022 | P8: Ramavtalsleverantörens namn | V8: Organisationsnummer
J9: Avropsblankett
B10: Postadress | E10: Postnummer | H10: Ort | J10: ='1 Spec. - 1. Lägsta pris'!J10 -> Version 3,15 | P10: Kontaktperson | T10: E-post
B12: Avdelning, enhet etc | E12: Kontaktperson | H12: Telefon | P12: Postadress | T12: Postnummer | V12: Ort
B14: Referens/diarienr för avropet | E14: E-post | P14: Telefon | T14: Offertnummer el likn för detta avropssvar
P16: Avropssvar lämnas Ja/Nej | S16: Om Nej, motivering
AH17: =IF(AND(P17=0,P17<>"Ja"),TRUE,FALSE) -> TRUE
B19: Förnyad kontroll av leverantörskrav (ESPD) | P19: Leverantörskrav (ESPD) - Ramavtalsleverantörens intygande
B20: Av 15 kap. 1 samt 4 §§ LOU framgår att ramavtalsleverantören ska lämna en ny egenförsäkran samt att en ny kontroll av kvalificeringskrav och uteslutningsgrunder ska genomföras vid avrop genom förnyad konkurrensutsättning. Kammarkollegiet ansvarar för denna kontrollskyldighet genom att löpande genomföra leverantörsprövning under hela ramavtalsperioden. Kontrollskyldigheten bör också hanteras så att ramavtalsleverantören i sitt avropssvar bekräftar att i ramavtalsupphandlingen lämnad egenförsäkran fortfarande är korrekt, samt att ingivna bevis fortfarande är aktuella. Avropande myndighet kan själv begära in ett eller flera bevis enligt punkten 2 till höger. | P20: Genom att lämna avropssvar, bekräftar ramavtalsleverantören följande: 1. Att i ramavtalsupphandlingen lämnad egenförsäkran fortfarande är korrekt. 2. Att i ramavtalsupphandlingen ingivna bevis, såsom Sanningsförsäkran avseende uteslutningsgrunder (gällande leverantören och ev. åberopade företag) fortfarande aktuella. 3. Att ramavtalsleverantören har säkerställt att ev. åberopade företag inte omfattas av någon uteslutningsgrund. Med "åberopat företag" avses specifikt en underleverantör som har åberopats i ramavtalsupphandlingen för att uppfylla krav på ekonomisk, teknisk och yrkesmässig kapacitet”.
P26: Uppgift om underleverantörer (i förekommande fall)
B27: Information om avropet, t ex syfte och omfattning | P27: Redogör för vilka underleverantör/er inkl. org. nr. som kommer att medverka till fullgörandet av kontraktet samt vilka delar underleverantörerna fullgör. Med Underleverantör avses en juridisk eller fysisk person som Ramavtalsleverantören anlitar för att fullgöra hela eller delar av det åtagande som följer av Ramavtalet och Kontrakt.
B30: Sista dag för att ställa frågor | D30: Sista dag för svar på frågor | G30: E-post för frågor (om annan än ovan)
B33: Sista dag för avropssvar | D33: Avropssvarets giltighetstid | G33: Avtalsspärr efter tilldelningsbeslut
G34: Avtalsspärr kommer att iakttas?
B36: Kontraktets giltighetstid (t.o.m. datum) | D36: Förlängningsoption (t.o.m. datum)
B39: Ange geografiskt område
B40: Delområde 1
B42: Ange aktuella län för avropet. Markera med ett "X" i de gula fälten bredvid respektive län.
B43: =Admin!J56 -> Flerregionalt
B44: =Admin!J57 -> Blekinge län
B45: =Admin!J58 -> Dalarnas län
B46: =Admin!J59 -> Gotlands län
B47: =Admin!J60 -> Gävleborgs län
B48: =Admin!J61 -> Hallands län
B49: =Admin!J62 -> Jämtlands län
B50: =Admin!J63 -> Jönköpings län
B51: =Admin!J64 -> Kalmar län
B52: =Admin!J65 -> Kronobergs län
B53: =Admin!J66 -> Norrbottens län
B54: =Admin!J67 -> Skånes län
... B64: =Admin!J77 -> Östergötlands lön
B66: Sammanställning - val av län | C66: =Admin!$X$26
B69: Ange varu/tjänsteområde
...

Sheet 1 Spec. - 4. Annan modell
B1: =IF(Information!D15="","Om ingen text finns - välj utvärderingsmodell i fliken ""Information""","") -> Om ingen text finns - välj utvärderingsmodell i fliken "Information"
O2: ="Avrop nr: "&B15 -> Avrop nr: | W2: ="Avrop nr: "&B15 -> Avrop nr:
B3: Avropsförfrågan | P3: Avropssvar | AH3: =OR(AH4:AH972) -> TRUE
B4: Instruktion till avropande organisation: Spara ned blanketten på din dator. Gulmarkerade rutor fylls i av avropare innan blanketten skickas. Blanketten skickas med e-post till antagna leverantörer inom aktuellt avropsområde. Se vidare "Vägledning vid avrop". | J4: Ramavtalsområde | P4: Instruktion till leverantör: Blåmarkerade rutor fylls i av leverantören. Läs och kontrollera obligatoriska krav. Returnera blanketten med e-post till avropande organisation (oavsett Ja eller Nej). Mer information finns under vissa rubriker
J5: ='1 Spec. - 1. Lägsta pris'!J5 -> Bevakningstjänster och larmcentraltjänster
B6: Steg 1 - Administrativa uppgifter | J6: Avrop med förnyad konkurrensutsättning Kammarkollegiets diarienr.
B7: Uppgifter om avropande organisation | P7: Uppgifter om Ramavtalsleverantören
B8: Myndighet/Organisation (namn) | H8: Organisationsnummer | J8: ='1 Spec. - 1. Lägsta pris'!J8 -> 23.3-2611-2022 | P8: Ramavtalsleverantörens namn | V8: Organisationsnummer
J9: Avropsblankett
B10: Postadress | E10: Postnummer | H10: Ort | J10: ='1 Spec. - 1. Lägsta pris'!J10 -> Version 3,15 | P10: Kontaktperson | T10: E-post
B12: Avdelning, enhet etc | E12: Kontaktperson | H12: Telefon | P12: Postadress | T12: Postnummer | V12: Ort
B14: Referens/diarienr för avropet | E14: E-post | P14: Telefon | T14: Offertnummer el likn för detta avropssvar
P16: Avropssvar lämnas Ja/Nej | S16: Om Nej, motivering
AH17: =IF(AND(P17=0,P17<>"Ja"),TRUE,FALSE) -> TRUE
B19: Förnyad kontroll av leverantörskrav (ESPD) | P19: Leverantörskrav (ESPD) - Ramavtalsleverantörens intygande
B20: Av 15 kap. 1 samt 4 §§ LOU framgår att ramavtalsleverantören ska lämna en ny egenförsäkran samt att en ny kontroll av kvalificeringskrav och uteslutningsgrunder ska genomföras vid avrop genom förnyad konkurrensutsättning. Kammarkollegiet ansvarar för denna kontrollskyldighet genom att löpande genomföra leverantörsprövning under hela ramavtalsperioden. Kontrollskyldigheten bör också hanteras så att ramavtalsleverantören i sitt avropssvar bekräftar att i ramavtalsupphandlingen lämnad egenförsäkran fortfarande är korrekt, samt att ingivna bevis fortfarande är aktuella. Avropande myndighet kan själv begära in ett eller flera bevis enligt punkten 2 till höger. | P20: Genom att lämna avropssvar, bekräftar ramavtalsleverantören följande: 1. Att i ramavtalsupphandlingen lämnad egenförsäkran fortfarande är korrekt. 2. Att i ramavtalsupphandlingen ingivna bevis, såsom Sanningsförsäkran avseende uteslutningsgrunder (gällande leverantören och ev. åberopade företag) fortfarande aktuella. 3. Att ramavtalsleverantören har säkerställt att ev. åberopade företag inte omfattas av någon uteslutningsgrund. Med "åberopat företag" avses specifikt en underleverantör som har åberopats i ramavtalsupphandlingen för att uppfylla krav på ekonomisk, teknisk och yrkesmässig kapacitet”.
P26: Uppgift om underleverantörer (i förekommande fall)
B27: Information om avropet, t ex syfte och omfattning | P27: Redogör för vilka underleverantör/er inkl. org. nr. som kommer att medverka till fullgörandet av kontraktet samt vilka delar underleverantörerna fullgör. Med Underleverantör avses en juridisk eller fysisk person som Ramavtalsleverantören anlitar för att fullgöra hela eller delar av det åtagande som följer av Ramavtalet och Kontrakt.
B30: Sista dag för att ställa frågor | D30: Sista dag för svar på frågor | G30: E-post för frågor (om annan än ovan)
B33: Sista dag för avropssvar | D33: Avropssvarets giltighetstid | G33: Avtalsspärr efter tilldelningsbeslut
G34: Avtalsspärr kommer att iakttas?
B36: Kontraktets giltighetstid (t.o.m. datum) | D36: Förlängningsoption (t.o.m. datum)
B39: Ange geografiskt område
B40: Delområde 1
B42: Ange aktuella län för avropet. Markera med ett "X" i de gula fälten bredvid respektive län.
B43: =Admin!J56 -> Flerregionalt
B44: =Admin!J57 -> Blekinge län
B45: =Admin!J58 -> Dalarnas län
B46: =Admin!J59 -> Gotlands län
B47: =Admin!J60 -> Gävleborgs län
B48: =Admin!J61 -> Hallands län
B49: =Admin!J62 -> Jämtlands län
B50: =Admin!J63 -> Jönköpings län
B51: =Admin!J64 -> Kalmar län
B52: =Admin!J65 -> Kronobergs län
B53: =Admin!J66 -> Norrbottens län
B54: =Admin!J67 -> Skånes län
... B64: =Admin!J77 -> Östergötlands lön
B66: Sammanställning - val av län | C66: =Admin!$AC$26
B69: Ange varu/tjänsteområde
...

Sheet 2 Avtalstecknande
D1: ="Avrop nr: "&'1 Spec. - 1. Lägsta pris'!B15 -> Avrop nr:
B5: Kontrakt
B6: ="Detta kontrakt reglerar avrop från ramavtalsområde "&Information!B5&", "&Information!B6 -> Detta kontrakt reglerar avrop från ramavtalsområde Bevakningstjänster och larmcentraltjänster, Ramavtalsnummer: 23.3-2611-2022
B7: Kontraktets omfattning
B8: Leveransens omfattning och villkor framgår av Kontraktet med tillhörande bilagor samt Ramavtalet. Kontraktet består av nedan angivna handlingar. Handlingarna kompletterar varandra om inte omständigheterna föranleder annat. Om handlingarna innehåller motstridiga uppgifter gäller de i följande ordning:
B9: 1. Skriftliga ändringar och tillägg till säkerhetsskyddsavtal
B10: 2. Säkerhetsskyddsavtal
B11: 3. Skriftliga ändringar och tillägg till personuppgiftsbiträdesavtal eller datadelningsavtal
B12: 4. Personuppgiftsbiträdesavtal eller datadelningsavtal
B13: 5. Skriftliga ändringar och tillägg till Kontrakt med bilagor
B14: 6. Kontrakt med bilagor
B15: 7. Skriftliga ändringar och tillägg till Avropsförfrågan med bilagor
B16: 8. Avropsförfrågan med bilagor
B17: 9. Skriftliga ändringar och tillägg till Ramavtalsleverantörens Avropssvar med bilagor inklusive av Avropsberättigad godkända rättelser, kompletteringar och förtydliganden
B18: 10. Ramavtalsleverantörens Avropssvar med bilagor
... B23: Underskriften avser ett kontraktstecknande. Efter undertecknande av bägge parter utgör denna blankett tillsammans med ramavtalets villkor enligt ovan ett kontrakt mellan parterna. Detta kontrakt har upprättats i två exemplar varav parterna tagit var sitt.
B25: Avropande organisation | D25: Leverantör
B26: =IF(Information!D12="ja",'1 Spec. - 1. Lägsta pris'!B9,IF(Information!D13="ja",'1 Spec. - 2. Relativ viktning'!B9,IF(Information!D14="ja",'1 Spec. - 3. Mervärdesmodell'!B9,IF(Information!D15="ja",'1 Spec. - 4. Annan modell'!B9,"")))) | D26: =IF(Information!D12="ja",'1 Spec. - 1. Lägsta pris'!P9,IF(Information!D13="ja",'1 Spec. - 2. Relativ viktning'!P9,IF(Information!D14="ja",'1 Spec. - 3. Mervärdesmodell'!P9,IF(Information!D15="ja",'1 Spec. - 4. Annan modell'!P9,""))))
B27: Org.nr. | D27: Org.nr.
B28: =IF(Information!D12="ja",'1 Spec. - 1. Lägsta pris'!H9,IF(Information!D13="ja",'1 Spec. - 2. Relativ viktning'!H9,IF(Information!D14="ja",'1 Spec. - 3. Mervärdesmodell'!H9,IF(Information!D15="ja",'1 Spec. - 4. Annan modell'!H9,"")))) | D28: =IF(Information!D12="ja",'1 Spec. - 1. Lägsta pris'!V9,IF(Information!D13="ja",'1 Spec. - 2. Relativ viktning'!V9,IF(Information!D14="ja",'1 Spec. - 3. Mervärdesmodell'!V9,IF(Information!D15="ja",'1 Spec. - 4. Annan modell'!V9,""))))
B30: Ort, datum | D30: Ort, datum
B33: Namn, befattning (behörig företrädare för avropande organisation) | D33: Namn, befattning (behörig företrädare för leverantören)
B37: Eventuella bilagor till kontraktet

Sheet Blad1

Sheet Admin
J1: ResVarTja
D2: Delområde 1 | E2: Delområde 2 | F2: Delområde 3 | G2: Delområde 4 | H2: Delområde 5 | I2: Delområde 6 | J2: =USRDelområde -> Delområde 1
C3: TblDelområde | D3: Välj vara/tjänst | E3: Välj vara/tjänst | F3: Välj vara/tjänst | G3: Välj vara/tjänst | H3: Välj vara/tjänst | I3: Välj vara/tjänst | J3: =IFERROR(IF(INDEX(D3:I3,MATCH(J$2,D$2:I$2,0))=0,"",INDEX(D3:I3,MATCH(J$2,D$2:I$2,0))),"") -> Välj vara/tjänst
C4: Välj delområde | D4: Delområde 1/Vara/Tjanst 1 | E4: Delområde 2/Vara/Tjanst 1 | F4: Delområde 3/Vara/Tjanst 1 | G4: Delområde 4/Vara/Tjanst 1 | H4: Delområde 5/Vara/Tjanst 1 | I4: Delområde 6/Vara/Tjanst 1 | J4: =IFERROR(IF(INDEX(D4:I4,MATCH(J$2,D$2:I$2,0))=0,"",INDEX(D4:I4,MATCH(J$2,D$2:I$2,0))),"") -> Delområde 1/Vara/Tjanst 1
C5: Delområde 1 | D5: Delområde 1/Vara/Tjanst 2 | E5: Delområde 2/Vara/Tjanst 2 | F5: Delområde 3/Vara/Tjanst 2 | G5: Delområde 4/Vara/Tjanst 2 | H5: Delområde 5/Vara/Tjanst 2 | I5: Delområde 6/Vara/Tjanst 2 | J5: =IFERROR(IF(INDEX(D5:I5,MATCH(J$2,D$2:I$2,0))=0,"",INDEX(D5:I5,MATCH(J$2,D$2:I$2,0))),"") -> Delområde 1/Vara/Tjanst 2
C6: Delområde 2 | D6: Delområde 1/Vara/Tjanst 3 | E6: Delområde 2/Vara/Tjanst 3 | F6: Delområde 3/Vara/Tjanst 3 | G6: Delområde 4/Vara/Tjanst 3 | H6: Delområde 5/Vara/Tjanst 3 | I6: Delområde 6/Vara/Tjanst 3 | J6: =IFERROR(IF(INDEX(D6:I6,MATCH(J$2,D$2:I$2,0))=0,"",INDEX(D6:I6,MATCH(J$2,D$2:I$2,0))),"") -> Delområde 1/Vara/Tjanst 3
C7: Delområde 3 | D7: Delområde 1/Vara/Tjanst 4 | E7: Delområde 2/Vara/Tjanst 4 | F7: Delområde 3/Vara/Tjanst 4 | G7: Delområde 4/Vara/Tjanst 4 | H7: Delområde 5/Vara/Tjanst 4 | I7: Delområde 6/Vara/Tjanst 4 | J7: =IFERROR(IF(INDEX(D7:I7,MATCH(J$2,D$2:I$2,0))=0,"",INDEX(D7:I7,MATCH(J$2,D$2:I$2,0))),"") -> Delområde 1/Vara/Tjanst 4
C8: Delområde 4 | D8: Delområde 1/Vara/Tjanst 5 | E8: Delområde 2/Vara/Tjanst 5 | F8: Delområde 3/Vara/Tjanst 5 | G8: Delområde 4/Vara/Tjanst 5 | H8: Delområde 5/Vara/Tjanst 5 | I8: Delområde 6/Vara/Tjanst 5 | J8: =IFERROR(IF(INDEX(D8:I8,MATCH(J$2,D$2:I$2,0))=0,"",INDEX(D8:I8,MATCH(J$2,D$2:I$2,0))),"") -> Delområde 1/Vara/Tjanst 5
C9: Delområde 5 | D9: Delområde 1/Vara/Tjanst 6 | E9: Delområde 2/Vara/Tjanst 6 | F9: Delområde 3/Vara/Tjanst 6 | G9: Delområde 4/Vara/Tjanst 6 | H9: Delområde 5/Vara/Tjanst 6 | I9: Delområde 6/Vara/Tjanst 6 | J9: =IFERROR(IF(INDEX(D9:I9,MATCH(J$2,D$2:I$2,0))=0,"",INDEX(D9:I9,MATCH(J$2,D$2:I$2,0))),"") -> Delområde 1/Vara/Tjanst 6
C10: Delområde 6 | D10: Delområde 1/Vara/Tjanst 7 | E10: Delområde 2/Vara/Tjanst 7 | F10: Delområde 3/Vara/Tjanst 7 | G10: Delområde 4/Vara/Tjanst 7 | H10: Delområde 5/Vara/Tjanst 7 | I10: Delområde 6/Vara/Tjanst 7 | J10: =IFERROR(IF(INDEX(D10:I10,MATCH(J$2,D$2:I$2,0))=0,"",INDEX(D10:I10,MATCH(J$2,D$2:I$2,0))),"") -> Delområde 1/Vara/Tjanst 7
D11: Delområde 1/Vara/Tjanst 8 | E11: Delområde 2/Vara/Tjanst 8 | F11: Delområde 3/Vara/Tjanst 8 | G11: Delområde 4/Vara/Tjanst 8 | H11: Delområde 5/Vara/Tjanst 8 | I11: Delområde 6/Vara/Tjanst 8 | J11: =IFERROR(IF(INDEX(D11:I11,MATCH(J$2,D$2:I$2,0))=0,"",INDEX(D11:I11,MATCH(J$2,D$2:I$2,0))),"") -> Delområde 1/Vara/Tjanst 8
D12: Delområde 1/Vara/Tjanst 9 | E12: Delområde 2/Vara/Tjanst 9 | F12: Delområde 3/Vara/Tjanst 9 | G12: Delområde 4/Vara/Tjanst 9 | H12: Delområde 5/Vara/Tjanst 9 | I12: Delområde 6/Vara/Tjanst 9 | J12: =IFERROR(IF(INDEX(D12:I12,MATCH(J$2,D$2:I$2,0))=0,"",INDEX(D12:I12,MATCH(J$2,D$2:I$2,0))),"") -> Delområde 1/Vara/Tjanst 9
D13: Delområde 1/Vara/Tjanst 10 | E13: Delområde 2/Vara/Tjanst 10 | F13: Delområde 3/Vara/Tjanst 10 | G13: Delområde 4/Vara/Tjanst 10 | H13: Delområde 5/Vara/Tjanst 10 | I13: Delområde 6/Vara/Tjanst 10 | J13: =IFERROR(IF(INDEX(D13:I13,MATCH(J$2,D$2:I$2,0))=0,"",INDEX(D13:I13,MATCH(J$2,D$2:I$2,0))),"") -> Delområde 1/Vara/Tjanst 10
D14: Delområde 1/Vara/Tjanst 11 | E14: Delområde 2/Vara/Tjanst 11 | F14: Delområde 3/Vara/Tjanst 11 | G14: Delområde 4/Vara/Tjanst 11 | H14: Delområde 5/Vara/Tjanst 11 | I14: Delområde 6/Vara/Tjanst 11 | J14: =IFERROR(IF(INDEX(D14:I14,MATCH(J$2,D$2:I$2,0))=0,"",INDEX(D14:I14,MATCH(J$2,D$2:I$2,0))),"") -> Delområde 1/Vara/Tjanst 11
D15: Delområde 1/Vara/Tjanst 12 | E15: Delområde 2/Vara/Tjanst 12 | F15: Delområde 3/Vara/Tjanst 12 | G15: Delområde 4/Vara/Tjanst 12 | H15: Delområde 5/Vara/Tjanst 12 | I15: Delområde 6/Vara/Tjanst 12 | J15: =IFERROR(IF(INDEX(D15:I15,MATCH(J$2,D$2:I$2,0))=0,"",INDEX(D15:I15,MATCH(J$2,D$2:I$2,0))),"") -> Delområde 1/Vara/Tjanst 12
D16: Delområde 1/Vara/Tjanst 13 | E16: Delområde 2/Vara/Tjanst 13 | F16: Delområde 3/Vara/Tjanst 13 | G16: Delområde 4/Vara/Tjanst 13 | H16: Delområde 5/Vara/Tjanst 13 | I16: Delområde 6/Vara/Tjanst 13 | J16: =IFERROR(IF(INDEX(D16:I16,MATCH(J$2,D$2:I$2,0))=0,"",INDEX(D16:I16,MATCH(J$2,D$2:I$2,0))),"") -> Delområde 1/Vara/Tjanst 13
D17: Delområde 1/Vara/Tjanst 14 | E17: Delområde 2/Vara/Tjanst 14 | F17: Delområde 3/Vara/Tjanst 14 | G17: Delområde 4/Vara/Tjanst 14 | H17: Delområde 5/Vara/Tjanst 14 | I17: Delområde 6/Vara/Tjanst 14 | J17: =IFERROR(IF(INDEX(D17:I17,MATCH(J$2,D$2:I$2,0))=0,"",INDEX(D17:I17,MATCH(J$2,D$2:I$2,0))),"") -> Delområde 1/Vara/Tjanst 14
D18: Delområde 1/Vara/Tjanst 15 | E18: Delområde 2/Vara/Tjanst 15 | F18: Delområde 3/Vara/Tjanst 15 | G18: Delområde 4/Vara/Tjanst 15 | H18: Delområde 5/Vara/Tjanst 15 | I18: Delområde 6/Vara/Tjanst 15 | J18: =IFERROR(IF(INDEX(D18:I18,MATCH(J$2,D$2:I$2,0))=0,"",INDEX(D18:I18,MATCH(J$2,D$2:I$2,0))),"") -> Delområde 1/Vara/Tjanst 15
D19: Delområde 1/Vara/Tjanst 16 | E19: Delområde 2/Vara/Tjanst 16 | F19: Delområde 3/Vara/Tjanst 16 | G19: Delområde 4/Vara/Tjanst 16 | H19: Delområde 5/Vara/Tjanst 16 | I19: Delområde 6/Vara/Tjanst 16 | J19: =IFERROR(IF(INDEX(D19:I19,MATCH(J$2,D$2:I$2,0))=0,"",INDEX(D19:I19,MATCH(J$2,D$2:I$2,0))),"") -> Delområde 1/Vara/Tjanst 16
D20: Delområde 1/Vara/Tjanst 17 | E20: Delområde 2/Vara/Tjanst 17 | F20: Delområde 3/Vara/Tjanst 17 | G20: Delområde 4/Vara/Tjanst 17 | H20: Delområde 5/Vara/Tjanst 17 | I20: Delområde 6/Vara/Tjanst 17 | J20: =IFERROR(IF(INDEX(D20:I20,MATCH(J$2,D$2:I$2,0))=0,"",INDEX(D20:I20,MATCH(J$2,D$2:I$2,0))),"") -> Delområde 1/Vara/Tjanst 17
D21: Delområde 1/Vara/Tjanst 18 | E21: Delområde 2/Vara/Tjanst 18 | F21: Delområde 3/Vara/Tjanst 18 | G21: Delområde 4/Vara/Tjanst 18 | H21: Delområde 5/Vara/Tjanst 18 | I21: Delområde 6/Vara/Tjanst 18 | J21: =IFERROR(IF(INDEX(D21:I21,MATCH(J$2,D$2:I$2,0))=0,"",INDEX(D21:I21,MATCH(J$2,D$2:I$2,0))),"") -> Delområde 1/Vara/Tjanst 18
D22: Delområde 1/Vara/Tjanst 19 | E22: Delområde 2/Vara/Tjanst 19 | F22: Delområde 3/Vara/Tjanst 19 | G22: Delområde 4/Vara/Tjanst 19 | H22: Delområde 5/Vara/Tjanst 19 | I22: Delområde 6/Vara/Tjanst 19 | J22: =IFERROR(IF(INDEX(D22:I22,MATCH(J$2,D$2:I$2,0))=0,"",INDEX(D22:I22,MATCH(J$2,D$2:I$2,0))),"") -> Delområde 1/Vara/Tjanst 19
... D24: Delområde 1/Vara/Tjanst 21 | E24: Delområde 2/Vara/Tjanst 21 | F24: Delområde 3/Vara/Tjanst 21 | G24: Delområde 4/Vara/Tjanst 21 | H24: Delområde 5/Vara/Tjanst 21 | I24: Delområde 6/Vara/Tjanst 21 | J24: =IFERROR(IF(INDEX(D24:I24,MATCH(J$2,D$2:I$2,0))=0,"",INDEX(D24:I24,MATCH(J$2,D$2:I$2,0))),"") -> Delområde 1/Vara/Tjanst 21
L25: Lägsta pris | N25: SammanstRegioner | Q25: Relativ viktning | S25: SammanstRegioner | V25: Mervärdesmodell | X25: SammanstRegioner | AA25: Annan modell | AC25: SammanstRegioner
N26: =O29&O30&O31&O32&O33&O34&O35&O36&O37&O38&O39&O40&O41&O42&O43&O44&O45&O46&O47&O48&O49&O50 | S26: =T29&T30&T31&T32&T33&T34&T35&T36&T37&T38&T39&T40&T41&T42&T43&T44&T45&T46&T47&T48&T49&T50 | X26: =Y29&Y30&Y31&Y32&Y33&Y34&Y35&Y36&Y37&Y38&Y39&Y40&Y41&Y42&Y43&Y44&Y45&Y46&Y47&Y48&Y49&Y50 | AC26: =AD29&AD30&AD31&AD32&AD33&AD34&AD35&AD36&AD37&AD38&AD39&AD40&AD41&AD42&AD43&AD44&AD45&AD46&AD47&AD48&AD49&AD50
D27: Vara/Tjanster | J27: ResOpt
D28: Välj Vara/Tjanst | E28: =D28 -> Välj Vara/Tjanst | F28: =E28 -> Välj Vara/Tjanst | G28: =F28 -> Välj Vara/Tjanst | H28: =G28 -> Välj Vara/Tjanst | I28: =H28 -> Välj Vara/Tjanst | J28: =INDEX(D28:I28,MATCH(J$2,D$2:I$2,0)) -> Välj Vara/Tjanst | L28: TblRegionLista | M28: TblRegionSamst | Q28: TblRegionLista | R28: TblRegionSamst | V28: TblRegionLista | W28: TblRegionSamst | AA28: TblRegionLista | AB28: TblRegionSamst
D29: Delområde 1/Vara/Tjanst 1 | E29: Delområde 2/Vara/Tjanst 1 | F29: Delområde 3/Vara/Tjanst 1 | G29: Delområde 4/Vara/Tjanst 1 | H29: Delområde 5/Vara/Tjanst 1 | I29: Delområde 6/Vara/Tjanst 1 | J29: =IFERROR(IF(INDEX(D29:I29,MATCH(J$2,D$2:I$2,0))=0,"",INDEX(D29:I29,MATCH(J$2,D$2:I$2,0))),"") -> Delområde 1/Vara/Tjanst 1 | L29: =IF('1 Spec. - 1. Lägsta pris'!C43="","",'1 Spec. - 1. Lägsta pris'!B43) | M29: {=IFERROR(INDEX($L$29:$L$50,SMALL(IF($L$29:$L$50<>"",ROW($L$29:$L$50)-ROW(L$29)+1),ROWS(M$29:M29))),"")} | N29: =IF(M30="",".",", ") -> . | O29: =IF(M29="","",M29&N29) | Q29: =IF('1 Spec. - 2. Relativ viktning'!C43="","",'1 Spec. - 2. Relativ viktning'!B43) | R29: {=IFERROR(INDEX($Q$29:$Q$50,SMALL(IF($Q$29:$Q$50<>"",ROW($Q$29:$Q$50)-ROW(Q$29)+1),ROWS(R$29:R29))),"")} | S29: =IF(R30="",".",", ") -> . | T29: =IF(R29="","",R29&S29) | V29: =IF('1 Spec. - 3. Mervärdesmodell'!C43="","",'1 Spec. - 3. Mervärdesmodell'!B43) | W29: {=IFERROR(INDEX($V$29:$V$50,SMALL(IF($V$29:$V$50<>"",ROW($V$29:$V$50)-ROW(V$29)+1),ROWS(W$29:W29))),"")} | X29: =IF(W30="",".",", ") -> . | Y29: =IF(W29="","",W29&X29) | AA29: =IF('1 Spec. - 4. Annan modell'!C43="","",'1 Spec. - 4. Annan modell'!B43) | AB29: {=IFERROR(INDEX($AA$29:$AA$50,SMALL(IF($AA$29:$AA$50<>"",ROW($AA$29:$AA$50)-ROW(AA$29)+1),ROWS(AB$29:AB29))),"")} | AC29: =IF(AB30="",".",", ") -> . | AD29: =IF(AB29="","",AB29&AC29)
D30: Delområde 1/Vara/Tjanst 2 | E30: Delområde 2/Vara/Tjanst 2 | F30: Delområde 3/Vara/Tjanst 2 | G30: Delområde 4/Vara/Tjanst 2 | H30: Delområde 5/Vara/Tjanst 2 | I30: Delområde 6/Vara/Tjanst 2 | J30: =IFERROR(IF(INDEX(D30:I30,MATCH(J$2,D$2:I$2,0))=0,"",INDEX(D30:I30,MATCH(J$2,D$2:I$2,0))),"") -> Delområde 1/Vara/Tjanst 2 | L30: =IF('1 Spec. - 1. Lägsta pris'!C44="","",'1 Spec. - 1. Lägsta pris'!B44) | M30: {=IFERROR(INDEX($L$29:$L$50,SMALL(IF($L$29:$L$50<>"",ROW($L$29:$L$50)-ROW(L$29)+1),ROWS(M$29:M30))),"")} | N30: =IF(M31="",".",", ") -> . | O30: =IF(M30="","",M30&N30) | Q30: =IF('1 Spec. - 2. Relativ viktning'!C44="","",'1 Spec. - 2. Relativ viktning'!B44) | R30: {=IFERROR(INDEX($Q$29:$Q$50,SMALL(IF($Q$29:$Q$50<>"",ROW($Q$29:$Q$50)-ROW(Q$29)+1),ROWS(R$29:R30))),"")} | S30: =IF(R31="",".",", ") -> . | T30: =IF(R30="","",R30&S30) | V30: =IF('1 Spec. - 3. Mervärdesmodell'!C44="","",'1 Spec. - 3. Mervärdesmodell'!B44) | W30: {=IFERROR(INDEX($V$29:$V$50,SMALL(IF($V$29:$V$50<>"",ROW($V$29:$V$50)-ROW(V$29)+1),ROWS(W$29:W30))),"")} | X30: =IF(W31="",".",", ") -> . | Y30: =IF(W30="","",W30&X30) | AA30: =IF('1 Spec. - 4. Annan modell'!C44="","",'1 Spec. - 4. Annan modell'!B44) | AB30: {=IFERROR(INDEX($AA$29:$AA$50,SMALL(IF($AA$29:$AA$50<>"",ROW($AA$29:$AA$50)-ROW(AA$29)+1),ROWS(AB$29:AB30))),"")} | AC30: =IF(AB31="",".",", ") -> . | AD30: =IF(AB30="","",AB30&AC30)
D31: Delområde 1/Vara/Tjanst 3 | E31: Delområde 2/Vara/Tjanst 3 | F31: Delområde 3/Vara/Tjanst 3 | G31: Delområde 4/Vara/Tjanst 3 | H31: Delområde 5/Vara/Tjanst 3 | I31: Delområde 6/Vara/Tjanst 3 | J31: =IFERROR(IF(INDEX(D31:I31,MATCH(J$2,D$2:I$2,0))=0,"",INDEX(D31:I31,MATCH(J$2,D$2:I$2,0))),"") -> Delområde 1/Vara/Tjanst 3 | L31: =IF('1 Spec. - 1. Lägsta pris'!C45="","",'1 Spec. - 1. Lägsta pris'!B45) | M31: {=IFERROR(INDEX($L$29:$L$50,SMALL(IF($L$29:$L$50<>"",ROW($L$29:$L$50)-ROW(L$29)+1),ROWS(M$29:M31))),"")} | N31: =IF(M32="",".",", ") -> . | O31: =IF(M31="","",M31&N31) | Q31: =IF('1 Spec. - 2. Relativ viktning'!C45="","",'1 Spec. - 2. Relativ viktning'!B45) | R31: {=IFERROR(INDEX($Q$29:$Q$50,SMALL(IF($Q$29:$Q$50<>"",ROW($Q$29:$Q$50)-ROW(Q$29)+1),ROWS(R$29:R31))),"")} | S31: =IF(R32="",".",", ") -> . | T31: =IF(R31="","",R31&S31) | V31: =IF('1 Spec. - 3. Mervärdesmodell'!C45="","",'1 Spec. - 3. Mervärdesmodell'!B45) | W31: {=IFERROR(INDEX($V$29:$V$50,SMALL(IF($V$29:$V$50<>"",ROW($V$29:$V$50)-ROW(V$29)+1),ROWS(W$29:W31))),"")} | X31: =IF(W32="",".",", ") -> . | Y31: =IF(W31="","",W31&X31) | AA31: =IF('1 Spec. - 4. Annan modell'!C45="","",'1 Spec. - 4. Annan modell'!B45) | AB31: {=IFERROR(INDEX($AA$29:$AA$50,SMALL(IF($AA$29:$AA$50<>"",ROW($AA$29:$AA$50)-ROW(AA$29)+1),ROWS(AB$29:AB31))),"")} | AC31: =IF(AB32="",".",", ") -> . | AD31: =IF(AB31="","",AB31&AC31)
D32: Delområde 1/Vara/Tjanst 4 | E32: Delområde 2/Vara/Tjanst 4 | F32: Delområde 3/Vara/Tjanst 4 | G32: Delområde 4/Vara/Tjanst 4 | H32: Delområde 5/Vara/Tjanst 4 | I32: Delområde 6/Vara/Tjanst 4 | J32: =IFERROR(IF(INDEX(D32:I32,MATCH(J$2,D$2:I$2,0))=0,"",INDEX(D32:I32,MATCH(J$2,D$2:I$2,0))),"") -> Delområde 1/Vara/Tjanst 4 | L32: =IF('1 Spec. - 1. Lägsta pris'!C46="","",'1 Spec. - 1. Lägsta pris'!B46) | M32: {=IFERROR(INDEX($L$29:$L$50,SMALL(IF($L$29:$L$50<>"",ROW($L$29:$L$50)-ROW(L$29)+1),ROWS(M$29:M32))),"")} | N32: =IF(M33="",".",", ") -> . | O32: =IF(M32="","",M32&N32) | Q32: =IF('1 Spec. - 2. Relativ viktning'!C46="","",'1 Spec. - 2. Relativ viktning'!B46) | R32: {=IFERROR(INDEX($Q$29:$Q$50,SMALL(IF($Q$29:$Q$50<>"",ROW($Q$29:$Q$50)-ROW(Q$29)+1),ROWS(R$29:R32))),"")} | S32: =IF(R33="",".",", ") -> . | T32: =IF(R32="","",R32&S32) | V32: =IF('1 Spec. - 3. Mervärdesmodell'!C46="","",'1 Spec. - 3. Mervärdesmodell'!B46) | W32: {=IFERROR(INDEX($V$29:$V$50,SMALL(IF($V$29:$V$50<>"",ROW($V$29:$V$50)-ROW(V$29)+1),ROWS(W$29:W32))),"")} | X32: =IF(W33="",".",", ") -> . | Y32: =IF(W32="","",W32&X32) | AA32: =IF('1 Spec. - 4. Annan modell'!C46="","",'1 Spec. - 4. Annan modell'!B46) | AB32: {=IFERROR(INDEX($AA$29:$AA$50,SMALL(IF($AA$29:$AA$50<>"",ROW($AA$29:$AA$50)-ROW(AA$29)+1),ROWS(AB$29:AB32))),"")} | AC32: =IF(AB33="",".",", ") -> . | AD32: =IF(AB32="","",AB32&AC32)
D33: Delområde 1/Vara/Tjanst 5 | E33: Delområde 2/Vara/Tjanst 5 | F33: Delområde 3/Vara/Tjanst 5 | G33: Delområde 4/Vara/Tjanst 5 | H33: Delområde 5/Vara/Tjanst 5 | I33: Delområde 6/Vara/Tjanst 5 | J33: =IFERROR(IF(INDEX(D33:I33,MATCH(J$2,D$2:I$2,0))=0,"",INDEX(D33:I33,MATCH(J$2,D$2:I$2,0))),"") -> Delområde 1/Vara/Tjanst 5 | L33: =IF('1 Spec. - 1. Lägsta pris'!C47="","",'1 Spec. - 1. Lägsta pris'!B47) | M33: {=IFERROR(INDEX($L$29:$L$50,SMALL(IF($L$29:$L$50<>"",ROW($L$29:$L$50)-ROW(L$29)+1),ROWS(M$29:M33))),"")} | N33: =IF(M34="",".",", ") -> . | O33: =IF(M33="","",M33&N33) | Q33: =IF('1 Spec. - 2. Relativ viktning'!C47="","",'1 Spec. - 2. Relativ viktning'!B47) | R33: {=IFERROR(INDEX($Q$29:$Q$50,SMALL(IF($Q$29:$Q$50<>"",ROW($Q$29:$Q$50)-ROW(Q$29)+1),ROWS(R$29:R33))),"")} | S33: =IF(R34="",".",", ") -> . | T33: =IF(R33="","",R33&S33) | V33: =IF('1 Spec. - 3. Mervärdesmodell'!C47="","",'1 Spec. - 3. Mervärdesmodell'!B47) | W33: {=IFERROR(INDEX($V$29:$V$50,SMALL(IF($V$29:$V$50<>"",ROW($V$29:$V$50)-ROW(V$29)+1),ROWS(W$29:W33))),"")} | X33: =IF(W34="",".",", ") -> . | Y33: =IF(W33="","",W33&X33) | AA33: =IF('1 Spec. - 4. Annan modell'!C47="","",'1 Spec. - 4. Annan modell'!B47) | AB33: {=IFERROR(INDEX($AA$29:$AA$50,SMALL(IF($AA$29:$AA$50<>"",ROW($AA$29:$AA$50)-ROW(AA$29)+1),ROWS(AB$29:AB33))),"")} | AC33: =IF(AB34="",".",", ") -> . | AD33: =IF(AB33="","",AB33&AC33)
D34: Delområde 1/Vara/Tjanst 6 | E34: Delområde 2/Vara/Tjanst 6 | F34: Delområde 3/Vara/Tjanst 6 | G34: Delområde 4/Vara/Tjanst 6 | H34: Delområde 5/Vara/Tjanst 6 | I34: Delområde 6/Vara/Tjanst 6 | J34: =IFERROR(IF(INDEX(D34:I34,MATCH(J$2,D$2:I$2,0))=0,"",INDEX(D34:I34,MATCH(J$2,D$2:I$2,0))),"") -> Delområde 1/Vara/Tjanst 6 | L34: =IF('1 Spec. - 1. Lägsta pris'!C48="","",'1 Spec. - 1. Lägsta pris'!B48) | M34: {=IFERROR(INDEX($L$29:$L$50,SMALL(IF($L$29:$L$50<>"",ROW($L$29:$L$50)-ROW(L$29)+1),ROWS(M$29:M34))),"")} | N34: =IF(M35="",".",", ") -> . | O34: =IF(M34="","",M34&N34) | Q34: =IF('1 Spec. - 2. Relativ viktning'!C48="","",'1 Spec. - 2. Relativ viktning'!B48) | R34: {=IFERROR(INDEX($Q$29:$Q$50,SMALL(IF($Q$29:$Q$50<>"",ROW($Q$29:$Q$50)-ROW(Q$29)+1),ROWS(R$29:R34))),"")} | S34: =IF(R35="",".",", ") -> . | T34: =IF(R34="","",R34&S34) | V34: =IF('1 Spec. - 3. Mervärdesmodell'!C48="","",'1 Spec. - 3. Mervärdesmodell'!B48) | W34: {=IFERROR(INDEX($V$29:$V$50,SMALL(IF($V$29:$V$50<>"",ROW($V$29:$V$50)-ROW(V$29)+1),ROWS(W$29:W34))),"")} | X34: =IF(W35="",".",", ") -> . | Y34: =IF(W34="","",W34&X34) | AA34: =IF('1 Spec. - 4. Annan modell'!C48="","",'1 Spec. - 4. Annan modell'!B48) | AB34: {=IFERROR(INDEX($AA$29:$AA$50,SMALL(IF($AA$29:$AA$50<>"",ROW($AA$29:$AA$50)-ROW(AA$29)+1),ROWS(AB$29:AB34))),"")} | AC34: =IF(AB35="",".",", ") -> . | AD34: =IF(AB34="","",AB34&AC34)
D35: Delområde 1/Vara/Tjanst 7 | E35: Delområde 2/Vara/Tjanst 7 | F35: Delområde 3/Vara/Tjanst 7 | G35: Delområde 4/Vara/Tjanst 7 | H35: Delområde 5/Vara/Tjanst 7 | I35: Delområde 6/Vara/Tjanst 7 | J35: =IFERROR(IF(INDEX(D35:I35,MATCH(J$2,D$2:I$2,0))=0,"",INDEX(D35:I35,MATCH(J$2,D$2:I$2,0))),"") -> Delområde 1/Vara/Tjanst 7 | L35: =IF('1 Spec. - 1. Lägsta pris'!C49="","",'1 Spec. - 1. Lägsta pris'!B49) | M35: {=IFERROR(INDEX($L$29:$L$50,SMALL(IF($L$29:$L$50<>"",ROW($L$29:$L$50)-ROW(L$29)+1),ROWS(M$29:M35))),"")} | N35: =IF(M36="",".",", ") -> . | O35: =IF(M35="","",M35&N35) | Q35: =IF('1 Spec. - 2. Relativ viktning'!C49="","",'1 Spec. - 2. Relativ viktning'!B49) | R35: {=IFERROR(INDEX($Q$29:$Q$50,SMALL(IF($Q$29:$Q$50<>"",ROW($Q$29:$Q$50)-ROW(Q$29)+1),ROWS(R$29:R35))),"")} | S35: =IF(R36="",".",", ") -> . | T35: =IF(R35="","",R35&S35) | V35: =IF('1 Spec. - 3. Mervärdesmodell'!C49="","",'1 Spec. - 3. Mervärdesmodell'!B49) | W35: {=IFERROR(INDEX($V$29:$V$50,SMALL(IF($V$29:$V$50<>"",ROW($V$29:$V$50)-ROW(V$29)+1),ROWS(W$29:W35))),"")} | X35: =IF(W36="",".",", ") -> . | Y35: =IF(W35="","",W35&X35) | AA35: =IF('1 Spec. - 4. Annan modell'!C49="","",'1 Spec. - 4. Annan modell'!B49) | AB35: {=IFERROR(INDEX($AA$29:$AA$50,SMALL(IF($AA$29:$AA$50<>"",ROW($AA$29:$AA$50)-ROW(AA$29)+1),ROWS(AB$29:AB35))),"")} | AC35: =IF(AB36="",".",", ") -> . | AD35: =IF(AB35="","",AB35&AC35)
D36: Delområde 1/Vara/Tjanst 8 | E36: Delområde 2/Vara/Tjanst 8 | F36: Delområde 3/Vara/Tjanst 8 | G36: Delområde 4/Vara/Tjanst 8 | H36: Delområde 5/Vara/Tjanst 8 | I36: Delområde 6/Vara/Tjanst 8 | J36: =IFERROR(IF(INDEX(D36:I36,MATCH(J$2,D$2:I$2,0))=0,"",INDEX(D36:I36,MATCH(J$2,D$2:I$2,0))),"") -> Delområde 1/Vara/Tjanst 8 | L36: =IF('1 Spec. - 1. Lägsta pris'!C50="","",'1 Spec. - 1. Lägsta pris'!B50) | M36: {=IFERROR(INDEX($L$29:$L$50,SMALL(IF($L$29:$L$50<>"",ROW($L$29:$L$50)-ROW(L$29)+1),ROWS(M$29:M36))),"")} | N36: =IF(M37="",".",", ") -> . | O36: =IF(M36="","",M36&N36) | Q36: =IF('1 Spec. - 2. Relativ viktning'!C50="","",'1 Spec. - 2. Relativ viktning'!B50) | R36: {=IFERROR(INDEX($Q$29:$Q$50,SMALL(IF($Q$29:$Q$50<>"",ROW($Q$29:$Q$50)-ROW(Q$29)+1),ROWS(R$29:R36))),"")} | S36: =IF(R37="",".",", ") -> . | T36: =IF(R36="","",R36&S36) | V36: =IF('1 Spec. - 3. Mervärdesmodell'!C50="","",'1 Spec. - 3. Mervärdesmodell'!B50) | W36: {=IFERROR(INDEX($V$29:$V$50,SMALL(IF($V$29:$V$50<>"",ROW($V$29:$V$50)-ROW(V$29)+1),ROWS(W$29:W36))),"")} | X36: =IF(W37="",".",", ") -> . | Y36: =IF(W36="","",W36&X36) | AA36: =IF('1 Spec. - 4. Annan modell'!C50="","",'1 Spec. - 4. Annan modell'!B50) | AB36: {=IFERROR(INDEX($AA$29:$AA$50,SMALL(IF($AA$29:$AA$50<>"",ROW($AA$29:$AA$50)-ROW(AA$29)+1),ROWS(AB$29:AB36))),"")} | AC36: =IF(AB37="",".",", ") -> . | AD36: =IF(AB36="","",AB36&AC36)
D37: Delområde 1/Vara/Tjanst 9 | E37: Delområde 2/Vara/Tjanst 9 | F37: Delområde 3/Vara/Tjanst 9 | G37: Delområde 4/Vara/Tjanst 9 | H37: Delområde 5/Vara/Tjanst 9 | I37: Delområde 6/Vara/Tjanst 9 | J37: =IFERROR(IF(INDEX(D37:I37,MATCH(J$2,D$2:I$2,0))=0,"",INDEX(D37:I37,MATCH(J$2,D$2:I$2,0))),"") -> Delområde 1/Vara/Tjanst 9 | L37: =IF('1 Spec. - 1. Lägsta pris'!C51="","",'1 Spec. - 1. Lägsta pris'!B51) | M37: {=IFERROR(INDEX($L$29:$L$50,SMALL(IF($L$29:$L$50<>"",ROW($L$29:$L$50)-ROW(L$29)+1),ROWS(M$29:M37))),"")} | N37: =IF(M38="",".",", ") -> . | O37: =IF(M37="","",M37&N37) | Q37: =IF('1 Spec. - 2. Relativ viktning'!C51="","",'1 Spec. - 2. Relativ viktning'!B51) | R37: {=IFERROR(INDEX($Q$29:$Q$50,SMALL(IF($Q$29:$Q$50<>"",ROW($Q$29:$Q$50)-ROW(Q$29)+1),ROWS(R$29:R37))),"")} | S37: =IF(R38="",".",", ") -> . | T37: =IF(R37="","",R37&S37) | V37: =IF('1 Spec. - 3. Mervärdesmodell'!C51="","",'1 Spec. - 3. Mervärdesmodell'!B51) | W37: {=IFERROR(INDEX($V$29:$V$50,SMALL(IF($V$29:$V$50<>"",ROW($V$29:$V$50)-ROW(V$29)+1),ROWS(W$29:W37))),"")} | X37: =IF(W38="",".",", ") -> . | Y37: =IF(W37="","",W37&X37) | AA37: =IF('1 Spec. - 4. Annan modell'!C51="","",'1 Spec. - 4. Annan modell'!B51) | AB37: {=IFERROR(INDEX($AA$29:$AA$50,SMALL(IF($AA$29:$AA$50<>"",ROW($AA$29:$AA$50)-ROW(AA$29)+1),ROWS(AB$29:AB37))),"")} | AC37: =IF(AB38="",".",", ") -> . | AD37: =IF(AB37="","",AB37&AC37)
D38: Delområde 1/Vara/Tjanst 10 | E38: Delområde 2/Vara/Tjanst 10 | F38: Delområde 3/Vara/Tjanst 10 | G38: Delområde 4/Vara/Tjanst 10 | H38: Delområde 5/Vara/Tjanst 10 | I38: Delområde 6/Vara/Tjanst 10 | J38: =IFERROR(IF(INDEX(D38:I38,MATCH(J$2,D$2:I$2,0))=0,"",INDEX(D38:I38,MATCH(J$2,D$2:I$2,0))),"") -> Delområde 1/Vara/Tjanst 10 | L38: =IF('1 Spec. - 1. Lägsta pris'!C52="","",'1 Spec. - 1. Lägsta pris'!B52) | M38: {=IFERROR(INDEX($L$29:$L$50,SMALL(IF($L$29:$L$50<>"",ROW($L$29:$L$50)-ROW(L$29)+1),ROWS(M$29:M38))),"")} | N38: =IF(M39="",".",", ") -> . | O38: =IF(M38="","",M38&N38) | Q38: =IF('1 Spec. - 2. Relativ viktning'!C52="","",'1 Spec. - 2. Relativ viktning'!B52) | R38: {=IFERROR(INDEX($Q$29:$Q$50,SMALL(IF($Q$29:$Q$50<>"",ROW($Q$29:$Q$50)-ROW(Q$29)+1),ROWS(R$29:R38))),"")} | S38: =IF(R39="",".",", ") -> . | T38: =IF(R38="","",R38&S38) | V38: =IF('1 Spec. - 3. Mervärdesmodell'!C52="","",'1 Spec. - 3. Mervärdesmodell'!B52) | W38: {=IFERROR(INDEX($V$29:$V$50,SMALL(IF($V$29:$V$50<>"",ROW($V$29:$V$50)-ROW(V$29)+1),ROWS(W$29:W38))),"")} | X38: =IF(W39="",".",", ") -> . | Y38: =IF(W38="","",W38&X38) | AA38: =IF('1 Spec. - 4. Annan modell'!C52="","",'1 Spec. - 4. Annan modell'!B52) | AB38: {=IFERROR(INDEX($AA$29:$AA$50,SMALL(IF($AA$29:$AA$50<>"",ROW($AA$29:$AA$50)-ROW(AA$29)+1),ROWS(AB$29:AB38))),"")} | AC38: =IF(AB39="",".",", ") -> . | AD38: =IF(AB38="","",AB38&AC38)
D39: Delområde 1/Vara/Tjanst 11 | E39: Delområde 2/Vara/Tjanst 11 | F39: Delområde 3/Vara/Tjanst 11 | G39: Delområde 4/Vara/Tjanst 11 | H39: Delområde 5/Vara/Tjanst 11 | I39: Delområde 6/Vara/Tjanst 11 | J39: =IFERROR(IF(INDEX(D39:I39,MATCH(J$2,D$2:I$2,0))=0,"",INDEX(D39:I39,MATCH(J$2,D$2:I$2,0))),"") -> Delområde 1/Vara/Tjanst 11 | L39: =IF('1 Spec. - 1. Lägsta pris'!C53="","",'1 Spec. - 1. Lägsta pris'!B53) | M39: {=IFERROR(INDEX($L$29:$L$50,SMALL(IF($L$29:$L$50<>"",ROW($L$29:$L$50)-ROW(L$29)+1),ROWS(M$29:M39))),"")} | N39: =IF(M40="",".",", ") -> . | O39: =IF(M39="","",M39&N39) | Q39: =IF('1 Spec. - 2. Relativ viktning'!C53="","",'1 Spec. - 2. Relativ viktning'!B53) | R39: {=IFERROR(INDEX($Q$29:$Q$50,SMALL(IF($Q$29:$Q$50<>"",ROW($Q$29:$Q$50)-ROW(Q$29)+1),ROWS(R$29:R39))),"")} | S39: =IF(R40="",".",", ") -> . | T39: =IF(R39="","",R39&S39) | V39: =IF('1 Spec. - 3. Mervärdesmodell'!C53="","",'1 Spec. - 3. Mervärdesmodell'!B53) | W39: {=IFERROR(INDEX($V$29:$V$50,SMALL(IF($V$29:$V$50<>"",ROW($V$29:$V$50)-ROW(V$29)+1),ROWS(W$29:W39))),"")} | X39: =IF(W40="",".",", ") -> . | Y39: =IF(W39="","",W39&X39) | AA39: =IF('1 Spec. - 4. Annan modell'!C53="","",'1 Spec. - 4. Annan modell'!B53) | AB39: {=IFERROR(INDEX($AA$29:$AA$50,SMALL(IF($AA$29:$AA$50<>"",ROW($AA$29:$AA$50)-ROW(AA$29)+1),ROWS(AB$29:AB39))),"")} | AC39: =IF(AB40="",".",", ") -> . | AD39: =IF(AB39="","",AB39&AC39)
D40: Delområde 1/Vara/Tjanst 12 | E40: Delområde 2/Vara/Tjanst 12 | F40: Delområde 3/Vara/Tjanst 12 | G40: Delområde 4/Vara/Tjanst 12 | H40: Delområde 5/Vara/Tjanst 12 | I40: Delområde 6/Vara/Tjanst 12 | J40: =IFERROR(IF(INDEX(D40:I40,MATCH(J$2,D$2:I$2,0))=0,"",INDEX(D40:I40,MATCH(J$2,D$2:I$2,0))),"") -> Delområde 1/Vara/Tjanst 12 | L40: =IF('1 Spec. - 1. Lägsta pris'!C54="","",'1 Spec. - 1. Lägsta pris'!B54) | M40: {=IFERROR(INDEX($L$29:$L$50,SMALL(IF($L$29:$L$50<>"",ROW($L$29:$L$50)-ROW(L$29)+1),ROWS(M$29:M40))),"")} | N40: =IF(M41="",".",", ") -> . | O40: =IF(M40="","",M40&N40) | Q40: =IF('1 Spec. - 2. Relativ viktning'!C54="","",'1 Spec. - 2. Relativ viktning'!B54) | R40: {=IFERROR(INDEX($Q$29:$Q$50,SMALL(IF($Q$29:$Q$50<>"",ROW($Q$29:$Q$50)-ROW(Q$29)+1),ROWS(R$29:R40))),"")} | S40: =IF(R41="",".",", ") -> . | T40: =IF(R40="","",R40&S40) | V40: =IF('1 Spec. - 3. Mervärdesmodell'!C54="","",'1 Spec. - 3. Mervärdesmodell'!B54) | W40: {=IFERROR(INDEX($V$29:$V$50,SMALL(IF($V$29:$V$50<>"",ROW($V$29:$V$50)-ROW(V$29)+1),ROWS(W$29:W40))),"")} | X40: =IF(W41="",".",", ") -> . | Y40: =IF(W40="","",W40&X40) | AA40: =IF('1 Spec. - 4. Annan modell'!C54="","",'1 Spec. - 4. Annan modell'!B54) | AB40: {=IFERROR(INDEX($AA$29:$AA$50,SMALL(IF($AA$29:$AA$50<>"",ROW($AA$29:$AA$50)-ROW(AA$29)+1),ROWS(AB$29:AB40))),"")} | AC40: =IF(AB41="",".",", ") -> . | AD40: =IF(AB40="","",AB40&AC40)
... D50: Delområde 1/Vara/Tjanst 22 | E50: Delområde 2/Vara/Tjanst 22 | F50: Delområde 3/Vara/Tjanst 22 | G50: Delområde 4/Vara/Tjanst 22 | H50: Delområde 5/Vara/Tjanst 22 | I50: Delområde 6/Vara/Tjanst 22 | J50: =IFERROR(IF(INDEX(D50:I50,MATCH(J$2,D$2:I$2,0))=0,"",INDEX(D50:I50,MATCH(J$2,D$2:I$2,0))),"") -> Delområde 1/Vara/Tjanst 22 | L50: =IF('1 Spec. - 1. Lägsta pris'!C64="","",'1 Spec. - 1. Lägsta pris'!B64) | M50: {=IFERROR(INDEX($L$29:$L$50,SMALL(IF($L$29:$L$50<>"",ROW($L$29:$L$50)-ROW(L$29)+1),ROWS(M$29:M50))),"")} | N50: =IF(M51="",".",", ") -> . | O50: =IF(M50="","",M50&N50) | Q50: =IF('1 Spec. - 2. Relativ viktning'!C64="","",'1 Spec. - 2. Relativ viktning'!B64) | R50: {=IFERROR(INDEX($Q$29:$Q$50,SMALL(IF($Q$29:$Q$50<>"",ROW($Q$29:$Q$50)-ROW(Q$29)+1),ROWS(R$29:R50))),"")} | S50: =IF(R51="",".",", ") -> . | T50: =IF(R50="","",R50&S50) | V50: =IF('1 Spec. - 3. Mervärdesmodell'!C64="","",'1 Spec. - 3. Mervärdesmodell'!B64) | W50: {=IFERROR(INDEX($V$29:$V$50,SMALL(IF($V$29:$V$50<>"",ROW($V$29:$V$50)-ROW(V$29)+1),ROWS(W$29:W50))),"")} | X50: =IF(W51="",".",", ") -> . | Y50: =IF(W50="","",W50&X50) | AA50: =IF('1 Spec. - 4. Annan modell'!C64="","",'1 Spec. - 4. Annan modell'!B64) | AB50: {=IFERROR(INDEX($AA$29:$AA$50,SMALL(IF($AA$29:$AA$50<>"",ROW($AA$29:$AA$50)-ROW(AA$29)+1),ROWS(AB$29:AB50))),"")} | AC50: =IF(AB51="",".",", ") -> . | AD50: =IF(AB50="","",AB50&AC50)
...

Sheet SysAdmin
A1: LockStatus | B1: FALSE
A2: UKey | B2: Förvaltning21 | D2: 1 | E2: =INDEX(E3:E5,D2) -> Adminläge! Klicka här för att låsa vita celler.
A3: pkey | B3: Förvaltning21 | E3: Adminläge! Klicka här för att låsa vita celler.
A4: Wkey | B4: Förvaltning21 | C4: RGB | E4: Avroppsblanketten är nu upplåst, klicka här för att låsa avropsblanketten.
A5: YColor | C5: 255, 255, 153 | E5: Avroppsblanketten är nu låst, klicka här för att låsa upp avropsblanketten.
C6: 204, 255, 255
C7: 150, 150, 150 | E7: Grund för tilldelning av kontrakt & Utvärderingsmodell
C8: 204, 255, 204 | E8: =VALUE(IF(ISNUMBER(SEARCH("2",DpDwnTDV))=TRUE,"2","1")) -> 2
C9: 250, 191, 143 | E9: ="Alt"&IF(ISNUMBER(SEARCH("1",DpDwnUtvddrop))=TRUE,"1",IF(ISNUMBER(SEARCH("2",DpDwnUtvddrop))=TRUE,"2",IF(ISNUMBER(SEARCH("3",DpDwnUtvddrop))=TRUE,"3",IF(ISNUMBER(SEARCH("4",DpDwnUtvddrop))=TRUE,"4")))) -> AltFALSE
