Workbook
Name AntalSpec01: '1 Spec. - 2. Relativ viktning'!#REF!
Name AntalSpec01: '1 Spec. - 3. Mervärdesmodell'!#REF!
Name AntalSpec01: '1 Spec. - 4. Annan modell'!#REF!
Name AntalSpec01: '1 Spec. - 1. Lägsta pris'!#REF!
Name ButtonStatus: SysAdmin!$D$2
Name ButtonText: SysAdmin!$E$2
Name Cell_CB_St2_Rd1: '1 Spec. - 2. Relativ viktning'!#REF!
Name Cell_CB_St2_Rd1: '1 Spec. - 3. Mervärdesmodell'!#REF!
Name Cell_CB_St2_Rd1: '1 Spec. - 4. Annan modell'!#REF!
Name Cell_CB_St2_Rd1: Information!$N$44
Name Cell_CB_St2_Rd1: '1 Spec. - 1. Lägsta pris'!#REF!
Name Cell_CB_St2_Rd10: '1 Spec. - 2. Relativ viktning'!#REF!
Name Cell_CB_St2_Rd10: '1 Spec. - 3. Mervärdesmodell'!#REF!
Name Cell_CB_St2_Rd10: '1 Spec. - 4. Annan modell'!#REF!
Name Cell_CB_St2_Rd10: '1 Spec. - 1. Lägsta pris'!#REF!
Name Cell_CB_St2_Rd11: '1 Spec. - 2. Relativ viktning'!#REF!
Name Cell_CB_St2_Rd11: '1 Spec. - 3. Mervärdesmodell'!#REF!
Name Cell_CB_St2_Rd11: '1 Spec. - 4. Annan modell'!#REF!
Name Cell_CB_St2_Rd11: Information!$N$45
Name Cell_CB_St2_Rd11: '1 Spec. - 1. Lägsta pris'!#REF!
Name Cell_CB_St2_Rd12: '1 Spec. - 2. Relativ viktning'!#REF!
Name Cell_CB_St2_Rd12: '1 Spec. - 3. Mervärdesmodell'!#REF!
Name Cell_CB_St2_Rd12: '1 Spec. - 4. Annan modell'!#REF!
Name Cell_CB_St2_Rd12: Information!$N$46
Name Cell_CB_St2_Rd12: '1 Spec. - 1. Lägsta pris'!#REF!
Name Cell_CB_St2_Rd13: '1 Spec. - 2. Relativ viktning'!#REF!
Name Cell_CB_St2_Rd13: '1 Spec. - 3. Mervärdesmodell'!#REF!
Name Cell_CB_St2_Rd13: '1 Spec. - 4. Annan modell'!#REF!
Name Cell_CB_St2_Rd13: Information!$N$47
Name Cell_CB_St2_Rd13: '1 Spec. - 1. Lägsta pris'!#REF!
Name Cell_CB_St2_Rd14: '1 Spec. - 2. Relativ viktning'!#REF!
Name Cell_CB_St2_Rd14: '1 Spec. - 3. Mervärdesmodell'!#REF!
Name Cell_CB_St2_Rd14: '1 Spec. - 4. Annan modell'!#REF!
Name Cell_CB_St2_Rd14: Information!$N$48
Name Cell_CB_St2_Rd14: '1 Spec. - 1. Lägsta pris'!#REF!
Name Cell_CB_St2_Rd15: '1 Spec. - 2. Relativ viktning'!#REF!
Name Cell_CB_St2_Rd15: '1 Spec. - 3. Mervärdesmodell'!#REF!
Name Cell_CB_St2_Rd15: '1 Spec. - 4. Annan modell'!#REF!
Name Cell_CB_St2_Rd15: Information!$N$49
Name Cell_CB_St2_Rd15: '1 Spec. - 1. Lägsta pris'!#REF!
Name Cell_CB_St2_Rd16: '1 Spec. - 2. Relativ viktning'!#REF!
Name Cell_CB_St2_Rd16: '1 Spec. - 3. Mervärdesmodell'!#REF!
Name Cell_CB_St2_Rd16: '1 Spec. - 4. Annan modell'!#REF!
Name Cell_CB_St2_Rd16: Information!$N$50
Name Cell_CB_St2_Rd16: '1 Spec. - 1. Lägsta pris'!#REF!
Name Cell_CB_St2_Rd17: '1 Spec. - 2. Relativ viktning'!#REF!
Name Cell_CB_St2_Rd17: '1 Spec. - 3. Mervärdesmodell'!#REF!
Name Cell_CB_St2_Rd17: '1 Spec. - 4. Annan modell'!#REF!
Name Cell_CB_St2_Rd17: Information!$N$51
Name Cell_CB_St2_Rd17: '1 Spec. - 1. Lägsta pris'!#REF!
Name Cell_CB_St2_Rd18: '1 Spec. - 2. Relativ viktning'!#REF!
Name Cell_CB_St2_Rd18: '1 Spec. - 3. Mervärdesmodell'!#REF!
Name Cell_CB_St2_Rd18: '1 Spec. - 4. Annan modell'!#REF!
Name Cell_CB_St2_Rd18: Information!$N$52
Name Cell_CB_St2_Rd18: '1 Spec. - 1. Lägsta pris'!#REF!
Name Cell_CB_St2_Rd19: '1 Spec. - 2. Relativ viktning'!#REF!
Name Cell_CB_St2_Rd19: '1 Spec. - 3. Mervärdesmodell'!#REF!
Name Cell_CB_St2_Rd19: '1 Spec. - 4. Annan modell'!#REF!
Name Cell_CB_St2_Rd19: Information!$N$53
Name Cell_CB_St2_Rd19: '1 Spec. - 1. Lägsta pris'!#REF!

Sheet Information
X1: Förvaltning21
B3: Avropsförfrågan - förnyad konkurrensutsättning
B4: inom området
B5: Bevakningstjänster och larmcentraltjänster
B6: Ramavtalsnummer: 23.3-2611-2022
B8: Information
B9: Makrofri blankett - blanketten innehåller inga makron vilket innebär att det inte automatiskt går att öka antal rader, välja utvärderingsmodell eller låsa blanketten innan utskick.
B10: Den här blanketten är utformad med (utöver denna) 4 flikar, en per utvärderingsmodell samt en för avtalstecknande. Välj flik för er avropsförfrågan beroende på vilken utvärderingsmodell ni föredrar att använda vid utvärdering av inkomna avropssvar. Välj utvärderingsmodell i kolumn C nedan. Observera att endast en modell (flik) ska väljas. Därefter fyller ni i de gula fälten för avropet i vald flik.
B11: Alternativen i denna blankett är följande:
B12: 1. Lägsta pris - endast obligatoriska krav (ska-krav), lägsta totalpris tilldelas kontrakt | C12: Jag väljer denna modell (Välj "Ja" i lista):
B13: 2. Relativ viktning - summan av viktade poäng för pris och uppfyllda tilldelningskriterier (bör-krav), högsta slutsumma tilldelas kontrakt | C13: Jag väljer denna modell (Välj "Ja" i lista):
B14: 3. Mervärde - prisavdrag för uppfyllda tilldelningskriterier (bör-krav), lägsta totalpris efter prisavdrag tilldelas kontrakt | C14: Jag väljer denna modell (Välj "Ja" i lista):
B15: 4. Annan modell - egen utvärderingsmodell (ska beskrivas i fritext) | C15: Jag väljer denna modell (Välj "Ja" i lista):
B81: 1
B82: 1
B83: 1
B84: 1
B85: 1
B86: 1
B87: 1

Sheet 1 Spec. - 1. Lägsta pris
B1: =IF(Information!D12="","Om ingen text finns - välj utvärderingsmodell i fliken ""Information""","") -> Om ingen text finns - välj utvärderingsmodell i fliken "Information"
O2: ="Avrop nr: "&B15 -> Avrop nr: | W2: ="Avrop nr: "&B15 -> Avrop nr:
B3: Avropsförfrågan | P3: Avropssvar | AH3: =OR(AH4:AH933) -> TRUE
B4: Instruktion till avropande organisation: Spara ned blanketten på din dator. Gulmarkerade rutor fylls i av avropare innan blanketten skickas. Blanketten skickas med e-post till antagna leverantörer inom aktuellt avropsområde. Se vidare "Vägledning vid avrop". | J4: Ramavtalsområde | P4: Instruktion till leverantör: Blåmarkerade rutor fylls i av leverantören. Läs och kontrollera obligatoriska krav. Returnera blanketten med e-post till avropande organisation (oavsett Ja eller Nej). Mer information finns under vissa rubriker
J5: Bevakningstjänster och larmcentraltjänster
B6: Steg 1 - Administrativa uppgifter | J6: Avrop med förnyad konkurrensutsättning Kammarkollegiets diarienr.
B7: Uppgifter om avropande organisation | P7: Uppgifter om Ramavtalsleverantören
B8: Myndighet/Organisation (namn) | H8: Organisationsnummer | J8: 23.3-2611-2022 | P8: Ramavtalsleverantörens namn | V8: Organisationsnummer
J9: Avropsblankett
B10: Postadress | E10: Postnummer | H10: Ort | J10: Version 3,15 | P10: Kontaktperson | T10: E-post
B12: Avdelning, enhet etc | E12: Kontaktperson | H12: Telefon | P12: Postadress | T12: Postnummer | V12: Ort
B14: Referens/diarienr för avropet | E14: E-post | P14: Telefon | T14: Offertnummer el likn för detta avropssvar
P16: Avropssvar lämnas Ja/Nej | S16: Om Nej, motivering
AH17: =IF(AND(P17=0,P17<>"Ja"),TRUE,FALSE) -> TRUE
B19: Förnyad kontroll av leverantörskrav (ESPD) | P19: Leverantörskrav (ESPD) - Ramavtalsleverantörens intygande
B20: Av 15 kap. 1 samt 4 §§ LOU framgår att ramavtalsleverantören ska lämna en ny egenförsäkran samt att en ny kontroll av kvalificeringskrav och uteslutningsgrunder ska genomföras vid avrop genom förnyad konkurrensutsättning. Kammarkollegiet ansvarar för denna kontrollskyldighet genom att löpande genomföra leverantörsprövning under hela ramavtalsperioden. Kontrollskyldigheten bör också hanteras så att ramavtalsleverantören i sitt avropssvar bekräftar att i ramavtalsupphandlingen lämnad egenförsäkran fortfarande är korrekt, samt att ingivna bevis fortfarande är aktuella. Avropande myndighet kan själv begära in ett eller flera bevis enligt punkten 2 till höger. | P20: Genom att lämna avropssvar, bekräftar ramavtalsleverantören följande: 1. Att i ramavtalsupphandlingen lämnad egenförsäkran fortfarande är korrekt. 2. Att i ramavtalsupphandlingen ingivna bevis, såsom Sanningsförsäkran avseende uteslutningsgrunder (gällande leverantören och ev. åberopade företag) fortfarande aktuella. 3. Att ramavtalsleverantören har säkerställt att ev. åberopade företag inte omfattas av någon uteslutningsgrund. Med "åberopat företag" avses specifikt en underleverantör som har åberopats i ramavtalsupphandlingen för att uppfylla krav på ekonomisk, teknisk och yrkesmässig kapacitet”.
P26: Uppgift om underleverantörer (i förekommande fall)
B27: Information om avropet, t ex syfte och omfattning | P27: Redogör för vilka underleverantör/er inkl. org. nr. som kommer att medverka till fullgörandet av kontraktet samt vilka delar underleverantörerna fullgör. Med Underleverantör avses en juridisk eller fysisk person som Ramavtalsleverantören anlitar för att fullgöra hela eller delar av det åtagande som följer av Ramavtalet och Kontrakt.
B30: Sista dag för att ställa frågor | D30: Sista dag för svar på frågor | G30: E-post för frågor (om annan än ovan)
B33: Sista dag för avropssvar | D33: Avropssvarets giltighetstid | G33: Avtalsspärr efter tilldelningsbeslut
G34: Avtalsspärr kommer att iakttas?
B36: Kontraktets giltighetstid (t.o.m. datum) | D36: Förlängningsoption (t.o.m. datum)
B39: Ange geografiskt område
B40: Delområde 1
B42: Ange aktuella län för avropet. Markera med ett "X" i de gula fälten bredvid respektive län.
B43: =Admin!J56 -> Flerregionalt
B44: =Admin!J57 -> Blekinge län
B45: =Admin!J58 -> Dalarnas län
B46: =Admin!J59 -> Gotlands län
B47: =Admin!J60 -> Gävleborgs län
B48: =Admin!J61 -> Hallands län
B49: =Admin!J62 -> Jämtlands län
B50: =Admin!J63 -> Jönköpings län
B51: =Admin!J64 -> Kalmar län
B52: =Admin!J65 -> Kronobergs län
B53: =Admin!J66 -> Norrbottens län
B54: =Admin!J67 -> Skånes län
... B64: =Admin!J77 -> Östergötlands lön
B66: Sammanställning - val av län | C66: =Admin!$N$26
B69: Ange varu/tjänsteområde
B70: Välj vara/tjänst
B72: Steg 2 - Specifikation av varor/tjänster
B74: Standardtjänster | F74: Ordinarie bevakning | H74: Extra bevakning | Q74: Leverantörens svar
B75: Tjänst | C75: Ange om tjänsten ingår i avropet (Ja/Nej) | D75: Följande ska anges för respektive tjänst | F75: Schemalagda timmar | H75: Ej schemalagda timmar (option) | J75: Kort beskrivning av tjänst eller referera till bilaga Ange tider för rondering | Q75: Vid behov specificera tjänster, annan information eller hänvisa till bilaga. | U75: Enhet | V75: Schemalagda timmar (exkl OB) | W75: Ej schemalagda timmar (exkl OB) | Y75: Beräknat pris per månad (OB-ersättning enligt kollektivavtal kan tillkomma)
B76: Ronderande bevakning | C76: Ja | D76: Beräknat antal timmar och ronder per månad | F76: Antal timmar / månad | J76: se bilaga | U76: Timmar | V76: =IF(F77="","",F77) | W76: =IF(H77="","",H77) | Y76: =IFERROR((V78+W78)+(W79*H79)+(W79*F79),0) -> 0
U77: Timpris
F78: Antal ronder / månad (1 / dag = 30,44 enligt schablon, ange annan frekvens om aktuellt) | U78: Summa | V78: =IFERROR(IF(V77*V76=0,0,V77*V76),0) -> 0 | W78: =IFERROR(IF(W77*W76=0,0,W77*W76),0) -> 0
F79: 30.44 | U79: Pris framkörning per rond:
B81: Tjänst | C81: Ange om tjänsten ingår i avropet (Ja/Nej) | D81: Följande ska anges för respektive tjänst | F81: Schemalagda timmar | H81: Ej schemalagda timmar (option) | J81: Kort beskrivning av tjänst eller referera till bilaga | Q81: Vid behov specificera tjänster, annan information eller hänvisa till bilaga. | U81: Enhet | V81: Schemalagda timmar (exkl OB) | W81: Ej schemalagda timmar (exkl OB) | Y81: Beräknat pris per månad (OB-ersättning enligt kollektivavtal kan tillkomma)
B82: Stationär bevakning | D82: Beräknat antal timmar per månad | F82: Antal timmar / månad | U82: Timmar | V82: =IF(F83="","",F83) | W82: =IF(H83="","",H83) | Y82: =IFERROR((V84+W84),0) -> 0
U83: Timpris
U84: Summa | V84: =IFERROR(IF(V83*V82=0,0,V83*V82),0) -> 0 | W84: =IFERROR(IF(W83*W82=0,0,W83*W82),0) -> 0
B87: Tjänst | C87: Ange om tjänsten ingår i avropet (Ja/Nej) | D87: Följande ska anges för respektive tjänst | F87: Antal utryckningar/ månad | H87: Ryck ska ske med x antal väktare (välj i lista): | J87: Kort beskrivning av tjänst eller referera till bilaga | Q87: Vid behov specificera tjänster, annan information eller hänvisa till bilaga. | W87: Pris per utryckning en väktare (1) | X87: Pris per utryckning flera väktare (2) | Y87: Beräknat pris per månad (OB-ersättning enligt kollektivavtal kan tillkomma)
B88: Larmutryckning | D88: Beräknat antal utryckningar per månad. Utryckning med en eller flera väktare. | Y88: =IFERROR(IF($H$88=1,W88*F88,X88*F88),0) -> 0
B97: Tilläggstjänster | F97: Ordinarie bevakning | H97: Extra bevakning
B98: Tilläggstjänst | C98: Ange om tjänsten ingår i avropet (Ja/Nej) | D98: Följande ska anges för respektive tjänst | F98: Schemalagda timmar | H98: Ej schemalagda timmar (option) | J98: Kort beskrivning av tjänst eller referera till bilaga | Q98: Vid behov specificera tjänster, annan information eller hänvisa till bilaga. | U98: Enhet | V98: Schemalagda timmar (exkl OB) | W98: Ej schemalagda timmar (exkl OB) | Y98: Beräknat pris per månad (OB-ersättning enligt kollektivavtal kan tillkomma)
B99: Ordningsvakter | D99: Beräknat antal timmar per månad. | F99: Antal timmar/månad | U99: Timmar | V99: =IF(F100="","",F100) | W99: =IF(H100="","",H100) | Y99: =IFERROR((V101+W101),0) -> 0
U100: Timpris
U101: Summa | V101: =IFERROR(IF(V100*V99=0,0,V100*V99),0) -> 0 | W101: =IFERROR(IF(W100*W99=0,0,W100*W99),0) -> 0
B103: Tilläggstjänst | C103: Ange om tjänsten ingår i avropet (Ja/Nej) | D103: Följande ska anges för respektive tjänst | F103: Schemalagda timmar | H103: Ej schemalagda timmar (option) | J103: Kort beskrivning av tjänst eller referera till bilaga | Q103: Vid behov specificera tjänster, annan information eller hänvisa till bilaga. | U103: Enhet | V103: Schemalagda timmar (exkl OB) | W103: Ej schemalagda timmar (exkl OB) | Y103: Beräknat pris per månad (OB-ersättning enligt kollektivavtal kan tillkomma)
B104: Skyddsvakter | D104: Beräknat antal timmar per månad. | F104: Antal timmar/månad | U104: Timmar | V104: =IF(F105="","",F105) | W104: =IF(H105="","",H105) | Y104: =IFERROR(SUM(V106:W106),0) -> 0
U105: Timpris
U106: Summa | V106: =IFERROR(IF(V105*V104=0,0,V105*V104),0) -> 0 | W106: =IFERROR(IF(W105*W104=0,0,W105*W104),0) -> 0
B108: Tilläggstjänst | C108: Ange om tjänsten ingår i avropet (Ja/Nej) | D108: Följande ska anges för respektive tjänst | F108: Schemalagda timmar | H108: Ej schemalagda timmar (option) | J108: Kort beskrivning av tjänst eller referera till bilaga | Q108: Vid behov specificera tjänster, annan information eller hänvisa till bilaga. | U108: Enhet | V108: Schemalagda timmar (exkl OB) | W108: Ej schemalagda timmar (exkl OB) | Y108: Beräknat pris per månad (OB-ersättning enligt kollektivavtal kan tillkomma)
B109: Bevakning av enskild person för dennes skydd | D109: Beräknat antal timmar per månad. | F109: Antal timmar/månad | U109: Timmar | V109: =IF(F110="","",F110) | W109: =IF(H110="","",H110) | Y109: =IFERROR(SUM(V111:W111),0) -> 0
U110: Timpris
U111: Summa | V111: =IFERROR(IF(V110*V109=0,0,V110*V109),0) -> 0 | W111: =IFERROR(IF(W110*W109=0,0,W110*W109),0) -> 0
B113: Tilläggstjänst | C113: Ange om tjänsten ingår i avropet (Ja/Nej) | D113: Följande ska anges för respektive tjänst | F113: Schemalagda timmar | H113: Ej schemalagda timmar (option) | J113: Kort beskrivning av tjänst eller referera till bilaga | Q113: Vid behov specificera tjänster, annan information eller hänvisa till bilaga. | U113: Enhet | V113: Schemalagda timmar (exkl OB) | W113: Ej schemalagda timmar (exkl OB) | Y113: Beräknat pris per månad
B114: Rådgivning inom skydd och säkerhet | D114: Beräknat antal timmar per månad. | F114: Antal timmar/månad | U114: Timmar | V114: =IF(F115="","",F115) | W114: =IF(H115="","",H115) | Y114: =IFERROR(SUM(V116:W116),0) -> 0
U115: Timpris
U116: Summa | V116: =IFERROR(IF(V115*V114=0,0,V115*V114),0) -> 0 | W116: =IFERROR(IF(W115*W114=0,0,W115*W114),0) -> 0
B118: Tilläggstjänst | C118: Ange om tjänsten ingår i avropet (Ja/Nej) | D118: Följande ska anges för respektive tjänst | F118: Kort beskrivning av tjänst eller referera till bilaga | Q118: Vid behov specificera tjänster, annan information eller hänvisa till bilaga. | U118: Pris för utbildning | V118: Pris för utbildning | W118: Pris för utbildning | Y118: Beräknat pris per månad
B119: Säkerhetsutbildning | D119: Typ av utbildning, omfattning, antal deltagare etc. | Y119: =IFERROR(SUM(U119:W119),0) -> 0
B122: Tilläggstjänst | C122: Ange om tjänsten ingår i avropet (Ja/Nej) | D122: Följande ska anges för respektive tjänst | E122: Antal dagar per månad | F122: Välj typ av larm | H122: Kort beskrivning av tjänst eller referera till bilaga | Q122: Vid behov specificera tjänster, annan information eller hänvisa till bilaga. | W122: Pris per månad | Y122: Beräknat pris per månad | AL122: Följande ska anges för respektive tjänst
B123: Tillhandahållande av mobilt larm | D123: Typ av mobilt larm, antal abonnemang, antal dagar per månad | U123: Pris inbrottslarm | Y123: =IFERROR(IF(F123="Inbrottslarm",W123,W124),0) -> 0 | AL123: Typ av mobilt larm, antal abonnemang, antal dagar per månad
U124: Pris personlarm
B126: Tilläggstjänst | C126: Ange om tjänsten ingår i avropet (Ja/Nej) | D126: Följande ska anges för respektive tjänst | F126: Kort beskrivning av tjänst eller referera till bilaga | Q126: Vid behov specificera tjänster, annan information eller hänvisa till bilaga. | W126: Pris per månad | Y126: Beräknat pris per månad (OB-ersättning enligt kollektivavtal kan tillkomma)
B127: Larmcentraltjänster | D127: Antal larmsystem. Beskriv typ av larm, överföring, sektioner etc. | Y127: =IFERROR(W127,0) -> 0
B131: Tilläggstjänst | C131: Ange om tjänsten ingår i avropet (Ja/Nej) | D131: Följande ska anges för respektive tjänst | F131: Kort beskrivning av tjänst eller referera till bilaga | Q131: Vid behov specificera tjänster, annan information eller hänvisa till bilaga. | W131: Pris per månad | Y131: Beräknat pris per månad (OB-ersättning enligt kollektivavtal kan tillkomma)
B132: Fjärrtjänster | D132: Typ av fjärrtjänster som efterfrågas. | Y132: =IFERROR(W132,0) -> 0
B135: Tilläggstjänst | C135: Ange om tjänsten ingår i avropet (Ja/Nej) | D135: Följande ska anges för respektive tjänst | F135: Kort beskrivning av tjänst eller referera till bilaga | Q135: Vid behov specificera tjänster, annan information eller hänvisa till bilaga. | W135: Pris per månad | Y135: Beräknat pris per månad (OB-ersättning enligt kollektivavtal kan tillkomma)
B136: Kundportal (rapporterings-system) | D136: Funktioner som efterfrågas. | Y136: =IFERROR(W136,0) -> 0
B139: Tilläggstjänst | C139: Ange om tjänsten ingår i avropet (Ja/Nej) | D139: Följande ska anges för respektive tjänst | F139: Schemalagda timmar | H139: Ej schemalagda timmar (option) | J139: Kort beskrivning av tjänst eller referera till bilaga | Q139: Vid behov specificera tjänster, annan information eller hänvisa till bilaga. | U139: Enhet | V139: Schemalagda timmar (exkl OB) | W139: Ej schemalagda timmar (exkl OB) | Y139: Beräknat pris per månad (OB-ersättning enligt kollektivavtal kan tillkomma)
B140: Arrestantbevakning | D140: Beräknat antal timmar per månad. | F140: Antal timmar/månad | U140: Timmar | V140: =IF(F141="","",F141) | W140: =IF(H141="","",H141) | Y140: =IFERROR(SUM(V142:W142),0) -> 0
U141: Timpris
U142: Summa | V142: =IFERROR(IF(V141*V140=0,0,V141*V140),0) -> 0 | W142: =IFERROR(IF(W141*W140=0,0,W141*W140),0) -> 0
B144: Tilläggstjänst | C144: Ange om tjänsten ingår i avropet (Ja/Nej) | D144: Följande ska anges för respektive tjänst | F144: Schemalagda timmar | H144: Ej schemalagda timmar (option) | J144: Kort beskrivning av tjänst eller referera till bilaga | Q144: Vid behov specificera tjänster, annan information eller hänvisa till bilaga. | U144: Enhet | V144: Schemalagda timmar (exkl OB) | W144: Ej schemalagda timmar (exkl OB) | Y144: Beräknat pris per månad (OB-ersättning enligt kollektivavtal kan tillkomma)
B145: Värdetransporter | D145: Beräknat antal timmar per månad. | F145: Antal timmar/månad | U145: Timmar | V145: =IF(F146="","",F146) | W145: =IF(H146="","",H146) | Y145: =IFERROR(SUM(V147:W147),0) -> 0
U146: Timpris
U147: Summa | V147: =IFERROR(IF(V146*V145=0,0,V146*V145),0) -> 0 | W147: =IFERROR(IF(W146*W145=0,0,W146*W145),0) -> 0
B149: Tilläggstjänst | C149: Ange om tjänsten ingår i avropet (Ja/Nej) | D149: Följande ska anges för respektive tjänst | F149: Schemalagda timmar | H149: Ej schemalagda timmar (option) | J149: Kort beskrivning av tjänst eller referera till bilaga | Q149: Vid behov specificera tjänster, annan information eller hänvisa till bilaga. | U149: Enhet | V149: Schemalagda timmar (exkl OB) | W149: Ej schemalagda timmar (exkl OB) | Y149: Beräknat pris per månad (OB-ersättning enligt kollektivavtal kan tillkomma)
B150: Luftfartsskydd | D150: Beräknat antal timmar per månad. | F150: Antal timmar/månad | U150: Timmar | V150: =IF(F151="","",F151) | W150: =IF(H151="","",H151) | Y150: =IFERROR(SUM(V152:W152),0) -> 0
U151: Timpris
U152: Summa | V152: =IFERROR(IF(V151*V150=0,0,V151*V150),0) -> 0 | W152: =IFERROR(IF(W151*W150=0,0,W151*W150),0) -> 0
B154: Tilläggstjänst | C154: Ange om tjänsten ingår i avropet (Ja/Nej) | D154: Följande ska anges för respektive tjänst | F154: Schemalagda timmar | H154: Ej schemalagda timmar (option) | J154: Kort beskrivning av tjänst eller referera till bilaga | Q154: Vid behov specificera tjänster, annan information eller hänvisa till bilaga. | U154: Enhet | V154: Schemalagda timmar (exkl OB) | W154: Ej schemalagda timmar (exkl OB) | Y154: Beräknat pris per månad (OB-ersättning enligt kollektivavtal kan tillkomma)
B155: Sjöfartsskydd | D155: Beräknat antal timmar per månad. | F155: Antal timmar/månad | U155: Timmar | V155: =IF(F156="","",F156) | W155: =IF(H156="","",H156) | Y155: =IFERROR(SUM(V157:W157),0) -> 0
U156: Timpris
U157: Summa | V157: =IFERROR(IF(V156*V155=0,0,V156*V155),0) -> 0 | W157: =IFERROR(IF(W156*W155=0,0,W156*W155),0) -> 0
B159: Tilläggstjänst | C159: Ange om tjänsten ingår i avropet (Ja/Nej) | D159: Följande ska anges för respektive tjänst | F159: Schemalagda timmar | H159: Ej schemalagda timmar (option) | J159: Kort beskrivning av tjänst eller referera till bilaga | Q159: Vid behov specificera tjänster, annan information eller hänvisa till bilaga. | U159: Enhet | V159: Schemalagda timmar (exkl OB) | W159: Ej schemalagda timmar (exkl OB) | Y159: Beräknat pris per månad (OB-ersättning enligt kollektivavtal kan tillkomma)
B160: Hamnskydd | D160: Beräknat antal timmar per månad. | F160: Antal timmar/månad | U160: Timmar | V160: =IF(F161="","",F161) | W160: =IF(H161="","",H161) | Y160: =IFERROR(SUM(V162:W162),0) -> 0
...

Sheet 1 Spec. - 2. Relativ viktning
B1: =IF(Information!D13="","Om ingen text finns - välj utvärderingsmodell i fliken ""Information""","") -> Om ingen text finns - välj utvärderingsmodell i fliken "Information"
O2: ="Avrop nr: "&B15 -> Avrop nr: | W2: ="Avrop nr: "&B15 -> Avrop nr:
B3: Avropsförfrågan | P3: Avropssvar | AH3: =OR(AH4:AH974) -> TRUE
B4: Instruktion till avropande organisation: Spara ned blanketten på din dator. Gulmarkerade rutor fylls i av avropare innan blanketten skickas. Blanketten skickas med e-post till antagna leverantörer inom aktuellt avropsområde. Se vidare "Vägledning vid avrop". | J4: Ramavtalsområde | P4: Instruktion till leverantör: Blåmarkerade rutor fylls i av leverantören. Läs och kontrollera obligatoriska krav. Returnera blanketten med e-post till avropande organisation (oavsett Ja eller Nej). Mer information finns under vissa rubriker
J5: ='1 Spec. - 1. Lägsta pris'!J5 -> Bevakningstjänster och larmcentraltjänster
B6: Steg 1 - Administrativa uppgifter | J6: Avrop med förnyad konkurrensutsättning Kammarkollegiets diarienr.
B7: Uppgifter om avropande organisation | P7: Uppgifter om Ramavtalsleverantören
B8: Myndighet/Organisation (namn) | H8: Organisationsnummer | J8: ='1 Spec. - 1. Lägsta pris'!J8 -> 23.3-2611-2022 | P8: Ramavtalsleverantörens namn | V8: Organisationsnummer
J9: Avropsblankett
B10: Postadress | E10: Postnummer | H10: Ort | J10: ='1 Spec. - 1. Lägsta pris'!J10 -> Version 3,15 | P10: Kontaktperson | T10: E-post
B12: Avdelning, enhet etc | E12: Kontaktperson | H12: Telefon | P12: Postadress | T12: Postnummer | V12: Ort
B14: Referens/diarienr för avropet | E14: E-post | P14: Telefon | T14: Offertnummer el likn för detta avropssvar
P16: Avropssvar lämnas Ja/Nej | S16: Om Nej, motivering
AH17: =IF(AND(P17=0,P17<>"Ja"),TRUE,FALSE) -> TRUE
B19: Förnyad kontroll av leverantörskrav (ESPD) | P19: Leverantörskrav (ESPD) - Ramavtalsleverantörens intygande
B20: Av 15 kap. 1 samt 4 §§ LOU framgår att ramavtalsleverantören ska lämna en ny egenförsäkran samt att en ny kontroll av kvalificeringskrav och uteslutningsgrunder ska genomföras vid avrop genom förnyad konkurrensutsättning. Kammarkollegiet ansvarar för denna kontrollskyldighet genom att löpande genomföra leverantörsprövning under hela ramavtalsperioden. Kontrollskyldigheten bör också hanteras så att ramavtalsleverantören i sitt avropssvar bekräftar att i ramavtalsupphandlingen lämnad egenförsäkran fortfarande är korrekt, samt att ingivna bevis fortfarande är aktuella. Avropande myndighet kan själv begära in ett eller flera bevis enligt punkten 2 till höger. | P20: Genom att lämna avropssvar, bekräftar ramavtalsleverantören följande: 1. Att i ramavtalsupphandlingen lämnad egenförsäkran fortfarande är korrekt. 2. Att i ramavtalsupphandlingen ingivna bevis, såsom Sanningsförsäkran avseende uteslutningsgrunder (gällande leverantören och ev. åberopade företag) fortfarande aktuella. 3. Att ramavtalsleverantören har säkerställt att ev. åberopade företag inte omfattas av någon uteslutningsgrund. Med "åberopat företag" avses specifikt en underleverantör som har åberopats i ramavtalsupphandlingen för att uppfylla krav på ekonomisk, teknisk och yrkesmässig kapacitet”.
P26: Uppgift om underleverantörer (i förekommande fall)
B27: Information om avropet, t ex syfte och omfattning | P27: Redogör för vilka underleverantör/er inkl. org. nr. som kommer att medverka till fullgörandet av kontraktet samt vilka delar underleverantörerna fullgör. Med Underleverantör avses en juridisk eller fysisk person som Ramavtalsleverantören anlitar för att fullgöra hela eller delar av det åtagande som följer av Ramavtalet och Kontrakt.
B30: Sista dag för att ställa frågor | D30: Sista dag för svar på frågor | G30: E-post för frågor (om annan än ovan)
B33: Sista dag för avropssvar | D33: Avropssvarets giltighetstid | G33: Avtalsspärr efter tilldelningsbeslut
G34: Avtalsspärr kommer att iakttas?
B36: Kontraktets giltighetstid (t.o.m. datum) | D36: Förlängningsoption (t.o.m. datum)
B39: Ange geografiskt område
B40: Delområde 1
B42: Ange aktuella län för avropet. Markera med ett "X" i de gula fälten bredvid respektive län.
B43: =Admin!J56 -> Flerregionalt
B44: =Admin!J57 -> Blekinge län
B45: =Admin!J58 -> Dalarnas län
B46: =Admin!J59 -> Gotlands län
B47: =Admin!J60 -> Gävleborgs län
B48: =Admin!J61 -> Hallands län
B49: =Admin!J62 -> Jämtlands län
B50: =Admin!J63 -> Jönköpings län
B51: =Admin!J64 -> Kalmar län
B52: =Admin!J65 -> Kronobergs län
B53: =Admin!J66 -> Norrbottens län
B54: =Admin!J67 -> Skånes län
... B64: =Admin!J77 -> Östergötlands lön
B66: Sammanställning - val av län | C66: =Admin!$S$26
B69: Ange varu/tjänsteområde
B70: Välj vara/tjänst
B72: Steg 2 - Specifikation av varor/tjänster
B74: Standardtjänster | F74: Ordinarie bevakning | H74: Extra bevakning | Q74: Leverantörens svar
B75: Tjänst | C75: Ange om tjänsten ingår i avropet (Ja/Nej) | D75: Följande ska anges för respektive tjänst | F75: Schemalagda timmar | H75: Ej schemalagda timmar (option) | J75: Kort beskrivning av tjänst eller referera till bilaga Ange tider för rondering | Q75: Vid behov specificera tjänster, annan information eller hänvisa till bilaga. | U75: Enhet | V75: Schemalagda timmar (exkl OB) | W75: Ej schemalagda timmar (exkl OB) | Y75: Beräknat pris per månad (OB-ersättning enligt kollektivavtal kan tillkomma)
B76: Ronderande bevakning | D76: Beräknat antal timmar och ronder per månad | F76: Antal timmar / månad | U76: Timmar | V76: =IF(F77="","",F77) | W76: =IF(H77="","",H77) | Y76: =IFERROR((V78+W78)+(W79*F79)+(W79*H79),0) -> 0 | AN76: =C76="Ja" -> FALSE
U77: Timpris | AN77: =AN76 -> FALSE
F78: Antal ronder / månad (1 / dag = 30,44 enligt schablon, ange annan frekvens om aktuellt) | U78: Summa | V78: =IFERROR(IF(V77*V76=0,0,V77*V76),0) -> 0 | W78: =IFERROR(IF(W77*W76=0,0,W77*W76),0) -> 0 | AN78: =AN77 -> FALSE
F79: 30.44 | U79: Pris framkörning per rond: | AN79: =AN78 -> FALSE
B81: Tjänst | C81: Ange om tjänsten ingår i avropet (Ja/Nej) | D81: Följande ska anges för respektive tjänst | F81: Schemalagda timmar | H81: Ej schemalagda timmar (option) | J81: Kort beskrivning av tjänst eller referera till bilaga | Q81: Vid behov specificera tjänster, annan information eller hänvisa till bilaga. | U81: Enhet | V81: Schemalagda timmar (exkl OB) | W81: Ej schemalagda timmar (exkl OB) | Y81: Beräknat pris per månad (OB-ersättning enligt kollektivavtal kan tillkomma)
B82: Stationär bevakning | D82: Beräknat antal timmar per månad | F82: Antal timmar / månad | U82: Timmar | V82: =IF(F83="","",F83) | W82: =IF(H83="","",H83) | Y82: =IFERROR((V84+W84),0) -> 0 | AN82: =C82="Ja" -> FALSE
U83: Timpris | AN83: =AN82 -> FALSE
U84: Summa | V84: =IFERROR(IF(V83*V82=0,0,V83*V82),0) -> 0 | W84: =IFERROR(IF(W83*W82=0,0,W83*W82),0) -> 0 | AN84: =AN83 -> FALSE
B87: Tjänst | C87: Ange om tjänsten ingår i avropet (Ja/Nej) | D87: Följande ska anges för respektive tjänst | F87: Antal utryckningar/ månad | H87: Ryck ska ske med x antal väktare (välj i lista): | J87: Kort beskrivning av tjänst eller referera till bilaga | Q87: Vid behov specificera tjänster, annan information eller hänvisa till bilaga. | W87: Pris per utryckning en väktare (1) | X87: Pris per utryckning flera väktare (2) | Y87: Beräknat pris per månad (OB-ersättning enligt kollektivavtal kan tillkomma)
B88: Larmutryckning | D88: Beräknat antal utryckningar per månad. Utryckning med en eller flera väktare. | Y88: =IFERROR(IF($H$88=1,W88*F88,X88*F88),0) -> 0 | AN88: =C88="Ja" -> FALSE
AN89: =AN88 -> FALSE
AN90: =AN89 -> FALSE
B97: Tilläggstjänster | F97: Ordinarie bevakning | H97: Extra bevakning
B98: Tilläggstjänst | C98: Ange om tjänsten ingår i avropet (Ja/Nej) | D98: Följande ska anges för respektive tjänst | F98: Schemalagda timmar | H98: Ej schemalagda timmar (option) | J98: Kort beskrivning av tjänst eller referera till bilaga | Q98: Vid behov specificera tjänster, annan information eller hänvisa till bilaga. | U98: Enhet | V98: Schemalagda timmar (exkl OB) | W98: Ej schemalagda timmar (exkl OB) | Y98: Beräknat pris per månad (OB-ersättning enligt kollektivavtal kan tillkomma)
B99: Ordningsvakter | D99: Beräknat antal timmar per månad. | F99: Antal timmar/månad | U99: Timmar | V99: =IF(F100="","",F100) | W99: =IF(H100="","",H100) | Y99: =IFERROR((V101+W101),0) -> 0 | AN99: =C99="Ja" -> FALSE
U100: Timpris | AN100: =AN99 -> FALSE
U101: Summa | V101: =IFERROR(IF(V100*V99=0,0,V100*V99),0) -> 0 | W101: =IFERROR(IF(W100*W99=0,0,W100*W99),0) -> 0 | AN101: =AN100 -> FALSE
B103: Tilläggstjänst | C103: Ange om tjänsten ingår i avropet (Ja/Nej) | D103: Följande ska anges för respektive tjänst | F103: Schemalagda timmar | H103: Ej schemalagda timmar (option) | J103: Kort beskrivning av tjänst eller referera till bilaga | Q103: Vid behov specificera tjänster, annan information eller hänvisa till bilaga. | U103: Enhet | V103: Schemalagda timmar (exkl OB) | W103: Ej schemalagda timmar (exkl OB) | Y103: Beräknat pris per månad (OB-ersättning enligt kollektivavtal kan tillkomma)
B104: Skyddsvakter | D104: Beräknat antal timmar per månad. | F104: Antal timmar/månad | U104: Timmar | V104: =IF(F105="","",F105) | W104: =IF(H105="","",H105) | Y104: =IFERROR(SUM(V106:W106),0) -> 0 | AN104: =C104="Ja" -> FALSE
U105: Timpris | AN105: =AN104 -> FALSE
U106: Summa | V106: =IFERROR(IF(V105*V104=0,0,V105*V104),0) -> 0 | W106: =IFERROR(IF(W105*W104=0,0,W105*W104),0) -> 0 | AN106: =AN105 -> FALSE
B108: Tilläggstjänst | C108: Ange om tjänsten ingår i avropet (Ja/Nej) | D108: Följande ska anges för respektive tjänst | F108: Schemalagda timmar | H108: Ej schemalagda timmar (option) | J108: Kort beskrivning av tjänst eller referera till bilaga | Q108: Vid behov specificera tjänster, annan information eller hänvisa till bilaga. | U108: Enhet | V108: Schemalagda timmar (exkl OB) | W108: Ej schemalagda timmar (exkl OB) | Y108: Beräknat pris per månad (OB-ersättning enligt kollektivavtal kan tillkomma)
B109: Bevakning av enskild person för dennes skydd | D109: Beräknat antal timmar per månad. | F109: Antal timmar/månad | U109: Timmar | V109: =IF(F110="","",F110) | W109: =IF(H110="","",H110) | Y109: =IFERROR(SUM(V111:W111),0) -> 0 | AN109: =C109="Ja" -> FALSE
U110: Timpris | AN110: =AN109 -> FALSE
U111: Summa | V111: =IFERROR(IF(V110*V109=0,0,V110*V109),0) -> 0 | W111: =IFERROR(IF(W110*W109=0,0,W110*W109),0) -> 0 | AN111: =AN110 -> FALSE
B113: Tilläggstjänst | C113: Ange om tjänsten ingår i avropet (Ja/Nej) | D113: Följande ska anges för respektive tjänst | F113: Schemalagda timmar | H113: Ej schemalagda timmar (option) | J113: Kort beskrivning av tjänst eller referera till bilaga | Q113: Vid behov specificera tjänster, annan information eller hänvisa till bilaga. | U113: Enhet | V113: Schemalagda timmar (exkl OB) | W113: Ej schemalagda timmar (exkl OB) | Y113: Beräknat pris per månad
B114: Rådgivning inom skydd och säkerhet | D114: Beräknat antal timmar per månad. | F114: Antal timmar/månad | U114: Timmar | V114: =IF(F115="","",F115) | W114: =IF(H115="","",H115) | Y114: =IFERROR(SUM(V116:W116),0) -> 0 | AN114: =C114="Ja" -> FALSE
U115: Timpris | AN115: =AN114 -> FALSE
U116: Summa | V116: =IFERROR(IF(V115*V114=0,0,V115*V114),0) -> 0 | W116: =IFERROR(IF(W115*W114=0,0,W115*W114),0) -> 0 | AN116: =AN115 -> FALSE
B118: Tilläggstjänst | C118: Ange om tjänsten ingår i avropet (Ja/Nej) | D118: Följande ska anges för respektive tjänst | F118: Kort beskrivning av tjänst eller referera till bilaga | Q118: Vid behov specificera tjänster, annan information eller hänvisa till bilaga. | U118: Pris för utbildning | V118: Pris för utbildning | W118: Pris för utbildning | Y118: Beräknat pris per månad
B119: Säkerhetsutbildning | D119: Typ av utbildning, omfattning, antal deltagare etc. | Y119: =IFERROR(SUM(U119:W119),0) -> 0 | AN119: =C119="Ja" -> FALSE
AN120: =AN119 -> FALSE
B122: Tilläggstjänst | C122: Ange om tjänsten ingår i avropet (Ja/Nej) | D122: Följande ska anges för respektive tjänst | E122: Antal dagar per månad | F122: Välj typ av larm | H122: Kort beskrivning av tjänst eller referera till bilaga | Q122: Vid behov specificera tjänster, annan information eller hänvisa till bilaga. | W122: Pris per månad | Y122: Beräknat pris per månad | AL122: Följande ska anges för respektive tjänst
B123: Tillhandahållande av mobilt larm | D123: Typ av mobilt larm, antal abonnemang, antal dagar per månad | U123: Pris inbrottslarm | Y123: =IFERROR(IF(F123="Inbrottslarm",W123,W124),0) -> 0 | AL123: Typ av mobilt larm, antal abonnemang, antal dagar per månad | AN123: =C123="Ja" -> FALSE
U124: Pris personlarm | AN124: =AN123 -> FALSE
B126: Tilläggstjänst | C126: Ange om tjänsten ingår i avropet (Ja/Nej) | D126: Följande ska anges för respektive tjänst | F126: Kort beskrivning av tjänst eller referera till bilaga | Q126: Vid behov specificera tjänster, annan information eller hänvisa till bilaga. | W126: Pris per månad | Y126: Beräknat pris per månad (OB-ersättning enligt kollektivavtal kan tillkomma)
B127: Larmcentraltjänster | D127: Antal larmsystem. Beskriv typ av larm, överföring, sektioner etc. | Y127: =IFERROR(W127,0) -> 0 | AN127: =C127="Ja" -> FALSE
AN128: =AN127 -> FALSE
B131: Tilläggstjänst | C131: Ange om tjänsten ingår i avropet (Ja/Nej) | D131: Följande ska anges för respektive tjänst | F131: Kort beskrivning av tjänst eller referera till bilaga | Q131: Vid behov specificera tjänster, annan information eller hänvisa till bilaga. | W131: Pris per månad | Y131: Beräknat pris per månad (OB-ersättning enligt kollektivavtal kan tillkomma)
B132: Fjärrtjänster | D132: Typ av fjärrtjänster som efterfrågas. | Y132: =IFERROR(W132,0) -> 0 | AN132: =C132="Ja" -> FALSE
AN133: =AN132 -> FALSE
B135: Tilläggstjänst | C135: Ange om tjänsten ingår i avropet (Ja/Nej) | D135: Följande ska anges för respektive tjänst | F135: Kort beskrivning av tjänst eller referera till bilaga | Q135: Vid behov specificera tjänster, annan information eller hänvisa till bilaga. | W135: Pris per månad | Y135: Beräknat pris per månad (OB-ersättning enligt kollektivavtal kan tillkomma)
B136: Kundportal (rapporterings-system) | D136: Funktioner som efterfrågas. | Y136: =IFERROR(W136,0) -> 0 | AN136: =C136="Ja" -> FALSE
AN137: =AN136 -> FALSE
B139: Tilläggstjänst | C139: Ange om tjänsten ingår i avropet (Ja/Nej) | D139: Följande ska anges för respektive tjänst | F139: Schemalagda timmar | H139: Ej schemalagda timmar (option) | J139: Kort beskrivning av tjänst eller referera till bilaga | Q139: Vid behov specificera tjänster, annan information eller hänvisa till bilaga. | U139: Enhet | V139: Schemalagda timmar (exkl OB) | W139: Ej schemalagda timmar (exkl OB) | Y139: Beräknat pris per månad (OB-ersättning enligt kollektivavtal kan tillkomma)
B140: Arrestantbevakning | D140: Beräknat antal timmar per månad. | F140: Antal timmar/månad | U140: Timmar | V140: =IF(F141="","",F141) | W140: =IF(H141="","",H141) | Y140: =IFERROR(SUM(V142:W142),0) -> 0 | AN140: =C140="Ja" -> FALSE
U141: Timpris | AN141: =AN140 -> FALSE
U142: Summa | V142: =IFERROR(IF(V141*V140=0,0,V141*V140),0) -> 0 | W142: =IFERROR(IF(W141*W140=0,0,W141*W140),0) -> 0 | AN142: =AN141 -> FALSE
B144: Tilläggstjänst | C144: Ange om tjänsten ingår i avropet (Ja/Nej) | D144: Följande ska anges för respektive tjänst | F144: Schemalagda timmar | H144: Ej schemalagda timmar (option) | J144: Kort beskrivning av tjänst eller referera till bilaga | Q144: Vid behov specificera tjänster, annan information eller hänvisa till bilaga. | U144: Enhet | V144: Schemalagda timmar (exkl OB) | W144: Ej schemalagda timmar (exkl OB) | Y144: Beräknat pris per månad (OB-ersättning enligt kollektivavtal kan tillkomma)
B145: Värdetransporter | D145: Beräknat antal timmar per månad. | F145: Antal timmar/månad | U145: Timmar | V145: =IF(F146="","",F146) | W145: =IF(H146="","",H146) | Y145: =IFERROR(SUM(V147:W147),0) -> 0 | AN145: =C145="Ja" -> FALSE
U146: Timpris | AN146: =AN145 -> FALSE
U147: Summa | V147: =IFERROR(IF(V146*V145=0,0,V146*V145),0) -> 0 | W147: =IFERROR(IF(W146*W145=0,0,W146*W145),0) -> 0 | AN147: =AN146 -> FALSE
B149: Tilläggstjänst | C149: Ange om tjänsten ingår i avropet (Ja/Nej) | D149: Följande ska anges för respektive tjänst | F149: Schemalagda timmar | H149: Ej schemalagda timmar (option) | J149: Kort beskrivning av tjänst eller referera till bilaga | Q149: Vid behov specificera tjänster, annan information eller hänvisa till bilaga. | U149: Enhet | V149: Schemalagda timmar (exkl OB) | W149: Ej schemalagda timmar (exkl OB) | Y149: Beräknat pris per månad (OB-ersättning enligt kollektivavtal kan tillkomma)
B150: Luftfartsskydd | D150: Beräknat antal timmar per månad. | F150: Antal timmar/månad | U150: Timmar | V150: =IF(F151="","",F151) | W150: =IF(H151="","",H151) | Y150: =IFERROR(SUM(V152:W152),0) -> 0 | AN150: =C150="Ja" -> FALSE
U151: Timpris | AN151: =AN150 -> FALSE
U152: Summa | V152: =IFERROR(IF(V151*V150=0,0,V151*V150),0) -> 0 | W152: =IFERROR(IF(W151*W150=0,0,W151*W150),0) -> 0 | AN152: =AN151 -> FALSE
...

Sheet 1 Spec. - 3. Mervärdesmodell
B1: =IF(Information!D14="","Om ingen text finns - välj utvärderingsmodell i fliken ""Information""","") -> Om ingen text finns - välj utvärderingsmodell i fliken "Information"
O2: ="Avrop nr: "&B15 -> Avrop nr: | W2: ="Avrop nr: "&B15 -> Avrop nr:
B3: Avropsförfrågan | P3: Avropssvar | AH3: =OR(AH4:AH971) -> TRUE
B4: Instruktion till avropande organisation: Spara ned blanketten på din dator. Gulmarkerade rutor fylls i av avropare innan blanketten skickas. Blanketten skickas med e-post till antagna leverantörer inom aktuellt avropsområde. Se vidare "Vägledning vid avrop". | J4: Ramavtalsområde | P4: Instruktion till leverantör: Blåmarkerade rutor fylls i av leverantören. Läs och kontrollera obligatoriska krav. Returnera blanketten med e-post till avropande organisation (oavsett Ja eller Nej). Mer information finns under vissa rubriker
J5: ='1 Spec. - 1. Lägsta pris'!J5 -> Bevakningstjänster och larmcentraltjänster
B6: Steg 1 - Administrativa uppgifter | J6: Avrop med förnyad konkurrensutsättning Kammarkollegiets diarienr.
B7: Uppgifter om avropande organisation | P7: Uppgifter om Ramavtalsleverantören
B8: Myndighet/Organisation (namn) | H8: Organisationsnummer | J8: ='1 Spec. - 1. Lägsta pris'!J8 -> 23.3-2611-2022 | P8: Ramavtalsleverantörens namn | V8: Organisationsnummer
J9: Avropsblankett
B10: Postadress | E10: Postnummer | H10: Ort | J10: ='1 Spec. - 1. Lägsta pris'!J10 -> Version 3,15 | P10: Kontaktperson | T10: E-post
B12: Avdelning, enhet etc | E12: Kontaktperson | H12: Telefon | P12: Postadress | T12: Postnummer | V12: Ort
B14: Referens/diarienr för avropet | E14: E-post | P14: Telefon | T14: Offertnummer el likn för detta avropssvar
P16: Avropssvar lämnas Ja/Nej | S16: Om Nej, motivering
AH17: =IF(AND(P17=0,P17<>"Ja"),TRUE,FALSE) -> TRUE
B19: Förnyad kontroll av leverantörskrav (ESPD) | P19: Leverantörskrav (ESPD) - Ramavtalsleverantörens intygande
B20: Av 15 kap. 1 samt 4 §§ LOU framgår att ramavtalsleverantören ska lämna en ny egenförsäkran samt att en ny kontroll av kvalificeringskrav och uteslutningsgrunder ska genomföras vid avrop genom förnyad konkurrensutsättning. Kammarkollegiet ansvarar för denna kontrollskyldighet genom att löpande genomföra leverantörsprövning under hela ramavtalsperioden. Kontrollskyldigheten bör också hanteras så att ramavtalsleverantören i sitt avropssvar bekräftar att i ramavtalsupphandlingen lämnad egenförsäkran fortfarande är korrekt, samt att ingivna bevis fortfarande är aktuella. Avropande myndighet kan själv begära in ett eller flera bevis enligt punkten 2 till höger. | P20: Genom att lämna avropssvar, bekräftar ramavtalsleverantören följande: 1. Att i ramavtalsupphandlingen lämnad egenförsäkran fortfarande är korrekt. 2. Att i ramavtalsupphandlingen ingivna bevis, såsom Sanningsförsäkran avseende uteslutningsgrunder (gällande leverantören och ev. åberopade företag) fortfarande aktuella. 3. Att ramavtalsleverantören har säkerställt att ev. åberopade företag inte omfattas av någon uteslutningsgrund. Med "åberopat företag" avses specifikt en underleverantör som har åberopats i ramavtalsupphandlingen för att uppfylla krav på ekonomisk, teknisk och yrkesmässig kapacitet”.
P26: Uppgift om underleverantörer (i förekommande fall)
B27: Information om avropet, t ex syfte och omfattning | P27: Redogör för vilka underleverantör/er inkl. org. nr. som kommer att medverka till fullgörandet av kontraktet samt vilka delar underleverantörerna fullgör. Med Underleverantör avses en juridisk eller fysisk person som Ramavtalsleverantören anlitar för att fullgöra hela eller delar av det åtagande som följer av Ramavtalet och Kontrakt.
B30: Sista dag för att ställa frågor | D30: Sista dag för svar på frågor | G30: E-post för frågor (om annan än ovan)
B33: Sista dag för avropssvar | D33: Avropssvarets giltighetstid | G33: Avtalsspärr efter tilldelningsbeslut
G34: Avtalsspärr kommer att iakttas?
B36: Kontraktets giltighetstid (t.o.m. datum) | D36: Förlängningsoption (t.o.m. datum)
B39: Ange geografiskt område
B40: Delområde 1
B42: Ange aktuella län för avropet. Markera med ett "X" i de gula fälten bredvid respektive län.
B43: =Admin!J56 -> Flerregionalt
B44: =Admin!J57 -> Blekinge län
B45: =Admin!J58 -> Dalarnas län
B46: =Admin!J59 -> Gotlands län
B47: =Admin!J60 -> Gävleborgs län
B48: =Admin!J61 -> Hallands län
B49: =Admin!J62 -> Jämtlands län
B50: =Admin!J63 -> Jönköpings län
B51: =Admin!J64 -> Kalmar län
B52: =Admin!J65 -> Kronobergs län
B53: =Admin!J66 -> Norrbottens län
B54: =Admin!J67 -> Skånes län
... B64: =Admin!J77 -> Östergötlands lön
B66: Sammanställning - val av län | C66: =Admin!$X$26
B69: Ange varu/tjänsteområde
B70: Välj vara/tjänst
B72: Steg 2 - Specifikation av varor/tjänster
B74: Standardtjänster | F74: Ordinarie bevakning | H74: Extra bevakning | Q74: Leverantörens svar
B75: Tjänst | C75: Ange om tjänsten ingår i avropet (Ja/Nej) | D75: Följande ska anges för respektive tjänst | F75: Schemalagda timmar | H75: Ej schemalagda timmar (option) | J75: Kort beskrivning av tjänst eller referera till bilaga Ange tider för rondering | Q75: Vid behov specificera tjänster, annan information eller hänvisa till bilaga. | U75: Enhet | V75: Schemalagda timmar (exkl OB) | W75: Ej schemalagda timmar (exkl OB) | Y75: Beräknat pris per månad (OB-ersättning enligt kollektivavtal kan tillkomma)
B76: Ronderande bevakning | D76: Beräknat antal timmar och ronder per månad | F76: Antal timmar / månad | U76: Timmar | V76: =IF(F77="","",F77) | W76: =IF(H77="","",H77) | Y76: =IFERROR((V78+W78)+(W79*F79)+(W79*H79),0) -> 0 | AN76: =C76="Ja" -> FALSE
U77: Timpris | AN77: =AN76 -> FALSE
F78: Antal ronder / månad (1 / dag = 30,44 enligt schablon, ange annan frekvens om aktuellt) | U78: Summa | V78: =IFERROR(IF(V77*V76=0,0,V77*V76),0) -> 0 | W78: =IFERROR(IF(W77*W76=0,0,W77*W76),0) -> 0 | AN78: =AN77 -> FALSE
F79: 30.44 | U79: Pris framkörning per rond: | AN79: =AN78 -> FALSE
B81: Tjänst | C81: Ange om tjänsten ingår i avropet (Ja/Nej) | D81: Följande ska anges för respektive tjänst | F81: Schemalagda timmar | H81: Ej schemalagda timmar (option) | J81: Kort beskrivning av tjänst eller referera till bilaga | Q81: Vid behov specificera tjänster, annan information eller hänvisa till bilaga. | U81: Enhet | V81: Schemalagda timmar (exkl OB) | W81: Ej schemalagda timmar (exkl OB) | Y81: Beräknat pris per månad (OB-ersättning enligt kollektivavtal kan tillkomma)
B82: Stationär bevakning | D82: Beräknat antal timmar per månad | F82: Antal timmar / månad | U82: Timmar | V82: =IF(F83="","",F83) | W82: =IF(H83="","",H83) | Y82: =IFERROR((V84+W84),0) -> 0 | AN82: =C82="Ja" -> FALSE
U83: Timpris | AN83: =AN82 -> FALSE
U84: Summa | V84: =IFERROR(IF(V83*V82=0,0,V83*V82),0) -> 0 | W84: =IFERROR(IF(W83*W82=0,0,W83*W82),0) -> 0 | AN84: =AN83 -> FALSE
B87: Tjänst | C87: Ange om tjänsten ingår i avropet (Ja/Nej) | D87: Följande ska anges för respektive tjänst | F87: Antal utryckningar/ månad | H87: Ryck ska ske med x antal väktare (välj i lista): | J87: Kort beskrivning av tjänst eller referera till bilaga | Q87: Vid behov specificera tjänster, annan information eller hänvisa till bilaga. | W87: Pris per utryckning en väktare (1) | X87: Pris per utryckning flera väktare (2) | Y87: Beräknat pris per månad (OB-ersättning enligt kollektivavtal kan tillkomma)
B88: Larmutryckning | D88: Beräknat antal utryckningar per månad. Utryckning med en eller flera väktare. | Y88: =IFERROR(IF($H$88=1,W88*F88,X88*F88),0) -> 0 | AN88: =C88="Ja" -> FALSE
AN89: =AN88 -> FALSE
AN90: =AN89 -> FALSE
B97: Tilläggstjänster | F97: Ordinarie bevakning | H97: Extra bevakning
B98: Tilläggstjänst | C98: Ange om tjänsten ingår i avropet (Ja/Nej) | D98: Följande ska anges för respektive tjänst | F98: Schemalagda timmar | H98: Ej schemalagda timmar (option) | J98: Kort beskrivning av tjänst eller referera till bilaga | Q98: Vid behov specificera tjänster, annan information eller hänvisa till bilaga. | U98: Enhet | V98: Schemalagda timmar (exkl OB) | W98: Ej schemalagda timmar (exkl OB) | Y98: Beräknat pris per månad (OB-ersättning enligt kollektivavtal kan tillkomma)
B99: Ordningsvakter | D99: Beräknat antal timmar per månad. | F99: Antal timmar/månad | U99: Timmar | V99: =IF(F100="","",F100) | W99: =IF(H100="","",H100) | Y99: =IFERROR((V101+W101),0) -> 0 | AN99: =C99="Ja" -> FALSE
U100: Timpris | AN100: =AN99 -> FALSE
U101: Summa | V101: =IFERROR(IF(V100*V99=0,0,V100*V99),0) -> 0 | W101: =IFERROR(IF(W100*W99=0,0,W100*W99),0) -> 0 | AN101: =AN100 -> FALSE
B103: Tilläggstjänst | C103: Ange om tjänsten ingår i avropet (Ja/Nej) | D103: Följande ska anges för respektive tjänst | F103: Schemalagda timmar | H103: Ej schemalagda timmar (option) | J103: Kort beskrivning av tjänst eller referera till bilaga | Q103: Vid behov specificera tjänster, annan information eller hänvisa till bilaga. | U103: Enhet | V103: Schemalagda timmar (exkl OB) | W103: Ej schemalagda timmar (exkl OB) | Y103: Beräknat pris per månad (OB-ersättning enligt kollektivavtal kan tillkomma)
B104: Skyddsvakter | D104: Beräknat antal timmar per månad. | F104: Antal timmar/månad | U104: Timmar | V104: =IF(F105="","",F105) | W104: =IF(H105="","",H105) | Y104: =IFERROR(SUM(V106:W106),0) -> 0 | AN104: =C104="Ja" -> FALSE
U105: Timpris | AN105: =AN104 -> FALSE
U106: Summa | V106: =IFERROR(IF(V105*V104=0,0,V105*V104),0) -> 0 | W106: =IFERROR(IF(W105*W104=0,0,W105*W104),0) -> 0 | AN106: =AN105 -> FALSE
B108: Tilläggstjänst | C108: Ange om tjänsten ingår i avropet (Ja/Nej) | D108: Följande ska anges för respektive tjänst | F108: Schemalagda timmar | H108: Ej schemalagda timmar (option) | J108: Kort beskrivning av tjänst eller referera till bilaga | Q108: Vid behov specificera tjänster, annan information eller hänvisa till bilaga. | U108: Enhet | V108: Schemalagda timmar (exkl OB) | W108: Ej schemalagda timmar (exkl OB) | Y108: Beräknat pris per månad (OB-ersättning enligt kollektivavtal kan tillkomma)
B109: Bevakning av enskild person för dennes skydd | D109: Beräknat antal timmar per månad. | F109: Antal timmar/månad | U109: Timmar | V109: =IF(F110="","",F110) | W109: =IF(H110="","",H110) | Y109: =IFERROR(SUM(V111:W111),0) -> 0 | AN109: =C109="Ja" -> FALSE
U110: Timpris | AN110: =AN109 -> FALSE
U111: Summa | V111: =IFERROR(IF(V110*V109=0,0,V110*V109),0) -> 0 | W111: =IFERROR(IF(W110*W109=0,0,W110*W109),0) -> 0 | AN111: =AN110 -> FALSE
B113: Tilläggstjänst | C113: Ange om tjänsten ingår i avropet (Ja/Nej) | D113: Följande ska anges för respektive tjänst | F113: Schemalagda timmar | H113: Ej schemalagda timmar (option) | J113: Kort beskrivning av tjänst eller referera till bilaga | Q113: Vid behov specificera tjänster, annan information eller hänvisa till bilaga. | U113: Enhet | V113: Schemalagda timmar (exkl OB) | W113: Ej schemalagda timmar (exkl OB) | Y113: Beräknat pris per månad
B114: Rådgivning inom skydd och säkerhet | D114: Beräknat antal timmar per månad. | F114: Antal timmar/månad | U114: Timmar | V114: =IF(F115="","",F115) | W114: =IF(H115="","",H115) | Y114: =IFERROR(SUM(V116:W116),0) -> 0 | AN114: =C114="Ja" -> FALSE
U115: Timpris | AN115: =AN114 -> FALSE
U116: Summa | V116: =IFERROR(IF(V115*V114=0,0,V115*V114),0) -> 0 | W116: =IFERROR(IF(W115*W114=0,0,W115*W114),0) -> 0 | AN116: =AN115 -> FALSE
B118: Tilläggstjänst | C118: Ange om tjänsten ingår i avropet (Ja/Nej) | D118: Följande ska anges för respektive tjänst | F118: Kort beskrivning av tjänst eller referera till bilaga | Q118: Vid behov specificera tjänster, annan information eller hänvisa till bilaga. | U118: Pris för utbildning | V118: Pris för utbildning | W118: Pris för utbildning | Y118: Beräknat pris per månad
B119: Säkerhetsutbildning | D119: Typ av utbildning, omfattning, antal deltagare etc. | Y119: =IFERROR(SUM(U119:W119),0) -> 0 | AN119: =C119="Ja" -> FALSE
AN120: =AN119 -> FALSE
B122: Tilläggstjänst | C122: Ange om tjänsten ingår i avropet (Ja/Nej) | D122: Följande ska anges för respektive tjänst | E122: Antal dagar per månad | F122: Välj typ av larm | H122: Kort beskrivning av tjänst eller referera till bilaga | Q122: Vid behov specificera tjänster, annan information eller hänvisa till bilaga. | W122: Pris per månad | Y122: Beräknat pris per månad | AL122: Följande ska anges för respektive tjänst
B123: Tillhandahållande av mobilt larm | D123: Typ av mobilt larm, antal abonnemang, antal dagar per månad | U123: Pris inbrottslarm | Y123: =IFERROR(IF(F123="Inbrottslarm",W123,W124),0) -> 0 | AL123: Typ av mobilt larm, antal abonnemang, antal dagar per månad | AN123: =C123="Ja" -> FALSE
U124: Pris personlarm | AN124: =AN123 -> FALSE
B126: Tilläggstjänst | C126: Ange om tjänsten ingår i avropet (Ja/Nej) | D126: Följande ska anges för respektive tjänst | F126: Kort beskrivning av tjänst eller referera till bilaga | Q126: Vid behov specificera tjänster, annan information eller hänvisa till bilaga. | W126: Pris per månad | Y126: Beräknat pris per månad (OB-ersättning enligt kollektivavtal kan tillkomma)
B127: Larmcentraltjänster | D127: Antal larmsystem. Beskriv typ av larm, överföring, sektioner etc. | Y127: =IFERROR(W127,0) -> 0 | AN127: =C127="Ja" -> FALSE
AN128: =AN127 -> FALSE
B131: Tilläggstjänst | C131: Ange om tjänsten ingår i avropet (Ja/Nej) | D131: Följande ska anges för respektive tjänst | F131: Kort beskrivning av tjänst eller referera till bilaga | Q131: Vid behov specificera tjänster, annan information eller hänvisa till bilaga. | W131: Pris per månad | Y131: Beräknat pris per månad (OB-ersättning enligt kollektivavtal kan tillkomma)
B132: Fjärrtjänster | D132: Typ av fjärrtjänster som efterfrågas. | Y132: =IFERROR(W132,0) -> 0 | AN132: =C132="Ja" -> FALSE
AN133: =AN132 -> FALSE
B135: Tilläggstjänst | C135: Ange om tjänsten ingår i avropet (Ja/Nej) | D135: Följande ska anges för respektive tjänst | F135: Kort beskrivning av tjänst eller referera till bilaga | Q135: Vid behov specificera tjänster, annan information eller hänvisa till bilaga. | W135: Pris per månad | Y135: Beräknat pris per månad (OB-ersättning enligt kollektivavtal kan tillkomma)
B136: Kundportal (rapporterings-system) | D136: Funktioner som efterfrågas. | Y136: =IFERROR(W136,0) -> 0 | AN136: =C136="Ja" -> FALSE
AN137: =AN136 -> FALSE
B139: Tilläggstjänst | C139: Ange om tjänsten ingår i avropet (Ja/Nej) | D139: Följande ska anges för respektive tjänst | F139: Schemalagda timmar | H139: Ej schemalagda timmar (option) | J139: Kort beskrivning av tjänst eller referera till bilaga | Q139: Vid behov specificera tjänster, annan information eller hänvisa till bilaga. | U139: Enhet | V139: Schemalagda timmar (exkl OB) | W139: Ej schemalagda timmar (exkl OB) | Y139: Beräknat pris per månad (OB-ersättning enligt kollektivavtal kan tillkomma)
B140: Arrestantbevakning | D140: Beräknat antal timmar per månad. | F140: Antal timmar/månad | U140: Timmar | V140: =IF(F141="","",F141) | W140: =IF(H141="","",H141) | Y140: =IFERROR(SUM(V142:W142),0) -> 0 | AN140: =C140="Ja" -> FALSE
U141: Timpris | AN141: =AN140 -> FALSE
U142: Summa | V142: =IFERROR(IF(V141*V140=0,0,V141*V140),0) -> 0 | W142: =IFERROR(IF(W141*W140=0,0,W141*W140),0) -> 0 | AN142: =AN141 -> FALSE
B144: Tilläggstjänst | C144: Ange om tjänsten ingår i avropet (Ja/Nej) | D144: Följande ska anges för respektive tjänst | F144: Schemalagda timmar | H144: Ej schemalagda timmar (option) | J144: Kort beskrivning av tjänst eller referera till bilaga | Q144: Vid behov specificera tjänster, annan information eller hänvisa till bilaga. | U144: Enhet | V144: Schemalagda timmar (exkl OB) | W144: Ej schemalagda timmar (exkl OB) | Y144: Beräknat pris per månad (OB-ersättning enligt kollektivavtal kan tillkomma)
B145: Värdetransporter | D145: Beräknat antal timmar per månad. | F145: Antal timmar/månad | U145: Timmar | V145: =IF(F146="","",F146) | W145: =IF(H146="","",H146) | Y145: =IFERROR(SUM(V147:W147),0) -> 0 | AN145: =C145="Ja" -> FALSE
U146: Timpris | AN146: =AN145 -> FALSE
U147: Summa | V147: =IFERROR(IF(V146*V145=0,0,V146*V145),0) -> 0 | W147: =IFERROR(IF(W146*W145=0,0,W146*W145),0) -> 0 | AN147: =AN146 -> FALSE
B149: Tilläggstjänst | C149: Ange om tjänsten ingår i avropet (Ja/Nej) | D149: Följande ska anges för respektive tjänst | F149: Schemalagda timmar | H149: Ej schemalagda timmar (option) | J149: Kort beskrivning av tjänst eller referera till bilaga | Q149: Vid behov specificera tjänster, annan information eller hänvisa till bilaga. | U149: Enhet | V149: Schemalagda timmar (exkl OB) | W149: Ej schemalagda timmar (exkl OB) | Y149: Beräknat pris per månad (OB-ersättning enligt kollektivavtal kan tillkomma)
B150: Luftfartsskydd | D150: Beräknat antal timmar per månad. | F150: Antal timmar/månad | U150: Timmar | V150: =IF(F151="","",F151) | W150: =IF(H151="","",H151) | Y150: =IFERROR(SUM(V152:W152),0) -> 0 | AN150: =C150="Ja" -> FALSE
U151: Timpris | AN151: =AN150 -> FALSE
U152: Summa | V152: =IFERROR(IF(V151*V150=0,0,V151*V150),0) -> 0 | W152: =IFERROR(IF(W151*W150=0,0,W151*W150),0) -> 0 | AN152: =AN151 -> FALSE
...

Sheet 1 Spec. - 4. Annan modell
B1: =IF(Information!D15="","Om ingen text finns - välj utvärderingsmodell i fliken ""Information""","") -> Om ingen text finns - välj utvärderingsmodell i fliken "Information"
O2: ="Avrop nr: "&B15 -> Avrop nr: | W2: ="Avrop nr: "&B15 -> Avrop nr:
B3: Avropsförfrågan | P3: Avropssvar | AH3: =OR(AH4:AH972) -> TRUE
B4: Instruktion till avropande organisation: Spara ned blanketten på din dator. Gulmarkerade rutor fylls i av avropare innan blanketten skickas. Blanketten skickas med e-post till antagna leverantörer inom aktuellt avropsområde. Se vidare "Vägledning vid avrop". | J4: Ramavtalsområde | P4: Instruktion till leverantör: Blåmarkerade rutor fylls i av leverantören. Läs och kontrollera obligatoriska krav. Returnera blanketten med e-post till avropande organisation (oavsett Ja eller Nej). Mer information finns under vissa rubriker
J5: ='1 Spec. - 1. Lägsta pris'!J5 -> Bevakningstjänster och larmcentraltjänster
B6: Steg 1 - Administrativa uppgifter | J6: Avrop med förnyad konkurrensutsättning Kammarkollegiets diarienr.
B7: Uppgifter om avropande organisation | P7: Uppgifter om Ramavtalsleverantören
B8: Myndighet/Organisation (namn) | H8: Organisationsnummer | J8: ='1 Spec. - 1. Lägsta pris'!J8 -> 23.3-2611-2022 | P8: Ramavtalsleverantörens namn | V8: Organisationsnummer
J9: Avropsblankett
B10: Postadress | E10: Postnummer | H10: Ort | J10: ='1 Spec. - 1. Lägsta pris'!J10 -> Version 3,15 | P10: Kontaktperson | T10: E-post
B12: Avdelning, enhet etc | E12: Kontaktperson | H12: Telefon | P12: Postadress | T12: Postnummer | V12: Ort
B14: Referens/diarienr för avropet | E14: E-post | P14: Telefon | T14: Offertnummer el likn för detta avropssvar
P16: Avropssvar lämnas Ja/Nej | S16: Om Nej, motivering
AH17: =IF(AND(P17=0,P17<>"Ja"),TRUE,FALSE) -> TRUE
B19: Förnyad kontroll av leverantörskrav (ESPD) | P19: Leverantörskrav (ESPD) - Ramavtalsleverantörens intygande
B20: Av 15 kap. 1 samt 4 §§ LOU framgår att ramavtalsleverantören ska lämna en ny egenförsäkran samt att en ny kontroll av kvalificeringskrav och uteslutningsgrunder ska genomföras vid avrop genom förnyad konkurrensutsättning. Kammarkollegiet ansvarar för denna kontrollskyldighet genom att löpande genomföra leverantörsprövning under hela ramavtalsperioden. Kontrollskyldigheten bör också hanteras så att ramavtalsleverantören i sitt avropssvar bekräftar att i ramavtalsupphandlingen lämnad egenförsäkran fortfarande är korrekt, samt att ingivna bevis fortfarande är aktuella. Avropande myndighet kan själv begära in ett eller flera bevis enligt punkten 2 till höger. | P20: Genom att lämna avropssvar, bekräftar ramavtalsleverantören följande: 1. Att i ramavtalsupphandlingen lämnad egenförsäkran fortfarande är korrekt. 2. Att i ramavtalsupphandlingen ingivna bevis, såsom Sanningsförsäkran avseende uteslutningsgrunder (gällande leverantören och ev. åberopade företag) fortfarande aktuella. 3. Att ramavtalsleverantören har säkerställt att ev. åberopade företag inte omfattas av någon uteslutningsgrund. Med "åberopat företag" avses specifikt en underleverantör som har åberopats i ramavtalsupphandlingen för att uppfylla krav på ekonomisk, teknisk och yrkesmässig kapacitet”.
P26: Uppgift om underleverantörer (i förekommande fall)
B27: Information om avropet, t ex syfte och omfattning | P27: Redogör för vilka underleverantör/er inkl. org. nr. som kommer att medverka till fullgörandet av kontraktet samt vilka delar underleverantörerna fullgör. Med Underleverantör avses en juridisk eller fysisk person som Ramavtalsleverantören anlitar för att fullgöra hela eller delar av det åtagande som följer av Ramavtalet och Kontrakt.
B30: Sista dag för att ställa frågor | D30: Sista dag för svar på frågor | G30: E-post för frågor (om annan än ovan)
B33: Sista dag för avropssvar | D33: Avropssvarets giltighetstid | G33: Avtalsspärr efter tilldelningsbeslut
G34: Avtalsspärr kommer att iakttas?
B36: Kontraktets giltighetstid (t.o.m. datum) | D36: Förlängningsoption (t.o.m. datum)
B39: Ange geografiskt område
B40: Delområde 1
B42: Ange aktuella län för avropet. Markera med ett "X" i de gula fälten bredvid respektive län.
B43: =Admin!J56 -> Flerregionalt
B44: =Admin!J57 -> Blekinge län
B45: =Admin!J58 -> Dalarnas län
B46: =Admin!J59 -> Gotlands län
B47: =Admin!J60 -> Gävleborgs län
B48: =Admin!J61 -> Hallands län
B49: =Admin!J62 -> Jämtlands län
B50: =Admin!J63 -> Jönköpings län
B51: =Admin!J64 -> Kalmar län
B52: =Admin!J65 -> Kronobergs län
B53: =Admin!J66 -> Norrbottens län
B54: =Admin!J67 -> Skånes län
... B64: =Admin!J77 -> Östergötlands lön
B66: Sammanställning - val av län | C66: =Admin!$AC$26
B69: Ange varu/tjänsteområde
B70: Välj vara/tjänst
B72: Steg 2 - Specifikation av varor/tjänster
B74: Standardtjänster | F74: Ordinarie bevakning | H74: Extra bevakning | Q74: Leverantörens svar
B75: Tjänst | C75: Ange om tjänsten ingår i avropet (Ja/Nej) | D75: Följande ska anges för respektive tjänst | F75: Schemalagda timmar | H75: Ej schemalagda timmar (option) | J75: Kort beskrivning av tjänst eller referera till bilaga Ange tider för rondering | Q75: Vid behov specificera tjänster, annan information eller hänvisa till bilaga. | U75: Enhet | V75: Schemalagda timmar (exkl OB) | W75: Ej schemalagda timmar (exkl OB) | Y75: Beräknat pris per månad (OB-ersättning enligt kollektivavtal kan tillkomma)
B76: Ronderande bevakning | D76: Beräknat antal timmar och ronder per månad | F76: Antal timmar / månad | U76: Timmar | V76: =IF(F77="","",F77) | W76: =IF(H77="","",H77) | Y76: =IFERROR((V78+W78)+(W79*F79)+(W79*H79),0) -> 0 | AN76: =C76="Ja" -> FALSE
U77: Timpris | AN77: =AN76 -> FALSE
F78: Antal ronder / månad (1 / dag = 30,44 enligt schablon, ange annan frekvens om aktuellt) | U78: Summa | V78: =IFERROR(IF(V77*V76=0,0,V77*V76),0) -> 0 | W78: =IFERROR(IF(W77*W76=0,0,W77*W76),0) -> 0 | AN78: =AN77 -> FALSE
F79: 30.44 | U79: Pris framkörning per rond: | AN79: =AN78 -> FALSE
B81: Tjänst | C81: Ange om tjänsten ingår i avropet (Ja/Nej) | D81: Följande ska anges för respektive tjänst | F81: Schemalagda timmar | H81: Ej schemalagda timmar (option) | J81: Kort beskrivning av tjänst eller referera till bilaga | Q81: Vid behov specificera tjänster, annan information eller hänvisa till bilaga. | U81: Enhet | V81: Schemalagda timmar (exkl OB) | W81: Ej schemalagda timmar (exkl OB) | Y81: Beräknat pris per månad (OB-ersättning enligt kollektivavtal kan tillkomma)
B82: Stationär bevakning | D82: Beräknat antal timmar per månad | F82: Antal timmar / månad | U82: Timmar | V82: =IF(F83="","",F83) | W82: =IF(H83="","",H83) | Y82: =IFERROR((V84+W84),0) -> 0 | AN82: =C82="Ja" -> FALSE
U83: Timpris | AN83: =AN82 -> FALSE
U84: Summa | V84: =IFERROR(IF(V83*V82=0,0,V83*V82),0) -> 0 | W84: =IFERROR(IF(W83*W82=0,0,W83*W82),0) -> 0 | AN84: =AN83 -> FALSE
B87: Tjänst | C87: Ange om tjänsten ingår i avropet (Ja/Nej) | D87: Följande ska anges för respektive tjänst | F87: Antal utryckningar/ månad | H87: Ryck ska ske med x antal väktare (välj i lista): | J87: Kort beskrivning av tjänst eller referera till bilaga | Q87: Vid behov specificera tjänster, annan information eller hänvisa till bilaga. | W87: Pris per utryckning en väktare (1) | X87: Pris per utryckning flera väktare (2) | Y87: Beräknat pris per månad (OB-ersättning enligt kollektivavtal kan tillkomma)
B88: Larmutryckning | D88: Beräknat antal utryckningar per månad. Utryckning med en eller flera väktare. | Y88: =IFERROR(IF($H$88=1,W88*F88,X88*F88),0) -> 0 | AN88: =C88="Ja" -> FALSE
AN89: =AN88 -> FALSE
AN90: =AN89 -> FALSE
B97: Tilläggstjänster | F97: Ordinarie bevakning | H97: Extra bevakning
B98: Tilläggstjänst | C98: Ange om tjänsten ingår i avropet (Ja/Nej) | D98: Följande ska anges för respektive tjänst | F98: Schemalagda timmar | H98: Ej schemalagda timmar (option) | J98: Kort beskrivning av tjänst eller referera till bilaga | Q98: Vid behov specificera tjänster, annan information eller hänvisa till bilaga. | U98: Enhet | V98: Schemalagda timmar (exkl OB) | W98: Ej schemalagda timmar (exkl OB) | Y98: Beräknat pris per månad (OB-ersättning enligt kollektivavtal kan tillkomma)
B99: Ordningsvakter | D99: Beräknat antal timmar per månad. | F99: Antal timmar/månad | U99: Timmar | V99: =IF(F100="","",F100) | W99: =IF(H100="","",H100) | Y99: =IFERROR((V101+W101),0) -> 0 | AN99: =C99="Ja" -> FALSE
U100: Timpris | AN100: =AN99 -> FALSE
U101: Summa | V101: =IFERROR(IF(V100*V99=0,0,V100*V99),0) -> 0 | W101: =IFERROR(IF(W100*W99=0,0,W100*W99),0) -> 0 | AN101: =AN100 -> FALSE
B103: Tilläggstjänst | C103: Ange om tjänsten ingår i avropet (Ja/Nej) | D103: Följande ska anges för respektive tjänst | F103: Schemalagda timmar | H103: Ej schemalagda timmar (option) | J103: Kort beskrivning av tjänst eller referera till bilaga | Q103: Vid behov specificera tjänster, annan information eller hänvisa till bilaga. | U103: Enhet | V103: Schemalagda timmar (exkl OB) | W103: Ej schemalagda timmar (exkl OB) | Y103: Beräknat pris per månad (OB-ersättning enligt kollektivavtal kan tillkomma)
B104: Skyddsvakter | D104: Beräknat antal timmar per månad. | F104: Antal timmar/månad | U104: Timmar | V104: =IF(F105="","",F105) | W104: =IF(H105="","",H105) | Y104: =IFERROR(SUM(V106:W106),0) -> 0 | AN104: =C104="Ja" -> FALSE
U105: Timpris | AN105: =AN104 -> FALSE
U106: Summa | V106: =IFERROR(IF(V105*V104=0,0,V105*V104),0) -> 0 | W106: =IFERROR(IF(W105*W104=0,0,W105*W104),0) -> 0 | AN106: =AN105 -> FALSE
B108: Tilläggstjänst | C108: Ange om tjänsten ingår i avropet (Ja/Nej) | D108: Följande ska anges för respektive tjänst | F108: Schemalagda timmar | H108: Ej schemalagda timmar (option) | J108: Kort beskrivning av tjänst eller referera till bilaga | Q108: Vid behov specificera tjänster, annan information eller hänvisa till bilaga. | U108: Enhet | V108: Schemalagda timmar (exkl OB) | W108: Ej schemalagda timmar (exkl OB) | Y108: Beräknat pris per månad (OB-ersättning enligt kollektivavtal kan tillkomma)
B109: Bevakning av enskild person för dennes skydd | D109: Beräknat antal timmar per månad. | F109: Antal timmar/månad | U109: Timmar | V109: =IF(F110="","",F110) | W109: =IF(H110="","",H110) | Y109: =IFERROR(SUM(V111:W111),0) -> 0 | AN109: =C109="Ja" -> FALSE
U110: Timpris | AN110: =AN109 -> FALSE
U111: Summa | V111: =IFERROR(IF(V110*V109=0,0,V110*V109),0) -> 0 | W111: =IFERROR(IF(W110*W109=0,0,W110*W109),0) -> 0 | AN111: =AN110 -> FALSE
B113: Tilläggstjänst | C113: Ange om tjänsten ingår i avropet (Ja/Nej) | D113: Följande ska anges för respektive tjänst | F113: Schemalagda timmar | H113: Ej schemalagda timmar (option) | J113: Kort beskrivning av tjänst eller referera till bilaga | Q113: Vid behov specificera tjänster, annan information eller hänvisa till bilaga. | U113: Enhet | V113: Schemalagda timmar (exkl OB) | W113: Ej schemalagda timmar (exkl OB) | Y113: Beräknat pris per månad
B114: Rådgivning inom skydd och säkerhet | D114: Beräknat antal timmar per månad. | F114: Antal timmar/månad | U114: Timmar | V114: =IF(F115="","",F115) | W114: =IF(H115="","",H115) | Y114: =IFERROR(SUM(V116:W116),0) -> 0 | AN114: =C114="Ja" -> FALSE
U115: Timpris | AN115: =AN114 -> FALSE
U116: Summa | V116: =IFERROR(IF(V115*V114=0,0,V115*V114),0) -> 0 | W116: =IFERROR(IF(W115*W114=0,0,W115*W114),0) -> 0 | AN116: =AN115 -> FALSE
B118: Tilläggstjänst | C118: Ange om tjänsten ingår i avropet (Ja/Nej) | D118: Följande ska anges för respektive tjänst | F118: Kort beskrivning av tjänst eller referera till bilaga | Q118: Vid behov specificera tjänster, annan information eller hänvisa till bilaga. | U118: Pris för utbildning | V118: Pris för utbildning | W118: Pris för utbildning | Y118: Beräknat pris per månad
B119: Säkerhetsutbildning | D119: Typ av utbildning, omfattning, antal deltagare etc. | Y119: =IFERROR(SUM(U119:W119),0) -> 0 | AN119: =C119="Ja" -> FALSE
AN120: =AN119 -> FALSE
B122: Tilläggstjänst | C122: Ange om tjänsten ingår i avropet (Ja/Nej) | D122: Följande ska anges för respektive tjänst | E122: Antal dagar per månad | F122: Välj typ av larm | H122: Kort beskrivning av tjänst eller referera till bilaga | Q122: Vid behov specificera tjänster, annan information eller hänvisa till bilaga. | W122: Pris per månad | Y122: Beräknat pris per månad | AL122: Följande ska anges för respektive tjänst
B123: Tillhandahållande av mobilt larm | D123: Typ av mobilt larm, antal abonnemang, antal dagar per månad | U123: Pris inbrottslarm | Y123: =IFERROR(IF(F123="Inbrottslarm",W123,W124),0) -> 0 | AL123: Typ av mobilt larm, antal abonnemang, antal dagar per månad | AN123: =C123="Ja" -> FALSE
U124: Pris personlarm | AN124: =AN123 -> FALSE
B126: Tilläggstjänst | C126: Ange om tjänsten ingår i avropet (Ja/Nej) | D126: Följande ska anges för respektive tjänst | F126: Kort beskrivning av tjänst eller referera till bilaga | Q126: Vid behov specificera tjänster, annan information eller hänvisa till bilaga. | W126: Pris per månad | Y126: Beräknat pris per månad (OB-ersättning enligt kollektivavtal kan tillkomma)
B127: Larmcentraltjänster | D127: Antal larmsystem. Beskriv typ av larm, överföring, sektioner etc. | Y127: =IFERROR(W127,0) -> 0 | AN127: =C127="Ja" -> FALSE
AN128: =AN127 -> FALSE
B131: Tilläggstjänst | C131: Ange om tjänsten ingår i avropet (Ja/Nej) | D131: Följande ska anges för respektive tjänst | F131: Kort beskrivning av tjänst eller referera till bilaga | Q131: Vid behov specificera tjänster, annan information eller hänvisa till bilaga. | W131: Pris per månad | Y131: Beräknat pris per månad (OB-ersättning enligt kollektivavtal kan tillkomma)
B132: Fjärrtjänster | D132: Typ av fjärrtjänster som efterfrågas. | Y132: =IFERROR(W132,0) -> 0 | AN132: =C132="Ja" -> FALSE
AN133: =AN132 -> FALSE
B135: Tilläggstjänst | C135: Ange om tjänsten ingår i avropet (Ja/Nej) | D135: Följande ska anges för respektive tjänst | F135: Kort beskrivning av tjänst eller referera till bilaga | Q135: Vid behov specificera tjänster, annan information eller hänvisa till bilaga. | W135: Pris per månad | Y135: Beräknat pris per månad (OB-ersättning enligt kollektivavtal kan tillkomma)
B136: Kundportal (rapporterings-system) | D136: Funktioner som efterfrågas. | Y136: =IFERROR(W136,0) -> 0 | AN136: =C136="Ja" -> FALSE
AN137: =AN136 -> FALSE
B139: Tilläggstjänst | C139: Ange om tjänsten ingår i avropet (Ja/Nej) | D139: Följande ska anges för respektive tjänst | F139: Schemalagda timmar | H139: Ej schemalagda timmar (option) | J139: Kort beskrivning av tjänst eller referera till bilaga | Q139: Vid behov specificera tjänster, annan information eller hänvisa till bilaga. | U139: Enhet | V139: Schemalagda timmar (exkl OB) | W139: Ej schemalagda timmar (exkl OB) | Y139: Beräknat pris per månad (OB-ersättning enligt kollektivavtal kan tillkomma)
B140: Arrestantbevakning | D140: Beräknat antal timmar per månad. | F140: Antal timmar/månad | U140: Timmar | V140: =IF(F141="","",F141) | W140: =IF(H141="","",H141) | Y140: =IFERROR(SUM(V142:W142),0) -> 0 | AN140: =C140="Ja" -> FALSE
U141: Timpris | AN141: =AN140 -> FALSE
U142: Summa | V142: =IFERROR(IF(V141*V140=0,0,V141*V140),0) -> 0 | W142: =IFERROR(IF(W141*W140=0,0,W141*W140),0) -> 0 | AN142: =AN141 -> FALSE
B144: Tilläggstjänst | C144: Ange om tjänsten ingår i avropet (Ja/Nej) | D144: Följande ska anges för respektive tjänst | F144: Schemalagda timmar | H144: Ej schemalagda timmar (option) | J144: Kort beskrivning av tjänst eller referera till bilaga | Q144: Vid behov specificera tjänster, annan information eller hänvisa till bilaga. | U144: Enhet | V144: Schemalagda timmar (exkl OB) | W144: Ej schemalagda timmar (exkl OB) | Y144: Beräknat pris per månad (OB-ersättning enligt kollektivavtal kan tillkomma)
B145: Värdetransporter | D145: Beräknat antal timmar per månad. | F145: Antal timmar/månad | U145: Timmar | V145: =IF(F146="","",F146) | W145: =IF(H146="","",H146) | Y145: =IFERROR(SUM(V147:W147),0) -> 0 | AN145: =C145="Ja" -> FALSE
U146: Timpris | AN146: =AN145 -> FALSE
U147: Summa | V147: =IFERROR(IF(V146*V145=0,0,V146*V145),0) -> 0 | W147: =IFERROR(IF(W146*W145=0,0,W146*W145),0) -> 0 | AN147: =AN146 -> FALSE
B149: Tilläggstjänst | C149: Ange om tjänsten ingår i avropet (Ja/Nej) | D149: Följande ska anges för respektive tjänst | F149: Schemalagda timmar | H149: Ej schemalagda timmar (option) | J149: Kort beskrivning av tjänst eller referera till bilaga | Q149: Vid behov specificera tjänster, annan information eller hänvisa till bilaga. | U149: Enhet | V149: Schemalagda timmar (exkl OB) | W149: Ej schemalagda timmar (exkl OB) | Y149: Beräknat pris per månad (OB-ersättning enligt kollektivavtal kan tillkomma)
B150: Luftfartsskydd | D150: Beräknat antal timmar per månad. | F150: Antal timmar/månad | U150: Timmar | V150: =IF(F151="","",F151) | W150: =IF(H151="","",H151) | Y150: =IFERROR(SUM(V152:W152),0) -> 0 | AN150: =C150="Ja" -> FALSE
U151: Timpris | AN151: =AN150 -> FALSE
U152: Summa | V152: =IFERROR(IF(V151*V150=0,0,V151*V150),0) -> 0 | W152: =IFERROR(IF(W151*W150=0,0,W151*W150),0) -> 0 | AN152: =AN151 -> FALSE
...

Sheet 2 Avtalstecknande
D1: ="Avrop nr: "&'1 Spec. - 1. Lägsta pris'!B15 -> Avrop nr:
B5: Kontrakt
B6: ="Detta kontrakt reglerar avrop från ramavtalsområde "&Information!B5&", "&Information!B6 -> Detta kontrakt reglerar avrop från ramavtalsområde Bevakningstjänster och larmcentraltjänster, Ramavtalsnummer: 23.3-2611-2022
B7: Kontraktets omfattning
B8: Leveransens omfattning och villkor framgår av Kontraktet med tillhörande bilagor samt Ramavtalet. Kontraktet består av nedan angivna handlingar. Handlingarna kompletterar varandra om inte omständigheterna föranleder annat. Om handlingarna innehåller motstridiga uppgifter gäller de i följande ordning:
B9: 1. Skriftliga ändringar och tillägg till säkerhetsskyddsavtal
B10: 2. Säkerhetsskyddsavtal
B11: 3. Skriftliga ändringar och tillägg till personuppgiftsbiträdesavtal eller datadelningsavtal
B12: 4. Personuppgiftsbiträdesavtal eller datadelningsavtal
B13: 5. Skriftliga ändringar och tillägg till Kontrakt med bilagor
B14: 6. Kontrakt med bilagor
B15: 7. Skriftliga ändringar och tillägg till Avropsförfrågan med bilagor
B16: 8. Avropsförfrågan med bilagor
B17: 9. Skriftliga ändringar och tillägg till Ramavtalsleverantörens Avropssvar med bilagor inklusive av Avropsberättigad godkända rättelser, kompletteringar och förtydliganden
B18: 10. Ramavtalsleverantörens Avropssvar med bilagor
... B23: Underskriften avser ett kontraktstecknande. Efter undertecknande av bägge parter utgör denna blankett tillsammans med ramavtalets villkor enligt ovan ett kontrakt mellan parterna. Detta kontrakt har upprättats i två exemplar varav parterna tagit var sitt.
B25: Avropande organisation | D25: Leverantör
B26: =IF(Information!D12="ja",'1 Spec. - 1. Lägsta pris'!B9,IF(Information!D13="ja",'1 Spec. - 2. Relativ viktning'!B9,IF(Information!D14="ja",'1 Spec. - 3. Mervärdesmodell'!B9,IF(Information!D15="ja",'1 Spec. - 4. Annan modell'!B9,"")))) | D26: =IF(Information!D12="ja",'1 Spec. - 1. Lägsta pris'!P9,IF(Information!D13="ja",'1 Spec. - 2. Relativ viktning'!P9,IF(Information!D14="ja",'1 Spec. - 3. Mervärdesmodell'!P9,IF(Information!D15="ja",'1 Spec. - 4. Annan modell'!P9,""))))
B27: Org.nr. | D27: Org.nr.
B28: =IF(Information!D12="ja",'1 Spec. - 1. Lägsta pris'!H9,IF(Information!D13="ja",'1 Spec. - 2. Relativ viktning'!H9,IF(Information!D14="ja",'1 Spec. - 3. Mervärdesmodell'!H9,IF(Information!D15="ja",'1 Spec. - 4. Annan modell'!H9,"")))) | D28: =IF(Information!D12="ja",'1 Spec. - 1. Lägsta pris'!V9,IF(Information!D13="ja",'1 Spec. - 2. Relativ viktning'!V9,IF(Information!D14="ja",'1 Spec. - 3. Mervärdesmodell'!V9,IF(Information!D15="ja",'1 Spec. - 4. Annan modell'!V9,""))))
B30: Ort, datum | D30: Ort, datum
B33: Namn, befattning (behörig företrädare för avropande organisation) | D33: Namn, befattning (behörig företrädare för leverantören)
B37: Eventuella bilagor till kontraktet

Sheet Blad1

Sheet Admin
J1: ResVarTja
D2: Delområde 1 | E2: Delområde 2 | F2: Delområde 3 | G2: Delområde 4 | H2: Delområde 5 | I2: Delområde 6 | J2: =USRDelområde -> Delområde 1
C3: TblDelområde | D3: Välj vara/tjänst | E3: Välj vara/tjänst | F3: Välj vara/tjänst | G3: Välj vara/tjänst | H3: Välj vara/tjänst | I3: Välj vara/tjänst | J3: =IFERROR(IF(INDEX(D3:I3,MATCH(J$2,D$2:I$2,0))=0,"",INDEX(D3:I3,MATCH(J$2,D$2:I$2,0))),"") -> Välj vara/tjänst
C4: Välj delområde | D4: Delområde 1/Vara/Tjanst 1 | E4: Delområde 2/Vara/Tjanst 1 | F4: Delområde 3/Vara/Tjanst 1 | G4: Delområde 4/Vara/Tjanst 1 | H4: Delområde 5/Vara/Tjanst 1 | I4: Delområde 6/Vara/Tjanst 1 | J4: =IFERROR(IF(INDEX(D4:I4,MATCH(J$2,D$2:I$2,0))=0,"",INDEX(D4:I4,MATCH(J$2,D$2:I$2,0))),"") -> Delområde 1/Vara/Tjanst 1
C5: Delområde 1 | D5: Delområde 1/Vara/Tjanst 2 | E5: Delområde 2/Vara/Tjanst 2 | F5: Delområde 3/Vara/Tjanst 2 | G5: Delområde 4/Vara/Tjanst 2 | H5: Delområde 5/Vara/Tjanst 2 | I5: Delområde 6/Vara/Tjanst 2 | J5: =IFERROR(IF(INDEX(D5:I5,MATCH(J$2,D$2:I$2,0))=0,"",INDEX(D5:I5,MATCH(J$2,D$2:I$2,0))),"") -> Delområde 1/Vara/Tjanst 2
C6: Delområde 2 | D6: Delområde 1/Vara/Tjanst 3 | E6: Delområde 2/Vara/Tjanst 3 | F6: Delområde 3/Vara/Tjanst 3 | G6: Delområde 4/Vara/Tjanst 3 | H6: Delområde 5/Vara/Tjanst 3 | I6: Delområde 6/Vara/Tjanst 3 | J6: =IFERROR(IF(INDEX(D6:I6,MATCH(J$2,D$2:I$2,0))=0,"",INDEX(D6:I6,MATCH(J$2,D$2:I$2,0))),"") -> Delområde 1/Vara/Tjanst 3
C7: Delområde 3 | D7: Delområde 1/Vara/Tjanst 4 | E7: Delområde 2/Vara/Tjanst 4 | F7: Delområde 3/Vara/Tjanst 4 | G7: Delområde 4/Vara/Tjanst 4 | H7: Delområde 5/Vara/Tjanst 4 | I7: Delområde 6/Vara/Tjanst 4 | J7: =IFERROR(IF(INDEX(D7:I7,MATCH(J$2,D$2:I$2,0))=0,"",INDEX(D7:I7,MATCH(J$2,D$2:I$2,0))),"") -> Delområde 1/Vara/Tjanst 4
C8: Delområde 4 | D8: Delområde 1/Vara/Tjanst 5 | E8: Delområde 2/Vara/Tjanst 5 | F8: Delområde 3/Vara/Tjanst 5 | G8: Delområde 4/Vara/Tjanst 5 | H8: Delområde 5/Vara/Tjanst 5 | I8: Delområde 6/Vara/Tjanst 5 | J8: =IFERROR(IF(INDEX(D8:I8,MATCH(J$2,D$2:I$2,0))=0,"",INDEX(D8:I8,MATCH(J$2,D$2:I$2,0))),"") -> Delområde 1/Vara/Tjanst 5
C9: Delområde 5 | D9: Delområde 1/Vara/Tjanst 6 | E9: Delområde 2/Vara/Tjanst 6 | F9: Delområde 3/Vara/Tjanst 6 | G9: Delområde 4/Vara/Tjanst 6 | H9: Delområde 5/Vara/Tjanst 6 | I9: Delområde 6/Vara/Tjanst 6 | J9: =IFERROR(IF(INDEX(D9:I9,MATCH(J$2,D$2:I$2,0))=0,"",INDEX(D9:I9,MATCH(J$2,D$2:I$2,0))),"") -> Delområde 1/Vara/Tjanst 6
C10: Delområde 6 | D10: Delområde 1/Vara/Tjanst 7 | E10: Delområde 2/Vara/Tjanst 7 | F10: Delområde 3/Vara/Tjanst 7 | G10: Delområde 4/Vara/Tjanst 7 | H10: Delområde 5/Vara/Tjanst 7 | I10: Delområde 6/Vara/Tjanst 7 | J10: =IFERROR(IF(INDEX(D10:I10,MATCH(J$2,D$2:I$2,0))=0,"",INDEX(D10:I10,MATCH(J$2,D$2:I$2,0))),"") -> Delområde 1/Vara/Tjanst 7
D11: Delområde 1/Vara/Tjanst 8 | E11: Delområde 2/Vara/Tjanst 8 | F11: Delområde 3/Vara/Tjanst 8 | G11: Delområde 4/Vara/Tjanst 8 | H11: Delområde 5/Vara/Tjanst 8 | I11: Delområde 6/Vara/Tjanst 8 | J11: =IFERROR(IF(INDEX(D11:I11,MATCH(J$2,D$2:I$2,0))=0,"",INDEX(D11:I11,MATCH(J$2,D$2:I$2,0))),"") -> Delområde 1/Vara/Tjanst 8
D12: Delområde 1/Vara/Tjanst 9 | E12: Delområde 2/Vara/Tjanst 9 | F12: Delområde 3/Vara/Tjanst 9 | G12: Delområde 4/Vara/Tjanst 9 | H12: Delområde 5/Vara/Tjanst 9 | I12: Delområde 6/Vara/Tjanst 9 | J12: =IFERROR(IF(INDEX(D12:I12,MATCH(J$2,D$2:I$2,0))=0,"",INDEX(D12:I12,MATCH(J$2,D$2:I$2,0))),"") -> Delområde 1/Vara/Tjanst 9
D13: Delområde 1/Vara/Tjanst 10 | E13: Delområde 2/Vara/Tjanst 10 | F13: Delområde 3/Vara/Tjanst 10 | G13: Delområde 4/Vara/Tjanst 10 | H13: Delområde 5/Vara/Tjanst 10 | I13: Delområde 6/Vara/Tjanst 10 | J13: =IFERROR(IF(INDEX(D13:I13,MATCH(J$2,D$2:I$2,0))=0,"",INDEX(D13:I13,MATCH(J$2,D$2:I$2,0))),"") -> Delområde 1/Vara/Tjanst 10
D14: Delområde 1/Vara/Tjanst 11 | E14: Delområde 2/Vara/Tjanst 11 | F14: Delområde 3/Vara/Tjanst 11 | G14: Delområde 4/Vara/Tjanst 11 | H14: Delområde 5/Vara/Tjanst 11 | I14: Delområde 6/Vara/Tjanst 11 | J14: =IFERROR(IF(INDEX(D14:I14,MATCH(J$2,D$2:I$2,0))=0,"",INDEX(D14:I14,MATCH(J$2,D$2:I$2,0))),"") -> Delområde 1/Vara/Tjanst 11
D15: Delområde 1/Vara/Tjanst 12 | E15: Delområde 2/Vara/Tjanst 12 | F15: Delområde 3/Vara/Tjanst 12 | G15: Delområde 4/Vara/Tjanst 12 | H15: Delområde 5/Vara/Tjanst 12 | I15: Delområde 6/Vara/Tjanst 12 | J15: =IFERROR(IF(INDEX(D15:I15,MATCH(J$2,D$2:I$2,0))=0,"",INDEX(D15:I15,MATCH(J$2,D$2:I$2,0))),"") -> Delområde 1/Vara/Tjanst 12
D16: Delområde 1/Vara/Tjanst 13 | E16: Delområde 2/Vara/Tjanst 13 | F16: Delområde 3/Vara/Tjanst 13 | G16: Delområde 4/Vara/Tjanst 13 | H16: Delområde 5/Vara/Tjanst 13 | I16: Delområde 6/Vara/Tjanst 13 | J16: =IFERROR(IF(INDEX(D16:I16,MATCH(J$2,D$2:I$2,0))=0,"",INDEX(D16:I16,MATCH(J$2,D$2:I$2,0))),"") -> Delområde 1/Vara/Tjanst 13
D17: Delområde 1/Vara/Tjanst 14 | E17: Delområde 2/Vara/Tjanst 14 | F17: Delområde 3/Vara/Tjanst 14 | G17: Delområde 4/Vara/Tjanst 14 | H17: Delområde 5/Vara/Tjanst 14 | I17: Delområde 6/Vara/Tjanst 14 | J17: =IFERROR(IF(INDEX(D17:I17,MATCH(J$2,D$2:I$2,0))=0,"",INDEX(D17:I17,MATCH(J$2,D$2:I$2,0))),"") -> Delområde 1/Vara/Tjanst 14
D18: Delområde 1/Vara/Tjanst 15 | E18: Delområde 2/Vara/Tjanst 15 | F18: Delområde 3/Vara/Tjanst 15 | G18: Delområde 4/Vara/Tjanst 15 | H18: Delområde 5/Vara/Tjanst 15 | I18: Delområde 6/Vara/Tjanst 15 | J18: =IFERROR(IF(INDEX(D18:I18,MATCH(J$2,D$2:I$2,0))=0,"",INDEX(D18:I18,MATCH(J$2,D$2:I$2,0))),"") -> Delområde 1/Vara/Tjanst 15
D19: Delområde 1/Vara/Tjanst 16 | E19: Delområde 2/Vara/Tjanst 16 | F19: Delområde 3/Vara/Tjanst 16 | G19: Delområde 4/Vara/Tjanst 16 | H19: Delområde 5/Vara/Tjanst 16 | I19: Delområde 6/Vara/Tjanst 16 | J19: =IFERROR(IF(INDEX(D19:I19,MATCH(J$2,D$2:I$2,0))=0,"",INDEX(D19:I19,MATCH(J$2,D$2:I$2,0))),"") -> Delområde 1/Vara/Tjanst 16
D20: Delområde 1/Vara/Tjanst 17 | E20: Delområde 2/Vara/Tjanst 17 | F20: Delområde 3/Vara/Tjanst 17 | G20: Delområde 4/Vara/Tjanst 17 | H20: Delområde 5/Vara/Tjanst 17 | I20: Delområde 6/Vara/Tjanst 17 | J20: =IFERROR(IF(INDEX(D20:I20,MATCH(J$2,D$2:I$2,0))=0,"",INDEX(D20:I20,MATCH(J$2,D$2:I$2,0))),"") -> Delområde 1/Vara/Tjanst 17
D21: Delområde 1/Vara/Tjanst 18 | E21: Delområde 2/Vara/Tjanst 18 | F21: Delområde 3/Vara/Tjanst 18 | G21: Delområde 4/Vara/Tjanst 18 | H21: Delområde 5/Vara/Tjanst 18 | I21: Delområde 6/Vara/Tjanst 18 | J21: =IFERROR(IF(INDEX(D21:I21,MATCH(J$2,D$2:I$2,0))=0,"",INDEX(D21:I21,MATCH(J$2,D$2:I$2,0))),"") -> Delområde 1/Vara/Tjanst 18
D22: Delområde 1/Vara/Tjanst 19 | E22: Delområde 2/Vara/Tjanst 19 | F22: Delområde 3/Vara/Tjanst 19 | G22: Delområde 4/Vara/Tjanst 19 | H22: Delområde 5/Vara/Tjanst 19 | I22: Delområde 6/Vara/Tjanst 19 | J22: =IFERROR(IF(INDEX(D22:I22,MATCH(J$2,D$2:I$2,0))=0,"",INDEX(D22:I22,MATCH(J$2,D$2:I$2,0))),"") -> Delområde 1/Vara/Tjanst 19
... D24: Delområde 1/Vara/Tjanst 21 | E24: Delområde 2/Vara/Tjanst 21 | F24: Delområde 3/Vara/Tjanst 21 | G24: Delområde 4/Vara/Tjanst 21 | H24: Delområde 5/Vara/Tjanst 21 | I24: Delområde 6/Vara/Tjanst 21 | J24: =IFERROR(IF(INDEX(D24:I24,MATCH(J$2,D$2:I$2,0))=0,"",INDEX(D24:I24,MATCH(J$2,D$2:I$2,0))),"") -> Delområde 1/Vara/Tjanst 21
L25: Lägsta pris | N25: SammanstRegioner | Q25: Relativ viktning | S25: SammanstRegioner | V25: Mervärdesmodell | X25: SammanstRegioner | AA25: Annan modell | AC25: SammanstRegioner
N26: =O29&O30&O31&O32&O33&O34&O35&O36&O37&O38&O39&O40&O41&O42&O43&O44&O45&O46&O47&O48&O49&O50 | S26: =T29&T30&T31&T32&T33&T34&T35&T36&T37&T38&T39&T40&T41&T42&T43&T44&T45&T46&T47&T48&T49&T50 | X26: =Y29&Y30&Y31&Y32&Y33&Y34&Y35&Y36&Y37&Y38&Y39&Y40&Y41&Y42&Y43&Y44&Y45&Y46&Y47&Y48&Y49&Y50 | AC26: =AD29&AD30&AD31&AD32&AD33&AD34&AD35&AD36&AD37&AD38&AD39&AD40&AD41&AD42&AD43&AD44&AD45&AD46&AD47&AD48&AD49&AD50
D27: Vara/Tjanster | J27: ResOpt
D28: Välj Vara/Tjanst | E28: =D28 -> Välj Vara/Tjanst | F28: =E28 -> Välj Vara/Tjanst | G28: =F28 -> Välj Vara/Tjanst | H28: =G28 -> Välj Vara/Tjanst | I28: =H28 -> Välj Vara/Tjanst | J28: =INDEX(D28:I28,MATCH(J$2,D$2:I$2,0)) -> Välj Vara/Tjanst | L28: TblRegionLista | M28: TblRegionSamst | Q28: TblRegionLista | R28: TblRegionSamst | V28: TblRegionLista | W28: TblRegionSamst | AA28: TblRegionLista | AB28: TblRegionSamst
D29: Delområde 1/Vara/Tjanst 1 | E29: Delområde 2/Vara/Tjanst 1 | F29: Delområde 3/Vara/Tjanst 1 | G29: Delområde 4/Vara/Tjanst 1 | H29: Delområde 5/Vara/Tjanst 1 | I29: Delområde 6/Vara/Tjanst 1 | J29: =IFERROR(IF(INDEX(D29:I29,MATCH(J$2,D$2:I$2,0))=0,"",INDEX(D29:I29,MATCH(J$2,D$2:I$2,0))),"") -> Delområde 1/Vara/Tjanst 1 | L29: =IF('1 Spec. - 1. Lägsta pris'!C43="","",'1 Spec. - 1. Lägsta pris'!B43) | M29: {=IFERROR(INDEX($L$29:$L$50,SMALL(IF($L$29:$L$50<>"",ROW($L$29:$L$50)-ROW(L$29)+1),ROWS(M$29:M29))),"")} | N29: =IF(M30="",".",", ") -> . | O29: =IF(M29="","",M29&N29) | Q29: =IF('1 Spec. - 2. Relativ viktning'!C43="","",'1 Spec. - 2. Relativ viktning'!B43) | R29: {=IFERROR(INDEX($Q$29:$Q$50,SMALL(IF($Q$29:$Q$50<>"",ROW($Q$29:$Q$50)-ROW(Q$29)+1),ROWS(R$29:R29))),"")} | S29: =IF(R30="",".",", ") -> . | T29: =IF(R29="","",R29&S29) | V29: =IF('1 Spec. - 3. Mervärdesmodell'!C43="","",'1 Spec. - 3. Mervärdesmodell'!B43) | W29: {=IFERROR(INDEX($V$29:$V$50,SMALL(IF($V$29:$V$50<>"",ROW($V$29:$V$50)-ROW(V$29)+1),ROWS(W$29:W29))),"")} | X29: =IF(W30="",".",", ") -> . | Y29: =IF(W29="","",W29&X29) | AA29: =IF('1 Spec. - 4. Annan modell'!C43="","",'1 Spec. - 4. Annan modell'!B43) | AB29: {=IFERROR(INDEX($AA$29:$AA$50,SMALL(IF($AA$29:$AA$50<>"",ROW($AA$29:$AA$50)-ROW(AA$29)+1),ROWS(AB$29:AB29))),"")} | AC29: =IF(AB30="",".",", ") -> . | AD29: =IF(AB29="","",AB29&AC29)
D30: Delområde 1/Vara/Tjanst 2 | E30: Delområde 2/Vara/Tjanst 2 | F30: Delområde 3/Vara/Tjanst 2 | G30: Delområde 4/Vara/Tjanst 2 | H30: Delområde 5/Vara/Tjanst 2 | I30: Delområde 6/Vara/Tjanst 2 | J30: =IFERROR(IF(INDEX(D30:I30,MATCH(J$2,D$2:I$2,0))=0,"",INDEX(D30:I30,MATCH(J$2,D$2:I$2,0))),"") -> Delområde 1/Vara/Tjanst 2 | L30: =IF('1 Spec. - 1. Lägsta pris'!C44="","",'1 Spec. - 1. Lägsta pris'!B44) | M30: {=IFERROR(INDEX($L$29:$L$50,SMALL(IF($L$29:$L$50<>"",ROW($L$29:$L$50)-ROW(L$29)+1),ROWS(M$29:M30))),"")} | N30: =IF(M31="",".",", ") -> . | O30: =IF(M30="","",M30&N30) | Q30: =IF('1 Spec. - 2. Relativ viktning'!C44="","",'1 Spec. - 2. Relativ viktning'!B44) | R30: {=IFERROR(INDEX($Q$29:$Q$50,SMALL(IF($Q$29:$Q$50<>"",ROW($Q$29:$Q$50)-ROW(Q$29)+1),ROWS(R$29:R30))),"")} | S30: =IF(R31="",".",", ") -> . | T30: =IF(R30="","",R30&S30) | V30: =IF('1 Spec. - 3. Mervärdesmodell'!C44="","",'1 Spec. - 3. Mervärdesmodell'!B44) | W30: {=IFERROR(INDEX($V$29:$V$50,SMALL(IF($V$29:$V$50<>"",ROW($V$29:$V$50)-ROW(V$29)+1),ROWS(W$29:W30))),"")} | X30: =IF(W31="",".",", ") -> . | Y30: =IF(W30="","",W30&X30) | AA30: =IF('1 Spec. - 4. Annan modell'!C44="","",'1 Spec. - 4. Annan modell'!B44) | AB30: {=IFERROR(INDEX($AA$29:$AA$50,SMALL(IF($AA$29:$AA$50<>"",ROW($AA$29:$AA$50)-ROW(AA$29)+1),ROWS(AB$29:AB30))),"")} | AC30: =IF(AB31="",".",", ") -> . | AD30: =IF(AB30="","",AB30&AC30)
D31: Delområde 1/Vara/Tjanst 3 | E31: Delområde 2/Vara/Tjanst 3 | F31: Delområde 3/Vara/Tjanst 3 | G31: Delområde 4/Vara/Tjanst 3 | H31: Delområde 5/Vara/Tjanst 3 | I31: Delområde 6/Vara/Tjanst 3 | J31: =IFERROR(IF(INDEX(D31:I31,MATCH(J$2,D$2:I$2,0))=0,"",INDEX(D31:I31,MATCH(J$2,D$2:I$2,0))),"") -> Delområde 1/Vara/Tjanst 3 | L31: =IF('1 Spec. - 1. Lägsta pris'!C45="","",'1 Spec. - 1. Lägsta pris'!B45) | M31: {=IFERROR(INDEX($L$29:$L$50,SMALL(IF($L$29:$L$50<>"",ROW($L$29:$L$50)-ROW(L$29)+1),ROWS(M$29:M31))),"")} | N31: =IF(M32="",".",", ") -> . | O31: =IF(M31="","",M31&N31) | Q31: =IF('1 Spec. - 2. Relativ viktning'!C45="","",'1 Spec. - 2. Relativ viktning'!B45) | R31: {=IFERROR(INDEX($Q$29:$Q$50,SMALL(IF($Q$29:$Q$50<>"",ROW($Q$29:$Q$50)-ROW(Q$29)+1),ROWS(R$29:R31))),"")} | S31: =IF(R32="",".",", ") -> . | T31: =IF(R31="","",R31&S31) | V31: =IF('1 Spec. - 3. Mervärdesmodell'!C45="","",'1 Spec. - 3. Mervärdesmodell'!B45) | W31: {=IFERROR(INDEX($V$29:$V$50,SMALL(IF($V$29:$V$50<>"",ROW($V$29:$V$50)-ROW(V$29)+1),ROWS(W$29:W31))),"")} | X31: =IF(W32="",".",", ") -> . | Y31: =IF(W31="","",W31&X31) | AA31: =IF('1 Spec. - 4. Annan modell'!C45="","",'1 Spec. - 4. Annan modell'!B45) | AB31: {=IFERROR(INDEX($AA$29:$AA$50,SMALL(IF($AA$29:$AA$50<>"",ROW($AA$29:$AA$50)-ROW(AA$29)+1),ROWS(AB$29:AB31))),"")} | AC31: =IF(AB32="",".",", ") -> . | AD31: =IF(AB31="","",AB31&AC31)
D32: Delområde 1/Vara/Tjanst 4 | E32: Delområde 2/Vara/Tjanst 4 | F32: Delområde 3/Vara/Tjanst 4 | G32: Delområde 4/Vara/Tjanst 4 | H32: Delområde 5/Vara/Tjanst 4 | I32: Delområde 6/Vara/Tjanst 4 | J32: =IFERROR(IF(INDEX(D32:I32,MATCH(J$2,D$2:I$2,0))=0,"",INDEX(D32:I32,MATCH(J$2,D$2:I$2,0))),"") -> Delområde 1/Vara/Tjanst 4 | L32: =IF('1 Spec. - 1. Lägsta pris'!C46="","",'1 Spec. - 1. Lägsta pris'!B46) | M32: {=IFERROR(INDEX($L$29:$L$50,SMALL(IF($L$29:$L$50<>"",ROW($L$29:$L$50)-ROW(L$29)+1),ROWS(M$29:M32))),"")} | N32: =IF(M33="",".",", ") -> . | O32: =IF(M32="","",M32&N32) | Q32: =IF('1 Spec. - 2. Relativ viktning'!C46="","",'1 Spec. - 2. Relativ viktning'!B46) | R32: {=IFERROR(INDEX($Q$29:$Q$50,SMALL(IF($Q$29:$Q$50<>"",ROW($Q$29:$Q$50)-ROW(Q$29)+1),ROWS(R$29:R32))),"")} | S32: =IF(R33="",".",", ") -> . | T32: =IF(R32="","",R32&S32) | V32: =IF('1 Spec. - 3. Mervärdesmodell'!C46="","",'1 Spec. - 3. Mervärdesmodell'!B46) | W32: {=IFERROR(INDEX($V$29:$V$50,SMALL(IF($V$29:$V$50<>"",ROW($V$29:$V$50)-ROW(V$29)+1),ROWS(W$29:W32))),"")} | X32: =IF(W33="",".",", ") -> . | Y32: =IF(W32="","",W32&X32) | AA32: =IF('1 Spec. - 4. Annan modell'!C46="","",'1 Spec. - 4. Annan modell'!B46) | AB32: {=IFERROR(INDEX($AA$29:$AA$50,SMALL(IF($AA$29:$AA$50<>"",ROW($AA$29:$AA$50)-ROW(AA$29)+1),ROWS(AB$29:AB32))),"")} | AC32: =IF(AB33="",".",", ") -> . | AD32: =IF(AB32="","",AB32&AC32)
D33: Delområde 1/Vara/Tjanst 5 | E33: Delområde 2/Vara/Tjanst 5 | F33: Delområde 3/Vara/Tjanst 5 | G33: Delområde 4/Vara/Tjanst 5 | H33: Delområde 5/Vara/Tjanst 5 | I33: Delområde 6/Vara/Tjanst 5 | J33: =IFERROR(IF(INDEX(D33:I33,MATCH(J$2,D$2:I$2,0))=0,"",INDEX(D33:I33,MATCH(J$2,D$2:I$2,0))),"") -> Delområde 1/Vara/Tjanst 5 | L33: =IF('1 Spec. - 1. Lägsta pris'!C47="","",'1 Spec. - 1. Lägsta pris'!B47) | M33: {=IFERROR(INDEX($L$29:$L$50,SMALL(IF($L$29:$L$50<>"",ROW($L$29:$L$50)-ROW(L$29)+1),ROWS(M$29:M33))),"")} | N33: =IF(M34="",".",", ") -> . | O33: =IF(M33="","",M33&N33) | Q33: =IF('1 Spec. - 2. Relativ viktning'!C47="","",'1 Spec. - 2. Relativ viktning'!B47) | R33: {=IFERROR(INDEX($Q$29:$Q$50,SMALL(IF($Q$29:$Q$50<>"",ROW($Q$29:$Q$50)-ROW(Q$29)+1),ROWS(R$29:R33))),"")} | S33: =IF(R34="",".",", ") -> . | T33: =IF(R33="","",R33&S33) | V33: =IF('1 Spec. - 3. Mervärdesmodell'!C47="","",'1 Spec. - 3. Mervärdesmodell'!B47) | W33: {=IFERROR(INDEX($V$29:$V$50,SMALL(IF($V$29:$V$50<>"",ROW($V$29:$V$50)-ROW(V$29)+1),ROWS(W$29:W33))),"")} | X33: =IF(W34="",".",", ") -> . | Y33: =IF(W33="","",W33&X33) | AA33: =IF('1 Spec. - 4. Annan modell'!C47="","",'1 Spec. - 4. Annan modell'!B47) | AB33: {=IFERROR(INDEX($AA$29:$AA$50,SMALL(IF($AA$29:$AA$50<>"",ROW($AA$29:$AA$50)-ROW(AA$29)+1),ROWS(AB$29:AB33))),"")} | AC33: =IF(AB34="",".",", ") -> . | AD33: =IF(AB33="","",AB33&AC33)
D34: Delområde 1/Vara/Tjanst 6 | E34: Delområde 2/Vara/Tjanst 6 | F34: Delområde 3/Vara/Tjanst 6 | G34: Delområde 4/Vara/Tjanst 6 | H34: Delområde 5/Vara/Tjanst 6 | I34: Delområde 6/Vara/Tjanst 6 | J34: =IFERROR(IF(INDEX(D34:I34,MATCH(J$2,D$2:I$2,0))=0,"",INDEX(D34:I34,MATCH(J$2,D$2:I$2,0))),"") -> Delområde 1/Vara/Tjanst 6 | L34: =IF('1 Spec. - 1. Lägsta pris'!C48="","",'1 Spec. - 1. Lägsta pris'!B48) | M34: {=IFERROR(INDEX($L$29:$L$50,SMALL(IF($L$29:$L$50<>"",ROW($L$29:$L$50)-ROW(L$29)+1),ROWS(M$29:M34))),"")} | N34: =IF(M35="",".",", ") -> . | O34: =IF(M34="","",M34&N34) | Q34: =IF('1 Spec. - 2. Relativ viktning'!C48="","",'1 Spec. - 2. Relativ viktning'!B48) | R34: {=IFERROR(INDEX($Q$29:$Q$50,SMALL(IF($Q$29:$Q$50<>"",ROW($Q$29:$Q$50)-ROW(Q$29)+1),ROWS(R$29:R34))),"")} | S34: =IF(R35="",".",", ") -> . | T34: =IF(R34="","",R34&S34) | V34: =IF('1 Spec. - 3. Mervärdesmodell'!C48="","",'1 Spec. - 3. Mervärdesmodell'!B48) | W34: {=IFERROR(INDEX($V$29:$V$50,SMALL(IF($V$29:$V$50<>"",ROW($V$29:$V$50)-ROW(V$29)+1),ROWS(W$29:W34))),"")} | X34: =IF(W35="",".",", ") -> . | Y34: =IF(W34="","",W34&X34) | AA34: =IF('1 Spec. - 4. Annan modell'!C48="","",'1 Spec. - 4. Annan modell'!B48) | AB34: {=IFERROR(INDEX($AA$29:$AA$50,SMALL(IF($AA$29:$AA$50<>"",ROW($AA$29:$AA$50)-ROW(AA$29)+1),ROWS(AB$29:AB34))),"")} | AC34: =IF(AB35="",".",", ") -> . | AD34: =IF(AB34="","",AB34&AC34)
D35: Delområde 1/Vara/Tjanst 7 | E35: Delområde 2/Vara/Tjanst 7 | F35: Delområde 3/Vara/Tjanst 7 | G35: Delområde 4/Vara/Tjanst 7 | H35: Delområde 5/Vara/Tjanst 7 | I35: Delområde 6/Vara/Tjanst 7 | J35: =IFERROR(IF(INDEX(D35:I35,MATCH(J$2,D$2:I$2,0))=0,"",INDEX(D35:I35,MATCH(J$2,D$2:I$2,0))),"") -> Delområde 1/Vara/Tjanst 7 | L35: =IF('1 Spec. - 1. Lägsta pris'!C49="","",'1 Spec. - 1. Lägsta pris'!B49) | M35: {=IFERROR(INDEX($L$29:$L$50,SMALL(IF($L$29:$L$50<>"",ROW($L$29:$L$50)-ROW(L$29)+1),ROWS(M$29:M35))),"")} | N35: =IF(M36="",".",", ") -> . | O35: =IF(M35="","",M35&N35) | Q35: =IF('1 Spec. - 2. Relativ viktning'!C49="","",'1 Spec. - 2. Relativ viktning'!B49) | R35: {=IFERROR(INDEX($Q$29:$Q$50,SMALL(IF($Q$29:$Q$50<>"",ROW($Q$29:$Q$50)-ROW(Q$29)+1),ROWS(R$29:R35))),"")} | S35: =IF(R36="",".",", ") -> . | T35: =IF(R35="","",R35&S35) | V35: =IF('1 Spec. - 3. Mervärdesmodell'!C49="","",'1 Spec. - 3. Mervärdesmodell'!B49) | W35: {=IFERROR(INDEX($V$29:$V$50,SMALL(IF($V$29:$V$50<>"",ROW($V$29:$V$50)-ROW(V$29)+1),ROWS(W$29:W35))),"")} | X35: =IF(W36="",".",", ") -> . | Y35: =IF(W35="","",W35&X35) | AA35: =IF('1 Spec. - 4. Annan modell'!C49="","",'1 Spec. - 4. Annan modell'!B49) | AB35: {=IFERROR(INDEX($AA$29:$AA$50,SMALL(IF($AA$29:$AA$50<>"",ROW($AA$29:$AA$50)-ROW(AA$29)+1),ROWS(AB$29:AB35))),"")} | AC35: =IF(AB36="",".",", ") -> . | AD35: =IF(AB35="","",AB35&AC35)
D36: Delområde 1/Vara/Tjanst 8 | E36: Delområde 2/Vara/Tjanst 8 | F36: Delområde 3/Vara/Tjanst 8 | G36: Delområde 4/Vara/Tjanst 8 | H36: Delområde 5/Vara/Tjanst 8 | I36: Delområde 6/Vara/Tjanst 8 | J36: =IFERROR(IF(INDEX(D36:I36,MATCH(J$2,D$2:I$2,0))=0,"",INDEX(D36:I36,MATCH(J$2,D$2:I$2,0))),"") -> Delområde 1/Vara/Tjanst 8 | L36: =IF('1 Spec. - 1. Lägsta pris'!C50="","",'1 Spec. - 1. Lägsta pris'!B50) | M36: {=IFERROR(INDEX($L$29:$L$50,SMALL(IF($L$29:$L$50<>"",ROW($L$29:$L$50)-ROW(L$29)+1),ROWS(M$29:M36))),"")} | N36: =IF(M37="",".",", ") -> . | O36: =IF(M36="","",M36&N36) | Q36: =IF('1 Spec. - 2. Relativ viktning'!C50="","",'1 Spec. - 2. Relativ viktning'!B50) | R36: {=IFERROR(INDEX($Q$29:$Q$50,SMALL(IF($Q$29:$Q$50<>"",ROW($Q$29:$Q$50)-ROW(Q$29)+1),ROWS(R$29:R36))),"")} | S36: =IF(R37="",".",", ") -> . | T36: =IF(R36="","",R36&S36) | V36: =IF('1 Spec. - 3. Mervärdesmodell'!C50="","",'1 Spec. - 3. Mervärdesmodell'!B50) | W36: {=IFERROR(INDEX($V$29:$V$50,SMALL(IF($V$29:$V$50<>"",ROW($V$29:$V$50)-ROW(V$29)+1),ROWS(W$29:W36))),"")} | X36: =IF(W37="",".",", ") -> . | Y36: =IF(W36="","",W36&X36) | AA36: =IF('1 Spec. - 4. Annan modell'!C50="","",'1 Spec. - 4. Annan modell'!B50) | AB36: {=IFERROR(INDEX($AA$29:$AA$50,SMALL(IF($AA$29:$AA$50<>"",ROW($AA$29:$AA$50)-ROW(AA$29)+1),ROWS(AB$29:AB36))),"")} | AC36: =IF(AB37="",".",", ") -> . | AD36: =IF(AB36="","",AB36&AC36)
D37: Delområde 1/Vara/Tjanst 9 | E37: Delområde 2/Vara/Tjanst 9 | F37: Delområde 3/Vara/Tjanst 9 | G37: Delområde 4/Vara/Tjanst 9 | H37: Delområde 5/Vara/Tjanst 9 | I37: Delområde 6/Vara/Tjanst 9 | J37: =IFERROR(IF(INDEX(D37:I37,MATCH(J$2,D$2:I$2,0))=0,"",INDEX(D37:I37,MATCH(J$2,D$2:I$2,0))),"") -> Delområde 1/Vara/Tjanst 9 | L37: =IF('1 Spec. - 1. Lägsta pris'!C51="","",'1 Spec. - 1. Lägsta pris'!B51) | M37: {=IFERROR(INDEX($L$29:$L$50,SMALL(IF($L$29:$L$50<>"",ROW($L$29:$L$50)-ROW(L$29)+1),ROWS(M$29:M37))),"")} | N37: =IF(M38="",".",", ") -> . | O37: =IF(M37="","",M37&N37) | Q37: =IF('1 Spec. - 2. Relativ viktning'!C51="","",'1 Spec. - 2. Relativ viktning'!B51) | R37: {=IFERROR(INDEX($Q$29:$Q$50,SMALL(IF($Q$29:$Q$50<>"",ROW($Q$29:$Q$50)-ROW(Q$29)+1),ROWS(R$29:R37))),"")} | S37: =IF(R38="",".",", ") -> . | T37: =IF(R37="","",R37&S37) | V37: =IF('1 Spec. - 3. Mervärdesmodell'!C51="","",'1 Spec. - 3. Mervärdesmodell'!B51) | W37: {=IFERROR(INDEX($V$29:$V$50,SMALL(IF($V$29:$V$50<>"",ROW($V$29:$V$50)-ROW(V$29)+1),ROWS(W$29:W37))),"")} | X37: =IF(W38="",".",", ") -> . | Y37: =IF(W37="","",W37&X37) | AA37: =IF('1 Spec. - 4. Annan modell'!C51="","",'1 Spec. - 4. Annan modell'!B51) | AB37: {=IFERROR(INDEX($AA$29:$AA$50,SMALL(IF($AA$29:$AA$50<>"",ROW($AA$29:$AA$50)-ROW(AA$29)+1),ROWS(AB$29:AB37))),"")} | AC37: =IF(AB38="",".",", ") -> . | AD37: =IF(AB37="","",AB37&AC37)
D38: Delområde 1/Vara/Tjanst 10 | E38: Delområde 2/Vara/Tjanst 10 | F38: Delområde 3/Vara/Tjanst 10 | G38: Delområde 4/Vara/Tjanst 10 | H38: Delområde 5/Vara/Tjanst 10 | I38: Delområde 6/Vara/Tjanst 10 | J38: =IFERROR(IF(INDEX(D38:I38,MATCH(J$2,D$2:I$2,0))=0,"",INDEX(D38:I38,MATCH(J$2,D$2:I$2,0))),"") -> Delområde 1/Vara/Tjanst 10 | L38: =IF('1 Spec. - 1. Lägsta pris'!C52="","",'1 Spec. - 1. Lägsta pris'!B52) | M38: {=IFERROR(INDEX($L$29:$L$50,SMALL(IF($L$29:$L$50<>"",ROW($L$29:$L$50)-ROW(L$29)+1),ROWS(M$29:M38))),"")} | N38: =IF(M39="",".",", ") -> . | O38: =IF(M38="","",M38&N38) | Q38: =IF('1 Spec. - 2. Relativ viktning'!C52="","",'1 Spec. - 2. Relativ viktning'!B52) | R38: {=IFERROR(INDEX($Q$29:$Q$50,SMALL(IF($Q$29:$Q$50<>"",ROW($Q$29:$Q$50)-ROW(Q$29)+1),ROWS(R$29:R38))),"")} | S38: =IF(R39="",".",", ") -> . | T38: =IF(R38="","",R38&S38) | V38: =IF('1 Spec. - 3. Mervärdesmodell'!C52="","",'1 Spec. - 3. Mervärdesmodell'!B52) | W38: {=IFERROR(INDEX($V$29:$V$50,SMALL(IF($V$29:$V$50<>"",ROW($V$29:$V$50)-ROW(V$29)+1),ROWS(W$29:W38))),"")} | X38: =IF(W39="",".",", ") -> . | Y38: =IF(W38="","",W38&X38) | AA38: =IF('1 Spec. - 4. Annan modell'!C52="","",'1 Spec. - 4. Annan modell'!B52) | AB38: {=IFERROR(INDEX($AA$29:$AA$50,SMALL(IF($AA$29:$AA$50<>"",ROW($AA$29:$AA$50)-ROW(AA$29)+1),ROWS(AB$29:AB38))),"")} | AC38: =IF(AB39="",".",", ") -> . | AD38: =IF(AB38="","",AB38&AC38)
D39: Delområde 1/Vara/Tjanst 11 | E39: Delområde 2/Vara/Tjanst 11 | F39: Delområde 3/Vara/Tjanst 11 | G39: Delområde 4/Vara/Tjanst 11 | H39: Delområde 5/Vara/Tjanst 11 | I39: Delområde 6/Vara/Tjanst 11 | J39: =IFERROR(IF(INDEX(D39:I39,MATCH(J$2,D$2:I$2,0))=0,"",INDEX(D39:I39,MATCH(J$2,D$2:I$2,0))),"") -> Delområde 1/Vara/Tjanst 11 | L39: =IF('1 Spec. - 1. Lägsta pris'!C53="","",'1 Spec. - 1. Lägsta pris'!B53) | M39: {=IFERROR(INDEX($L$29:$L$50,SMALL(IF($L$29:$L$50<>"",ROW($L$29:$L$50)-ROW(L$29)+1),ROWS(M$29:M39))),"")} | N39: =IF(M40="",".",", ") -> . | O39: =IF(M39="","",M39&N39) | Q39: =IF('1 Spec. - 2. Relativ viktning'!C53="","",'1 Spec. - 2. Relativ viktning'!B53) | R39: {=IFERROR(INDEX($Q$29:$Q$50,SMALL(IF($Q$29:$Q$50<>"",ROW($Q$29:$Q$50)-ROW(Q$29)+1),ROWS(R$29:R39))),"")} | S39: =IF(R40="",".",", ") -> . | T39: =IF(R39="","",R39&S39) | V39: =IF('1 Spec. - 3. Mervärdesmodell'!C53="","",'1 Spec. - 3. Mervärdesmodell'!B53) | W39: {=IFERROR(INDEX($V$29:$V$50,SMALL(IF($V$29:$V$50<>"",ROW($V$29:$V$50)-ROW(V$29)+1),ROWS(W$29:W39))),"")} | X39: =IF(W40="",".",", ") -> . | Y39: =IF(W39="","",W39&X39) | AA39: =IF('1 Spec. - 4. Annan modell'!C53="","",'1 Spec. - 4. Annan modell'!B53) | AB39: {=IFERROR(INDEX($AA$29:$AA$50,SMALL(IF($AA$29:$AA$50<>"",ROW($AA$29:$AA$50)-ROW(AA$29)+1),ROWS(AB$29:AB39))),"")} | AC39: =IF(AB40="",".",", ") -> . | AD39: =IF(AB39="","",AB39&AC39)
D40: Delområde 1/Vara/Tjanst 12 | E40: Delområde 2/Vara/Tjanst 12 | F40: Delområde 3/Vara/Tjanst 12 | G40: Delområde 4/Vara/Tjanst 12 | H40: Delområde 5/Vara/Tjanst 12 | I40: Delområde 6/Vara/Tjanst 12 | J40: =IFERROR(IF(INDEX(D40:I40,MATCH(J$2,D$2:I$2,0))=0,"",INDEX(D40:I40,MATCH(J$2,D$2:I$2,0))),"") -> Delområde 1/Vara/Tjanst 12 | L40: =IF('1 Spec. - 1. Lägsta pris'!C54="","",'1 Spec. - 1. Lägsta pris'!B54) | M40: {=IFERROR(INDEX($L$29:$L$50,SMALL(IF($L$29:$L$50<>"",ROW($L$29:$L$50)-ROW(L$29)+1),ROWS(M$29:M40))),"")} | N40: =IF(M41="",".",", ") -> . | O40: =IF(M40="","",M40&N40) | Q40: =IF('1 Spec. - 2. Relativ viktning'!C54="","",'1 Spec. - 2. Relativ viktning'!B54) | R40: {=IFERROR(INDEX($Q$29:$Q$50,SMALL(IF($Q$29:$Q$50<>"",ROW($Q$29:$Q$50)-ROW(Q$29)+1),ROWS(R$29:R40))),"")} | S40: =IF(R41="",".",", ") -> . | T40: =IF(R40="","",R40&S40) | V40: =IF('1 Spec. - 3. Mervärdesmodell'!C54="","",'1 Spec. - 3. Mervärdesmodell'!B54) | W40: {=IFERROR(INDEX($V$29:$V$50,SMALL(IF($V$29:$V$50<>"",ROW($V$29:$V$50)-ROW(V$29)+1),ROWS(W$29:W40))),"")} | X40: =IF(W41="",".",", ") -> . | Y40: =IF(W40="","",W40&X40) | AA40: =IF('1 Spec. - 4. Annan modell'!C54="","",'1 Spec. - 4. Annan modell'!B54) | AB40: {=IFERROR(INDEX($AA$29:$AA$50,SMALL(IF($AA$29:$AA$50<>"",ROW($AA$29:$AA$50)-ROW(AA$29)+1),ROWS(AB$29:AB40))),"")} | AC40: =IF(AB41="",".",", ") -> . | AD40: =IF(AB40="","",AB40&AC40)
... D50: Delområde 1/Vara/Tjanst 22 | E50: Delområde 2/Vara/Tjanst 22 | F50: Delområde 3/Vara/Tjanst 22 | G50: Delområde 4/Vara/Tjanst 22 | H50: Delområde 5/Vara/Tjanst 22 | I50: Delområde 6/Vara/Tjanst 22 | J50: =IFERROR(IF(INDEX(D50:I50,MATCH(J$2,D$2:I$2,0))=0,"",INDEX(D50:I50,MATCH(J$2,D$2:I$2,0))),"") -> Delområde 1/Vara/Tjanst 22 | L50: =IF('1 Spec. - 1. Lägsta pris'!C64="","",'1 Spec. - 1. Lägsta pris'!B64) | M50: {=IFERROR(INDEX($L$29:$L$50,SMALL(IF($L$29:$L$50<>"",ROW($L$29:$L$50)-ROW(L$29)+1),ROWS(M$29:M50))),"")} | N50: =IF(M51="",".",", ") -> . | O50: =IF(M50="","",M50&N50) | Q50: =IF('1 Spec. - 2. Relativ viktning'!C64="","",'1 Spec. - 2. Relativ viktning'!B64) | R50: {=IFERROR(INDEX($Q$29:$Q$50,SMALL(IF($Q$29:$Q$50<>"",ROW($Q$29:$Q$50)-ROW(Q$29)+1),ROWS(R$29:R50))),"")} | S50: =IF(R51="",".",", ") -> . | T50: =IF(R50="","",R50&S50) | V50: =IF('1 Spec. - 3. Mervärdesmodell'!C64="","",'1 Spec. - 3. Mervärdesmodell'!B64) | W50: {=IFERROR(INDEX($V$29:$V$50,SMALL(IF($V$29:$V$50<>"",ROW($V$29:$V$50)-ROW(V$29)+1),ROWS(W$29:W50))),"")} | X50: =IF(W51="",".",", ") -> . | Y50: =IF(W50="","",W50&X50) | AA50: =IF('1 Spec. - 4. Annan modell'!C64="","",'1 Spec. - 4. Annan modell'!B64) | AB50: {=IFERROR(INDEX($AA$29:$AA$50,SMALL(IF($AA$29:$AA$50<>"",ROW($AA$29:$AA$50)-ROW(AA$29)+1),ROWS(AB$29:AB50))),"")} | AC50: =IF(AB51="",".",", ") -> . | AD50: =IF(AB50="","",AB50&AC50)
D51: Delområde 1/Vara/Tjanst 23 | E51: Delområde 2/Vara/Tjanst 23 | F51: Delområde 3/Vara/Tjanst 23 | G51: Delområde 4/Vara/Tjanst 23 | H51: Delområde 5/Vara/Tjanst 23 | I51: Delområde 6/Vara/Tjanst 23 | J51: =IFERROR(IF(INDEX(D51:I51,MATCH(J$2,D$2:I$2,0))=0,"",INDEX(D51:I51,MATCH(J$2,D$2:I$2,0))),"") -> Delområde 1/Vara/Tjanst 23
D52: Delområde 1/Vara/Tjanst 24 | E52: Delområde 2/Vara/Tjanst 24 | F52: Delområde 3/Vara/Tjanst 24 | G52: Delområde 4/Vara/Tjanst 24 | H52: Delområde 5/Vara/Tjanst 24 | I52: Delområde 6/Vara/Tjanst 24 | J52: =IFERROR(IF(INDEX(D52:I52,MATCH(J$2,D$2:I$2,0))=0,"",INDEX(D52:I52,MATCH(J$2,D$2:I$2,0))),"") -> Delområde 1/Vara/Tjanst 24
D53: Delområde 1/Vara/Tjanst 25 | E53: Delområde 2/Vara/Tjanst 25 | F53: Delområde 3/Vara/Tjanst 25 | G53: Delområde 4/Vara/Tjanst 25 | H53: Delområde 5/Vara/Tjanst 25 | I53: Delområde 6/Vara/Tjanst 25 | J53: =IFERROR(IF(INDEX(D53:I53,MATCH(J$2,D$2:I$2,0))=0,"",INDEX(D53:I53,MATCH(J$2,D$2:I$2,0))),"") -> Delområde 1/Vara/Tjanst 25
J55: Region
D56: TblGrundTilldeln | F56: Tbl krav | H56: TblEnhet | J56: Flerregionalt
F57: Välj krav | H57: Styck | J57: Blekinge län
F58: Krav 1 | H58: Timmar | J58: Dalarnas län
D59: Alt. 2. Ekonomiskt mest fördelaktiga (bästa förhållande mellan pris och kvalitet) | F59: Krav 2 | H59: Totalpris | J59: Gotlands län
F60: Krav 3 | H60: År | J60: Gävleborgs län
D61: TblUtVrd | F61: Krav 4 | H61: Bilaga | J61: Hallands län
D62: Välj utvärdering….. | F62: Krav 5 | J62: Jämtlands län
D63: Alt. 1. Lägsta pris | F63: Krav 6 | J63: Jönköpings län | M63: {=IFERROR(INDIRECT(Admin!M65),"XXXXX")} -> XXXXX | N63: {="Ramavtalsnummer: "&IFERROR(INDIRECT(Admin!N65),"XXXXX")} -> Ramavtalsnummer: XXXXX
D64: Alt. 2. Relativ viktning - summan av viktade poäng för pris och uppfyllda bör-krav | F64: Se bilaga | J64: Kalmar län
D65: Alt. 3. Mervärdesmodell - prisavdrag för uppfyllda bör-krav | J65: Kronobergs län | M65: ="'"&M67&"'!"&M66 -> '0'!J5 | N65: ="'"&N67&"'!"&N66 -> '0'!J8
D66: Alt. 4. Annan utvärderingsmodell | F66: ValBilaga | H66: TblLarmTyp | J66: Norrbottens län | M66: J5 | N66: J8
H67: Inbrottslarm | J67: Skånes län | M67: =IFERROR(INDEX($L$71:$L$74,MATCH("Ja",$M$71:$M$74,0)),0) -> 0 | N67: =M67 -> 0
F68: Ja | H68: Personlarm | J68: Stockholms län
J69: Södermanlands län
J70: Uppsala län | M70: Test
J71: Värmlands län | L71: 1 Spec. - 1. Lägsta pris | M71: =Information!D12 -> 0
J72: Västerbottens län | L72: 1 Spec. - 2. Relativ viktning | M72: =Information!D13 -> 0
J73: Västernorrlands län | L73: 1 Spec. - 3. Mervärdesmodell | M73: =Information!D14 -> 0
J74: Västmanlands län | L74: 1 Spec. - 4. Annan modell | M74: =Information!D15 -> 0
J75: Västra Götalands län
J76: Örebro län
J77: Östergötlands lön
C79: TblLeverantörer
C80: Juridiskt Namn | D80: Förvaltningens avtalsnummer | E80: Organisations-nummer | F80: Adress | G80: Postnummer | H80: Postadress | I80: Telefon Växel | J80: Telefon kundtjänst | K80: Hemsida | L80: Kontaktperson | M80: Telefon | N80: E-post kontaktperson | O80: Befattning Kontaktperson | P80: Fax | Q80: E-post Gruppbrevlåda
C82: ="Välj "&C80 -> Välj Juridiskt Namn | D82: =D80 -> Förvaltningens avtalsnummer | E82: =E80 -> Organisations-nummer | F82: =F80 -> Adress | G82: =G80 -> Postnummer | H82: =H80 -> Postadress | I82: =I80 -> Telefon Växel | J82: =J80 -> Telefon kundtjänst | K82: =K80 -> Hemsida | ... Q82: =Q80 -> E-post Gruppbrevlåda
C83: Välj Juridiskt Namn 2 | D83: Förvaltningens avtalsnummer 2 | E83: Organisations-nummer 2 | F83: Adress 2 | G83: Postnummer 2 | H83: Postadress 2 | I83: Telefon Växel 2 | J83: Telefon kundtjänst 2 | K83: Hemsida 2 | L83: Kontaktperson 2 | M83: Telefon 2 | N83: E-post kontaktperson 2 | O83: Befattning Kontaktperson 2 | P83: Fax 2 | Q83: E-post Gruppbrevlåda 2
E99: TblKrv2 | F99: 30 | G99: =F99+1 -> 31 | H99: =G99+1 -> 32 | I99: =H99+1 -> 33 | J99: =I99+1 -> 34 | K99: =J99+1 -> 35 | L99: =K99+1 -> 36 | M99: =L99+1 -> 37 | N99: =M99+1 -> 38 | ... AC99: =AB99+1 -> 53
C100: TblSpecTjnstr | E100: =J29 -> Delområde 1/Vara/Tjanst 1 | F100: =INDIRECT("J"&F99) -> Delområde 1/Vara/Tjanst 2 | G100: =INDIRECT("J"&G99) -> Delområde 1/Vara/Tjanst 3 | H100: =INDIRECT("J"&H99) -> Delområde 1/Vara/Tjanst 4 | I100: =INDIRECT("J"&I99) -> Delområde 1/Vara/Tjanst 5 | J100: =INDIRECT("J"&J99) -> Delområde 1/Vara/Tjanst 6 | K100: =INDIRECT("J"&K99) -> Delområde 1/Vara/Tjanst 7 | L100: =INDIRECT("J"&L99) -> Delområde 1/Vara/Tjanst 8 | M100: =INDIRECT("J"&M99) -> Delområde 1/Vara/Tjanst 9 | ... AC100: =INDIRECT("J"&AC99) -> Delområde 1/Vara/Tjanst 25
C101: Välj Vara/Tjanst | E101: Delområde 1/Vara/Tjanst 1/Krav1 | F101: Delområde 1/Vara/Tjanst 2/Krav1 | G101: Delområde 1/Vara/Tjanst 3/Krav1 | H101: Delområde 1/Vara/Tjanst 4/Krav1 | I101: Delområde 1/Vara/Tjanst 5/Krav1 | J101: Delområde 1/Vara/Tjanst 6/Krav1 | K101: Delområde 1/Vara/Tjanst 7/Krav1 | L101: Delområde 1/Vara/Tjanst 8/Krav1 | M101: Delområde 1/Vara/Tjanst 9/Krav1 | N101: Delområde 1/Vara/Tjanst 10/Krav1 | O101: Delområde 1/Vara/Tjanst 11/Krav1 | P101: Delområde 1/Vara/Tjanst 12/Krav1 | Q101: Delområde 1/Vara/Tjanst 13/Krav1 | R101: Delområde 1/Vara/Tjanst 14/Krav1 | S101: Delområde 1/Vara/Tjanst 15/Krav1 | T101: Delområde 1/Vara/Tjanst 16/Krav1 | U101: Delområde 1/Vara/Tjanst 17/Krav1 | V101: Delområde 1/Vara/Tjanst 18/Krav1 | W101: Delområde 1/Vara/Tjanst 19/Krav1 | X101: Delområde 1/Vara/Tjanst 20/Krav1 | Y101: Delområde 1/Vara/Tjanst 21/Krav1 | Z101: Delområde 1/Vara/Tjanst 22/Krav1 | AA101: Delområde 1/Vara/Tjanst 23/Krav1 | AB101: Delområde 1/Vara/Tjanst 24/Krav1 | AC101: Delområde 1/Vara/Tjanst 25/Krav1
C102: =IF('1 Spec. - 1. Lägsta pris'!#REF!="","",'1 Spec. - 1. Lägsta pris'!#REF!) -> #REF! | E102: Delområde 1/Vara/Tjanst 1/Krav2 | F102: Delområde 1/Vara/Tjanst 2/Krav2 | G102: Delområde 1/Vara/Tjanst 3/Krav2 | H102: Delområde 1/Vara/Tjanst 4/Krav2 | I102: Delområde 1/Vara/Tjanst 5/Krav2 | J102: Delområde 1/Vara/Tjanst 6/Krav2 | K102: Delområde 1/Vara/Tjanst 7/Krav2 | L102: Delområde 1/Vara/Tjanst 8/Krav2 | M102: Delområde 1/Vara/Tjanst 9/Krav2 | N102: Delområde 1/Vara/Tjanst 10/Krav2 | O102: Delområde 1/Vara/Tjanst 11/Krav2 | P102: Delområde 1/Vara/Tjanst 12/Krav2 | Q102: Delområde 1/Vara/Tjanst 13/Krav2 | R102: Delområde 1/Vara/Tjanst 14/Krav2 | S102: Delområde 1/Vara/Tjanst 15/Krav2 | T102: Delområde 1/Vara/Tjanst 16/Krav2 | U102: Delområde 1/Vara/Tjanst 17/Krav2 | V102: Delområde 1/Vara/Tjanst 18/Krav2 | W102: Delområde 1/Vara/Tjanst 19/Krav2 | X102: Delområde 1/Vara/Tjanst 20/Krav2 | Y102: Delområde 1/Vara/Tjanst 21/Krav2 | Z102: Delområde 1/Vara/Tjanst 22/Krav2 | AA102: Delområde 1/Vara/Tjanst 23/Krav2 | AB102: Delområde 1/Vara/Tjanst 24/Krav2 | AC102: Delområde 1/Vara/Tjanst 25/Krav2
C103: =IF('1 Spec. - 1. Lägsta pris'!#REF!="","",'1 Spec. - 1. Lägsta pris'!#REF!) -> #REF! | E103: Delområde 1/Vara/Tjanst 1/Krav3 | F103: Delområde 1/Vara/Tjanst 2/Krav3 | G103: Delområde 1/Vara/Tjanst 3/Krav3 | H103: Delområde 1/Vara/Tjanst 4/Krav3 | I103: Delområde 1/Vara/Tjanst 5/Krav3 | J103: Delområde 1/Vara/Tjanst 6/Krav3 | K103: Delområde 1/Vara/Tjanst 7/Krav3 | L103: Delområde 1/Vara/Tjanst 8/Krav3 | M103: Delområde 1/Vara/Tjanst 9/Krav3 | N103: Delområde 1/Vara/Tjanst 10/Krav3 | O103: Delområde 1/Vara/Tjanst 11/Krav3 | P103: Delområde 1/Vara/Tjanst 12/Krav3 | Q103: Delområde 1/Vara/Tjanst 13/Krav3 | R103: Delområde 1/Vara/Tjanst 14/Krav3 | S103: Delområde 1/Vara/Tjanst 15/Krav3 | T103: Delområde 1/Vara/Tjanst 16/Krav3 | U103: Delområde 1/Vara/Tjanst 17/Krav3 | V103: Delområde 1/Vara/Tjanst 18/Krav3 | W103: Delområde 1/Vara/Tjanst 19/Krav3 | X103: Delområde 1/Vara/Tjanst 20/Krav3 | Y103: Delområde 1/Vara/Tjanst 21/Krav3 | Z103: Delområde 1/Vara/Tjanst 22/Krav3 | AA103: Delområde 1/Vara/Tjanst 23/Krav3 | AB103: Delområde 1/Vara/Tjanst 24/Krav3 | AC103: Delområde 1/Vara/Tjanst 25/Krav3
C104: =IF('1 Spec. - 1. Lägsta pris'!#REF!="","",'1 Spec. - 1. Lägsta pris'!#REF!) -> #REF! | E104: Delområde 1/Vara/Tjanst 1/Krav4 | F104: Delområde 1/Vara/Tjanst 2/Krav4 | G104: Delområde 1/Vara/Tjanst 3/Krav4 | H104: Delområde 1/Vara/Tjanst 4/Krav4 | I104: Delområde 1/Vara/Tjanst 5/Krav4 | J104: Delområde 1/Vara/Tjanst 6/Krav4 | K104: Delområde 1/Vara/Tjanst 7/Krav4 | L104: Delområde 1/Vara/Tjanst 8/Krav4 | M104: Delområde 1/Vara/Tjanst 9/Krav4 | N104: Delområde 1/Vara/Tjanst 10/Krav4 | O104: Delområde 1/Vara/Tjanst 11/Krav4 | P104: Delområde 1/Vara/Tjanst 12/Krav4 | Q104: Delområde 1/Vara/Tjanst 13/Krav4 | R104: Delområde 1/Vara/Tjanst 14/Krav4 | S104: Delområde 1/Vara/Tjanst 15/Krav4 | T104: Delområde 1/Vara/Tjanst 16/Krav4 | U104: Delområde 1/Vara/Tjanst 17/Krav4 | V104: Delområde 1/Vara/Tjanst 18/Krav4 | W104: Delområde 1/Vara/Tjanst 19/Krav4 | X104: Delområde 1/Vara/Tjanst 20/Krav4 | Y104: Delområde 1/Vara/Tjanst 21/Krav4 | Z104: Delområde 1/Vara/Tjanst 22/Krav4 | AA104: Delområde 1/Vara/Tjanst 23/Krav4 | AB104: Delområde 1/Vara/Tjanst 24/Krav4 | AC104: Delområde 1/Vara/Tjanst 25/Krav4
C105: =IF('1 Spec. - 1. Lägsta pris'!#REF!="","",'1 Spec. - 1. Lägsta pris'!#REF!) -> #REF! | E105: Delområde 1/Vara/Tjanst 1/Krav5 | F105: Delområde 1/Vara/Tjanst 2/Krav5 | G105: Delområde 1/Vara/Tjanst 3/Krav5 | H105: Delområde 1/Vara/Tjanst 4/Krav5 | I105: Delområde 1/Vara/Tjanst 5/Krav5 | J105: Delområde 1/Vara/Tjanst 6/Krav5 | K105: Delområde 1/Vara/Tjanst 7/Krav5 | L105: Delområde 1/Vara/Tjanst 8/Krav5 | M105: Delområde 1/Vara/Tjanst 9/Krav5 | N105: Delområde 1/Vara/Tjanst 10/Krav5 | O105: Delområde 1/Vara/Tjanst 11/Krav5 | P105: Delområde 1/Vara/Tjanst 12/Krav5 | Q105: Delområde 1/Vara/Tjanst 13/Krav5 | R105: Delområde 1/Vara/Tjanst 14/Krav5 | S105: Delområde 1/Vara/Tjanst 15/Krav5 | T105: Delområde 1/Vara/Tjanst 16/Krav5 | U105: Delområde 1/Vara/Tjanst 17/Krav5 | V105: Delområde 1/Vara/Tjanst 18/Krav5 | W105: Delområde 1/Vara/Tjanst 19/Krav5 | X105: Delområde 1/Vara/Tjanst 20/Krav5 | Y105: Delområde 1/Vara/Tjanst 21/Krav5 | Z105: Delområde 1/Vara/Tjanst 22/Krav5 | AA105: Delområde 1/Vara/Tjanst 23/Krav5 | AB105: Delområde 1/Vara/Tjanst 24/Krav5 | AC105: Delområde 1/Vara/Tjanst 25/Krav5
C106: =IF('1 Spec. - 1. Lägsta pris'!#REF!="","",'1 Spec. - 1. Lägsta pris'!#REF!) -> #REF! | E106: Delområde 1/Vara/Tjanst 1/Krav6 | F106: Delområde 1/Vara/Tjanst 2/Krav6 | G106: Delområde 1/Vara/Tjanst 3/Krav6 | H106: Delområde 1/Vara/Tjanst 4/Krav6 | I106: Delområde 1/Vara/Tjanst 5/Krav6 | J106: Delområde 1/Vara/Tjanst 6/Krav6 | K106: Delområde 1/Vara/Tjanst 7/Krav6 | L106: Delområde 1/Vara/Tjanst 8/Krav6 | M106: Delområde 1/Vara/Tjanst 9/Krav6 | N106: Delområde 1/Vara/Tjanst 10/Krav6 | O106: Delområde 1/Vara/Tjanst 11/Krav6 | P106: Delområde 1/Vara/Tjanst 12/Krav6 | Q106: Delområde 1/Vara/Tjanst 13/Krav6 | R106: Delområde 1/Vara/Tjanst 14/Krav6 | S106: Delområde 1/Vara/Tjanst 15/Krav6 | T106: Delområde 1/Vara/Tjanst 16/Krav6 | U106: Delområde 1/Vara/Tjanst 17/Krav6 | V106: Delområde 1/Vara/Tjanst 18/Krav6 | W106: Delområde 1/Vara/Tjanst 19/Krav6 | X106: Delområde 1/Vara/Tjanst 20/Krav6 | Y106: Delområde 1/Vara/Tjanst 21/Krav6 | Z106: Delområde 1/Vara/Tjanst 22/Krav6 | AA106: Delområde 1/Vara/Tjanst 23/Krav6 | AB106: Delområde 1/Vara/Tjanst 24/Krav6 | AC106: Delområde 1/Vara/Tjanst 25/Krav6
C107: =IF('1 Spec. - 1. Lägsta pris'!#REF!="","",'1 Spec. - 1. Lägsta pris'!#REF!) -> #REF! | E107: Delområde 1/Vara/Tjanst 1/Krav7 | F107: Delområde 1/Vara/Tjanst 2/Krav7 | G107: Delområde 1/Vara/Tjanst 3/Krav7 | H107: Delområde 1/Vara/Tjanst 4/Krav7 | I107: Delområde 1/Vara/Tjanst 5/Krav7 | J107: Delområde 1/Vara/Tjanst 6/Krav7 | K107: Delområde 1/Vara/Tjanst 7/Krav7 | L107: Delområde 1/Vara/Tjanst 8/Krav7 | M107: Delområde 1/Vara/Tjanst 9/Krav7 | N107: Delområde 1/Vara/Tjanst 10/Krav7 | O107: Delområde 1/Vara/Tjanst 11/Krav7 | P107: Delområde 1/Vara/Tjanst 12/Krav7 | Q107: Delområde 1/Vara/Tjanst 13/Krav7 | R107: Delområde 1/Vara/Tjanst 14/Krav7 | S107: Delområde 1/Vara/Tjanst 15/Krav7 | T107: Delområde 1/Vara/Tjanst 16/Krav7 | U107: Delområde 1/Vara/Tjanst 17/Krav7 | V107: Delområde 1/Vara/Tjanst 18/Krav7 | W107: Delområde 1/Vara/Tjanst 19/Krav7 | X107: Delområde 1/Vara/Tjanst 20/Krav7 | Y107: Delområde 1/Vara/Tjanst 21/Krav7 | Z107: Delområde 1/Vara/Tjanst 22/Krav7 | AA107: Delområde 1/Vara/Tjanst 23/Krav7 | AB107: Delområde 1/Vara/Tjanst 24/Krav7 | AC107: Delområde 1/Vara/Tjanst 25/Krav7
C108: =IF('1 Spec. - 1. Lägsta pris'!#REF!="","",'1 Spec. - 1. Lägsta pris'!#REF!) -> #REF! | E108: Delområde 1/Vara/Tjanst 1/Krav8 | F108: Delområde 1/Vara/Tjanst 2/Krav8 | G108: Delområde 1/Vara/Tjanst 3/Krav8 | H108: Delområde 1/Vara/Tjanst 4/Krav8 | I108: Delområde 1/Vara/Tjanst 5/Krav8 | J108: Delområde 1/Vara/Tjanst 6/Krav8 | K108: Delområde 1/Vara/Tjanst 7/Krav8 | L108: Delområde 1/Vara/Tjanst 8/Krav8 | M108: Delområde 1/Vara/Tjanst 9/Krav8 | N108: Delområde 1/Vara/Tjanst 10/Krav8 | O108: Delområde 1/Vara/Tjanst 11/Krav8 | P108: Delområde 1/Vara/Tjanst 12/Krav8 | Q108: Delområde 1/Vara/Tjanst 13/Krav8 | R108: Delområde 1/Vara/Tjanst 14/Krav8 | S108: Delområde 1/Vara/Tjanst 15/Krav8 | T108: Delområde 1/Vara/Tjanst 16/Krav8 | U108: Delområde 1/Vara/Tjanst 17/Krav8 | V108: Delområde 1/Vara/Tjanst 18/Krav8 | W108: Delområde 1/Vara/Tjanst 19/Krav8 | X108: Delområde 1/Vara/Tjanst 20/Krav8 | Y108: Delområde 1/Vara/Tjanst 21/Krav8 | Z108: Delområde 1/Vara/Tjanst 22/Krav8 | AA108: Delområde 1/Vara/Tjanst 23/Krav8 | AB108: Delområde 1/Vara/Tjanst 24/Krav8 | AC108: Delområde 1/Vara/Tjanst 25/Krav8
C109: =IF('1 Spec. - 1. Lägsta pris'!#REF!="","",'1 Spec. - 1. Lägsta pris'!#REF!) -> #REF! | E109: Delområde 1/Vara/Tjanst 1/Krav9 | F109: Delområde 1/Vara/Tjanst 2/Krav9 | G109: Delområde 1/Vara/Tjanst 3/Krav9 | H109: Delområde 1/Vara/Tjanst 4/Krav9 | I109: Delområde 1/Vara/Tjanst 5/Krav9 | J109: Delområde 1/Vara/Tjanst 6/Krav9 | K109: Delområde 1/Vara/Tjanst 7/Krav9 | L109: Delområde 1/Vara/Tjanst 8/Krav9 | M109: Delområde 1/Vara/Tjanst 9/Krav9 | N109: Delområde 1/Vara/Tjanst 10/Krav9 | O109: Delområde 1/Vara/Tjanst 11/Krav9 | P109: Delområde 1/Vara/Tjanst 12/Krav9 | Q109: Delområde 1/Vara/Tjanst 13/Krav9 | R109: Delområde 1/Vara/Tjanst 14/Krav9 | S109: Delområde 1/Vara/Tjanst 15/Krav9 | T109: Delområde 1/Vara/Tjanst 16/Krav9 | U109: Delområde 1/Vara/Tjanst 17/Krav9 | V109: Delområde 1/Vara/Tjanst 18/Krav9 | W109: Delområde 1/Vara/Tjanst 19/Krav9 | X109: Delområde 1/Vara/Tjanst 20/Krav9 | Y109: Delområde 1/Vara/Tjanst 21/Krav9 | Z109: Delområde 1/Vara/Tjanst 22/Krav9 | AA109: Delområde 1/Vara/Tjanst 23/Krav9 | AB109: Delområde 1/Vara/Tjanst 24/Krav9 | AC109: Delområde 1/Vara/Tjanst 25/Krav9
C110: =IF('1 Spec. - 1. Lägsta pris'!#REF!="","",'1 Spec. - 1. Lägsta pris'!#REF!) -> #REF!
C111: =IF('1 Spec. - 1. Lägsta pris'!#REF!="","",'1 Spec. - 1. Lägsta pris'!#REF!) -> #REF! | E111: =IFERROR(RIGHT(INDIRECT("C"&E112),LEN(INDIRECT("C"&E112))-6),"") | F111: =IFERROR(RIGHT(INDIRECT("C"&F112),LEN(INDIRECT("C"&F112))-6),"") | G111: =IFERROR(RIGHT(INDIRECT("C"&G112),LEN(INDIRECT("C"&G112))-6),"") | H111: =IFERROR(RIGHT(INDIRECT("C"&H112),LEN(INDIRECT("C"&H112))-6),"") | I111: =IFERROR(RIGHT(INDIRECT("C"&I112),LEN(INDIRECT("C"&I112))-6),"") | J111: =IFERROR(RIGHT(INDIRECT("C"&J112),LEN(INDIRECT("C"&J112))-6),"") | K111: =IFERROR(RIGHT(INDIRECT("C"&K112),LEN(INDIRECT("C"&K112))-6),"") | L111: =IFERROR(RIGHT(INDIRECT("C"&L112),LEN(INDIRECT("C"&L112))-6),"") | ... X111: =IFERROR(RIGHT(INDIRECT("C"&X112),LEN(INDIRECT("C"&X112))-6),"")
C112: =IF('1 Spec. - 1. Lägsta pris'!#REF!="","",'1 Spec. - 1. Lägsta pris'!#REF!) -> #REF! | E112: 102 | F112: =E112+1 -> 103 | G112: =F112+1 -> 104 | H112: =G112+1 -> 105 | I112: =H112+1 -> 106 | J112: =I112+1 -> 107 | K112: =J112+1 -> 108 | L112: =K112+1 -> 109 | M112: =L112+1 -> 110 | ... Y112: =X112+1 -> 122
C113: =IF('1 Spec. - 1. Lägsta pris'!#REF!="","",'1 Spec. - 1. Lägsta pris'!#REF!) -> #REF! | E113: TblKrvRes1 | F113: TblKrvRes2 | G113: TblKrvRes3 | H113: TblKrvRes4 | I113: TblKrvRes5 | J113: TblKrvRes6 | K113: TblKrvRes7 | L113: TblKrvRes8 | M113: TblKrvRes9 | N113: TblKrvRes10 | O113: TblKrvRes11 | P113: TblKrvRes12 | Q113: TblKrvRes13 | R113: TblKrvRes14 | S113: TblKrvRes15 | T113: TblKrvRes16 | U113: TblKrvRes17 | V113: TblKrvRes18 | W113: TblKrvRes19 | X113: TblKrvRes20
C114: =IF('1 Spec. - 1. Lägsta pris'!#REF!="","",'1 Spec. - 1. Lägsta pris'!#REF!) -> #REF! | E114: =IFERROR(INDEX($E101:$AC101,MATCH(E$111,$E$100:$AC$100,0)),"") | F114: =IFERROR(INDEX($E101:$AC101,MATCH(F$111,$E$100:$AC$100,0)),"") | G114: =IFERROR(INDEX($E101:$AC101,MATCH(G$111,$E$100:$AC$100,0)),"") | H114: =IFERROR(INDEX($E101:$AC101,MATCH(H$111,$E$100:$AC$100,0)),"") | I114: =IFERROR(INDEX($E101:$AC101,MATCH(I$111,$E$100:$AC$100,0)),"") | J114: =IFERROR(INDEX($E101:$AC101,MATCH(J$111,$E$100:$AC$100,0)),"") | K114: =IFERROR(INDEX($E101:$AC101,MATCH(K$111,$E$100:$AC$100,0)),"") | L114: =IFERROR(INDEX($E101:$AC101,MATCH(L$111,$E$100:$AC$100,0)),"") | ... X114: =IFERROR(INDEX($E101:$AC101,MATCH(X$111,$E$100:$AC$100,0)),"") | Y114: =IFERROR(RIGHT(INDIRECT("C"&Y112),LEN(INDIRECT("C"&Y112))-6),"")
C115: =IF('1 Spec. - 1. Lägsta pris'!#REF!="","",'1 Spec. - 1. Lägsta pris'!#REF!) -> #REF! | E115: =IFERROR(INDEX($E102:$AC102,MATCH(E$111,$E$100:$AC$100,0)),"") | F115: =IFERROR(INDEX($E102:$AC102,MATCH(F$111,$E$100:$AC$100,0)),"") | G115: =IFERROR(INDEX($E102:$AC102,MATCH(G$111,$E$100:$AC$100,0)),"") | H115: =IFERROR(INDEX($E102:$AC102,MATCH(H$111,$E$100:$AC$100,0)),"") | I115: =IFERROR(INDEX($E102:$AC102,MATCH(I$111,$E$100:$AC$100,0)),"") | J115: =IFERROR(INDEX($E102:$AC102,MATCH(J$111,$E$100:$AC$100,0)),"") | K115: =IFERROR(INDEX($E102:$AC102,MATCH(K$111,$E$100:$AC$100,0)),"") | L115: =IFERROR(INDEX($E102:$AC102,MATCH(L$111,$E$100:$AC$100,0)),"") | ... X115: =IFERROR(INDEX($E102:$AC102,MATCH(X$111,$E$100:$AC$100,0)),"")
C116: =IF('1 Spec. - 1. Lägsta pris'!#REF!="","",'1 Spec. - 1. Lägsta pris'!#REF!) -> #REF! | E116: =IFERROR(INDEX($E103:$AC103,MATCH(E$111,$E$100:$AC$100,0)),"") | F116: =IFERROR(INDEX($E103:$AC103,MATCH(F$111,$E$100:$AC$100,0)),"") | G116: =IFERROR(INDEX($E103:$AC103,MATCH(G$111,$E$100:$AC$100,0)),"") | H116: =IFERROR(INDEX($E103:$AC103,MATCH(H$111,$E$100:$AC$100,0)),"") | I116: =IFERROR(INDEX($E103:$AC103,MATCH(I$111,$E$100:$AC$100,0)),"") | J116: =IFERROR(INDEX($E103:$AC103,MATCH(J$111,$E$100:$AC$100,0)),"") | K116: =IFERROR(INDEX($E103:$AC103,MATCH(K$111,$E$100:$AC$100,0)),"") | L116: =IFERROR(INDEX($E103:$AC103,MATCH(L$111,$E$100:$AC$100,0)),"") | ... X116: =IFERROR(INDEX($E103:$AC103,MATCH(X$111,$E$100:$AC$100,0)),"")
C117: =IF('1 Spec. - 1. Lägsta pris'!#REF!="","",'1 Spec. - 1. Lägsta pris'!#REF!) -> #REF! | E117: =IFERROR(INDEX($E104:$AC104,MATCH(E$111,$E$100:$AC$100,0)),"") | F117: =IFERROR(INDEX($E104:$AC104,MATCH(F$111,$E$100:$AC$100,0)),"") | G117: =IFERROR(INDEX($E104:$AC104,MATCH(G$111,$E$100:$AC$100,0)),"") | H117: =IFERROR(INDEX($E104:$AC104,MATCH(H$111,$E$100:$AC$100,0)),"") | I117: =IFERROR(INDEX($E104:$AC104,MATCH(I$111,$E$100:$AC$100,0)),"") | J117: =IFERROR(INDEX($E104:$AC104,MATCH(J$111,$E$100:$AC$100,0)),"") | K117: =IFERROR(INDEX($E104:$AC104,MATCH(K$111,$E$100:$AC$100,0)),"") | L117: =IFERROR(INDEX($E104:$AC104,MATCH(L$111,$E$100:$AC$100,0)),"") | ... X117: =IFERROR(INDEX($E104:$AC104,MATCH(X$111,$E$100:$AC$100,0)),"")
C118: =IF('1 Spec. - 1. Lägsta pris'!#REF!="","",'1 Spec. - 1. Lägsta pris'!#REF!) -> #REF! | E118: =IFERROR(INDEX($E105:$AC105,MATCH(E$111,$E$100:$AC$100,0)),"") | F118: =IFERROR(INDEX($E105:$AC105,MATCH(F$111,$E$100:$AC$100,0)),"") | G118: =IFERROR(INDEX($E105:$AC105,MATCH(G$111,$E$100:$AC$100,0)),"") | H118: =IFERROR(INDEX($E105:$AC105,MATCH(H$111,$E$100:$AC$100,0)),"") | I118: =IFERROR(INDEX($E105:$AC105,MATCH(I$111,$E$100:$AC$100,0)),"") | J118: =IFERROR(INDEX($E105:$AC105,MATCH(J$111,$E$100:$AC$100,0)),"") | K118: =IFERROR(INDEX($E105:$AC105,MATCH(K$111,$E$100:$AC$100,0)),"") | L118: =IFERROR(INDEX($E105:$AC105,MATCH(L$111,$E$100:$AC$100,0)),"") | ... X118: =IFERROR(INDEX($E105:$AC105,MATCH(X$111,$E$100:$AC$100,0)),"")
C119: =IF('1 Spec. - 1. Lägsta pris'!#REF!="","",'1 Spec. - 1. Lägsta pris'!#REF!) -> #REF! | E119: =IFERROR(INDEX($E106:$AC106,MATCH(E$111,$E$100:$AC$100,0)),"") | F119: =IFERROR(INDEX($E106:$AC106,MATCH(F$111,$E$100:$AC$100,0)),"") | G119: =IFERROR(INDEX($E106:$AC106,MATCH(G$111,$E$100:$AC$100,0)),"") | H119: =IFERROR(INDEX($E106:$AC106,MATCH(H$111,$E$100:$AC$100,0)),"") | I119: =IFERROR(INDEX($E106:$AC106,MATCH(I$111,$E$100:$AC$100,0)),"") | J119: =IFERROR(INDEX($E106:$AC106,MATCH(J$111,$E$100:$AC$100,0)),"") | K119: =IFERROR(INDEX($E106:$AC106,MATCH(K$111,$E$100:$AC$100,0)),"") | L119: =IFERROR(INDEX($E106:$AC106,MATCH(L$111,$E$100:$AC$100,0)),"") | ... X119: =IFERROR(INDEX($E106:$AC106,MATCH(X$111,$E$100:$AC$100,0)),"")
C120: =IF('1 Spec. - 1. Lägsta pris'!#REF!="","",'1 Spec. - 1. Lägsta pris'!#REF!) -> #REF! | E120: =IFERROR(INDEX($E107:$AC107,MATCH(E$111,$E$100:$AC$100,0)),"") | F120: =IFERROR(INDEX($E107:$AC107,MATCH(F$111,$E$100:$AC$100,0)),"") | G120: =IFERROR(INDEX($E107:$AC107,MATCH(G$111,$E$100:$AC$100,0)),"") | H120: =IFERROR(INDEX($E107:$AC107,MATCH(H$111,$E$100:$AC$100,0)),"") | I120: =IFERROR(INDEX($E107:$AC107,MATCH(I$111,$E$100:$AC$100,0)),"") | J120: =IFERROR(INDEX($E107:$AC107,MATCH(J$111,$E$100:$AC$100,0)),"") | K120: =IFERROR(INDEX($E107:$AC107,MATCH(K$111,$E$100:$AC$100,0)),"") | L120: =IFERROR(INDEX($E107:$AC107,MATCH(L$111,$E$100:$AC$100,0)),"") | ... X120: =IFERROR(INDEX($E107:$AC107,MATCH(X$111,$E$100:$AC$100,0)),"")
C121: =IF('1 Spec. - 1. Lägsta pris'!#REF!="","",'1 Spec. - 1. Lägsta pris'!#REF!) -> #REF! | E121: =IFERROR(INDEX($E108:$AC108,MATCH(E$111,$E$100:$AC$100,0)),"") | F121: =IFERROR(INDEX($E108:$AC108,MATCH(F$111,$E$100:$AC$100,0)),"") | G121: =IFERROR(INDEX($E108:$AC108,MATCH(G$111,$E$100:$AC$100,0)),"") | H121: =IFERROR(INDEX($E108:$AC108,MATCH(H$111,$E$100:$AC$100,0)),"") | I121: =IFERROR(INDEX($E108:$AC108,MATCH(I$111,$E$100:$AC$100,0)),"") | J121: =IFERROR(INDEX($E108:$AC108,MATCH(J$111,$E$100:$AC$100,0)),"") | K121: =IFERROR(INDEX($E108:$AC108,MATCH(K$111,$E$100:$AC$100,0)),"") | L121: =IFERROR(INDEX($E108:$AC108,MATCH(L$111,$E$100:$AC$100,0)),"") | ... X121: =IFERROR(INDEX($E108:$AC108,MATCH(X$111,$E$100:$AC$100,0)),"")
C122: =IF('1 Spec. - 1. Lägsta pris'!C180="","",'1 Spec. - 1. Lägsta pris'!B180&" - "&'1 Spec. - 1. Lägsta pris'!C180) | E122: =IFERROR(INDEX($E109:$AC109,MATCH(E$111,$E$100:$AC$100,0)),"") | F122: =IFERROR(INDEX($E109:$AC109,MATCH(F$111,$E$100:$AC$100,0)),"") | G122: =IFERROR(INDEX($E109:$AC109,MATCH(G$111,$E$100:$AC$100,0)),"") | H122: =IFERROR(INDEX($E109:$AC109,MATCH(H$111,$E$100:$AC$100,0)),"") | I122: =IFERROR(INDEX($E109:$AC109,MATCH(I$111,$E$100:$AC$100,0)),"") | J122: =IFERROR(INDEX($E109:$AC109,MATCH(J$111,$E$100:$AC$100,0)),"") | K122: =IFERROR(INDEX($E109:$AC109,MATCH(K$111,$E$100:$AC$100,0)),"") | L122: =IFERROR(INDEX($E109:$AC109,MATCH(L$111,$E$100:$AC$100,0)),"") | ... X122: =IFERROR(INDEX($E109:$AC109,MATCH(X$111,$E$100:$AC$100,0)),"")
C131: 1 | D131: Lista 1 | E131: 2 | F131: Lista 2 | G131: 3 | H131: Lista 3 | I131: 4 | J131: Lista 4 | L131: Kravspec
C132: Välj Vara/Tjanst | D132: Välj Vara/Tjanst | E132: Välj Vara/Tjanst | F132: Välj Vara/Tjanst | G132: Välj Vara/Tjanst | H132: Välj Vara/Tjanst | I132: Välj Vara/Tjanst | J132: Välj Vara/Tjanst
C133: =IF('1 Spec. - 1. Lägsta pris'!C76="Ja",'1 Spec. - 1. Lägsta pris'!B76,"") -> Ronderande bevakning | D133: {=IFERROR(INDEX($C$133:$C$152,SMALL(IF($C$133:$C$152<>"",ROW($C$133:$C$152)-ROW(C$133)+1),ROWS(D$133:D133))),"")} -> Ronderande bevakning | E133: =IF('1 Spec. - 2. Relativ viktning'!C76="Ja",'1 Spec. - 2. Relativ viktning'!B76,"") | F133: {=IFERROR(INDEX($E$133:$E$152,SMALL(IF($E$133:$E$152<>"",ROW($E$133:$E$152)-ROW(E$133)+1),ROWS(F$133:F133))),"")} | G133: =IF('1 Spec. - 3. Mervärdesmodell'!C76="Ja",'1 Spec. - 3. Mervärdesmodell'!B76,"") | H133: {=IFERROR(INDEX($G$133:$G$152,SMALL(IF($G$133:$G$152<>"",ROW($G$133:$G$152)-ROW(G$133)+1),ROWS(H$133:H133))),"")} | I133: =IF('1 Spec. - 4. Annan modell'!C76="Ja",'1 Spec. - 4. Annan modell'!B76,"") | J133: {=IFERROR(INDEX($I$133:$I$152,SMALL(IF($I$133:$I$152<>"",ROW($I$133:$I$152)-ROW(I$133)+1),ROWS(J$133:J133))),"")} | L133: Krav på utbildning, språk, kompetens, erfarenhet
C134: =IF('1 Spec. - 1. Lägsta pris'!C82="Ja",'1 Spec. - 1. Lägsta pris'!B82,"") | D134: {=IFERROR(INDEX($C$133:$C$152,SMALL(IF($C$133:$C$152<>"",ROW($C$133:$C$152)-ROW(C$133)+1),ROWS(D$133:D134))),"")} | E134: =IF('1 Spec. - 2. Relativ viktning'!C82="Ja",'1 Spec. - 2. Relativ viktning'!B82,"") | F134: {=IFERROR(INDEX($E$133:$E$152,SMALL(IF($E$133:$E$152<>"",ROW($E$133:$E$152)-ROW(E$133)+1),ROWS(F$133:F134))),"")} | G134: =IF('1 Spec. - 3. Mervärdesmodell'!C82="Ja",'1 Spec. - 3. Mervärdesmodell'!B82,"") | H134: {=IFERROR(INDEX($G$133:$G$152,SMALL(IF($G$133:$G$152<>"",ROW($G$133:$G$152)-ROW(G$133)+1),ROWS(H$133:H134))),"")} | I134: =IF('1 Spec. - 4. Annan modell'!C82="Ja",'1 Spec. - 4. Annan modell'!B82,"") | J134: {=IFERROR(INDEX($I$133:$I$152,SMALL(IF($I$133:$I$152<>"",ROW($I$133:$I$152)-ROW(I$133)+1),ROWS(J$133:J134))),"")} | L134: Krav på inställelsetid och närvaro vid larmryck, kompletterande utrustning, miljökrav på fordon
C135: =IF('1 Spec. - 1. Lägsta pris'!C88="Ja",'1 Spec. - 1. Lägsta pris'!B88,"") | D135: {=IFERROR(INDEX($C$133:$C$152,SMALL(IF($C$133:$C$152<>"",ROW($C$133:$C$152)-ROW(C$133)+1),ROWS(D$133:D135))),"")} | E135: =IF('1 Spec. - 2. Relativ viktning'!C88="Ja",'1 Spec. - 2. Relativ viktning'!B88,"") | F135: {=IFERROR(INDEX($E$133:$E$152,SMALL(IF($E$133:$E$152<>"",ROW($E$133:$E$152)-ROW(E$133)+1),ROWS(F$133:F135))),"")} | G135: =IF('1 Spec. - 3. Mervärdesmodell'!C88="Ja",'1 Spec. - 3. Mervärdesmodell'!B88,"") | H135: {=IFERROR(INDEX($G$133:$G$152,SMALL(IF($G$133:$G$152<>"",ROW($G$133:$G$152)-ROW(G$133)+1),ROWS(H$133:H135))),"")} | I135: =IF('1 Spec. - 4. Annan modell'!C88="Ja",'1 Spec. - 4. Annan modell'!B88,"") | J135: {=IFERROR(INDEX($I$133:$I$152,SMALL(IF($I$133:$I$152<>"",ROW($I$133:$I$152)-ROW(I$133)+1),ROWS(J$133:J135))),"")} | L135: Krav på säkerhetsskyddsavtal, ansvarsförsäkring, informationssäkerhet, personuppgiftshantering
C136: =IF('1 Spec. - 1. Lägsta pris'!C99="Ja",'1 Spec. - 1. Lägsta pris'!B99,"") | D136: {=IFERROR(INDEX($C$133:$C$152,SMALL(IF($C$133:$C$152<>"",ROW($C$133:$C$152)-ROW(C$133)+1),ROWS(D$133:D136))),"")} | E136: =IF('1 Spec. - 2. Relativ viktning'!C99="Ja",'1 Spec. - 2. Relativ viktning'!B99,"") | F136: {=IFERROR(INDEX($E$133:$E$152,SMALL(IF($E$133:$E$152<>"",ROW($E$133:$E$152)-ROW(E$133)+1),ROWS(F$133:F136))),"")} | G136: =IF('1 Spec. - 3. Mervärdesmodell'!C99="Ja",'1 Spec. - 3. Mervärdesmodell'!B99,"") | H136: {=IFERROR(INDEX($G$133:$G$152,SMALL(IF($G$133:$G$152<>"",ROW($G$133:$G$152)-ROW(G$133)+1),ROWS(H$133:H136))),"")} | I136: =IF('1 Spec. - 4. Annan modell'!C99="Ja",'1 Spec. - 4. Annan modell'!B99,"") | J136: {=IFERROR(INDEX($I$133:$I$152,SMALL(IF($I$133:$I$152<>"",ROW($I$133:$I$152)-ROW(I$133)+1),ROWS(J$133:J136))),"")} | L136: Krav på digitalt verktyg för beställare, kundportal, rapportering
...

Sheet SysAdmin
A1: LockStatus | B1: FALSE
A2: UKey | B2: Förvaltning21 | D2: 1 | E2: =INDEX(E3:E5,D2) -> Adminläge! Klicka här för att låsa vita celler.
A3: pkey | B3: Förvaltning21 | E3: Adminläge! Klicka här för att låsa vita celler.
A4: Wkey | B4: Förvaltning21 | C4: RGB | E4: Avroppsblanketten är nu upplåst, klicka här för att låsa avropsblanketten.
A5: YColor | C5: 255, 255, 153 | E5: Avroppsblanketten är nu låst, klicka här för att låsa upp avropsblanketten.
C6: 204, 255, 255
C7: 150, 150, 150 | E7: Grund för tilldelning av kontrakt & Utvärderingsmodell
C8: 204, 255, 204 | E8: =VALUE(IF(ISNUMBER(SEARCH("2",DpDwnTDV))=TRUE,"2","1")) -> 2
C9: 250, 191, 143 | E9: ="Alt"&IF(ISNUMBER(SEARCH("1",DpDwnUtvddrop))=TRUE,"1",IF(ISNUMBER(SEARCH("2",DpDwnUtvddrop))=TRUE,"2",IF(ISNUMBER(SEARCH("3",DpDwnUtvddrop))=TRUE,"3",IF(ISNUMBER(SEARCH("4",DpDwnUtvddrop))=TRUE,"4")))) -> AltFALSE
