{"text_format":"1","workbook":"xlsx","n_sheets":13,"sheets":["Avropsblankett","Uträkningsblad","Affischer","Ateljétjänster","Broschyrer","Folders","Katalog","Kuvert","Pappersmapp","Rapport","Roll up","Statligt tryck","Visitkort"],"not_rendered":{"charts":0,"images":0,"macros":1,"external_links":0,"defined_names":35,"comments":0,"pivot_tables":0},"unopened":[],"bounds":{"document_bytes":16777216,"sheet_cells":100000,"rows_first":2000,"rows_last":500,"rows_between":2000,"halvings":0,"cell_chars":16384,"cell_head_chars":4096},"cells_cut":0,"cells_raw":0,"read":"whole","date_system":"1900"}

{"sheet":"Avropsblankett","index":0,"n_rows":120,"n_cols":70,"rows_kept":120,"cut":false,"hidden":false,"merged":[[86,3,88,4],[104,3,104,4],[105,3,105,4],[94,5,94,6],[95,5,95,6],[96,5,96,6],[97,5,97,6],[98,5,98,6],[99,5,99,6],[100,5,100,6],[101,5,101,6],[102,5,102,6],[103,5,103,6],[104,5,104,6],[105,5,105,6],[99,3,99,4],[100,3,100,4],[101,3,101,4],[102,3,102,4],[103,3,103,4],[94,3,94,4],[95,3,95,4],[96,3,96,4],[97,3,97,4],[98,3,98,4],[90,3,90,4],[91,3,91,4],[92,3,92,4],[90,5,90,6],[91,5,91,6],[92,5,92,6],[16,1,17,1],[1,3,1,5],[86,5,88,6],[40,4,48,4],[40,5,48,5],[40,6,48,6],[28,3,36,3],[28,4,36,4],[16,2,17,4],[28,5,36,5],[28,6,36,6],[40,3,48,3],[20,2,20,4],[21,2,21,4],[22,2,22,4],[23,2,23,4],[24,2,24,4],[76,3,84,3],[76,4,84,4],[76,5,84,5],[76,6,84,6],[52,3,60,3],[52,4,60,4],[52,5,60,5],[52,6,60,6],[64,3,72,3],[64,4,72,4],[64,5,72,5],[64,6,72,6],[10,2,10,4],[11,2,11,4],[12,2,12,4],[13,2,13,4],[14,2,14,4],[5,2,5,4],[6,2,6,4],[7,2,7,4],[8,2,8,4],[9,2,9,4]]}
[]
[null,"Särskild fördelningsnyckel inkl. Kontrakt",null,{"$f":"HYPERLINK(\"https://www.avropa.se/\",\"Uppdaterad 2026-02-18. Kontrollera alltid inför avrop senaste versionen på avropa.se.\")","v":"Uppdaterad 2026-02-18. Kontrollera alltid inför avrop senaste versionen på avropa.se."}]
[null,"Tryckeritjänster Samtliga villkor fastställda",null,"Kundens diarienummer",null,null,null,null,null,null,null,null,null,"Visitkort","Antal","Affischer","Ateljétjänster","Broschyrer","Folders","Katalog","Kuvert","Pappersmappar","Rapport","Roll_up","Statligt_tryck","Visitkort"]
[null,null,null,"Datum ÅÅÅÅ-MM-DD",null,null,null,null,null,null,null,null,null,"Kuvert",{"$f":"B28&\"_\"&O3","v":"_Antal"},"Affischer_1","Bildbearbetning, tex färgjustering och tryckanpassning","Broschyrer_Variant_1","Folders_Variant_1","Katalog_1","Kuvert_Variant_1","Pappersmappar_Variant_1","Rapport_1","Roll_up_1","Statligt_tryck_1","Mattbestruket"]
[null,"Kundens uppgifter",null,null,null,null,null,null,null,null,null,null,null,"Pappersmappar treklaff utan snodd",null,"Affischer_2","Prepressarbete","Broschyrer_Variant_2","Folders_Variant_2","Katalog_2","Kuvert_Variant_2","Pappersmappar_Variant_2","Rapport_2","Roll_up_2","Statligt_tryck_2","Obestruket"]
[null,"Avropsberättigad:",null,null,null,null,null,null,null,null,null,null,null,"Folders",null,"Affischer_3","Retusch","Broschyrer_Variant_3","Folders_Variant_3",null,"Kuvert_Variant_3","Pappersmappar_Variant_3",null,"Roll_up_3"]
[null,"Organisationsnr:",null,null,null,null,null,null,null,null,null,null,null,"Broschyrer",null,null,"Layoutarbete med befintlig grafisk manual som bas",null,"Folders_Variant_4",null,"Kuvert_Variant_4","Pappersmappar_Variant_4",null,"Roll_up_4"]
[null,"Kontaktperson:",null,null,null,null,null,null,null,null,null,null,null,"Statligt tryck",null,null,"Formgivning",null,null,null,"Kuvert_Variant_5",null,null,"Roll_up_5"]
[null,"Telefonnummer:",null,null,null,null,null,null,null,null,null,null,null,"Rapport",null,null,null,null,null,null,"Kuvert_Variant_6",null,null,"Roll_up_6"]
[null,"E-postadress:",null,null,null,null,null,null,null,null,null,null,null,"Katalog",null,null,null,null,null,null,"Kuvert_Variant_7"]
[null,"Fakturaadress:",null,null,null,null,null,null,null,null,null,null,null,"Roll up"]
[null,"Standard för e-faktura:",null,null,null,null,null,null,null,null,null,null,null,"Affischer"]
[null,"Fakturareferens:",null,null,null,null,null,null,null,null,null,null,null,"Ateljétjänster"]
[null,"Leveransdag:"]
[null,"Leveransadress:"]
[]
[null,"Information till ramavtalsleverantör:"]
[]
[]
[null,"Vinnande ramavtalsleverantörs uppgifter",null,null,null,null,null,null,null,null,null,null,null,null,"Visitkort","Brevpapper","Kuvert",null,"Pappersmappar",null,"Broschyrer","Statligt_tryck","Rapport","Katalog",null,"Visitkort","Kollegieblock","Brevpapper","Kuvert","Säkerhetskuvert","Korrespondenskort","Pappersmappar","Folders","Broschyrer","Statligt_tryck","Rapport","Katalog","Roll_up","Affischer","Ateljétjänster","Lagerhållning"]
[null,"Ramavtalsleverantör:",{"$f":"Uträkningsblad!E68","v":"Ange vilken/vilka produkter och antal samt eventuella tillägg i de ljusgula rutorna på fliken avropsblankett som önskas avropas."},null,null,null,null,null,null,null,null,null,null,null,"Tryck","Tryck","Tryck",null,"Tryck",null,"Beskrivning/omfång\n(Inlaga mellan 8 och 64 sidor)","Beskrivning/omfång\n(Inlaga mellan 32 och 128 sidor)","Beskrivning/omfång\n(Inlaga mellan 32 och 128 sidor)","Beskrivning/omfång\n(Inlaga mellan 32 och 128 sidor)",null,"Antal olika original","Antal \n(Minst antal är 100)","Antal ark (Minst antal är 500)","Antal \n(Minst antal är 500)","Antal \n(Minst antal är 500)","Antal \n(Minst antal är 100)","Antal \n(Minst antal är 100)","Antal \n(Minst antal är 100)","Antal \n(Minst antal är 500)","Antal \n(Minst antal är 250)","Antal \n(Minst antal är 500)","Antal \n(Minst antal är 500)","Antal","Antal \n(Minst antal är 100)","Upp till antal hela timmar"]
[null,"Organisationsnummer:",{"$f":"Uträkningsblad!E69","v":""}]
[null,"Kontaktperson:",{"$f":"Uträkningsblad!E70","v":""}]
[null,"Telefonnummer:",{"$f":"Uträkningsblad!E71","v":""}]
[null,"E-postadress för avrop:",{"$f":"HYPERLINK(\"Mailto: \"&Uträkningsblad!E72)","v":"Mailto: "},null,null,null,null,null,null,null,null,null,null,"Visitkort",null,null,"Kuvert",null,"Pappersmappar","Folders","Broschyrer","Statligt_tryck","Rapport","Katalog","Roll_up","Affischer","Variabeltryck","Antal olika original","Antal \n(Minst antal är 100)","Antal \n(Minst antal är 250)","Antal ark (Minst antal är 500)","Antal \n(Minst antal är 500)","Upp till antal hela timmar","Antal"]
[null,null,null,null,null,null,null,null,null,null,null,null,null,"Underlag: ",null,null,"Underlag:",null,"Underlag:","Underlag:","Underlag:","Underlag:","Underlag:","Underlag:","Roll up:","Affischer:","Variabeltryck:"]
[null,"Välj Vara/Tjänst 1","Välj variant",{"$f":"IF($B$28=$N$20,IF($N$21=\"\",\"\",$N21),IF($B$28=$O$20,IF($O$21=\"\",\"\",$O21),IF($B$28=$P$20,IF($P$21=\"\",\"\",$P21),IF($B$28=$Q$20,IF($Q$21=\"\",\"\",$Q21),IF($B$28=$R$20,IF($R$21=\"\",\"\",$R21),IF($B$28=$S$20,IF($S$21=\"\",\"\",$S21),\"\"))))))","v":""},{"$f":"IF($B$28=$U$20,IF($U$21=\"\",\"\",$U21),IF($B$28=$V$20,IF($V$21=\"\",\"\",$V21),IF($B$28=$W$20,IF($W$21=\"\",\"\",$W21),IF($B$28=$X$20,IF($X$21=\"\",\"\",$X21),\"\"))))","v":""},{"$f":"IF($B$28=$Z$20,IF($Z$21=\"\",\"\",$Z21),IF($B$28=$AA$20,IF($AA$21=\"\",\"\",$AA21),IF($B$28=$AB$20,IF($AB$21=\"\",\"\",$AB21),IF($B$28=$AC$20,IF($AC$21=\"\",\"\",$AC21),IF($B$28=$AD$20,IF($AD$21=\"\",\"\",$AD21),IF($B$28=$AE$20,IF($AE$21=\"\",\"\",$AE21),IF($B$28=$AF$20,IF($AF$21=\"\",\"\",$AF21),IF($B$28=$AG$20,IF($AG$21=\"\",\"\",$AG21),IF($B$28=$AH$20,IF($AH$21=\"\",\"\",$AH21),IF($B$28=$AI$20,IF($AI$21=\"\",\"\",$AI21),IF($B$28=$AJ$20,IF($AJ$21=\"\",\"\",$AJ21),IF($B$28=$AK$20,IF($AK$21=\"\",\"\",$AK21),IF($B$28=$AL$20,IF($AL$21=\"\",\"\",$AL21),IF($B$28=$AM$20,IF($AM$21=\"\",\"\",$AM21),IF($B$28=$AN$20,IF($AN$21=\"\",\"\",$AN21),\"\")))))))))))))))","v":""},{"$f":"IF($B$28=$N$65,IF($N66=\"\",\"\",$N66),IF(OR($C$28=AF39,$C$28=AI39,$C$28=AJ39),IF(N75=\"\",\"\",N75),\"\"))","v":""},null,null,null,null,null,null,"Format: ",null,null,"Binderi:",null,"Binderi:","Format:","Format:","Format:","Format:","Format:","Underlag:","Underlag:","Format:"]
[null,null,null,null,null,null,null,null,null,null,null,null,null,"Ytvikt: ",null,null,"Kuvert",null,"Stansmallar:","Papper:","Papper:","Papper inlaga:","Papper inlaga:","Papper inlaga:","Höjd:","Papper:","Papper inlaga:"]
[null,{"$f":"IF($B$28=$N$25,IF($N26=\"\",\"\",$N26),IF($B$28=$O$25,IF($O26=\"\",\"\",$O26),IF($B$28=$P$25,IF($P26=\"\",\"\",$P26),IF($B$28=$Q$25,IF($Q26=\"\",\"\",$Q26),IF($B$28=$R$25,IF($R26=\"\",\"\",$R26),IF($B$28=$S$25,IF($S26=\"\",\"\",$S26),IF($B$28=$T$25,IF($T26=\"\",\"\",$T26),IF($B$28=$U$25,IF($U26=\"\",\"\",$U26),IF($B$28=$V$25,IF($V26=\"\",\"\",$V26),IF($B$28=$W$25,IF($W26=\"\",\"\",$W26),IF($B$28=$X$25,IF($X26=\"\",\"\",$X26),IF($B$28=$Y$25,IF($Y26=\"\",\"\",$Y26),IF($B$28=$Z$25,IF($Z26=\"\",\"\",$Z26),IF($B$28=$AA$25,IF($AA26=\"\",\"\",$AA26),\"\"))))))))))))))","v":""},{"$f":"IF($C$28=$N$39,IF($N40=\"\",\"\",$N40),IF($C$28=$O$39,IF($O40=\"\",\"\",$O40),IF($C$28=$P$39,IF($P40=\"\",\"\",$P40),IF($C$28=$Q$39,IF($Q40=\"\",\"\",$Q40),IF($C$28=$R$39,IF($R40=\"\",\"\",$R40),IF($C$28=$S$39,IF($S40=\"\",\"\",$S40),IF($C$28=$T$39,IF($T40=\"\",\"\",$T40),IF($C$28=$U$39,IF($U40=\"\",\"\",$U40),IF($C$28=$V$39,IF($V40=\"\",\"\",$V40),IF($C$28=$W$39,IF($W40=\"\",\"\",$W40),IF($C$28=$X$39,IF($X40=\"\",\"\",$X40),IF($C$28=$Y$39,IF($Y40=\"\",\"\",$Y40),IF($C$28=$Z$39,IF($Z40=\"\",\"\",$Z40),IF($C$28=$AA$39,IF($AA40=\"\",\"\",$AA40),IF($C$28=$AB$39,IF($AB40=\"\",\"\",$AB40),IF($C$28=$AC$39,IF($AC40=\"\",\"\",$AC40),IF($C$28=$AD$39,IF($AD40=\"\",\"\",$AD40),IF($C$28=$AE$39,IF($AE40=\"\",\"\",$AE40),IF($C$28=$AF$39,IF($AF40=\"\",\"\",$AF40),IF($C$28=$AG$39,IF($AG40=\"\",\"\",$AG40),IF($C$28=$AH$39,IF($AH40=\"\",\"\",$AH40),IF($C$28=$AI$39,IF($AI40=\"\",\"\",$AI40),IF($C$28=$AJ$39,IF($AJ40=\"\",\"\",$AJ40),IF($C$28=$AK$39,IF($AK40=\"\",\"\",$AK40),IF($C$28=$AL$39,IF($AL40=\"\",\"\",$AL40),IF($C$28=$AM$39,IF($AM40=\"\",\"\",$AM40),IF($C$28=$AN$39,IF($AN40=\"\",\"\",$AN40),IF($C$28=$AO$39,IF($AO40=\"\",\"\",$AO40),IF($C$28=$AP$39,IF($AP40=\"\",\"\",$AP40),IF($C$28=$AQ$39,IF($AQ40=\"\",\"\",$AQ40),IF($C$28=$AR$39,IF($AR40=\"\",\"\",$AR40),IF($C$28=$AS$39,IF($AS40=\"\",\"\",$AS40),IF($C$28=$AT$39,IF($AT40=\"\",\"\",$AT40),IF($C$28=$AU$39,IF($AU40=\"\",\"\",$AU40),IF($C$28=$AV$39,IF($AV40=\"\",\"\",$AV40),IF($C$28=$AW$39,IF($AW40=\"\",\"\",$AW40),IF($C$28=$AX$39,IF($AX40=\"\",\"\",$AX40),IF($C$28=$AY$39,IF($AY40=\"\",\"\",$AY40),IF($C$28=$AZ$39,IF($AZ40=\"\",\"\",$AZ40),IF($C$28=$BA$39,IF($BA40=\"\",\"\",$BA40),IF($C$28=$BB$39,IF($BB40=\"\",\"\",$BB40),IF($C$28=$BC$39,IF($BC40=\"\",\"\",$BC40),IF($C$28=$BD$39,IF($BD40=\"\",\"\",$BD40),IF($C$28=$BE$39,IF($BE40=\"\",\"\",$BE40),IF($C$28=$BF$39,IF($BF40=\"\",\"\",$BF40),IF($C$28=$BG$39,IF($BG40=\"\",\"\",$BG40),IF($C$28=$BH$39,IF($BH40=\"\",\"\",$BH40),IF($C$28=$BI$39,IF($BI40=\"\",\"\",$BI40),IF($C$28=$BJ$39,IF($BJ40=\"\",\"\",$BJ40),IF($C$28=$BK$39,IF($BK40=\"\",\"\",$BK40),IF($C$28=$BL$39,IF($BL40=\"\",\"\",$BL40),IF($C$28=$BM$39,IF($BM40=\"\",\"\",$BM40),IF($C$28=$BN$39,IF($BN40=\"\",\"\",$BN40),IF($C$28=$BO$39,IF($BO40=\"\",\"\",$BO40),IF($C$28=$BP$39,IF($BP40=\"\",\"\",$BP40),IF($C$28=$BQ$39,IF($BQ40=\"\",\"\",$BQ40),IF($C$28=$BR$39,IF($BR40=\"\",\"\",$BR40),IF($C$28=$BS$39,IF($BS40=\"\",\"\",$BS40),IF($C$28=$BT$39,IF($BT$40=\"\",\"\",$BT40),IF($C$28=$BU$39,IF($BU$40=\"\",\"\",$BU$40),\"\"))))))))))))))))))))))))))))))))))))))))))))))))))))))))))))","v":""},null,null,null,null,null,null,null,null,null,null,"Tryck: ",null,null,"Storlek",null,"Papper:","Tryck:","Tryck:","Papper omslag:","Papper omslag:","Papper omslag:","Material:","Tryck:","Kuvert:"]
[null,"",{"$f":"IF($C$28=$N$39,IF($N41=\"\",\"\",$N41),IF($C$28=$O$39,IF($O41=\"\",\"\",$O41),IF($C$28=$P$39,IF($P41=\"\",\"\",$P41),IF($C$28=$Q$39,IF($Q41=\"\",\"\",$Q41),IF($C$28=$R$39,IF($R41=\"\",\"\",$R41),IF($C$28=$S$39,IF($S41=\"\",\"\",$S41),IF($C$28=$T$39,IF($T41=\"\",\"\",$T41),IF($C$28=$U$39,IF($U41=\"\",\"\",$U41),IF($C$28=$V$39,IF($V41=\"\",\"\",$V41),IF($C$28=$W$39,IF($W41=\"\",\"\",$W41),IF($C$28=$X$39,IF($X41=\"\",\"\",$X41),IF($C$28=$Y$39,IF($Y41=\"\",\"\",$Y41),IF($C$28=$Z$39,IF($Z41=\"\",\"\",$Z41),IF($C$28=$AA$39,IF($AA41=\"\",\"\",$AA41),IF($C$28=$AB$39,IF($AB41=\"\",\"\",$AB41),IF($C$28=$AC$39,IF($AC41=\"\",\"\",$AC41),IF($C$28=$AD$39,IF($AD41=\"\",\"\",$AD41),IF($C$28=$AE$39,IF($AE41=\"\",\"\",$AE41),IF($C$28=$AF$39,IF($AF41=\"\",\"\",$AF41),IF($C$28=$AG$39,IF($AG41=\"\",\"\",$AG41),IF($C$28=$AH$39,IF($AH41=\"\",\"\",$AH41),IF($C$28=$AI$39,IF($AI41=\"\",\"\",$AI41),IF($C$28=$AJ$39,IF($AJ41=\"\",\"\",$AJ41),IF($C$28=$AK$39,IF($AK41=\"\",\"\",$AK41),IF($C$28=$AL$39,IF($AL41=\"\",\"\",$AL41),IF($C$28=$AM$39,IF($AM41=\"\",\"\",$AM41),IF($C$28=$AN$39,IF($AN41=\"\",\"\",$AN41),IF($C$28=$AO$39,IF($AO41=\"\",\"\",$AO41),IF($C$28=$AP$39,IF($AP41=\"\",\"\",$AP41),IF($C$28=$AQ$39,IF($AQ41=\"\",\"\",$AQ41),IF($C$28=$AR$39,IF($AR41=\"\",\"\",$AR41),IF($C$28=$AS$39,IF($AS41=\"\",\"\",$AS41),IF($C$28=$AT$39,IF($AT41=\"\",\"\",$AT41),IF($C$28=$AU$39,IF($AU41=\"\",\"\",$AU41),IF($C$28=$AV$39,IF($AV41=\"\",\"\",$AV41),IF($C$28=$AW$39,IF($AW41=\"\",\"\",$AW41),IF($C$28=$AX$39,IF($AX41=\"\",\"\",$AX41),IF($C$28=$AY$39,IF($AY41=\"\",\"\",$AY41),IF($C$28=$AZ$39,IF($AZ41=\"\",\"\",$AZ41),IF($C$28=$BA$39,IF($BA41=\"\",\"\",$BA41),IF($C$28=$BB$39,IF($BB41=\"\",\"\",$BB41),IF($C$28=$BC$39,IF($BC41=\"\",\"\",$BC41),IF($C$28=$BD$39,IF($BD41=\"\",\"\",$BD41),IF($C$28=$BE$39,IF($BE41=\"\",\"\",$BE41),IF($C$28=$BF$39,IF($BF41=\"\",\"\",$BF41),IF($C$28=$BG$39,IF($BG41=\"\",\"\",$BG41),IF($C$28=$BH$39,IF($BH41=\"\",\"\",$BH41),IF($C$28=$BI$39,IF($BI41=\"\",\"\",$BI41),IF($C$28=$BJ$39,IF($BJ41=\"\",\"\",$BJ41),IF($C$28=$BK$39,IF($BK41=\"\",\"\",$BK41),IF($C$28=$BL$39,IF($BL41=\"\",\"\",$BL41),IF($C$28=$BM$39,IF($BM41=\"\",\"\",$BM41),IF($C$28=$BN$39,IF($BN41=\"\",\"\",$BN41),IF($C$28=$BO$39,IF($BO41=\"\",\"\",$BO41),IF($C$28=$BP$39,IF($BP41=\"\",\"\",$BP41),IF($C$28=$BQ$39,IF($BQ41=\"\",\"\",$BQ41),IF($C$28=$BR$39,IF($BR41=\"\",\"\",$BR41),IF($C$28=$BS$39,IF($BS41=\"\",\"\",$BS41),IF($C$28=$BT$39,IF($BT41=\"\",\"\",$BT41),IF($C$28=$BU$39,IF($BU41=\"\",\"\",$BU41),\"\"))))))))))))))))))))))))))))))))))))))))))))))))))))))))))))","v":""},null,null,null,null,null,null,null,null,null,null,null,null,null,null,null,"Format:","Sidor:","Bokbinderi:","Tryck:","Tryck inlaga:","Tryck inlaga:","Tryck:",null,"Tryck inlaga:"]
[null,"",{"$f":"IF($C$28=$N$39,IF($N42=\"\",\"\",$N42),IF($C$28=$O$39,IF($O42=\"\",\"\",$O42),IF($C$28=$P$39,IF($P42=\"\",\"\",$P42),IF($C$28=$Q$39,IF($Q42=\"\",\"\",$Q42),IF($C$28=$R$39,IF($R42=\"\",\"\",$R42),IF($C$28=$S$39,IF($S42=\"\",\"\",$S42),IF($C$28=$T$39,IF($T42=\"\",\"\",$T42),IF($C$28=$U$39,IF($U42=\"\",\"\",$U42),IF($C$28=$V$39,IF($V42=\"\",\"\",$V42),IF($C$28=$W$39,IF($W42=\"\",\"\",$W42),IF($C$28=$X$39,IF($X42=\"\",\"\",$X42),IF($C$28=$Y$39,IF($Y42=\"\",\"\",$Y42),IF($C$28=$Z$39,IF($Z42=\"\",\"\",$Z42),IF($C$28=$AA$39,IF($AA42=\"\",\"\",$AA42),IF($C$28=$AB$39,IF($AB42=\"\",\"\",$AB42),IF($C$28=$AC$39,IF($AC42=\"\",\"\",$AC42),IF($C$28=$AD$39,IF($AD42=\"\",\"\",$AD42),IF($C$28=$AE$39,IF($AE42=\"\",\"\",$AE42),IF($C$28=$AF$39,IF($AF42=\"\",\"\",$AF42),IF($C$28=$AG$39,IF($AG42=\"\",\"\",$AG42),IF($C$28=$AH$39,IF($AH42=\"\",\"\",$AH42),IF($C$28=$AI$39,IF($AI42=\"\",\"\",$AI42),IF($C$28=$AJ$39,IF($AJ42=\"\",\"\",$AJ42),IF($C$28=$AK$39,IF($AK42=\"\",\"\",$AK42),IF($C$28=$AL$39,IF($AL42=\"\",\"\",$AL42),IF($C$28=$AM$39,IF($AM42=\"\",\"\",$AM42),IF($C$28=$AN$39,IF($AN42=\"\",\"\",$AN42),IF($C$28=$AO$39,IF($AO42=\"\",\"\",$AO42),IF($C$28=$AP$39,IF($AP42=\"\",\"\",$AP42),IF($C$28=$AQ$39,IF($AQ42=\"\",\"\",$AQ42),IF($C$28=$AR$39,IF($AR42=\"\",\"\",$AR42),IF($C$28=$AS$39,IF($AS42=\"\",\"\",$AS42),IF($C$28=$AT$39,IF($AT42=\"\",\"\",$AT42),IF($C$28=$AU$39,IF($AU42=\"\",\"\",$AU42),IF($C$28=$AV$39,IF($AV42=\"\",\"\",$AV42),IF($C$28=$AW$39,IF($AW42=\"\",\"\",$AW42),IF($C$28=$AX$39,IF($AX42=\"\",\"\",$AX42),IF($C$28=$AY$39,IF($AY42=\"\",\"\",$AY42),IF($C$28=$AZ$39,IF($AZ42=\"\",\"\",$AZ42),IF($C$28=$BA$39,IF($BA42=\"\",\"\",$BA42),IF($C$28=$BB$39,IF($BB42=\"\",\"\",$BB42),IF($C$28=$BC$39,IF($BC42=\"\",\"\",$BC42),IF($C$28=$BD$39,IF($BD42=\"\",\"\",$BD42),IF($C$28=$BE$39,IF($BE42=\"\",\"\",$BE42),IF($C$28=$BF$39,IF($BF42=\"\",\"\",$BF42),IF($C$28=$BG$39,IF($BG42=\"\",\"\",$BG42),IF($C$28=$BH$39,IF($BH42=\"\",\"\",$BH42),IF($C$28=$BI$39,IF($BI42=\"\",\"\",$BI42),IF($C$28=$BJ$39,IF($BJ42=\"\",\"\",$BJ42),IF($C$28=$BK$39,IF($BK42=\"\",\"\",$BK42),IF($C$28=$BL$39,IF($BL42=\"\",\"\",$BL42),IF($C$28=$BM$39,IF($BM42=\"\",\"\",$BM42),IF($C$28=$BN$39,IF($BN42=\"\",\"\",$BN42),IF($C$28=$BO$39,IF($BO42=\"\",\"\",$BO42),IF($C$28=$BP$39,IF($BP42=\"\",\"\",$BP42),IF($C$28=$BQ$39,IF($BQ42=\"\",\"\",$BQ42),IF($C$28=$BR$39,IF($BR42=\"\",\"\",$BR42),IF($C$28=$BS$39,IF($BS42=\"\",\"\",$BS42),IF($C$28=$BT$39,IF($BT42=\"\",\"\",$BT42),IF($C$28=$BU$39,IF($BU42=\"\",\"\",$BU42),\"\"))))))))))))))))))))))))))))))))))))))))))))))))))))))))))))","v":""},null,null,null,null,null,null,null,null,null,null,null,null,null,null,null,"Pappersmappar treklaff utan snodd",null,"Inlaga:","Bokbinderi:","Tryck omslag:","Tryck omslag:",null,null,"Tryck Kuvert:"]
[null,"",{"$f":"IF($C$28=$N$39,IF($N43=\"\",\"\",$N43),IF($C$28=$O$39,IF($O43=\"\",\"\",$O43),IF($C$28=$P$39,IF($P43=\"\",\"\",$P43),IF($C$28=$Q$39,IF($Q43=\"\",\"\",$Q43),IF($C$28=$R$39,IF($R43=\"\",\"\",$R43),IF($C$28=$S$39,IF($S43=\"\",\"\",$S43),IF($C$28=$T$39,IF($T43=\"\",\"\",$T43),IF($C$28=$U$39,IF($U43=\"\",\"\",$U43),IF($C$28=$V$39,IF($V43=\"\",\"\",$V43),IF($C$28=$W$39,IF($W43=\"\",\"\",$W43),IF($C$28=$X$39,IF($X43=\"\",\"\",$X43),IF($C$28=$Y$39,IF($Y43=\"\",\"\",$Y43),IF($C$28=$Z$39,IF($Z43=\"\",\"\",$Z43),IF($C$28=$AA$39,IF($AA43=\"\",\"\",$AA43),IF($C$28=$AB$39,IF($AB43=\"\",\"\",$AB43),IF($C$28=$AC$39,IF($AC43=\"\",\"\",$AC43),IF($C$28=$AD$39,IF($AD43=\"\",\"\",$AD43),IF($C$28=$AE$39,IF($AE43=\"\",\"\",$AE43),IF($C$28=$AF$39,IF($AF43=\"\",\"\",$AF43),IF($C$28=$AG$39,IF($AG43=\"\",\"\",$AG43),IF($C$28=$AH$39,IF($AH43=\"\",\"\",$AH43),IF($C$28=$AI$39,IF($AI43=\"\",\"\",$AI43),IF($C$28=$AJ$39,IF($AJ43=\"\",\"\",$AJ43),IF($C$28=$AK$39,IF($AK43=\"\",\"\",$AK43),IF($C$28=$AL$39,IF($AL43=\"\",\"\",$AL43),IF($C$28=$AM$39,IF($AM43=\"\",\"\",$AM43),IF($C$28=$AN$39,IF($AN43=\"\",\"\",$AN43),IF($C$28=$AO$39,IF($AO43=\"\",\"\",$AO43),IF($C$28=$AP$39,IF($AP43=\"\",\"\",$AP43),IF($C$28=$AQ$39,IF($AQ43=\"\",\"\",$AQ43),IF($C$28=$AR$39,IF($AR43=\"\",\"\",$AR43),IF($C$28=$AS$39,IF($AS43=\"\",\"\",$AS43),IF($C$28=$AT$39,IF($AT43=\"\",\"\",$AT43),IF($C$28=$AU$39,IF($AU43=\"\",\"\",$AU43),IF($C$28=$AV$39,IF($AV43=\"\",\"\",$AV43),IF($C$28=$AW$39,IF($AW43=\"\",\"\",$AW43),IF($C$28=$AX$39,IF($AX43=\"\",\"\",$AX43),IF($C$28=$AY$39,IF($AY43=\"\",\"\",$AY43),IF($C$28=$AZ$39,IF($AZ43=\"\",\"\",$AZ43),IF($C$28=$BA$39,IF($BA43=\"\",\"\",$BA43),IF($C$28=$BB$39,IF($BB43=\"\",\"\",$BB43),IF($C$28=$BC$39,IF($BC43=\"\",\"\",$BC43),IF($C$28=$BD$39,IF($BD43=\"\",\"\",$BD43),IF($C$28=$BE$39,IF($BE43=\"\",\"\",$BE43),IF($C$28=$BF$39,IF($BF43=\"\",\"\",$BF43),IF($C$28=$BG$39,IF($BG43=\"\",\"\",$BG43),IF($C$28=$BH$39,IF($BH43=\"\",\"\",$BH43),IF($C$28=$BI$39,IF($BI43=\"\",\"\",$BI43),IF($C$28=$BJ$39,IF($BJ43=\"\",\"\",$BJ43),IF($C$28=$BK$39,IF($BK43=\"\",\"\",$BK43),IF($C$28=$BL$39,IF($BL43=\"\",\"\",$BL43),IF($C$28=$BM$39,IF($BM43=\"\",\"\",$BM43),IF($C$28=$BN$39,IF($BN43=\"\",\"\",$BN43),IF($C$28=$BO$39,IF($BO43=\"\",\"\",$BO43),IF($C$28=$BP$39,IF($BP43=\"\",\"\",$BP43),IF($C$28=$BQ$39,IF($BQ43=\"\",\"\",$BQ43),IF($C$28=$BR$39,IF($BR43=\"\",\"\",$BR43),IF($C$28=$BS$39,IF($BS43=\"\",\"\",$BS43),IF($C$28=$BT$39,IF($BT43=\"\",\"\",$BT43),IF($C$28=$BU$39,IF($BU43=\"\",\"\",$BU43),\"\"))))))))))))))))))))))))))))))))))))))))))))))))))))))))))))","v":""},null,null,null,null,null,null,null,null,null,null,null,null,null,null,null,null,null,"Omslag:","Tryck inlaga:","Bokbinderi:","Bokbinderi:"]
[null,"",{"$f":"IF($C$28=$N$39,IF($N44=\"\",\"\",$N44),IF($C$28=$O$39,IF($O44=\"\",\"\",$O44),IF($C$28=$P$39,IF($P44=\"\",\"\",$P44),IF($C$28=$Q$39,IF($Q44=\"\",\"\",$Q44),IF($C$28=$R$39,IF($R44=\"\",\"\",$R44),IF($C$28=$S$39,IF($S44=\"\",\"\",$S44),IF($C$28=$T$39,IF($T44=\"\",\"\",$T44),IF($C$28=$U$39,IF($U44=\"\",\"\",$U44),IF($C$28=$V$39,IF($V44=\"\",\"\",$V44),IF($C$28=$W$39,IF($W44=\"\",\"\",$W44),IF($C$28=$X$39,IF($X44=\"\",\"\",$X44),IF($C$28=$Y$39,IF($Y44=\"\",\"\",$Y44),IF($C$28=$Z$39,IF($Z44=\"\",\"\",$Z44),IF($C$28=$AA$39,IF($AA44=\"\",\"\",$AA44),IF($C$28=$AB$39,IF($AB44=\"\",\"\",$AB44),IF($C$28=$AC$39,IF($AC44=\"\",\"\",$AC44),IF($C$28=$AD$39,IF($AD44=\"\",\"\",$AD44),IF($C$28=$AE$39,IF($AE44=\"\",\"\",$AE44),IF($C$28=$AF$39,IF($AF44=\"\",\"\",$AF44),IF($C$28=$AG$39,IF($AG44=\"\",\"\",$AG44),IF($C$28=$AH$39,IF($AH44=\"\",\"\",$AH44),IF($C$28=$AI$39,IF($AI44=\"\",\"\",$AI44),IF($C$28=$AJ$39,IF($AJ44=\"\",\"\",$AJ44),IF($C$28=$AK$39,IF($AK44=\"\",\"\",$AK44),IF($C$28=$AL$39,IF($AL44=\"\",\"\",$AL44),IF($C$28=$AM$39,IF($AM44=\"\",\"\",$AM44),IF($C$28=$AN$39,IF($AN44=\"\",\"\",$AN44),IF($C$28=$AO$39,IF($AO44=\"\",\"\",$AO44),IF($C$28=$AP$39,IF($AP44=\"\",\"\",$AP44),IF($C$28=$AQ$39,IF($AQ44=\"\",\"\",$AQ44),IF($C$28=$AR$39,IF($AR44=\"\",\"\",$AR44),IF($C$28=$AS$39,IF($AS44=\"\",\"\",$AS44),IF($C$28=$AT$39,IF($AT44=\"\",\"\",$AT44),IF($C$28=$AU$39,IF($AU44=\"\",\"\",$AU44),IF($C$28=$AV$39,IF($AV44=\"\",\"\",$AV44),IF($C$28=$AW$39,IF($AW44=\"\",\"\",$AW44),IF($C$28=$AX$39,IF($AX44=\"\",\"\",$AX44),IF($C$28=$AY$39,IF($AY44=\"\",\"\",$AY44),IF($C$28=$AZ$39,IF($AZ44=\"\",\"\",$AZ44),IF($C$28=$BA$39,IF($BA44=\"\",\"\",$BA44),IF($C$28=$BB$39,IF($BB44=\"\",\"\",$BB44),IF($C$28=$BC$39,IF($BC44=\"\",\"\",$BC44),IF($C$28=$BD$39,IF($BD44=\"\",\"\",$BD44),IF($C$28=$BE$39,IF($BE44=\"\",\"\",$BE44),IF($C$28=$BF$39,IF($BF44=\"\",\"\",$BF44),IF($C$28=$BG$39,IF($BG44=\"\",\"\",$BG44),IF($C$28=$BH$39,IF($BH44=\"\",\"\",$BH44),IF($C$28=$BI$39,IF($BI44=\"\",\"\",$BI44),IF($C$28=$BJ$39,IF($BJ44=\"\",\"\",$BJ44),IF($C$28=$BK$39,IF($BK44=\"\",\"\",$BK44),IF($C$28=$BL$39,IF($BL44=\"\",\"\",$BL44),IF($C$28=$BM$39,IF($BM44=\"\",\"\",$BM44),IF($C$28=$BN$39,IF($BN44=\"\",\"\",$BN44),IF($C$28=$BO$39,IF($BO44=\"\",\"\",$BO44),IF($C$28=$BP$39,IF($BP44=\"\",\"\",$BP44),IF($C$28=$BQ$39,IF($BQ44=\"\",\"\",$BQ44),IF($C$28=$BR$39,IF($BR44=\"\",\"\",$BR44),IF($C$28=$BS$39,IF($BS44=\"\",\"\",$BS44),IF($C$28=$BT$39,IF($BT44=\"\",\"\",$BT44),IF($C$28=$BU$39,IF($BU44=\"\",\"\",$BU44),\"\"))))))))))))))))))))))))))))))))))))))))))))))))))))))))))))","v":""},null,null,null,null,null,null,null,null,null,null,null,null,null,null,null,null,null,"Tryck inlaga:","Tryck omslag:"]
[null,"",{"$f":"IF($C$28=$N$39,IF($N45=\"\",\"\",$N45),IF($C$28=$O$39,IF($O45=\"\",\"\",$O45),IF($C$28=$P$39,IF($P45=\"\",\"\",$P45),IF($C$28=$Q$39,IF($Q45=\"\",\"\",$Q45),IF($C$28=$R$39,IF($R45=\"\",\"\",$R45),IF($C$28=$S$39,IF($S45=\"\",\"\",$S45),IF($C$28=$T$39,IF($T45=\"\",\"\",$T45),IF($C$28=$U$39,IF($U45=\"\",\"\",$U45),IF($C$28=$V$39,IF($V45=\"\",\"\",$V45),IF($C$28=$W$39,IF($W45=\"\",\"\",$W45),IF($C$28=$X$39,IF($X45=\"\",\"\",$X45),IF($C$28=$Y$39,IF($Y45=\"\",\"\",$Y45),IF($C$28=$Z$39,IF($Z45=\"\",\"\",$Z45),IF($C$28=$AA$39,IF($AA45=\"\",\"\",$AA45),IF($C$28=$AB$39,IF($AB45=\"\",\"\",$AB45),IF($C$28=$AC$39,IF($AC45=\"\",\"\",$AC45),IF($C$28=$AD$39,IF($AD45=\"\",\"\",$AD45),IF($C$28=$AE$39,IF($AE45=\"\",\"\",$AE45),IF($C$28=$AF$39,IF($AF45=\"\",\"\",$AF45),IF($C$28=$AG$39,IF($AG45=\"\",\"\",$AG45),IF($C$28=$AH$39,IF($AH45=\"\",\"\",$AH45),IF($C$28=$AI$39,IF($AI45=\"\",\"\",$AI45),IF($C$28=$AJ$39,IF($AJ45=\"\",\"\",$AJ45),IF($C$28=$AK$39,IF($AK45=\"\",\"\",$AK45),IF($C$28=$AL$39,IF($AL45=\"\",\"\",$AL45),IF($C$28=$AM$39,IF($AM45=\"\",\"\",$AM45),IF($C$28=$AN$39,IF($AN45=\"\",\"\",$AN45),IF($C$28=$AO$39,IF($AO45=\"\",\"\",$AO45),IF($C$28=$AP$39,IF($AP45=\"\",\"\",$AP45),IF($C$28=$AQ$39,IF($AQ45=\"\",\"\",$AQ45),IF($C$28=$AR$39,IF($AR45=\"\",\"\",$AR45),IF($C$28=$AS$39,IF($AS45=\"\",\"\",$AS45),IF($C$28=$AT$39,IF($AT45=\"\",\"\",$AT45),IF($C$28=$AU$39,IF($AU45=\"\",\"\",$AU45),IF($C$28=$AV$39,IF($AV45=\"\",\"\",$AV45),IF($C$28=$AW$39,IF($AW45=\"\",\"\",$AW45),IF($C$28=$AX$39,IF($AX45=\"\",\"\",$AX45),IF($C$28=$AY$39,IF($AY45=\"\",\"\",$AY45),IF($C$28=$BA$39,IF($BA45=\"\",\"\",$BA45),IF($C$28=$BB$39,IF($BB45=\"\",\"\",$BB45),IF($C$28=$BC$39,IF($BC45=\"\",\"\",$BC45),IF($C$28=$BD$39,IF($BD45=\"\",\"\",$BD45),IF($C$28=$BE$39,IF($BE45=\"\",\"\",$BE45),IF($C$28=$BF$39,IF($BF45=\"\",\"\",$BF45),IF($C$28=$BG$39,IF($BG45=\"\",\"\",$BG45),IF($C$28=$BH$39,IF($BH45=\"\",\"\",$BH45),IF($C$28=$BI$39,IF($BI45=\"\",\"\",$BI45),IF($C$28=$BJ$39,IF($BJ45=\"\",\"\",$BJ45),IF($C$28=$BK$39,IF($BK45=\"\",\"\",$BK45),IF($C$28=$BL$39,IF($BL45=\"\",\"\",$BL45),IF($C$28=$BM$39,IF($BM45=\"\",\"\",$BM45),IF($C$28=$BN$39,IF($BN45=\"\",\"\",$BN45),IF($C$28=$BO$39,IF($BO45=\"\",\"\",$BO45),IF($C$28=$BP$39,IF($BP45=\"\",\"\",$BP45),IF($C$28=$BQ$39,IF($BQ45=\"\",\"\",$BQ45),IF($C$28=$BR$39,IF($BR45=\"\",\"\",$BR45),IF($C$28=$BS$39,IF($BS45=\"\",\"\",$BS45),IF($C$28=$BT$39,IF($BT45=\"\",\"\",$BT45),IF($C$28=$BU$39,IF($BU45=\"\",\"\",$BU45),\"\")))))))))))))))))))))))))))))))))))))))))))))))))))))))))))","v":""},null,null,null,null,null,null,null,null,null,null,null,null,null,null,null,null,null,"Tryck omslag:"]
[null,"",{"$f":"IF($C$28=$N$39,IF($N46=\"\",\"\",$N46),IF($C$28=$O$39,IF($O46=\"\",\"\",$O46),IF($C$28=$P$39,IF($P46=\"\",\"\",$P46),IF($C$28=$Q$39,IF($Q46=\"\",\"\",$Q46),IF($C$28=$R$39,IF($R46=\"\",\"\",$R46),IF($C$28=$S$39,IF($S46=\"\",\"\",$S46),IF($C$28=$T$39,IF($T46=\"\",\"\",$T46),IF($C$28=$U$39,IF($U46=\"\",\"\",$U46),IF($C$28=$V$39,IF($V46=\"\",\"\",$V46),IF($C$28=$W$39,IF($W46=\"\",\"\",$W46),IF($C$28=$X$39,IF($X46=\"\",\"\",$X46),IF($C$28=$Y$39,IF($Y46=\"\",\"\",$Y46),IF($C$28=$Z$39,IF($Z46=\"\",\"\",$Z46),IF($C$28=$AA$39,IF($AA46=\"\",\"\",$AA46),IF($C$28=$AB$39,IF($AB46=\"\",\"\",$AB46),IF($C$28=$AC$39,IF($AC46=\"\",\"\",$AC46),IF($C$28=$AD$39,IF($AD46=\"\",\"\",$AD46),IF($C$28=$AE$39,IF($AE46=\"\",\"\",$AE46),IF($C$28=$AF$39,IF($AF46=\"\",\"\",$AF46),IF($C$28=$AG$39,IF($AG46=\"\",\"\",$AG46),IF($C$28=$AH$39,IF($AH46=\"\",\"\",$AH46),IF($C$28=$AI$39,IF($AI46=\"\",\"\",$AI46),IF($C$28=$AJ$39,IF($AJ46=\"\",\"\",$AJ46),IF($C$28=$AK$39,IF($AK46=\"\",\"\",$AK46),IF($C$28=$AL$39,IF($AL46=\"\",\"\",$AL46),IF($C$28=$AM$39,IF($AM46=\"\",\"\",$AM46),IF($C$28=$AN$39,IF($AN46=\"\",\"\",$AN46),IF($C$28=$AO$39,IF($AO46=\"\",\"\",$AO46),IF($C$28=$AP$39,IF($AP46=\"\",\"\",$AP46),IF($C$28=$AQ$39,IF($AQ46=\"\",\"\",$AQ46),IF($C$28=$AR$39,IF($AR46=\"\",\"\",$AR46),IF($C$28=$AS$39,IF($AS46=\"\",\"\",$AS46),IF($C$28=$AT$39,IF($AT46=\"\",\"\",$AT46),IF($C$28=$AU$39,IF($AU46=\"\",\"\",$AU46),IF($C$28=$AV$39,IF($AV46=\"\",\"\",$AV46),IF($C$28=$AW$39,IF($AW46=\"\",\"\",$AW46),IF($C$28=$AX$39,IF($AX46=\"\",\"\",$AX46),IF($C$28=$AY$39,IF($AY46=\"\",\"\",$AY46),IF($C$28=$BA$39,IF($BA46=\"\",\"\",$BA46),IF($C$28=$BB$39,IF($BB46=\"\",\"\",$BB46),IF($C$28=$BC$39,IF($BC46=\"\",\"\",$BC46),IF($C$28=$BD$39,IF($BD46=\"\",\"\",$BD46),IF($C$28=$BE$39,IF($BE46=\"\",\"\",$BE46),IF($C$28=$BF$39,IF($BF46=\"\",\"\",$BF46),IF($C$28=$BG$39,IF($BG46=\"\",\"\",$BG46),IF($C$28=$BH$39,IF($BH46=\"\",\"\",$BH46),IF($C$28=$BI$39,IF($BI46=\"\",\"\",$BI46),IF($C$28=$BJ$39,IF($BJ46=\"\",\"\",$BJ46),IF($C$28=$BK$39,IF($BK46=\"\",\"\",$BK46),IF($C$28=$BL$39,IF($BL46=\"\",\"\",$BL46),IF($C$28=$BM$39,IF($BM46=\"\",\"\",$BM46),IF($C$28=$BN$39,IF($BN46=\"\",\"\",$BN46),IF($C$28=$BO$39,IF($BO46=\"\",\"\",$BO46),IF($C$28=$BP$39,IF($BP46=\"\",\"\",$BP46),IF($C$28=$BQ$39,IF($BQ46=\"\",\"\",$BQ46),IF($C$28=$BR$39,IF($BR46=\"\",\"\",$BR46),IF($C$28=$BS$39,IF($BS46=\"\",\"\",$BS46),\"\")))))))))))))))))))))))))))))))))))))))))))))))))))))))))","v":""}]
[null,{"$f":"IF($B$28=$N$25,IF($N33=\"\",\"\",$N33),IF($B$28=$O$25,IF($O33=\"\",\"\",$O33),IF($B$28=$P$25,IF($P33=\"\",\"\",$P33),IF($B$28=$Q$25,IF($Q33=\"\",\"\",$Q33),IF($B$28=$R$25,IF($R33=\"\",\"\",$R33),IF($B$28=$S$25,IF($S33=\"\",\"\",$S33),IF($B$28=$T$25,IF($T33=\"\",\"\",$T33),IF($B$28=$U$25,IF($U33=\"\",\"\",$U33),IF($B$28=$V$25,IF($V33=\"\",\"\",$V33),IF($B$28=$W$25,IF($W33=\"\",\"\",$W33),IF($B$28=$X$25,IF($X33=\"\",\"\",$X33),IF($B$28=$Y$25,IF($Y33=\"\",\"\",$Y33),IF($B$28=$Z$25,IF($Z33=\"\",\"\",$Z33),\"\")))))))))))))","v":""},{"$f":"IF($C$28=$N$39,IF($N47=\"\",\"\",$N47),IF($C$28=$O$39,IF($O47=\"\",\"\",$O47),IF($C$28=$P$39,IF($P47=\"\",\"\",$P47),IF($C$28=$Q$39,IF($Q47=\"\",\"\",$Q47),IF($C$28=$R$39,IF($R47=\"\",\"\",$R47),IF($C$28=$S$39,IF($S47=\"\",\"\",$S47),IF($C$28=$T$39,IF($T47=\"\",\"\",$T47),IF($C$28=$U$39,IF($U47=\"\",\"\",$U47),IF($C$28=$V$39,IF($V47=\"\",\"\",$V47),IF($C$28=$W$39,IF($W47=\"\",\"\",$W47),IF($C$28=$X$39,IF($X47=\"\",\"\",$X47),IF($C$28=$Y$39,IF($Y47=\"\",\"\",$Y47),IF($C$28=$Z$39,IF($Z47=\"\",\"\",$Z47),IF($C$28=$AA$39,IF($AA47=\"\",\"\",$AA47),IF($C$28=$AB$39,IF($AB47=\"\",\"\",$AB47),IF($C$28=$AC$39,IF($AC47=\"\",\"\",$AC47),IF($C$28=$AD$39,IF($AD47=\"\",\"\",$AD47),IF($C$28=$AE$39,IF($AE47=\"\",\"\",$AE47),IF($C$28=$AF$39,IF($AF47=\"\",\"\",$AF47),IF($C$28=$AG$39,IF($AG47=\"\",\"\",$AG47),IF($C$28=$AH$39,IF($AH47=\"\",\"\",$AH47),IF($C$28=$AI$39,IF($AI47=\"\",\"\",$AI47),IF($C$28=$AJ$39,IF($AJ47=\"\",\"\",$AJ47),IF($C$28=$AK$39,IF($AK47=\"\",\"\",$AK47),IF($C$28=$AL$39,IF($AL47=\"\",\"\",$AL47),IF($C$28=$AM$39,IF($AM47=\"\",\"\",$AM47),IF($C$28=$AN$39,IF($AN47=\"\",\"\",$AN47),IF($C$28=$AO$39,IF($AO47=\"\",\"\",$AO47),IF($C$28=$AP$39,IF($AP47=\"\",\"\",$AP47),IF($C$28=$AQ$39,IF($AQ47=\"\",\"\",$AQ47),IF($C$28=$AR$39,IF($AR47=\"\",\"\",$AR47),IF($C$28=$AS$39,IF($AS47=\"\",\"\",$AS47),IF($C$28=$AT$39,IF($AT47=\"\",\"\",$AT47),IF($C$28=$AU$39,IF($AU47=\"\",\"\",$AU47),IF($C$28=$AV$39,IF($AV47=\"\",\"\",$AV47),IF($C$28=$AW$39,IF($AW47=\"\",\"\",$AW47),IF($C$28=$AX$39,IF($AX47=\"\",\"\",$AX47),IF($C$28=$AY$39,IF($AY47=\"\",\"\",$AY47),IF($C$28=$BA$39,IF($BA47=\"\",\"\",$BA47),IF($C$28=$BB$39,IF($BB47=\"\",\"\",$BB47),IF($C$28=$BC$39,IF($BC47=\"\",\"\",$BC47),IF($C$28=$BD$39,IF($BD47=\"\",\"\",$BD47),IF($C$28=$BE$39,IF($BE47=\"\",\"\",$BE47),IF($C$28=$BF$39,IF($BF47=\"\",\"\",$BF47),IF($C$28=$BG$39,IF($BG47=\"\",\"\",$BG47),IF($C$28=$BH$39,IF($BH47=\"\",\"\",$BH47),IF($C$28=$BI$39,IF($BI47=\"\",\"\",$BI47),IF($C$28=$BJ$39,IF($BJ47=\"\",\"\",$BJ47),IF($C$28=$BK$39,IF($BK47=\"\",\"\",$BK47),IF($C$28=$BL$39,IF($BL47=\"\",\"\",$BL47),IF($C$28=$BM$39,IF($BM47=\"\",\"\",$BM47),IF($C$28=$BN$39,IF($BN47=\"\",\"\",$BN47),IF($C$28=$BO$39,IF($BO47=\"\",\"\",$BO47),IF($C$28=$BP$39,IF($BP47=\"\",\"\",$BP47),IF($C$28=$BQ$39,IF($BQ47=\"\",\"\",$BQ47),IF($C$28=$BR$39,IF($BR47=\"\",\"\",$BR47),IF($C$28=$BS$39,IF($BS47=\"\",\"\",$BS47),\"\")))))))))))))))))))))))))))))))))))))))))))))))))))))))))","v":""}]
[null,{"$f":"IF($B$28=$N$25,IF($N34=\"\",\"\",$N34),IF($B$28=$O$25,IF($O34=\"\",\"\",$O34),IF($B$28=$P$25,IF($P34=\"\",\"\",$P34),IF($B$28=$Q$25,IF($Q34=\"\",\"\",$Q34),IF($B$28=$R$25,IF($R34=\"\",\"\",$R34),IF($B$28=$S$25,IF($S34=\"\",\"\",$S34),IF($B$28=$T$25,IF($T34=\"\",\"\",$T34),IF($B$28=$U$25,IF($U34=\"\",\"\",$U34),IF($B$28=$V$25,IF($V34=\"\",\"\",$V34),IF($B$28=$W$25,IF($W34=\"\",\"\",$W34),IF($B$28=$X$25,IF($X34=\"\",\"\",$X34),IF($B$28=$Y$25,IF($Y34=\"\",\"\",$Y34),IF($B$28=$Z$25,IF($Z34=\"\",\"\",$Z34),\"\")))))))))))))","v":""},{"$f":"IF($C$28=$N$39,IF($N48=\"\",\"\",$N48),IF($C$28=$O$39,IF($O48=\"\",\"\",$O48),IF($C$28=$P$39,IF($P48=\"\",\"\",$P48),IF($C$28=$Q$39,IF($Q48=\"\",\"\",$Q48),IF($C$28=$R$39,IF($R48=\"\",\"\",$R48),IF($C$28=$S$39,IF($S48=\"\",\"\",$S48),IF($C$28=$T$39,IF($T48=\"\",\"\",$T48),IF($C$28=$U$39,IF($U48=\"\",\"\",$U48),IF($C$28=$V$39,IF($V48=\"\",\"\",$V48),IF($C$28=$W$39,IF($W48=\"\",\"\",$W48),IF($C$28=$X$39,IF($X48=\"\",\"\",$X48),IF($C$28=$Y$39,IF($Y48=\"\",\"\",$Y48),IF($C$28=$Z$39,IF($Z48=\"\",\"\",$Z48),IF($C$28=$AA$39,IF($AA48=\"\",\"\",$AA48),IF($C$28=$AB$39,IF($AB48=\"\",\"\",$AB48),IF($C$28=$AC$39,IF($AC48=\"\",\"\",$AC48),IF($C$28=$AD$39,IF($AD48=\"\",\"\",$AD48),IF($C$28=$AE$39,IF($AE48=\"\",\"\",$AE48),IF($C$28=$AF$39,IF($AF48=\"\",\"\",$AF48),IF($C$28=$AG$39,IF($AG48=\"\",\"\",$AG48),IF($C$28=$AH$39,IF($AH48=\"\",\"\",$AH48),IF($C$28=$AI$39,IF($AI48=\"\",\"\",$AI48),IF($C$28=$AJ$39,IF($AJ48=\"\",\"\",$AJ48),IF($C$28=$AK$39,IF($AK48=\"\",\"\",$AK48),IF($C$28=$AL$39,IF($AL48=\"\",\"\",$AL48),IF($C$28=$AM$39,IF($AM48=\"\",\"\",$AM48),IF($C$28=$AN$39,IF($AN48=\"\",\"\",$AN48),IF($C$28=$AO$39,IF($AO48=\"\",\"\",$AO48),IF($C$28=$AP$39,IF($AP48=\"\",\"\",$AP48),IF($C$28=$AQ$39,IF($AQ48=\"\",\"\",$AQ48),IF($C$28=$AR$39,IF($AR48=\"\",\"\",$AR48),IF($C$28=$AS$39,IF($AS48=\"\",\"\",$AS48),IF($C$28=$AT$39,IF($AT48=\"\",\"\",$AT48),IF($C$28=$AU$39,IF($AU48=\"\",\"\",$AU48),IF($C$28=$AV$39,IF($AV48=\"\",\"\",$AV48),IF($C$28=$AW$39,IF($AW48=\"\",\"\",$AW48),IF($C$28=$AX$39,IF($AX48=\"\",\"\",$AX48),IF($C$28=$AY$39,IF($AY48=\"\",\"\",$AY48),IF($C$28=$BA$39,IF($BA48=\"\",\"\",$BA48),IF($C$28=$BB$39,IF($BB48=\"\",\"\",$BB48),IF($C$28=$BC$39,IF($BC48=\"\",\"\",$BC48),IF($C$28=$BD$39,IF($BD48=\"\",\"\",$BD48),IF($C$28=$BE$39,IF($BE48=\"\",\"\",$BE48),IF($C$28=$BF$39,IF($BF48=\"\",\"\",$BF48),IF($C$28=$BG$39,IF($BG48=\"\",\"\",$BG48),IF($C$28=$BH$39,IF($BH48=\"\",\"\",$BH48),IF($C$28=$BI$39,IF($BI48=\"\",\"\",$BI48),IF($C$28=$BJ$39,IF($BJ48=\"\",\"\",$BJ48),IF($C$28=$BK$39,IF($BK48=\"\",\"\",$BK48),IF($C$28=$BL$39,IF($BL48=\"\",\"\",$BL48),IF($C$28=$BM$39,IF($BM48=\"\",\"\",$BM48),IF($C$28=$BN$39,IF($BN48=\"\",\"\",$BN48),IF($C$28=$BO$39,IF($BO48=\"\",\"\",$BO48),IF($C$28=$BP$39,IF($BP48=\"\",\"\",$BP48),IF($C$28=$BQ$39,IF($BQ48=\"\",\"\",$BQ48),IF($C$28=$BR$39,IF($BR48=\"\",\"\",$BR48),IF($C$28=$BS$39,IF($BS48=\"\",\"\",$BS48),\"\")))))))))))))))))))))))))))))))))))))))))))))))))))))))))","v":""}]
[]
[null,"Välj Vara/Tjänst 2","Välj variant",{"$f":"IF($B$40=$N$20,IF($N$21=\"\",\"\",$N21),IF($B$40=$O$20,IF($O$21=\"\",\"\",$O21),IF($B$40=$P$20,IF($P$21=\"\",\"\",$P21),IF($B$40=$Q$20,IF($Q$21=\"\",\"\",$Q21),IF($B$40=$R$20,IF($R$21=\"\",\"\",$R21),IF($B$40=$S$20,IF($S$21=\"\",\"\",$S21),\"\"))))))","v":""},{"$f":"IF($B$40=$U$20,IF($U$21=\"\",\"\",$U21),IF($B$40=$V$20,IF($V$21=\"\",\"\",$V21),IF($B$40=$W$20,IF($W$21=\"\",\"\",$W21),IF($B$40=$X$20,IF($X$21=\"\",\"\",$X21),\"\"))))","v":""},{"$f":"IF($B$40=$Z$20,IF($Z$21=\"\",\"\",$Z21),IF($B$40=$AA$20,IF($AA$21=\"\",\"\",$AA21),IF($B$40=$AB$20,IF($AB$21=\"\",\"\",$AB21),IF($B$40=$AC$20,IF($AC$21=\"\",\"\",$AC21),IF($B$40=$AD$20,IF($AD$21=\"\",\"\",$AD21),IF($B$40=$AE$20,IF($AE$21=\"\",\"\",$AE21),IF($B$40=$AF$20,IF($AF$21=\"\",\"\",$AF21),IF($B$40=$AG$20,IF($AG$21=\"\",\"\",$AG21),IF($B$40=$AH$20,IF($AH$21=\"\",\"\",$AH21),IF($B$40=$AI$20,IF($AI$21=\"\",\"\",$AI21),IF($B$40=$AJ$20,IF($AJ$21=\"\",\"\",$AJ21),IF($B$40=$AK$20,IF($AK$21=\"\",\"\",$AK21),IF($B$40=$AL$20,IF($AL$21=\"\",\"\",$AL21),IF($B$40=$AM$20,IF($AM$21=\"\",\"\",$AM21),IF($B$40=$AN$20,IF($AN$21=\"\",\"\",$AN21),\"\")))))))))))))))","v":""},{"$f":"IF($B$40=$N$65,IF($N66=\"\",\"\",$N66),\"\")","v":""},null,null,null,null,null,null,"Mattbestruket","Obestruket",null,null,null,null,null,null,null,null,null,null,null,null,null,null,"Kuvert_Variant_1","Kuvert_Variant_2","Kuvert_Variant_3","Kuvert_Variant_4","Kuvert_Variant_5","Kuvert_Variant_6","Kuvert_Variant_7",null,null,null,null,null,null,null,null,"Pappersmappar_Variant_1","Pappersmappar_Variant_2","Pappersmappar_Variant_3","Pappersmappar_Variant_4","Folders_Variant_1","Folders_Variant_2","Folders_Variant_3","Folders_Variant_4","Broschyrer_Variant_1","Broschyrer_Variant_2","Broschyrer_Variant_3","Statligt_tryck_1","Statligt_tryck_2","Rapport_1","Rapport_2","Katalog_1","Katalog_2","Roll_up_1","Roll_up_2","Roll_up_3","Roll_up_4","Roll_up_5","Roll_up_6","Affischer_1","Affischer_2","Affischer_3"]
[null,null,null,null,null,null,null,null,null,null,null,null,null,"A: Öppna filer. B: PDF. C: PDFx enligt gällande ISO-standard.","A: Öppna filer. B: PDF. C: PDFx enligt gällande ISO-standard.",null,null,null,null,null,null,null,null,null,null,null,null,null,null,"A: Öppna filer. B: PDF. C: PDFx enligt gällande ISO-standard. (Avser inte variabeldata)","A: Öppna filer. B: PDF. C: PDFx enligt gällande ISO-standard. (Avser inte variabeldata)","A: Öppna filer. B: PDF. C: PDFx enligt gällande ISO-standard. (Avser inte variabeldata)","A: Öppna filer. B: PDF. C: PDFx enligt gällande ISO-standard. (Avser inte variabeldata)","A: Öppna filer. B: PDF. C: PDFx enligt gällande ISO-standard. (Avser inte variabeldata)","A: Öppna filer. B: PDF. C: PDFx enligt gällande ISO-standard. (Avser inte variabeldata)","A: Öppna filer. B: PDF. C: PDFx enligt gällande ISO-standard. (Avser inte variabeldata)",null,null,null,null,null,null,null,null,"A: Öppna filer. B: PDF. C: PDFx enligt gällande ISO-standard. (Avser inte variabeldata)","A: Öppna filer. B: PDF. C: PDFx enligt gällande ISO-standard. (Avser inte variabeldata)",null,null,"C: PDFx enligt gällande ISO-standard. (Avser inte variabeldata)","A: Öppna filer. C: PDFx enligt gällande ISO-standard.(Avser inte variabeldata)","A: Öppna filer. B: PDF. C: PDFx enligt gällande ISO-standard.(Avser inte variabeldata)","A: Öppna filer. B: PDF. C: PDFx enligt gällande ISO-standard.(Avser inte variabeldata)","A: Öppna filer. C: PDFx enligt gällande ISO-standard. (Avser inte variabeldata)","A: Öppna filer. B: PDF. C: PDFx enligt gällande ISO-standard. (Avser inte variabeldata)","A: Öppna filer. B: PDF. C: PDFx enligt gällande ISO-standard.(Avser inte variabeldata)","A: Öppna filer. B: PDF. C: PDFx enligt gällande ISO-standard. (Avser inte variabeldata)","A: Öppna filer. B: PDF. C: PDFx enligt gällande ISO-standard. (Avser inte variabeldata)","A: Öppna filer. C: PDFx enligt gällande ISO-standard. (Avser inte variabeldata)","A: Öppna filer. B: PDF. C: PDFx enligt gällande ISO-standard. (Avser inte variabeldata)","A: Öppna filer. B: PDF. C: PDFx enligt gällande ISO-standard. (Avser inte variabeldata)","A: Öppna filer. B: PDF. C: PDFx enligt gällande ISO-standard. (Avser inte variabeldata)","Roll up Motiv 85 cm för montering i egen kassett, exklusive kassett och montering","Roll up Motiv 100 cm för montering i egen kassett, exklusive kassett och montering","Roll up Motiv 85 cm inklusive kassett för utbytbar roll up","Roll up Motiv 100 cm inklusive kassett för utbytbar roll up","Roll up Motiv 85 cm inklusive enkel kassett, där roll up inte går att byta ","Roll up Motiv 100 cm inklusive enkel kassett, där roll up inte går att byta ","297_x_420_mm","500_x_700_mm","700_x_1000_mm"]
[null,{"$f":"IF($B$40=$N$25,IF($N26=\"\",\"\",$N26),IF($B$40=$O$25,IF($O26=\"\",\"\",$O26),IF($B$40=$P$25,IF($P26=\"\",\"\",$P26),IF($B$40=$Q$25,IF($Q26=\"\",\"\",$Q26),IF($B$40=$R$25,IF($R26=\"\",\"\",$R26),IF($B$40=$S$25,IF($S26=\"\",\"\",$S26),IF($B$40=$T$25,IF($T26=\"\",\"\",$T26),IF($B$40=$U$25,IF($U26=\"\",\"\",$U26),IF($B$40=$V$25,IF($V26=\"\",\"\",$V26),IF($B$40=$W$25,IF($W26=\"\",\"\",$W26),IF($B$40=$X$25,IF($X26=\"\",\"\",$X26),IF($B$40=$Y$25,IF($Y26=\"\",\"\",$Y26),IF($B$40=$Z$25,IF($Z26=\"\",\"\",$Z26),\"\")))))))))))))","v":""},{"$f":"IF($C$40=$N$39,IF($N40=\"\",\"\",$N40),IF($C$40=$O$39,IF($O40=\"\",\"\",$O40),IF($C$40=$P$39,IF($P40=\"\",\"\",$P40),IF($C$40=$Q$39,IF($Q40=\"\",\"\",$Q40),IF($C$40=$R$39,IF($R40=\"\",\"\",$R40),IF($C$40=$S$39,IF($S40=\"\",\"\",$S40),IF($C$40=$T$39,IF($T40=\"\",\"\",$T40),IF($C$40=$U$39,IF($U40=\"\",\"\",$U40),IF($C$40=$V$39,IF($V40=\"\",\"\",$V40),IF($C$40=$W$39,IF($W40=\"\",\"\",$W40),IF($C$40=$X$39,IF($X40=\"\",\"\",$X40),IF($C$40=$Y$39,IF($Y40=\"\",\"\",$Y40),IF($C$40=$Z$39,IF($Z40=\"\",\"\",$Z40),IF($C$40=$AA$39,IF($AA40=\"\",\"\",$AA40),IF($C$40=$AB$39,IF($AB40=\"\",\"\",$AB40),IF($C$40=$AC$39,IF($AC40=\"\",\"\",$AC40),IF($C$40=$AD$39,IF($AD40=\"\",\"\",$AD40),IF($C$40=$AE$39,IF($AE40=\"\",\"\",$AE40),IF($C$40=$AF$39,IF($AF40=\"\",\"\",$AF40),IF($C$40=$AG$39,IF($AG40=\"\",\"\",$AG40),IF($C$40=$AH$39,IF($AH40=\"\",\"\",$AH40),IF($C$40=$AI$39,IF($AI40=\"\",\"\",$AI40),IF($C$40=$AJ$39,IF($AJ40=\"\",\"\",$AJ40),IF($C$40=$AK$39,IF($AK40=\"\",\"\",$AK40),IF($C$40=$AL$39,IF($AL40=\"\",\"\",$AL40),IF($C$40=$AM$39,IF($AM40=\"\",\"\",$AM40),IF($C$40=$AN$39,IF($AN40=\"\",\"\",$AN40),IF($C$40=$AO$39,IF($AO40=\"\",\"\",$AO40),IF($C$40=$AP$39,IF($AP40=\"\",\"\",$AP40),IF($C$40=$AQ$39,IF($AQ40=\"\",\"\",$AQ40),IF($C$40=$AR$39,IF($AR40=\"\",\"\",$AR40),IF($C$40=$AS$39,IF($AS40=\"\",\"\",$AS40),IF($C$40=$AT$39,IF($AT40=\"\",\"\",$AT40),IF($C$40=$AU$39,IF($AU40=\"\",\"\",$AU40),IF($C$40=$AV$39,IF($AV40=\"\",\"\",$AV40),IF($C$40=$AW$39,IF($AW40=\"\",\"\",$AW40),IF($C$40=$AX$39,IF($AX40=\"\",\"\",$AX40),IF($C$40=$AY$39,IF($AY40=\"\",\"\",$AY40),IF($C$40=$AZ$39,IF($AZ40=\"\",\"\",$AZ40),IF($C$40=$BA$39,IF($BA40=\"\",\"\",$BA40),IF($C$40=$BB$39,IF($BB40=\"\",\"\",$BB40),IF($C$40=$BC$39,IF($BC40=\"\",\"\",$BC40),IF($C$40=$BD$39,IF($BD40=\"\",\"\",$BD40),IF($C$40=$BE$39,IF($BE40=\"\",\"\",$BE40),IF($C$40=$BF$39,IF($BF40=\"\",\"\",$BF40),IF($C$40=$BG$39,IF($BG40=\"\",\"\",$BG40),IF($C$40=$BH$39,IF($BH40=\"\",\"\",$BH40),IF($C$40=$BI$39,IF($BI40=\"\",\"\",$BI40),IF($C$40=$BJ$39,IF($BJ40=\"\",\"\",$BJ40),IF($C$40=$BK$39,IF($BK40=\"\",\"\",$BK40),IF($C$40=$BL$39,IF($BL40=\"\",\"\",$BL40),IF($C$40=$BM$39,IF($BM40=\"\",\"\",$BM40),IF($C$40=$BN$39,IF($BN40=\"\",\"\",$BN40),IF($C$40=$BO$39,IF($BO40=\"\",\"\",$BO40),IF($C$40=$BP$39,IF($BP40=\"\",\"\",$BP40),IF($C$40=$BQ$39,IF($BQ40=\"\",\"\",$BQ40),IF($C$40=$BR$39,IF($BR40=\"\",\"\",$BR40),IF($C$40=$BS$39,IF($BS40=\"\",\"\",$BS40),\"\"))))))))))))))))))))))))))))))))))))))))))))))))))))))))))","v":""},null,null,null,null,null,null,null,null,null,null,"90 x 55 mm","90 x 55 mm",null,null,null,null,null,null,null,null,null,null,null,null,null,null,"Kuvertet ska kunna tryckas","Kuvertet ska kunna tryckas","Kuvertet ska kunna tryckas","Kuvertet ska kunna tryckas","Kuvertet ska kunna tryckas","Kuvertet ska kunna tryckas","Kuvertet ska kunna tryckas",null,null,null,null,null,null,null,null,"Stansas och bigas enligt tryckeriets stansmall. ","Stansas och bigas enligt tryckeriets stansmall. ",null,null,"A4","A5","105 x 297 mm","A4","A4","A4","A5","165 x 242 mm","165 x 242 mm","A4","165 x 242 mm","A4","225 x 270 mm ","A: Öppna filer. B: PDF. C: PDFx enligt gällande ISO-standard. (Avser inte variabeldata)","A: Öppna filer. B: PDF. C: PDFx enligt gällande ISO-standard. (Avser inte variabeldata)","A: Öppna filer. B: PDF. C: PDFx enligt gällande ISO-standard. (Avser inte variabeldata)","A: Öppna filer. B: PDF. C: PDFx enligt gällande ISO-standard. (Avser inte variabeldata)","A: Öppna filer. B: PDF. C: PDFx enligt gällande ISO-standard. (Avser inte variabeldata)","A: Öppna filer. B: PDF. C: PDFx enligt gällande ISO-standard. (Avser inte variabeldata)","A: Öppna filer. B: PDF. C: PDFx enligt gällande ISO-standard. (Avser inte variabeldata)","A: Öppna filer. B: PDF. C: PDFx enligt gällande ISO-standard. (Avser inte variabeldata)","A: Öppna filer. B: PDF. C: PDFx enligt gällande ISO-standard. (Avser inte variabeldata)"]
[null,"",{"$f":"IF($C$40=$N$39,IF($N41=\"\",\"\",$N41),IF($C$40=$O$39,IF($O41=\"\",\"\",$O41),IF($C$40=$P$39,IF($P41=\"\",\"\",$P41),IF($C$40=$Q$39,IF($Q41=\"\",\"\",$Q41),IF($C$40=$R$39,IF($R41=\"\",\"\",$R41),IF($C$40=$S$39,IF($S41=\"\",\"\",$S41),IF($C$40=$T$39,IF($T41=\"\",\"\",$T41),IF($C$40=$U$39,IF($U41=\"\",\"\",$U41),IF($C$40=$V$39,IF($V41=\"\",\"\",$V41),IF($C$40=$W$39,IF($W41=\"\",\"\",$W41),IF($C$40=$X$39,IF($X41=\"\",\"\",$X41),IF($C$40=$Y$39,IF($Y41=\"\",\"\",$Y41),IF($C$40=$Z$39,IF($Z41=\"\",\"\",$Z41),IF($C$40=$AA$39,IF($AA41=\"\",\"\",$AA41),IF($C$40=$AB$39,IF($AB41=\"\",\"\",$AB41),IF($C$40=$AC$39,IF($AC41=\"\",\"\",$AC41),IF($C$40=$AD$39,IF($AD41=\"\",\"\",$AD41),IF($C$40=$AE$39,IF($AE41=\"\",\"\",$AE41),IF($C$40=$AF$39,IF($AF41=\"\",\"\",$AF41),IF($C$40=$AG$39,IF($AG41=\"\",\"\",$AG41),IF($C$40=$AH$39,IF($AH41=\"\",\"\",$AH41),IF($C$40=$AI$39,IF($AI41=\"\",\"\",$AI41),IF($C$40=$AJ$39,IF($AJ41=\"\",\"\",$AJ41),IF($C$40=$AK$39,IF($AK41=\"\",\"\",$AK41),IF($C$40=$AL$39,IF($AL41=\"\",\"\",$AL41),IF($C$40=$AM$39,IF($AM41=\"\",\"\",$AM41),IF($C$40=$AN$39,IF($AN41=\"\",\"\",$AN41),IF($C$40=$AO$39,IF($AO41=\"\",\"\",$AO41),IF($C$40=$AP$39,IF($AP41=\"\",\"\",$AP41),IF($C$40=$AQ$39,IF($AQ41=\"\",\"\",$AQ41),IF($C$40=$AR$39,IF($AR41=\"\",\"\",$AR41),IF($C$40=$AS$39,IF($AS41=\"\",\"\",$AS41),IF($C$40=$AT$39,IF($AT41=\"\",\"\",$AT41),IF($C$40=$AU$39,IF($AU41=\"\",\"\",$AU41),IF($C$40=$AV$39,IF($AV41=\"\",\"\",$AV41),IF($C$40=$AW$39,IF($AW41=\"\",\"\",$AW41),IF($C$40=$AX$39,IF($AX41=\"\",\"\",$AX41),IF($C$40=$AY$39,IF($AY41=\"\",\"\",$AY41),IF($C$40=$AZ$39,IF($AZ41=\"\",\"\",$AZ41),IF($C$40=$BA$39,IF($BA41=\"\",\"\",$BA41),IF($C$40=$BB$39,IF($BB41=\"\",\"\",$BB41),IF($C$40=$BC$39,IF($BC41=\"\",\"\",$BC41),IF($C$40=$BD$39,IF($BD41=\"\",\"\",$BD41),IF($C$40=$BE$39,IF($BE41=\"\",\"\",$BE41),IF($C$40=$BF$39,IF($BF41=\"\",\"\",$BF41),IF($C$40=$BG$39,IF($BG41=\"\",\"\",$BG41),IF($C$40=$BH$39,IF($BH41=\"\",\"\",$BH41),IF($C$40=$BI$39,IF($BI41=\"\",\"\",$BI41),IF($C$40=$BJ$39,IF($BJ41=\"\",\"\",$BJ41),IF($C$40=$BK$39,IF($BK41=\"\",\"\",$BK41),IF($C$40=$BL$39,IF($BL41=\"\",\"\",$BL41),IF($C$40=$BM$39,IF($BM41=\"\",\"\",$BM41),IF($C$40=$BN$39,IF($BN41=\"\",\"\",$BN41),IF($C$40=$BO$39,IF($BO41=\"\",\"\",$BO41),IF($C$40=$BP$39,IF($BP41=\"\",\"\",$BP41),IF($C$40=$BQ$39,IF($BQ41=\"\",\"\",$BQ41),IF($C$40=$BR$39,IF($BR41=\"\",\"\",$BR41),IF($C$40=$BS$39,IF($BS41=\"\",\"\",$BS41),\"\"))))))))))))))))))))))))))))))))))))))))))))))))))))))))))","v":""},null,null,null,null,null,null,null,null,null,null,"300 g","300 g",null,null,null,null,null,null,null,null,null,null,null,null,null,null,"Kuvert vitt utan fönster, självhäftande klaff med täckremsa. Klaffen ska vara tryckbar, ej utfallande. 90g","Kuvert vitt utan fönster, självhäftande klaff med täckremsa. Klaffen ska vara tryckbar, ej utfallande. 100g","Kuvert vitt fönster stående, självhäftande klaff med täckremsa. Klaffen ska vara tryckbar, ej utfallande. 100g","Kuvert vitt utan fönster, självhäftande klaff med täckremsa. Klaffen ska vara tryckbar, ej utfallande. 90g","Kuvert vitt utan fönster, självhäftande klaff med täckremsa. Klaffen ska vara tryckbar, ej utfallande. 115g","Kuvert vitt fönster, självhäftande klaff med täckremsa. Klaffen ska vara tryckbar, ej utfallande. 90g","Kuvert vitt fönster, självhäftande klaff med täckremsa. Klaffen ska vara tryckbar, ej utfallande. 115g",null,null,null,null,null,null,null,null,"Ska kunna tillhandahållas av tryckeriet för egen tillverkning i Indesign för framställning av pdfx-fil","Ska kunna tillhandahållas av tryckeriet för egen tillverkning i Indesign för framställning av pdfx-fil",null,null,"Mattbestruket 130 g","Mattbestruket 130 g","Mattbestruket 130 g","Mattbestruket 130 g","130g obestruket",null,null,"70g offsetpapper ","70g offsetpapper ","Obestruket 80 g","Mattbestruket 100 g","Bestruket 80 g","Bestruket 80 g","Minst 200 cm","Minst 200 cm","Minst 200 cm","Minst 200 cm","Minst 200 cm","Minst 200 cm","Bestruket gloss 170 g","Bestruket gloss 170 g","Bestruket gloss 170 g"]
[null,"",{"$f":"IF($C$40=$N$39,IF($N42=\"\",\"\",$N42),IF($C$40=$O$39,IF($O42=\"\",\"\",$O42),IF($C$40=$P$39,IF($P42=\"\",\"\",$P42),IF($C$40=$Q$39,IF($Q42=\"\",\"\",$Q42),IF($C$40=$R$39,IF($R42=\"\",\"\",$R42),IF($C$40=$S$39,IF($S42=\"\",\"\",$S42),IF($C$40=$T$39,IF($T42=\"\",\"\",$T42),IF($C$40=$U$39,IF($U42=\"\",\"\",$U42),IF($C$40=$V$39,IF($V42=\"\",\"\",$V42),IF($C$40=$W$39,IF($W42=\"\",\"\",$W42),IF($C$40=$X$39,IF($X42=\"\",\"\",$X42),IF($C$40=$Y$39,IF($Y42=\"\",\"\",$Y42),IF($C$40=$Z$39,IF($Z42=\"\",\"\",$Z42),IF($C$40=$AA$39,IF($AA42=\"\",\"\",$AA42),IF($C$40=$AB$39,IF($AB42=\"\",\"\",$AB42),IF($C$40=$AC$39,IF($AC42=\"\",\"\",$AC42),IF($C$40=$AD$39,IF($AD42=\"\",\"\",$AD42),IF($C$40=$AE$39,IF($AE42=\"\",\"\",$AE42),IF($C$40=$AF$39,IF($AF42=\"\",\"\",$AF42),IF($C$40=$AG$39,IF($AG42=\"\",\"\",$AG42),IF($C$40=$AH$39,IF($AH42=\"\",\"\",$AH42),IF($C$40=$AI$39,IF($AI42=\"\",\"\",$AI42),IF($C$40=$AJ$39,IF($AJ42=\"\",\"\",$AJ42),IF($C$40=$AK$39,IF($AK42=\"\",\"\",$AK42),IF($C$40=$AL$39,IF($AL42=\"\",\"\",$AL42),IF($C$40=$AM$39,IF($AM42=\"\",\"\",$AM42),IF($C$40=$AN$39,IF($AN42=\"\",\"\",$AN42),IF($C$40=$AO$39,IF($AO42=\"\",\"\",$AO42),IF($C$40=$AP$39,IF($AP42=\"\",\"\",$AP42),IF($C$40=$AQ$39,IF($AQ42=\"\",\"\",$AQ42),IF($C$40=$AR$39,IF($AR42=\"\",\"\",$AR42),IF($C$40=$AS$39,IF($AS42=\"\",\"\",$AS42),IF($C$40=$AT$39,IF($AT42=\"\",\"\",$AT42),IF($C$40=$AU$39,IF($AU42=\"\",\"\",$AU42),IF($C$40=$AV$39,IF($AV42=\"\",\"\",$AV42),IF($C$40=$AW$39,IF($AW42=\"\",\"\",$AW42),IF($C$40=$AX$39,IF($AX42=\"\",\"\",$AX42),IF($C$40=$AY$39,IF($AY42=\"\",\"\",$AY42),IF($C$40=$AZ$39,IF($AZ42=\"\",\"\",$AZ42),IF($C$40=$BA$39,IF($BA42=\"\",\"\",$BA42),IF($C$40=$BB$39,IF($BB42=\"\",\"\",$BB42),IF($C$40=$BC$39,IF($BC42=\"\",\"\",$BC42),IF($C$40=$BD$39,IF($BD42=\"\",\"\",$BD42),IF($C$40=$BE$39,IF($BE42=\"\",\"\",$BE42),IF($C$40=$BF$39,IF($BF42=\"\",\"\",$BF42),IF($C$40=$BG$39,IF($BG42=\"\",\"\",$BG42),IF($C$40=$BH$39,IF($BH42=\"\",\"\",$BH42),IF($C$40=$BI$39,IF($BI42=\"\",\"\",$BI42),IF($C$40=$BJ$39,IF($BJ42=\"\",\"\",$BJ42),IF($C$40=$BK$39,IF($BK42=\"\",\"\",$BK42),IF($C$40=$BL$39,IF($BL42=\"\",\"\",$BL42),IF($C$40=$BM$39,IF($BM42=\"\",\"\",$BM42),IF($C$40=$BN$39,IF($BN42=\"\",\"\",$BN42),IF($C$40=$BO$39,IF($BO42=\"\",\"\",$BO42),IF($C$40=$BP$39,IF($BP42=\"\",\"\",$BP42),IF($C$40=$BQ$39,IF($BQ42=\"\",\"\",$BQ42),IF($C$40=$BR$39,IF($BR42=\"\",\"\",$BR42),IF($C$40=$BS$39,IF($BS42=\"\",\"\",$BS42),\"\"))))))))))))))))))))))))))))))))))))))))))))))))))))))))))","v":""},null,null,null,null,null,null,null,null,null,null,"Enligt valde varianten","Enligt valde varianten",null,null,null,null,null,null,null,null,null,null,null,null,null,null,"C4","C4","C4","C5","C5","C5","C5",null,null,null,null,null,null,null,null,"Oliksidig kartong, , där mappens insida är otryckt obestruken och med blanka sidan utåt (trycksidan). Ytvikt mellan 240-250 g","Obestruket papper vitt 300 g",null,null,"4+4 färger","4+4 färger","4+4 färger","4+4 färger","4+4 färger",null,null,"Inget separat omslag","225 g colorit eller motsvarande","Bestruket 250 g","Mattbestruket 150 g","Bestruket 150 g","Bestruket 130 g","Kassett i aluminium och tyg i PVC-fritt material","Kassett i aluminium och tyg iPVC-fritt material","Kassett i aluminium och tyg i PVC-fritt material","Kassett i aluminium och tyg i PVC-fritt material","Kassett i aluminium och tyg i PVC-fritt material","Kassett i aluminium och tyg i PVC-fritt material","4+0","4+0","4+0"]
[null,"",{"$f":"IF($C$40=$N$39,IF($N43=\"\",\"\",$N43),IF($C$40=$O$39,IF($O43=\"\",\"\",$O43),IF($C$40=$P$39,IF($P43=\"\",\"\",$P43),IF($C$40=$Q$39,IF($Q43=\"\",\"\",$Q43),IF($C$40=$R$39,IF($R43=\"\",\"\",$R43),IF($C$40=$S$39,IF($S43=\"\",\"\",$S43),IF($C$40=$T$39,IF($T43=\"\",\"\",$T43),IF($C$40=$U$39,IF($U43=\"\",\"\",$U43),IF($C$40=$V$39,IF($V43=\"\",\"\",$V43),IF($C$40=$W$39,IF($W43=\"\",\"\",$W43),IF($C$40=$X$39,IF($X43=\"\",\"\",$X43),IF($C$40=$Y$39,IF($Y43=\"\",\"\",$Y43),IF($C$40=$Z$39,IF($Z43=\"\",\"\",$Z43),IF($C$40=$AA$39,IF($AA43=\"\",\"\",$AA43),IF($C$40=$AB$39,IF($AB43=\"\",\"\",$AB43),IF($C$40=$AC$39,IF($AC43=\"\",\"\",$AC43),IF($C$40=$AD$39,IF($AD43=\"\",\"\",$AD43),IF($C$40=$AE$39,IF($AE43=\"\",\"\",$AE43),IF($C$40=$AF$39,IF($AF43=\"\",\"\",$AF43),IF($C$40=$AG$39,IF($AG43=\"\",\"\",$AG43),IF($C$40=$AH$39,IF($AH43=\"\",\"\",$AH43),IF($C$40=$AI$39,IF($AI43=\"\",\"\",$AI43),IF($C$40=$AJ$39,IF($AJ43=\"\",\"\",$AJ43),IF($C$40=$AK$39,IF($AK43=\"\",\"\",$AK43),IF($C$40=$AL$39,IF($AL43=\"\",\"\",$AL43),IF($C$40=$AM$39,IF($AM43=\"\",\"\",$AM43),IF($C$40=$AN$39,IF($AN43=\"\",\"\",$AN43),IF($C$40=$AO$39,IF($AO43=\"\",\"\",$AO43),IF($C$40=$AP$39,IF($AP43=\"\",\"\",$AP43),IF($C$40=$AQ$39,IF($AQ43=\"\",\"\",$AQ43),IF($C$40=$AR$39,IF($AR43=\"\",\"\",$AR43),IF($C$40=$AS$39,IF($AS43=\"\",\"\",$AS43),IF($C$40=$AT$39,IF($AT43=\"\",\"\",$AT43),IF($C$40=$AU$39,IF($AU43=\"\",\"\",$AU43),IF($C$40=$AV$39,IF($AV43=\"\",\"\",$AV43),IF($C$40=$AW$39,IF($AW43=\"\",\"\",$AW43),IF($C$40=$AX$39,IF($AX43=\"\",\"\",$AX43),IF($C$40=$AY$39,IF($AY43=\"\",\"\",$AY43),IF($C$40=$AZ$39,IF($AZ43=\"\",\"\",$AZ43),IF($C$40=$BA$39,IF($BA43=\"\",\"\",$BA43),IF($C$40=$BB$39,IF($BB43=\"\",\"\",$BB43),IF($C$40=$BC$39,IF($BC43=\"\",\"\",$BC43),IF($C$40=$BD$39,IF($BD43=\"\",\"\",$BD43),IF($C$40=$BE$39,IF($BE43=\"\",\"\",$BE43),IF($C$40=$BF$39,IF($BF43=\"\",\"\",$BF43),IF($C$40=$BG$39,IF($BG43=\"\",\"\",$BG43),IF($C$40=$BH$39,IF($BH43=\"\",\"\",$BH43),IF($C$40=$BI$39,IF($BI43=\"\",\"\",$BI43),IF($C$40=$BJ$39,IF($BJ43=\"\",\"\",$BJ43),IF($C$40=$BK$39,IF($BK43=\"\",\"\",$BK43),IF($C$40=$BL$39,IF($BL43=\"\",\"\",$BL43),IF($C$40=$BM$39,IF($BM43=\"\",\"\",$BM43),IF($C$40=$BN$39,IF($BN43=\"\",\"\",$BN43),IF($C$40=$BO$39,IF($BO43=\"\",\"\",$BO43),IF($C$40=$BP$39,IF($BP43=\"\",\"\",$BP43),IF($C$40=$BQ$39,IF($BQ43=\"\",\"\",$BQ43),IF($C$40=$BR$39,IF($BR43=\"\",\"\",$BR43),IF($C$40=$BS$39,IF($BS43=\"\",\"\",$BS43),\"\"))))))))))))))))))))))))))))))))))))))))))))))))))))))))))","v":""},null,null,null,null,null,null,null,null,null,null,null,null,null,null,null,null,null,null,null,null,null,null,null,null,null,null,null,null,null,null,null,null,null,null,null,null,null,null,null,null,null,"För A4 dokument","För A4 dokument",null,null,"4 stycken","4 stycken","4 stycken","6 stycken","Klammerhäftning","Klammerhäftning","Klammerhäftning","1+1 Svart",null,"1+1","1+1 ","4+4","4+4","4+0","4+0","4+0","4+0","4+0","4+0"]
[null,"",{"$f":"IF($C$40=$N$39,IF($N44=\"\",\"\",$N44),IF($C$40=$O$39,IF($O44=\"\",\"\",$O44),IF($C$40=$P$39,IF($P44=\"\",\"\",$P44),IF($C$40=$Q$39,IF($Q44=\"\",\"\",$Q44),IF($C$40=$R$39,IF($R44=\"\",\"\",$R44),IF($C$40=$S$39,IF($S44=\"\",\"\",$S44),IF($C$40=$T$39,IF($T44=\"\",\"\",$T44),IF($C$40=$U$39,IF($U44=\"\",\"\",$U44),IF($C$40=$V$39,IF($V44=\"\",\"\",$V44),IF($C$40=$W$39,IF($W44=\"\",\"\",$W44),IF($C$40=$X$39,IF($X44=\"\",\"\",$X44),IF($C$40=$Y$39,IF($Y44=\"\",\"\",$Y44),IF($C$40=$Z$39,IF($Z44=\"\",\"\",$Z44),IF($C$40=$AA$39,IF($AA44=\"\",\"\",$AA44),IF($C$40=$AB$39,IF($AB44=\"\",\"\",$AB44),IF($C$40=$AC$39,IF($AC44=\"\",\"\",$AC44),IF($C$40=$AD$39,IF($AD44=\"\",\"\",$AD44),IF($C$40=$AE$39,IF($AE44=\"\",\"\",$AE44),IF($C$40=$AF$39,IF($AF44=\"\",\"\",$AF44),IF($C$40=$AG$39,IF($AG44=\"\",\"\",$AG44),IF($C$40=$AH$39,IF($AH44=\"\",\"\",$AH44),IF($C$40=$AI$39,IF($AI44=\"\",\"\",$AI44),IF($C$40=$AJ$39,IF($AJ44=\"\",\"\",$AJ44),IF($C$40=$AK$39,IF($AK44=\"\",\"\",$AK44),IF($C$40=$AL$39,IF($AL44=\"\",\"\",$AL44),IF($C$40=$AM$39,IF($AM44=\"\",\"\",$AM44),IF($C$40=$AN$39,IF($AN44=\"\",\"\",$AN44),IF($C$40=$AO$39,IF($AO44=\"\",\"\",$AO44),IF($C$40=$AP$39,IF($AP44=\"\",\"\",$AP44),IF($C$40=$AQ$39,IF($AQ44=\"\",\"\",$AQ44),IF($C$40=$AR$39,IF($AR44=\"\",\"\",$AR44),IF($C$40=$AS$39,IF($AS44=\"\",\"\",$AS44),IF($C$40=$AT$39,IF($AT44=\"\",\"\",$AT44),IF($C$40=$AU$39,IF($AU44=\"\",\"\",$AU44),IF($C$40=$AV$39,IF($AV44=\"\",\"\",$AV44),IF($C$40=$AW$39,IF($AW44=\"\",\"\",$AW44),IF($C$40=$AX$39,IF($AX44=\"\",\"\",$AX44),IF($C$40=$AY$39,IF($AY44=\"\",\"\",$AY44),IF($C$40=$AZ$39,IF($AZ44=\"\",\"\",$AZ44),IF($C$40=$BA$39,IF($BA44=\"\",\"\",$BA44),IF($C$40=$BB$39,IF($BB44=\"\",\"\",$BB44),IF($C$40=$BC$39,IF($BC44=\"\",\"\",$BC44),IF($C$40=$BD$39,IF($BD44=\"\",\"\",$BD44),IF($C$40=$BE$39,IF($BE44=\"\",\"\",$BE44),IF($C$40=$BF$39,IF($BF44=\"\",\"\",$BF44),IF($C$40=$BG$39,IF($BG44=\"\",\"\",$BG44),IF($C$40=$BH$39,IF($BH44=\"\",\"\",$BH44),IF($C$40=$BI$39,IF($BI44=\"\",\"\",$BI44),IF($C$40=$BJ$39,IF($BJ44=\"\",\"\",$BJ44),IF($C$40=$BK$39,IF($BK44=\"\",\"\",$BK44),IF($C$40=$BL$39,IF($BL44=\"\",\"\",$BL44),IF($C$40=$BM$39,IF($BM44=\"\",\"\",$BM44),IF($C$40=$BN$39,IF($BN44=\"\",\"\",$BN44),IF($C$40=$BO$39,IF($BO44=\"\",\"\",$BO44),IF($C$40=$BP$39,IF($BP44=\"\",\"\",$BP44),IF($C$40=$BQ$39,IF($BQ44=\"\",\"\",$BQ44),IF($C$40=$BR$39,IF($BR44=\"\",\"\",$BR44),IF($C$40=$BS$39,IF($BS44=\"\",\"\",$BS44),\"\"))))))))))))))))))))))))))))))))))))))))))))))))))))))))))","v":""},null,null,null,null,null,null,null,null,null,null,null,null,null,null,null,null,null,null,null,null,null,null,null,null,null,null,null,null,null,null,null,null,null,null,null,null,null,null,null,null,null,"Klaffarna ska vara tillräckligt breda för att pappersmapparnas funktion ska vara förenlig med vad som är fackmannamässigt i branschen och för att rymma minst 100 stycken A4-ark (80g/m2) på ett funktionsenligt sätt. Två av klaffarna sitter på mappens baksida","Klaffarna ska vara tillräckligt breda för att pappersmapparnas funktion ska vara förenlig med vad som är fackmannamässigt i branschen och för att rymma minst 100 stycken A4-ark (80g/m2) på ett funktionsenligt sätt. Två av klaffarna sitter på mappens baksida",null,null,null,null,null,null,null,"Mattbestruket 130 g","Obestruket papper 80g","Triohålning, klamring. Limbindning vid omfång (inlaga och omslag) 113 sidor eller fler.","Triohålning, klamring. Limbindning vid omfång (inlaga och omslag) 113 sidor eller fler.","4+0","4+0 ","4+4","4+4"]
[null,"",{"$f":"IF($C$40=$N$39,IF($N45=\"\",\"\",$N45),IF($C$40=$O$39,IF($O45=\"\",\"\",$O45),IF($C$40=$P$39,IF($P45=\"\",\"\",$P45),IF($C$40=$Q$39,IF($Q45=\"\",\"\",$Q45),IF($C$40=$R$39,IF($R45=\"\",\"\",$R45),IF($C$40=$S$39,IF($S45=\"\",\"\",$S45),IF($C$40=$T$39,IF($T45=\"\",\"\",$T45),IF($C$40=$U$39,IF($U45=\"\",\"\",$U45),IF($C$40=$V$39,IF($V45=\"\",\"\",$V45),IF($C$40=$W$39,IF($W45=\"\",\"\",$W45),IF($C$40=$X$39,IF($X45=\"\",\"\",$X45),IF($C$40=$Y$39,IF($Y45=\"\",\"\",$Y45),IF($C$40=$Z$39,IF($Z45=\"\",\"\",$Z45),IF($C$40=$AA$39,IF($AA45=\"\",\"\",$AA45),IF($C$40=$AB$39,IF($AB45=\"\",\"\",$AB45),IF($C$40=$AC$39,IF($AC45=\"\",\"\",$AC45),IF($C$40=$AD$39,IF($AD45=\"\",\"\",$AD45),IF($C$40=$AE$39,IF($AE45=\"\",\"\",$AE45),IF($C$40=$AF$39,IF($AF45=\"\",\"\",$AF45),IF($C$40=$AG$39,IF($AG45=\"\",\"\",$AG45),IF($C$40=$AH$39,IF($AH45=\"\",\"\",$AH45),IF($C$40=$AI$39,IF($AI45=\"\",\"\",$AI45),IF($C$40=$AJ$39,IF($AJ45=\"\",\"\",$AJ45),IF($C$40=$AK$39,IF($AK45=\"\",\"\",$AK45),IF($C$40=$AL$39,IF($AL45=\"\",\"\",$AL45),IF($C$40=$AM$39,IF($AM45=\"\",\"\",$AM45),IF($C$40=$AN$39,IF($AN45=\"\",\"\",$AN45),IF($C$40=$AO$39,IF($AO45=\"\",\"\",$AO45),IF($C$40=$AP$39,IF($AP45=\"\",\"\",$AP45),IF($C$40=$AQ$39,IF($AQ45=\"\",\"\",$AQ45),IF($C$40=$AR$39,IF($AR45=\"\",\"\",$AR45),IF($C$40=$AS$39,IF($AS45=\"\",\"\",$AS45),IF($C$40=$AT$39,IF($AT45=\"\",\"\",$AT45),IF($C$40=$AU$39,IF($AU45=\"\",\"\",$AU45),IF($C$40=$AV$39,IF($AV45=\"\",\"\",$AV45),IF($C$40=$AW$39,IF($AW45=\"\",\"\",$AW45),IF($C$40=$AX$39,IF($AX45=\"\",\"\",$AX45),IF($C$40=$AY$39,IF($AY45=\"\",\"\",$AY45),IF($C$40=$BA$39,IF($BA45=\"\",\"\",$BA45),IF($C$40=$BB$39,IF($BB45=\"\",\"\",$BB45),IF($C$40=$BC$39,IF($BC45=\"\",\"\",$BC45),IF($C$40=$BD$39,IF($BD45=\"\",\"\",$BD45),IF($C$40=$BE$39,IF($BE45=\"\",\"\",$BE45),IF($C$40=$BF$39,IF($BF45=\"\",\"\",$BF45),IF($C$40=$BG$39,IF($BG45=\"\",\"\",$BG45),IF($C$40=$BH$39,IF($BH45=\"\",\"\",$BH45),IF($C$40=$BI$39,IF($BI45=\"\",\"\",$BI45),IF($C$40=$BJ$39,IF($BJ45=\"\",\"\",$BJ45),IF($C$40=$BK$39,IF($BK45=\"\",\"\",$BK45),IF($C$40=$BL$39,IF($BL45=\"\",\"\",$BL45),IF($C$40=$BM$39,IF($BM45=\"\",\"\",$BM45),IF($C$40=$BN$39,IF($BN45=\"\",\"\",$BN45),IF($C$40=$BO$39,IF($BO45=\"\",\"\",$BO45),IF($C$40=$BP$39,IF($BP45=\"\",\"\",$BP45),IF($C$40=$BQ$39,IF($BQ45=\"\",\"\",$BQ45),IF($C$40=$BR$39,IF($BR45=\"\",\"\",$BR45),IF($C$40=$BS$39,IF($BS45=\"\",\"\",$BS45),\"\")))))))))))))))))))))))))))))))))))))))))))))))))))))))))","v":""},null,null,null,null,null,null,null,null,null,null,null,null,null,null,null,null,null,null,null,null,null,null,null,null,null,null,null,null,null,null,null,null,null,null,null,null,null,null,null,null,null,null,null,null,null,null,null,null,null,null,"Mattbestruket 250 g","Bestruket 250g",null,"1+1 Svart","Limbindning","Limbindning","Klammerhäftning, men vid omfång (inlaga och omslag) 113 sidor eller fler limbindning.","Klammerhäftning, men vid omfång (inlaga och omslag) 113 sidor eller fler limbindning."]
[null,"",{"$f":"IF($C$40=$N$39,IF($N46=\"\",\"\",$N46),IF($C$40=$O$39,IF($O46=\"\",\"\",$O46),IF($C$40=$P$39,IF($P46=\"\",\"\",$P46),IF($C$40=$Q$39,IF($Q46=\"\",\"\",$Q46),IF($C$40=$R$39,IF($R46=\"\",\"\",$R46),IF($C$40=$S$39,IF($S46=\"\",\"\",$S46),IF($C$40=$T$39,IF($T46=\"\",\"\",$T46),IF($C$40=$U$39,IF($U46=\"\",\"\",$U46),IF($C$40=$V$39,IF($V46=\"\",\"\",$V46),IF($C$40=$W$39,IF($W46=\"\",\"\",$W46),IF($C$40=$X$39,IF($X46=\"\",\"\",$X46),IF($C$40=$Y$39,IF($Y46=\"\",\"\",$Y46),IF($C$40=$Z$39,IF($Z46=\"\",\"\",$Z46),IF($C$40=$AA$39,IF($AA46=\"\",\"\",$AA46),IF($C$40=$AB$39,IF($AB46=\"\",\"\",$AB46),IF($C$40=$AC$39,IF($AC46=\"\",\"\",$AC46),IF($C$40=$AD$39,IF($AD46=\"\",\"\",$AD46),IF($C$40=$AE$39,IF($AE46=\"\",\"\",$AE46),IF($C$40=$AF$39,IF($AF46=\"\",\"\",$AF46),IF($C$40=$AG$39,IF($AG46=\"\",\"\",$AG46),IF($C$40=$AH$39,IF($AH46=\"\",\"\",$AH46),IF($C$40=$AI$39,IF($AI46=\"\",\"\",$AI46),IF($C$40=$AJ$39,IF($AJ46=\"\",\"\",$AJ46),IF($C$40=$AK$39,IF($AK46=\"\",\"\",$AK46),IF($C$40=$AL$39,IF($AL46=\"\",\"\",$AL46),IF($C$40=$AM$39,IF($AM46=\"\",\"\",$AM46),IF($C$40=$AN$39,IF($AN46=\"\",\"\",$AN46),IF($C$40=$AO$39,IF($AO46=\"\",\"\",$AO46),IF($C$40=$AP$39,IF($AP46=\"\",\"\",$AP46),IF($C$40=$AQ$39,IF($AQ46=\"\",\"\",$AQ46),IF($C$40=$AR$39,IF($AR46=\"\",\"\",$AR46),IF($C$40=$AS$39,IF($AS46=\"\",\"\",$AS46),IF($C$40=$AT$39,IF($AT46=\"\",\"\",$AT46),IF($C$40=$AU$39,IF($AU46=\"\",\"\",$AU46),IF($C$40=$AV$39,IF($AV46=\"\",\"\",$AV46),IF($C$40=$AW$39,IF($AW46=\"\",\"\",$AW46),IF($C$40=$AX$39,IF($AX46=\"\",\"\",$AX46),IF($C$40=$AY$39,IF($AY46=\"\",\"\",$AY46),IF($C$40=$BA$39,IF($BA46=\"\",\"\",$BA46),IF($C$40=$BB$39,IF($BB46=\"\",\"\",$BB46),IF($C$40=$BC$39,IF($BC46=\"\",\"\",$BC46),IF($C$40=$BD$39,IF($BD46=\"\",\"\",$BD46),IF($C$40=$BE$39,IF($BE46=\"\",\"\",$BE46),IF($C$40=$BF$39,IF($BF46=\"\",\"\",$BF46),IF($C$40=$BG$39,IF($BG46=\"\",\"\",$BG46),IF($C$40=$BH$39,IF($BH46=\"\",\"\",$BH46),IF($C$40=$BI$39,IF($BI46=\"\",\"\",$BI46),IF($C$40=$BJ$39,IF($BJ46=\"\",\"\",$BJ46),IF($C$40=$BK$39,IF($BK46=\"\",\"\",$BK46),IF($C$40=$BL$39,IF($BL46=\"\",\"\",$BL46),IF($C$40=$BM$39,IF($BM46=\"\",\"\",$BM46),IF($C$40=$BN$39,IF($BN46=\"\",\"\",$BN46),IF($C$40=$BO$39,IF($BO46=\"\",\"\",$BO46),IF($C$40=$BP$39,IF($BP46=\"\",\"\",$BP46),IF($C$40=$BQ$39,IF($BQ46=\"\",\"\",$BQ46),IF($C$40=$BR$39,IF($BR46=\"\",\"\",$BR46),IF($C$40=$BS$39,IF($BS46=\"\",\"\",$BS46),\"\")))))))))))))))))))))))))))))))))))))))))))))))))))))))))","v":""},null,null,null,null,null,null,null,null,null,null,null,null,null,null,null,null,null,null,null,null,null,null,null,null,null,null,null,null,null,null,null,null,null,null,null,null,null,null,null,null,null,null,null,null,null,null,null,null,null,null,"4+4 färger","1+1 färger (svart)",null,"1+1 Svart"]
[null,"",{"$f":"IF($C$40=$N$39,IF($N47=\"\",\"\",$N47),IF($C$40=$O$39,IF($O47=\"\",\"\",$O47),IF($C$40=$P$39,IF($P47=\"\",\"\",$P47),IF($C$40=$Q$39,IF($Q47=\"\",\"\",$Q47),IF($C$40=$R$39,IF($R47=\"\",\"\",$R47),IF($C$40=$S$39,IF($S47=\"\",\"\",$S47),IF($C$40=$T$39,IF($T47=\"\",\"\",$T47),IF($C$40=$U$39,IF($U47=\"\",\"\",$U47),IF($C$40=$V$39,IF($V47=\"\",\"\",$V47),IF($C$40=$W$39,IF($W47=\"\",\"\",$W47),IF($C$40=$X$39,IF($X47=\"\",\"\",$X47),IF($C$40=$Y$39,IF($Y47=\"\",\"\",$Y47),IF($C$40=$Z$39,IF($Z47=\"\",\"\",$Z47),IF($C$40=$AA$39,IF($AA47=\"\",\"\",$AA47),IF($C$40=$AB$39,IF($AB47=\"\",\"\",$AB47),IF($C$40=$AC$39,IF($AC47=\"\",\"\",$AC47),IF($C$40=$AD$39,IF($AD47=\"\",\"\",$AD47),IF($C$40=$AE$39,IF($AE47=\"\",\"\",$AE47),IF($C$40=$AF$39,IF($AF47=\"\",\"\",$AF47),IF($C$40=$AG$39,IF($AG47=\"\",\"\",$AG47),IF($C$40=$AH$39,IF($AH47=\"\",\"\",$AH47),IF($C$40=$AI$39,IF($AI47=\"\",\"\",$AI47),IF($C$40=$AJ$39,IF($AJ47=\"\",\"\",$AJ47),IF($C$40=$AK$39,IF($AK47=\"\",\"\",$AK47),IF($C$40=$AL$39,IF($AL47=\"\",\"\",$AL47),IF($C$40=$AM$39,IF($AM47=\"\",\"\",$AM47),IF($C$40=$AN$39,IF($AN47=\"\",\"\",$AN47),IF($C$40=$AO$39,IF($AO47=\"\",\"\",$AO47),IF($C$40=$AP$39,IF($AP47=\"\",\"\",$AP47),IF($C$40=$AQ$39,IF($AQ47=\"\",\"\",$AQ47),IF($C$40=$AR$39,IF($AR47=\"\",\"\",$AR47),IF($C$40=$AS$39,IF($AS47=\"\",\"\",$AS47),IF($C$40=$AT$39,IF($AT47=\"\",\"\",$AT47),IF($C$40=$AU$39,IF($AU47=\"\",\"\",$AU47),IF($C$40=$AV$39,IF($AV47=\"\",\"\",$AV47),IF($C$40=$AW$39,IF($AW47=\"\",\"\",$AW47),IF($C$40=$AX$39,IF($AX47=\"\",\"\",$AX47),IF($C$40=$AY$39,IF($AY47=\"\",\"\",$AY47),IF($C$40=$BA$39,IF($BA47=\"\",\"\",$BA47),IF($C$40=$BB$39,IF($BB47=\"\",\"\",$BB47),IF($C$40=$BC$39,IF($BC47=\"\",\"\",$BC47),IF($C$40=$BD$39,IF($BD47=\"\",\"\",$BD47),IF($C$40=$BE$39,IF($BE47=\"\",\"\",$BE47),IF($C$40=$BF$39,IF($BF47=\"\",\"\",$BF47),IF($C$40=$BG$39,IF($BG47=\"\",\"\",$BG47),IF($C$40=$BH$39,IF($BH47=\"\",\"\",$BH47),IF($C$40=$BI$39,IF($BI47=\"\",\"\",$BI47),IF($C$40=$BJ$39,IF($BJ47=\"\",\"\",$BJ47),IF($C$40=$BK$39,IF($BK47=\"\",\"\",$BK47),IF($C$40=$BL$39,IF($BL47=\"\",\"\",$BL47),IF($C$40=$BM$39,IF($BM47=\"\",\"\",$BM47),IF($C$40=$BN$39,IF($BN47=\"\",\"\",$BN47),IF($C$40=$BO$39,IF($BO47=\"\",\"\",$BO47),IF($C$40=$BP$39,IF($BP47=\"\",\"\",$BP47),IF($C$40=$BQ$39,IF($BQ47=\"\",\"\",$BQ47),IF($C$40=$BR$39,IF($BR47=\"\",\"\",$BR47),IF($C$40=$BS$39,IF($BS47=\"\",\"\",$BS47),\"\")))))))))))))))))))))))))))))))))))))))))))))))))))))))))","v":""},null,null,null,null,null,null,null,null,null,null,null,null,null,null,null,null,null,null,null,null,null,null,null,null,null,null,null,null,null,null,null,null,null,null,null,null,null,null,null,null,null,null,null,null,null,null,null,null,null,null,"4+4 färger","4+4 färger"]
[null,"",{"$f":"IF($C$40=$N$39,IF($N48=\"\",\"\",$N48),IF($C$40=$O$39,IF($O48=\"\",\"\",$O48),IF($C$40=$P$39,IF($P48=\"\",\"\",$P48),IF($C$40=$Q$39,IF($Q48=\"\",\"\",$Q48),IF($C$40=$R$39,IF($R48=\"\",\"\",$R48),IF($C$40=$S$39,IF($S48=\"\",\"\",$S48),IF($C$40=$T$39,IF($T48=\"\",\"\",$T48),IF($C$40=$U$39,IF($U48=\"\",\"\",$U48),IF($C$40=$V$39,IF($V48=\"\",\"\",$V48),IF($C$40=$W$39,IF($W48=\"\",\"\",$W48),IF($C$40=$X$39,IF($X48=\"\",\"\",$X48),IF($C$40=$Y$39,IF($Y48=\"\",\"\",$Y48),IF($C$40=$Z$39,IF($Z48=\"\",\"\",$Z48),IF($C$40=$AA$39,IF($AA48=\"\",\"\",$AA48),IF($C$40=$AB$39,IF($AB48=\"\",\"\",$AB48),IF($C$40=$AC$39,IF($AC48=\"\",\"\",$AC48),IF($C$40=$AD$39,IF($AD48=\"\",\"\",$AD48),IF($C$40=$AE$39,IF($AE48=\"\",\"\",$AE48),IF($C$40=$AF$39,IF($AF48=\"\",\"\",$AF48),IF($C$40=$AG$39,IF($AG48=\"\",\"\",$AG48),IF($C$40=$AH$39,IF($AH48=\"\",\"\",$AH48),IF($C$40=$AI$39,IF($AI48=\"\",\"\",$AI48),IF($C$40=$AJ$39,IF($AJ48=\"\",\"\",$AJ48),IF($C$40=$AK$39,IF($AK48=\"\",\"\",$AK48),IF($C$40=$AL$39,IF($AL48=\"\",\"\",$AL48),IF($C$40=$AM$39,IF($AM48=\"\",\"\",$AM48),IF($C$40=$AN$39,IF($AN48=\"\",\"\",$AN48),IF($C$40=$AO$39,IF($AO48=\"\",\"\",$AO48),IF($C$40=$AP$39,IF($AP48=\"\",\"\",$AP48),IF($C$40=$AQ$39,IF($AQ48=\"\",\"\",$AQ48),IF($C$40=$AR$39,IF($AR48=\"\",\"\",$AR48),IF($C$40=$AS$39,IF($AS48=\"\",\"\",$AS48),IF($C$40=$AT$39,IF($AT48=\"\",\"\",$AT48),IF($C$40=$AU$39,IF($AU48=\"\",\"\",$AU48),IF($C$40=$AV$39,IF($AV48=\"\",\"\",$AV48),IF($C$40=$AW$39,IF($AW48=\"\",\"\",$AW48),IF($C$40=$AX$39,IF($AX48=\"\",\"\",$AX48),IF($C$40=$AY$39,IF($AY48=\"\",\"\",$AY48),IF($C$40=$BA$39,IF($BA48=\"\",\"\",$BA48),IF($C$40=$BB$39,IF($BB48=\"\",\"\",$BB48),IF($C$40=$BC$39,IF($BC48=\"\",\"\",$BC48),IF($C$40=$BD$39,IF($BD48=\"\",\"\",$BD48),IF($C$40=$BE$39,IF($BE48=\"\",\"\",$BE48),IF($C$40=$BF$39,IF($BF48=\"\",\"\",$BF48),IF($C$40=$BG$39,IF($BG48=\"\",\"\",$BG48),IF($C$40=$BH$39,IF($BH48=\"\",\"\",$BH48),IF($C$40=$BI$39,IF($BI48=\"\",\"\",$BI48),IF($C$40=$BJ$39,IF($BJ48=\"\",\"\",$BJ48),IF($C$40=$BK$39,IF($BK48=\"\",\"\",$BK48),IF($C$40=$BL$39,IF($BL48=\"\",\"\",$BL48),IF($C$40=$BM$39,IF($BM48=\"\",\"\",$BM48),IF($C$40=$BN$39,IF($BN48=\"\",\"\",$BN48),IF($C$40=$BO$39,IF($BO48=\"\",\"\",$BO48),IF($C$40=$BP$39,IF($BP48=\"\",\"\",$BP48),IF($C$40=$BQ$39,IF($BQ48=\"\",\"\",$BQ48),IF($C$40=$BR$39,IF($BR48=\"\",\"\",$BR48),IF($C$40=$BS$39,IF($BS48=\"\",\"\",$BS48),\"\")))))))))))))))))))))))))))))))))))))))))))))))))))))))))","v":""}]
[]
[null,"Välj Vara/Tjänst 3","Välj variant",{"$f":"IF($B$52=$N$20,IF($N$21=\"\",\"\",$N21),IF($B$52=$O$20,IF($O$21=\"\",\"\",$O21),IF($B$52=$P$20,IF($P$21=\"\",\"\",$P21),IF($B$52=$Q$20,IF($Q$21=\"\",\"\",$Q21),IF($B$52=$R$20,IF($R$21=\"\",\"\",$R21),IF($B$52=$S$20,IF($S$21=\"\",\"\",$S21),\"\"))))))","v":""},{"$f":"IF($B$52=$U$20,IF($U$21=\"\",\"\",$U21),IF($B$52=$V$20,IF($V$21=\"\",\"\",$V21),IF($B$52=$W$20,IF($W$21=\"\",\"\",$W21),IF($B$52=$X$20,IF($X$21=\"\",\"\",$X21),\"\"))))","v":""},{"$f":"IF($B$52=$Z$20,IF($Z$21=\"\",\"\",$Z21),IF($B$52=$AA$20,IF($AA$21=\"\",\"\",$AA21),IF($B$52=$AB$20,IF($AB$21=\"\",\"\",$AB21),IF($B$52=$AC$20,IF($AC$21=\"\",\"\",$AC21),IF($B$52=$AD$20,IF($AD$21=\"\",\"\",$AD21),IF($B$52=$AE$20,IF($AE$21=\"\",\"\",$AE21),IF($B$52=$AF$20,IF($AF$21=\"\",\"\",$AF21),IF($B$52=$AG$20,IF($AG$21=\"\",\"\",$AG21),IF($B$52=$AH$20,IF($AH$21=\"\",\"\",$AH21),IF($B$52=$AI$20,IF($AI$21=\"\",\"\",$AI21),IF($B$52=$AJ$20,IF($AJ$21=\"\",\"\",$AJ21),IF($B$52=$AK$20,IF($AK$21=\"\",\"\",$AK21),IF($B$52=$AL$20,IF($AL$21=\"\",\"\",$AL21),IF($B$52=$AM$20,IF($AM$21=\"\",\"\",$AM21),IF($B$52=$AN$20,IF($AN$21=\"\",\"\",$AN21),\"\")))))))))))))))","v":""},{"$f":"IF($B$52=$N$65,IF($N66=\"\",\"\",$N66),\"\")","v":""}]
[]
[null,{"$f":"IF($B$52=$N$25,IF($N26=\"\",\"\",$N26),IF($B$52=$O$25,IF($O26=\"\",\"\",$O26),IF($B$52=$P$25,IF($P26=\"\",\"\",$P26),IF($B$52=$Q$25,IF($Q26=\"\",\"\",$Q26),IF($B$52=$R$25,IF($R26=\"\",\"\",$R26),IF($B$52=$S$25,IF($S26=\"\",\"\",$S26),IF($B$52=$T$25,IF($T26=\"\",\"\",$T26),IF($B$52=$U$25,IF($U26=\"\",\"\",$U26),IF($B$52=$V$25,IF($V26=\"\",\"\",$V26),IF($B$52=$W$25,IF($W26=\"\",\"\",$W26),IF($B$52=$X$25,IF($X26=\"\",\"\",$X26),IF($B$52=$Y$25,IF($Y26=\"\",\"\",$Y26),IF($B$52=$Z$25,IF($Z26=\"\",\"\",$Z26),\"\")))))))))))))","v":""},{"$f":"IF($C$52=$N$39,IF($N40=\"\",\"\",$N40),IF($C$52=$O$39,IF($O40=\"\",\"\",$O40),IF($C$52=$P$39,IF($P40=\"\",\"\",$P40),IF($C$52=$Q$39,IF($Q40=\"\",\"\",$Q40),IF($C$52=$R$39,IF($R40=\"\",\"\",$R40),IF($C$52=$S$39,IF($S40=\"\",\"\",$S40),IF($C$52=$T$39,IF($T40=\"\",\"\",$T40),IF($C$52=$U$39,IF($U40=\"\",\"\",$U40),IF($C$52=$V$39,IF($V40=\"\",\"\",$V40),IF($C$52=$W$39,IF($W40=\"\",\"\",$W40),IF($C$52=$X$39,IF($X40=\"\",\"\",$X40),IF($C$52=$Y$39,IF($Y40=\"\",\"\",$Y40),IF($C$52=$Z$39,IF($Z40=\"\",\"\",$Z40),IF($C$52=$AA$39,IF($AA40=\"\",\"\",$AA40),IF($C$52=$AB$39,IF($AB40=\"\",\"\",$AB40),IF($C$52=$AC$39,IF($AC40=\"\",\"\",$AC40),IF($C$52=$AD$39,IF($AD40=\"\",\"\",$AD40),IF($C$52=$AE$39,IF($AE40=\"\",\"\",$AE40),IF($C$52=$AF$39,IF($AF40=\"\",\"\",$AF40),IF($C$52=$AG$39,IF($AG40=\"\",\"\",$AG40),IF($C$52=$AH$39,IF($AH40=\"\",\"\",$AH40),IF($C$52=$AI$39,IF($AI40=\"\",\"\",$AI40),IF($C$52=$AJ$39,IF($AJ40=\"\",\"\",$AJ40),IF($C$52=$AK$39,IF($AK40=\"\",\"\",$AK40),IF($C$52=$AL$39,IF($AL40=\"\",\"\",$AL40),IF($C$52=$AM$39,IF($AM40=\"\",\"\",$AM40),IF($C$52=$AN$39,IF($AN40=\"\",\"\",$AN40),IF($C$52=$AO$39,IF($AO40=\"\",\"\",$AO40),IF($C$52=$AP$39,IF($AP40=\"\",\"\",$AP40),IF($C$52=$AQ$39,IF($AQ40=\"\",\"\",$AQ40),IF($C$52=$AR$39,IF($AR40=\"\",\"\",$AR40),IF($C$52=$AS$39,IF($AS40=\"\",\"\",$AS40),IF($C$52=$AT$39,IF($AT40=\"\",\"\",$AT40),IF($C$52=$AU$39,IF($AU40=\"\",\"\",$AU40),IF($C$52=$AV$39,IF($AV40=\"\",\"\",$AV40),IF($C$52=$AW$39,IF($AW40=\"\",\"\",$AW40),IF($C$52=$AX$39,IF($AX40=\"\",\"\",$AX40),IF($C$52=$AY$39,IF($AY40=\"\",\"\",$AY40),IF($C$52=$AZ$39,IF($AZ40=\"\",\"\",$AZ40),IF($C$52=$BA$39,IF($BA40=\"\",\"\",$BA40),IF($C$52=$BB$39,IF($BB40=\"\",\"\",$BB40),IF($C$52=$BC$39,IF($BC40=\"\",\"\",$BC40),IF($C$52=$BD$39,IF($BD40=\"\",\"\",$BD40),IF($C$52=$BE$39,IF($BE40=\"\",\"\",$BE40),IF($C$52=$BF$39,IF($BF40=\"\",\"\",$BF40),IF($C$52=$BG$39,IF($BG40=\"\",\"\",$BG40),IF($C$52=$BH$39,IF($BH40=\"\",\"\",$BH40),IF($C$52=$BI$39,IF($BI40=\"\",\"\",$BI40),IF($C$52=$BJ$39,IF($BJ40=\"\",\"\",$BJ40),IF($C$52=$BK$39,IF($BK40=\"\",\"\",$BK40),IF($C$52=$BL$39,IF($BL40=\"\",\"\",$BL40),IF($C$52=$BM$39,IF($BM40=\"\",\"\",$BM40),IF($C$52=$BN$39,IF($BN40=\"\",\"\",$BN40),IF($C$52=$BO$39,IF($BO40=\"\",\"\",$BO40),IF($C$52=$BP$39,IF($BP40=\"\",\"\",$BP40),IF($C$52=$BQ$39,IF($BQ40=\"\",\"\",$BQ40),IF($C$52=$BR$39,IF($BR40=\"\",\"\",$BR40),IF($C$52=$BS$39,IF($BS40=\"\",\"\",$BS40),\"\"))))))))))))))))))))))))))))))))))))))))))))))))))))))))))","v":""}]
[null,"",{"$f":"IF($C$52=$N$39,IF($N41=\"\",\"\",$N41),IF($C$52=$O$39,IF($O41=\"\",\"\",$O41),IF($C$52=$P$39,IF($P41=\"\",\"\",$P41),IF($C$52=$Q$39,IF($Q41=\"\",\"\",$Q41),IF($C$52=$R$39,IF($R41=\"\",\"\",$R41),IF($C$52=$S$39,IF($S41=\"\",\"\",$S41),IF($C$52=$T$39,IF($T41=\"\",\"\",$T41),IF($C$52=$U$39,IF($U41=\"\",\"\",$U41),IF($C$52=$V$39,IF($V41=\"\",\"\",$V41),IF($C$52=$W$39,IF($W41=\"\",\"\",$W41),IF($C$52=$X$39,IF($X41=\"\",\"\",$X41),IF($C$52=$Y$39,IF($Y41=\"\",\"\",$Y41),IF($C$52=$Z$39,IF($Z41=\"\",\"\",$Z41),IF($C$52=$AA$39,IF($AA41=\"\",\"\",$AA41),IF($C$52=$AB$39,IF($AB41=\"\",\"\",$AB41),IF($C$52=$AC$39,IF($AC41=\"\",\"\",$AC41),IF($C$52=$AD$39,IF($AD41=\"\",\"\",$AD41),IF($C$52=$AE$39,IF($AE41=\"\",\"\",$AE41),IF($C$52=$AF$39,IF($AF41=\"\",\"\",$AF41),IF($C$52=$AG$39,IF($AG41=\"\",\"\",$AG41),IF($C$52=$AH$39,IF($AH41=\"\",\"\",$AH41),IF($C$52=$AI$39,IF($AI41=\"\",\"\",$AI41),IF($C$52=$AJ$39,IF($AJ41=\"\",\"\",$AJ41),IF($C$52=$AK$39,IF($AK41=\"\",\"\",$AK41),IF($C$52=$AL$39,IF($AL41=\"\",\"\",$AL41),IF($C$52=$AM$39,IF($AM41=\"\",\"\",$AM41),IF($C$52=$AN$39,IF($AN41=\"\",\"\",$AN41),IF($C$52=$AO$39,IF($AO41=\"\",\"\",$AO41),IF($C$52=$AP$39,IF($AP41=\"\",\"\",$AP41),IF($C$52=$AQ$39,IF($AQ41=\"\",\"\",$AQ41),IF($C$52=$AR$39,IF($AR41=\"\",\"\",$AR41),IF($C$52=$AS$39,IF($AS41=\"\",\"\",$AS41),IF($C$52=$AT$39,IF($AT41=\"\",\"\",$AT41),IF($C$52=$AU$39,IF($AU41=\"\",\"\",$AU41),IF($C$52=$AV$39,IF($AV41=\"\",\"\",$AV41),IF($C$52=$AW$39,IF($AW41=\"\",\"\",$AW41),IF($C$52=$AX$39,IF($AX41=\"\",\"\",$AX41),IF($C$52=$AY$39,IF($AY41=\"\",\"\",$AY41),IF($C$52=$AZ$39,IF($AZ41=\"\",\"\",$AZ41),IF($C$52=$BA$39,IF($BA41=\"\",\"\",$BA41),IF($C$52=$BB$39,IF($BB41=\"\",\"\",$BB41),IF($C$52=$BC$39,IF($BC41=\"\",\"\",$BC41),IF($C$52=$BD$39,IF($BD41=\"\",\"\",$BD41),IF($C$52=$BE$39,IF($BE41=\"\",\"\",$BE41),IF($C$52=$BF$39,IF($BF41=\"\",\"\",$BF41),IF($C$52=$BG$39,IF($BG41=\"\",\"\",$BG41),IF($C$52=$BH$39,IF($BH41=\"\",\"\",$BH41),IF($C$52=$BI$39,IF($BI41=\"\",\"\",$BI41),IF($C$52=$BJ$39,IF($BJ41=\"\",\"\",$BJ41),IF($C$52=$BK$39,IF($BK41=\"\",\"\",$BK41),IF($C$52=$BL$39,IF($BL41=\"\",\"\",$BL41),IF($C$52=$BM$39,IF($BM41=\"\",\"\",$BM41),IF($C$52=$BN$39,IF($BN41=\"\",\"\",$BN41),IF($C$52=$BO$39,IF($BO41=\"\",\"\",$BO41),IF($C$52=$BP$39,IF($BP41=\"\",\"\",$BP41),IF($C$52=$BQ$39,IF($BQ41=\"\",\"\",$BQ41),IF($C$52=$BR$39,IF($BR41=\"\",\"\",$BR41),IF($C$52=$BS$39,IF($BS41=\"\",\"\",$BS41),\"\"))))))))))))))))))))))))))))))))))))))))))))))))))))))))))","v":""}]
[null,"",{"$f":"IF($C$52=$N$39,IF($N42=\"\",\"\",$N42),IF($C$52=$O$39,IF($O42=\"\",\"\",$O42),IF($C$52=$P$39,IF($P42=\"\",\"\",$P42),IF($C$52=$Q$39,IF($Q42=\"\",\"\",$Q42),IF($C$52=$R$39,IF($R42=\"\",\"\",$R42),IF($C$52=$S$39,IF($S42=\"\",\"\",$S42),IF($C$52=$T$39,IF($T42=\"\",\"\",$T42),IF($C$52=$U$39,IF($U42=\"\",\"\",$U42),IF($C$52=$V$39,IF($V42=\"\",\"\",$V42),IF($C$52=$W$39,IF($W42=\"\",\"\",$W42),IF($C$52=$X$39,IF($X42=\"\",\"\",$X42),IF($C$52=$Y$39,IF($Y42=\"\",\"\",$Y42),IF($C$52=$Z$39,IF($Z42=\"\",\"\",$Z42),IF($C$52=$AA$39,IF($AA42=\"\",\"\",$AA42),IF($C$52=$AB$39,IF($AB42=\"\",\"\",$AB42),IF($C$52=$AC$39,IF($AC42=\"\",\"\",$AC42),IF($C$52=$AD$39,IF($AD42=\"\",\"\",$AD42),IF($C$52=$AE$39,IF($AE42=\"\",\"\",$AE42),IF($C$52=$AF$39,IF($AF42=\"\",\"\",$AF42),IF($C$52=$AG$39,IF($AG42=\"\",\"\",$AG42),IF($C$52=$AH$39,IF($AH42=\"\",\"\",$AH42),IF($C$52=$AI$39,IF($AI42=\"\",\"\",$AI42),IF($C$52=$AJ$39,IF($AJ42=\"\",\"\",$AJ42),IF($C$52=$AK$39,IF($AK42=\"\",\"\",$AK42),IF($C$52=$AL$39,IF($AL42=\"\",\"\",$AL42),IF($C$52=$AM$39,IF($AM42=\"\",\"\",$AM42),IF($C$52=$AN$39,IF($AN42=\"\",\"\",$AN42),IF($C$52=$AO$39,IF($AO42=\"\",\"\",$AO42),IF($C$52=$AP$39,IF($AP42=\"\",\"\",$AP42),IF($C$52=$AQ$39,IF($AQ42=\"\",\"\",$AQ42),IF($C$52=$AR$39,IF($AR42=\"\",\"\",$AR42),IF($C$52=$AS$39,IF($AS42=\"\",\"\",$AS42),IF($C$52=$AT$39,IF($AT42=\"\",\"\",$AT42),IF($C$52=$AU$39,IF($AU42=\"\",\"\",$AU42),IF($C$52=$AV$39,IF($AV42=\"\",\"\",$AV42),IF($C$52=$AW$39,IF($AW42=\"\",\"\",$AW42),IF($C$52=$AX$39,IF($AX42=\"\",\"\",$AX42),IF($C$52=$AY$39,IF($AY42=\"\",\"\",$AY42),IF($C$52=$AZ$39,IF($AZ42=\"\",\"\",$AZ42),IF($C$52=$BA$39,IF($BA42=\"\",\"\",$BA42),IF($C$52=$BB$39,IF($BB42=\"\",\"\",$BB42),IF($C$52=$BC$39,IF($BC42=\"\",\"\",$BC42),IF($C$52=$BD$39,IF($BD42=\"\",\"\",$BD42),IF($C$52=$BE$39,IF($BE42=\"\",\"\",$BE42),IF($C$52=$BF$39,IF($BF42=\"\",\"\",$BF42),IF($C$52=$BG$39,IF($BG42=\"\",\"\",$BG42),IF($C$52=$BH$39,IF($BH42=\"\",\"\",$BH42),IF($C$52=$BI$39,IF($BI42=\"\",\"\",$BI42),IF($C$52=$BJ$39,IF($BJ42=\"\",\"\",$BJ42),IF($C$52=$BK$39,IF($BK42=\"\",\"\",$BK42),IF($C$52=$BL$39,IF($BL42=\"\",\"\",$BL42),IF($C$52=$BM$39,IF($BM42=\"\",\"\",$BM42),IF($C$52=$BN$39,IF($BN42=\"\",\"\",$BN42),IF($C$52=$BO$39,IF($BO42=\"\",\"\",$BO42),IF($C$52=$BP$39,IF($BP42=\"\",\"\",$BP42),IF($C$52=$BQ$39,IF($BQ42=\"\",\"\",$BQ42),IF($C$52=$BR$39,IF($BR42=\"\",\"\",$BR42),IF($C$52=$BS$39,IF($BS42=\"\",\"\",$BS42),\"\"))))))))))))))))))))))))))))))))))))))))))))))))))))))))))","v":""},null,null,null,null,null,null,null,null,null,null,"Mattbestruket","Obestruket",null,null,null,null,null,"Brevpapper_Variant_1","Brevpapper_Variant_2","Brevpapper_Variant_3","Brevpapper_Variant_4","Brevpapper_Variant_5","Brevpapper_Variant_6","Brevpapper_Variant_7","Brevpapper_Variant_8","Brevpapper_Variant_9","Kuvert_Variant_1","Kuvert_Variant_2","Kuvert_Variant_3","Kuvert_Variant_4","Kuvert_Variant_5","Kuvert_Variant_6","Kuvert_Variant_7","Kuvert_Variant_8","Säkerhetskuvert_Variant_1","Säkerhetskuvert_Variant_2","Säkerhetskuvert_Variant_3","Säkerhetskuvert_Variant_4","Korrespondenskort_Variant_1","Korrespondenskort_Variant_2","Korrespondenskort_Variant_3","Korrespondenskort_Variant_4","Korrespondenskort_Variant_5","Korrespondenskort_Variant_6","Pappersmappar_Variant_1","Pappersmappar_Variant_2","Pappersmappar_Variant_3","Pappersmappar_Variant_4"]
[null,"",{"$f":"IF($C$52=$N$39,IF($N43=\"\",\"\",$N43),IF($C$52=$O$39,IF($O43=\"\",\"\",$O43),IF($C$52=$P$39,IF($P43=\"\",\"\",$P43),IF($C$52=$Q$39,IF($Q43=\"\",\"\",$Q43),IF($C$52=$R$39,IF($R43=\"\",\"\",$R43),IF($C$52=$S$39,IF($S43=\"\",\"\",$S43),IF($C$52=$T$39,IF($T43=\"\",\"\",$T43),IF($C$52=$U$39,IF($U43=\"\",\"\",$U43),IF($C$52=$V$39,IF($V43=\"\",\"\",$V43),IF($C$52=$W$39,IF($W43=\"\",\"\",$W43),IF($C$52=$X$39,IF($X43=\"\",\"\",$X43),IF($C$52=$Y$39,IF($Y43=\"\",\"\",$Y43),IF($C$52=$Z$39,IF($Z43=\"\",\"\",$Z43),IF($C$52=$AA$39,IF($AA43=\"\",\"\",$AA43),IF($C$52=$AB$39,IF($AB43=\"\",\"\",$AB43),IF($C$52=$AC$39,IF($AC43=\"\",\"\",$AC43),IF($C$52=$AD$39,IF($AD43=\"\",\"\",$AD43),IF($C$52=$AE$39,IF($AE43=\"\",\"\",$AE43),IF($C$52=$AF$39,IF($AF43=\"\",\"\",$AF43),IF($C$52=$AG$39,IF($AG43=\"\",\"\",$AG43),IF($C$52=$AH$39,IF($AH43=\"\",\"\",$AH43),IF($C$52=$AI$39,IF($AI43=\"\",\"\",$AI43),IF($C$52=$AJ$39,IF($AJ43=\"\",\"\",$AJ43),IF($C$52=$AK$39,IF($AK43=\"\",\"\",$AK43),IF($C$52=$AL$39,IF($AL43=\"\",\"\",$AL43),IF($C$52=$AM$39,IF($AM43=\"\",\"\",$AM43),IF($C$52=$AN$39,IF($AN43=\"\",\"\",$AN43),IF($C$52=$AO$39,IF($AO43=\"\",\"\",$AO43),IF($C$52=$AP$39,IF($AP43=\"\",\"\",$AP43),IF($C$52=$AQ$39,IF($AQ43=\"\",\"\",$AQ43),IF($C$52=$AR$39,IF($AR43=\"\",\"\",$AR43),IF($C$52=$AS$39,IF($AS43=\"\",\"\",$AS43),IF($C$52=$AT$39,IF($AT43=\"\",\"\",$AT43),IF($C$52=$AU$39,IF($AU43=\"\",\"\",$AU43),IF($C$52=$AV$39,IF($AV43=\"\",\"\",$AV43),IF($C$52=$AW$39,IF($AW43=\"\",\"\",$AW43),IF($C$52=$AX$39,IF($AX43=\"\",\"\",$AX43),IF($C$52=$AY$39,IF($AY43=\"\",\"\",$AY43),IF($C$52=$AZ$39,IF($AZ43=\"\",\"\",$AZ43),IF($C$52=$BA$39,IF($BA43=\"\",\"\",$BA43),IF($C$52=$BB$39,IF($BB43=\"\",\"\",$BB43),IF($C$52=$BC$39,IF($BC43=\"\",\"\",$BC43),IF($C$52=$BD$39,IF($BD43=\"\",\"\",$BD43),IF($C$52=$BE$39,IF($BE43=\"\",\"\",$BE43),IF($C$52=$BF$39,IF($BF43=\"\",\"\",$BF43),IF($C$52=$BG$39,IF($BG43=\"\",\"\",$BG43),IF($C$52=$BH$39,IF($BH43=\"\",\"\",$BH43),IF($C$52=$BI$39,IF($BI43=\"\",\"\",$BI43),IF($C$52=$BJ$39,IF($BJ43=\"\",\"\",$BJ43),IF($C$52=$BK$39,IF($BK43=\"\",\"\",$BK43),IF($C$52=$BL$39,IF($BL43=\"\",\"\",$BL43),IF($C$52=$BM$39,IF($BM43=\"\",\"\",$BM43),IF($C$52=$BN$39,IF($BN43=\"\",\"\",$BN43),IF($C$52=$BO$39,IF($BO43=\"\",\"\",$BO43),IF($C$52=$BP$39,IF($BP43=\"\",\"\",$BP43),IF($C$52=$BQ$39,IF($BQ43=\"\",\"\",$BQ43),IF($C$52=$BR$39,IF($BR43=\"\",\"\",$BR43),IF($C$52=$BS$39,IF($BS43=\"\",\"\",$BS43),\"\"))))))))))))))))))))))))))))))))))))))))))))))))))))))))))","v":""},null,null,null,null,null,null,null,null,null,null,"1+0 (svart)","1+0 (svart)",null,null,null,null,null,"´(4+4) (logotyp och adressinfo etc.)","´(4+4) (logotyp och adressinfo etc.)","´(4+4) (logotyp och adressinfo etc.)","´(4+1) (logotyp och adressinfo etc.)","´(4+1) (logotyp och adressinfo etc.)","´(4+1) (logotyp och adressinfo etc.)","´(1+0) (logotyp och adressinfo etc.)","´(1+0) (logotyp och adressinfo etc.)","´(1+0) (logotyp och adressinfo etc.)","Tryck ´4+4","Tryck ´4+4","Tryck ´4+4","Tryck ´4+4","Tryck ´4+4","Tryck ´4+4","Tryck ´4+4","Tryck ´4+4","Tryck ´4+4 (logotyp och adressinfo etc.)","Tryck ´4+4 (logotyp och adressinfo etc.)","Tryck ´4+4 (logotyp och adressinfo etc.)","Tryck ´4+4 (logotyp och adressinfo etc.)","Tryck ´4+0 (logotyp och adressinfo på kort och kuvert etc.)","Tryck ´4+0 (logotyp och adressinfo på kort och kuvert etc.)","Tryck ´4+0 (logotyp och adressinfo på kort och kuvert etc.)","Tryck ´4+0 (logotyp och adressinfo på kort och kuvert etc.)","Tryck ´4+0 (logotyp och adressinfo på kort och kuvert etc.)","Tryck ´4+0 (logotyp och adressinfo på kort och kuvert etc.)","Tryck 4+0","Tryck 4+0","Tryck 4+0","Tryck 4+0"]
[null,"",{"$f":"IF($C$52=$N$39,IF($N44=\"\",\"\",$N44),IF($C$52=$O$39,IF($O44=\"\",\"\",$O44),IF($C$52=$P$39,IF($P44=\"\",\"\",$P44),IF($C$52=$Q$39,IF($Q44=\"\",\"\",$Q44),IF($C$52=$R$39,IF($R44=\"\",\"\",$R44),IF($C$52=$S$39,IF($S44=\"\",\"\",$S44),IF($C$52=$T$39,IF($T44=\"\",\"\",$T44),IF($C$52=$U$39,IF($U44=\"\",\"\",$U44),IF($C$52=$V$39,IF($V44=\"\",\"\",$V44),IF($C$52=$W$39,IF($W44=\"\",\"\",$W44),IF($C$52=$X$39,IF($X44=\"\",\"\",$X44),IF($C$52=$Y$39,IF($Y44=\"\",\"\",$Y44),IF($C$52=$Z$39,IF($Z44=\"\",\"\",$Z44),IF($C$52=$AA$39,IF($AA44=\"\",\"\",$AA44),IF($C$52=$AB$39,IF($AB44=\"\",\"\",$AB44),IF($C$52=$AC$39,IF($AC44=\"\",\"\",$AC44),IF($C$52=$AD$39,IF($AD44=\"\",\"\",$AD44),IF($C$52=$AE$39,IF($AE44=\"\",\"\",$AE44),IF($C$52=$AF$39,IF($AF44=\"\",\"\",$AF44),IF($C$52=$AG$39,IF($AG44=\"\",\"\",$AG44),IF($C$52=$AH$39,IF($AH44=\"\",\"\",$AH44),IF($C$52=$AI$39,IF($AI44=\"\",\"\",$AI44),IF($C$52=$AJ$39,IF($AJ44=\"\",\"\",$AJ44),IF($C$52=$AK$39,IF($AK44=\"\",\"\",$AK44),IF($C$52=$AL$39,IF($AL44=\"\",\"\",$AL44),IF($C$52=$AM$39,IF($AM44=\"\",\"\",$AM44),IF($C$52=$AN$39,IF($AN44=\"\",\"\",$AN44),IF($C$52=$AO$39,IF($AO44=\"\",\"\",$AO44),IF($C$52=$AP$39,IF($AP44=\"\",\"\",$AP44),IF($C$52=$AQ$39,IF($AQ44=\"\",\"\",$AQ44),IF($C$52=$AR$39,IF($AR44=\"\",\"\",$AR44),IF($C$52=$AS$39,IF($AS44=\"\",\"\",$AS44),IF($C$52=$AT$39,IF($AT44=\"\",\"\",$AT44),IF($C$52=$AU$39,IF($AU44=\"\",\"\",$AU44),IF($C$52=$AV$39,IF($AV44=\"\",\"\",$AV44),IF($C$52=$AW$39,IF($AW44=\"\",\"\",$AW44),IF($C$52=$AX$39,IF($AX44=\"\",\"\",$AX44),IF($C$52=$AY$39,IF($AY44=\"\",\"\",$AY44),IF($C$52=$AZ$39,IF($AZ44=\"\",\"\",$AZ44),IF($C$52=$BA$39,IF($BA44=\"\",\"\",$BA44),IF($C$52=$BB$39,IF($BB44=\"\",\"\",$BB44),IF($C$52=$BC$39,IF($BC44=\"\",\"\",$BC44),IF($C$52=$BD$39,IF($BD44=\"\",\"\",$BD44),IF($C$52=$BE$39,IF($BE44=\"\",\"\",$BE44),IF($C$52=$BF$39,IF($BF44=\"\",\"\",$BF44),IF($C$52=$BG$39,IF($BG44=\"\",\"\",$BG44),IF($C$52=$BH$39,IF($BH44=\"\",\"\",$BH44),IF($C$52=$BI$39,IF($BI44=\"\",\"\",$BI44),IF($C$52=$BJ$39,IF($BJ44=\"\",\"\",$BJ44),IF($C$52=$BK$39,IF($BK44=\"\",\"\",$BK44),IF($C$52=$BL$39,IF($BL44=\"\",\"\",$BL44),IF($C$52=$BM$39,IF($BM44=\"\",\"\",$BM44),IF($C$52=$BN$39,IF($BN44=\"\",\"\",$BN44),IF($C$52=$BO$39,IF($BO44=\"\",\"\",$BO44),IF($C$52=$BP$39,IF($BP44=\"\",\"\",$BP44),IF($C$52=$BQ$39,IF($BQ44=\"\",\"\",$BQ44),IF($C$52=$BR$39,IF($BR44=\"\",\"\",$BR44),IF($C$52=$BS$39,IF($BS44=\"\",\"\",$BS44),\"\"))))))))))))))))))))))))))))))))))))))))))))))))))))))))))","v":""},null,null,null,null,null,null,null,null,null,null,"1+1 (svart)","1+1 (svart)",null,null,null,null,null,null,null,null,null,null,null,null,null,null,"Tryck ´4+0","Tryck ´4+0","Tryck ´4+0","Tryck ´4+0","Tryck ´4+0","Tryck ´4+0","Tryck ´4+0","Tryck ´4+0","Tryck ´4+0 (logotyp och adressinfo etc.)","Tryck ´4+0 (logotyp och adressinfo etc.)","Tryck ´4+0 (logotyp och adressinfo etc.)","Tryck ´4+0 (logotyp och adressinfo etc.)","Tryck ´1+0 (logotyp och adressinfo på kort och kuvert etc.) (svart)","Tryck ´1+0 (logotyp och adressinfo på kort och kuvert etc.) (svart)","Tryck ´1+0 (logotyp och adressinfo på kort och kuvert etc.) (svart)","Tryck ´1+0 (logotyp och adressinfo på kort och kuvert etc.) (svart)","Tryck ´1+0 (logotyp och adressinfo på kort och kuvert etc.) (svart)","Tryck ´1+0 (logotyp och adressinfo på kort och kuvert etc.) (svart)","Tryck 4+1 där budskap placeras på mappens insida","Tryck 4+1 där budskap placeras på mappens insida","Tryck 4+1 där budskap placeras på mappens insida","Tryck 4+1 där budskap placeras på mappens insida"]
[null,"",{"$f":"IF($C$52=$N$39,IF($N45=\"\",\"\",$N45),IF($C$52=$O$39,IF($O45=\"\",\"\",$O45),IF($C$52=$P$39,IF($P45=\"\",\"\",$P45),IF($C$52=$Q$39,IF($Q45=\"\",\"\",$Q45),IF($C$52=$R$39,IF($R45=\"\",\"\",$R45),IF($C$52=$S$39,IF($S45=\"\",\"\",$S45),IF($C$52=$T$39,IF($T45=\"\",\"\",$T45),IF($C$52=$U$39,IF($U45=\"\",\"\",$U45),IF($C$52=$V$39,IF($V45=\"\",\"\",$V45),IF($C$52=$W$39,IF($W45=\"\",\"\",$W45),IF($C$52=$X$39,IF($X45=\"\",\"\",$X45),IF($C$52=$Y$39,IF($Y45=\"\",\"\",$Y45),IF($C$52=$Z$39,IF($Z45=\"\",\"\",$Z45),IF($C$52=$AA$39,IF($AA45=\"\",\"\",$AA45),IF($C$52=$AB$39,IF($AB45=\"\",\"\",$AB45),IF($C$52=$AC$39,IF($AC45=\"\",\"\",$AC45),IF($C$52=$AD$39,IF($AD45=\"\",\"\",$AD45),IF($C$52=$AE$39,IF($AE45=\"\",\"\",$AE45),IF($C$52=$AF$39,IF($AF45=\"\",\"\",$AF45),IF($C$52=$AG$39,IF($AG45=\"\",\"\",$AG45),IF($C$52=$AH$39,IF($AH45=\"\",\"\",$AH45),IF($C$52=$AI$39,IF($AI45=\"\",\"\",$AI45),IF($C$52=$AJ$39,IF($AJ45=\"\",\"\",$AJ45),IF($C$52=$AK$39,IF($AK45=\"\",\"\",$AK45),IF($C$52=$AL$39,IF($AL45=\"\",\"\",$AL45),IF($C$52=$AM$39,IF($AM45=\"\",\"\",$AM45),IF($C$52=$AN$39,IF($AN45=\"\",\"\",$AN45),IF($C$52=$AO$39,IF($AO45=\"\",\"\",$AO45),IF($C$52=$AP$39,IF($AP45=\"\",\"\",$AP45),IF($C$52=$AQ$39,IF($AQ45=\"\",\"\",$AQ45),IF($C$52=$AR$39,IF($AR45=\"\",\"\",$AR45),IF($C$52=$AS$39,IF($AS45=\"\",\"\",$AS45),IF($C$52=$AT$39,IF($AT45=\"\",\"\",$AT45),IF($C$52=$AU$39,IF($AU45=\"\",\"\",$AU45),IF($C$52=$AV$39,IF($AV45=\"\",\"\",$AV45),IF($C$52=$AW$39,IF($AW45=\"\",\"\",$AW45),IF($C$52=$AX$39,IF($AX45=\"\",\"\",$AX45),IF($C$52=$AY$39,IF($AY45=\"\",\"\",$AY45),IF($C$52=$BA$39,IF($BA45=\"\",\"\",$BA45),IF($C$52=$BB$39,IF($BB45=\"\",\"\",$BB45),IF($C$52=$BC$39,IF($BC45=\"\",\"\",$BC45),IF($C$52=$BD$39,IF($BD45=\"\",\"\",$BD45),IF($C$52=$BE$39,IF($BE45=\"\",\"\",$BE45),IF($C$52=$BF$39,IF($BF45=\"\",\"\",$BF45),IF($C$52=$BG$39,IF($BG45=\"\",\"\",$BG45),IF($C$52=$BH$39,IF($BH45=\"\",\"\",$BH45),IF($C$52=$BI$39,IF($BI45=\"\",\"\",$BI45),IF($C$52=$BJ$39,IF($BJ45=\"\",\"\",$BJ45),IF($C$52=$BK$39,IF($BK45=\"\",\"\",$BK45),IF($C$52=$BL$39,IF($BL45=\"\",\"\",$BL45),IF($C$52=$BM$39,IF($BM45=\"\",\"\",$BM45),IF($C$52=$BN$39,IF($BN45=\"\",\"\",$BN45),IF($C$52=$BO$39,IF($BO45=\"\",\"\",$BO45),IF($C$52=$BP$39,IF($BP45=\"\",\"\",$BP45),IF($C$52=$BQ$39,IF($BQ45=\"\",\"\",$BQ45),IF($C$52=$BR$39,IF($BR45=\"\",\"\",$BR45),IF($C$52=$BS$39,IF($BS45=\"\",\"\",$BS45),\"\")))))))))))))))))))))))))))))))))))))))))))))))))))))))))","v":""},null,null,null,null,null,null,null,null,null,null,"4+0","4+0",null,null,null,null,null,null,null,null,null,null,null,null,null,null,"Tryck ´1+0","Tryck ´1+0","Tryck ´1+0","Tryck ´1+0","Tryck ´1+0","Tryck ´1+0","Tryck ´1+0","Tryck ´1+0"]
[null,"",{"$f":"IF($C$52=$N$39,IF($N46=\"\",\"\",$N46),IF($C$52=$O$39,IF($O46=\"\",\"\",$O46),IF($C$52=$P$39,IF($P46=\"\",\"\",$P46),IF($C$52=$Q$39,IF($Q46=\"\",\"\",$Q46),IF($C$52=$R$39,IF($R46=\"\",\"\",$R46),IF($C$52=$S$39,IF($S46=\"\",\"\",$S46),IF($C$52=$T$39,IF($T46=\"\",\"\",$T46),IF($C$52=$U$39,IF($U46=\"\",\"\",$U46),IF($C$52=$V$39,IF($V46=\"\",\"\",$V46),IF($C$52=$W$39,IF($W46=\"\",\"\",$W46),IF($C$52=$X$39,IF($X46=\"\",\"\",$X46),IF($C$52=$Y$39,IF($Y46=\"\",\"\",$Y46),IF($C$52=$Z$39,IF($Z46=\"\",\"\",$Z46),IF($C$52=$AA$39,IF($AA46=\"\",\"\",$AA46),IF($C$52=$AB$39,IF($AB46=\"\",\"\",$AB46),IF($C$52=$AC$39,IF($AC46=\"\",\"\",$AC46),IF($C$52=$AD$39,IF($AD46=\"\",\"\",$AD46),IF($C$52=$AE$39,IF($AE46=\"\",\"\",$AE46),IF($C$52=$AF$39,IF($AF46=\"\",\"\",$AF46),IF($C$52=$AG$39,IF($AG46=\"\",\"\",$AG46),IF($C$52=$AH$39,IF($AH46=\"\",\"\",$AH46),IF($C$52=$AI$39,IF($AI46=\"\",\"\",$AI46),IF($C$52=$AJ$39,IF($AJ46=\"\",\"\",$AJ46),IF($C$52=$AK$39,IF($AK46=\"\",\"\",$AK46),IF($C$52=$AL$39,IF($AL46=\"\",\"\",$AL46),IF($C$52=$AM$39,IF($AM46=\"\",\"\",$AM46),IF($C$52=$AN$39,IF($AN46=\"\",\"\",$AN46),IF($C$52=$AO$39,IF($AO46=\"\",\"\",$AO46),IF($C$52=$AP$39,IF($AP46=\"\",\"\",$AP46),IF($C$52=$AQ$39,IF($AQ46=\"\",\"\",$AQ46),IF($C$52=$AR$39,IF($AR46=\"\",\"\",$AR46),IF($C$52=$AS$39,IF($AS46=\"\",\"\",$AS46),IF($C$52=$AT$39,IF($AT46=\"\",\"\",$AT46),IF($C$52=$AU$39,IF($AU46=\"\",\"\",$AU46),IF($C$52=$AV$39,IF($AV46=\"\",\"\",$AV46),IF($C$52=$AW$39,IF($AW46=\"\",\"\",$AW46),IF($C$52=$AX$39,IF($AX46=\"\",\"\",$AX46),IF($C$52=$AY$39,IF($AY46=\"\",\"\",$AY46),IF($C$52=$BA$39,IF($BA46=\"\",\"\",$BA46),IF($C$52=$BB$39,IF($BB46=\"\",\"\",$BB46),IF($C$52=$BC$39,IF($BC46=\"\",\"\",$BC46),IF($C$52=$BD$39,IF($BD46=\"\",\"\",$BD46),IF($C$52=$BE$39,IF($BE46=\"\",\"\",$BE46),IF($C$52=$BF$39,IF($BF46=\"\",\"\",$BF46),IF($C$52=$BG$39,IF($BG46=\"\",\"\",$BG46),IF($C$52=$BH$39,IF($BH46=\"\",\"\",$BH46),IF($C$52=$BI$39,IF($BI46=\"\",\"\",$BI46),IF($C$52=$BJ$39,IF($BJ46=\"\",\"\",$BJ46),IF($C$52=$BK$39,IF($BK46=\"\",\"\",$BK46),IF($C$52=$BL$39,IF($BL46=\"\",\"\",$BL46),IF($C$52=$BM$39,IF($BM46=\"\",\"\",$BM46),IF($C$52=$BN$39,IF($BN46=\"\",\"\",$BN46),IF($C$52=$BO$39,IF($BO46=\"\",\"\",$BO46),IF($C$52=$BP$39,IF($BP46=\"\",\"\",$BP46),IF($C$52=$BQ$39,IF($BQ46=\"\",\"\",$BQ46),IF($C$52=$BR$39,IF($BR46=\"\",\"\",$BR46),IF($C$52=$BS$39,IF($BS46=\"\",\"\",$BS46),\"\")))))))))))))))))))))))))))))))))))))))))))))))))))))))))","v":""},null,null,null,null,null,null,null,null,null,null,"4+4","4+4"]
[null,"",{"$f":"IF($C$52=$N$39,IF($N47=\"\",\"\",$N47),IF($C$52=$O$39,IF($O47=\"\",\"\",$O47),IF($C$52=$P$39,IF($P47=\"\",\"\",$P47),IF($C$52=$Q$39,IF($Q47=\"\",\"\",$Q47),IF($C$52=$R$39,IF($R47=\"\",\"\",$R47),IF($C$52=$S$39,IF($S47=\"\",\"\",$S47),IF($C$52=$T$39,IF($T47=\"\",\"\",$T47),IF($C$52=$U$39,IF($U47=\"\",\"\",$U47),IF($C$52=$V$39,IF($V47=\"\",\"\",$V47),IF($C$52=$W$39,IF($W47=\"\",\"\",$W47),IF($C$52=$X$39,IF($X47=\"\",\"\",$X47),IF($C$52=$Y$39,IF($Y47=\"\",\"\",$Y47),IF($C$52=$Z$39,IF($Z47=\"\",\"\",$Z47),IF($C$52=$AA$39,IF($AA47=\"\",\"\",$AA47),IF($C$52=$AB$39,IF($AB47=\"\",\"\",$AB47),IF($C$52=$AC$39,IF($AC47=\"\",\"\",$AC47),IF($C$52=$AD$39,IF($AD47=\"\",\"\",$AD47),IF($C$52=$AE$39,IF($AE47=\"\",\"\",$AE47),IF($C$52=$AF$39,IF($AF47=\"\",\"\",$AF47),IF($C$52=$AG$39,IF($AG47=\"\",\"\",$AG47),IF($C$52=$AH$39,IF($AH47=\"\",\"\",$AH47),IF($C$52=$AI$39,IF($AI47=\"\",\"\",$AI47),IF($C$52=$AJ$39,IF($AJ47=\"\",\"\",$AJ47),IF($C$52=$AK$39,IF($AK47=\"\",\"\",$AK47),IF($C$52=$AL$39,IF($AL47=\"\",\"\",$AL47),IF($C$52=$AM$39,IF($AM47=\"\",\"\",$AM47),IF($C$52=$AN$39,IF($AN47=\"\",\"\",$AN47),IF($C$52=$AO$39,IF($AO47=\"\",\"\",$AO47),IF($C$52=$AP$39,IF($AP47=\"\",\"\",$AP47),IF($C$52=$AQ$39,IF($AQ47=\"\",\"\",$AQ47),IF($C$52=$AR$39,IF($AR47=\"\",\"\",$AR47),IF($C$52=$AS$39,IF($AS47=\"\",\"\",$AS47),IF($C$52=$AT$39,IF($AT47=\"\",\"\",$AT47),IF($C$52=$AU$39,IF($AU47=\"\",\"\",$AU47),IF($C$52=$AV$39,IF($AV47=\"\",\"\",$AV47),IF($C$52=$AW$39,IF($AW47=\"\",\"\",$AW47),IF($C$52=$AX$39,IF($AX47=\"\",\"\",$AX47),IF($C$52=$AY$39,IF($AY47=\"\",\"\",$AY47),IF($C$52=$BA$39,IF($BA47=\"\",\"\",$BA47),IF($C$52=$BB$39,IF($BB47=\"\",\"\",$BB47),IF($C$52=$BC$39,IF($BC47=\"\",\"\",$BC47),IF($C$52=$BD$39,IF($BD47=\"\",\"\",$BD47),IF($C$52=$BE$39,IF($BE47=\"\",\"\",$BE47),IF($C$52=$BF$39,IF($BF47=\"\",\"\",$BF47),IF($C$52=$BG$39,IF($BG47=\"\",\"\",$BG47),IF($C$52=$BH$39,IF($BH47=\"\",\"\",$BH47),IF($C$52=$BI$39,IF($BI47=\"\",\"\",$BI47),IF($C$52=$BJ$39,IF($BJ47=\"\",\"\",$BJ47),IF($C$52=$BK$39,IF($BK47=\"\",\"\",$BK47),IF($C$52=$BL$39,IF($BL47=\"\",\"\",$BL47),IF($C$52=$BM$39,IF($BM47=\"\",\"\",$BM47),IF($C$52=$BN$39,IF($BN47=\"\",\"\",$BN47),IF($C$52=$BO$39,IF($BO47=\"\",\"\",$BO47),IF($C$52=$BP$39,IF($BP47=\"\",\"\",$BP47),IF($C$52=$BQ$39,IF($BQ47=\"\",\"\",$BQ47),IF($C$52=$BR$39,IF($BR47=\"\",\"\",$BR47),IF($C$52=$BS$39,IF($BS47=\"\",\"\",$BS47),\"\")))))))))))))))))))))))))))))))))))))))))))))))))))))))))","v":""},null,null,null,null,null,null,null,null,null,null,"2+0 (svart + PMS)","2+0 (svart + PMS)"]
[null,"",{"$f":"IF($C$52=$N$39,IF($N48=\"\",\"\",$N48),IF($C$52=$O$39,IF($O48=\"\",\"\",$O48),IF($C$52=$P$39,IF($P48=\"\",\"\",$P48),IF($C$52=$Q$39,IF($Q48=\"\",\"\",$Q48),IF($C$52=$R$39,IF($R48=\"\",\"\",$R48),IF($C$52=$S$39,IF($S48=\"\",\"\",$S48),IF($C$52=$T$39,IF($T48=\"\",\"\",$T48),IF($C$52=$U$39,IF($U48=\"\",\"\",$U48),IF($C$52=$V$39,IF($V48=\"\",\"\",$V48),IF($C$52=$W$39,IF($W48=\"\",\"\",$W48),IF($C$52=$X$39,IF($X48=\"\",\"\",$X48),IF($C$52=$Y$39,IF($Y48=\"\",\"\",$Y48),IF($C$52=$Z$39,IF($Z48=\"\",\"\",$Z48),IF($C$52=$AA$39,IF($AA48=\"\",\"\",$AA48),IF($C$52=$AB$39,IF($AB48=\"\",\"\",$AB48),IF($C$52=$AC$39,IF($AC48=\"\",\"\",$AC48),IF($C$52=$AD$39,IF($AD48=\"\",\"\",$AD48),IF($C$52=$AE$39,IF($AE48=\"\",\"\",$AE48),IF($C$52=$AF$39,IF($AF48=\"\",\"\",$AF48),IF($C$52=$AG$39,IF($AG48=\"\",\"\",$AG48),IF($C$52=$AH$39,IF($AH48=\"\",\"\",$AH48),IF($C$52=$AI$39,IF($AI48=\"\",\"\",$AI48),IF($C$52=$AJ$39,IF($AJ48=\"\",\"\",$AJ48),IF($C$52=$AK$39,IF($AK48=\"\",\"\",$AK48),IF($C$52=$AL$39,IF($AL48=\"\",\"\",$AL48),IF($C$52=$AM$39,IF($AM48=\"\",\"\",$AM48),IF($C$52=$AN$39,IF($AN48=\"\",\"\",$AN48),IF($C$52=$AO$39,IF($AO48=\"\",\"\",$AO48),IF($C$52=$AP$39,IF($AP48=\"\",\"\",$AP48),IF($C$52=$AQ$39,IF($AQ48=\"\",\"\",$AQ48),IF($C$52=$AR$39,IF($AR48=\"\",\"\",$AR48),IF($C$52=$AS$39,IF($AS48=\"\",\"\",$AS48),IF($C$52=$AT$39,IF($AT48=\"\",\"\",$AT48),IF($C$52=$AU$39,IF($AU48=\"\",\"\",$AU48),IF($C$52=$AV$39,IF($AV48=\"\",\"\",$AV48),IF($C$52=$AW$39,IF($AW48=\"\",\"\",$AW48),IF($C$52=$AX$39,IF($AX48=\"\",\"\",$AX48),IF($C$52=$AY$39,IF($AY48=\"\",\"\",$AY48),IF($C$52=$BA$39,IF($BA48=\"\",\"\",$BA48),IF($C$52=$BB$39,IF($BB48=\"\",\"\",$BB48),IF($C$52=$BC$39,IF($BC48=\"\",\"\",$BC48),IF($C$52=$BD$39,IF($BD48=\"\",\"\",$BD48),IF($C$52=$BE$39,IF($BE48=\"\",\"\",$BE48),IF($C$52=$BF$39,IF($BF48=\"\",\"\",$BF48),IF($C$52=$BG$39,IF($BG48=\"\",\"\",$BG48),IF($C$52=$BH$39,IF($BH48=\"\",\"\",$BH48),IF($C$52=$BI$39,IF($BI48=\"\",\"\",$BI48),IF($C$52=$BJ$39,IF($BJ48=\"\",\"\",$BJ48),IF($C$52=$BK$39,IF($BK48=\"\",\"\",$BK48),IF($C$52=$BL$39,IF($BL48=\"\",\"\",$BL48),IF($C$52=$BM$39,IF($BM48=\"\",\"\",$BM48),IF($C$52=$BN$39,IF($BN48=\"\",\"\",$BN48),IF($C$52=$BO$39,IF($BO48=\"\",\"\",$BO48),IF($C$52=$BP$39,IF($BP48=\"\",\"\",$BP48),IF($C$52=$BQ$39,IF($BQ48=\"\",\"\",$BQ48),IF($C$52=$BR$39,IF($BR48=\"\",\"\",$BR48),IF($C$52=$BS$39,IF($BS48=\"\",\"\",$BS48),\"\")))))))))))))))))))))))))))))))))))))))))))))))))))))))))","v":""},null,null,null,null,null,null,null,null,null,null,"2+0 (svart + PMS)","2+2 (svart + PMS)"]
[]
[null,"Välj Vara/Tjänst 4","Välj variant",{"$f":"IF($B$64=$N$20,IF($N$21=\"\",\"\",$N21),IF($B$64=$O$20,IF($O$21=\"\",\"\",$O21),IF($B$64=$P$20,IF($P$21=\"\",\"\",$P21),IF($B$64=$Q$20,IF($Q$21=\"\",\"\",$Q21),IF($B$64=$R$20,IF($R$21=\"\",\"\",$R21),IF($B$64=$S$20,IF($S$21=\"\",\"\",$S21),\"\"))))))","v":""},{"$f":"IF($B$64=$U$20,IF($U$21=\"\",\"\",$U21),IF($B$64=$V$20,IF($V$21=\"\",\"\",$V21),IF($B$64=$W$20,IF($W$21=\"\",\"\",$W21),IF($B$64=$X$20,IF($X$21=\"\",\"\",$X21),\"\"))))","v":""},{"$f":"IF($B$64=$Z$20,IF($Z$21=\"\",\"\",$Z21),IF($B$64=$AA$20,IF($AA$21=\"\",\"\",$AA21),IF($B$64=$AB$20,IF($AB$21=\"\",\"\",$AB21),IF($B$64=$AC$20,IF($AC$21=\"\",\"\",$AC21),IF($B$64=$AD$20,IF($AD$21=\"\",\"\",$AD21),IF($B$64=$AE$20,IF($AE$21=\"\",\"\",$AE21),IF($B$64=$AF$20,IF($AF$21=\"\",\"\",$AF21),IF($B$64=$AG$20,IF($AG$21=\"\",\"\",$AG21),IF($B$64=$AH$20,IF($AH$21=\"\",\"\",$AH21),IF($B$64=$AI$20,IF($AI$21=\"\",\"\",$AI21),IF($B$64=$AJ$20,IF($AJ$21=\"\",\"\",$AJ21),IF($B$64=$AK$20,IF($AK$21=\"\",\"\",$AK21),IF($B$64=$AL$20,IF($AL$21=\"\",\"\",$AL21),IF($B$64=$AM$20,IF($AM$21=\"\",\"\",$AM21),IF($B$64=$AN$20,IF($AN$21=\"\",\"\",$AN21),\"\")))))))))))))))","v":""},{"$f":"IF($B$64=$N$65,IF($N66=\"\",\"\",$N66),\"\")","v":""}]
[]
[null,{"$f":"IF($B$64=$N$25,IF($N26=\"\",\"\",$N26),IF($B$64=$O$25,IF($O26=\"\",\"\",$O26),IF($B$64=$P$25,IF($P26=\"\",\"\",$P26),IF($B$64=$Q$25,IF($Q26=\"\",\"\",$Q26),IF($B$64=$R$25,IF($R26=\"\",\"\",$R26),IF($B$64=$S$25,IF($S26=\"\",\"\",$S26),IF($B$64=$T$25,IF($T26=\"\",\"\",$T26),IF($B$64=$U$25,IF($U26=\"\",\"\",$U26),IF($B$64=$V$25,IF($V26=\"\",\"\",$V26),IF($B$64=$W$25,IF($W26=\"\",\"\",$W26),IF($B$64=$X$25,IF($X26=\"\",\"\",$X26),IF($B$64=$Y$25,IF($Y26=\"\",\"\",$Y26),IF($B$64=$Z$25,IF($Z26=\"\",\"\",$Z26),\"\")))))))))))))","v":""},{"$f":"IF($C$64=$N$39,IF($N40=\"\",\"\",$N40),IF($C$64=$O$39,IF($O40=\"\",\"\",$O40),IF($C$64=$P$39,IF($P40=\"\",\"\",$P40),IF($C$64=$Q$39,IF($Q40=\"\",\"\",$Q40),IF($C$64=$R$39,IF($R40=\"\",\"\",$R40),IF($C$64=$S$39,IF($S40=\"\",\"\",$S40),IF($C$64=$T$39,IF($T40=\"\",\"\",$T40),IF($C$64=$U$39,IF($U40=\"\",\"\",$U40),IF($C$64=$V$39,IF($V40=\"\",\"\",$V40),IF($C$64=$W$39,IF($W40=\"\",\"\",$W40),IF($C$64=$X$39,IF($X40=\"\",\"\",$X40),IF($C$64=$Y$39,IF($Y40=\"\",\"\",$Y40),IF($C$64=$Z$39,IF($Z40=\"\",\"\",$Z40),IF($C$64=$AA$39,IF($AA40=\"\",\"\",$AA40),IF($C$64=$AB$39,IF($AB40=\"\",\"\",$AB40),IF($C$64=$AC$39,IF($AC40=\"\",\"\",$AC40),IF($C$64=$AD$39,IF($AD40=\"\",\"\",$AD40),IF($C$64=$AE$39,IF($AE40=\"\",\"\",$AE40),IF($C$64=$AF$39,IF($AF40=\"\",\"\",$AF40),IF($C$64=$AG$39,IF($AG40=\"\",\"\",$AG40),IF($C$64=$AH$39,IF($AH40=\"\",\"\",$AH40),IF($C$64=$AI$39,IF($AI40=\"\",\"\",$AI40),IF($C$64=$AJ$39,IF($AJ40=\"\",\"\",$AJ40),IF($C$64=$AK$39,IF($AK40=\"\",\"\",$AK40),IF($C$64=$AL$39,IF($AL40=\"\",\"\",$AL40),IF($C$64=$AM$39,IF($AM40=\"\",\"\",$AM40),IF($C$64=$AN$39,IF($AN40=\"\",\"\",$AN40),IF($C$64=$AO$39,IF($AO40=\"\",\"\",$AO40),IF($C$64=$AP$39,IF($AP40=\"\",\"\",$AP40),IF($C$64=$AQ$39,IF($AQ40=\"\",\"\",$AQ40),IF($C$64=$AR$39,IF($AR40=\"\",\"\",$AR40),IF($C$64=$AS$39,IF($AS40=\"\",\"\",$AS40),IF($C$64=$AT$39,IF($AT40=\"\",\"\",$AT40),IF($C$64=$AU$39,IF($AU40=\"\",\"\",$AU40),IF($C$64=$AV$39,IF($AV40=\"\",\"\",$AV40),IF($C$64=$AW$39,IF($AW40=\"\",\"\",$AW40),IF($C$64=$AX$39,IF($AX40=\"\",\"\",$AX40),IF($C$64=$AY$39,IF($AY40=\"\",\"\",$AY40),IF($C$64=$AZ$39,IF($AZ40=\"\",\"\",$AZ40),IF($C$64=$BA$39,IF($BA40=\"\",\"\",$BA40),IF($C$64=$BB$39,IF($BB40=\"\",\"\",$BB40),IF($C$64=$BC$39,IF($BC40=\"\",\"\",$BC40),IF($C$64=$BD$39,IF($BD40=\"\",\"\",$BD40),IF($C$64=$BE$39,IF($BE40=\"\",\"\",$BE40),IF($C$64=$BF$39,IF($BF40=\"\",\"\",$BF40),IF($C$64=$BG$39,IF($BG40=\"\",\"\",$BG40),IF($C$64=$BH$39,IF($BH40=\"\",\"\",$BH40),IF($C$64=$BI$39,IF($BI40=\"\",\"\",$BI40),IF($C$64=$BJ$39,IF($BJ40=\"\",\"\",$BJ40),IF($C$64=$BK$39,IF($BK40=\"\",\"\",$BK40),IF($C$64=$BL$39,IF($BL40=\"\",\"\",$BL40),IF($C$64=$BM$39,IF($BM40=\"\",\"\",$BM40),IF($C$64=$BN$39,IF($BN40=\"\",\"\",$BN40),IF($C$64=$BO$39,IF($BO40=\"\",\"\",$BO40),IF($C$64=$BP$39,IF($BP40=\"\",\"\",$BP40),IF($C$64=$BQ$39,IF($BQ40=\"\",\"\",$BQ40),IF($C$64=$BR$39,IF($BR40=\"\",\"\",$BR40),IF($C$64=$BS$39,IF($BS40=\"\",\"\",$BS40),\"\"))))))))))))))))))))))))))))))))))))))))))))))))))))))))))","v":""},null,null,null,null,null,null,null,null,null,null,"Visitkort"]
[null,{"$f":"IF($B$64=$N$25,IF($N27=\"\",\"\",$N27),IF($B$64=$O$25,IF($O27=\"\",\"\",$O27),IF($B$64=$P$25,IF($P27=\"\",\"\",$P27),IF($B$64=$Q$25,IF($Q27=\"\",\"\",$Q27),IF($B$64=$R$25,IF($R27=\"\",\"\",$R27),IF($B$64=$S$25,IF($S27=\"\",\"\",$S27),IF($B$64=$T$25,IF($T27=\"\",\"\",$T27),IF($B$64=$U$25,IF($U27=\"\",\"\",$U27),IF($B$64=$V$25,IF($V27=\"\",\"\",$V27),IF($B$64=$W$25,IF($W27=\"\",\"\",$W27),IF($B$64=$X$25,IF($X27=\"\",\"\",$X27),IF($B$64=$Y$25,IF($Y27=\"\",\"\",$Y27),IF($B$64=$Z$25,IF($Z27=\"\",\"\",$Z27),\"\")))))))))))))","v":""},{"$f":"IF($C$64=$N$39,IF($N41=\"\",\"\",$N41),IF($C$64=$O$39,IF($O41=\"\",\"\",$O41),IF($C$64=$P$39,IF($P41=\"\",\"\",$P41),IF($C$64=$Q$39,IF($Q41=\"\",\"\",$Q41),IF($C$64=$R$39,IF($R41=\"\",\"\",$R41),IF($C$64=$S$39,IF($S41=\"\",\"\",$S41),IF($C$64=$T$39,IF($T41=\"\",\"\",$T41),IF($C$64=$U$39,IF($U41=\"\",\"\",$U41),IF($C$64=$V$39,IF($V41=\"\",\"\",$V41),IF($C$64=$W$39,IF($W41=\"\",\"\",$W41),IF($C$64=$X$39,IF($X41=\"\",\"\",$X41),IF($C$64=$Y$39,IF($Y41=\"\",\"\",$Y41),IF($C$64=$Z$39,IF($Z41=\"\",\"\",$Z41),IF($C$64=$AA$39,IF($AA41=\"\",\"\",$AA41),IF($C$64=$AB$39,IF($AB41=\"\",\"\",$AB41),IF($C$64=$AC$39,IF($AC41=\"\",\"\",$AC41),IF($C$64=$AD$39,IF($AD41=\"\",\"\",$AD41),IF($C$64=$AE$39,IF($AE41=\"\",\"\",$AE41),IF($C$64=$AF$39,IF($AF41=\"\",\"\",$AF41),IF($C$64=$AG$39,IF($AG41=\"\",\"\",$AG41),IF($C$64=$AH$39,IF($AH41=\"\",\"\",$AH41),IF($C$64=$AI$39,IF($AI41=\"\",\"\",$AI41),IF($C$64=$AJ$39,IF($AJ41=\"\",\"\",$AJ41),IF($C$64=$AK$39,IF($AK41=\"\",\"\",$AK41),IF($C$64=$AL$39,IF($AL41=\"\",\"\",$AL41),IF($C$64=$AM$39,IF($AM41=\"\",\"\",$AM41),IF($C$64=$AN$39,IF($AN41=\"\",\"\",$AN41),IF($C$64=$AO$39,IF($AO41=\"\",\"\",$AO41),IF($C$64=$AP$39,IF($AP41=\"\",\"\",$AP41),IF($C$64=$AQ$39,IF($AQ41=\"\",\"\",$AQ41),IF($C$64=$AR$39,IF($AR41=\"\",\"\",$AR41),IF($C$64=$AS$39,IF($AS41=\"\",\"\",$AS41),IF($C$64=$AT$39,IF($AT41=\"\",\"\",$AT41),IF($C$64=$AU$39,IF($AU41=\"\",\"\",$AU41),IF($C$64=$AV$39,IF($AV41=\"\",\"\",$AV41),IF($C$64=$AW$39,IF($AW41=\"\",\"\",$AW41),IF($C$64=$AX$39,IF($AX41=\"\",\"\",$AX41),IF($C$64=$AY$39,IF($AY41=\"\",\"\",$AY41),IF($C$64=$AZ$39,IF($AZ41=\"\",\"\",$AZ41),IF($C$64=$BA$39,IF($BA41=\"\",\"\",$BA41),IF($C$64=$BB$39,IF($BB41=\"\",\"\",$BB41),IF($C$64=$BC$39,IF($BC41=\"\",\"\",$BC41),IF($C$64=$BD$39,IF($BD41=\"\",\"\",$BD41),IF($C$64=$BE$39,IF($BE41=\"\",\"\",$BE41),IF($C$64=$BF$39,IF($BF41=\"\",\"\",$BF41),IF($C$64=$BG$39,IF($BG41=\"\",\"\",$BG41),IF($C$64=$BH$39,IF($BH41=\"\",\"\",$BH41),IF($C$64=$BI$39,IF($BI41=\"\",\"\",$BI41),IF($C$64=$BJ$39,IF($BJ41=\"\",\"\",$BJ41),IF($C$64=$BK$39,IF($BK41=\"\",\"\",$BK41),IF($C$64=$BL$39,IF($BL41=\"\",\"\",$BL41),IF($C$64=$BM$39,IF($BM41=\"\",\"\",$BM41),IF($C$64=$BN$39,IF($BN41=\"\",\"\",$BN41),IF($C$64=$BO$39,IF($BO41=\"\",\"\",$BO41),IF($C$64=$BP$39,IF($BP41=\"\",\"\",$BP41),IF($C$64=$BQ$39,IF($BQ41=\"\",\"\",$BQ41),IF($C$64=$BR$39,IF($BR41=\"\",\"\",$BR41),IF($C$64=$BS$39,IF($BS41=\"\",\"\",$BS41),\"\"))))))))))))))))))))))))))))))))))))))))))))))))))))))))))","v":""},null,null,null,null,null,null,null,null,null,null,"Antal"]
[null,"",""]
[null,"",""]
[null,"","",null,null,null,null,null,null,null,null,null,null,"Antal"]
[null,"","",null,null,null,null,null,null,null,null,null,null,100]
[null,"","",null,null,null,null,null,null,null,null,null,null,250]
[null,"","",null,null,null,null,null,null,null,null,null,null,500]
[null,"",""]
[]
[null,"Välj Vara/Tjänst 5","Välj variant",{"$f":"IF($B$76=$N$20,IF($N$21=\"\",\"\",$N21),IF($B$76=$O$20,IF($O$21=\"\",\"\",$O21),IF($B$76=$P$20,IF($P$21=\"\",\"\",$P21),IF($B$76=$Q$20,IF($Q$21=\"\",\"\",$Q21),IF($B$76=$R$20,IF($R$21=\"\",\"\",$R21),IF($B$76=$S$20,IF($S$21=\"\",\"\",$S21),\"\"))))))","v":""},{"$f":"IF($B$76=$U$20,IF($U$21=\"\",\"\",$U21),IF($B$76=$V$20,IF($V$21=\"\",\"\",$V21),IF($B$76=$W$20,IF($W$21=\"\",\"\",$W21),IF($B$76=$X$20,IF($X$21=\"\",\"\",$X21),\"\"))))","v":""},{"$f":"IF($B$76=$Z$20,IF($Z$21=\"\",\"\",$Z21),IF($B$76=$AA$20,IF($AA$21=\"\",\"\",$AA21),IF($B$76=$AB$20,IF($AB$21=\"\",\"\",$AB21),IF($B$76=$AC$20,IF($AC$21=\"\",\"\",$AC21),IF($B$76=$AD$20,IF($AD$21=\"\",\"\",$AD21),IF($B$76=$AE$20,IF($AE$21=\"\",\"\",$AE21),IF($B$76=$AF$20,IF($AF$21=\"\",\"\",$AF21),IF($B$76=$AG$20,IF($AG$21=\"\",\"\",$AG21),IF($B$76=$AH$20,IF($AH$21=\"\",\"\",$AH21),IF($B$76=$AI$20,IF($AI$21=\"\",\"\",$AI21),IF($B$76=$AJ$20,IF($AJ$21=\"\",\"\",$AJ21),IF($B$76=$AK$20,IF($AK$21=\"\",\"\",$AK21),IF($B$76=$AL$20,IF($AL$21=\"\",\"\",$AL21),IF($B$76=$AM$20,IF($AM$21=\"\",\"\",$AM21),IF($B$76=$AN$20,IF($AN$21=\"\",\"\",$AN21),\"\")))))))))))))))","v":""},{"$f":"IF($B$76=$N$65,IF($N66=\"\",\"\",$N66),\"\")","v":""},null,null,null,null,null,null,"Fönsterplasering",null,"Kuvert"]
[null,null,null,null,null,null,null,null,null,null,null,null,null,"V2 Fönster till vänster",null,"Fönsterplasering"]
[null,{"$f":"IF($B$76=$N$25,IF($N26=\"\",\"\",$N26),IF($B$76=$O$25,IF($O26=\"\",\"\",$O26),IF($B$76=$P$25,IF($P26=\"\",\"\",$P26),IF($B$76=$Q$25,IF($Q26=\"\",\"\",$Q26),IF($B$76=$R$25,IF($R26=\"\",\"\",$R26),IF($B$76=$S$25,IF($S26=\"\",\"\",$S26),IF($B$76=$T$25,IF($T26=\"\",\"\",$T26),IF($B$76=$U$25,IF($U26=\"\",\"\",$U26),IF($B$76=$V$25,IF($V26=\"\",\"\",$V26),IF($B$76=$W$25,IF($W26=\"\",\"\",$W26),IF($B$76=$X$25,IF($X26=\"\",\"\",$X26),IF($B$76=$Y$25,IF($Y26=\"\",\"\",$Y26),IF($B$76=$Z$25,IF($Z26=\"\",\"\",$Z26),\"\")))))))))))))","v":""},{"$f":"IF($C$76=$N$39,IF($N40=\"\",\"\",$N40),IF($C$76=$O$39,IF($O40=\"\",\"\",$O40),IF($C$76=$P$39,IF($P40=\"\",\"\",$P40),IF($C$76=$Q$39,IF($Q40=\"\",\"\",$Q40),IF($C$76=$R$39,IF($R40=\"\",\"\",$R40),IF($C$76=$S$39,IF($S40=\"\",\"\",$S40),IF($C$76=$T$39,IF($T40=\"\",\"\",$T40),IF($C$76=$U$39,IF($U40=\"\",\"\",$U40),IF($C$76=$V$39,IF($V40=\"\",\"\",$V40),IF($C$76=$W$39,IF($W40=\"\",\"\",$W40),IF($C$76=$X$39,IF($X40=\"\",\"\",$X40),IF($C$76=$Y$39,IF($Y40=\"\",\"\",$Y40),IF($C$76=$Z$39,IF($Z40=\"\",\"\",$Z40),IF($C$76=$AA$39,IF($AA40=\"\",\"\",$AA40),IF($C$76=$AB$39,IF($AB40=\"\",\"\",$AB40),IF($C$76=$AC$39,IF($AC40=\"\",\"\",$AC40),IF($C$76=$AD$39,IF($AD40=\"\",\"\",$AD40),IF($C$76=$AE$39,IF($AE40=\"\",\"\",$AE40),IF($C$76=$AF$39,IF($AF40=\"\",\"\",$AF40),IF($C$76=$AG$39,IF($AG40=\"\",\"\",$AG40),IF($C$76=$AH$39,IF($AH40=\"\",\"\",$AH40),IF($C$76=$AI$39,IF($AI40=\"\",\"\",$AI40),IF($C$76=$AJ$39,IF($AJ40=\"\",\"\",$AJ40),IF($C$76=$AK$39,IF($AK40=\"\",\"\",$AK40),IF($C$76=$AL$39,IF($AL40=\"\",\"\",$AL40),IF($C$76=$AM$39,IF($AM40=\"\",\"\",$AM40),IF($C$76=$AN$39,IF($AN40=\"\",\"\",$AN40),IF($C$76=$AO$39,IF($AO40=\"\",\"\",$AO40),IF($C$76=$AP$39,IF($AP40=\"\",\"\",$AP40),IF($C$76=$AQ$39,IF($AQ40=\"\",\"\",$AQ40),IF($C$76=$AR$39,IF($AR40=\"\",\"\",$AR40),IF($C$76=$AS$39,IF($AS40=\"\",\"\",$AS40),IF($C$76=$AT$39,IF($AT40=\"\",\"\",$AT40),IF($C$76=$AU$39,IF($AU40=\"\",\"\",$AU40),IF($C$76=$AV$39,IF($AV40=\"\",\"\",$AV40),IF($C$76=$AW$39,IF($AW40=\"\",\"\",$AW40),IF($C$76=$AX$39,IF($AX40=\"\",\"\",$AX40),IF($C$76=$AY$39,IF($AY40=\"\",\"\",$AY40),IF($C$76=$AZ$39,IF($AZ40=\"\",\"\",$AZ40),IF($C$76=$BA$39,IF($BA40=\"\",\"\",$BA40),IF($C$76=$BB$39,IF($BB40=\"\",\"\",$BB40),IF($C$76=$BC$39,IF($BC40=\"\",\"\",$BC40),IF($C$76=$BD$39,IF($BD40=\"\",\"\",$BD40),IF($C$76=$BE$39,IF($BE40=\"\",\"\",$BE40),IF($C$76=$BF$39,IF($BF40=\"\",\"\",$BF40),IF($C$76=$BG$39,IF($BG40=\"\",\"\",$BG40),IF($C$76=$BH$39,IF($BH40=\"\",\"\",$BH40),IF($C$76=$BI$39,IF($BI40=\"\",\"\",$BI40),IF($C$76=$BJ$39,IF($BJ40=\"\",\"\",$BJ40),IF($C$76=$BK$39,IF($BK40=\"\",\"\",$BK40),IF($C$76=$BL$39,IF($BL40=\"\",\"\",$BL40),IF($C$76=$BM$39,IF($BM40=\"\",\"\",$BM40),IF($C$76=$BN$39,IF($BN40=\"\",\"\",$BN40),IF($C$76=$BO$39,IF($BO40=\"\",\"\",$BO40),IF($C$76=$BP$39,IF($BP40=\"\",\"\",$BP40),IF($C$76=$BQ$39,IF($BQ40=\"\",\"\",$BQ40),IF($C$76=$BR$39,IF($BR40=\"\",\"\",$BR40),IF($C$76=$BS$39,IF($BS40=\"\",\"\",$BS40),\"\"))))))))))))))))))))))))))))))))))))))))))))))))))))))))))","v":""},null,null,null,null,null,null,null,null,null,null,"H2 Fönster till höger"]
[null,{"$f":"IF($B$76=$N$25,IF($N27=\"\",\"\",$N27),IF($B$76=$O$25,IF($O27=\"\",\"\",$O27),IF($B$76=$P$25,IF($P27=\"\",\"\",$P27),IF($B$76=$Q$25,IF($Q27=\"\",\"\",$Q27),IF($B$76=$R$25,IF($R27=\"\",\"\",$R27),IF($B$76=$S$25,IF($S27=\"\",\"\",$S27),IF($B$76=$T$25,IF($T27=\"\",\"\",$T27),IF($B$76=$U$25,IF($U27=\"\",\"\",$U27),IF($B$76=$V$25,IF($V27=\"\",\"\",$V27),IF($B$76=$W$25,IF($W27=\"\",\"\",$W27),IF($B$76=$X$25,IF($X27=\"\",\"\",$X27),IF($B$76=$Y$25,IF($Y27=\"\",\"\",$Y27),IF($B$76=$Z$25,IF($Z27=\"\",\"\",$Z27),\"\")))))))))))))","v":""},{"$f":"IF($C$76=$N$39,IF($N41=\"\",\"\",$N41),IF($C$76=$O$39,IF($O41=\"\",\"\",$O41),IF($C$76=$P$39,IF($P41=\"\",\"\",$P41),IF($C$76=$Q$39,IF($Q41=\"\",\"\",$Q41),IF($C$76=$R$39,IF($R41=\"\",\"\",$R41),IF($C$76=$S$39,IF($S41=\"\",\"\",$S41),IF($C$76=$T$39,IF($T41=\"\",\"\",$T41),IF($C$76=$U$39,IF($U41=\"\",\"\",$U41),IF($C$76=$V$39,IF($V41=\"\",\"\",$V41),IF($C$76=$W$39,IF($W41=\"\",\"\",$W41),IF($C$76=$X$39,IF($X41=\"\",\"\",$X41),IF($C$76=$Y$39,IF($Y41=\"\",\"\",$Y41),IF($C$76=$Z$39,IF($Z41=\"\",\"\",$Z41),IF($C$76=$AA$39,IF($AA41=\"\",\"\",$AA41),IF($C$76=$AB$39,IF($AB41=\"\",\"\",$AB41),IF($C$76=$AC$39,IF($AC41=\"\",\"\",$AC41),IF($C$76=$AD$39,IF($AD41=\"\",\"\",$AD41),IF($C$76=$AE$39,IF($AE41=\"\",\"\",$AE41),IF($C$76=$AF$39,IF($AF41=\"\",\"\",$AF41),IF($C$76=$AG$39,IF($AG41=\"\",\"\",$AG41),IF($C$76=$AH$39,IF($AH41=\"\",\"\",$AH41),IF($C$76=$AI$39,IF($AI41=\"\",\"\",$AI41),IF($C$76=$AJ$39,IF($AJ41=\"\",\"\",$AJ41),IF($C$76=$AK$39,IF($AK41=\"\",\"\",$AK41),IF($C$76=$AL$39,IF($AL41=\"\",\"\",$AL41),IF($C$76=$AM$39,IF($AM41=\"\",\"\",$AM41),IF($C$76=$AN$39,IF($AN41=\"\",\"\",$AN41),IF($C$76=$AO$39,IF($AO41=\"\",\"\",$AO41),IF($C$76=$AP$39,IF($AP41=\"\",\"\",$AP41),IF($C$76=$AQ$39,IF($AQ41=\"\",\"\",$AQ41),IF($C$76=$AR$39,IF($AR41=\"\",\"\",$AR41),IF($C$76=$AS$39,IF($AS41=\"\",\"\",$AS41),IF($C$76=$AT$39,IF($AT41=\"\",\"\",$AT41),IF($C$76=$AU$39,IF($AU41=\"\",\"\",$AU41),IF($C$76=$AV$39,IF($AV41=\"\",\"\",$AV41),IF($C$76=$AW$39,IF($AW41=\"\",\"\",$AW41),IF($C$76=$AX$39,IF($AX41=\"\",\"\",$AX41),IF($C$76=$AY$39,IF($AY41=\"\",\"\",$AY41),IF($C$76=$AZ$39,IF($AZ41=\"\",\"\",$AZ41),IF($C$76=$BA$39,IF($BA41=\"\",\"\",$BA41),IF($C$76=$BB$39,IF($BB41=\"\",\"\",$BB41),IF($C$76=$BC$39,IF($BC41=\"\",\"\",$BC41),IF($C$76=$BD$39,IF($BD41=\"\",\"\",$BD41),IF($C$76=$BE$39,IF($BE41=\"\",\"\",$BE41),IF($C$76=$BF$39,IF($BF41=\"\",\"\",$BF41),IF($C$76=$BG$39,IF($BG41=\"\",\"\",$BG41),IF($C$76=$BH$39,IF($BH41=\"\",\"\",$BH41),IF($C$76=$BI$39,IF($BI41=\"\",\"\",$BI41),IF($C$76=$BJ$39,IF($BJ41=\"\",\"\",$BJ41),IF($C$76=$BK$39,IF($BK41=\"\",\"\",$BK41),IF($C$76=$BL$39,IF($BL41=\"\",\"\",$BL41),IF($C$76=$BM$39,IF($BM41=\"\",\"\",$BM41),IF($C$76=$BN$39,IF($BN41=\"\",\"\",$BN41),IF($C$76=$BO$39,IF($BO41=\"\",\"\",$BO41),IF($C$76=$BP$39,IF($BP41=\"\",\"\",$BP41),IF($C$76=$BQ$39,IF($BQ41=\"\",\"\",$BQ41),IF($C$76=$BR$39,IF($BR41=\"\",\"\",$BR41),IF($C$76=$BS$39,IF($BS41=\"\",\"\",$BS41),\"\"))))))))))))))))))))))))))))))))))))))))))))))))))))))))))","v":""}]
[null,"",""]
[null,"",""]
[null,"",""]
[null,"",""]
[null,"",""]
[null,"",""]
[null,"",""]
[]
[null,null,null,"Vinnande Ramavtalsleverantör:",null,{"$f":"IF(Uträkningsblad!D61>25000,\"Avropet överstiger 25 000kr, använd förnyad konkurensutsättning för avrop\",IF(Uträkningsblad!D61=0,\"Vinnande Ramavtalsleverantör\",IF(E108=1,D95,IF(E108=2,D96,IF(E108=3,D97,IF(E108=4,D98,IF(E108=5,D99,\"\")))))))","v":"Vinnande Ramavtalsleverantör"}]
[]
[]
[null,null,{"$f":"SUM(C87:C88)","v":0}]
[null,null,null,"Totalpris exkl frakt:",null,{"$f":"Uträkningsblad!D61","v":0}]
[null,null,null,"Fraktkostnad: \n(Fylls i av ramavtalsleverantör)"]
[null,null,null,"Totalsumma:",null,{"$f":"SUM(F91:G92)","v":0}]
[null,null,"Rangordning för avropet"]
[null,null,"Rangordnad 1:a ",{"$f":"Uträkningsblad!D48","v":"Ange vilken/vilka produkter och antal samt eventuella tillägg i de ljusgula rutorna på fliken avropsblankett som önskas avropas."},null,{"$f":"Uträkningsblad!I48","v":""}]
[null,null,"Rangordnad 2:a ",{"$f":"Uträkningsblad!D49","v":""},null,{"$f":"Uträkningsblad!I49","v":""}]
[null,null,"Rangordnad 3:a ",{"$f":"Uträkningsblad!D50","v":""},null,{"$f":"Uträkningsblad!I50","v":""}]
[null,null,"Rangordnad 4:a ",{"$f":"Uträkningsblad!D51","v":" "},null,{"$f":"Uträkningsblad!I51","v":""}]
[null,null,"Rangordnad 5:a ",{"$f":"Uträkningsblad!D52","v":" "},null,{"$f":"Uträkningsblad!I52","v":""}]
[null,null,"Rangordnad 6:a ",{"$f":"Uträkningsblad!D53","v":" "},null,{"$f":"Uträkningsblad!I53","v":""}]
[null,null,"Rangordnad 7:a ",{"$f":"Uträkningsblad!D54","v":" "},null,{"$f":"Uträkningsblad!I54","v":""}]
[null,null,"Rangordnad 8:a ",{"$f":"Uträkningsblad!D55","v":" "},null,{"$f":"Uträkningsblad!I55","v":""}]
[null,null,"Rangordnad 9:a ",{"$f":"Uträkningsblad!D56","v":" "},null,{"$f":"Uträkningsblad!I56","v":""}]
[null,null,"Rangordnad 10:a ",{"$f":"Uträkningsblad!D57","v":" "},null,{"$f":"Uträkningsblad!I57","v":""}]
[]
[]
[]
[null,null,"Om vinnnande ramavtalsleverantör inte kan leverera, visas nästa ramavtalsleverantör i rangordningen för avropet",null,1]
[]
[]
[null,"Underskrift kund"]
[]
[]
[null,"Datum"]
[]
[]
[null,"Underskrift ramavtalsleverantör"]
[]
[]
[null,"Datum"]

{"sheet":"Uträkningsblad","index":1,"n_rows":72,"n_cols":20,"rows_kept":72,"cut":false,"hidden":false,"merged":[[67,4,67,5],[68,4,68,5],[69,4,69,5],[70,4,70,5],[71,4,71,5],[63,0,63,3],[51,3,51,7],[52,3,52,7],[53,3,53,7],[54,3,54,7],[56,3,56,7],[55,3,55,7],[47,3,47,7],[48,3,48,7],[49,3,49,7],[50,3,50,7],[57,3,57,7]]}
[]
[null," "]
[]
[null,"Ramavtalsleverantör","Bröderna Hansson H-tryck Aktiebolag","Elanders Sverige AB","Exakta Print AB","Kalmar Kuvert Sweden AB","Ljungbergs Tryckeri i Klippan AB","Scandinavian Print Group Sweden AB","Stema Specialtryck AB","Stibo Complete A/S","Åtta.45 Tryckeri AB","Leverantör 10"]
[null,"Organisationsnr","556086-1535","556262–1689","556364–1595","556547–2726","556884–2511","556323–6776","556297–6497",37120928,"556569–6068","Org nr 10"]
[null,"Kontaktperson","Sam Hansson","Joachim Fabrelius","Fredrik Tenggren","Ulf Andersson","Mikael Svensson","Mikael Falkbäck","Daniel Larsson","Christian Johansson","Jacob Fischerstrom","Kontakt namn 10"]
[null,"Telefonnummer","0433-79813","018-480 10 32","070-226 22 46","070-549 19 50","076-534 93 42","08-554 204 32","033-48 07 22","0728-57 59 94","08-55334820","Telefon nummer 10"]
[null,"E-postadress för avrop","sam@h-tryck.se","Kammarkollegiet@elanders.com","kamavrop@exakta.se","avrop@kalmarkuvert.se","avropa@ljungbergs.se","kammarkollegiet@scandinavianprintgroup.se ","kammarkollegiet@stema.nu","avrop@stibo.com","kamm@atta45.se","Lev10@lev.se"]
[null,"Varor/tjänster"]
[1,"Visitkort",{"$f":"Visitkort!B38","v":0},{"$f":"Visitkort!F38","v":0},{"$f":"Visitkort!J38","v":0},{"$f":"Visitkort!N38","v":0},{"$f":"Visitkort!R38","v":0},{"$f":"Visitkort!V38","v":0},{"$f":"Visitkort!Z38","v":0},{"$f":"Visitkort!AD38","v":0},{"$f":"Visitkort!AH38","v":0},{"$f":"Visitkort!AL38","v":0}]
[null,"Prisjustering Visitkort",0,0,0,0,0,0,0,0,0,0]
[2,"Kuvert",{"$f":"Kuvert!D83","v":0},{"$f":"Kuvert!H83","v":0},{"$f":"Kuvert!L83","v":0},{"$f":"Kuvert!P83","v":0},{"$f":"Kuvert!T83","v":0},{"$f":"Kuvert!X83","v":0},{"$f":"Kuvert!AB83","v":0},{"$f":"Kuvert!AF83","v":0},{"$f":"Kuvert!AJ83","v":0},{"$f":"Kuvert!AN83","v":0}]
[null,"Prisjustering Kuvert",0,0,0,0,0,0,0,0,0,0]
[3,"Pappersmappar treklaff utan snodd",{"$f":"Pappersmapp!D30","v":0},{"$f":"Pappersmapp!H30","v":0},{"$f":"Pappersmapp!L30","v":0},{"$f":"Pappersmapp!P30","v":0},{"$f":"Pappersmapp!T30","v":0},{"$f":"Pappersmapp!X30","v":0},{"$f":"Pappersmapp!AB30","v":0},{"$f":"Pappersmapp!AF30","v":0},{"$f":"Pappersmapp!AJ30","v":0},{"$f":"Pappersmapp!AN30","v":0}]
[null,"Prisjustering Pappersmappar",0,0,0,0,0,0,0,0,0,0]
[4,"Folders",{"$f":"Folders!E52","v":0},{"$f":"Folders!J52","v":0},{"$f":"Folders!O52","v":0},{"$f":"Folders!T52","v":0},{"$f":"Folders!Y52","v":0},{"$f":"Folders!AD52","v":0},{"$f":"Folders!AI52","v":0},{"$f":"Folders!AN52","v":0},{"$f":"Folders!AS52","v":0},{"$f":"Folders!AX52","v":0}]
[null,"Prisjustering Folders",0,0,0,0,0,0,0,0,0,0]
[5,"Broschyrer",{"$f":"Broschyrer!E45","v":0},{"$f":"Broschyrer!J45","v":0},{"$f":"Broschyrer!O45","v":0},{"$f":"Broschyrer!T45","v":0},{"$f":"Broschyrer!Y45","v":0},{"$f":"Broschyrer!AD45","v":0},{"$f":"Broschyrer!AI45","v":0},{"$f":"Broschyrer!AN45","v":0},{"$f":"Broschyrer!AS45","v":0},{"$f":"Broschyrer!AX45","v":0}]
[null,"Prisjustering Broschyrer",0,0,0,0,0,0,0,0,0,0]
[6,"Statligt tryck",{"$f":"'Statligt tryck'!E31","v":0},{"$f":"'Statligt tryck'!J31","v":0},{"$f":"'Statligt tryck'!O31","v":0},{"$f":"'Statligt tryck'!T31","v":0},{"$f":"'Statligt tryck'!Y31","v":0},{"$f":"'Statligt tryck'!AD31","v":0},{"$f":"'Statligt tryck'!AI31","v":0},{"$f":"'Statligt tryck'!AN31","v":0},{"$f":"'Statligt tryck'!AS31","v":0},{"$f":"'Statligt tryck'!AX31","v":0}]
[null,"Prisjustering Statligt tryck",0,0,0,0,0,0,0,0,0,0]
[7,"Rapport",{"$f":"Rapport!E33","v":0},{"$f":"Rapport!J33","v":0},{"$f":"Rapport!O33","v":0},{"$f":"Rapport!T33","v":0},{"$f":"Rapport!Y33","v":0},{"$f":"Rapport!AD33","v":0},{"$f":"Rapport!AI33","v":0},{"$f":"Rapport!AN33","v":0},{"$f":"Rapport!AS33","v":0},{"$f":"Rapport!AX33","v":0}]
[null,"Prisjustering Rapport",0,0,0,0,0,0,0,0,0,0]
[8,"Katalog",{"$f":"Katalog!E33","v":0},{"$f":"Katalog!J33","v":0},{"$f":"Katalog!O33","v":0},{"$f":"Katalog!T33","v":0},{"$f":"Katalog!Y33","v":0},{"$f":"Katalog!AD33","v":0},{"$f":"Katalog!AI33","v":0},{"$f":"Katalog!AN33","v":0},{"$f":"Katalog!AS33","v":0},{"$f":"Katalog!AX33","v":0}]
[null,"Prisjustering Katalog",0,0,0,0,0,0,0,0,0,0]
[9,"Roll up",{"$f":"'Roll up'!D61","v":0},{"$f":"'Roll up'!I61","v":0},{"$f":"'Roll up'!N61","v":0},{"$f":"'Roll up'!S61","v":0},{"$f":"'Roll up'!X61","v":0},{"$f":"'Roll up'!AC61","v":0},{"$f":"'Roll up'!AH61","v":0},{"$f":"'Roll up'!AM61","v":0},{"$f":"'Roll up'!AR61","v":0},{"$f":"'Roll up'!AW61","v":0}]
[null,"Prisjustering Roll up",0,0,0,0,0,0,0,0,0,0]
[10,"Affischer",{"$f":"Affischer!D35","v":0},{"$f":"Affischer!I35","v":0},{"$f":"Affischer!N35","v":0},{"$f":"Affischer!S35","v":0},{"$f":"Affischer!X35","v":0},{"$f":"Affischer!AC35","v":0},{"$f":"Affischer!AH35","v":0},{"$f":"Affischer!AM35","v":0},{"$f":"Affischer!AR35","v":0},{"$f":"Affischer!AW35","v":0}]
[null,"Prisjustering Affischer",0,0,0,0,0,0,0,0,0,0]
[11,"Ateljétjänster",{"$f":"Ateljétjänster!B15","v":0},{"$f":"Ateljétjänster!D15","v":0},{"$f":"Ateljétjänster!F15","v":0},{"$f":"Ateljétjänster!H15","v":0},{"$f":"Ateljétjänster!J15","v":0},{"$f":"Ateljétjänster!L15","v":0},{"$f":"Ateljétjänster!N15","v":0},{"$f":"Ateljétjänster!P15","v":0},{"$f":"Ateljétjänster!R15","v":0},{"$f":"Ateljétjänster!T15","v":0}]
[null,"Prisjustering Ateljétjänster",0,0,0,0,0,0,0,0,0,0]
[null,null,null,null,null,null,null,null,null,null,null,null,null,null,null,null,null,"2022-04-01","2022-04-01"]
[null,null,null,null,null,null,null,null,null,null,null,null,null,null,null,null,null,"Basmånad","Ny indexmånad"]
[null,"Summa",{"$f":"SUM(C10*(1+C11),C12*(1+C13),C14*(1+C15),C16*(1+C17),C18*(1+C19),C20*(1+C21),C22*(1+C23),C24*(1+C25),C26*(1+C27),C28*(1+C29),C30*(1+C31))","v":0},{"$f":"SUM(D10*(1+D11),D12*(1+D13),D14*(1+D15),D16*(1+D17),D18*(1+D19),D20*(1+D21),D22*(1+D23),D24*(1+D25),D26*(1+D27),D28*(1+D29),D30*(1+D31))","v":0},0,0,0,0,0,0,0,0,null,null,null,null,null,134.80000000000001,135,"25 % AKI, arbetare inom privat sektor, SNI 2007, H+J transportföretag; informations- och\nkommunikationsföretag (preliminära siffror). April månad 2020 ska utgöra basmånad."]
[null,null,null,null,null,null,null,null,null,null,null,null,null,null,null,null,null,151.9,160,"25 % AKI, tjänstemän inom privat sektor, SNI 2007, H+J transportföretag; informations- och\nkommunikationsföretag (preliminära siffror). April månad 2020 ska utgöra basmånad."]
[null,null,null,null,null,null,null,null,null,null,null,null,null,null,{"$f":"SUM((S34/R34)*0.25+(S35/R35)*0.25+(S36/R36)*0.5)-1","v":2.2792967879390336E-2},null,null,137.5,140,"50 % ITPI, SPIN 2015, 17.1 Massa, papper och papp. April månad 2020 ska utgöra basmånad."]
[null,"Summa",{"$f":"C34","v":0},{"$f":"D34","v":0},0,0,0,0,0,0,0,0]
[]
[]
["Rangordning",null,{"$f":"_xlfn.RANK.EQ(C37,$C$37:$L$37,2)","v":1},1,1,1,1,1,1,1,1,11]
[null,null,{"$f":"SUM(C40+0.09)","v":1.0900000000000001},{"$f":"SUM(D40+0.07)","v":1.07},{"$f":"SUM(E40+0.03)","v":1.03},{"$f":"SUM(F40+0.06)","v":1.06},{"$f":"SUM(G40+0.04)","v":1.04},{"$f":"SUM(H40+0.05)","v":1.05},{"$f":"SUM(I40+0.01)","v":1.01},{"$f":"SUM(J40+0.02)","v":1.02},{"$f":"SUM(K40+0.08)","v":1.08},{"$f":"SUM(L40+0.1)","v":11.1}]
[null,null,{"$f":"_xlfn.RANK.EQ(C41,$C$41:$L$41,2)","v":9},7,3,6,4,5,1,2,8,10]
[null,null,{"$f":"COUNTIF(C40:L40,1)","v":9}]
[]
[]
[]
[null,null,null,null,null,null,null,null,"Pris"]
["Rangordning för avropet",null,1,{"$f":"IF($D$61>25000,\"Avropet överstiger 25 000kr, \",IF($D$61=0,\"Ange vilken/vilka produkter och antal samt eventuella tillägg i de ljusgula rutorna på fliken avropsblankett som önskas avropas.\",IF($C$42=K48,$C$4,IF($D$42=K48,$D$4,IF($E$42=K48,$E$4,IF($F$42=K48,$F$4,IF($G$42=K48,$G$4,IF($H$42=K48,$H$4,IF($I$42=K48,$I$4,IF($J$42=K48,$J$4,IF($K$42=K48,$K$4,IF($L$42=K48,$L$4,\"Ingen lev\"))))))))))))","v":"Ange vilken/vilka produkter och antal samt eventuella tillägg i de ljusgula rutorna på fliken avropsblankett som önskas avropas."},null,null,null,null,{"$f":"IF(D61=0,\"\",IF(C42=1,C37,IF(D42=1,D37,IF(E42=1,E37,IF(F42=1,F37,IF(G42=1,G37,IF(H42=1,H37,IF(I42=1,I37,IF(J42=1,J37,IF(K42=1,K37,IF(L42=1,L37,IF(#REF!=1,#REF!,\"\"))))))))))))","v":""},null,1]
[null,null,2,{"$f":"IF($D$61>25000,\"använd förnyad konkurensutsättning för avrop\",IF($D$61=0,\"\",IF($C$42=K49,$C$4,IF($D$42=K49,$D$4,IF($E$42=K49,$E$4,IF($F$42=K49,$F$4,IF($G$42=K49,$G$4,IF($H$42=K49,$H$4,IF($I$42=K49,$I$4,IF($J$42=K49,$J$4,IF($K$42=K49,$K$4,IF($L$42=K49,$L$4,\"Ingen lev\"))))))))))))","v":""},null,null,null,null,{"$f":"IF(D61=0,\"\",IF(C42=2,C37,IF(D42=2,D37,IF(E42=2,E37,IF(F42=2,F37,IF(G42=2,G37,IF(H42=2,H37,IF(I42=2,I37,IF(J42=2,J37,IF(K42=2,K37,IF(L42=2,L37,IF(#REF!=2,#REF!,\"\"))))))))))))","v":""},null,2]
[null,null,3,{"$f":"IF($D$61>25000,\" \",IF($D$61=0,\"\",IF($C$42=K50,$C$4,IF($D$42=K50,$D$4,IF($E$42=K50,$E$4,IF($F$42=K50,$F$4,IF($G$42=K50,$G$4,IF($H$42=K50,$H$4,IF($I$42=K50,$I$4,IF($J$42=K50,$J$4,IF($K$42=K50,$K$4,IF($L$42=K50,$L$4,\"Ingen lev\"))))))))))))","v":""},null,null,null,null,{"$f":"IF(D61=0,\"\",IF(C42=3,C37,IF(D42=3,D37,IF(E42=3,E37,IF(F42=3,F37,IF(G42=3,G37,IF(H42=3,H37,IF(I42=3,I37,IF(J42=3,J37,IF(K42=3,K37,IF(L42=3,L37,IF(#REF!=3,#REF!,\"\"))))))))))))","v":""},null,3]
[null,null,4,{"$f":"IF($D$61>25000,\" \",IF($D$61=0,\" \",IF($C$42=K51,$C$4,IF($D$42=K51,$D$4,IF($E$42=K51,$E$4,IF($F$42=K51,$F$4,IF($G$42=K51,$G$4,IF($H$42=K51,$H$4,IF($I$42=K51,$I$4,IF($J$42=K51,$J$4,IF($K$42=K51,$K$4,IF($L$42=K51,$L$4,\"Ingen lev\"))))))))))))","v":" "},null,null,null,null,{"$f":"IF(D61=0,\"\",IF(C42=4,C37,IF(D42=4,D37,IF(E42=4,E37,IF(F42=4,F37,IF(G42=4,G37,IF(H42=4,H37,IF(I42=4,I37,IF(J42=4,J37,IF(K42=4,K37,IF(L42=4,L37,IF(#REF!=4,#REF!,\"\"))))))))))))","v":""},null,4]
[null,null,5," ",null,null,null,null,{"$f":"IF(D61=0,\"\",IF(C42=5,C37,IF(D42=5,D37,IF(E42=5,E37,IF(F42=5,F37,IF(G42=5,G37,IF(H42=5,H37,IF(I42=5,I37,IF(J42=5,J37,IF(K42=5,K37,IF(L42=5,L37,IF(#REF!=5,#REF!,\"\"))))))))))))","v":""},null,5]
[null,null,6," ",null,null,null,null,{"$f":"IF(D61=0,\"\",IF(C42=6,C37,IF(D42=6,D37,IF(E42=6,E37,IF(F42=6,F37,IF(G42=6,G37,IF(H42=6,H37,IF(I42=6,I37,IF(J42=6,J37,IF(K42=6,K37,IF(L42=6,L37,IF(#REF!=6,#REF!,\"\"))))))))))))","v":""},null,6]
[null,null,7," ",null,null,null,null,{"$f":"IF(D61=0,\"\",IF(C42=7,C37,IF(D42=7,D37,IF(E42=7,E37,IF(F42=7,F37,IF(G42=7,G37,IF(H42=7,H37,IF(I42=7,I37,IF(J42=7,J37,IF(K42=7,K37,IF(L42=7,L37,IF(#REF!=7,#REF!,\"\"))))))))))))","v":""},null,7]
[null,null,8," ",null,null,null,null,{"$f":"IF(D61=0,\"\",IF(C42=8,C37,IF(D42=8,D37,IF(E42=8,E37,IF(F42=8,F37,IF(G42=8,G37,IF(H42=8,H37,IF(I42=8,I37,IF(J42=8,J37,IF(K42=8,K37,IF(L42=8,L37,IF(#REF!=8,#REF!,\"\"))))))))))))","v":""},null,8]
[null,null,9," ",null,null,null,null,{"$f":"IF(D61=0,\"\",IF(C42=9,C37,IF(D42=9,D37,IF(E42=9,E37,IF(F42=9,F37,IF(G42=9,G37,IF(H42=9,H37,IF(I42=9,I37,IF(J42=9,J37,IF(K42=9,K37,IF(L42=9,L37,IF(#REF!=9,#REF!,\"\"))))))))))))","v":""},null,9]
[null,null,10," ",null,null,null,null,{"$f":"IF(D61=0,\"\",IF(C42=10,C37,IF(D42=10,D37,IF(E42=10,E37,IF(F42=10,F37,IF(G42=10,G37,IF(H42=10,H37,IF(I42=10,I37,IF(J42=10,J37,IF(K42=10,K37,IF(L42=10,L37,IF(#REF!=10,#REF!,\"\"))))))))))))","v":""},null,10]
[]
[]
[]
[null,null,null,{"$f":"IF(C42=E64,C37,IF(D42=E64,D37,IF(E42=E64,E37,IF(F42=E64,F37,IF(G42=E64,G37,IF(H42=E64,H37,IF(I42=E64,I37,IF(J42=E64,J37,IF(K42=E64,K37,IF(L42=E64,L37,IF(#REF!=E64,#REF!,\"Ingen lev\")))))))))))","v":0}]
[]
[]
[null,null,null,null,{"$f":"Avropsblankett!E108","v":1}]
[]
[]
[null,null,null,"Vinnande ramavtalsleverantörs uppgifter"]
[null,null,null,"Ramavtalslev",{"$f":"IF(E64=K48,D48,IF(E64=K49,D49,IF(E64=K50,D50,IF(E64=K51,D51,IF(E64=K52,D52,IF(E64=K53,D53,IF(E64=K54,D54,IF(E64=K55,D55,IF(E64=K56,D56,IF(E64=K57,D57,\"\"))))))))))","v":"Ange vilken/vilka produkter och antal samt eventuella tillägg i de ljusgula rutorna på fliken avropsblankett som önskas avropas."}]
[null,null,null,"Organisationsnr",{"$f":"IF(E68=C4,C5,IF(E68=D4,D5,IF(E68=E4,E5,IF(E68=F4,F5,IF(E68=G4,G5,IF(E68=H4,H5,IF(E68=I4,I5,IF(E68=J4,J5,IF(E68=K4,K5,IF(E68=L4,L5,\"\"))))))))))","v":""}]
[null,null,null,"Kontaktperson",{"$f":"IF(E68=C4,C6,IF(E68=D4,D6,IF(E68=E4,E6,IF(E68=F4,F6,IF(E68=G4,G6,IF(E68=H4,H6,IF(E68=I4,I6,IF(E68=J4,J6,IF(E68=K4,K6,IF(E68=L4,L6,\"\"))))))))))","v":""}]
[null,null,null,"Telefonnummer",{"$f":"IF(E68=C4,C7,IF(E68=D4,D7,IF(E68=E4,E7,IF(E68=F4,F7,IF(E68=G4,G7,IF(E68=H4,H7,IF(E68=I4,I7,IF(E68=J4,J7,IF(E68=K4,K7,IF(E68=L4,L7,\"\"))))))))))","v":""}]
[null,null,null,"E-postadress för avrop",{"$f":"IF(E68=C4,C8,IF(E68=D4,D8,IF(E68=E4,E8,IF(E68=F4,F8,IF(E68=G4,G8,IF(E68=H4,H8,IF(E68=I4,I8,IF(E68=J4,J8,IF(E68=K4,K8,IF(E68=L4,L8,\"\"))))))))))","v":""}]

{"sheet":"Affischer","index":2,"n_rows":40,"n_cols":51,"rows_kept":40,"cut":false,"hidden":false,"merged":[[26,0,26,1],[16,4,17,4],[25,4,26,4],[16,5,17,5],[25,5,26,5],[25,34,26,34],[25,35,26,35],[16,39,17,39],[16,40,17,40],[25,39,26,39],[25,40,26,40],[24,0,24,1],[25,14,26,14],[25,15,26,15],[34,8,34,10],[0,12,0,15],[1,12,4,15],[5,12,5,15],[34,13,34,15],[25,9,26,9],[25,10,26,10],[7,14,8,14],[0,0,0,1],[1,0,1,1],[1,2,4,5],[7,4,8,4],[6,0,6,1],[7,0,7,1],[8,0,8,1],[7,5,8,5],[15,0,15,1],[34,3,34,5],[5,2,5,5],[5,0,5,1],[9,0,9,1],[16,0,16,1],[17,0,17,1],[25,0,25,1],[34,18,34,20],[34,23,34,25],[34,28,34,30],[7,29,8,29],[7,30,8,30],[16,29,17,29],[16,30,17,30],[25,29,26,29],[25,30,26,30],[25,24,26,24],[25,25,26,25],[16,19,17,19],[16,20,17,20],[25,19,26,19],[25,20,26,20],[34,33,34,35],[34,38,34,40],[34,43,34,45],[34,48,34,50],[5,32,5,35],[5,37,5,40],[5,42,5,45],[5,47,5,50],[7,34,8,34],[7,35,8,35],[7,40,8,40],[7,49,8,49],[7,50,8,50],[7,39,8,39],[7,44,8,44],[7,45,8,45],[16,50,17,50],[25,49,26,49],[25,50,26,50],[16,44,17,44],[16,45,17,45],[25,44,26,44],[25,45,26,45],[16,49,17,49],[1,42,4,45],[1,47,4,50],[0,32,0,35],[0,37,0,40],[0,42,0,45],[0,47,0,50],[0,17,0,20],[0,22,0,25],[0,27,0,30],[1,17,4,20],[1,22,4,25],[1,27,4,30],[0,2,0,5],[16,34,17,34],[1,32,4,35],[16,35,17,35],[7,9,8,9],[7,10,8,10],[16,9,17,9],[16,10,17,10],[1,37,4,40],[7,15,8,15],[16,14,17,14],[16,15,17,15],[5,17,5,20],[5,22,5,25],[5,27,5,30],[0,7,0,10],[1,7,4,10],[5,7,5,10],[7,24,8,24],[7,25,8,25],[16,24,17,24],[16,25,17,25],[7,19,8,19],[7,20,8,20]]}
["Affischer",null,{"$f":"Uträkningsblad!C4","v":"Bröderna Hansson H-tryck Aktiebolag"},null,null,null,null,{"$f":"Uträkningsblad!D4","v":"Elanders Sverige AB"},null,null,null,null,{"$f":"Uträkningsblad!E4","v":"Exakta Print AB"},null,null,null,null,{"$f":"Uträkningsblad!F4","v":"Kalmar Kuvert Sweden AB"},null,null,null,null,{"$f":"Uträkningsblad!G4","v":"Ljungbergs Tryckeri i Klippan AB"},null,null,null,null,{"$f":"Uträkningsblad!H4","v":"Scandinavian Print Group Sweden AB"},null,null,null,null,{"$f":"Uträkningsblad!I4","v":"Stema Specialtryck AB"},null,null,null,null,{"$f":"Uträkningsblad!J4","v":"Stibo Complete A/S"},null,null,null,null,{"$f":"Uträkningsblad!K4","v":"Åtta.45 Tryckeri AB"},null,null,null,null,{"$f":"Uträkningsblad!L4","v":"Leverantör 10"}]
[]
["Underlag:","A: Öppna filer. B: PDF/PDFx. "]
["Papper:","Bestruket gloss 170 g"]
["Tryck:","4+0"]
[null,null,"Priser lämnas i gulmarkerade fält nedan",null,null,null,null,"Priser lämnas i gulmarkerade fält nedan",null,null,null,null,"Priser lämnas i gulmarkerade fält nedan",null,null,null,null,"Priser lämnas i gulmarkerade fält nedan",null,null,null,null,"Priser lämnas i gulmarkerade fält nedan",null,null,null,null,"Priser lämnas i gulmarkerade fält nedan",null,null,null,null,"Priser lämnas i gulmarkerade fält nedan",null,null,null,null,"Priser lämnas i gulmarkerade fält nedan",null,null,null,null,"Priser lämnas i gulmarkerade fält nedan",null,null,null,null,"Priser lämnas i gulmarkerade fält nedan"]
["Affischer_1",null,"Upplaga","Ange pris","Följande","Ange pris",null,"Upplaga","Ange pris","Följande","Ange pris",null,"Upplaga","Ange pris","Följande","Ange pris",null,"Upplaga","Ange pris","Följande","Ange pris",null,"Upplaga","Ange pris","Följande","Ange pris",null,"Upplaga","Ange pris","Följande","Ange pris",null,"Upplaga","Ange pris","Följande","Ange pris",null,"Upplaga","Ange pris","Följande","Ange pris",null,"Upplaga","Ange pris","Följande","Ange pris",null,"Upplaga","Ange pris","Följande","Ange pris"]
["297 x 420 mm",null,100,758,50,91,null,100,790,50,80,null,100,1500,50,100,null,100,400,50,60,null,100,290,50,30,null,100,558,50,65,null,100,750,50,100,null,100,475,50,100,null,100,690,50,40,null,100,960,50,45]
["297 x 420 mm",null,500,1491,null,null,null,500,1420,null,null,null,500,1900,null,null,null,500,715,null,null,null,500,667,null,null,null,500,1074,null,null,null,500,1550,null,null,null,500,1150,null,null,null,500,2290,null,null,null,500,1315]
[null,null,null,{"$f":"IF(Avropsblankett!$C$28=$A$7,IF(Avropsblankett!$F$28=\"\",\"\",IF(Avropsblankett!$F$28<500,D8,D9)),\"\")","v":""},null,{"$f":"IF(Avropsblankett!$C$28=$A$7,IF(Avropsblankett!$F$28=\"\",\"\",IF(Avropsblankett!$F$28<500,((Avropsblankett!$F$28-100)*F8/50),((Avropsblankett!$F$28-500)*F8/50))),\"\")","v":""},null,null,{"$f":"IF(Avropsblankett!$C$28=$A$7,IF(Avropsblankett!$F$28=\"\",\"\",IF(Avropsblankett!$F$28<500,I8,I9)),\"\")","v":""},null,{"$f":"IF(Avropsblankett!$C$28=$A$7,IF(Avropsblankett!$F$28=\"\",\"\",IF(Avropsblankett!$F$28<500,((Avropsblankett!$F$28-100)*K8/50),((Avropsblankett!$F$28-500)*K8/50))),\"\")","v":""},null,null,{"$f":"IF(Avropsblankett!$C$28=$A$7,IF(Avropsblankett!$F$28=\"\",\"\",IF(Avropsblankett!$F$28<500,N8,N9)),\"\")","v":""},null,{"$f":"IF(Avropsblankett!$C$28=$A$7,IF(Avropsblankett!$F$28=\"\",\"\",IF(Avropsblankett!$F$28<500,((Avropsblankett!$F$28-100)*P8/50),((Avropsblankett!$F$28-500)*P8/50))),\"\")","v":""},null,null,{"$f":"IF(Avropsblankett!$C$28=$A$7,IF(Avropsblankett!$F$28=\"\",\"\",IF(Avropsblankett!$F$28<500,S8,S9)),\"\")","v":""},null,{"$f":"IF(Avropsblankett!$C$28=$A$7,IF(Avropsblankett!$F$28=\"\",\"\",IF(Avropsblankett!$F$28<500,((Avropsblankett!$F$28-100)*U8/50),((Avropsblankett!$F$28-500)*U8/50))),\"\")","v":""},null,null,{"$f":"IF(Avropsblankett!$C$28=$A$7,IF(Avropsblankett!$F$28=\"\",\"\",IF(Avropsblankett!$F$28<500,X8,X9)),\"\")","v":""},null,{"$f":"IF(Avropsblankett!$C$28=$A$7,IF(Avropsblankett!$F$28=\"\",\"\",IF(Avropsblankett!$F$28<500,((Avropsblankett!$F$28-100)*Z8/50),((Avropsblankett!$F$28-500)*Z8/50))),\"\")","v":""},null,null,{"$f":"IF(Avropsblankett!$C$28=$A$7,IF(Avropsblankett!$F$28=\"\",\"\",IF(Avropsblankett!$F$28<500,AC8,AC9)),\"\")","v":""},null,{"$f":"IF(Avropsblankett!$C$28=$A$7,IF(Avropsblankett!$F$28=\"\",\"\",IF(Avropsblankett!$F$28<500,((Avropsblankett!$F$28-100)*AE8/50),((Avropsblankett!$F$28-500)*AE8/50))),\"\")","v":""},null,null,{"$f":"IF(Avropsblankett!$C$28=$A$7,IF(Avropsblankett!$F$28=\"\",\"\",IF(Avropsblankett!$F$28<500,AH8,AH9)),\"\")","v":""},null,{"$f":"IF(Avropsblankett!$C$28=$A$7,IF(Avropsblankett!$F$28=\"\",\"\",IF(Avropsblankett!$F$28<500,((Avropsblankett!$F$28-100)*AJ8/50),((Avropsblankett!$F$28-500)*AJ8/50))),\"\")","v":""},null,null,{"$f":"IF(Avropsblankett!$C$28=$A$7,IF(Avropsblankett!$F$28=\"\",\"\",IF(Avropsblankett!$F$28<500,AM8,AM9)),\"\")","v":""},null,{"$f":"IF(Avropsblankett!$C$28=$A$7,IF(Avropsblankett!$F$28=\"\",\"\",IF(Avropsblankett!$F$28<500,((Avropsblankett!$F$28-100)*AO8/50),((Avropsblankett!$F$28-500)*AO8/50))),\"\")","v":""},null,null,{"$f":"IF(Avropsblankett!$C$28=$A$7,IF(Avropsblankett!$F$28=\"\",\"\",IF(Avropsblankett!$F$28<500,AR8,AR9)),\"\")","v":""},null,{"$f":"IF(Avropsblankett!$C$28=$A$7,IF(Avropsblankett!$F$28=\"\",\"\",IF(Avropsblankett!$F$28<500,((Avropsblankett!$F$28-100)*AT8/50),((Avropsblankett!$F$28-500)*AT8/50))),\"\")","v":""},null,null,{"$f":"IF(Avropsblankett!$C$28=$A$7,IF(Avropsblankett!$F$28=\"\",\"\",IF(Avropsblankett!$F$28<500,AW8,AW9)),\"\")","v":""},null,{"$f":"IF(Avropsblankett!$C$28=$A$7,IF(Avropsblankett!$F$28=\"\",\"\",IF(Avropsblankett!$F$28<500,((Avropsblankett!$F$28-100)*AY8/50),((Avropsblankett!$F$28-500)*AY8/50))),\"\")","v":""}]
[null,null,null,{"$f":"IF(Avropsblankett!$C$40=$A$7,IF(Avropsblankett!$F$40=\"\",\"\",IF(Avropsblankett!$F$40<500,D8,D9)),\"\")","v":""},null,{"$f":"IF(Avropsblankett!$C$40=$A$7,IF(Avropsblankett!$F$40=\"\",\"\",IF(Avropsblankett!$F$40<500,((Avropsblankett!$F$40-100)*F8/50),((Avropsblankett!$F$40-500)*F8/50))),\"\")","v":""},null,null,{"$f":"IF(Avropsblankett!$C$40=$A$7,IF(Avropsblankett!$F$40=\"\",\"\",IF(Avropsblankett!$F$40<500,I8,I9)),\"\")","v":""},null,{"$f":"IF(Avropsblankett!$C$40=$A$7,IF(Avropsblankett!$F$40=\"\",\"\",IF(Avropsblankett!$F$40<500,((Avropsblankett!$F$40-100)*K8/50),((Avropsblankett!$F$40-500)*K8/50))),\"\")","v":""},null,null,{"$f":"IF(Avropsblankett!$C$40=$A$7,IF(Avropsblankett!$F$40=\"\",\"\",IF(Avropsblankett!$F$40<500,N8,N9)),\"\")","v":""},null,{"$f":"IF(Avropsblankett!$C$40=$A$7,IF(Avropsblankett!$F$40=\"\",\"\",IF(Avropsblankett!$F$40<500,((Avropsblankett!$F$40-100)*P8/50),((Avropsblankett!$F$40-500)*P8/50))),\"\")","v":""},null,null,{"$f":"IF(Avropsblankett!$C$40=$A$7,IF(Avropsblankett!$F$40=\"\",\"\",IF(Avropsblankett!$F$40<500,S8,S9)),\"\")","v":""},null,{"$f":"IF(Avropsblankett!$C$40=$A$7,IF(Avropsblankett!$F$40=\"\",\"\",IF(Avropsblankett!$F$40<500,((Avropsblankett!$F$40-100)*U8/50),((Avropsblankett!$F$40-500)*U8/50))),\"\")","v":""},null,null,{"$f":"IF(Avropsblankett!$C$40=$A$7,IF(Avropsblankett!$F$40=\"\",\"\",IF(Avropsblankett!$F$40<500,X8,X9)),\"\")","v":""},null,{"$f":"IF(Avropsblankett!$C$40=$A$7,IF(Avropsblankett!$F$40=\"\",\"\",IF(Avropsblankett!$F$40<500,((Avropsblankett!$F$40-100)*Z8/50),((Avropsblankett!$F$40-500)*Z8/50))),\"\")","v":""},null,null,{"$f":"IF(Avropsblankett!$C$40=$A$7,IF(Avropsblankett!$F$40=\"\",\"\",IF(Avropsblankett!$F$40<500,AC8,AC9)),\"\")","v":""},null,{"$f":"IF(Avropsblankett!$C$40=$A$7,IF(Avropsblankett!$F$40=\"\",\"\",IF(Avropsblankett!$F$40<500,((Avropsblankett!$F$40-100)*AE8/50),((Avropsblankett!$F$40-500)*AE8/50))),\"\")","v":""},null,null,{"$f":"IF(Avropsblankett!$C$40=$A$7,IF(Avropsblankett!$F$40=\"\",\"\",IF(Avropsblankett!$F$40<500,AH8,AH9)),\"\")","v":""},null,{"$f":"IF(Avropsblankett!$C$40=$A$7,IF(Avropsblankett!$F$40=\"\",\"\",IF(Avropsblankett!$F$40<500,((Avropsblankett!$F$40-100)*AJ8/50),((Avropsblankett!$F$40-500)*AJ8/50))),\"\")","v":""},null,null,{"$f":"IF(Avropsblankett!$C$40=$A$7,IF(Avropsblankett!$F$40=\"\",\"\",IF(Avropsblankett!$F$40<500,AM8,AM9)),\"\")","v":""},null,{"$f":"IF(Avropsblankett!$C$40=$A$7,IF(Avropsblankett!$F$40=\"\",\"\",IF(Avropsblankett!$F$40<500,((Avropsblankett!$F$40-100)*AO8/50),((Avropsblankett!$F$40-500)*AO8/50))),\"\")","v":""},null,null,{"$f":"IF(Avropsblankett!$C$40=$A$7,IF(Avropsblankett!$F$40=\"\",\"\",IF(Avropsblankett!$F$40<500,AR8,AR9)),\"\")","v":""},null,{"$f":"IF(Avropsblankett!$C$40=$A$7,IF(Avropsblankett!$F$40=\"\",\"\",IF(Avropsblankett!$F$40<500,((Avropsblankett!$F$40-100)*AT8/50),((Avropsblankett!$F$40-500)*AT8/50))),\"\")","v":""},null,null,{"$f":"IF(Avropsblankett!$C$40=$A$7,IF(Avropsblankett!$F$40=\"\",\"\",IF(Avropsblankett!$F$40<500,AW8,AW9)),\"\")","v":""},null,{"$f":"IF(Avropsblankett!$C$40=$A$7,IF(Avropsblankett!$F$40=\"\",\"\",IF(Avropsblankett!$F$40<500,((Avropsblankett!$F$40-100)*AY8/50),((Avropsblankett!$F$40-500)*AY8/50))),\"\")","v":""}]
[null,null,null,{"$f":"IF(Avropsblankett!$C$52=$A$7,IF(Avropsblankett!$F$52=\"\",\"\",IF(Avropsblankett!$F$52<500,D8,D9)),\"\")","v":""},null,{"$f":"IF(Avropsblankett!$C$52=$A$7,IF(Avropsblankett!$F$52=\"\",\"\",IF(Avropsblankett!$F$52<500,((Avropsblankett!$F$52-100)*F8/50),((Avropsblankett!$F$52-500)*F8/50))),\"\")","v":""},null,null,{"$f":"IF(Avropsblankett!$C$52=$A$7,IF(Avropsblankett!$F$52=\"\",\"\",IF(Avropsblankett!$F$52<500,I8,I9)),\"\")","v":""},null,{"$f":"IF(Avropsblankett!$C$52=$A$7,IF(Avropsblankett!$F$52=\"\",\"\",IF(Avropsblankett!$F$52<500,((Avropsblankett!$F$52-100)*K8/50),((Avropsblankett!$F$52-500)*K8/50))),\"\")","v":""},null,null,{"$f":"IF(Avropsblankett!$C$52=$A$7,IF(Avropsblankett!$F$52=\"\",\"\",IF(Avropsblankett!$F$52<500,N8,N9)),\"\")","v":""},null,{"$f":"IF(Avropsblankett!$C$52=$A$7,IF(Avropsblankett!$F$52=\"\",\"\",IF(Avropsblankett!$F$52<500,((Avropsblankett!$F$52-100)*P8/50),((Avropsblankett!$F$52-500)*P8/50))),\"\")","v":""},null,null,{"$f":"IF(Avropsblankett!$C$52=$A$7,IF(Avropsblankett!$F$52=\"\",\"\",IF(Avropsblankett!$F$52<500,S8,S9)),\"\")","v":""},null,{"$f":"IF(Avropsblankett!$C$52=$A$7,IF(Avropsblankett!$F$52=\"\",\"\",IF(Avropsblankett!$F$52<500,((Avropsblankett!$F$52-100)*U8/50),((Avropsblankett!$F$52-500)*U8/50))),\"\")","v":""},null,null,{"$f":"IF(Avropsblankett!$C$52=$A$7,IF(Avropsblankett!$F$52=\"\",\"\",IF(Avropsblankett!$F$52<500,X8,X9)),\"\")","v":""},null,{"$f":"IF(Avropsblankett!$C$52=$A$7,IF(Avropsblankett!$F$52=\"\",\"\",IF(Avropsblankett!$F$52<500,((Avropsblankett!$F$52-100)*Z8/50),((Avropsblankett!$F$52-500)*Z8/50))),\"\")","v":""},null,null,{"$f":"IF(Avropsblankett!$C$52=$A$7,IF(Avropsblankett!$F$52=\"\",\"\",IF(Avropsblankett!$F$52<500,AC8,AC9)),\"\")","v":""},null,{"$f":"IF(Avropsblankett!$C$52=$A$7,IF(Avropsblankett!$F$52=\"\",\"\",IF(Avropsblankett!$F$52<500,((Avropsblankett!$F$52-100)*AE8/50),((Avropsblankett!$F$52-500)*AE8/50))),\"\")","v":""},null,null,{"$f":"IF(Avropsblankett!$C$52=$A$7,IF(Avropsblankett!$F$52=\"\",\"\",IF(Avropsblankett!$F$52<500,AH8,AH9)),\"\")","v":""},null,{"$f":"IF(Avropsblankett!$C$52=$A$7,IF(Avropsblankett!$F$52=\"\",\"\",IF(Avropsblankett!$F$52<500,((Avropsblankett!$F$52-100)*AJ8/50),((Avropsblankett!$F$52-500)*AJ8/50))),\"\")","v":""},null,null,{"$f":"IF(Avropsblankett!$C$52=$A$7,IF(Avropsblankett!$F$52=\"\",\"\",IF(Avropsblankett!$F$52<500,AM8,AM9)),\"\")","v":""},null,{"$f":"IF(Avropsblankett!$C$52=$A$7,IF(Avropsblankett!$F$52=\"\",\"\",IF(Avropsblankett!$F$52<500,((Avropsblankett!$F$52-100)*AO8/50),((Avropsblankett!$F$52-500)*AO8/50))),\"\")","v":""},null,null,{"$f":"IF(Avropsblankett!$C$52=$A$7,IF(Avropsblankett!$F$52=\"\",\"\",IF(Avropsblankett!$F$52<500,AR8,AR9)),\"\")","v":""},null,{"$f":"IF(Avropsblankett!$C$52=$A$7,IF(Avropsblankett!$F$52=\"\",\"\",IF(Avropsblankett!$F$52<500,((Avropsblankett!$F$52-100)*AT8/50),((Avropsblankett!$F$52-500)*AT8/50))),\"\")","v":""},null,null,{"$f":"IF(Avropsblankett!$C$52=$A$7,IF(Avropsblankett!$F$52=\"\",\"\",IF(Avropsblankett!$F$52<500,AW8,AW9)),\"\")","v":""},null,{"$f":"IF(Avropsblankett!$C$52=$A$7,IF(Avropsblankett!$F$52=\"\",\"\",IF(Avropsblankett!$F$52<500,((Avropsblankett!$F$52-100)*AY8/50),((Avropsblankett!$F$52-500)*AY8/50))),\"\")","v":""}]
[null,null,null,{"$f":"IF(Avropsblankett!$C$64=$A$7,IF(Avropsblankett!$F$64=\"\",\"\",IF(Avropsblankett!$F$64<500,D8,D9)),\"\")","v":""},null,{"$f":"IF(Avropsblankett!$C$64=$A$7,IF(Avropsblankett!$F$64=\"\",\"\",IF(Avropsblankett!$F$64<500,((Avropsblankett!$F$64-100)*F8/50),((Avropsblankett!$F$64-500)*F8/50))),\"\")","v":""},null,null,{"$f":"IF(Avropsblankett!$C$64=$A$7,IF(Avropsblankett!$F$64=\"\",\"\",IF(Avropsblankett!$F$64<500,I8,I9)),\"\")","v":""},null,{"$f":"IF(Avropsblankett!$C$64=$A$7,IF(Avropsblankett!$F$64=\"\",\"\",IF(Avropsblankett!$F$64<500,((Avropsblankett!$F$64-100)*K8/50),((Avropsblankett!$F$64-500)*K8/50))),\"\")","v":""},null,null,{"$f":"IF(Avropsblankett!$C$64=$A$7,IF(Avropsblankett!$F$64=\"\",\"\",IF(Avropsblankett!$F$64<500,N8,N9)),\"\")","v":""},null,{"$f":"IF(Avropsblankett!$C$64=$A$7,IF(Avropsblankett!$F$64=\"\",\"\",IF(Avropsblankett!$F$64<500,((Avropsblankett!$F$64-100)*P8/50),((Avropsblankett!$F$64-500)*P8/50))),\"\")","v":""},null,null,{"$f":"IF(Avropsblankett!$C$64=$A$7,IF(Avropsblankett!$F$64=\"\",\"\",IF(Avropsblankett!$F$64<500,S8,S9)),\"\")","v":""},null,{"$f":"IF(Avropsblankett!$C$64=$A$7,IF(Avropsblankett!$F$64=\"\",\"\",IF(Avropsblankett!$F$64<500,((Avropsblankett!$F$64-100)*U8/50),((Avropsblankett!$F$64-500)*U8/50))),\"\")","v":""},null,null,{"$f":"IF(Avropsblankett!$C$64=$A$7,IF(Avropsblankett!$F$64=\"\",\"\",IF(Avropsblankett!$F$64<500,X8,X9)),\"\")","v":""},null,{"$f":"IF(Avropsblankett!$C$64=$A$7,IF(Avropsblankett!$F$64=\"\",\"\",IF(Avropsblankett!$F$64<500,((Avropsblankett!$F$64-100)*Z8/50),((Avropsblankett!$F$64-500)*Z8/50))),\"\")","v":""},null,null,{"$f":"IF(Avropsblankett!$C$64=$A$7,IF(Avropsblankett!$F$64=\"\",\"\",IF(Avropsblankett!$F$64<500,AC8,AC9)),\"\")","v":""},null,{"$f":"IF(Avropsblankett!$C$64=$A$7,IF(Avropsblankett!$F$64=\"\",\"\",IF(Avropsblankett!$F$64<500,((Avropsblankett!$F$64-100)*AE8/50),((Avropsblankett!$F$64-500)*AE8/50))),\"\")","v":""},null,null,{"$f":"IF(Avropsblankett!$C$64=$A$7,IF(Avropsblankett!$F$64=\"\",\"\",IF(Avropsblankett!$F$64<500,AH8,AH9)),\"\")","v":""},null,{"$f":"IF(Avropsblankett!$C$64=$A$7,IF(Avropsblankett!$F$64=\"\",\"\",IF(Avropsblankett!$F$64<500,((Avropsblankett!$F$64-100)*AJ8/50),((Avropsblankett!$F$64-500)*AJ8/50))),\"\")","v":""},null,null,{"$f":"IF(Avropsblankett!$C$64=$A$7,IF(Avropsblankett!$F$64=\"\",\"\",IF(Avropsblankett!$F$64<500,AM8,AM9)),\"\")","v":""},null,{"$f":"IF(Avropsblankett!$C$64=$A$7,IF(Avropsblankett!$F$64=\"\",\"\",IF(Avropsblankett!$F$64<500,((Avropsblankett!$F$64-100)*AO8/50),((Avropsblankett!$F$64-500)*AO8/50))),\"\")","v":""},null,null,{"$f":"IF(Avropsblankett!$C$64=$A$7,IF(Avropsblankett!$F$64=\"\",\"\",IF(Avropsblankett!$F$64<500,AR8,AR9)),\"\")","v":""},null,{"$f":"IF(Avropsblankett!$C$64=$A$7,IF(Avropsblankett!$F$64=\"\",\"\",IF(Avropsblankett!$F$64<500,((Avropsblankett!$F$64-100)*AT8/50),((Avropsblankett!$F$64-500)*AT8/50))),\"\")","v":""},null,null,{"$f":"IF(Avropsblankett!$C$64=$A$7,IF(Avropsblankett!$F$64=\"\",\"\",IF(Avropsblankett!$F$64<500,AW8,AW9)),\"\")","v":""},null,{"$f":"IF(Avropsblankett!$C$64=$A$7,IF(Avropsblankett!$F$64=\"\",\"\",IF(Avropsblankett!$F$64<500,((Avropsblankett!$F$64-100)*AY8/50),((Avropsblankett!$F$64-500)*AY8/50))),\"\")","v":""}]
[null,null,null,{"$f":"IF(Avropsblankett!$C$76=$A$7,IF(Avropsblankett!$F$76=\"\",\"\",IF(Avropsblankett!$F$76<500,D8,D9)),\"\")","v":""},null,{"$f":"IF(Avropsblankett!$C$76=$A$7,IF(Avropsblankett!$F$76=\"\",\"\",IF(Avropsblankett!$F$76<500,((Avropsblankett!$F$76-100)*F8/50),((Avropsblankett!$F$76-500)*F8/50))),\"\")","v":""},null,null,{"$f":"IF(Avropsblankett!$C$76=$A$7,IF(Avropsblankett!$F$76=\"\",\"\",IF(Avropsblankett!$F$76<500,I8,I9)),\"\")","v":""},null,{"$f":"IF(Avropsblankett!$C$76=$A$7,IF(Avropsblankett!$F$76=\"\",\"\",IF(Avropsblankett!$F$76<500,((Avropsblankett!$F$76-100)*K8/50),((Avropsblankett!$F$76-500)*K8/50))),\"\")","v":""},null,null,{"$f":"IF(Avropsblankett!$C$76=$A$7,IF(Avropsblankett!$F$76=\"\",\"\",IF(Avropsblankett!$F$76<500,N8,N9)),\"\")","v":""},null,{"$f":"IF(Avropsblankett!$C$76=$A$7,IF(Avropsblankett!$F$76=\"\",\"\",IF(Avropsblankett!$F$76<500,((Avropsblankett!$F$76-100)*P8/50),((Avropsblankett!$F$76-500)*P8/50))),\"\")","v":""},null,null,{"$f":"IF(Avropsblankett!$C$76=$A$7,IF(Avropsblankett!$F$76=\"\",\"\",IF(Avropsblankett!$F$76<500,S8,S9)),\"\")","v":""},null,{"$f":"IF(Avropsblankett!$C$76=$A$7,IF(Avropsblankett!$F$76=\"\",\"\",IF(Avropsblankett!$F$76<500,((Avropsblankett!$F$76-100)*U8/50),((Avropsblankett!$F$76-500)*U8/50))),\"\")","v":""},null,null,{"$f":"IF(Avropsblankett!$C$76=$A$7,IF(Avropsblankett!$F$76=\"\",\"\",IF(Avropsblankett!$F$76<500,X8,X9)),\"\")","v":""},null,{"$f":"IF(Avropsblankett!$C$76=$A$7,IF(Avropsblankett!$F$76=\"\",\"\",IF(Avropsblankett!$F$76<500,((Avropsblankett!$F$76-100)*Z8/50),((Avropsblankett!$F$76-500)*Z8/50))),\"\")","v":""},null,null,{"$f":"IF(Avropsblankett!$C$76=$A$7,IF(Avropsblankett!$F$76=\"\",\"\",IF(Avropsblankett!$F$76<500,AC8,AC9)),\"\")","v":""},null,{"$f":"IF(Avropsblankett!$C$76=$A$7,IF(Avropsblankett!$F$76=\"\",\"\",IF(Avropsblankett!$F$76<500,((Avropsblankett!$F$76-100)*AE8/50),((Avropsblankett!$F$76-500)*AE8/50))),\"\")","v":""},null,null,{"$f":"IF(Avropsblankett!$C$76=$A$7,IF(Avropsblankett!$F$76=\"\",\"\",IF(Avropsblankett!$F$76<500,AH8,AH9)),\"\")","v":""},null,{"$f":"IF(Avropsblankett!$C$76=$A$7,IF(Avropsblankett!$F$76=\"\",\"\",IF(Avropsblankett!$F$76<500,((Avropsblankett!$F$76-100)*AJ8/50),((Avropsblankett!$F$76-500)*AJ8/50))),\"\")","v":""},null,null,{"$f":"IF(Avropsblankett!$C$76=$A$7,IF(Avropsblankett!$F$76=\"\",\"\",IF(Avropsblankett!$F$76<500,AM8,AM9)),\"\")","v":""},null,{"$f":"IF(Avropsblankett!$C$76=$A$7,IF(Avropsblankett!$F$76=\"\",\"\",IF(Avropsblankett!$F$76<500,((Avropsblankett!$F$76-100)*AO8/50),((Avropsblankett!$F$76-500)*AO8/50))),\"\")","v":""},null,null,{"$f":"IF(Avropsblankett!$C$76=$A$7,IF(Avropsblankett!$F$76=\"\",\"\",IF(Avropsblankett!$F$76<500,AR8,AR9)),\"\")","v":""},null,{"$f":"IF(Avropsblankett!$C$76=$A$7,IF(Avropsblankett!$F$76=\"\",\"\",IF(Avropsblankett!$F$76<500,((Avropsblankett!$F$76-100)*AT8/50),((Avropsblankett!$F$76-500)*AT8/50))),\"\")","v":""},null,null,{"$f":"IF(Avropsblankett!$C$76=$A$7,IF(Avropsblankett!$F$76=\"\",\"\",IF(Avropsblankett!$F$76<500,AW8,AW9)),\"\")","v":""},null,{"$f":"IF(Avropsblankett!$C$76=$A$7,IF(Avropsblankett!$F$76=\"\",\"\",IF(Avropsblankett!$F$76<500,((Avropsblankett!$F$76-100)*AY8/50),((Avropsblankett!$F$76-500)*AY8/50))),\"\")","v":""}]
[null,null,null,{"$f":"SUM(D10:D14)","v":0},null,{"$f":"SUM(F10:F14)","v":0},null,null,{"$f":"SUM(I10:I14)","v":0},null,{"$f":"SUM(K10:K14)","v":0},null,null,{"$f":"SUM(N10:N14)","v":0},null,{"$f":"SUM(P10:P14)","v":0},null,null,{"$f":"SUM(S10:S14)","v":0},null,{"$f":"SUM(U10:U14)","v":0},null,null,{"$f":"SUM(X10:X14)","v":0},null,{"$f":"SUM(Z10:Z14)","v":0},null,null,{"$f":"SUM(AC10:AC14)","v":0},null,{"$f":"SUM(AE10:AE14)","v":0},null,null,{"$f":"SUM(AH10:AH14)","v":0},null,{"$f":"SUM(AJ10:AJ14)","v":0},null,null,{"$f":"SUM(AM10:AM14)","v":0},null,{"$f":"SUM(AO10:AO14)","v":0},null,null,{"$f":"SUM(AR10:AR14)","v":0},null,{"$f":"SUM(AT10:AT14)","v":0},null,null,{"$f":"SUM(AW10:AW14)","v":0},null,{"$f":"SUM(AY10:AY14)","v":0}]
["Affischer_2",null,"Upplaga","Ange pris","Följande","Ange pris",null,"Upplaga","Ange pris","Följande","Ange pris",null,"Upplaga","Ange pris","Följande","Ange pris",null,"Upplaga","Ange pris","Följande","Ange pris",null,"Upplaga","Ange pris","Följande","Ange pris",null,"Upplaga","Ange pris","Följande","Ange pris",null,"Upplaga","Ange pris","Följande","Ange pris",null,"Upplaga","Ange pris","Följande","Ange pris",null,"Upplaga","Ange pris","Följande","Ange pris",null,"Upplaga","Ange pris","Följande","Ange pris"]
["500 x 700 mm",null,100,1200,50,237,null,100,3630.0000000000005,50,165,null,100,2300,50,225,null,100,1450,50,100,null,100,995,50,50,null,100,740,50,141,null,100,2000,50,150,null,100,2350,50,280,null,100,2450,50,70,null,100,2115,50,125]
["500 x 700 mm",null,500,3100,null,null,null,500,4950,null,null,null,500,3600,null,null,null,500,2400,null,null,null,500,1683,null,null,null,500,1918,null,null,null,500,2600,null,null,null,500,2980,null,null,null,500,2900,null,null,null,500,2585]
[null,null,null,{"$f":"IF(Avropsblankett!$C$28=$A$16,IF(Avropsblankett!$F$28=\"\",\"\",IF(Avropsblankett!$F$28<500,D17,D18)),\"\")","v":""},null,{"$f":"IF(Avropsblankett!$C$28=$A$16,IF(Avropsblankett!$F$28=\"\",\"\",IF(Avropsblankett!$F$28<500,((Avropsblankett!$F$28-100)*F17/50),((Avropsblankett!$F$28-500)*F17/50))),\"\")","v":""},null,null,{"$f":"IF(Avropsblankett!$C$28=$A$16,IF(Avropsblankett!$F$28=\"\",\"\",IF(Avropsblankett!$F$28<500,I17,I18)),\"\")","v":""},null,{"$f":"IF(Avropsblankett!$C$28=$A$16,IF(Avropsblankett!$F$28=\"\",\"\",IF(Avropsblankett!$F$28<500,((Avropsblankett!$F$28-100)*K17/50),((Avropsblankett!$F$28-500)*K17/50))),\"\")","v":""},null,null,{"$f":"IF(Avropsblankett!$C$28=$A$16,IF(Avropsblankett!$F$28=\"\",\"\",IF(Avropsblankett!$F$28<500,N17,N18)),\"\")","v":""},null,{"$f":"IF(Avropsblankett!$C$28=$A$16,IF(Avropsblankett!$F$28=\"\",\"\",IF(Avropsblankett!$F$28<500,((Avropsblankett!$F$28-100)*P17/50),((Avropsblankett!$F$28-500)*P17/50))),\"\")","v":""},null,null,{"$f":"IF(Avropsblankett!$C$28=$A$16,IF(Avropsblankett!$F$28=\"\",\"\",IF(Avropsblankett!$F$28<500,S17,S18)),\"\")","v":""},null,{"$f":"IF(Avropsblankett!$C$28=$A$16,IF(Avropsblankett!$F$28=\"\",\"\",IF(Avropsblankett!$F$28<500,((Avropsblankett!$F$28-100)*U17/50),((Avropsblankett!$F$28-500)*U17/50))),\"\")","v":""},null,null,{"$f":"IF(Avropsblankett!$C$28=$A$16,IF(Avropsblankett!$F$28=\"\",\"\",IF(Avropsblankett!$F$28<500,X17,X18)),\"\")","v":""},null,{"$f":"IF(Avropsblankett!$C$28=$A$16,IF(Avropsblankett!$F$28=\"\",\"\",IF(Avropsblankett!$F$28<500,((Avropsblankett!$F$28-100)*Z17/50),((Avropsblankett!$F$28-500)*Z17/50))),\"\")","v":""},null,null,{"$f":"IF(Avropsblankett!$C$28=$A$16,IF(Avropsblankett!$F$28=\"\",\"\",IF(Avropsblankett!$F$28<500,AC17,AC18)),\"\")","v":""},null,{"$f":"IF(Avropsblankett!$C$28=$A$16,IF(Avropsblankett!$F$28=\"\",\"\",IF(Avropsblankett!$F$28<500,((Avropsblankett!$F$28-100)*AE17/50),((Avropsblankett!$F$28-500)*AE17/50))),\"\")","v":""},null,null,{"$f":"IF(Avropsblankett!$C$28=$A$16,IF(Avropsblankett!$F$28=\"\",\"\",IF(Avropsblankett!$F$28<500,AH17,AH18)),\"\")","v":""},null,{"$f":"IF(Avropsblankett!$C$28=$A$16,IF(Avropsblankett!$F$28=\"\",\"\",IF(Avropsblankett!$F$28<500,((Avropsblankett!$F$28-100)*AJ17/50),((Avropsblankett!$F$28-500)*AJ17/50))),\"\")","v":""},null,null,{"$f":"IF(Avropsblankett!$C$28=$A$16,IF(Avropsblankett!$F$28=\"\",\"\",IF(Avropsblankett!$F$28<500,AM17,AM18)),\"\")","v":""},null,{"$f":"IF(Avropsblankett!$C$28=$A$16,IF(Avropsblankett!$F$28=\"\",\"\",IF(Avropsblankett!$F$28<500,((Avropsblankett!$F$28-100)*AO17/50),((Avropsblankett!$F$28-500)*AO17/50))),\"\")","v":""},null,null,{"$f":"IF(Avropsblankett!$C$28=$A$16,IF(Avropsblankett!$F$28=\"\",\"\",IF(Avropsblankett!$F$28<500,AR17,AR18)),\"\")","v":""},null,{"$f":"IF(Avropsblankett!$C$28=$A$16,IF(Avropsblankett!$F$28=\"\",\"\",IF(Avropsblankett!$F$28<500,((Avropsblankett!$F$28-100)*AT17/50),((Avropsblankett!$F$28-500)*AT17/50))),\"\")","v":""},null,null,{"$f":"IF(Avropsblankett!$C$28=$A$16,IF(Avropsblankett!$F$28=\"\",\"\",IF(Avropsblankett!$F$28<500,AW17,AW18)),\"\")","v":""},null,{"$f":"IF(Avropsblankett!$C$28=$A$16,IF(Avropsblankett!$F$28=\"\",\"\",IF(Avropsblankett!$F$28<500,((Avropsblankett!$F$28-100)*AY17/50),((Avropsblankett!$F$28-500)*AY17/50))),\"\")","v":""}]
[null,null,null,{"$f":"IF(Avropsblankett!$C$40=$A$16,IF(Avropsblankett!$F$40=\"\",\"\",IF(Avropsblankett!$F$40<500,D17,D18)),\"\")","v":""},null,{"$f":"IF(Avropsblankett!$C$40=$A$16,IF(Avropsblankett!$F$40=\"\",\"\",IF(Avropsblankett!$F$40<500,((Avropsblankett!$F$40-100)*F17/50),((Avropsblankett!$F$40-500)*F17/50))),\"\")","v":""},null,null,{"$f":"IF(Avropsblankett!$C$40=$A$16,IF(Avropsblankett!$F$40=\"\",\"\",IF(Avropsblankett!$F$40<500,I17,I18)),\"\")","v":""},null,{"$f":"IF(Avropsblankett!$C$40=$A$16,IF(Avropsblankett!$F$40=\"\",\"\",IF(Avropsblankett!$F$40<500,((Avropsblankett!$F$40-100)*K17/50),((Avropsblankett!$F$40-500)*K17/50))),\"\")","v":""},null,null,{"$f":"IF(Avropsblankett!$C$40=$A$16,IF(Avropsblankett!$F$40=\"\",\"\",IF(Avropsblankett!$F$40<500,N17,N18)),\"\")","v":""},null,{"$f":"IF(Avropsblankett!$C$40=$A$16,IF(Avropsblankett!$F$40=\"\",\"\",IF(Avropsblankett!$F$40<500,((Avropsblankett!$F$40-100)*P17/50),((Avropsblankett!$F$40-500)*P17/50))),\"\")","v":""},null,null,{"$f":"IF(Avropsblankett!$C$40=$A$16,IF(Avropsblankett!$F$40=\"\",\"\",IF(Avropsblankett!$F$40<500,S17,S18)),\"\")","v":""},null,{"$f":"IF(Avropsblankett!$C$40=$A$16,IF(Avropsblankett!$F$40=\"\",\"\",IF(Avropsblankett!$F$40<500,((Avropsblankett!$F$40-100)*U17/50),((Avropsblankett!$F$40-500)*U17/50))),\"\")","v":""},null,null,{"$f":"IF(Avropsblankett!$C$40=$A$16,IF(Avropsblankett!$F$40=\"\",\"\",IF(Avropsblankett!$F$40<500,X17,X18)),\"\")","v":""},null,{"$f":"IF(Avropsblankett!$C$40=$A$16,IF(Avropsblankett!$F$40=\"\",\"\",IF(Avropsblankett!$F$40<500,((Avropsblankett!$F$40-100)*Z17/50),((Avropsblankett!$F$40-500)*Z17/50))),\"\")","v":""},null,null,{"$f":"IF(Avropsblankett!$C$40=$A$16,IF(Avropsblankett!$F$40=\"\",\"\",IF(Avropsblankett!$F$40<500,AC17,AC18)),\"\")","v":""},null,{"$f":"IF(Avropsblankett!$C$40=$A$16,IF(Avropsblankett!$F$40=\"\",\"\",IF(Avropsblankett!$F$40<500,((Avropsblankett!$F$40-100)*AE17/50),((Avropsblankett!$F$40-500)*AE17/50))),\"\")","v":""},null,null,{"$f":"IF(Avropsblankett!$C$40=$A$16,IF(Avropsblankett!$F$40=\"\",\"\",IF(Avropsblankett!$F$40<500,AH17,AH18)),\"\")","v":""},null,{"$f":"IF(Avropsblankett!$C$40=$A$16,IF(Avropsblankett!$F$40=\"\",\"\",IF(Avropsblankett!$F$40<500,((Avropsblankett!$F$40-100)*AJ17/50),((Avropsblankett!$F$40-500)*AJ17/50))),\"\")","v":""},null,null,{"$f":"IF(Avropsblankett!$C$40=$A$16,IF(Avropsblankett!$F$40=\"\",\"\",IF(Avropsblankett!$F$40<500,AM17,AM18)),\"\")","v":""},null,{"$f":"IF(Avropsblankett!$C$40=$A$16,IF(Avropsblankett!$F$40=\"\",\"\",IF(Avropsblankett!$F$40<500,((Avropsblankett!$F$40-100)*AO17/50),((Avropsblankett!$F$40-500)*AO17/50))),\"\")","v":""},null,null,{"$f":"IF(Avropsblankett!$C$40=$A$16,IF(Avropsblankett!$F$40=\"\",\"\",IF(Avropsblankett!$F$40<500,AR17,AR18)),\"\")","v":""},null,{"$f":"IF(Avropsblankett!$C$40=$A$16,IF(Avropsblankett!$F$40=\"\",\"\",IF(Avropsblankett!$F$40<500,((Avropsblankett!$F$40-100)*AT17/50),((Avropsblankett!$F$40-500)*AT17/50))),\"\")","v":""},null,null,{"$f":"IF(Avropsblankett!$C$40=$A$16,IF(Avropsblankett!$F$40=\"\",\"\",IF(Avropsblankett!$F$40<500,AW17,AW18)),\"\")","v":""},null,{"$f":"IF(Avropsblankett!$C$40=$A$16,IF(Avropsblankett!$F$40=\"\",\"\",IF(Avropsblankett!$F$40<500,((Avropsblankett!$F$40-100)*AY17/50),((Avropsblankett!$F$40-500)*AY17/50))),\"\")","v":""}]
[null,null,null,{"$f":"IF(Avropsblankett!$C$52=$A$16,IF(Avropsblankett!$F$52=\"\",\"\",IF(Avropsblankett!$F$52<500,D17,D18)),\"\")","v":""},null,{"$f":"IF(Avropsblankett!$C$52=$A$16,IF(Avropsblankett!$F$52=\"\",\"\",IF(Avropsblankett!$F$52<500,((Avropsblankett!$F$52-100)*F17/50),((Avropsblankett!$F$52-500)*F17/50))),\"\")","v":""},null,null,{"$f":"IF(Avropsblankett!$C$52=$A$16,IF(Avropsblankett!$F$52=\"\",\"\",IF(Avropsblankett!$F$52<500,I17,I18)),\"\")","v":""},null,{"$f":"IF(Avropsblankett!$C$52=$A$16,IF(Avropsblankett!$F$52=\"\",\"\",IF(Avropsblankett!$F$52<500,((Avropsblankett!$F$52-100)*K17/50),((Avropsblankett!$F$52-500)*K17/50))),\"\")","v":""},null,null,{"$f":"IF(Avropsblankett!$C$52=$A$16,IF(Avropsblankett!$F$52=\"\",\"\",IF(Avropsblankett!$F$52<500,N17,N18)),\"\")","v":""},null,{"$f":"IF(Avropsblankett!$C$52=$A$16,IF(Avropsblankett!$F$52=\"\",\"\",IF(Avropsblankett!$F$52<500,((Avropsblankett!$F$52-100)*P17/50),((Avropsblankett!$F$52-500)*P17/50))),\"\")","v":""},null,null,{"$f":"IF(Avropsblankett!$C$52=$A$16,IF(Avropsblankett!$F$52=\"\",\"\",IF(Avropsblankett!$F$52<500,S17,S18)),\"\")","v":""},null,{"$f":"IF(Avropsblankett!$C$52=$A$16,IF(Avropsblankett!$F$52=\"\",\"\",IF(Avropsblankett!$F$52<500,((Avropsblankett!$F$52-100)*U17/50),((Avropsblankett!$F$52-500)*U17/50))),\"\")","v":""},null,null,{"$f":"IF(Avropsblankett!$C$52=$A$16,IF(Avropsblankett!$F$52=\"\",\"\",IF(Avropsblankett!$F$52<500,X17,X18)),\"\")","v":""},null,{"$f":"IF(Avropsblankett!$C$52=$A$16,IF(Avropsblankett!$F$52=\"\",\"\",IF(Avropsblankett!$F$52<500,((Avropsblankett!$F$52-100)*Z17/50),((Avropsblankett!$F$52-500)*Z17/50))),\"\")","v":""},null,null,{"$f":"IF(Avropsblankett!$C$52=$A$16,IF(Avropsblankett!$F$52=\"\",\"\",IF(Avropsblankett!$F$52<500,AC17,AC18)),\"\")","v":""},null,{"$f":"IF(Avropsblankett!$C$52=$A$16,IF(Avropsblankett!$F$52=\"\",\"\",IF(Avropsblankett!$F$52<500,((Avropsblankett!$F$52-100)*AE17/50),((Avropsblankett!$F$52-500)*AE17/50))),\"\")","v":""},null,null,{"$f":"IF(Avropsblankett!$C$52=$A$16,IF(Avropsblankett!$F$52=\"\",\"\",IF(Avropsblankett!$F$52<500,AH17,AH18)),\"\")","v":""},null,{"$f":"IF(Avropsblankett!$C$52=$A$16,IF(Avropsblankett!$F$52=\"\",\"\",IF(Avropsblankett!$F$52<500,((Avropsblankett!$F$52-100)*AJ17/50),((Avropsblankett!$F$52-500)*AJ17/50))),\"\")","v":""},null,null,{"$f":"IF(Avropsblankett!$C$52=$A$16,IF(Avropsblankett!$F$52=\"\",\"\",IF(Avropsblankett!$F$52<500,AM17,AM18)),\"\")","v":""},null,{"$f":"IF(Avropsblankett!$C$52=$A$16,IF(Avropsblankett!$F$52=\"\",\"\",IF(Avropsblankett!$F$52<500,((Avropsblankett!$F$52-100)*AO17/50),((Avropsblankett!$F$52-500)*AO17/50))),\"\")","v":""},null,null,{"$f":"IF(Avropsblankett!$C$52=$A$16,IF(Avropsblankett!$F$52=\"\",\"\",IF(Avropsblankett!$F$52<500,AR17,AR18)),\"\")","v":""},null,{"$f":"IF(Avropsblankett!$C$52=$A$16,IF(Avropsblankett!$F$52=\"\",\"\",IF(Avropsblankett!$F$52<500,((Avropsblankett!$F$52-100)*AT17/50),((Avropsblankett!$F$52-500)*AT17/50))),\"\")","v":""},null,null,{"$f":"IF(Avropsblankett!$C$52=$A$16,IF(Avropsblankett!$F$52=\"\",\"\",IF(Avropsblankett!$F$52<500,AW17,AW18)),\"\")","v":""},null,{"$f":"IF(Avropsblankett!$C$52=$A$16,IF(Avropsblankett!$F$52=\"\",\"\",IF(Avropsblankett!$F$52<500,((Avropsblankett!$F$52-100)*AY17/50),((Avropsblankett!$F$52-500)*AY17/50))),\"\")","v":""}]
[null,null,null,{"$f":"IF(Avropsblankett!$C$64=$A$16,IF(Avropsblankett!$F$64=\"\",\"\",IF(Avropsblankett!$F$64<500,D17,D18)),\"\")","v":""},null,{"$f":"IF(Avropsblankett!$C$64=$A$16,IF(Avropsblankett!$F$64=\"\",\"\",IF(Avropsblankett!$F$64<500,((Avropsblankett!$F$64-100)*F17/50),((Avropsblankett!$F$64-500)*F17/50))),\"\")","v":""},null,null,{"$f":"IF(Avropsblankett!$C$64=$A$16,IF(Avropsblankett!$F$64=\"\",\"\",IF(Avropsblankett!$F$64<500,I17,I18)),\"\")","v":""},null,{"$f":"IF(Avropsblankett!$C$64=$A$16,IF(Avropsblankett!$F$64=\"\",\"\",IF(Avropsblankett!$F$64<500,((Avropsblankett!$F$64-100)*K17/50),((Avropsblankett!$F$64-500)*K17/50))),\"\")","v":""},null,null,{"$f":"IF(Avropsblankett!$C$64=$A$16,IF(Avropsblankett!$F$64=\"\",\"\",IF(Avropsblankett!$F$64<500,N17,N18)),\"\")","v":""},null,{"$f":"IF(Avropsblankett!$C$64=$A$16,IF(Avropsblankett!$F$64=\"\",\"\",IF(Avropsblankett!$F$64<500,((Avropsblankett!$F$64-100)*P17/50),((Avropsblankett!$F$64-500)*P17/50))),\"\")","v":""},null,null,{"$f":"IF(Avropsblankett!$C$64=$A$16,IF(Avropsblankett!$F$64=\"\",\"\",IF(Avropsblankett!$F$64<500,S17,S18)),\"\")","v":""},null,{"$f":"IF(Avropsblankett!$C$64=$A$16,IF(Avropsblankett!$F$64=\"\",\"\",IF(Avropsblankett!$F$64<500,((Avropsblankett!$F$64-100)*U17/50),((Avropsblankett!$F$64-500)*U17/50))),\"\")","v":""},null,null,{"$f":"IF(Avropsblankett!$C$64=$A$16,IF(Avropsblankett!$F$64=\"\",\"\",IF(Avropsblankett!$F$64<500,X17,X18)),\"\")","v":""},null,{"$f":"IF(Avropsblankett!$C$64=$A$16,IF(Avropsblankett!$F$64=\"\",\"\",IF(Avropsblankett!$F$64<500,((Avropsblankett!$F$64-100)*Z17/50),((Avropsblankett!$F$64-500)*Z17/50))),\"\")","v":""},null,null,{"$f":"IF(Avropsblankett!$C$64=$A$16,IF(Avropsblankett!$F$64=\"\",\"\",IF(Avropsblankett!$F$64<500,AC17,AC18)),\"\")","v":""},null,{"$f":"IF(Avropsblankett!$C$64=$A$16,IF(Avropsblankett!$F$64=\"\",\"\",IF(Avropsblankett!$F$64<500,((Avropsblankett!$F$64-100)*AE17/50),((Avropsblankett!$F$64-500)*AE17/50))),\"\")","v":""},null,null,{"$f":"IF(Avropsblankett!$C$64=$A$16,IF(Avropsblankett!$F$64=\"\",\"\",IF(Avropsblankett!$F$64<500,AH17,AH18)),\"\")","v":""},null,{"$f":"IF(Avropsblankett!$C$64=$A$16,IF(Avropsblankett!$F$64=\"\",\"\",IF(Avropsblankett!$F$64<500,((Avropsblankett!$F$64-100)*AJ17/50),((Avropsblankett!$F$64-500)*AJ17/50))),\"\")","v":""},null,null,{"$f":"IF(Avropsblankett!$C$64=$A$16,IF(Avropsblankett!$F$64=\"\",\"\",IF(Avropsblankett!$F$64<500,AM17,AM18)),\"\")","v":""},null,{"$f":"IF(Avropsblankett!$C$64=$A$16,IF(Avropsblankett!$F$64=\"\",\"\",IF(Avropsblankett!$F$64<500,((Avropsblankett!$F$64-100)*AO17/50),((Avropsblankett!$F$64-500)*AO17/50))),\"\")","v":""},null,null,{"$f":"IF(Avropsblankett!$C$64=$A$16,IF(Avropsblankett!$F$64=\"\",\"\",IF(Avropsblankett!$F$64<500,AR17,AR18)),\"\")","v":""},null,{"$f":"IF(Avropsblankett!$C$64=$A$16,IF(Avropsblankett!$F$64=\"\",\"\",IF(Avropsblankett!$F$64<500,((Avropsblankett!$F$64-100)*AT17/50),((Avropsblankett!$F$64-500)*AT17/50))),\"\")","v":""},null,null,{"$f":"IF(Avropsblankett!$C$64=$A$16,IF(Avropsblankett!$F$64=\"\",\"\",IF(Avropsblankett!$F$64<500,AW17,AW18)),\"\")","v":""},null,{"$f":"IF(Avropsblankett!$C$64=$A$16,IF(Avropsblankett!$F$64=\"\",\"\",IF(Avropsblankett!$F$64<500,((Avropsblankett!$F$64-100)*AY17/50),((Avropsblankett!$F$64-500)*AY17/50))),\"\")","v":""}]
[null,null,null,{"$f":"IF(Avropsblankett!$C$76=$A$16,IF(Avropsblankett!$F$76=\"\",\"\",IF(Avropsblankett!$F$76<500,D17,D18)),\"\")","v":""},null,{"$f":"IF(Avropsblankett!$C$76=$A$16,IF(Avropsblankett!$F$76=\"\",\"\",IF(Avropsblankett!$F$76<500,((Avropsblankett!$F$76-100)*F17/50),((Avropsblankett!$F$76-500)*F17/50))),\"\")","v":""},null,null,{"$f":"IF(Avropsblankett!$C$76=$A$16,IF(Avropsblankett!$F$76=\"\",\"\",IF(Avropsblankett!$F$76<500,I17,I18)),\"\")","v":""},null,{"$f":"IF(Avropsblankett!$C$76=$A$16,IF(Avropsblankett!$F$76=\"\",\"\",IF(Avropsblankett!$F$76<500,((Avropsblankett!$F$76-100)*K17/50),((Avropsblankett!$F$76-500)*K17/50))),\"\")","v":""},null,null,{"$f":"IF(Avropsblankett!$C$76=$A$16,IF(Avropsblankett!$F$76=\"\",\"\",IF(Avropsblankett!$F$76<500,N17,N18)),\"\")","v":""},null,{"$f":"IF(Avropsblankett!$C$76=$A$16,IF(Avropsblankett!$F$76=\"\",\"\",IF(Avropsblankett!$F$76<500,((Avropsblankett!$F$76-100)*P17/50),((Avropsblankett!$F$76-500)*P17/50))),\"\")","v":""},null,null,{"$f":"IF(Avropsblankett!$C$76=$A$16,IF(Avropsblankett!$F$76=\"\",\"\",IF(Avropsblankett!$F$76<500,S17,S18)),\"\")","v":""},null,{"$f":"IF(Avropsblankett!$C$76=$A$16,IF(Avropsblankett!$F$76=\"\",\"\",IF(Avropsblankett!$F$76<500,((Avropsblankett!$F$76-100)*U17/50),((Avropsblankett!$F$76-500)*U17/50))),\"\")","v":""},null,null,{"$f":"IF(Avropsblankett!$C$76=$A$16,IF(Avropsblankett!$F$76=\"\",\"\",IF(Avropsblankett!$F$76<500,X17,X18)),\"\")","v":""},null,{"$f":"IF(Avropsblankett!$C$76=$A$16,IF(Avropsblankett!$F$76=\"\",\"\",IF(Avropsblankett!$F$76<500,((Avropsblankett!$F$76-100)*Z17/50),((Avropsblankett!$F$76-500)*Z17/50))),\"\")","v":""},null,null,{"$f":"IF(Avropsblankett!$C$76=$A$16,IF(Avropsblankett!$F$76=\"\",\"\",IF(Avropsblankett!$F$76<500,AC17,AC18)),\"\")","v":""},null,{"$f":"IF(Avropsblankett!$C$76=$A$16,IF(Avropsblankett!$F$76=\"\",\"\",IF(Avropsblankett!$F$76<500,((Avropsblankett!$F$76-100)*AE17/50),((Avropsblankett!$F$76-500)*AE17/50))),\"\")","v":""},null,null,{"$f":"IF(Avropsblankett!$C$76=$A$16,IF(Avropsblankett!$F$76=\"\",\"\",IF(Avropsblankett!$F$76<500,AH17,AH18)),\"\")","v":""},null,{"$f":"IF(Avropsblankett!$C$76=$A$16,IF(Avropsblankett!$F$76=\"\",\"\",IF(Avropsblankett!$F$76<500,((Avropsblankett!$F$76-100)*AJ17/50),((Avropsblankett!$F$76-500)*AJ17/50))),\"\")","v":""},null,null,{"$f":"IF(Avropsblankett!$C$76=$A$16,IF(Avropsblankett!$F$76=\"\",\"\",IF(Avropsblankett!$F$76<500,AM17,AM18)),\"\")","v":""},null,{"$f":"IF(Avropsblankett!$C$76=$A$16,IF(Avropsblankett!$F$76=\"\",\"\",IF(Avropsblankett!$F$76<500,((Avropsblankett!$F$76-100)*AO17/50),((Avropsblankett!$F$76-500)*AO17/50))),\"\")","v":""},null,null,{"$f":"IF(Avropsblankett!$C$76=$A$16,IF(Avropsblankett!$F$76=\"\",\"\",IF(Avropsblankett!$F$76<500,AR17,AR18)),\"\")","v":""},null,{"$f":"IF(Avropsblankett!$C$76=$A$16,IF(Avropsblankett!$F$76=\"\",\"\",IF(Avropsblankett!$F$76<500,((Avropsblankett!$F$76-100)*AT17/50),((Avropsblankett!$F$76-500)*AT17/50))),\"\")","v":""},null,null,{"$f":"IF(Avropsblankett!$C$76=$A$16,IF(Avropsblankett!$F$76=\"\",\"\",IF(Avropsblankett!$F$76<500,AW17,AW18)),\"\")","v":""},null,{"$f":"IF(Avropsblankett!$C$76=$A$16,IF(Avropsblankett!$F$76=\"\",\"\",IF(Avropsblankett!$F$76<500,((Avropsblankett!$F$76-100)*AY17/50),((Avropsblankett!$F$76-500)*AY17/50))),\"\")","v":""}]
[null,null,null,{"$f":"SUM(D19:D23)","v":0},null,{"$f":"SUM(F19:F23)","v":0},null,null,{"$f":"SUM(I19:I23)","v":0},null,{"$f":"SUM(K19:K23)","v":0},null,null,{"$f":"SUM(N19:N23)","v":0},null,{"$f":"SUM(P19:P23)","v":0},null,null,{"$f":"SUM(S19:S23)","v":0},null,{"$f":"SUM(U19:U23)","v":0},null,null,{"$f":"SUM(X19:X23)","v":0},null,{"$f":"SUM(Z19:Z23)","v":0},null,null,{"$f":"SUM(AC19:AC23)","v":0},null,{"$f":"SUM(AE19:AE23)","v":0},null,null,{"$f":"SUM(AH19:AH23)","v":0},null,{"$f":"SUM(AJ19:AJ23)","v":0},null,null,{"$f":"SUM(AM19:AM23)","v":0},null,{"$f":"SUM(AO19:AO23)","v":0},null,null,{"$f":"SUM(AR19:AR23)","v":0},null,{"$f":"SUM(AT19:AT23)","v":0},null,null,{"$f":"SUM(AW19:AW23)","v":0},null,{"$f":"SUM(AY19:AY23)","v":0}]
["Affischer_3",null,"Upplaga","Ange pris","Följande","Ange pris",null,"Upplaga","Ange pris","Följande","Ange pris",null,"Upplaga","Ange pris","Följande","Ange pris",null,"Upplaga","Ange pris","Följande","Ange pris",null,"Upplaga","Ange pris","Följande","Ange pris",null,"Upplaga","Ange pris","Följande","Ange pris",null,"Upplaga","Ange pris","Följande","Ange pris",null,"Upplaga","Ange pris","Följande","Ange pris",null,"Upplaga","Ange pris","Följande","Ange pris",null,"Upplaga","Ange pris","Följande","Ange pris"]
["700 x 1000 mm",null,100,4500,50,200,null,100,4730,50,220,null,100,4200,50,200,null,100,3250,50,175,null,100,1725,50,92,null,100,2817,50,123,null,100,5000,50,300,null,100,3150,50,360,null,100,2500,50,95,null,100,2230,50,175]
["700 x 1000 mm",null,500,6100,null,null,null,500,5610,null,null,null,500,5500,null,null,null,500,4400,null,null,null,500,2445,null,null,null,500,3815,null,null,null,500,6200,null,null,null,500,3980,null,null,null,500,3250,null,null,null,500,3055]
[null,null,null,{"$f":"IF(Avropsblankett!$C$28=$A$25,IF(Avropsblankett!$F$28=\"\",\"\",IF(Avropsblankett!$F$28<500,D26,D27)),\"\")","v":""},null,{"$f":"IF(Avropsblankett!$C$28=$A$25,IF(Avropsblankett!$F$28=\"\",\"\",IF(Avropsblankett!$F$28<500,((Avropsblankett!$F$28-100)*F26/50),((Avropsblankett!$F$28-500)*F26/50))),\"\")","v":""},null,null,{"$f":"IF(Avropsblankett!$C$28=$A$25,IF(Avropsblankett!$F$28=\"\",\"\",IF(Avropsblankett!$F$28<500,I26,I27)),\"\")","v":""},null,{"$f":"IF(Avropsblankett!$C$28=$A$25,IF(Avropsblankett!$F$28=\"\",\"\",IF(Avropsblankett!$F$28<500,((Avropsblankett!$F$28-100)*K26/50),((Avropsblankett!$F$28-500)*K26/50))),\"\")","v":""},null,null,{"$f":"IF(Avropsblankett!$C$28=$A$25,IF(Avropsblankett!$F$28=\"\",\"\",IF(Avropsblankett!$F$28<500,N26,N27)),\"\")","v":""},null,{"$f":"IF(Avropsblankett!$C$28=$A$25,IF(Avropsblankett!$F$28=\"\",\"\",IF(Avropsblankett!$F$28<500,((Avropsblankett!$F$28-100)*P26/50),((Avropsblankett!$F$28-500)*P26/50))),\"\")","v":""},null,null,{"$f":"IF(Avropsblankett!$C$28=$A$25,IF(Avropsblankett!$F$28=\"\",\"\",IF(Avropsblankett!$F$28<500,S26,S27)),\"\")","v":""},null,{"$f":"IF(Avropsblankett!$C$28=$A$25,IF(Avropsblankett!$F$28=\"\",\"\",IF(Avropsblankett!$F$28<500,((Avropsblankett!$F$28-100)*U26/50),((Avropsblankett!$F$28-500)*U26/50))),\"\")","v":""},null,null,{"$f":"IF(Avropsblankett!$C$28=$A$25,IF(Avropsblankett!$F$28=\"\",\"\",IF(Avropsblankett!$F$28<500,X26,X27)),\"\")","v":""},null,{"$f":"IF(Avropsblankett!$C$28=$A$25,IF(Avropsblankett!$F$28=\"\",\"\",IF(Avropsblankett!$F$28<500,((Avropsblankett!$F$28-100)*Z26/50),((Avropsblankett!$F$28-500)*Z26/50))),\"\")","v":""},null,null,{"$f":"IF(Avropsblankett!$C$28=$A$25,IF(Avropsblankett!$F$28=\"\",\"\",IF(Avropsblankett!$F$28<500,AC26,AC27)),\"\")","v":""},null,{"$f":"IF(Avropsblankett!$C$28=$A$25,IF(Avropsblankett!$F$28=\"\",\"\",IF(Avropsblankett!$F$28<500,((Avropsblankett!$F$28-100)*AE26/50),((Avropsblankett!$F$28-500)*AE26/50))),\"\")","v":""},null,null,{"$f":"IF(Avropsblankett!$C$28=$A$25,IF(Avropsblankett!$F$28=\"\",\"\",IF(Avropsblankett!$F$28<500,AH26,AH27)),\"\")","v":""},null,{"$f":"IF(Avropsblankett!$C$28=$A$25,IF(Avropsblankett!$F$28=\"\",\"\",IF(Avropsblankett!$F$28<500,((Avropsblankett!$F$28-100)*AJ26/50),((Avropsblankett!$F$28-500)*AJ26/50))),\"\")","v":""},null,null,{"$f":"IF(Avropsblankett!$C$28=$A$25,IF(Avropsblankett!$F$28=\"\",\"\",IF(Avropsblankett!$F$28<500,AM26,AM27)),\"\")","v":""},null,{"$f":"IF(Avropsblankett!$C$28=$A$25,IF(Avropsblankett!$F$28=\"\",\"\",IF(Avropsblankett!$F$28<500,((Avropsblankett!$F$28-100)*AO26/50),((Avropsblankett!$F$28-500)*AO26/50))),\"\")","v":""},null,null,{"$f":"IF(Avropsblankett!$C$28=$A$25,IF(Avropsblankett!$F$28=\"\",\"\",IF(Avropsblankett!$F$28<500,AR26,AR27)),\"\")","v":""},null,{"$f":"IF(Avropsblankett!$C$28=$A$25,IF(Avropsblankett!$F$28=\"\",\"\",IF(Avropsblankett!$F$28<500,((Avropsblankett!$F$28-100)*AT26/50),((Avropsblankett!$F$28-500)*AT26/50))),\"\")","v":""},null,null,{"$f":"IF(Avropsblankett!$C$28=$A$25,IF(Avropsblankett!$F$28=\"\",\"\",IF(Avropsblankett!$F$28<500,AW26,AW27)),\"\")","v":""},null,{"$f":"IF(Avropsblankett!$C$28=$A$25,IF(Avropsblankett!$F$28=\"\",\"\",IF(Avropsblankett!$F$28<500,((Avropsblankett!$F$28-100)*AY26/50),((Avropsblankett!$F$28-500)*AY26/50))),\"\")","v":""}]
[null,null,null,{"$f":"IF(Avropsblankett!$C$40=$A$25,IF(Avropsblankett!$F$40=\"\",\"\",IF(Avropsblankett!$F$40<500,D26,D27)),\"\")","v":""},null,{"$f":"IF(Avropsblankett!$C$40=$A$25,IF(Avropsblankett!$F$40=\"\",\"\",IF(Avropsblankett!$F$40<500,((Avropsblankett!$F$40-100)*F26/50),((Avropsblankett!$F$40-500)*F26/50))),\"\")","v":""},null,null,{"$f":"IF(Avropsblankett!$C$40=$A$25,IF(Avropsblankett!$F$40=\"\",\"\",IF(Avropsblankett!$F$40<500,I26,I27)),\"\")","v":""},null,{"$f":"IF(Avropsblankett!$C$40=$A$25,IF(Avropsblankett!$F$40=\"\",\"\",IF(Avropsblankett!$F$40<500,((Avropsblankett!$F$40-100)*K26/50),((Avropsblankett!$F$40-500)*K26/50))),\"\")","v":""},null,null,{"$f":"IF(Avropsblankett!$C$40=$A$25,IF(Avropsblankett!$F$40=\"\",\"\",IF(Avropsblankett!$F$40<500,N26,N27)),\"\")","v":""},null,{"$f":"IF(Avropsblankett!$C$40=$A$25,IF(Avropsblankett!$F$40=\"\",\"\",IF(Avropsblankett!$F$40<500,((Avropsblankett!$F$40-100)*P26/50),((Avropsblankett!$F$40-500)*P26/50))),\"\")","v":""},null,null,{"$f":"IF(Avropsblankett!$C$40=$A$25,IF(Avropsblankett!$F$40=\"\",\"\",IF(Avropsblankett!$F$40<500,S26,S27)),\"\")","v":""},null,{"$f":"IF(Avropsblankett!$C$40=$A$25,IF(Avropsblankett!$F$40=\"\",\"\",IF(Avropsblankett!$F$40<500,((Avropsblankett!$F$40-100)*U26/50),((Avropsblankett!$F$40-500)*U26/50))),\"\")","v":""},null,null,{"$f":"IF(Avropsblankett!$C$40=$A$25,IF(Avropsblankett!$F$40=\"\",\"\",IF(Avropsblankett!$F$40<500,X26,X27)),\"\")","v":""},null,{"$f":"IF(Avropsblankett!$C$40=$A$25,IF(Avropsblankett!$F$40=\"\",\"\",IF(Avropsblankett!$F$40<500,((Avropsblankett!$F$40-100)*Z26/50),((Avropsblankett!$F$40-500)*Z26/50))),\"\")","v":""},null,null,{"$f":"IF(Avropsblankett!$C$40=$A$25,IF(Avropsblankett!$F$40=\"\",\"\",IF(Avropsblankett!$F$40<500,AC26,AC27)),\"\")","v":""},null,{"$f":"IF(Avropsblankett!$C$40=$A$25,IF(Avropsblankett!$F$40=\"\",\"\",IF(Avropsblankett!$F$40<500,((Avropsblankett!$F$40-100)*AE26/50),((Avropsblankett!$F$40-500)*AE26/50))),\"\")","v":""},null,null,{"$f":"IF(Avropsblankett!$C$40=$A$25,IF(Avropsblankett!$F$40=\"\",\"\",IF(Avropsblankett!$F$40<500,AH26,AH27)),\"\")","v":""},null,{"$f":"IF(Avropsblankett!$C$40=$A$25,IF(Avropsblankett!$F$40=\"\",\"\",IF(Avropsblankett!$F$40<500,((Avropsblankett!$F$40-100)*AJ26/50),((Avropsblankett!$F$40-500)*AJ26/50))),\"\")","v":""},null,null,{"$f":"IF(Avropsblankett!$C$40=$A$25,IF(Avropsblankett!$F$40=\"\",\"\",IF(Avropsblankett!$F$40<500,AM26,AM27)),\"\")","v":""},null,{"$f":"IF(Avropsblankett!$C$40=$A$25,IF(Avropsblankett!$F$40=\"\",\"\",IF(Avropsblankett!$F$40<500,((Avropsblankett!$F$40-100)*AO26/50),((Avropsblankett!$F$40-500)*AO26/50))),\"\")","v":""},null,null,{"$f":"IF(Avropsblankett!$C$40=$A$25,IF(Avropsblankett!$F$40=\"\",\"\",IF(Avropsblankett!$F$40<500,AR26,AR27)),\"\")","v":""},null,{"$f":"IF(Avropsblankett!$C$40=$A$25,IF(Avropsblankett!$F$40=\"\",\"\",IF(Avropsblankett!$F$40<500,((Avropsblankett!$F$40-100)*AT26/50),((Avropsblankett!$F$40-500)*AT26/50))),\"\")","v":""},null,null,{"$f":"IF(Avropsblankett!$C$40=$A$25,IF(Avropsblankett!$F$40=\"\",\"\",IF(Avropsblankett!$F$40<500,AW26,AW27)),\"\")","v":""},null,{"$f":"IF(Avropsblankett!$C$40=$A$25,IF(Avropsblankett!$F$40=\"\",\"\",IF(Avropsblankett!$F$40<500,((Avropsblankett!$F$40-100)*AY26/50),((Avropsblankett!$F$40-500)*AY26/50))),\"\")","v":""}]
[null,null,null,{"$f":"IF(Avropsblankett!$C$52=$A$25,IF(Avropsblankett!$F$52=\"\",\"\",IF(Avropsblankett!$F$52<500,D26,D27)),\"\")","v":""},null,{"$f":"IF(Avropsblankett!$C$52=$A$25,IF(Avropsblankett!$F$52=\"\",\"\",IF(Avropsblankett!$F$52<500,((Avropsblankett!$F$52-100)*F26/50),((Avropsblankett!$F$52-500)*F26/50))),\"\")","v":""},null,null,{"$f":"IF(Avropsblankett!$C$52=$A$25,IF(Avropsblankett!$F$52=\"\",\"\",IF(Avropsblankett!$F$52<500,I26,I27)),\"\")","v":""},null,{"$f":"IF(Avropsblankett!$C$52=$A$25,IF(Avropsblankett!$F$52=\"\",\"\",IF(Avropsblankett!$F$52<500,((Avropsblankett!$F$52-100)*K26/50),((Avropsblankett!$F$52-500)*K26/50))),\"\")","v":""},null,null,{"$f":"IF(Avropsblankett!$C$52=$A$25,IF(Avropsblankett!$F$52=\"\",\"\",IF(Avropsblankett!$F$52<500,N26,N27)),\"\")","v":""},null,{"$f":"IF(Avropsblankett!$C$52=$A$25,IF(Avropsblankett!$F$52=\"\",\"\",IF(Avropsblankett!$F$52<500,((Avropsblankett!$F$52-100)*P26/50),((Avropsblankett!$F$52-500)*P26/50))),\"\")","v":""},null,null,{"$f":"IF(Avropsblankett!$C$52=$A$25,IF(Avropsblankett!$F$52=\"\",\"\",IF(Avropsblankett!$F$52<500,S26,S27)),\"\")","v":""},null,{"$f":"IF(Avropsblankett!$C$52=$A$25,IF(Avropsblankett!$F$52=\"\",\"\",IF(Avropsblankett!$F$52<500,((Avropsblankett!$F$52-100)*U26/50),((Avropsblankett!$F$52-500)*U26/50))),\"\")","v":""},null,null,{"$f":"IF(Avropsblankett!$C$52=$A$25,IF(Avropsblankett!$F$52=\"\",\"\",IF(Avropsblankett!$F$52<500,X26,X27)),\"\")","v":""},null,{"$f":"IF(Avropsblankett!$C$52=$A$25,IF(Avropsblankett!$F$52=\"\",\"\",IF(Avropsblankett!$F$52<500,((Avropsblankett!$F$52-100)*Z26/50),((Avropsblankett!$F$52-500)*Z26/50))),\"\")","v":""},null,null,{"$f":"IF(Avropsblankett!$C$52=$A$25,IF(Avropsblankett!$F$52=\"\",\"\",IF(Avropsblankett!$F$52<500,AC26,AC27)),\"\")","v":""},null,{"$f":"IF(Avropsblankett!$C$52=$A$25,IF(Avropsblankett!$F$52=\"\",\"\",IF(Avropsblankett!$F$52<500,((Avropsblankett!$F$52-100)*AE26/50),((Avropsblankett!$F$52-500)*AE26/50))),\"\")","v":""},null,null,{"$f":"IF(Avropsblankett!$C$52=$A$25,IF(Avropsblankett!$F$52=\"\",\"\",IF(Avropsblankett!$F$52<500,AH26,AH27)),\"\")","v":""},null,{"$f":"IF(Avropsblankett!$C$52=$A$25,IF(Avropsblankett!$F$52=\"\",\"\",IF(Avropsblankett!$F$52<500,((Avropsblankett!$F$52-100)*AJ26/50),((Avropsblankett!$F$52-500)*AJ26/50))),\"\")","v":""},null,null,{"$f":"IF(Avropsblankett!$C$52=$A$25,IF(Avropsblankett!$F$52=\"\",\"\",IF(Avropsblankett!$F$52<500,AM26,AM27)),\"\")","v":""},null,{"$f":"IF(Avropsblankett!$C$52=$A$25,IF(Avropsblankett!$F$52=\"\",\"\",IF(Avropsblankett!$F$52<500,((Avropsblankett!$F$52-100)*AO26/50),((Avropsblankett!$F$52-500)*AO26/50))),\"\")","v":""},null,null,{"$f":"IF(Avropsblankett!$C$52=$A$25,IF(Avropsblankett!$F$52=\"\",\"\",IF(Avropsblankett!$F$52<500,AR26,AR27)),\"\")","v":""},null,{"$f":"IF(Avropsblankett!$C$52=$A$25,IF(Avropsblankett!$F$52=\"\",\"\",IF(Avropsblankett!$F$52<500,((Avropsblankett!$F$52-100)*AT26/50),((Avropsblankett!$F$52-500)*AT26/50))),\"\")","v":""},null,null,{"$f":"IF(Avropsblankett!$C$52=$A$25,IF(Avropsblankett!$F$52=\"\",\"\",IF(Avropsblankett!$F$52<500,AW26,AW27)),\"\")","v":""},null,{"$f":"IF(Avropsblankett!$C$52=$A$25,IF(Avropsblankett!$F$52=\"\",\"\",IF(Avropsblankett!$F$52<500,((Avropsblankett!$F$52-100)*AY26/50),((Avropsblankett!$F$52-500)*AY26/50))),\"\")","v":""}]
[null,null,null,{"$f":"IF(Avropsblankett!$C$64=$A$25,IF(Avropsblankett!$F$64=\"\",\"\",IF(Avropsblankett!$F$64<500,D26,D27)),\"\")","v":""},null,{"$f":"IF(Avropsblankett!$C$64=$A$25,IF(Avropsblankett!$F$64=\"\",\"\",IF(Avropsblankett!$F$64<500,((Avropsblankett!$F$64-100)*F26/50),((Avropsblankett!$F$64-500)*F26/50))),\"\")","v":""},null,null,{"$f":"IF(Avropsblankett!$C$64=$A$25,IF(Avropsblankett!$F$64=\"\",\"\",IF(Avropsblankett!$F$64<500,I26,I27)),\"\")","v":""},null,{"$f":"IF(Avropsblankett!$C$64=$A$25,IF(Avropsblankett!$F$64=\"\",\"\",IF(Avropsblankett!$F$64<500,((Avropsblankett!$F$64-100)*K26/50),((Avropsblankett!$F$64-500)*K26/50))),\"\")","v":""},null,null,{"$f":"IF(Avropsblankett!$C$64=$A$25,IF(Avropsblankett!$F$64=\"\",\"\",IF(Avropsblankett!$F$64<500,N26,N27)),\"\")","v":""},null,{"$f":"IF(Avropsblankett!$C$64=$A$25,IF(Avropsblankett!$F$64=\"\",\"\",IF(Avropsblankett!$F$64<500,((Avropsblankett!$F$64-100)*P26/50),((Avropsblankett!$F$64-500)*P26/50))),\"\")","v":""},null,null,{"$f":"IF(Avropsblankett!$C$64=$A$25,IF(Avropsblankett!$F$64=\"\",\"\",IF(Avropsblankett!$F$64<500,S26,S27)),\"\")","v":""},null,{"$f":"IF(Avropsblankett!$C$64=$A$25,IF(Avropsblankett!$F$64=\"\",\"\",IF(Avropsblankett!$F$64<500,((Avropsblankett!$F$64-100)*U26/50),((Avropsblankett!$F$64-500)*U26/50))),\"\")","v":""},null,null,{"$f":"IF(Avropsblankett!$C$64=$A$25,IF(Avropsblankett!$F$64=\"\",\"\",IF(Avropsblankett!$F$64<500,X26,X27)),\"\")","v":""},null,{"$f":"IF(Avropsblankett!$C$64=$A$25,IF(Avropsblankett!$F$64=\"\",\"\",IF(Avropsblankett!$F$64<500,((Avropsblankett!$F$64-100)*Z26/50),((Avropsblankett!$F$64-500)*Z26/50))),\"\")","v":""},null,null,{"$f":"IF(Avropsblankett!$C$64=$A$25,IF(Avropsblankett!$F$64=\"\",\"\",IF(Avropsblankett!$F$64<500,AC26,AC27)),\"\")","v":""},null,{"$f":"IF(Avropsblankett!$C$64=$A$25,IF(Avropsblankett!$F$64=\"\",\"\",IF(Avropsblankett!$F$64<500,((Avropsblankett!$F$64-100)*AE26/50),((Avropsblankett!$F$64-500)*AE26/50))),\"\")","v":""},null,null,{"$f":"IF(Avropsblankett!$C$64=$A$25,IF(Avropsblankett!$F$64=\"\",\"\",IF(Avropsblankett!$F$64<500,AH26,AH27)),\"\")","v":""},null,{"$f":"IF(Avropsblankett!$C$64=$A$25,IF(Avropsblankett!$F$64=\"\",\"\",IF(Avropsblankett!$F$64<500,((Avropsblankett!$F$64-100)*AJ26/50),((Avropsblankett!$F$64-500)*AJ26/50))),\"\")","v":""},null,null,{"$f":"IF(Avropsblankett!$C$64=$A$25,IF(Avropsblankett!$F$64=\"\",\"\",IF(Avropsblankett!$F$64<500,AM26,AM27)),\"\")","v":""},null,{"$f":"IF(Avropsblankett!$C$64=$A$25,IF(Avropsblankett!$F$64=\"\",\"\",IF(Avropsblankett!$F$64<500,((Avropsblankett!$F$64-100)*AO26/50),((Avropsblankett!$F$64-500)*AO26/50))),\"\")","v":""},null,null,{"$f":"IF(Avropsblankett!$C$64=$A$25,IF(Avropsblankett!$F$64=\"\",\"\",IF(Avropsblankett!$F$64<500,AR26,AR27)),\"\")","v":""},null,{"$f":"IF(Avropsblankett!$C$64=$A$25,IF(Avropsblankett!$F$64=\"\",\"\",IF(Avropsblankett!$F$64<500,((Avropsblankett!$F$64-100)*AT26/50),((Avropsblankett!$F$64-500)*AT26/50))),\"\")","v":""},null,null,{"$f":"IF(Avropsblankett!$C$64=$A$25,IF(Avropsblankett!$F$64=\"\",\"\",IF(Avropsblankett!$F$64<500,AW26,AW27)),\"\")","v":""},null,{"$f":"IF(Avropsblankett!$C$64=$A$25,IF(Avropsblankett!$F$64=\"\",\"\",IF(Avropsblankett!$F$64<500,((Avropsblankett!$F$64-100)*AY26/50),((Avropsblankett!$F$64-500)*AY26/50))),\"\")","v":""}]
[null,null,null,{"$f":"IF(Avropsblankett!$C$76=$A$25,IF(Avropsblankett!$F$76=\"\",\"\",IF(Avropsblankett!$F$76<500,D26,D27)),\"\")","v":""},null,{"$f":"IF(Avropsblankett!$C$76=$A$25,IF(Avropsblankett!$F$76=\"\",\"\",IF(Avropsblankett!$F$76<500,((Avropsblankett!$F$76-100)*F26/50),((Avropsblankett!$F$76-500)*F26/50))),\"\")","v":""},null,null,{"$f":"IF(Avropsblankett!$C$76=$A$25,IF(Avropsblankett!$F$76=\"\",\"\",IF(Avropsblankett!$F$76<500,I26,I27)),\"\")","v":""},null,{"$f":"IF(Avropsblankett!$C$76=$A$25,IF(Avropsblankett!$F$76=\"\",\"\",IF(Avropsblankett!$F$76<500,((Avropsblankett!$F$76-100)*K26/50),((Avropsblankett!$F$76-500)*K26/50))),\"\")","v":""},null,null,{"$f":"IF(Avropsblankett!$C$76=$A$25,IF(Avropsblankett!$F$76=\"\",\"\",IF(Avropsblankett!$F$76<500,N26,N27)),\"\")","v":""},null,{"$f":"IF(Avropsblankett!$C$76=$A$25,IF(Avropsblankett!$F$76=\"\",\"\",IF(Avropsblankett!$F$76<500,((Avropsblankett!$F$76-100)*P26/50),((Avropsblankett!$F$76-500)*P26/50))),\"\")","v":""},null,null,{"$f":"IF(Avropsblankett!$C$76=$A$25,IF(Avropsblankett!$F$76=\"\",\"\",IF(Avropsblankett!$F$76<500,S26,S27)),\"\")","v":""},null,{"$f":"IF(Avropsblankett!$C$76=$A$25,IF(Avropsblankett!$F$76=\"\",\"\",IF(Avropsblankett!$F$76<500,((Avropsblankett!$F$76-100)*U26/50),((Avropsblankett!$F$76-500)*U26/50))),\"\")","v":""},null,null,{"$f":"IF(Avropsblankett!$C$76=$A$25,IF(Avropsblankett!$F$76=\"\",\"\",IF(Avropsblankett!$F$76<500,X26,X27)),\"\")","v":""},null,{"$f":"IF(Avropsblankett!$C$76=$A$25,IF(Avropsblankett!$F$76=\"\",\"\",IF(Avropsblankett!$F$76<500,((Avropsblankett!$F$76-100)*Z26/50),((Avropsblankett!$F$76-500)*Z26/50))),\"\")","v":""},null,null,{"$f":"IF(Avropsblankett!$C$76=$A$25,IF(Avropsblankett!$F$76=\"\",\"\",IF(Avropsblankett!$F$76<500,AC26,AC27)),\"\")","v":""},null,{"$f":"IF(Avropsblankett!$C$76=$A$25,IF(Avropsblankett!$F$76=\"\",\"\",IF(Avropsblankett!$F$76<500,((Avropsblankett!$F$76-100)*AE26/50),((Avropsblankett!$F$76-500)*AE26/50))),\"\")","v":""},null,null,{"$f":"IF(Avropsblankett!$C$76=$A$25,IF(Avropsblankett!$F$76=\"\",\"\",IF(Avropsblankett!$F$76<500,AH26,AH27)),\"\")","v":""},null,{"$f":"IF(Avropsblankett!$C$76=$A$25,IF(Avropsblankett!$F$76=\"\",\"\",IF(Avropsblankett!$F$76<500,((Avropsblankett!$F$76-100)*AJ26/50),((Avropsblankett!$F$76-500)*AJ26/50))),\"\")","v":""},null,null,{"$f":"IF(Avropsblankett!$C$76=$A$25,IF(Avropsblankett!$F$76=\"\",\"\",IF(Avropsblankett!$F$76<500,AM26,AM27)),\"\")","v":""},null,{"$f":"IF(Avropsblankett!$C$76=$A$25,IF(Avropsblankett!$F$76=\"\",\"\",IF(Avropsblankett!$F$76<500,((Avropsblankett!$F$76-100)*AO26/50),((Avropsblankett!$F$76-500)*AO26/50))),\"\")","v":""},null,null,{"$f":"IF(Avropsblankett!$C$76=$A$25,IF(Avropsblankett!$F$76=\"\",\"\",IF(Avropsblankett!$F$76<500,AR26,AR27)),\"\")","v":""},null,{"$f":"IF(Avropsblankett!$C$76=$A$25,IF(Avropsblankett!$F$76=\"\",\"\",IF(Avropsblankett!$F$76<500,((Avropsblankett!$F$76-100)*AT26/50),((Avropsblankett!$F$76-500)*AT26/50))),\"\")","v":""},null,null,{"$f":"IF(Avropsblankett!$C$76=$A$25,IF(Avropsblankett!$F$76=\"\",\"\",IF(Avropsblankett!$F$76<500,AW26,AW27)),\"\")","v":""},null,{"$f":"IF(Avropsblankett!$C$76=$A$25,IF(Avropsblankett!$F$76=\"\",\"\",IF(Avropsblankett!$F$76<500,((Avropsblankett!$F$76-100)*AY26/50),((Avropsblankett!$F$76-500)*AY26/50))),\"\")","v":""}]
[null,null,null,{"$f":"SUM(D28:D32)","v":0},null,{"$f":"SUM(F28:F32)","v":0},null,null,{"$f":"SUM(I28:I32)","v":0},null,{"$f":"SUM(K28:K32)","v":0},null,null,{"$f":"SUM(N28:N32)","v":0},null,{"$f":"SUM(P28:P32)","v":0},null,null,{"$f":"SUM(S28:S32)","v":0},null,{"$f":"SUM(U28:U32)","v":0},null,null,{"$f":"SUM(X28:X32)","v":0},null,{"$f":"SUM(Z28:Z32)","v":0},null,null,{"$f":"SUM(AC28:AC32)","v":0},null,{"$f":"SUM(AE28:AE32)","v":0},null,null,{"$f":"SUM(AH28:AH32)","v":0},null,{"$f":"SUM(AJ28:AJ32)","v":0},null,null,{"$f":"SUM(AM28:AM32)","v":0},null,{"$f":"SUM(AO28:AO32)","v":0},null,null,{"$f":"SUM(AR28:AR32)","v":0},null,{"$f":"SUM(AT28:AT32)","v":0},null,null,{"$f":"SUM(AW28:AW32)","v":0},null,{"$f":"SUM(AY28:AY32)","v":0}]
[null,null,"Summa",{"$f":"SUM(D15,D24,D33)","v":0},null,{"$f":"SUM(F15,F24,F33)","v":0},null,"Summa",{"$f":"SUM(I15,I24,I33)","v":0},null,{"$f":"SUM(K15,K24,K33)","v":0},null,"Summa",{"$f":"SUM(N15,N24,N33)","v":0},null,{"$f":"SUM(P15,P24,P33)","v":0},null,"Summa",{"$f":"SUM(S15,S24,S33)","v":0},null,{"$f":"SUM(U15,U24,U33)","v":0},null,"Summa",{"$f":"SUM(X15,X24,X33)","v":0},null,{"$f":"SUM(Z15,Z24,Z33)","v":0},null,"Summa",{"$f":"SUM(AC15,AC24,AC33)","v":0},null,{"$f":"SUM(AE15,AE24,AE33)","v":0},null,"Summa",{"$f":"SUM(AH15,AH24,AH33)","v":0},null,{"$f":"SUM(AJ15,AJ24,AJ33)","v":0},null,"Summa",{"$f":"SUM(AM15,AM24,AM33)","v":0},null,{"$f":"SUM(AO15,AO24,AO33)","v":0},null,"Summa",{"$f":"SUM(AR15,AR24,AR33)","v":0},null,{"$f":"SUM(AT15,AT24,AT33)","v":0},null,"Summa",{"$f":"SUM(AW15,AW24,AW33)","v":0},null,{"$f":"SUM(AY15,AY24,AY33)","v":0}]
[null,null,"Totalsumma",{"$f":"SUM(D34,F34)","v":0},null,null,null,"Totalsumma",{"$f":"SUM(I34,K34)","v":0},null,null,null,"Totalsumma",{"$f":"SUM(N34,P34)","v":0},null,null,null,"Totalsumma",{"$f":"SUM(S34,U34)","v":0},null,null,null,"Totalsumma",{"$f":"SUM(X34,Z34)","v":0},null,null,null,"Totalsumma",{"$f":"SUM(AC34,AE34)","v":0},null,null,null,"Totalsumma",{"$f":"SUM(AH34,AJ34)","v":0},null,null,null,"Totalsumma",{"$f":"SUM(AM34,AO34)","v":0},null,null,null,"Totalsumma",{"$f":"SUM(AR34,AT34)","v":0},null,null,null,"Totalsumma",{"$f":"SUM(AW34,AY34)","v":0}]
[]
[null,{"$f":"A8","v":"297 x 420 mm"}]
[null,{"$f":"A17","v":"500 x 700 mm"}]
[null,{"$f":"A26","v":"700 x 1000 mm"}]
[null,{"$f":"#REF!","v":{"$error":"#REF!"}}]

{"sheet":"Ateljétjänster","index":3,"n_rows":15,"n_cols":20,"rows_kept":15,"cut":false,"hidden":false,"merged":[[1,0,2,0]]}
["Ateljétjänster",{"$f":"Uträkningsblad!C4","v":"Bröderna Hansson H-tryck Aktiebolag"},null,{"$f":"Uträkningsblad!D4","v":"Elanders Sverige AB"},null,{"$f":"Uträkningsblad!E4","v":"Exakta Print AB"},null,{"$f":"Uträkningsblad!F4","v":"Kalmar Kuvert Sweden AB"},null,{"$f":"Uträkningsblad!G4","v":"Ljungbergs Tryckeri i Klippan AB"},null,{"$f":"Uträkningsblad!H4","v":"Scandinavian Print Group Sweden AB"},null,{"$f":"Uträkningsblad!I4","v":"Stema Specialtryck AB"},null,{"$f":"Uträkningsblad!J4","v":"Stibo Complete A/S"},null,{"$f":"Uträkningsblad!K4","v":"Åtta.45 Tryckeri AB"},null,{"$f":"Uträkningsblad!L4","v":"Leverantör 10"}]
[]
[null,"Priser lämnas i gulmarkerade fält nedan",null,"Priser lämnas i gulmarkerade fält nedan",null,"Priser lämnas i gulmarkerade fält nedan",null,"Priser lämnas i gulmarkerade fält nedan",null,"Priser lämnas i gulmarkerade fält nedan",null,"Priser lämnas i gulmarkerade fält nedan",null,"Priser lämnas i gulmarkerade fält nedan",null,"Priser lämnas i gulmarkerade fält nedan",null,"Priser lämnas i gulmarkerade fält nedan",null,"Priser lämnas i gulmarkerade fält nedan"]
["Typ av tjänst","Pris per timme",null,"Pris per timme",null,"Pris per timme",null,"Pris per timme",null,"Pris per timme",null,"Pris per timme",null,"Pris per timme",null,"Pris per timme",null,"Pris per timme",null,"Pris per timme"]
["Bildbearbetning, tex färgjustering och tryckanpassning",750,null,750,null,1000,null,400,null,295,null,495,null,500,null,395,null,595,null,750]
["Prepressarbete",750,null,700,null,1000,null,400,null,295,null,495,null,500,null,395,null,595,null,750]
["Retusch",750,null,750,null,1000,null,400,null,295,null,495,null,500,null,395,null,595,null,750]
["Layoutarbete med befintlig grafisk manual som bas",750,null,700,null,1000,null,400,null,295,null,495,null,500,null,395,null,695,null,750]
["Formgivning",750,null,700,null,1000,null,400,null,295,null,540,null,500,null,395,null,695,null,750]
[null,{"$f":"IF(Avropsblankett!$C$28=$A$5,Avropsblankett!$F$28*B5,IF(Avropsblankett!$C$28=$A$6,Avropsblankett!$F$28*B6,IF(Avropsblankett!$C$28=$A$7,Avropsblankett!$F$28*B7,IF(Avropsblankett!$C$28=$A$8,Avropsblankett!$F$28*B8,IF(Avropsblankett!$C$28=$A$9,Avropsblankett!$F$28*B9,)))))","v":0},null,{"$f":"IF(Avropsblankett!$C$28=$A$5,Avropsblankett!$F$28*D5,IF(Avropsblankett!$C$28=$A$6,Avropsblankett!$F$28*D6,IF(Avropsblankett!$C$28=$A$7,Avropsblankett!$F$28*D7,IF(Avropsblankett!$C$28=$A$8,Avropsblankett!$F$28*D8,IF(Avropsblankett!$C$28=$A$9,Avropsblankett!$F$28*D9,)))))","v":0},null,{"$f":"IF(Avropsblankett!$C$28=$A$5,Avropsblankett!$F$28*F5,IF(Avropsblankett!$C$28=$A$6,Avropsblankett!$F$28*F6,IF(Avropsblankett!$C$28=$A$7,Avropsblankett!$F$28*F7,IF(Avropsblankett!$C$28=$A$8,Avropsblankett!$F$28*F8,IF(Avropsblankett!$C$28=$A$9,Avropsblankett!$F$28*F9,)))))","v":0},null,{"$f":"IF(Avropsblankett!$C$28=$A$5,Avropsblankett!$F$28*H5,IF(Avropsblankett!$C$28=$A$6,Avropsblankett!$F$28*H6,IF(Avropsblankett!$C$28=$A$7,Avropsblankett!$F$28*H7,IF(Avropsblankett!$C$28=$A$8,Avropsblankett!$F$28*H8,IF(Avropsblankett!$C$28=$A$9,Avropsblankett!$F$28*H9,)))))","v":0},null,{"$f":"IF(Avropsblankett!$C$28=$A$5,Avropsblankett!$F$28*J5,IF(Avropsblankett!$C$28=$A$6,Avropsblankett!$F$28*J6,IF(Avropsblankett!$C$28=$A$7,Avropsblankett!$F$28*J7,IF(Avropsblankett!$C$28=$A$8,Avropsblankett!$F$28*J8,IF(Avropsblankett!$C$28=$A$9,Avropsblankett!$F$28*J9,)))))","v":0},null,{"$f":"IF(Avropsblankett!$C$28=$A$5,Avropsblankett!$F$28*L5,IF(Avropsblankett!$C$28=$A$6,Avropsblankett!$F$28*L6,IF(Avropsblankett!$C$28=$A$7,Avropsblankett!$F$28*L7,IF(Avropsblankett!$C$28=$A$8,Avropsblankett!$F$28*L8,IF(Avropsblankett!$C$28=$A$9,Avropsblankett!$F$28*L9,)))))","v":0},null,{"$f":"IF(Avropsblankett!$C$28=$A$5,Avropsblankett!$F$28*N5,IF(Avropsblankett!$C$28=$A$6,Avropsblankett!$F$28*N6,IF(Avropsblankett!$C$28=$A$7,Avropsblankett!$F$28*N7,IF(Avropsblankett!$C$28=$A$8,Avropsblankett!$F$28*N8,IF(Avropsblankett!$C$28=$A$9,Avropsblankett!$F$28*N9,)))))","v":0},null,{"$f":"IF(Avropsblankett!$C$28=$A$5,Avropsblankett!$F$28*P5,IF(Avropsblankett!$C$28=$A$6,Avropsblankett!$F$28*P6,IF(Avropsblankett!$C$28=$A$7,Avropsblankett!$F$28*P7,IF(Avropsblankett!$C$28=$A$8,Avropsblankett!$F$28*P8,IF(Avropsblankett!$C$28=$A$9,Avropsblankett!$F$28*P9,)))))","v":0},null,{"$f":"IF(Avropsblankett!$C$28=$A$5,Avropsblankett!$F$28*R5,IF(Avropsblankett!$C$28=$A$6,Avropsblankett!$F$28*R6,IF(Avropsblankett!$C$28=$A$7,Avropsblankett!$F$28*R7,IF(Avropsblankett!$C$28=$A$8,Avropsblankett!$F$28*R8,IF(Avropsblankett!$C$28=$A$9,Avropsblankett!$F$28*R9,)))))","v":0},null,{"$f":"IF(Avropsblankett!$C$28=$A$5,Avropsblankett!$F$28*T5,IF(Avropsblankett!$C$28=$A$6,Avropsblankett!$F$28*T6,IF(Avropsblankett!$C$28=$A$7,Avropsblankett!$F$28*T7,IF(Avropsblankett!$C$28=$A$8,Avropsblankett!$F$28*T8,IF(Avropsblankett!$C$28=$A$9,Avropsblankett!$F$28*T9,)))))","v":0}]
[null,{"$f":"IF(Avropsblankett!$C$40=$A$5,Avropsblankett!$F$40*B5,IF(Avropsblankett!$C$40=$A$6,Avropsblankett!$F$40*B6,IF(Avropsblankett!$C$40=$A$7,Avropsblankett!$F$40*B7,IF(Avropsblankett!$C$40=$A$8,Avropsblankett!$F$40*B8,IF(Avropsblankett!$C$40=$A$9,Avropsblankett!$F$40*B9,)))))","v":0},null,{"$f":"IF(Avropsblankett!$C$40=$A$5,Avropsblankett!$F$40*D5,IF(Avropsblankett!$C$40=$A$6,Avropsblankett!$F$40*D6,IF(Avropsblankett!$C$40=$A$7,Avropsblankett!$F$40*D7,IF(Avropsblankett!$C$40=$A$8,Avropsblankett!$F$40*D8,IF(Avropsblankett!$C$40=$A$9,Avropsblankett!$F$40*D9,)))))","v":0},null,{"$f":"IF(Avropsblankett!$C$40=$A$5,Avropsblankett!$F$40*F5,IF(Avropsblankett!$C$40=$A$6,Avropsblankett!$F$40*F6,IF(Avropsblankett!$C$40=$A$7,Avropsblankett!$F$40*F7,IF(Avropsblankett!$C$40=$A$8,Avropsblankett!$F$40*F8,IF(Avropsblankett!$C$40=$A$9,Avropsblankett!$F$40*F9,)))))","v":0},null,{"$f":"IF(Avropsblankett!$C$40=$A$5,Avropsblankett!$F$40*H5,IF(Avropsblankett!$C$40=$A$6,Avropsblankett!$F$40*H6,IF(Avropsblankett!$C$40=$A$7,Avropsblankett!$F$40*H7,IF(Avropsblankett!$C$40=$A$8,Avropsblankett!$F$40*H8,IF(Avropsblankett!$C$40=$A$9,Avropsblankett!$F$40*H9,)))))","v":0},null,{"$f":"IF(Avropsblankett!$C$40=$A$5,Avropsblankett!$F$40*J5,IF(Avropsblankett!$C$40=$A$6,Avropsblankett!$F$40*J6,IF(Avropsblankett!$C$40=$A$7,Avropsblankett!$F$40*J7,IF(Avropsblankett!$C$40=$A$8,Avropsblankett!$F$40*J8,IF(Avropsblankett!$C$40=$A$9,Avropsblankett!$F$40*J9,)))))","v":0},null,{"$f":"IF(Avropsblankett!$C$40=$A$5,Avropsblankett!$F$40*L5,IF(Avropsblankett!$C$40=$A$6,Avropsblankett!$F$40*L6,IF(Avropsblankett!$C$40=$A$7,Avropsblankett!$F$40*L7,IF(Avropsblankett!$C$40=$A$8,Avropsblankett!$F$40*L8,IF(Avropsblankett!$C$40=$A$9,Avropsblankett!$F$40*L9,)))))","v":0},null,{"$f":"IF(Avropsblankett!$C$40=$A$5,Avropsblankett!$F$40*N5,IF(Avropsblankett!$C$40=$A$6,Avropsblankett!$F$40*N6,IF(Avropsblankett!$C$40=$A$7,Avropsblankett!$F$40*N7,IF(Avropsblankett!$C$40=$A$8,Avropsblankett!$F$40*N8,IF(Avropsblankett!$C$40=$A$9,Avropsblankett!$F$40*N9,)))))","v":0},null,{"$f":"IF(Avropsblankett!$C$40=$A$5,Avropsblankett!$F$40*P5,IF(Avropsblankett!$C$40=$A$6,Avropsblankett!$F$40*P6,IF(Avropsblankett!$C$40=$A$7,Avropsblankett!$F$40*P7,IF(Avropsblankett!$C$40=$A$8,Avropsblankett!$F$40*P8,IF(Avropsblankett!$C$40=$A$9,Avropsblankett!$F$40*P9,)))))","v":0},null,{"$f":"IF(Avropsblankett!$C$40=$A$5,Avropsblankett!$F$40*R5,IF(Avropsblankett!$C$40=$A$6,Avropsblankett!$F$40*R6,IF(Avropsblankett!$C$40=$A$7,Avropsblankett!$F$40*R7,IF(Avropsblankett!$C$40=$A$8,Avropsblankett!$F$40*R8,IF(Avropsblankett!$C$40=$A$9,Avropsblankett!$F$40*R9,)))))","v":0},null,{"$f":"IF(Avropsblankett!$C$40=$A$5,Avropsblankett!$F$40*T5,IF(Avropsblankett!$C$40=$A$6,Avropsblankett!$F$40*T6,IF(Avropsblankett!$C$40=$A$7,Avropsblankett!$F$40*T7,IF(Avropsblankett!$C$40=$A$8,Avropsblankett!$F$40*T8,IF(Avropsblankett!$C$40=$A$9,Avropsblankett!$F$40*T9,)))))","v":0}]
[null,{"$f":"IF(Avropsblankett!$C$52=$A$5,Avropsblankett!$F$52*B5,IF(Avropsblankett!$C$52=$A$6,Avropsblankett!$F$52*B6,IF(Avropsblankett!$C$52=$A$7,Avropsblankett!$F$52*B7,IF(Avropsblankett!$C$52=$A$8,Avropsblankett!$F$52*B8,IF(Avropsblankett!$C$52=$A$9,Avropsblankett!$F$52*B9,)))))","v":0},null,{"$f":"IF(Avropsblankett!$C$52=$A$5,Avropsblankett!$F$52*D5,IF(Avropsblankett!$C$52=$A$6,Avropsblankett!$F$52*D6,IF(Avropsblankett!$C$52=$A$7,Avropsblankett!$F$52*D7,IF(Avropsblankett!$C$52=$A$8,Avropsblankett!$F$52*D8,IF(Avropsblankett!$C$52=$A$9,Avropsblankett!$F$52*D9,)))))","v":0},null,{"$f":"IF(Avropsblankett!$C$52=$A$5,Avropsblankett!$F$52*F5,IF(Avropsblankett!$C$52=$A$6,Avropsblankett!$F$52*F6,IF(Avropsblankett!$C$52=$A$7,Avropsblankett!$F$52*F7,IF(Avropsblankett!$C$52=$A$8,Avropsblankett!$F$52*F8,IF(Avropsblankett!$C$52=$A$9,Avropsblankett!$F$52*F9,)))))","v":0},null,{"$f":"IF(Avropsblankett!$C$52=$A$5,Avropsblankett!$F$52*H5,IF(Avropsblankett!$C$52=$A$6,Avropsblankett!$F$52*H6,IF(Avropsblankett!$C$52=$A$7,Avropsblankett!$F$52*H7,IF(Avropsblankett!$C$52=$A$8,Avropsblankett!$F$52*H8,IF(Avropsblankett!$C$52=$A$9,Avropsblankett!$F$52*H9,)))))","v":0},null,{"$f":"IF(Avropsblankett!$C$52=$A$5,Avropsblankett!$F$52*J5,IF(Avropsblankett!$C$52=$A$6,Avropsblankett!$F$52*J6,IF(Avropsblankett!$C$52=$A$7,Avropsblankett!$F$52*J7,IF(Avropsblankett!$C$52=$A$8,Avropsblankett!$F$52*J8,IF(Avropsblankett!$C$52=$A$9,Avropsblankett!$F$52*J9,)))))","v":0},null,{"$f":"IF(Avropsblankett!$C$52=$A$5,Avropsblankett!$F$52*L5,IF(Avropsblankett!$C$52=$A$6,Avropsblankett!$F$52*L6,IF(Avropsblankett!$C$52=$A$7,Avropsblankett!$F$52*L7,IF(Avropsblankett!$C$52=$A$8,Avropsblankett!$F$52*L8,IF(Avropsblankett!$C$52=$A$9,Avropsblankett!$F$52*L9,)))))","v":0},null,{"$f":"IF(Avropsblankett!$C$52=$A$5,Avropsblankett!$F$52*N5,IF(Avropsblankett!$C$52=$A$6,Avropsblankett!$F$52*N6,IF(Avropsblankett!$C$52=$A$7,Avropsblankett!$F$52*N7,IF(Avropsblankett!$C$52=$A$8,Avropsblankett!$F$52*N8,IF(Avropsblankett!$C$52=$A$9,Avropsblankett!$F$52*N9,)))))","v":0},null,{"$f":"IF(Avropsblankett!$C$52=$A$5,Avropsblankett!$F$52*P5,IF(Avropsblankett!$C$52=$A$6,Avropsblankett!$F$52*P6,IF(Avropsblankett!$C$52=$A$7,Avropsblankett!$F$52*P7,IF(Avropsblankett!$C$52=$A$8,Avropsblankett!$F$52*P8,IF(Avropsblankett!$C$52=$A$9,Avropsblankett!$F$52*P9,)))))","v":0},null,{"$f":"IF(Avropsblankett!$C$52=$A$5,Avropsblankett!$F$52*R5,IF(Avropsblankett!$C$52=$A$6,Avropsblankett!$F$52*R6,IF(Avropsblankett!$C$52=$A$7,Avropsblankett!$F$52*R7,IF(Avropsblankett!$C$52=$A$8,Avropsblankett!$F$52*R8,IF(Avropsblankett!$C$52=$A$9,Avropsblankett!$F$52*R9,)))))","v":0},null,{"$f":"IF(Avropsblankett!$C$52=$A$5,Avropsblankett!$F$52*T5,IF(Avropsblankett!$C$52=$A$6,Avropsblankett!$F$52*T6,IF(Avropsblankett!$C$52=$A$7,Avropsblankett!$F$52*T7,IF(Avropsblankett!$C$52=$A$8,Avropsblankett!$F$52*T8,IF(Avropsblankett!$C$52=$A$9,Avropsblankett!$F$52*T9,)))))","v":0}]
[null,{"$f":"IF(Avropsblankett!$C$64=$A$5,Avropsblankett!$F$64*B5,IF(Avropsblankett!$C$64=$A$6,Avropsblankett!$F$64*B6,IF(Avropsblankett!$C$64=$A$7,Avropsblankett!$F$64*B7,IF(Avropsblankett!$C$64=$A$8,Avropsblankett!$F$64*B8,IF(Avropsblankett!$C$64=$A$9,Avropsblankett!$F$64*B9,)))))","v":0},null,{"$f":"IF(Avropsblankett!$C$64=$A$5,Avropsblankett!$F$64*D5,IF(Avropsblankett!$C$64=$A$6,Avropsblankett!$F$64*D6,IF(Avropsblankett!$C$64=$A$7,Avropsblankett!$F$64*D7,IF(Avropsblankett!$C$64=$A$8,Avropsblankett!$F$64*D8,IF(Avropsblankett!$C$64=$A$9,Avropsblankett!$F$64*D9,)))))","v":0},null,{"$f":"IF(Avropsblankett!$C$64=$A$5,Avropsblankett!$F$64*F5,IF(Avropsblankett!$C$64=$A$6,Avropsblankett!$F$64*F6,IF(Avropsblankett!$C$64=$A$7,Avropsblankett!$F$64*F7,IF(Avropsblankett!$C$64=$A$8,Avropsblankett!$F$64*F8,IF(Avropsblankett!$C$64=$A$9,Avropsblankett!$F$64*F9,)))))","v":0},null,{"$f":"IF(Avropsblankett!$C$64=$A$5,Avropsblankett!$F$64*H5,IF(Avropsblankett!$C$64=$A$6,Avropsblankett!$F$64*H6,IF(Avropsblankett!$C$64=$A$7,Avropsblankett!$F$64*H7,IF(Avropsblankett!$C$64=$A$8,Avropsblankett!$F$64*H8,IF(Avropsblankett!$C$64=$A$9,Avropsblankett!$F$64*H9,)))))","v":0},null,{"$f":"IF(Avropsblankett!$C$64=$A$5,Avropsblankett!$F$64*J5,IF(Avropsblankett!$C$64=$A$6,Avropsblankett!$F$64*J6,IF(Avropsblankett!$C$64=$A$7,Avropsblankett!$F$64*J7,IF(Avropsblankett!$C$64=$A$8,Avropsblankett!$F$64*J8,IF(Avropsblankett!$C$64=$A$9,Avropsblankett!$F$64*J9,)))))","v":0},null,{"$f":"IF(Avropsblankett!$C$64=$A$5,Avropsblankett!$F$64*L5,IF(Avropsblankett!$C$64=$A$6,Avropsblankett!$F$64*L6,IF(Avropsblankett!$C$64=$A$7,Avropsblankett!$F$64*L7,IF(Avropsblankett!$C$64=$A$8,Avropsblankett!$F$64*L8,IF(Avropsblankett!$C$64=$A$9,Avropsblankett!$F$64*L9,)))))","v":0},null,{"$f":"IF(Avropsblankett!$C$64=$A$5,Avropsblankett!$F$64*N5,IF(Avropsblankett!$C$64=$A$6,Avropsblankett!$F$64*N6,IF(Avropsblankett!$C$64=$A$7,Avropsblankett!$F$64*N7,IF(Avropsblankett!$C$64=$A$8,Avropsblankett!$F$64*N8,IF(Avropsblankett!$C$64=$A$9,Avropsblankett!$F$64*N9,)))))","v":0},null,{"$f":"IF(Avropsblankett!$C$64=$A$5,Avropsblankett!$F$64*P5,IF(Avropsblankett!$C$64=$A$6,Avropsblankett!$F$64*P6,IF(Avropsblankett!$C$64=$A$7,Avropsblankett!$F$64*P7,IF(Avropsblankett!$C$64=$A$8,Avropsblankett!$F$64*P8,IF(Avropsblankett!$C$64=$A$9,Avropsblankett!$F$64*P9,)))))","v":0},null,{"$f":"IF(Avropsblankett!$C$64=$A$5,Avropsblankett!$F$64*R5,IF(Avropsblankett!$C$64=$A$6,Avropsblankett!$F$64*R6,IF(Avropsblankett!$C$64=$A$7,Avropsblankett!$F$64*R7,IF(Avropsblankett!$C$64=$A$8,Avropsblankett!$F$64*R8,IF(Avropsblankett!$C$64=$A$9,Avropsblankett!$F$64*R9,)))))","v":0},null,{"$f":"IF(Avropsblankett!$C$64=$A$5,Avropsblankett!$F$64*T5,IF(Avropsblankett!$C$64=$A$6,Avropsblankett!$F$64*T6,IF(Avropsblankett!$C$64=$A$7,Avropsblankett!$F$64*T7,IF(Avropsblankett!$C$64=$A$8,Avropsblankett!$F$64*T8,IF(Avropsblankett!$C$64=$A$9,Avropsblankett!$F$64*T9,)))))","v":0}]
[null,{"$f":"IF(Avropsblankett!$C$76=$A$5,Avropsblankett!$F$76*B5,IF(Avropsblankett!$C$76=$A$6,Avropsblankett!$F$76*B6,IF(Avropsblankett!$C$76=$A$7,Avropsblankett!$F$76*B7,IF(Avropsblankett!$C$76=$A$8,Avropsblankett!$F$76*B8,IF(Avropsblankett!$C$76=$A$9,Avropsblankett!$F$76*B9,)))))","v":0},null,{"$f":"IF(Avropsblankett!$C$76=$A$5,Avropsblankett!$F$76*D5,IF(Avropsblankett!$C$76=$A$6,Avropsblankett!$F$76*D6,IF(Avropsblankett!$C$76=$A$7,Avropsblankett!$F$76*D7,IF(Avropsblankett!$C$76=$A$8,Avropsblankett!$F$76*D8,IF(Avropsblankett!$C$76=$A$9,Avropsblankett!$F$76*D9,)))))","v":0},null,{"$f":"IF(Avropsblankett!$C$76=$A$5,Avropsblankett!$F$76*F5,IF(Avropsblankett!$C$76=$A$6,Avropsblankett!$F$76*F6,IF(Avropsblankett!$C$76=$A$7,Avropsblankett!$F$76*F7,IF(Avropsblankett!$C$76=$A$8,Avropsblankett!$F$76*F8,IF(Avropsblankett!$C$76=$A$9,Avropsblankett!$F$76*F9,)))))","v":0},null,{"$f":"IF(Avropsblankett!$C$76=$A$5,Avropsblankett!$F$76*H5,IF(Avropsblankett!$C$76=$A$6,Avropsblankett!$F$76*H6,IF(Avropsblankett!$C$76=$A$7,Avropsblankett!$F$76*H7,IF(Avropsblankett!$C$76=$A$8,Avropsblankett!$F$76*H8,IF(Avropsblankett!$C$76=$A$9,Avropsblankett!$F$76*H9,)))))","v":0},null,{"$f":"IF(Avropsblankett!$C$76=$A$5,Avropsblankett!$F$76*J5,IF(Avropsblankett!$C$76=$A$6,Avropsblankett!$F$76*J6,IF(Avropsblankett!$C$76=$A$7,Avropsblankett!$F$76*J7,IF(Avropsblankett!$C$76=$A$8,Avropsblankett!$F$76*J8,IF(Avropsblankett!$C$76=$A$9,Avropsblankett!$F$76*J9,)))))","v":0},null,{"$f":"IF(Avropsblankett!$C$76=$A$5,Avropsblankett!$F$76*L5,IF(Avropsblankett!$C$76=$A$6,Avropsblankett!$F$76*L6,IF(Avropsblankett!$C$76=$A$7,Avropsblankett!$F$76*L7,IF(Avropsblankett!$C$76=$A$8,Avropsblankett!$F$76*L8,IF(Avropsblankett!$C$76=$A$9,Avropsblankett!$F$76*L9,)))))","v":0},null,{"$f":"IF(Avropsblankett!$C$76=$A$5,Avropsblankett!$F$76*N5,IF(Avropsblankett!$C$76=$A$6,Avropsblankett!$F$76*N6,IF(Avropsblankett!$C$76=$A$7,Avropsblankett!$F$76*N7,IF(Avropsblankett!$C$76=$A$8,Avropsblankett!$F$76*N8,IF(Avropsblankett!$C$76=$A$9,Avropsblankett!$F$76*N9,)))))","v":0},null,{"$f":"IF(Avropsblankett!$C$76=$A$5,Avropsblankett!$F$76*P5,IF(Avropsblankett!$C$76=$A$6,Avropsblankett!$F$76*P6,IF(Avropsblankett!$C$76=$A$7,Avropsblankett!$F$76*P7,IF(Avropsblankett!$C$76=$A$8,Avropsblankett!$F$76*P8,IF(Avropsblankett!$C$76=$A$9,Avropsblankett!$F$76*P9,)))))","v":0},null,{"$f":"IF(Avropsblankett!$C$76=$A$5,Avropsblankett!$F$76*R5,IF(Avropsblankett!$C$76=$A$6,Avropsblankett!$F$76*R6,IF(Avropsblankett!$C$76=$A$7,Avropsblankett!$F$76*R7,IF(Avropsblankett!$C$76=$A$8,Avropsblankett!$F$76*R8,IF(Avropsblankett!$C$76=$A$9,Avropsblankett!$F$76*R9,)))))","v":0},null,{"$f":"IF(Avropsblankett!$C$76=$A$5,Avropsblankett!$F$76*T5,IF(Avropsblankett!$C$76=$A$6,Avropsblankett!$F$76*T6,IF(Avropsblankett!$C$76=$A$7,Avropsblankett!$F$76*T7,IF(Avropsblankett!$C$76=$A$8,Avropsblankett!$F$76*T8,IF(Avropsblankett!$C$76=$A$9,Avropsblankett!$F$76*T9,)))))","v":0}]
["Summa",{"$f":"SUM(B10:B14)","v":0},null,{"$f":"SUM(D10:D14)","v":0},null,{"$f":"SUM(F10:F14)","v":0},null,{"$f":"SUM(H10:H14)","v":0},null,{"$f":"SUM(J10:J14)","v":0},null,{"$f":"SUM(L10:L14)","v":0},null,{"$f":"SUM(N10:N14)","v":0},null,{"$f":"SUM(P10:P14)","v":0},null,{"$f":"SUM(R10:R14)","v":0},null,{"$f":"SUM(T10:T14)","v":0}]

{"sheet":"Broschyrer","index":4,"n_rows":48,"n_cols":52,"rows_kept":48,"cut":false,"hidden":false,"merged":[[3,0,3,1],[15,0,15,1],[29,0,29,1],[1,0,2,2],[0,3,0,6],[0,0,0,2],[2,3,2,6],[1,3,1,6],[2,8,2,11],[0,33,0,36],[0,38,0,41],[0,43,0,46],[0,8,0,11],[0,13,0,16],[0,18,0,21],[0,23,0,26],[0,28,0,31],[1,38,1,41],[1,43,1,46],[2,33,2,36],[2,38,2,41],[2,43,2,46],[44,9,44,11],[44,4,44,6],[1,33,1,36],[44,14,44,16],[44,19,44,21],[44,29,44,31],[44,24,44,26],[2,18,2,21],[2,23,2,26],[2,28,2,31],[1,13,1,16],[2,13,2,16],[1,18,1,21],[1,23,1,26],[1,28,1,31],[1,8,1,11],[44,34,44,36],[44,44,44,46],[1,48,1,51],[0,48,0,51],[44,49,44,51],[2,48,2,51],[44,39,44,41]]}
["Broschyrer",null,null,{"$f":"Uträkningsblad!C4","v":"Bröderna Hansson H-tryck Aktiebolag"},null,null,null,null,{"$f":"Uträkningsblad!D4","v":"Elanders Sverige AB"},null,null,null,null,{"$f":"Uträkningsblad!E4","v":"Exakta Print AB"},null,null,null,null,{"$f":"Uträkningsblad!F4","v":"Kalmar Kuvert Sweden AB"},null,null,null,null,{"$f":"Uträkningsblad!G4","v":"Ljungbergs Tryckeri i Klippan AB"},null,null,null,null,{"$f":"Uträkningsblad!H4","v":"Scandinavian Print Group Sweden AB"},null,null,null,null,{"$f":"Uträkningsblad!I4","v":"Stema Specialtryck AB"},null,null,null,null,{"$f":"Uträkningsblad!J4","v":"Stibo Complete A/S"},null,null,null,null,{"$f":"Uträkningsblad!K4","v":"Åtta.45 Tryckeri AB"},null,null,null,null,{"$f":"Uträkningsblad!L4","v":"Leverantör 10"}]
[]
[null,null,null,"Priser lämnas i gulmarkerade fält nedan",null,null,null,null,"Priser lämnas i gulmarkerade fält nedan",null,null,null,null,"Priser lämnas i gulmarkerade fält nedan",null,null,null,null,"Priser lämnas i gulmarkerade fält nedan",null,null,null,null,"Priser lämnas i gulmarkerade fält nedan",null,null,null,null,"Priser lämnas i gulmarkerade fält nedan",null,null,null,null,"Priser lämnas i gulmarkerade fält nedan",null,null,null,null,"Priser lämnas i gulmarkerade fält nedan",null,null,null,null,"Priser lämnas i gulmarkerade fält nedan",null,null,null,null,"Priser lämnas i gulmarkerade fält nedan"]
["Broschyrer_Variant_1",null,"Beskrivning/omfång","Upplaga","Ange pris","Följande","Ange pris",null,"Upplaga","Ange pris","Följande","Ange pris",null,"Upplaga","Ange pris","Följande","Ange pris",null,"Upplaga","Ange pris","Följande","Ange pris",null,"Upplaga","Ange pris","Följande","Ange pris",null,"Upplaga","Ange pris","Följande","Ange pris",null,"Upplaga","Ange pris","Följande","Ange pris",null,"Upplaga","Ange pris","Följande","Ange pris",null,"Upplaga","Ange pris","Följande","Ange pris",null,"Upplaga","Ange pris","Följande","Ange pris"]
["Underlag","A: Öppna filer. B: PDF/PDFx.","8 sidor",500,3078,100,390,null,500,2117,100,369,null,500,1840,100,190,null,500,2250,100,135,null,500,1449,100,40,null,500,1980,100,258,null,500,1000,100,90,null,500,1605,100,236,null,500,3560,100,380,null,500,3515,100,365]
["Format","A4","16 sidor",500,4817,100,738,null,500,3397,100,625,null,500,3200,100,245,null,500,3500,100,240,null,500,2608,100,90,null,500,3405,100,462,null,500,1750,100,150,null,500,2902,100,431,null,500,4950,100,560,null,500,7839,100,1405]
["Papper","130g obestruket","32 sidor",500,8296,100,1433,null,500,5928,100,1131,null,500,4420,100,475,null,500,5800,100,425,null,500,3400,100,140,null,500,6256,100,688,null,500,3000,100,275,null,500,3403,100,506,null,500,6320,100,710,null,500,12480,100,2490]
["Tryck","4+4 färger","64 sidor",500,15253,100,2824,null,500,10501,100,2048,null,500,6900,100,900,null,500,12000,100,850,null,500,5600,100,300,null,500,11265,100,1190,null,500,5000,100,500,null,500,5601,100,836,null,500,9150,100,1210]
["Bokbinderi","Klammerhäftning"]
[null,null,null,null,{"$f":"IF(Avropsblankett!$C$28=$A$4,(IF(Avropsblankett!$E$28<17,(E5+(E6-E5)/8*(Avropsblankett!$E$28-8)),IF(Avropsblankett!$E$28<33,(E6+(E7-E6)/24*(Avropsblankett!$E$28-16)),IF(Avropsblankett!$E$28<65,(E7+(E8-E7)/32*(Avropsblankett!$E$28-32)),\"\")))),\"\")","v":""},null,{"$f":"(Avropsblankett!$F$28-500)/100*IF(Avropsblankett!$C$28=$A$4,IF(Avropsblankett!$E$28<17,(G5+(G6-G5)/8*(Avropsblankett!$E$28-8)),IF(Avropsblankett!$E$28<33,(G6+(G7-G6)/16*(Avropsblankett!$E$28-16)),IF(Avropsblankett!$E$28<65,(G7+(G8-G7)/32*(Avropsblankett!$E$28-32)),\"\"))))","v":0},null,null,{"$f":"IF(Avropsblankett!$C$28=$A$4,(IF(Avropsblankett!$E$28<17,(J5+(J6-J5)/8*(Avropsblankett!$E$28-8)),IF(Avropsblankett!$E$28<33,(J6+(J7-J6)/24*(Avropsblankett!$E$28-16)),IF(Avropsblankett!$E$28<65,(J7+(J8-J7)/32*(Avropsblankett!$E$28-32)),\"\")))),\"\")","v":""},null,{"$f":"(Avropsblankett!$F$28-500)/100*IF(Avropsblankett!$C$28=$A$4,IF(Avropsblankett!$E$28<17,(L5+(L6-L5)/8*(Avropsblankett!$E$28-8)),IF(Avropsblankett!$E$28<33,(L6+(L7-L6)/16*(Avropsblankett!$E$28-16)),IF(Avropsblankett!$E$28<65,(L7+(L8-L7)/32*(Avropsblankett!$E$28-32)),\"\"))))","v":0},null,null,{"$f":"IF(Avropsblankett!$C$28=$A$4,(IF(Avropsblankett!$E$28<17,(O5+(O6-O5)/8*(Avropsblankett!$E$28-8)),IF(Avropsblankett!$E$28<33,(O6+(O7-O6)/24*(Avropsblankett!$E$28-16)),IF(Avropsblankett!$E$28<65,(O7+(O8-O7)/32*(Avropsblankett!$E$28-32)),\"\")))),\"\")","v":""},null,{"$f":"(Avropsblankett!$F$28-500)/100*IF(Avropsblankett!$C$28=$A$4,IF(Avropsblankett!$E$28<17,(Q5+(Q6-Q5)/8*(Avropsblankett!$E$28-8)),IF(Avropsblankett!$E$28<33,(Q6+(Q7-Q6)/16*(Avropsblankett!$E$28-16)),IF(Avropsblankett!$E$28<65,(Q7+(Q8-Q7)/32*(Avropsblankett!$E$28-32)),\"\"))))","v":0},null,null,{"$f":"IF(Avropsblankett!$C$28=$A$4,(IF(Avropsblankett!$E$28<17,(T5+(T6-T5)/8*(Avropsblankett!$E$28-8)),IF(Avropsblankett!$E$28<33,(T6+(T7-T6)/24*(Avropsblankett!$E$28-16)),IF(Avropsblankett!$E$28<65,(T7+(T8-T7)/32*(Avropsblankett!$E$28-32)),\"\")))),\"\")","v":""},null,{"$f":"(Avropsblankett!$F$28-500)/100*IF(Avropsblankett!$C$28=$A$4,IF(Avropsblankett!$E$28<17,(V5+(V6-V5)/8*(Avropsblankett!$E$28-8)),IF(Avropsblankett!$E$28<33,(V6+(V7-V6)/16*(Avropsblankett!$E$28-16)),IF(Avropsblankett!$E$28<65,(V7+(V8-V7)/32*(Avropsblankett!$E$28-32)),\"\"))))","v":0},null,null,{"$f":"IF(Avropsblankett!$C$28=$A$4,(IF(Avropsblankett!$E$28<17,(Y5+(Y6-Y5)/8*(Avropsblankett!$E$28-8)),IF(Avropsblankett!$E$28<33,(Y6+(Y7-Y6)/24*(Avropsblankett!$E$28-16)),IF(Avropsblankett!$E$28<65,(Y7+(Y8-Y7)/32*(Avropsblankett!$E$28-32)),\"\")))),\"\")","v":""},null,{"$f":"(Avropsblankett!$F$28-500)/100*IF(Avropsblankett!$C$28=$A$4,IF(Avropsblankett!$E$28<17,(AA5+(AA6-AA5)/8*(Avropsblankett!$E$28-8)),IF(Avropsblankett!$E$28<33,(AA6+(AA7-AA6)/16*(Avropsblankett!$E$28-16)),IF(Avropsblankett!$E$28<65,(AA7+(AA8-AA7)/32*(Avropsblankett!$E$28-32)),\"\"))))","v":0},null,null,{"$f":"IF(Avropsblankett!$C$28=$A$4,(IF(Avropsblankett!$E$28<17,(AD5+(AD6-AD5)/8*(Avropsblankett!$E$28-8)),IF(Avropsblankett!$E$28<33,(AD6+(AD7-AD6)/24*(Avropsblankett!$E$28-16)),IF(Avropsblankett!$E$28<65,(AD7+(AD8-AD7)/32*(Avropsblankett!$E$28-32)),\"\")))),\"\")","v":""},null,{"$f":"(Avropsblankett!$F$28-500)/100*IF(Avropsblankett!$C$28=$A$4,IF(Avropsblankett!$E$28<17,(AF5+(AF6-AF5)/8*(Avropsblankett!$E$28-8)),IF(Avropsblankett!$E$28<33,(AF6+(AF7-AF6)/16*(Avropsblankett!$E$28-16)),IF(Avropsblankett!$E$28<65,(AF7+(AF8-AF7)/32*(Avropsblankett!$E$28-32)),\"\"))))","v":0},null,null,{"$f":"IF(Avropsblankett!$C$28=$A$4,(IF(Avropsblankett!$E$28<17,(AI5+(AI6-AI5)/8*(Avropsblankett!$E$28-8)),IF(Avropsblankett!$E$28<33,(AI6+(AI7-AI6)/24*(Avropsblankett!$E$28-16)),IF(Avropsblankett!$E$28<65,(AI7+(AI8-AI7)/32*(Avropsblankett!$E$28-32)),\"\")))),\"\")","v":""},null,{"$f":"(Avropsblankett!$F$28-500)/100*IF(Avropsblankett!$C$28=$A$4,IF(Avropsblankett!$E$28<17,(AK5+(AK6-AK5)/8*(Avropsblankett!$E$28-8)),IF(Avropsblankett!$E$28<33,(AK6+(AK7-AK6)/16*(Avropsblankett!$E$28-16)),IF(Avropsblankett!$E$28<65,(AK7+(AK8-AK7)/32*(Avropsblankett!$E$28-32)),\"\"))))","v":0},null,null,{"$f":"IF(Avropsblankett!$C$28=$A$4,(IF(Avropsblankett!$E$28<17,(AN5+(AN6-AN5)/8*(Avropsblankett!$E$28-8)),IF(Avropsblankett!$E$28<33,(AN6+(AN7-AN6)/24*(Avropsblankett!$E$28-16)),IF(Avropsblankett!$E$28<65,(AN7+(AN8-AN7)/32*(Avropsblankett!$E$28-32)),\"\")))),\"\")","v":""},null,{"$f":"(Avropsblankett!$F$28-500)/100*IF(Avropsblankett!$C$28=$A$4,IF(Avropsblankett!$E$28<17,(AP5+(AP6-AP5)/8*(Avropsblankett!$E$28-8)),IF(Avropsblankett!$E$28<33,(AP6+(AP7-AP6)/16*(Avropsblankett!$E$28-16)),IF(Avropsblankett!$E$28<65,(AP7+(AP8-AP7)/32*(Avropsblankett!$E$28-32)),\"\"))))","v":0},null,null,{"$f":"IF(Avropsblankett!$C$28=$A$4,(IF(Avropsblankett!$E$28<17,(AS5+(AS6-AS5)/8*(Avropsblankett!$E$28-8)),IF(Avropsblankett!$E$28<33,(AS6+(AS7-AS6)/24*(Avropsblankett!$E$28-16)),IF(Avropsblankett!$E$28<65,(AS7+(AS8-AS7)/32*(Avropsblankett!$E$28-32)),\"\")))),\"\")","v":""},null,{"$f":"(Avropsblankett!$F$28-500)/100*IF(Avropsblankett!$C$28=$A$4,IF(Avropsblankett!$E$28<17,(AU5+(AU6-AU5)/8*(Avropsblankett!$E$28-8)),IF(Avropsblankett!$E$28<33,(AU6+(AU7-AU6)/16*(Avropsblankett!$E$28-16)),IF(Avropsblankett!$E$28<65,(AU7+(AU8-AU7)/32*(Avropsblankett!$E$28-32)),\"\"))))","v":0},null,null,{"$f":"IF(Avropsblankett!$C$28=$A$4,IF(Avropsblankett!$E$28<33,(AX5+(AX6-AX5)/24*(Avropsblankett!$E$28-8)),IF(Avropsblankett!$E$28<65,(AX6+(AX7-AX6)/32*(Avropsblankett!$E$28-32)),\"\")),\"\")","v":""},null,{"$f":"(Avropsblankett!$F$28-500)/100*IF(Avropsblankett!$C$28=$A$4,IF(Avropsblankett!$E$28<33,(AZ5+(AZ6-AZ5)/24*(Avropsblankett!$E$28-8)),IF(Avropsblankett!$E$28<65,(AZ6+(AZ7-AZ6)/32*(Avropsblankett!$E$28-32)),\"\")))","v":0}]
[null,null,null,null,{"$f":"IF(Avropsblankett!$C$40=$A$4,(IF(Avropsblankett!$E$40<17,(E5+(E6-E5)/8*(Avropsblankett!$E$40-8)),IF(Avropsblankett!$E$40<33,(E6+(E7-E6)/24*(Avropsblankett!$E$40-16)),IF(Avropsblankett!$E$40<65,(E7+(E8-E7)/32*(Avropsblankett!$E$40-32)),\"\")))),\"\")","v":""},null,{"$f":"(Avropsblankett!$F$40-500)/100*IF(Avropsblankett!$C$40=$A$4,IF(Avropsblankett!$E$40<17,(G5+(G6-G5)/8*(Avropsblankett!$E$40-8)),IF(Avropsblankett!$E$40<33,(G6+(G7-G6)/16*(Avropsblankett!$E$40-16)),IF(Avropsblankett!$E$40<65,(G7+(G8-G7)/32*(Avropsblankett!$E$40-32)),\"\"))))","v":0},null,null,{"$f":"IF(Avropsblankett!$C$40=$A$4,(IF(Avropsblankett!$E$40<17,(J5+(J6-J5)/8*(Avropsblankett!$E$40-8)),IF(Avropsblankett!$E$40<33,(J6+(J7-J6)/24*(Avropsblankett!$E$40-16)),IF(Avropsblankett!$E$40<65,(J7+(J8-J7)/32*(Avropsblankett!$E$40-32)),\"\")))),\"\")","v":""},null,{"$f":"(Avropsblankett!$F$40-500)/100*IF(Avropsblankett!$C$40=$A$4,IF(Avropsblankett!$E$40<17,(L5+(L6-L5)/8*(Avropsblankett!$E$40-8)),IF(Avropsblankett!$E$40<33,(L6+(L7-L6)/16*(Avropsblankett!$E$40-16)),IF(Avropsblankett!$E$40<65,(L7+(L8-L7)/32*(Avropsblankett!$E$40-32)),\"\"))))","v":0},null,null,{"$f":"IF(Avropsblankett!$C$40=$A$4,(IF(Avropsblankett!$E$40<17,(O5+(O6-O5)/8*(Avropsblankett!$E$40-8)),IF(Avropsblankett!$E$40<33,(O6+(O7-O6)/24*(Avropsblankett!$E$40-16)),IF(Avropsblankett!$E$40<65,(O7+(O8-O7)/32*(Avropsblankett!$E$40-32)),\"\")))),\"\")","v":""},null,{"$f":"(Avropsblankett!$F$40-500)/100*IF(Avropsblankett!$C$40=$A$4,IF(Avropsblankett!$E$40<17,(Q5+(Q6-Q5)/8*(Avropsblankett!$E$40-8)),IF(Avropsblankett!$E$40<33,(Q6+(Q7-Q6)/16*(Avropsblankett!$E$40-16)),IF(Avropsblankett!$E$40<65,(Q7+(Q8-Q7)/32*(Avropsblankett!$E$40-32)),\"\"))))","v":0},null,null,{"$f":"IF(Avropsblankett!$C$40=$A$4,(IF(Avropsblankett!$E$40<17,(T5+(T6-T5)/8*(Avropsblankett!$E$40-8)),IF(Avropsblankett!$E$40<33,(T6+(T7-T6)/24*(Avropsblankett!$E$40-16)),IF(Avropsblankett!$E$40<65,(T7+(T8-T7)/32*(Avropsblankett!$E$40-32)),\"\")))),\"\")","v":""},null,{"$f":"(Avropsblankett!$F$40-500)/100*IF(Avropsblankett!$C$40=$A$4,IF(Avropsblankett!$E$40<17,(V5+(V6-V5)/8*(Avropsblankett!$E$40-8)),IF(Avropsblankett!$E$40<33,(V6+(V7-V6)/16*(Avropsblankett!$E$40-16)),IF(Avropsblankett!$E$40<65,(V7+(V8-V7)/32*(Avropsblankett!$E$40-32)),\"\"))))","v":0},null,null,{"$f":"IF(Avropsblankett!$C$40=$A$4,(IF(Avropsblankett!$E$40<17,(Y5+(Y6-Y5)/8*(Avropsblankett!$E$40-8)),IF(Avropsblankett!$E$40<33,(Y6+(Y7-Y6)/24*(Avropsblankett!$E$40-16)),IF(Avropsblankett!$E$40<65,(Y7+(Y8-Y7)/32*(Avropsblankett!$E$40-32)),\"\")))),\"\")","v":""},null,{"$f":"(Avropsblankett!$F$40-500)/100*IF(Avropsblankett!$C$40=$A$4,IF(Avropsblankett!$E$40<17,(AA5+(AA6-AA5)/8*(Avropsblankett!$E$40-8)),IF(Avropsblankett!$E$40<33,(AA6+(AA7-AA6)/16*(Avropsblankett!$E$40-16)),IF(Avropsblankett!$E$40<65,(AA7+(AA8-AA7)/32*(Avropsblankett!$E$40-32)),\"\"))))","v":0},null,null,{"$f":"IF(Avropsblankett!$C$40=$A$4,(IF(Avropsblankett!$E$40<17,(AD5+(AD6-AD5)/8*(Avropsblankett!$E$40-8)),IF(Avropsblankett!$E$40<33,(AD6+(AD7-AD6)/24*(Avropsblankett!$E$40-16)),IF(Avropsblankett!$E$40<65,(AD7+(AD8-AD7)/32*(Avropsblankett!$E$40-32)),\"\")))),\"\")","v":""},null,{"$f":"(Avropsblankett!$F$40-500)/100*IF(Avropsblankett!$C$40=$A$4,IF(Avropsblankett!$E$40<17,(AF5+(AF6-AF5)/8*(Avropsblankett!$E$40-8)),IF(Avropsblankett!$E$40<33,(AF6+(AF7-AF6)/16*(Avropsblankett!$E$40-16)),IF(Avropsblankett!$E$40<65,(AF7+(AF8-AF7)/32*(Avropsblankett!$E$40-32)),\"\"))))","v":0},null,null,{"$f":"IF(Avropsblankett!$C$40=$A$4,(IF(Avropsblankett!$E$40<17,(AI5+(AI6-AI5)/8*(Avropsblankett!$E$40-8)),IF(Avropsblankett!$E$40<33,(AI6+(AI7-AI6)/24*(Avropsblankett!$E$40-16)),IF(Avropsblankett!$E$40<65,(AI7+(AI8-AI7)/32*(Avropsblankett!$E$40-32)),\"\")))),\"\")","v":""},null,{"$f":"(Avropsblankett!$F$40-500)/100*IF(Avropsblankett!$C$40=$A$4,IF(Avropsblankett!$E$40<17,(AK5+(AK6-AK5)/8*(Avropsblankett!$E$40-8)),IF(Avropsblankett!$E$40<33,(AK6+(AK7-AK6)/16*(Avropsblankett!$E$40-16)),IF(Avropsblankett!$E$40<65,(AK7+(AK8-AK7)/32*(Avropsblankett!$E$40-32)),\"\"))))","v":0},null,null,{"$f":"IF(Avropsblankett!$C$40=$A$4,(IF(Avropsblankett!$E$40<17,(AN5+(AN6-AN5)/8*(Avropsblankett!$E$40-8)),IF(Avropsblankett!$E$40<33,(AN6+(AN7-AN6)/24*(Avropsblankett!$E$40-16)),IF(Avropsblankett!$E$40<65,(AN7+(AN8-AN7)/32*(Avropsblankett!$E$40-32)),\"\")))),\"\")","v":""},null,{"$f":"(Avropsblankett!$F$40-500)/100*IF(Avropsblankett!$C$40=$A$4,IF(Avropsblankett!$E$40<17,(AP5+(AP6-AP5)/8*(Avropsblankett!$E$40-8)),IF(Avropsblankett!$E$40<33,(AP6+(AP7-AP6)/16*(Avropsblankett!$E$40-16)),IF(Avropsblankett!$E$40<65,(AP7+(AP8-AP7)/32*(Avropsblankett!$E$40-32)),\"\"))))","v":0},null,null,{"$f":"IF(Avropsblankett!$C$40=$A$4,(IF(Avropsblankett!$E$40<17,(AS5+(AS6-AS5)/8*(Avropsblankett!$E$40-8)),IF(Avropsblankett!$E$40<33,(AS6+(AS7-AS6)/24*(Avropsblankett!$E$40-16)),IF(Avropsblankett!$E$40<65,(AS7+(AS8-AS7)/32*(Avropsblankett!$E$40-32)),\"\")))),\"\")","v":""},null,{"$f":"(Avropsblankett!$F$40-500)/100*IF(Avropsblankett!$C$40=$A$4,IF(Avropsblankett!$E$40<17,(AU5+(AU6-AU5)/8*(Avropsblankett!$E$40-8)),IF(Avropsblankett!$E$40<33,(AU6+(AU7-AU6)/16*(Avropsblankett!$E$40-16)),IF(Avropsblankett!$E$40<65,(AU7+(AU8-AU7)/32*(Avropsblankett!$E$40-32)),\"\"))))","v":0},null,null,{"$f":"IF(Avropsblankett!$C$40=$A$4,IF(Avropsblankett!$E$40<33,(AX5+(AX6-AX5)/24*(Avropsblankett!$E$40-8)),IF(Avropsblankett!$E$40<65,(AX6+(AX7-AX6)/32*(Avropsblankett!$E$40-32)),\"\")),\"\")","v":""},null,{"$f":"(Avropsblankett!$F$40-500)/100*IF(Avropsblankett!$C$40=$A$4,IF(Avropsblankett!$E$40<33,(AZ5+(AZ6-AZ5)/24*(Avropsblankett!$E$40-8)),IF(Avropsblankett!$E$40<65,(AZ6+(AZ7-AZ6)/32*(Avropsblankett!$E$40-32)),\"\")))","v":0}]
[null,null,null,null,{"$f":"IF(Avropsblankett!$C$52=$A$4,(IF(Avropsblankett!$E$52<17,(E5+(E6-E5)/8*(Avropsblankett!$E$52-8)),IF(Avropsblankett!$E$52<33,(E6+(E7-E6)/24*(Avropsblankett!$E$52-16)),IF(Avropsblankett!$E$52<65,(E7+(E8-E7)/32*(Avropsblankett!$E$52-32)),\"\")))),\"\")","v":""},null,{"$f":"(Avropsblankett!$F$52-500)/100*IF(Avropsblankett!$C$52=$A$4,IF(Avropsblankett!$E$52<17,(G5+(G6-G5)/8*(Avropsblankett!$E$52-8)),IF(Avropsblankett!$E$52<33,(G6+(G7-G6)/16*(Avropsblankett!$E$52-16)),IF(Avropsblankett!$E$52<65,(G7+(G8-G7)/32*(Avropsblankett!$E$52-32)),\"\"))))","v":0},null,null,{"$f":"IF(Avropsblankett!$C$52=$A$4,(IF(Avropsblankett!$E$52<17,(J5+(J6-J5)/8*(Avropsblankett!$E$52-8)),IF(Avropsblankett!$E$52<33,(J6+(J7-J6)/24*(Avropsblankett!$E$52-16)),IF(Avropsblankett!$E$52<65,(J7+(J8-J7)/32*(Avropsblankett!$E$52-32)),\"\")))),\"\")","v":""},null,{"$f":"(Avropsblankett!$F$52-500)/100*IF(Avropsblankett!$C$52=$A$4,IF(Avropsblankett!$E$52<17,(L5+(L6-L5)/8*(Avropsblankett!$E$52-8)),IF(Avropsblankett!$E$52<33,(L6+(L7-L6)/16*(Avropsblankett!$E$52-16)),IF(Avropsblankett!$E$52<65,(L7+(L8-L7)/32*(Avropsblankett!$E$52-32)),\"\"))))","v":0},null,null,{"$f":"IF(Avropsblankett!$C$52=$A$4,(IF(Avropsblankett!$E$52<17,(O5+(O6-O5)/8*(Avropsblankett!$E$52-8)),IF(Avropsblankett!$E$52<33,(O6+(O7-O6)/24*(Avropsblankett!$E$52-16)),IF(Avropsblankett!$E$52<65,(O7+(O8-O7)/32*(Avropsblankett!$E$52-32)),\"\")))),\"\")","v":""},null,{"$f":"(Avropsblankett!$F$52-500)/100*IF(Avropsblankett!$C$52=$A$4,IF(Avropsblankett!$E$52<17,(Q5+(Q6-Q5)/8*(Avropsblankett!$E$52-8)),IF(Avropsblankett!$E$52<33,(Q6+(Q7-Q6)/16*(Avropsblankett!$E$52-16)),IF(Avropsblankett!$E$52<65,(Q7+(Q8-Q7)/32*(Avropsblankett!$E$52-32)),\"\"))))","v":0},null,null,{"$f":"IF(Avropsblankett!$C$52=$A$4,(IF(Avropsblankett!$E$52<17,(T5+(T6-T5)/8*(Avropsblankett!$E$52-8)),IF(Avropsblankett!$E$52<33,(T6+(T7-T6)/24*(Avropsblankett!$E$52-16)),IF(Avropsblankett!$E$52<65,(T7+(T8-T7)/32*(Avropsblankett!$E$52-32)),\"\")))),\"\")","v":""},null,{"$f":"(Avropsblankett!$F$52-500)/100*IF(Avropsblankett!$C$52=$A$4,IF(Avropsblankett!$E$52<17,(V5+(V6-V5)/8*(Avropsblankett!$E$52-8)),IF(Avropsblankett!$E$52<33,(V6+(V7-V6)/16*(Avropsblankett!$E$52-16)),IF(Avropsblankett!$E$52<65,(V7+(V8-V7)/32*(Avropsblankett!$E$52-32)),\"\"))))","v":0},null,null,{"$f":"IF(Avropsblankett!$C$52=$A$4,(IF(Avropsblankett!$E$52<17,(Y5+(Y6-Y5)/8*(Avropsblankett!$E$52-8)),IF(Avropsblankett!$E$52<33,(Y6+(Y7-Y6)/24*(Avropsblankett!$E$52-16)),IF(Avropsblankett!$E$52<65,(Y7+(Y8-Y7)/32*(Avropsblankett!$E$52-32)),\"\")))),\"\")","v":""},null,{"$f":"(Avropsblankett!$F$52-500)/100*IF(Avropsblankett!$C$52=$A$4,IF(Avropsblankett!$E$52<17,(AA5+(AA6-AA5)/8*(Avropsblankett!$E$52-8)),IF(Avropsblankett!$E$52<33,(AA6+(AA7-AA6)/16*(Avropsblankett!$E$52-16)),IF(Avropsblankett!$E$52<65,(AA7+(AA8-AA7)/32*(Avropsblankett!$E$52-32)),\"\"))))","v":0},null,null,{"$f":"IF(Avropsblankett!$C$52=$A$4,(IF(Avropsblankett!$E$52<17,(AD5+(AD6-AD5)/8*(Avropsblankett!$E$52-8)),IF(Avropsblankett!$E$52<33,(AD6+(AD7-AD6)/24*(Avropsblankett!$E$52-16)),IF(Avropsblankett!$E$52<65,(AD7+(AD8-AD7)/32*(Avropsblankett!$E$52-32)),\"\")))),\"\")","v":""},null,{"$f":"(Avropsblankett!$F$52-500)/100*IF(Avropsblankett!$C$52=$A$4,IF(Avropsblankett!$E$52<17,(AF5+(AF6-AF5)/8*(Avropsblankett!$E$52-8)),IF(Avropsblankett!$E$52<33,(AF6+(AF7-AF6)/16*(Avropsblankett!$E$52-16)),IF(Avropsblankett!$E$52<65,(AF7+(AF8-AF7)/32*(Avropsblankett!$E$52-32)),\"\"))))","v":0},null,null,{"$f":"IF(Avropsblankett!$C$52=$A$4,(IF(Avropsblankett!$E$52<17,(AI5+(AI6-AI5)/8*(Avropsblankett!$E$52-8)),IF(Avropsblankett!$E$52<33,(AI6+(AI7-AI6)/24*(Avropsblankett!$E$52-16)),IF(Avropsblankett!$E$52<65,(AI7+(AI8-AI7)/32*(Avropsblankett!$E$52-32)),\"\")))),\"\")","v":""},null,{"$f":"(Avropsblankett!$F$52-500)/100*IF(Avropsblankett!$C$52=$A$4,IF(Avropsblankett!$E$52<17,(AK5+(AK6-AK5)/8*(Avropsblankett!$E$52-8)),IF(Avropsblankett!$E$52<33,(AK6+(AK7-AK6)/16*(Avropsblankett!$E$52-16)),IF(Avropsblankett!$E$52<65,(AK7+(AK8-AK7)/32*(Avropsblankett!$E$52-32)),\"\"))))","v":0},null,null,{"$f":"IF(Avropsblankett!$C$52=$A$4,(IF(Avropsblankett!$E$52<17,(AN5+(AN6-AN5)/8*(Avropsblankett!$E$52-8)),IF(Avropsblankett!$E$52<33,(AN6+(AN7-AN6)/24*(Avropsblankett!$E$52-16)),IF(Avropsblankett!$E$52<65,(AN7+(AN8-AN7)/32*(Avropsblankett!$E$52-32)),\"\")))),\"\")","v":""},null,{"$f":"(Avropsblankett!$F$52-500)/100*IF(Avropsblankett!$C$52=$A$4,IF(Avropsblankett!$E$52<17,(AP5+(AP6-AP5)/8*(Avropsblankett!$E$52-8)),IF(Avropsblankett!$E$52<33,(AP6+(AP7-AP6)/16*(Avropsblankett!$E$52-16)),IF(Avropsblankett!$E$52<65,(AP7+(AP8-AP7)/32*(Avropsblankett!$E$52-32)),\"\"))))","v":0},null,null,{"$f":"IF(Avropsblankett!$C$52=$A$4,(IF(Avropsblankett!$E$52<17,(AS5+(AS6-AS5)/8*(Avropsblankett!$E$52-8)),IF(Avropsblankett!$E$52<33,(AS6+(AS7-AS6)/24*(Avropsblankett!$E$52-16)),IF(Avropsblankett!$E$52<65,(AS7+(AS8-AS7)/32*(Avropsblankett!$E$52-32)),\"\")))),\"\")","v":""},null,{"$f":"(Avropsblankett!$F$52-500)/100*IF(Avropsblankett!$C$52=$A$4,IF(Avropsblankett!$E$52<17,(AU5+(AU6-AU5)/8*(Avropsblankett!$E$52-8)),IF(Avropsblankett!$E$52<33,(AU6+(AU7-AU6)/16*(Avropsblankett!$E$52-16)),IF(Avropsblankett!$E$52<65,(AU7+(AU8-AU7)/32*(Avropsblankett!$E$52-32)),\"\"))))","v":0},null,null,{"$f":"IF(Avropsblankett!$C$52=$A$4,IF(Avropsblankett!$E$52<33,(AX5+(AX6-AX5)/24*(Avropsblankett!$E$52-8)),IF(Avropsblankett!$E$52<65,(AX6+(AX7-AX6)/32*(Avropsblankett!$E$52-32)),\"\")),\"\")","v":""},null,{"$f":"(Avropsblankett!$F$52-500)/100*IF(Avropsblankett!$C$52=$A$4,IF(Avropsblankett!$E$52<33,(AZ5+(AZ6-AZ5)/24*(Avropsblankett!$E$52-8)),IF(Avropsblankett!$E$52<65,(AZ6+(AZ7-AZ6)/32*(Avropsblankett!$E$52-32)),\"\")))","v":0}]
[null,null,null,null,{"$f":"IF(Avropsblankett!$C$64=$A$4,(IF(Avropsblankett!$E$64<17,(E5+(E6-E5)/8*(Avropsblankett!$E$64-8)),IF(Avropsblankett!$E$64<33,(E6+(E7-E6)/24*(Avropsblankett!$E$64-16)),IF(Avropsblankett!$E$64<65,(E7+(E8-E7)/32*(Avropsblankett!$E$64-32)),\"\")))),\"\")","v":""},null,{"$f":"(Avropsblankett!$F$64-500)/100*IF(Avropsblankett!$C$64=$A$4,IF(Avropsblankett!$E$64<17,(G5+(G6-G5)/8*(Avropsblankett!$E$64-8)),IF(Avropsblankett!$E$64<33,(G6+(G7-G6)/16*(Avropsblankett!$E$64-16)),IF(Avropsblankett!$E$64<65,(G7+(G8-G7)/32*(Avropsblankett!$E$64-32)),\"\"))))","v":0},null,null,{"$f":"IF(Avropsblankett!$C$64=$A$4,(IF(Avropsblankett!$E$64<17,(J5+(J6-J5)/8*(Avropsblankett!$E$64-8)),IF(Avropsblankett!$E$64<33,(J6+(J7-J6)/24*(Avropsblankett!$E$64-16)),IF(Avropsblankett!$E$64<65,(J7+(J8-J7)/32*(Avropsblankett!$E$64-32)),\"\")))),\"\")","v":""},null,{"$f":"(Avropsblankett!$F$64-500)/100*IF(Avropsblankett!$C$64=$A$4,IF(Avropsblankett!$E$64<17,(L5+(L6-L5)/8*(Avropsblankett!$E$64-8)),IF(Avropsblankett!$E$64<33,(L6+(L7-L6)/16*(Avropsblankett!$E$64-16)),IF(Avropsblankett!$E$64<65,(L7+(L8-L7)/32*(Avropsblankett!$E$64-32)),\"\"))))","v":0},null,null,{"$f":"IF(Avropsblankett!$C$64=$A$4,(IF(Avropsblankett!$E$64<17,(O5+(O6-O5)/8*(Avropsblankett!$E$64-8)),IF(Avropsblankett!$E$64<33,(O6+(O7-O6)/24*(Avropsblankett!$E$64-16)),IF(Avropsblankett!$E$64<65,(O7+(O8-O7)/32*(Avropsblankett!$E$64-32)),\"\")))),\"\")","v":""},null,{"$f":"(Avropsblankett!$F$64-500)/100*IF(Avropsblankett!$C$64=$A$4,IF(Avropsblankett!$E$64<17,(Q5+(Q6-Q5)/8*(Avropsblankett!$E$64-8)),IF(Avropsblankett!$E$64<33,(Q6+(Q7-Q6)/16*(Avropsblankett!$E$64-16)),IF(Avropsblankett!$E$64<65,(Q7+(Q8-Q7)/32*(Avropsblankett!$E$64-32)),\"\"))))","v":0},null,null,{"$f":"IF(Avropsblankett!$C$64=$A$4,(IF(Avropsblankett!$E$64<17,(T5+(T6-T5)/8*(Avropsblankett!$E$64-8)),IF(Avropsblankett!$E$64<33,(T6+(T7-T6)/24*(Avropsblankett!$E$64-16)),IF(Avropsblankett!$E$64<65,(T7+(T8-T7)/32*(Avropsblankett!$E$64-32)),\"\")))),\"\")","v":""},null,{"$f":"(Avropsblankett!$F$64-500)/100*IF(Avropsblankett!$C$64=$A$4,IF(Avropsblankett!$E$64<17,(V5+(V6-V5)/8*(Avropsblankett!$E$64-8)),IF(Avropsblankett!$E$64<33,(V6+(V7-V6)/16*(Avropsblankett!$E$64-16)),IF(Avropsblankett!$E$64<65,(V7+(V8-V7)/32*(Avropsblankett!$E$64-32)),\"\"))))","v":0},null,null,{"$f":"IF(Avropsblankett!$C$64=$A$4,(IF(Avropsblankett!$E$64<17,(Y5+(Y6-Y5)/8*(Avropsblankett!$E$64-8)),IF(Avropsblankett!$E$64<33,(Y6+(Y7-Y6)/24*(Avropsblankett!$E$64-16)),IF(Avropsblankett!$E$64<65,(Y7+(Y8-Y7)/32*(Avropsblankett!$E$64-32)),\"\")))),\"\")","v":""},null,{"$f":"(Avropsblankett!$F$64-500)/100*IF(Avropsblankett!$C$64=$A$4,IF(Avropsblankett!$E$64<17,(AA5+(AA6-AA5)/8*(Avropsblankett!$E$64-8)),IF(Avropsblankett!$E$64<33,(AA6+(AA7-AA6)/16*(Avropsblankett!$E$64-16)),IF(Avropsblankett!$E$64<65,(AA7+(AA8-AA7)/32*(Avropsblankett!$E$64-32)),\"\"))))","v":0},null,null,{"$f":"IF(Avropsblankett!$C$64=$A$4,(IF(Avropsblankett!$E$64<17,(AD5+(AD6-AD5)/8*(Avropsblankett!$E$64-8)),IF(Avropsblankett!$E$64<33,(AD6+(AD7-AD6)/24*(Avropsblankett!$E$64-16)),IF(Avropsblankett!$E$64<65,(AD7+(AD8-AD7)/32*(Avropsblankett!$E$64-32)),\"\")))),\"\")","v":""},null,{"$f":"(Avropsblankett!$F$64-500)/100*IF(Avropsblankett!$C$64=$A$4,IF(Avropsblankett!$E$64<17,(AF5+(AF6-AF5)/8*(Avropsblankett!$E$64-8)),IF(Avropsblankett!$E$64<33,(AF6+(AF7-AF6)/16*(Avropsblankett!$E$64-16)),IF(Avropsblankett!$E$64<65,(AF7+(AF8-AF7)/32*(Avropsblankett!$E$64-32)),\"\"))))","v":0},null,null,{"$f":"IF(Avropsblankett!$C$64=$A$4,(IF(Avropsblankett!$E$64<17,(AI5+(AI6-AI5)/8*(Avropsblankett!$E$64-8)),IF(Avropsblankett!$E$64<33,(AI6+(AI7-AI6)/24*(Avropsblankett!$E$64-16)),IF(Avropsblankett!$E$64<65,(AI7+(AI8-AI7)/32*(Avropsblankett!$E$64-32)),\"\")))),\"\")","v":""},null,{"$f":"(Avropsblankett!$F$64-500)/100*IF(Avropsblankett!$C$64=$A$4,IF(Avropsblankett!$E$64<17,(AK5+(AK6-AK5)/8*(Avropsblankett!$E$64-8)),IF(Avropsblankett!$E$64<33,(AK6+(AK7-AK6)/16*(Avropsblankett!$E$64-16)),IF(Avropsblankett!$E$64<65,(AK7+(AK8-AK7)/32*(Avropsblankett!$E$64-32)),\"\"))))","v":0},null,null,{"$f":"IF(Avropsblankett!$C$64=$A$4,(IF(Avropsblankett!$E$64<17,(AN5+(AN6-AN5)/8*(Avropsblankett!$E$64-8)),IF(Avropsblankett!$E$64<33,(AN6+(AN7-AN6)/24*(Avropsblankett!$E$64-16)),IF(Avropsblankett!$E$64<65,(AN7+(AN8-AN7)/32*(Avropsblankett!$E$64-32)),\"\")))),\"\")","v":""},null,{"$f":"(Avropsblankett!$F$64-500)/100*IF(Avropsblankett!$C$64=$A$4,IF(Avropsblankett!$E$64<17,(AP5+(AP6-AP5)/8*(Avropsblankett!$E$64-8)),IF(Avropsblankett!$E$64<33,(AP6+(AP7-AP6)/16*(Avropsblankett!$E$64-16)),IF(Avropsblankett!$E$64<65,(AP7+(AP8-AP7)/32*(Avropsblankett!$E$64-32)),\"\"))))","v":0},null,null,{"$f":"IF(Avropsblankett!$C$64=$A$4,(IF(Avropsblankett!$E$64<17,(AS5+(AS6-AS5)/8*(Avropsblankett!$E$64-8)),IF(Avropsblankett!$E$64<33,(AS6+(AS7-AS6)/24*(Avropsblankett!$E$64-16)),IF(Avropsblankett!$E$64<65,(AS7+(AS8-AS7)/32*(Avropsblankett!$E$64-32)),\"\")))),\"\")","v":""},null,{"$f":"(Avropsblankett!$F$64-500)/100*IF(Avropsblankett!$C$64=$A$4,IF(Avropsblankett!$E$64<17,(AU5+(AU6-AU5)/8*(Avropsblankett!$E$64-8)),IF(Avropsblankett!$E$64<33,(AU6+(AU7-AU6)/16*(Avropsblankett!$E$64-16)),IF(Avropsblankett!$E$64<65,(AU7+(AU8-AU7)/32*(Avropsblankett!$E$64-32)),\"\"))))","v":0},null,null,{"$f":"IF(Avropsblankett!$C$64=$A$4,IF(Avropsblankett!$E$64<33,(AX5+(AX6-AX5)/24*(Avropsblankett!$E$64-8)),IF(Avropsblankett!$E$64<65,(AX6+(AX7-AX6)/32*(Avropsblankett!$E$64-32)),\"\")),\"\")","v":""},null,{"$f":"(Avropsblankett!$F$64-500)/100*IF(Avropsblankett!$C$64=$A$4,IF(Avropsblankett!$E$64<33,(AZ5+(AZ6-AZ5)/24*(Avropsblankett!$E$64-8)),IF(Avropsblankett!$E$64<65,(AZ6+(AZ7-AZ6)/32*(Avropsblankett!$E$64-32)),\"\")))","v":0}]
[null,null,null,null,{"$f":"IF(Avropsblankett!$C$76=$A$4,(IF(Avropsblankett!$E$76<17,(E5+(E6-E5)/8*(Avropsblankett!$E$76-8)),IF(Avropsblankett!$E$76<33,(E6+(E7-E6)/24*(Avropsblankett!$E$76-16)),IF(Avropsblankett!$E$76<65,(E7+(E8-E7)/32*(Avropsblankett!$E$76-32)),\"\")))),\"\")","v":""},null,{"$f":"(Avropsblankett!$F$76-500)/100*IF(Avropsblankett!$C$76=$A$4,IF(Avropsblankett!$E$76,(G5+(G6-G5)/8*(Avropsblankett!$E$76-8)),IF(Avropsblankett!$E$76<33,(G6+(G7-G6)/16*(Avropsblankett!$E$76-16)),IF(Avropsblankett!$E$76<65,(G7+(G8-G7)/32*(Avropsblankett!$E$76-32)),\"\"))))","v":0},null,null,{"$f":"IF(Avropsblankett!$C$76=$A$4,(IF(Avropsblankett!$E$76<17,(J5+(J6-J5)/8*(Avropsblankett!$E$76-8)),IF(Avropsblankett!$E$76<33,(J6+(J7-J6)/24*(Avropsblankett!$E$76-16)),IF(Avropsblankett!$E$76<65,(J7+(J8-J7)/32*(Avropsblankett!$E$76-32)),\"\")))),\"\")","v":""},null,{"$f":"(Avropsblankett!$F$76-500)/100*IF(Avropsblankett!$C$76=$A$4,IF(Avropsblankett!$E$76,(L5+(L6-L5)/8*(Avropsblankett!$E$76-8)),IF(Avropsblankett!$E$76<33,(L6+(L7-L6)/16*(Avropsblankett!$E$76-16)),IF(Avropsblankett!$E$76<65,(L7+(L8-L7)/32*(Avropsblankett!$E$76-32)),\"\"))))","v":0},null,null,{"$f":"IF(Avropsblankett!$C$76=$A$4,(IF(Avropsblankett!$E$76<17,(O5+(O6-O5)/8*(Avropsblankett!$E$76-8)),IF(Avropsblankett!$E$76<33,(O6+(O7-O6)/24*(Avropsblankett!$E$76-16)),IF(Avropsblankett!$E$76<65,(O7+(O8-O7)/32*(Avropsblankett!$E$76-32)),\"\")))),\"\")","v":""},null,{"$f":"(Avropsblankett!$F$76-500)/100*IF(Avropsblankett!$C$76=$A$4,IF(Avropsblankett!$E$76,(Q5+(Q6-Q5)/8*(Avropsblankett!$E$76-8)),IF(Avropsblankett!$E$76<33,(Q6+(Q7-Q6)/16*(Avropsblankett!$E$76-16)),IF(Avropsblankett!$E$76<65,(Q7+(Q8-Q7)/32*(Avropsblankett!$E$76-32)),\"\"))))","v":0},null,null,{"$f":"IF(Avropsblankett!$C$76=$A$4,(IF(Avropsblankett!$E$76<17,(T5+(T6-T5)/8*(Avropsblankett!$E$76-8)),IF(Avropsblankett!$E$76<33,(T6+(T7-T6)/24*(Avropsblankett!$E$76-16)),IF(Avropsblankett!$E$76<65,(T7+(T8-T7)/32*(Avropsblankett!$E$76-32)),\"\")))),\"\")","v":""},null,{"$f":"(Avropsblankett!$F$76-500)/100*IF(Avropsblankett!$C$76=$A$4,IF(Avropsblankett!$E$76,(V5+(V6-V5)/8*(Avropsblankett!$E$76-8)),IF(Avropsblankett!$E$76<33,(V6+(V7-V6)/16*(Avropsblankett!$E$76-16)),IF(Avropsblankett!$E$76<65,(V7+(V8-V7)/32*(Avropsblankett!$E$76-32)),\"\"))))","v":0},null,null,{"$f":"IF(Avropsblankett!$C$76=$A$4,(IF(Avropsblankett!$E$76<17,(Y5+(Y6-Y5)/8*(Avropsblankett!$E$76-8)),IF(Avropsblankett!$E$76<33,(Y6+(Y7-Y6)/24*(Avropsblankett!$E$76-16)),IF(Avropsblankett!$E$76<65,(Y7+(Y8-Y7)/32*(Avropsblankett!$E$76-32)),\"\")))),\"\")","v":""},null,{"$f":"(Avropsblankett!$F$76-500)/100*IF(Avropsblankett!$C$76=$A$4,IF(Avropsblankett!$E$76,(AA5+(AA6-AA5)/8*(Avropsblankett!$E$76-8)),IF(Avropsblankett!$E$76<33,(AA6+(AA7-AA6)/16*(Avropsblankett!$E$76-16)),IF(Avropsblankett!$E$76<65,(AA7+(AA8-AA7)/32*(Avropsblankett!$E$76-32)),\"\"))))","v":0},null,null,{"$f":"IF(Avropsblankett!$C$76=$A$4,(IF(Avropsblankett!$E$76<17,(AD5+(AD6-AD5)/8*(Avropsblankett!$E$76-8)),IF(Avropsblankett!$E$76<33,(AD6+(AD7-AD6)/24*(Avropsblankett!$E$76-16)),IF(Avropsblankett!$E$76<65,(AD7+(AD8-AD7)/32*(Avropsblankett!$E$76-32)),\"\")))),\"\")","v":""},null,{"$f":"(Avropsblankett!$F$76-500)/100*IF(Avropsblankett!$C$76=$A$4,IF(Avropsblankett!$E$76,(AF5+(AF6-AF5)/8*(Avropsblankett!$E$76-8)),IF(Avropsblankett!$E$76<33,(AF6+(AF7-AF6)/16*(Avropsblankett!$E$76-16)),IF(Avropsblankett!$E$76<65,(AF7+(AF8-AF7)/32*(Avropsblankett!$E$76-32)),\"\"))))","v":0},null,null,{"$f":"IF(Avropsblankett!$C$76=$A$4,(IF(Avropsblankett!$E$76<17,(AI5+(AI6-AI5)/8*(Avropsblankett!$E$76-8)),IF(Avropsblankett!$E$76<33,(AI6+(AI7-AI6)/24*(Avropsblankett!$E$76-16)),IF(Avropsblankett!$E$76<65,(AI7+(AI8-AI7)/32*(Avropsblankett!$E$76-32)),\"\")))),\"\")","v":""},null,{"$f":"(Avropsblankett!$F$76-500)/100*IF(Avropsblankett!$C$76=$A$4,IF(Avropsblankett!$E$76,(AK5+(AK6-AK5)/8*(Avropsblankett!$E$76-8)),IF(Avropsblankett!$E$76<33,(AK6+(AK7-AK6)/16*(Avropsblankett!$E$76-16)),IF(Avropsblankett!$E$76<65,(AK7+(AK8-AK7)/32*(Avropsblankett!$E$76-32)),\"\"))))","v":0},null,null,{"$f":"IF(Avropsblankett!$C$76=$A$4,(IF(Avropsblankett!$E$76<17,(AN5+(AN6-AN5)/8*(Avropsblankett!$E$76-8)),IF(Avropsblankett!$E$76<33,(AN6+(AN7-AN6)/24*(Avropsblankett!$E$76-16)),IF(Avropsblankett!$E$76<65,(AN7+(AN8-AN7)/32*(Avropsblankett!$E$76-32)),\"\")))),\"\")","v":""},null,{"$f":"(Avropsblankett!$F$76-500)/100*IF(Avropsblankett!$C$76=$A$4,IF(Avropsblankett!$E$76,(AP5+(AP6-AP5)/8*(Avropsblankett!$E$76-8)),IF(Avropsblankett!$E$76<33,(AP6+(AP7-AP6)/16*(Avropsblankett!$E$76-16)),IF(Avropsblankett!$E$76<65,(AP7+(AP8-AP7)/32*(Avropsblankett!$E$76-32)),\"\"))))","v":0},null,null,{"$f":"IF(Avropsblankett!$C$76=$A$4,(IF(Avropsblankett!$E$76<17,(AS5+(AS6-AS5)/8*(Avropsblankett!$E$76-8)),IF(Avropsblankett!$E$76<33,(AS6+(AS7-AS6)/24*(Avropsblankett!$E$76-16)),IF(Avropsblankett!$E$76<65,(AS7+(AS8-AS7)/32*(Avropsblankett!$E$76-32)),\"\")))),\"\")","v":""},null,{"$f":"(Avropsblankett!$F$76-500)/100*IF(Avropsblankett!$C$76=$A$4,IF(Avropsblankett!$E$76,(AU5+(AU6-AU5)/8*(Avropsblankett!$E$76-8)),IF(Avropsblankett!$E$76<33,(AU6+(AU7-AU6)/16*(Avropsblankett!$E$76-16)),IF(Avropsblankett!$E$76<65,(AU7+(AU8-AU7)/32*(Avropsblankett!$E$76-32)),\"\"))))","v":0},null,null,{"$f":"IF(Avropsblankett!$C$76=$A$4,IF(Avropsblankett!$E$76<33,(AX5+(AX6-AX5)/24*(Avropsblankett!$E$76-8)),IF(Avropsblankett!$E$76<65,(AX6+(AX7-AX6)/32*(Avropsblankett!$E$76-32)),\"\")),\"\")","v":""},null,{"$f":"(Avropsblankett!$F$76-500)/100*IF(Avropsblankett!$C$76=$A$4,IF(Avropsblankett!$E$76<33,(AZ5+(AZ6-AZ5)/24*(Avropsblankett!$E$76-8)),IF(Avropsblankett!$E$76<65,(AZ6+(AZ7-AZ6)/32*(Avropsblankett!$E$76-32)),\"\")))","v":0}]
[null,null,null,null,{"$f":"SUM(E10:E14)","v":0},null,{"$f":"SUM(G10:G14)","v":0},null,null,{"$f":"SUM(J10:J14)","v":0},null,{"$f":"SUM(L10:L14)","v":0},null,null,{"$f":"SUM(O10:O14)","v":0},null,{"$f":"SUM(Q10:Q14)","v":0},null,null,{"$f":"SUM(T10:T14)","v":0},null,{"$f":"SUM(V10:V14)","v":0},null,null,{"$f":"SUM(Y10:Y14)","v":0},null,{"$f":"SUM(AA10:AA14)","v":0},null,null,{"$f":"SUM(AD10:AD14)","v":0},null,{"$f":"SUM(AF10:AF14)","v":0},null,null,{"$f":"SUM(AI10:AI14)","v":0},null,{"$f":"SUM(AK10:AK14)","v":0},null,null,{"$f":"SUM(AN10:AN14)","v":0},null,{"$f":"SUM(AP10:AP14)","v":0},null,null,{"$f":"SUM(AS10:AS14)","v":0},null,{"$f":"SUM(AU10:AU14)","v":0},null,null,{"$f":"SUM(AX10:AX14)","v":0},null,{"$f":"SUM(AZ10:AZ14)","v":0}]
["Broschyrer_Variant_2",null,"Beskrivning/omfång inklusive omslag","Upplaga","Ange pris","Följande","Ange pris",null,"Upplaga","Ange pris","Följande","Ange pris",null,"Upplaga","Ange pris","Följande","Ange pris",null,"Upplaga","Ange pris","Följande","Ange pris",null,"Upplaga","Ange pris","Följande","Ange pris",null,"Upplaga","Ange pris","Följande","Ange pris",null,"Upplaga","Ange pris","Följande","Ange pris",null,"Upplaga","Ange pris","Följande","Ange pris",null,"Upplaga","Ange pris","Följande","Ange pris",null,"Upplaga","Ange pris","Följande","Ange pris"]
["Underlag","A: Öppna filer. B: PDF/PDFx. ","8 sidor + omslag",500,3948,100,563,null,500,2947,100,530,null,500,4100,100,200,null,500,4000,100,400,null,500,2000,100,50,null,500,3895,100,424,null,500,1500,100,140,null,500,3503,100,521,null,500,6150,100,780,null,500,3875,100,575]
["Format","A4","16 sidor + omslag",500,5687,100,911,null,500,4175,100,776,null,500,5100,100,260,null,500,5500,100,500,null,500,3000,100,90,null,500,5864,100,830,null,500,2250,100,200,null,500,4502,100,671,null,500,7820,100,995,null,500,8278,100,1590]
["Inlaga","Mattbestruket 130 g","32 sidor + omslag",500,8730,100,1521,null,500,6631,100,1267,null,500,6720,100,490,null,500,7800,100,600,null,500,4200,100,160,null,500,7990,100,896,null,500,3500,100,325,null,500,5104,100,761,null,500,9250,100,1185,null,500,12976,100,2590]
["Omslag","Mattbestruket 250 g","64 sidor + omslag",500,16557,100,3086,null,500,11063,100,2156,null,500,7900,100,945,null,500,12500,100,900,null,500,7200,100,320,null,500,12230,100,1455,null,500,5500,100,550,null,500,7201,100,1076,null,500,11700,100,1690]
["Tryck inlaga","4+4 färger"]
["Tryck omslag","4+4 färger"]
["Bokbinderi","Klammerhäftning"]
[null,null,null,null,{"$f":"IF(Avropsblankett!$C$28=$A$16,(IF(Avropsblankett!$E$28<17,(E17+(E18-E17)/8*(Avropsblankett!$E$28-8)),IF(Avropsblankett!$E$28<33,(E18+(E19-E18)/24*(Avropsblankett!$E$28-16)),IF(Avropsblankett!$E$28<65,(E19+(E20-E19)/32*(Avropsblankett!$E$28-32)),\"\")))),\"\")","v":""},null,{"$f":"(Avropsblankett!$F$28-500)/100*IF(Avropsblankett!$C$28=$A$16,IF(Avropsblankett!$E$28<17,(G17+(G18-G17)/8*(Avropsblankett!$E$28-8)),IF(Avropsblankett!$E$28<33,(G18+(G19-G18)/16*(Avropsblankett!$E$28-16)),IF(Avropsblankett!$E$28<65,(G19+(G20-G19)/32*(Avropsblankett!$E$28-32)),\"\"))))","v":0},null,null,{"$f":"IF(Avropsblankett!$C$28=$A$16,(IF(Avropsblankett!$E$28<17,(J17+(J18-J17)/8*(Avropsblankett!$E$28-8)),IF(Avropsblankett!$E$28<33,(J18+(J19-J18)/24*(Avropsblankett!$E$28-16)),IF(Avropsblankett!$E$28<65,(J19+(J20-J19)/32*(Avropsblankett!$E$28-32)),\"\")))),\"\")","v":""},null,{"$f":"(Avropsblankett!$F$28-500)/100*IF(Avropsblankett!$C$28=$A$16,IF(Avropsblankett!$E$28<17,(L17+(L18-L17)/8*(Avropsblankett!$E$28-8)),IF(Avropsblankett!$E$28<33,(L18+(L19-L18)/16*(Avropsblankett!$E$28-16)),IF(Avropsblankett!$E$28<65,(L19+(L20-L19)/32*(Avropsblankett!$E$28-32)),\"\"))))","v":0},null,null,{"$f":"IF(Avropsblankett!$C$28=$A$16,(IF(Avropsblankett!$E$28<17,(O17+(O18-O17)/8*(Avropsblankett!$E$28-8)),IF(Avropsblankett!$E$28<33,(O18+(O19-O18)/24*(Avropsblankett!$E$28-16)),IF(Avropsblankett!$E$28<65,(O19+(O20-O19)/32*(Avropsblankett!$E$28-32)),\"\")))),\"\")","v":""},null,{"$f":"(Avropsblankett!$F$28-500)/100*IF(Avropsblankett!$C$28=$A$16,IF(Avropsblankett!$E$28<17,(Q17+(Q18-Q17)/8*(Avropsblankett!$E$28-8)),IF(Avropsblankett!$E$28<33,(Q18+(Q19-Q18)/16*(Avropsblankett!$E$28-16)),IF(Avropsblankett!$E$28<65,(Q19+(Q20-Q19)/32*(Avropsblankett!$E$28-32)),\"\"))))","v":0},null,null,{"$f":"IF(Avropsblankett!$C$28=$A$16,(IF(Avropsblankett!$E$28<17,(T17+(T18-T17)/8*(Avropsblankett!$E$28-8)),IF(Avropsblankett!$E$28<33,(T18+(T19-T18)/24*(Avropsblankett!$E$28-16)),IF(Avropsblankett!$E$28<65,(T19+(T20-T19)/32*(Avropsblankett!$E$28-32)),\"\")))),\"\")","v":""},null,{"$f":"(Avropsblankett!$F$28-500)/100*IF(Avropsblankett!$C$28=$A$16,IF(Avropsblankett!$E$28<17,(V17+(V18-V17)/8*(Avropsblankett!$E$28-8)),IF(Avropsblankett!$E$28<33,(V18+(V19-V18)/16*(Avropsblankett!$E$28-16)),IF(Avropsblankett!$E$28<65,(V19+(V20-V19)/32*(Avropsblankett!$E$28-32)),\"\"))))","v":0},null,null,{"$f":"IF(Avropsblankett!$C$28=$A$16,(IF(Avropsblankett!$E$28<17,(Y17+(Y18-Y17)/8*(Avropsblankett!$E$28-8)),IF(Avropsblankett!$E$28<33,(Y18+(Y19-Y18)/24*(Avropsblankett!$E$28-16)),IF(Avropsblankett!$E$28<65,(Y19+(Y20-Y19)/32*(Avropsblankett!$E$28-32)),\"\")))),\"\")","v":""},null,{"$f":"(Avropsblankett!$F$28-500)/100*IF(Avropsblankett!$C$28=$A$16,IF(Avropsblankett!$E$28<17,(AA17+(AA18-AA17)/8*(Avropsblankett!$E$28-8)),IF(Avropsblankett!$E$28<33,(AA18+(AA19-AA18)/16*(Avropsblankett!$E$28-16)),IF(Avropsblankett!$E$28<65,(AA19+(AA20-AA19)/32*(Avropsblankett!$E$28-32)),\"\"))))","v":0},null,null,{"$f":"IF(Avropsblankett!$C$28=$A$16,(IF(Avropsblankett!$E$28<17,(AD17+(AD18-AD17)/8*(Avropsblankett!$E$28-8)),IF(Avropsblankett!$E$28<33,(AD18+(AD19-AD18)/24*(Avropsblankett!$E$28-16)),IF(Avropsblankett!$E$28<65,(AD19+(AD20-AD19)/32*(Avropsblankett!$E$28-32)),\"\")))),\"\")","v":""},null,{"$f":"(Avropsblankett!$F$28-500)/100*IF(Avropsblankett!$C$28=$A$16,IF(Avropsblankett!$E$28<17,(AF17+(AF18-AF17)/8*(Avropsblankett!$E$28-8)),IF(Avropsblankett!$E$28<33,(AF18+(AF19-AF18)/16*(Avropsblankett!$E$28-16)),IF(Avropsblankett!$E$28<65,(AF19+(AF20-AF19)/32*(Avropsblankett!$E$28-32)),\"\"))))","v":0},null,null,{"$f":"IF(Avropsblankett!$C$28=$A$16,(IF(Avropsblankett!$E$28<17,(AI17+(AI18-AI17)/8*(Avropsblankett!$E$28-8)),IF(Avropsblankett!$E$28<33,(AI18+(AI19-AI18)/24*(Avropsblankett!$E$28-16)),IF(Avropsblankett!$E$28<65,(AI19+(AI20-AI19)/32*(Avropsblankett!$E$28-32)),\"\")))),\"\")","v":""},null,{"$f":"(Avropsblankett!$F$28-500)/100*IF(Avropsblankett!$C$28=$A$16,IF(Avropsblankett!$E$28<17,(AK17+(AK18-AK17)/8*(Avropsblankett!$E$28-8)),IF(Avropsblankett!$E$28<33,(AK18+(AK19-AK18)/16*(Avropsblankett!$E$28-16)),IF(Avropsblankett!$E$28<65,(AK19+(AK20-AK19)/32*(Avropsblankett!$E$28-32)),\"\"))))","v":0},null,null,{"$f":"IF(Avropsblankett!$C$28=$A$16,(IF(Avropsblankett!$E$28<17,(AN17+(AN18-AN17)/8*(Avropsblankett!$E$28-8)),IF(Avropsblankett!$E$28<33,(AN18+(AN19-AN18)/24*(Avropsblankett!$E$28-16)),IF(Avropsblankett!$E$28<65,(AN19+(AN20-AN19)/32*(Avropsblankett!$E$28-32)),\"\")))),\"\")","v":""},null,{"$f":"(Avropsblankett!$F$28-500)/100*IF(Avropsblankett!$C$28=$A$16,IF(Avropsblankett!$E$28<17,(AP17+(AP18-AP17)/8*(Avropsblankett!$E$28-8)),IF(Avropsblankett!$E$28<33,(AP18+(AP19-AP18)/16*(Avropsblankett!$E$28-16)),IF(Avropsblankett!$E$28<65,(AP19+(AP20-AP19)/32*(Avropsblankett!$E$28-32)),\"\"))))","v":0},null,null,{"$f":"IF(Avropsblankett!$C$28=$A$16,(IF(Avropsblankett!$E$28<17,(AS17+(AS18-AS17)/8*(Avropsblankett!$E$28-8)),IF(Avropsblankett!$E$28<33,(AS18+(AS19-AS18)/24*(Avropsblankett!$E$28-16)),IF(Avropsblankett!$E$28<65,(AS19+(AS20-AS19)/32*(Avropsblankett!$E$28-32)),\"\")))),\"\")","v":""},null,{"$f":"(Avropsblankett!$F$28-500)/100*IF(Avropsblankett!$C$28=$A$16,IF(Avropsblankett!$E$28<17,(AU17+(AU18-AU17)/8*(Avropsblankett!$E$28-8)),IF(Avropsblankett!$E$28<33,(AU18+(AU19-AU18)/16*(Avropsblankett!$E$28-16)),IF(Avropsblankett!$E$28<65,(AU19+(AU20-AU19)/32*(Avropsblankett!$E$28-32)),\"\"))))","v":0},null,null,{"$f":"IF(Avropsblankett!$C$28=$A$16,IF(Avropsblankett!$E$28<33,(AX17+(AX18-AX17)/24*(Avropsblankett!$E$28-8)),IF(Avropsblankett!$E$28<65,(AX18+(AX19-AX18)/32*(Avropsblankett!$E$28-32)),\"\")),\"\")","v":""},null,{"$f":"(Avropsblankett!$F$28-500)/100*IF(Avropsblankett!$C$28=$A$16,IF(Avropsblankett!$E$28<33,(AZ17+(AZ18-AZ17)/24*(Avropsblankett!$E$28-8)),IF(Avropsblankett!$E$28<65,(AZ18+(AZ19-AZ18)/32*(Avropsblankett!$E$28-32)),\"\")))","v":0}]
[null,null,null,null,{"$f":"IF(Avropsblankett!$C$40=$A$16,(IF(Avropsblankett!$E$40<17,(E17+(E18-E17)/8*(Avropsblankett!$E$40-8)),IF(Avropsblankett!$E$40<33,(E18+(E19-E18)/24*(Avropsblankett!$E$40-16)),IF(Avropsblankett!$E$40<65,(E19+(E20-E19)/32*(Avropsblankett!$E$40-32)),\"\")))),\"\")","v":""},null,{"$f":"(Avropsblankett!$F$40-500)/100*IF(Avropsblankett!$C$40=$A$16,IF(Avropsblankett!$E$40<17,(G17+(G18-G17)/8*(Avropsblankett!$E$40-8)),IF(Avropsblankett!$E$40<33,(G18+(G19-G18)/16*(Avropsblankett!$E$40-16)),IF(Avropsblankett!$E$40<65,(G19+(G20-G19)/32*(Avropsblankett!$E$40-32)),\"\"))))","v":0},null,null,{"$f":"IF(Avropsblankett!$C$40=$A$16,(IF(Avropsblankett!$E$40<17,(J17+(J18-J17)/8*(Avropsblankett!$E$40-8)),IF(Avropsblankett!$E$40<33,(J18+(J19-J18)/24*(Avropsblankett!$E$40-16)),IF(Avropsblankett!$E$40<65,(J19+(J20-J19)/32*(Avropsblankett!$E$40-32)),\"\")))),\"\")","v":""},null,{"$f":"(Avropsblankett!$F$40-500)/100*IF(Avropsblankett!$C$40=$A$16,IF(Avropsblankett!$E$40<17,(L17+(L18-L17)/8*(Avropsblankett!$E$40-8)),IF(Avropsblankett!$E$40<33,(L18+(L19-L18)/16*(Avropsblankett!$E$40-16)),IF(Avropsblankett!$E$40<65,(L19+(L20-L19)/32*(Avropsblankett!$E$40-32)),\"\"))))","v":0},null,null,{"$f":"IF(Avropsblankett!$C$40=$A$16,(IF(Avropsblankett!$E$40<17,(O17+(O18-O17)/8*(Avropsblankett!$E$40-8)),IF(Avropsblankett!$E$40<33,(O18+(O19-O18)/24*(Avropsblankett!$E$40-16)),IF(Avropsblankett!$E$40<65,(O19+(O20-O19)/32*(Avropsblankett!$E$40-32)),\"\")))),\"\")","v":""},null,{"$f":"(Avropsblankett!$F$40-500)/100*IF(Avropsblankett!$C$40=$A$16,IF(Avropsblankett!$E$40<17,(Q17+(Q18-Q17)/8*(Avropsblankett!$E$40-8)),IF(Avropsblankett!$E$40<33,(Q18+(Q19-Q18)/16*(Avropsblankett!$E$40-16)),IF(Avropsblankett!$E$40<65,(Q19+(Q20-Q19)/32*(Avropsblankett!$E$40-32)),\"\"))))","v":0},null,null,{"$f":"IF(Avropsblankett!$C$40=$A$16,(IF(Avropsblankett!$E$40<17,(T17+(T18-T17)/8*(Avropsblankett!$E$40-8)),IF(Avropsblankett!$E$40<33,(T18+(T19-T18)/24*(Avropsblankett!$E$40-16)),IF(Avropsblankett!$E$40<65,(T19+(T20-T19)/32*(Avropsblankett!$E$40-32)),\"\")))),\"\")","v":""},null,{"$f":"(Avropsblankett!$F$40-500)/100*IF(Avropsblankett!$C$40=$A$16,IF(Avropsblankett!$E$40<17,(V17+(V18-V17)/8*(Avropsblankett!$E$40-8)),IF(Avropsblankett!$E$40<33,(V18+(V19-V18)/16*(Avropsblankett!$E$40-16)),IF(Avropsblankett!$E$40<65,(V19+(V20-V19)/32*(Avropsblankett!$E$40-32)),\"\"))))","v":0},null,null,{"$f":"IF(Avropsblankett!$C$40=$A$16,(IF(Avropsblankett!$E$40<17,(Y17+(Y18-Y17)/8*(Avropsblankett!$E$40-8)),IF(Avropsblankett!$E$40<33,(Y18+(Y19-Y18)/24*(Avropsblankett!$E$40-16)),IF(Avropsblankett!$E$40<65,(Y19+(Y20-Y19)/32*(Avropsblankett!$E$40-32)),\"\")))),\"\")","v":""},null,{"$f":"(Avropsblankett!$F$40-500)/100*IF(Avropsblankett!$C$40=$A$16,IF(Avropsblankett!$E$40<17,(AA17+(AA18-AA17)/8*(Avropsblankett!$E$40-8)),IF(Avropsblankett!$E$40<33,(AA18+(AA19-AA18)/16*(Avropsblankett!$E$40-16)),IF(Avropsblankett!$E$40<65,(AA19+(AA20-AA19)/32*(Avropsblankett!$E$40-32)),\"\"))))","v":0},null,null,{"$f":"IF(Avropsblankett!$C$40=$A$16,(IF(Avropsblankett!$E$40<17,(AD17+(AD18-AD17)/8*(Avropsblankett!$E$40-8)),IF(Avropsblankett!$E$40<33,(AD18+(AD19-AD18)/24*(Avropsblankett!$E$40-16)),IF(Avropsblankett!$E$40<65,(AD19+(AD20-AD19)/32*(Avropsblankett!$E$40-32)),\"\")))),\"\")","v":""},null,{"$f":"(Avropsblankett!$F$40-500)/100*IF(Avropsblankett!$C$40=$A$16,IF(Avropsblankett!$E$40<17,(AF17+(AF18-AF17)/8*(Avropsblankett!$E$40-8)),IF(Avropsblankett!$E$40<33,(AF18+(AF19-AF18)/16*(Avropsblankett!$E$40-16)),IF(Avropsblankett!$E$40<65,(AF19+(AF20-AF19)/32*(Avropsblankett!$E$40-32)),\"\"))))","v":0},null,null,{"$f":"IF(Avropsblankett!$C$40=$A$16,(IF(Avropsblankett!$E$40<17,(AI17+(AI18-AI17)/8*(Avropsblankett!$E$40-8)),IF(Avropsblankett!$E$40<33,(AI18+(AI19-AI18)/24*(Avropsblankett!$E$40-16)),IF(Avropsblankett!$E$40<65,(AI19+(AI20-AI19)/32*(Avropsblankett!$E$40-32)),\"\")))),\"\")","v":""},null,{"$f":"(Avropsblankett!$F$40-500)/100*IF(Avropsblankett!$C$40=$A$16,IF(Avropsblankett!$E$40<17,(AK17+(AK18-AK17)/8*(Avropsblankett!$E$40-8)),IF(Avropsblankett!$E$40<33,(AK18+(AK19-AK18)/16*(Avropsblankett!$E$40-16)),IF(Avropsblankett!$E$40<65,(AK19+(AK20-AK19)/32*(Avropsblankett!$E$40-32)),\"\"))))","v":0},null,null,{"$f":"IF(Avropsblankett!$C$40=$A$16,(IF(Avropsblankett!$E$40<17,(AN17+(AN18-AN17)/8*(Avropsblankett!$E$40-8)),IF(Avropsblankett!$E$40<33,(AN18+(AN19-AN18)/24*(Avropsblankett!$E$40-16)),IF(Avropsblankett!$E$40<65,(AN19+(AN20-AN19)/32*(Avropsblankett!$E$40-32)),\"\")))),\"\")","v":""},null,{"$f":"(Avropsblankett!$F$40-500)/100*IF(Avropsblankett!$C$40=$A$16,IF(Avropsblankett!$E$40<17,(AP17+(AP18-AP17)/8*(Avropsblankett!$E$40-8)),IF(Avropsblankett!$E$40<33,(AP18+(AP19-AP18)/16*(Avropsblankett!$E$40-16)),IF(Avropsblankett!$E$40<65,(AP19+(AP20-AP19)/32*(Avropsblankett!$E$40-32)),\"\"))))","v":0},null,null,{"$f":"IF(Avropsblankett!$C$40=$A$16,(IF(Avropsblankett!$E$40<17,(AS17+(AS18-AS17)/8*(Avropsblankett!$E$40-8)),IF(Avropsblankett!$E$40<33,(AS18+(AS19-AS18)/24*(Avropsblankett!$E$40-16)),IF(Avropsblankett!$E$40<65,(AS19+(AS20-AS19)/32*(Avropsblankett!$E$40-32)),\"\")))),\"\")","v":""},null,{"$f":"(Avropsblankett!$F$40-500)/100*IF(Avropsblankett!$C$40=$A$16,IF(Avropsblankett!$E$40<17,(AU17+(AU18-AU17)/8*(Avropsblankett!$E$40-8)),IF(Avropsblankett!$E$40<33,(AU18+(AU19-AU18)/16*(Avropsblankett!$E$40-16)),IF(Avropsblankett!$E$40<65,(AU19+(AU20-AU19)/32*(Avropsblankett!$E$40-32)),\"\"))))","v":0},null,null,{"$f":"IF(Avropsblankett!$C$40=$A$16,IF(Avropsblankett!$E$40<33,(AX17+(AX18-AX17)/24*(Avropsblankett!$E$40-8)),IF(Avropsblankett!$E$40<65,(AX18+(AX19-AX18)/32*(Avropsblankett!$E$40-32)),\"\")),\"\")","v":""},null,{"$f":"(Avropsblankett!$F$40-500)/100*IF(Avropsblankett!$C$40=$A$16,IF(Avropsblankett!$E$40<33,(AZ17+(AZ18-AZ17)/24*(Avropsblankett!$E$40-8)),IF(Avropsblankett!$E$40<65,(AZ18+(AZ19-AZ18)/32*(Avropsblankett!$E$40-32)),\"\")))","v":0}]
[null,null,null,null,{"$f":"IF(Avropsblankett!$C$52=$A$16,(IF(Avropsblankett!$E$52<17,(E17+(E18-E17)/8*(Avropsblankett!$E$52-8)),IF(Avropsblankett!$E$52<33,(E18+(E19-E18)/24*(Avropsblankett!$E$52-16)),IF(Avropsblankett!$E$52<65,(E19+(E20-E19)/32*(Avropsblankett!$E$52-32)),\"\")))),\"\")","v":""},null,{"$f":"(Avropsblankett!$F$52-500)/100*IF(Avropsblankett!$C$52=$A$16,IF(Avropsblankett!$E$52<17,(G17+(G18-G17)/8*(Avropsblankett!$E$52-8)),IF(Avropsblankett!$E$52<33,(G18+(G19-G18)/16*(Avropsblankett!$E$52-16)),IF(Avropsblankett!$E$52<65,(G19+(G20-G19)/32*(Avropsblankett!$E$52-32)),\"\"))))","v":0},null,null,{"$f":"IF(Avropsblankett!$C$52=$A$16,(IF(Avropsblankett!$E$52<17,(J17+(J18-J17)/8*(Avropsblankett!$E$52-8)),IF(Avropsblankett!$E$52<33,(J18+(J19-J18)/24*(Avropsblankett!$E$52-16)),IF(Avropsblankett!$E$52<65,(J19+(J20-J19)/32*(Avropsblankett!$E$52-32)),\"\")))),\"\")","v":""},null,{"$f":"(Avropsblankett!$F$52-500)/100*IF(Avropsblankett!$C$52=$A$16,IF(Avropsblankett!$E$52<17,(L17+(L18-L17)/8*(Avropsblankett!$E$52-8)),IF(Avropsblankett!$E$52<33,(L18+(L19-L18)/16*(Avropsblankett!$E$52-16)),IF(Avropsblankett!$E$52<65,(L19+(L20-L19)/32*(Avropsblankett!$E$52-32)),\"\"))))","v":0},null,null,{"$f":"IF(Avropsblankett!$C$52=$A$16,(IF(Avropsblankett!$E$52<17,(O17+(O18-O17)/8*(Avropsblankett!$E$52-8)),IF(Avropsblankett!$E$52<33,(O18+(O19-O18)/24*(Avropsblankett!$E$52-16)),IF(Avropsblankett!$E$52<65,(O19+(O20-O19)/32*(Avropsblankett!$E$52-32)),\"\")))),\"\")","v":""},null,{"$f":"(Avropsblankett!$F$52-500)/100*IF(Avropsblankett!$C$52=$A$16,IF(Avropsblankett!$E$52<17,(Q17+(Q18-Q17)/8*(Avropsblankett!$E$52-8)),IF(Avropsblankett!$E$52<33,(Q18+(Q19-Q18)/16*(Avropsblankett!$E$52-16)),IF(Avropsblankett!$E$52<65,(Q19+(Q20-Q19)/32*(Avropsblankett!$E$52-32)),\"\"))))","v":0},null,null,{"$f":"IF(Avropsblankett!$C$52=$A$16,(IF(Avropsblankett!$E$52<17,(T17+(T18-T17)/8*(Avropsblankett!$E$52-8)),IF(Avropsblankett!$E$52<33,(T18+(T19-T18)/24*(Avropsblankett!$E$52-16)),IF(Avropsblankett!$E$52<65,(T19+(T20-T19)/32*(Avropsblankett!$E$52-32)),\"\")))),\"\")","v":""},null,{"$f":"(Avropsblankett!$F$52-500)/100*IF(Avropsblankett!$C$52=$A$16,IF(Avropsblankett!$E$52<17,(V17+(V18-V17)/8*(Avropsblankett!$E$52-8)),IF(Avropsblankett!$E$52<33,(V18+(V19-V18)/16*(Avropsblankett!$E$52-16)),IF(Avropsblankett!$E$52<65,(V19+(V20-V19)/32*(Avropsblankett!$E$52-32)),\"\"))))","v":0},null,null,{"$f":"IF(Avropsblankett!$C$52=$A$16,(IF(Avropsblankett!$E$52<17,(Y17+(Y18-Y17)/8*(Avropsblankett!$E$52-8)),IF(Avropsblankett!$E$52<33,(Y18+(Y19-Y18)/24*(Avropsblankett!$E$52-16)),IF(Avropsblankett!$E$52<65,(Y19+(Y20-Y19)/32*(Avropsblankett!$E$52-32)),\"\")))),\"\")","v":""},null,{"$f":"(Avropsblankett!$F$52-500)/100*IF(Avropsblankett!$C$52=$A$16,IF(Avropsblankett!$E$52<17,(AA17+(AA18-AA17)/8*(Avropsblankett!$E$52-8)),IF(Avropsblankett!$E$52<33,(AA18+(AA19-AA18)/16*(Avropsblankett!$E$52-16)),IF(Avropsblankett!$E$52<65,(AA19+(AA20-AA19)/32*(Avropsblankett!$E$52-32)),\"\"))))","v":0},null,null,{"$f":"IF(Avropsblankett!$C$52=$A$16,(IF(Avropsblankett!$E$52<17,(AD17+(AD18-AD17)/8*(Avropsblankett!$E$52-8)),IF(Avropsblankett!$E$52<33,(AD18+(AD19-AD18)/24*(Avropsblankett!$E$52-16)),IF(Avropsblankett!$E$52<65,(AD19+(AD20-AD19)/32*(Avropsblankett!$E$52-32)),\"\")))),\"\")","v":""},null,{"$f":"(Avropsblankett!$F$52-500)/100*IF(Avropsblankett!$C$52=$A$16,IF(Avropsblankett!$E$52<17,(AF17+(AF18-AF17)/8*(Avropsblankett!$E$52-8)),IF(Avropsblankett!$E$52<33,(AF18+(AF19-AF18)/16*(Avropsblankett!$E$52-16)),IF(Avropsblankett!$E$52<65,(AF19+(AF20-AF19)/32*(Avropsblankett!$E$52-32)),\"\"))))","v":0},null,null,{"$f":"IF(Avropsblankett!$C$52=$A$16,(IF(Avropsblankett!$E$52<17,(AI17+(AI18-AI17)/8*(Avropsblankett!$E$52-8)),IF(Avropsblankett!$E$52<33,(AI18+(AI19-AI18)/24*(Avropsblankett!$E$52-16)),IF(Avropsblankett!$E$52<65,(AI19+(AI20-AI19)/32*(Avropsblankett!$E$52-32)),\"\")))),\"\")","v":""},null,{"$f":"(Avropsblankett!$F$52-500)/100*IF(Avropsblankett!$C$52=$A$16,IF(Avropsblankett!$E$52<17,(AK17+(AK18-AK17)/8*(Avropsblankett!$E$52-8)),IF(Avropsblankett!$E$52<33,(AK18+(AK19-AK18)/16*(Avropsblankett!$E$52-16)),IF(Avropsblankett!$E$52<65,(AK19+(AK20-AK19)/32*(Avropsblankett!$E$52-32)),\"\"))))","v":0},null,null,{"$f":"IF(Avropsblankett!$C$52=$A$16,(IF(Avropsblankett!$E$52<17,(AN17+(AN18-AN17)/8*(Avropsblankett!$E$52-8)),IF(Avropsblankett!$E$52<33,(AN18+(AN19-AN18)/24*(Avropsblankett!$E$52-16)),IF(Avropsblankett!$E$52<65,(AN19+(AN20-AN19)/32*(Avropsblankett!$E$52-32)),\"\")))),\"\")","v":""},null,{"$f":"(Avropsblankett!$F$52-500)/100*IF(Avropsblankett!$C$52=$A$16,IF(Avropsblankett!$E$52<17,(AP17+(AP18-AP17)/8*(Avropsblankett!$E$52-8)),IF(Avropsblankett!$E$52<33,(AP18+(AP19-AP18)/16*(Avropsblankett!$E$52-16)),IF(Avropsblankett!$E$52<65,(AP19+(AP20-AP19)/32*(Avropsblankett!$E$52-32)),\"\"))))","v":0},null,null,{"$f":"IF(Avropsblankett!$C$52=$A$16,(IF(Avropsblankett!$E$52<17,(AS17+(AS18-AS17)/8*(Avropsblankett!$E$52-8)),IF(Avropsblankett!$E$52<33,(AS18+(AS19-AS18)/24*(Avropsblankett!$E$52-16)),IF(Avropsblankett!$E$52<65,(AS19+(AS20-AS19)/32*(Avropsblankett!$E$52-32)),\"\")))),\"\")","v":""},null,{"$f":"(Avropsblankett!$F$52-500)/100*IF(Avropsblankett!$C$52=$A$16,IF(Avropsblankett!$E$52<17,(AU17+(AU18-AU17)/8*(Avropsblankett!$E$52-8)),IF(Avropsblankett!$E$52<33,(AU18+(AU19-AU18)/16*(Avropsblankett!$E$52-16)),IF(Avropsblankett!$E$52<65,(AU19+(AU20-AU19)/32*(Avropsblankett!$E$52-32)),\"\"))))","v":0},null,null,{"$f":"IF(Avropsblankett!$C$52=$A$16,IF(Avropsblankett!$E$52<33,(AX17+(AX18-AX17)/24*(Avropsblankett!$E$52-8)),IF(Avropsblankett!$E$52<65,(AX18+(AX19-AX18)/32*(Avropsblankett!$E$52-32)),\"\")),\"\")","v":""},null,{"$f":"(Avropsblankett!$F$52-500)/100*IF(Avropsblankett!$C$52=$A$16,IF(Avropsblankett!$E$52<33,(AZ17+(AZ18-AZ17)/24*(Avropsblankett!$E$52-8)),IF(Avropsblankett!$E$52<65,(AZ18+(AZ19-AZ18)/32*(Avropsblankett!$E$52-32)),\"\")))","v":0}]
[null,null,null,null,{"$f":"IF(Avropsblankett!$C$64=$A$16,(IF(Avropsblankett!$E$64<17,(E17+(E18-E17)/8*(Avropsblankett!$E$64-8)),IF(Avropsblankett!$E$64<33,(E18+(E19-E18)/24*(Avropsblankett!$E$64-16)),IF(Avropsblankett!$E$64<65,(E19+(E20-E19)/32*(Avropsblankett!$E$64-32)),\"\")))),\"\")","v":""},null,{"$f":"(Avropsblankett!$F$64-500)/100*IF(Avropsblankett!$C$64=$A$16,IF(Avropsblankett!$E$64<17,(G17+(G18-G17)/8*(Avropsblankett!$E$64-8)),IF(Avropsblankett!$E$64<33,(G18+(G19-G18)/16*(Avropsblankett!$E$64-16)),IF(Avropsblankett!$E$64<65,(G19+(G20-G19)/32*(Avropsblankett!$E$64-32)),\"\"))))","v":0},null,null,{"$f":"IF(Avropsblankett!$C$64=$A$16,(IF(Avropsblankett!$E$64<17,(J17+(J18-J17)/8*(Avropsblankett!$E$64-8)),IF(Avropsblankett!$E$64<33,(J18+(J19-J18)/24*(Avropsblankett!$E$64-16)),IF(Avropsblankett!$E$64<65,(J19+(J20-J19)/32*(Avropsblankett!$E$64-32)),\"\")))),\"\")","v":""},null,{"$f":"(Avropsblankett!$F$64-500)/100*IF(Avropsblankett!$C$64=$A$16,IF(Avropsblankett!$E$64<17,(L17+(L18-L17)/8*(Avropsblankett!$E$64-8)),IF(Avropsblankett!$E$64<33,(L18+(L19-L18)/16*(Avropsblankett!$E$64-16)),IF(Avropsblankett!$E$64<65,(L19+(L20-L19)/32*(Avropsblankett!$E$64-32)),\"\"))))","v":0},null,null,{"$f":"IF(Avropsblankett!$C$64=$A$16,(IF(Avropsblankett!$E$64<17,(O17+(O18-O17)/8*(Avropsblankett!$E$64-8)),IF(Avropsblankett!$E$64<33,(O18+(O19-O18)/24*(Avropsblankett!$E$64-16)),IF(Avropsblankett!$E$64<65,(O19+(O20-O19)/32*(Avropsblankett!$E$64-32)),\"\")))),\"\")","v":""},null,{"$f":"(Avropsblankett!$F$64-500)/100*IF(Avropsblankett!$C$64=$A$16,IF(Avropsblankett!$E$64<17,(Q17+(Q18-Q17)/8*(Avropsblankett!$E$64-8)),IF(Avropsblankett!$E$64<33,(Q18+(Q19-Q18)/16*(Avropsblankett!$E$64-16)),IF(Avropsblankett!$E$64<65,(Q19+(Q20-Q19)/32*(Avropsblankett!$E$64-32)),\"\"))))","v":0},null,null,{"$f":"IF(Avropsblankett!$C$64=$A$16,(IF(Avropsblankett!$E$64<17,(T17+(T18-T17)/8*(Avropsblankett!$E$64-8)),IF(Avropsblankett!$E$64<33,(T18+(T19-T18)/24*(Avropsblankett!$E$64-16)),IF(Avropsblankett!$E$64<65,(T19+(T20-T19)/32*(Avropsblankett!$E$64-32)),\"\")))),\"\")","v":""},null,{"$f":"(Avropsblankett!$F$64-500)/100*IF(Avropsblankett!$C$64=$A$16,IF(Avropsblankett!$E$64<17,(V17+(V18-V17)/8*(Avropsblankett!$E$64-8)),IF(Avropsblankett!$E$64<33,(V18+(V19-V18)/16*(Avropsblankett!$E$64-16)),IF(Avropsblankett!$E$64<65,(V19+(V20-V19)/32*(Avropsblankett!$E$64-32)),\"\"))))","v":0},null,null,{"$f":"IF(Avropsblankett!$C$64=$A$16,(IF(Avropsblankett!$E$64<17,(Y17+(Y18-Y17)/8*(Avropsblankett!$E$64-8)),IF(Avropsblankett!$E$64<33,(Y18+(Y19-Y18)/24*(Avropsblankett!$E$64-16)),IF(Avropsblankett!$E$64<65,(Y19+(Y20-Y19)/32*(Avropsblankett!$E$64-32)),\"\")))),\"\")","v":""},null,{"$f":"(Avropsblankett!$F$64-500)/100*IF(Avropsblankett!$C$64=$A$16,IF(Avropsblankett!$E$64<17,(AA17+(AA18-AA17)/8*(Avropsblankett!$E$64-8)),IF(Avropsblankett!$E$64<33,(AA18+(AA19-AA18)/16*(Avropsblankett!$E$64-16)),IF(Avropsblankett!$E$64<65,(AA19+(AA20-AA19)/32*(Avropsblankett!$E$64-32)),\"\"))))","v":0},null,null,{"$f":"IF(Avropsblankett!$C$64=$A$16,(IF(Avropsblankett!$E$64<17,(AD17+(AD18-AD17)/8*(Avropsblankett!$E$64-8)),IF(Avropsblankett!$E$64<33,(AD18+(AD19-AD18)/24*(Avropsblankett!$E$64-16)),IF(Avropsblankett!$E$64<65,(AD19+(AD20-AD19)/32*(Avropsblankett!$E$64-32)),\"\")))),\"\")","v":""},null,{"$f":"(Avropsblankett!$F$64-500)/100*IF(Avropsblankett!$C$64=$A$16,IF(Avropsblankett!$E$64<17,(AF17+(AF18-AF17)/8*(Avropsblankett!$E$64-8)),IF(Avropsblankett!$E$64<33,(AF18+(AF19-AF18)/16*(Avropsblankett!$E$64-16)),IF(Avropsblankett!$E$64<65,(AF19+(AF20-AF19)/32*(Avropsblankett!$E$64-32)),\"\"))))","v":0},null,null,{"$f":"IF(Avropsblankett!$C$64=$A$16,(IF(Avropsblankett!$E$64<17,(AI17+(AI18-AI17)/8*(Avropsblankett!$E$64-8)),IF(Avropsblankett!$E$64<33,(AI18+(AI19-AI18)/24*(Avropsblankett!$E$64-16)),IF(Avropsblankett!$E$64<65,(AI19+(AI20-AI19)/32*(Avropsblankett!$E$64-32)),\"\")))),\"\")","v":""},null,{"$f":"(Avropsblankett!$F$64-500)/100*IF(Avropsblankett!$C$64=$A$16,IF(Avropsblankett!$E$64<17,(AK17+(AK18-AK17)/8*(Avropsblankett!$E$64-8)),IF(Avropsblankett!$E$64<33,(AK18+(AK19-AK18)/16*(Avropsblankett!$E$64-16)),IF(Avropsblankett!$E$64<65,(AK19+(AK20-AK19)/32*(Avropsblankett!$E$64-32)),\"\"))))","v":0},null,null,{"$f":"IF(Avropsblankett!$C$64=$A$16,(IF(Avropsblankett!$E$64<17,(AN17+(AN18-AN17)/8*(Avropsblankett!$E$64-8)),IF(Avropsblankett!$E$64<33,(AN18+(AN19-AN18)/24*(Avropsblankett!$E$64-16)),IF(Avropsblankett!$E$64<65,(AN19+(AN20-AN19)/32*(Avropsblankett!$E$64-32)),\"\")))),\"\")","v":""},null,{"$f":"(Avropsblankett!$F$64-500)/100*IF(Avropsblankett!$C$64=$A$16,IF(Avropsblankett!$E$64<17,(AP17+(AP18-AP17)/8*(Avropsblankett!$E$64-8)),IF(Avropsblankett!$E$64<33,(AP18+(AP19-AP18)/16*(Avropsblankett!$E$64-16)),IF(Avropsblankett!$E$64<65,(AP19+(AP20-AP19)/32*(Avropsblankett!$E$64-32)),\"\"))))","v":0},null,null,{"$f":"IF(Avropsblankett!$C$64=$A$16,(IF(Avropsblankett!$E$64<17,(AS17+(AS18-AS17)/8*(Avropsblankett!$E$64-8)),IF(Avropsblankett!$E$64<33,(AS18+(AS19-AS18)/24*(Avropsblankett!$E$64-16)),IF(Avropsblankett!$E$64<65,(AS19+(AS20-AS19)/32*(Avropsblankett!$E$64-32)),\"\")))),\"\")","v":""},null,{"$f":"(Avropsblankett!$F$64-500)/100*IF(Avropsblankett!$C$64=$A$16,IF(Avropsblankett!$E$64<17,(AU17+(AU18-AU17)/8*(Avropsblankett!$E$64-8)),IF(Avropsblankett!$E$64<33,(AU18+(AU19-AU18)/16*(Avropsblankett!$E$64-16)),IF(Avropsblankett!$E$64<65,(AU19+(AU20-AU19)/32*(Avropsblankett!$E$64-32)),\"\"))))","v":0},null,null,{"$f":"IF(Avropsblankett!$C$64=$A$16,IF(Avropsblankett!$E$64<33,(AX17+(AX18-AX17)/24*(Avropsblankett!$E$64-8)),IF(Avropsblankett!$E$64<65,(AX18+(AX19-AX18)/32*(Avropsblankett!$E$64-32)),\"\")),\"\")","v":""},null,{"$f":"(Avropsblankett!$F$64-500)/100*IF(Avropsblankett!$C$64=$A$16,IF(Avropsblankett!$E$64<33,(AZ17+(AZ18-AZ17)/24*(Avropsblankett!$E$64-8)),IF(Avropsblankett!$E$64<65,(AZ18+(AZ19-AZ18)/32*(Avropsblankett!$E$64-32)),\"\")))","v":0}]
[null,null,null,null,{"$f":"IF(Avropsblankett!$C$76=$A$16,(IF(Avropsblankett!$E$76<17,(E17+(E18-E17)/8*(Avropsblankett!$E$76-8)),IF(Avropsblankett!$E$76<33,(E18+(E19-E18)/24*(Avropsblankett!$E$76-16)),IF(Avropsblankett!$E$76<65,(E19+(E20-E19)/32*(Avropsblankett!$E$76-32)),\"\")))),\"\")","v":""},null,{"$f":"(Avropsblankett!$F$76-500)/100*IF(Avropsblankett!$C$76=$A$16,IF(Avropsblankett!$E$76<17,(G17+(G18-G17)/8*(Avropsblankett!$E$76-8)),IF(Avropsblankett!$E$76<33,(G18+(G19-G18)/16*(Avropsblankett!$E$76-16)),IF(Avropsblankett!$E$76<65,(G19+(G20-G19)/32*(Avropsblankett!$E$76-32)),\"\"))))","v":0},null,null,{"$f":"IF(Avropsblankett!$C$76=$A$16,(IF(Avropsblankett!$E$76<17,(J17+(J18-J17)/8*(Avropsblankett!$E$76-8)),IF(Avropsblankett!$E$76<33,(J18+(J19-J18)/24*(Avropsblankett!$E$76-16)),IF(Avropsblankett!$E$76<65,(J19+(J20-J19)/32*(Avropsblankett!$E$76-32)),\"\")))),\"\")","v":""},null,{"$f":"(Avropsblankett!$F$76-500)/100*IF(Avropsblankett!$C$76=$A$16,IF(Avropsblankett!$E$76<17,(L17+(L18-L17)/8*(Avropsblankett!$E$76-8)),IF(Avropsblankett!$E$76<33,(L18+(L19-L18)/16*(Avropsblankett!$E$76-16)),IF(Avropsblankett!$E$76<65,(L19+(L20-L19)/32*(Avropsblankett!$E$76-32)),\"\"))))","v":0},null,null,{"$f":"IF(Avropsblankett!$C$76=$A$16,(IF(Avropsblankett!$E$76<17,(O17+(O18-O17)/8*(Avropsblankett!$E$76-8)),IF(Avropsblankett!$E$76<33,(O18+(O19-O18)/24*(Avropsblankett!$E$76-16)),IF(Avropsblankett!$E$76<65,(O19+(O20-O19)/32*(Avropsblankett!$E$76-32)),\"\")))),\"\")","v":""},null,{"$f":"(Avropsblankett!$F$76-500)/100*IF(Avropsblankett!$C$76=$A$16,IF(Avropsblankett!$E$76<17,(Q17+(Q18-Q17)/8*(Avropsblankett!$E$76-8)),IF(Avropsblankett!$E$76<33,(Q18+(Q19-Q18)/16*(Avropsblankett!$E$76-16)),IF(Avropsblankett!$E$76<65,(Q19+(Q20-Q19)/32*(Avropsblankett!$E$76-32)),\"\"))))","v":0},null,null,{"$f":"IF(Avropsblankett!$C$76=$A$16,(IF(Avropsblankett!$E$76<17,(T17+(T18-T17)/8*(Avropsblankett!$E$76-8)),IF(Avropsblankett!$E$76<33,(T18+(T19-T18)/24*(Avropsblankett!$E$76-16)),IF(Avropsblankett!$E$76<65,(T19+(T20-T19)/32*(Avropsblankett!$E$76-32)),\"\")))),\"\")","v":""},null,{"$f":"(Avropsblankett!$F$76-500)/100*IF(Avropsblankett!$C$76=$A$16,IF(Avropsblankett!$E$76<17,(V17+(V18-V17)/8*(Avropsblankett!$E$76-8)),IF(Avropsblankett!$E$76<33,(V18+(V19-V18)/16*(Avropsblankett!$E$76-16)),IF(Avropsblankett!$E$76<65,(V19+(V20-V19)/32*(Avropsblankett!$E$76-32)),\"\"))))","v":0},null,null,{"$f":"IF(Avropsblankett!$C$76=$A$16,(IF(Avropsblankett!$E$76<17,(Y17+(Y18-Y17)/8*(Avropsblankett!$E$76-8)),IF(Avropsblankett!$E$76<33,(Y18+(Y19-Y18)/24*(Avropsblankett!$E$76-16)),IF(Avropsblankett!$E$76<65,(Y19+(Y20-Y19)/32*(Avropsblankett!$E$76-32)),\"\")))),\"\")","v":""},null,{"$f":"(Avropsblankett!$F$76-500)/100*IF(Avropsblankett!$C$76=$A$16,IF(Avropsblankett!$E$76<17,(AA17+(AA18-AA17)/8*(Avropsblankett!$E$76-8)),IF(Avropsblankett!$E$76<33,(AA18+(AA19-AA18)/16*(Avropsblankett!$E$76-16)),IF(Avropsblankett!$E$76<65,(AA19+(AA20-AA19)/32*(Avropsblankett!$E$76-32)),\"\"))))","v":0},null,null,{"$f":"IF(Avropsblankett!$C$76=$A$16,(IF(Avropsblankett!$E$76<17,(AD17+(AD18-AD17)/8*(Avropsblankett!$E$76-8)),IF(Avropsblankett!$E$76<33,(AD18+(AD19-AD18)/24*(Avropsblankett!$E$76-16)),IF(Avropsblankett!$E$76<65,(AD19+(AD20-AD19)/32*(Avropsblankett!$E$76-32)),\"\")))),\"\")","v":""},null,{"$f":"(Avropsblankett!$F$76-500)/100*IF(Avropsblankett!$C$76=$A$16,IF(Avropsblankett!$E$76<17,(AF17+(AF18-AF17)/8*(Avropsblankett!$E$76-8)),IF(Avropsblankett!$E$76<33,(AF18+(AF19-AF18)/16*(Avropsblankett!$E$76-16)),IF(Avropsblankett!$E$76<65,(AF19+(AF20-AF19)/32*(Avropsblankett!$E$76-32)),\"\"))))","v":0},null,null,{"$f":"IF(Avropsblankett!$C$76=$A$16,(IF(Avropsblankett!$E$76<17,(AI17+(AI18-AI17)/8*(Avropsblankett!$E$76-8)),IF(Avropsblankett!$E$76<33,(AI18+(AI19-AI18)/24*(Avropsblankett!$E$76-16)),IF(Avropsblankett!$E$76<65,(AI19+(AI20-AI19)/32*(Avropsblankett!$E$76-32)),\"\")))),\"\")","v":""},null,{"$f":"(Avropsblankett!$F$76-500)/100*IF(Avropsblankett!$C$76=$A$16,IF(Avropsblankett!$E$76<17,(AK17+(AK18-AK17)/8*(Avropsblankett!$E$76-8)),IF(Avropsblankett!$E$76<33,(AK18+(AK19-AK18)/16*(Avropsblankett!$E$76-16)),IF(Avropsblankett!$E$76<65,(AK19+(AK20-AK19)/32*(Avropsblankett!$E$76-32)),\"\"))))","v":0},null,null,{"$f":"IF(Avropsblankett!$C$76=$A$16,(IF(Avropsblankett!$E$76<17,(AN17+(AN18-AN17)/8*(Avropsblankett!$E$76-8)),IF(Avropsblankett!$E$76<33,(AN18+(AN19-AN18)/24*(Avropsblankett!$E$76-16)),IF(Avropsblankett!$E$76<65,(AN19+(AN20-AN19)/32*(Avropsblankett!$E$76-32)),\"\")))),\"\")","v":""},null,{"$f":"(Avropsblankett!$F$76-500)/100*IF(Avropsblankett!$C$76=$A$16,IF(Avropsblankett!$E$76<17,(AP17+(AP18-AP17)/8*(Avropsblankett!$E$76-8)),IF(Avropsblankett!$E$76<33,(AP18+(AP19-AP18)/16*(Avropsblankett!$E$76-16)),IF(Avropsblankett!$E$76<65,(AP19+(AP20-AP19)/32*(Avropsblankett!$E$76-32)),\"\"))))","v":0},null,null,{"$f":"IF(Avropsblankett!$C$76=$A$16,(IF(Avropsblankett!$E$76<17,(AS17+(AS18-AS17)/8*(Avropsblankett!$E$76-8)),IF(Avropsblankett!$E$76<33,(AS18+(AS19-AS18)/24*(Avropsblankett!$E$76-16)),IF(Avropsblankett!$E$76<65,(AS19+(AS20-AS19)/32*(Avropsblankett!$E$76-32)),\"\")))),\"\")","v":""},null,{"$f":"(Avropsblankett!$F$76-500)/100*IF(Avropsblankett!$C$76=$A$16,IF(Avropsblankett!$E$76<17,(AU17+(AU18-AU17)/8*(Avropsblankett!$E$76-8)),IF(Avropsblankett!$E$76<33,(AU18+(AU19-AU18)/16*(Avropsblankett!$E$76-16)),IF(Avropsblankett!$E$76<65,(AU19+(AU20-AU19)/32*(Avropsblankett!$E$76-32)),\"\"))))","v":0},null,null,{"$f":"IF(Avropsblankett!$C$76=$A$16,IF(Avropsblankett!$E$76<33,(AX17+(AX18-AX17)/24*(Avropsblankett!$E$76-8)),IF(Avropsblankett!$E$76<65,(AX18+(AX19-AX18)/32*(Avropsblankett!$E$76-32)),\"\")),\"\")","v":""},null,{"$f":"(Avropsblankett!$F$76-500)/100*IF(Avropsblankett!$C$76=$A$16,IF(Avropsblankett!$E$76<33,(AZ17+(AZ18-AZ17)/24*(Avropsblankett!$E$76-8)),IF(Avropsblankett!$E$76<65,(AZ18+(AZ19-AZ18)/32*(Avropsblankett!$E$76-32)),\"\")))","v":0}]
[null,null,null,null,{"$f":"SUM(E24:E28)","v":0},null,{"$f":"SUM(G24:G28)","v":0},null,null,{"$f":"SUM(J24:J28)","v":0},null,{"$f":"SUM(L24:L28)","v":0},null,null,{"$f":"SUM(O24:O28)","v":0},null,{"$f":"SUM(Q24:Q28)","v":0},null,null,{"$f":"SUM(T24:T28)","v":0},null,{"$f":"SUM(V24:V28)","v":0},null,null,{"$f":"SUM(Y24:Y28)","v":0},null,{"$f":"SUM(AA24:AA28)","v":0},null,null,{"$f":"SUM(AD24:AD28)","v":0},null,{"$f":"SUM(AF24:AF28)","v":0},null,null,{"$f":"SUM(AI24:AI28)","v":0},null,{"$f":"SUM(AK24:AK28)","v":0},null,null,{"$f":"SUM(AN24:AN28)","v":0},null,{"$f":"SUM(AP24:AP28)","v":0},null,null,{"$f":"SUM(AS24:AS28)","v":0},null,{"$f":"SUM(AU24:AU28)","v":0},null,null,{"$f":"SUM(AX24:AX28)","v":0},null,{"$f":"SUM(AZ24:AZ28)","v":0}]
["Broschyrer_Variant_3",null,"Beskrivning/omfång inklusive omslag","Upplaga","Ange pris","Följande","Ange pris",null,"Upplaga","Ange pris","Följande","Ange pris",null,"Upplaga","Ange pris","Följande","Ange pris",null,"Upplaga","Ange pris","Följande","Ange pris",null,"Upplaga","Ange pris","Följande","Ange pris",null,"Upplaga","Ange pris","Följande","Ange pris",null,"Upplaga","Ange pris","Följande","Ange pris",null,"Upplaga","Ange pris","Följande","Ange pris",null,"Upplaga","Ange pris","Följande","Ange pris",null,"Upplaga","Ange pris","Följande","Ange pris"]
["Underlag","A: Öppna filer. B: PDF/PDFx.","8 sidor+omslag",500,2139,100,202,null,500,1648,100,273,null,500,2200,100,160,null,500,1635,100,265,null,500,760,100,40,null,500,2390,100,215,null,500,1250,100,110,null,500,2253,100,334,null,500,3540,100,460,null,500,2010,100,200]
["Format","A5","16 sidor+omslag",500,2672,100,309,null,500,2084,100,361,null,500,2400,100,220,null,500,2000,100,330,null,500,1140,100,90,null,500,4532,100,390,null,500,1750,100,130,null,500,2612,100,386,null,500,4300,100,585,null,500,3400,100,480]
["Inlaga","Obestruket 80g","32 sidor+omslag",500,3739,100,522,null,500,2927,100,529,null,500,2600,100,420,null,500,2750,100,450,null,500,2720,100,130,null,500,4086,100,435,null,500,2750,100,160,null,500,2903,100,431,null,500,5290,100,625,null,500,5380,100,875]
["Omslag","bestruket 250g","64 sidor+omslag",500,6007,100,975,null,500,4390,100,824,null,500,3700,100,870,null,500,4200,100,700,null,500,3550,100,290,null,500,6470,100,692,null,500,3250,100,260,null,500,3801,100,566,null,500,7250,100,980]
["Tryck inlaga","1+1 färger (svart)"]
["Tryckomslag","4+4 färger"]
["Bokbinderi","Klammerhäftning"]
[null,null,null,null,{"$f":"IF(Avropsblankett!$C$28=$A$30,(IF(Avropsblankett!$E$28<17,(E31+(E32-E31)/8*(Avropsblankett!$E$28-8)),IF(Avropsblankett!$E$28<33,(E32+(E33-E32)/24*(Avropsblankett!$E$28-16)),IF(Avropsblankett!$E$28<65,(E33+(E34-E33)/32*(Avropsblankett!$E$28-32)),\"\")))),\"\")","v":""},null,{"$f":"(Avropsblankett!$F$28-500)/100*IF(Avropsblankett!$C$28=$A$30,IF(Avropsblankett!$E$28<17,(G31+(G32-G31)/8*(Avropsblankett!$E$28-8)),IF(Avropsblankett!$E$28<33,(G32+(G33-G32)/16*(Avropsblankett!$E$28-16)),IF(Avropsblankett!$E$28<65,(G33+(G34-G33)/32*(Avropsblankett!$E$28-32)),\"\"))))","v":0},null,null,{"$f":"IF(Avropsblankett!$C$28=$A$30,(IF(Avropsblankett!$E$28<17,(J31+(J32-J31)/8*(Avropsblankett!$E$28-8)),IF(Avropsblankett!$E$28<33,(J32+(J33-J32)/24*(Avropsblankett!$E$28-16)),IF(Avropsblankett!$E$28<65,(J33+(J34-J33)/32*(Avropsblankett!$E$28-32)),\"\")))),\"\")","v":""},null,{"$f":"(Avropsblankett!$F$28-500)/100*IF(Avropsblankett!$C$28=$A$30,IF(Avropsblankett!$E$28<17,(L31+(L32-L31)/8*(Avropsblankett!$E$28-8)),IF(Avropsblankett!$E$28<33,(L32+(L33-L32)/16*(Avropsblankett!$E$28-16)),IF(Avropsblankett!$E$28<65,(L33+(L34-L33)/32*(Avropsblankett!$E$28-32)),\"\"))))","v":0},null,null,{"$f":"IF(Avropsblankett!$C$28=$A$30,(IF(Avropsblankett!$E$28<17,(O31+(O32-O31)/8*(Avropsblankett!$E$28-8)),IF(Avropsblankett!$E$28<33,(O32+(O33-O32)/24*(Avropsblankett!$E$28-16)),IF(Avropsblankett!$E$28<65,(O33+(O34-O33)/32*(Avropsblankett!$E$28-32)),\"\")))),\"\")","v":""},null,{"$f":"(Avropsblankett!$F$28-500)/100*IF(Avropsblankett!$C$28=$A$30,IF(Avropsblankett!$E$28<17,(Q31+(Q32-Q31)/8*(Avropsblankett!$E$28-8)),IF(Avropsblankett!$E$28<33,(Q32+(Q33-Q32)/16*(Avropsblankett!$E$28-16)),IF(Avropsblankett!$E$28<65,(Q33+(Q34-Q33)/32*(Avropsblankett!$E$28-32)),\"\"))))","v":0},null,null,{"$f":"IF(Avropsblankett!$C$28=$A$30,(IF(Avropsblankett!$E$28<17,(T31+(T32-T31)/8*(Avropsblankett!$E$28-8)),IF(Avropsblankett!$E$28<33,(T32+(T33-T32)/24*(Avropsblankett!$E$28-16)),IF(Avropsblankett!$E$28<65,(T33+(T34-T33)/32*(Avropsblankett!$E$28-32)),\"\")))),\"\")","v":""},null,{"$f":"(Avropsblankett!$F$28-500)/100*IF(Avropsblankett!$C$28=$A$30,IF(Avropsblankett!$E$28<17,(V31+(V32-V31)/8*(Avropsblankett!$E$28-8)),IF(Avropsblankett!$E$28<33,(V32+(V33-V32)/16*(Avropsblankett!$E$28-16)),IF(Avropsblankett!$E$28<65,(V33+(V34-V33)/32*(Avropsblankett!$E$28-32)),\"\"))))","v":0},null,null,{"$f":"IF(Avropsblankett!$C$28=$A$30,(IF(Avropsblankett!$E$28<17,(Y31+(Y32-Y31)/8*(Avropsblankett!$E$28-8)),IF(Avropsblankett!$E$28<33,(Y32+(Y33-Y32)/24*(Avropsblankett!$E$28-16)),IF(Avropsblankett!$E$28<65,(Y33+(Y34-Y33)/32*(Avropsblankett!$E$28-32)),\"\")))),\"\")","v":""},null,{"$f":"(Avropsblankett!$F$28-500)/100*IF(Avropsblankett!$C$28=$A$30,IF(Avropsblankett!$E$28<17,(AA31+(AA32-AA31)/8*(Avropsblankett!$E$28-8)),IF(Avropsblankett!$E$28<33,(AA32+(AA33-AA32)/16*(Avropsblankett!$E$28-16)),IF(Avropsblankett!$E$28<65,(AA33+(AA34-AA33)/32*(Avropsblankett!$E$28-32)),\"\"))))","v":0},null,null,{"$f":"IF(Avropsblankett!$C$28=$A$30,(IF(Avropsblankett!$E$28<17,(AD31+(AD32-AD31)/8*(Avropsblankett!$E$28-8)),IF(Avropsblankett!$E$28<33,(AD32+(AD33-AD32)/24*(Avropsblankett!$E$28-16)),IF(Avropsblankett!$E$28<65,(AD33+(AD34-AD33)/32*(Avropsblankett!$E$28-32)),\"\")))),\"\")","v":""},null,{"$f":"(Avropsblankett!$F$28-500)/100*IF(Avropsblankett!$C$28=$A$30,IF(Avropsblankett!$E$28<17,(AF31+(AF32-AF31)/8*(Avropsblankett!$E$28-8)),IF(Avropsblankett!$E$28<33,(AF32+(AF33-AF32)/16*(Avropsblankett!$E$28-16)),IF(Avropsblankett!$E$28<65,(AF33+(AF34-AF33)/32*(Avropsblankett!$E$28-32)),\"\"))))","v":0},null,null,{"$f":"IF(Avropsblankett!$C$28=$A$30,(IF(Avropsblankett!$E$28<17,(AI31+(AI32-AI31)/8*(Avropsblankett!$E$28-8)),IF(Avropsblankett!$E$28<33,(AI32+(AI33-AI32)/24*(Avropsblankett!$E$28-16)),IF(Avropsblankett!$E$28<65,(AI33+(AI34-AI33)/32*(Avropsblankett!$E$28-32)),\"\")))),\"\")","v":""},null,{"$f":"(Avropsblankett!$F$28-500)/100*IF(Avropsblankett!$C$28=$A$30,IF(Avropsblankett!$E$28<17,(AK31+(AK32-AK31)/8*(Avropsblankett!$E$28-8)),IF(Avropsblankett!$E$28<33,(AK32+(AK33-AK32)/16*(Avropsblankett!$E$28-16)),IF(Avropsblankett!$E$28<65,(AK33+(AK34-AK33)/32*(Avropsblankett!$E$28-32)),\"\"))))","v":0},null,null,{"$f":"IF(Avropsblankett!$C$28=$A$30,(IF(Avropsblankett!$E$28<17,(AN31+(AN32-AN31)/8*(Avropsblankett!$E$28-8)),IF(Avropsblankett!$E$28<33,(AN32+(AN33-AN32)/24*(Avropsblankett!$E$28-16)),IF(Avropsblankett!$E$28<65,(AN33+(AN34-AN33)/32*(Avropsblankett!$E$28-32)),\"\")))),\"\")","v":""},null,{"$f":"(Avropsblankett!$F$28-500)/100*IF(Avropsblankett!$C$28=$A$30,IF(Avropsblankett!$E$28<17,(AP31+(AP32-AP31)/8*(Avropsblankett!$E$28-8)),IF(Avropsblankett!$E$28<33,(AP32+(AP33-AP32)/16*(Avropsblankett!$E$28-16)),IF(Avropsblankett!$E$28<65,(AP33+(AP34-AP33)/32*(Avropsblankett!$E$28-32)),\"\"))))","v":0},null,null,{"$f":"IF(Avropsblankett!$C$28=$A$30,(IF(Avropsblankett!$E$28<17,(AS31+(AS32-AS31)/8*(Avropsblankett!$E$28-8)),IF(Avropsblankett!$E$28<33,(AS32+(AS33-AS32)/24*(Avropsblankett!$E$28-16)),IF(Avropsblankett!$E$28<65,(AS33+(AS34-AS33)/32*(Avropsblankett!$E$28-32)),\"\")))),\"\")","v":""},null,{"$f":"(Avropsblankett!$F$28-500)/100*IF(Avropsblankett!$C$28=$A$30,IF(Avropsblankett!$E$28<17,(AU31+(AU32-AU31)/8*(Avropsblankett!$E$28-8)),IF(Avropsblankett!$E$28<33,(AU32+(AU33-AU32)/16*(Avropsblankett!$E$28-16)),IF(Avropsblankett!$E$28<65,(AU33+(AU34-AU33)/32*(Avropsblankett!$E$28-32)),\"\"))))","v":0},null,null,{"$f":"IF(Avropsblankett!$C$28=$A$30,IF(Avropsblankett!$E$28<33,(AX31+(AX32-AX31)/24*(Avropsblankett!$E$28-8)),IF(Avropsblankett!$E$28<65,(AX32+(AX33-AX32)/32*(Avropsblankett!$E$28-32)),\"\")),\"\")","v":""},null,{"$f":"(Avropsblankett!$F$28-500)/100*IF(Avropsblankett!$C$28=$A$30,IF(Avropsblankett!$E$28<33,(AZ31+(AZ32-AZ31)/24*(Avropsblankett!$E$28-8)),IF(Avropsblankett!$E$28<65,(AZ32+(AZ33-AZ32)/32*(Avropsblankett!$E$28-32)),\"\")))","v":0}]
[null,null,null,null,{"$f":"IF(Avropsblankett!$C$40=$A$30,(IF(Avropsblankett!$E$40<17,(E31+(E32-E31)/8*(Avropsblankett!$E$40-8)),IF(Avropsblankett!$E$40<33,(E32+(E33-E32)/24*(Avropsblankett!$E$40-16)),IF(Avropsblankett!$E$40<65,(E33+(E34-E33)/32*(Avropsblankett!$E$40-32)),\"\")))),\"\")","v":""},null,{"$f":"(Avropsblankett!$F$40-500)/100*IF(Avropsblankett!$C$40=$A$30,IF(Avropsblankett!$E$40<17,(G31+(G32-G31)/8*(Avropsblankett!$E$40-8)),IF(Avropsblankett!$E$40<33,(G32+(G33-G32)/16*(Avropsblankett!$E$40-16)),IF(Avropsblankett!$E$40<65,(G33+(G34-G33)/32*(Avropsblankett!$E$40-32)),\"\"))))","v":0},null,null,{"$f":"IF(Avropsblankett!$C$40=$A$30,(IF(Avropsblankett!$E$40<17,(J31+(J32-J31)/8*(Avropsblankett!$E$40-8)),IF(Avropsblankett!$E$40<33,(J32+(J33-J32)/24*(Avropsblankett!$E$40-16)),IF(Avropsblankett!$E$40<65,(J33+(J34-J33)/32*(Avropsblankett!$E$40-32)),\"\")))),\"\")","v":""},null,{"$f":"(Avropsblankett!$F$40-500)/100*IF(Avropsblankett!$C$40=$A$30,IF(Avropsblankett!$E$40<17,(L31+(L32-L31)/8*(Avropsblankett!$E$40-8)),IF(Avropsblankett!$E$40<33,(L32+(L33-L32)/16*(Avropsblankett!$E$40-16)),IF(Avropsblankett!$E$40<65,(L33+(L34-L33)/32*(Avropsblankett!$E$40-32)),\"\"))))","v":0},null,null,{"$f":"IF(Avropsblankett!$C$40=$A$30,(IF(Avropsblankett!$E$40<17,(O31+(O32-O31)/8*(Avropsblankett!$E$40-8)),IF(Avropsblankett!$E$40<33,(O32+(O33-O32)/24*(Avropsblankett!$E$40-16)),IF(Avropsblankett!$E$40<65,(O33+(O34-O33)/32*(Avropsblankett!$E$40-32)),\"\")))),\"\")","v":""},null,{"$f":"(Avropsblankett!$F$40-500)/100*IF(Avropsblankett!$C$40=$A$30,IF(Avropsblankett!$E$40<17,(Q31+(Q32-Q31)/8*(Avropsblankett!$E$40-8)),IF(Avropsblankett!$E$40<33,(Q32+(Q33-Q32)/16*(Avropsblankett!$E$40-16)),IF(Avropsblankett!$E$40<65,(Q33+(Q34-Q33)/32*(Avropsblankett!$E$40-32)),\"\"))))","v":0},null,null,{"$f":"IF(Avropsblankett!$C$40=$A$30,(IF(Avropsblankett!$E$40<17,(T31+(T32-T31)/8*(Avropsblankett!$E$40-8)),IF(Avropsblankett!$E$40<33,(T32+(T33-T32)/24*(Avropsblankett!$E$40-16)),IF(Avropsblankett!$E$40<65,(T33+(T34-T33)/32*(Avropsblankett!$E$40-32)),\"\")))),\"\")","v":""},null,{"$f":"(Avropsblankett!$F$40-500)/100*IF(Avropsblankett!$C$40=$A$30,IF(Avropsblankett!$E$40<17,(V31+(V32-V31)/8*(Avropsblankett!$E$40-8)),IF(Avropsblankett!$E$40<33,(V32+(V33-V32)/16*(Avropsblankett!$E$40-16)),IF(Avropsblankett!$E$40<65,(V33+(V34-V33)/32*(Avropsblankett!$E$40-32)),\"\"))))","v":0},null,null,{"$f":"IF(Avropsblankett!$C$40=$A$30,(IF(Avropsblankett!$E$40<17,(Y31+(Y32-Y31)/8*(Avropsblankett!$E$40-8)),IF(Avropsblankett!$E$40<33,(Y32+(Y33-Y32)/24*(Avropsblankett!$E$40-16)),IF(Avropsblankett!$E$40<65,(Y33+(Y34-Y33)/32*(Avropsblankett!$E$40-32)),\"\")))),\"\")","v":""},null,{"$f":"(Avropsblankett!$F$40-500)/100*IF(Avropsblankett!$C$40=$A$30,IF(Avropsblankett!$E$40<17,(AA31+(AA32-AA31)/8*(Avropsblankett!$E$40-8)),IF(Avropsblankett!$E$40<33,(AA32+(AA33-AA32)/16*(Avropsblankett!$E$40-16)),IF(Avropsblankett!$E$40<65,(AA33+(AA34-AA33)/32*(Avropsblankett!$E$40-32)),\"\"))))","v":0},null,null,{"$f":"IF(Avropsblankett!$C$40=$A$30,(IF(Avropsblankett!$E$40<17,(AD31+(AD32-AD31)/8*(Avropsblankett!$E$40-8)),IF(Avropsblankett!$E$40<33,(AD32+(AD33-AD32)/24*(Avropsblankett!$E$40-16)),IF(Avropsblankett!$E$40<65,(AD33+(AD34-AD33)/32*(Avropsblankett!$E$40-32)),\"\")))),\"\")","v":""},null,{"$f":"(Avropsblankett!$F$40-500)/100*IF(Avropsblankett!$C$40=$A$30,IF(Avropsblankett!$E$40<17,(AF31+(AF32-AF31)/8*(Avropsblankett!$E$40-8)),IF(Avropsblankett!$E$40<33,(AF32+(AF33-AF32)/16*(Avropsblankett!$E$40-16)),IF(Avropsblankett!$E$40<65,(AF33+(AF34-AF33)/32*(Avropsblankett!$E$40-32)),\"\"))))","v":0},null,null,{"$f":"IF(Avropsblankett!$C$40=$A$30,(IF(Avropsblankett!$E$40<17,(AI31+(AI32-AI31)/8*(Avropsblankett!$E$40-8)),IF(Avropsblankett!$E$40<33,(AI32+(AI33-AI32)/24*(Avropsblankett!$E$40-16)),IF(Avropsblankett!$E$40<65,(AI33+(AI34-AI33)/32*(Avropsblankett!$E$40-32)),\"\")))),\"\")","v":""},null,{"$f":"(Avropsblankett!$F$40-500)/100*IF(Avropsblankett!$C$40=$A$30,IF(Avropsblankett!$E$40<17,(AK31+(AK32-AK31)/8*(Avropsblankett!$E$40-8)),IF(Avropsblankett!$E$40<33,(AK32+(AK33-AK32)/16*(Avropsblankett!$E$40-16)),IF(Avropsblankett!$E$40<65,(AK33+(AK34-AK33)/32*(Avropsblankett!$E$40-32)),\"\"))))","v":0},null,null,{"$f":"IF(Avropsblankett!$C$40=$A$30,(IF(Avropsblankett!$E$40<17,(AN31+(AN32-AN31)/8*(Avropsblankett!$E$40-8)),IF(Avropsblankett!$E$40<33,(AN32+(AN33-AN32)/24*(Avropsblankett!$E$40-16)),IF(Avropsblankett!$E$40<65,(AN33+(AN34-AN33)/32*(Avropsblankett!$E$40-32)),\"\")))),\"\")","v":""},null,{"$f":"(Avropsblankett!$F$40-500)/100*IF(Avropsblankett!$C$40=$A$30,IF(Avropsblankett!$E$40<17,(AP31+(AP32-AP31)/8*(Avropsblankett!$E$40-8)),IF(Avropsblankett!$E$40<33,(AP32+(AP33-AP32)/16*(Avropsblankett!$E$40-16)),IF(Avropsblankett!$E$40<65,(AP33+(AP34-AP33)/32*(Avropsblankett!$E$40-32)),\"\"))))","v":0},null,null,{"$f":"IF(Avropsblankett!$C$40=$A$30,(IF(Avropsblankett!$E$40<17,(AS31+(AS32-AS31)/8*(Avropsblankett!$E$40-8)),IF(Avropsblankett!$E$40<33,(AS32+(AS33-AS32)/24*(Avropsblankett!$E$40-16)),IF(Avropsblankett!$E$40<65,(AS33+(AS34-AS33)/32*(Avropsblankett!$E$40-32)),\"\")))),\"\")","v":""},null,{"$f":"(Avropsblankett!$F$40-500)/100*IF(Avropsblankett!$C$40=$A$30,IF(Avropsblankett!$E$40<17,(AU31+(AU32-AU31)/8*(Avropsblankett!$E$40-8)),IF(Avropsblankett!$E$40<33,(AU32+(AU33-AU32)/16*(Avropsblankett!$E$40-16)),IF(Avropsblankett!$E$40<65,(AU33+(AU34-AU33)/32*(Avropsblankett!$E$40-32)),\"\"))))","v":0},null,null,{"$f":"IF(Avropsblankett!$C$40=$A$30,IF(Avropsblankett!$E$40<33,(AX31+(AX32-AX31)/24*(Avropsblankett!$E$40-8)),IF(Avropsblankett!$E$40<65,(AX32+(AX33-AX32)/32*(Avropsblankett!$E$40-32)),\"\")),\"\")","v":""},null,{"$f":"(Avropsblankett!$F$40-500)/100*IF(Avropsblankett!$C$40=$A$30,IF(Avropsblankett!$E$40<33,(AZ31+(AZ32-AZ31)/24*(Avropsblankett!$E$40-8)),IF(Avropsblankett!$E$40<65,(AZ32+(AZ33-AZ32)/32*(Avropsblankett!$E$40-32)),\"\")))","v":0}]
[null,null,null,null,{"$f":"IF(Avropsblankett!$C$52=$A$30,(IF(Avropsblankett!$E$52<17,(E31+(E32-E31)/8*(Avropsblankett!$E$52-8)),IF(Avropsblankett!$E$52<33,(E32+(E33-E32)/24*(Avropsblankett!$E$52-16)),IF(Avropsblankett!$E$52<65,(E33+(E34-E33)/32*(Avropsblankett!$E$52-32)),\"\")))),\"\")","v":""},null,{"$f":"(Avropsblankett!$F$52-500)/100*IF(Avropsblankett!$C$52=$A$30,IF(Avropsblankett!$E$52<17,(G31+(G32-G31)/8*(Avropsblankett!$E$52-8)),IF(Avropsblankett!$E$52<33,(G32+(G33-G32)/16*(Avropsblankett!$E$52-16)),IF(Avropsblankett!$E$52<65,(G33+(G34-G33)/32*(Avropsblankett!$E$52-32)),\"\"))))","v":0},null,null,{"$f":"IF(Avropsblankett!$C$52=$A$30,(IF(Avropsblankett!$E$52<17,(J31+(J32-J31)/8*(Avropsblankett!$E$52-8)),IF(Avropsblankett!$E$52<33,(J32+(J33-J32)/24*(Avropsblankett!$E$52-16)),IF(Avropsblankett!$E$52<65,(J33+(J34-J33)/32*(Avropsblankett!$E$52-32)),\"\")))),\"\")","v":""},null,{"$f":"(Avropsblankett!$F$52-500)/100*IF(Avropsblankett!$C$52=$A$30,IF(Avropsblankett!$E$52<17,(L31+(L32-L31)/8*(Avropsblankett!$E$52-8)),IF(Avropsblankett!$E$52<33,(L32+(L33-L32)/16*(Avropsblankett!$E$52-16)),IF(Avropsblankett!$E$52<65,(L33+(L34-L33)/32*(Avropsblankett!$E$52-32)),\"\"))))","v":0},null,null,{"$f":"IF(Avropsblankett!$C$52=$A$30,(IF(Avropsblankett!$E$52<17,(O31+(O32-O31)/8*(Avropsblankett!$E$52-8)),IF(Avropsblankett!$E$52<33,(O32+(O33-O32)/24*(Avropsblankett!$E$52-16)),IF(Avropsblankett!$E$52<65,(O33+(O34-O33)/32*(Avropsblankett!$E$52-32)),\"\")))),\"\")","v":""},null,{"$f":"(Avropsblankett!$F$52-500)/100*IF(Avropsblankett!$C$52=$A$30,IF(Avropsblankett!$E$52<17,(Q31+(Q32-Q31)/8*(Avropsblankett!$E$52-8)),IF(Avropsblankett!$E$52<33,(Q32+(Q33-Q32)/16*(Avropsblankett!$E$52-16)),IF(Avropsblankett!$E$52<65,(Q33+(Q34-Q33)/32*(Avropsblankett!$E$52-32)),\"\"))))","v":0},null,null,{"$f":"IF(Avropsblankett!$C$52=$A$30,(IF(Avropsblankett!$E$52<17,(T31+(T32-T31)/8*(Avropsblankett!$E$52-8)),IF(Avropsblankett!$E$52<33,(T32+(T33-T32)/24*(Avropsblankett!$E$52-16)),IF(Avropsblankett!$E$52<65,(T33+(T34-T33)/32*(Avropsblankett!$E$52-32)),\"\")))),\"\")","v":""},null,{"$f":"(Avropsblankett!$F$52-500)/100*IF(Avropsblankett!$C$52=$A$30,IF(Avropsblankett!$E$52<17,(V31+(V32-V31)/8*(Avropsblankett!$E$52-8)),IF(Avropsblankett!$E$52<33,(V32+(V33-V32)/16*(Avropsblankett!$E$52-16)),IF(Avropsblankett!$E$52<65,(V33+(V34-V33)/32*(Avropsblankett!$E$52-32)),\"\"))))","v":0},null,null,{"$f":"IF(Avropsblankett!$C$52=$A$30,(IF(Avropsblankett!$E$52<17,(Y31+(Y32-Y31)/8*(Avropsblankett!$E$52-8)),IF(Avropsblankett!$E$52<33,(Y32+(Y33-Y32)/24*(Avropsblankett!$E$52-16)),IF(Avropsblankett!$E$52<65,(Y33+(Y34-Y33)/32*(Avropsblankett!$E$52-32)),\"\")))),\"\")","v":""},null,{"$f":"(Avropsblankett!$F$52-500)/100*IF(Avropsblankett!$C$52=$A$30,IF(Avropsblankett!$E$52<17,(AA31+(AA32-AA31)/8*(Avropsblankett!$E$52-8)),IF(Avropsblankett!$E$52<33,(AA32+(AA33-AA32)/16*(Avropsblankett!$E$52-16)),IF(Avropsblankett!$E$52<65,(AA33+(AA34-AA33)/32*(Avropsblankett!$E$52-32)),\"\"))))","v":0},null,null,{"$f":"IF(Avropsblankett!$C$52=$A$30,(IF(Avropsblankett!$E$52<17,(AD31+(AD32-AD31)/8*(Avropsblankett!$E$52-8)),IF(Avropsblankett!$E$52<33,(AD32+(AD33-AD32)/24*(Avropsblankett!$E$52-16)),IF(Avropsblankett!$E$52<65,(AD33+(AD34-AD33)/32*(Avropsblankett!$E$52-32)),\"\")))),\"\")","v":""},null,{"$f":"(Avropsblankett!$F$52-500)/100*IF(Avropsblankett!$C$52=$A$30,IF(Avropsblankett!$E$52<17,(AF31+(AF32-AF31)/8*(Avropsblankett!$E$52-8)),IF(Avropsblankett!$E$52<33,(AF32+(AF33-AF32)/16*(Avropsblankett!$E$52-16)),IF(Avropsblankett!$E$52<65,(AF33+(AF34-AF33)/32*(Avropsblankett!$E$52-32)),\"\"))))","v":0},null,null,{"$f":"IF(Avropsblankett!$C$52=$A$30,(IF(Avropsblankett!$E$52<17,(AI31+(AI32-AI31)/8*(Avropsblankett!$E$52-8)),IF(Avropsblankett!$E$52<33,(AI32+(AI33-AI32)/24*(Avropsblankett!$E$52-16)),IF(Avropsblankett!$E$52<65,(AI33+(AI34-AI33)/32*(Avropsblankett!$E$52-32)),\"\")))),\"\")","v":""},null,{"$f":"(Avropsblankett!$F$52-500)/100*IF(Avropsblankett!$C$52=$A$30,IF(Avropsblankett!$E$52<17,(AK31+(AK32-AK31)/8*(Avropsblankett!$E$52-8)),IF(Avropsblankett!$E$52<33,(AK32+(AK33-AK32)/16*(Avropsblankett!$E$52-16)),IF(Avropsblankett!$E$52<65,(AK33+(AK34-AK33)/32*(Avropsblankett!$E$52-32)),\"\"))))","v":0},null,null,{"$f":"IF(Avropsblankett!$C$52=$A$30,(IF(Avropsblankett!$E$52<17,(AN31+(AN32-AN31)/8*(Avropsblankett!$E$52-8)),IF(Avropsblankett!$E$52<33,(AN32+(AN33-AN32)/24*(Avropsblankett!$E$52-16)),IF(Avropsblankett!$E$52<65,(AN33+(AN34-AN33)/32*(Avropsblankett!$E$52-32)),\"\")))),\"\")","v":""},null,{"$f":"(Avropsblankett!$F$52-500)/100*IF(Avropsblankett!$C$52=$A$30,IF(Avropsblankett!$E$52<17,(AP31+(AP32-AP31)/8*(Avropsblankett!$E$52-8)),IF(Avropsblankett!$E$52<33,(AP32+(AP33-AP32)/16*(Avropsblankett!$E$52-16)),IF(Avropsblankett!$E$52<65,(AP33+(AP34-AP33)/32*(Avropsblankett!$E$52-32)),\"\"))))","v":0},null,null,{"$f":"IF(Avropsblankett!$C$52=$A$30,(IF(Avropsblankett!$E$52<17,(AS31+(AS32-AS31)/8*(Avropsblankett!$E$52-8)),IF(Avropsblankett!$E$52<33,(AS32+(AS33-AS32)/24*(Avropsblankett!$E$52-16)),IF(Avropsblankett!$E$52<65,(AS33+(AS34-AS33)/32*(Avropsblankett!$E$52-32)),\"\")))),\"\")","v":""},null,{"$f":"(Avropsblankett!$F$52-500)/100*IF(Avropsblankett!$C$52=$A$30,IF(Avropsblankett!$E$52<17,(AU31+(AU32-AU31)/8*(Avropsblankett!$E$52-8)),IF(Avropsblankett!$E$52<33,(AU32+(AU33-AU32)/16*(Avropsblankett!$E$52-16)),IF(Avropsblankett!$E$52<65,(AU33+(AU34-AU33)/32*(Avropsblankett!$E$52-32)),\"\"))))","v":0},null,null,{"$f":"IF(Avropsblankett!$C$52=$A$30,IF(Avropsblankett!$E$52<33,(AX31+(AX32-AX31)/24*(Avropsblankett!$E$52-8)),IF(Avropsblankett!$E$52<65,(AX32+(AX33-AX32)/32*(Avropsblankett!$E$52-32)),\"\")),\"\")","v":""},null,{"$f":"(Avropsblankett!$F$52-500)/100*IF(Avropsblankett!$C$52=$A$30,IF(Avropsblankett!$E$52<33,(AZ31+(AZ32-AZ31)/24*(Avropsblankett!$E$52-8)),IF(Avropsblankett!$E$52<65,(AZ32+(AZ33-AZ32)/32*(Avropsblankett!$E$52-32)),\"\")))","v":0}]
[null,null,null,null,{"$f":"IF(Avropsblankett!$C$64=$A$30,(IF(Avropsblankett!$E$64<17,(E31+(E32-E31)/8*(Avropsblankett!$E$64-8)),IF(Avropsblankett!$E$64<33,(E32+(E33-E32)/24*(Avropsblankett!$E$64-16)),IF(Avropsblankett!$E$64<65,(E33+(E34-E33)/32*(Avropsblankett!$E$64-32)),\"\")))),\"\")","v":""},null,{"$f":"(Avropsblankett!$F$64-500)/100*IF(Avropsblankett!$C$64=$A$30,IF(Avropsblankett!$E$64<17,(G31+(G32-G31)/8*(Avropsblankett!$E$64-8)),IF(Avropsblankett!$E$64<33,(G32+(G33-G32)/16*(Avropsblankett!$E$64-16)),IF(Avropsblankett!$E$64<65,(G33+(G34-G33)/32*(Avropsblankett!$E$64-32)),\"\"))))","v":0},null,null,{"$f":"IF(Avropsblankett!$C$64=$A$30,(IF(Avropsblankett!$E$64<17,(J31+(J32-J31)/8*(Avropsblankett!$E$64-8)),IF(Avropsblankett!$E$64<33,(J32+(J33-J32)/24*(Avropsblankett!$E$64-16)),IF(Avropsblankett!$E$64<65,(J33+(J34-J33)/32*(Avropsblankett!$E$64-32)),\"\")))),\"\")","v":""},null,{"$f":"(Avropsblankett!$F$64-500)/100*IF(Avropsblankett!$C$64=$A$30,IF(Avropsblankett!$E$64<17,(L31+(L32-L31)/8*(Avropsblankett!$E$64-8)),IF(Avropsblankett!$E$64<33,(L32+(L33-L32)/16*(Avropsblankett!$E$64-16)),IF(Avropsblankett!$E$64<65,(L33+(L34-L33)/32*(Avropsblankett!$E$64-32)),\"\"))))","v":0},null,null,{"$f":"IF(Avropsblankett!$C$64=$A$30,(IF(Avropsblankett!$E$64<17,(O31+(O32-O31)/8*(Avropsblankett!$E$64-8)),IF(Avropsblankett!$E$64<33,(O32+(O33-O32)/24*(Avropsblankett!$E$64-16)),IF(Avropsblankett!$E$64<65,(O33+(O34-O33)/32*(Avropsblankett!$E$64-32)),\"\")))),\"\")","v":""},null,{"$f":"(Avropsblankett!$F$64-500)/100*IF(Avropsblankett!$C$64=$A$30,IF(Avropsblankett!$E$64<17,(Q31+(Q32-Q31)/8*(Avropsblankett!$E$64-8)),IF(Avropsblankett!$E$64<33,(Q32+(Q33-Q32)/16*(Avropsblankett!$E$64-16)),IF(Avropsblankett!$E$64<65,(Q33+(Q34-Q33)/32*(Avropsblankett!$E$64-32)),\"\"))))","v":0},null,null,{"$f":"IF(Avropsblankett!$C$64=$A$30,(IF(Avropsblankett!$E$64<17,(T31+(T32-T31)/8*(Avropsblankett!$E$64-8)),IF(Avropsblankett!$E$64<33,(T32+(T33-T32)/24*(Avropsblankett!$E$64-16)),IF(Avropsblankett!$E$64<65,(T33+(T34-T33)/32*(Avropsblankett!$E$64-32)),\"\")))),\"\")","v":""},null,{"$f":"(Avropsblankett!$F$64-500)/100*IF(Avropsblankett!$C$64=$A$30,IF(Avropsblankett!$E$64<17,(V31+(V32-V31)/8*(Avropsblankett!$E$64-8)),IF(Avropsblankett!$E$64<33,(V32+(V33-V32)/16*(Avropsblankett!$E$64-16)),IF(Avropsblankett!$E$64<65,(V33+(V34-V33)/32*(Avropsblankett!$E$64-32)),\"\"))))","v":0},null,null,{"$f":"IF(Avropsblankett!$C$64=$A$30,(IF(Avropsblankett!$E$64<17,(Y31+(Y32-Y31)/8*(Avropsblankett!$E$64-8)),IF(Avropsblankett!$E$64<33,(Y32+(Y33-Y32)/24*(Avropsblankett!$E$64-16)),IF(Avropsblankett!$E$64<65,(Y33+(Y34-Y33)/32*(Avropsblankett!$E$64-32)),\"\")))),\"\")","v":""},null,{"$f":"(Avropsblankett!$F$64-500)/100*IF(Avropsblankett!$C$64=$A$30,IF(Avropsblankett!$E$64<17,(AA31+(AA32-AA31)/8*(Avropsblankett!$E$64-8)),IF(Avropsblankett!$E$64<33,(AA32+(AA33-AA32)/16*(Avropsblankett!$E$64-16)),IF(Avropsblankett!$E$64<65,(AA33+(AA34-AA33)/32*(Avropsblankett!$E$64-32)),\"\"))))","v":0},null,null,{"$f":"IF(Avropsblankett!$C$64=$A$30,(IF(Avropsblankett!$E$64<17,(AD31+(AD32-AD31)/8*(Avropsblankett!$E$64-8)),IF(Avropsblankett!$E$64<33,(AD32+(AD33-AD32)/24*(Avropsblankett!$E$64-16)),IF(Avropsblankett!$E$64<65,(AD33+(AD34-AD33)/32*(Avropsblankett!$E$64-32)),\"\")))),\"\")","v":""},null,{"$f":"(Avropsblankett!$F$64-500)/100*IF(Avropsblankett!$C$64=$A$30,IF(Avropsblankett!$E$64<17,(AF31+(AF32-AF31)/8*(Avropsblankett!$E$64-8)),IF(Avropsblankett!$E$64<33,(AF32+(AF33-AF32)/16*(Avropsblankett!$E$64-16)),IF(Avropsblankett!$E$64<65,(AF33+(AF34-AF33)/32*(Avropsblankett!$E$64-32)),\"\"))))","v":0},null,null,{"$f":"IF(Avropsblankett!$C$64=$A$30,(IF(Avropsblankett!$E$64<17,(AI31+(AI32-AI31)/8*(Avropsblankett!$E$64-8)),IF(Avropsblankett!$E$64<33,(AI32+(AI33-AI32)/24*(Avropsblankett!$E$64-16)),IF(Avropsblankett!$E$64<65,(AI33+(AI34-AI33)/32*(Avropsblankett!$E$64-32)),\"\")))),\"\")","v":""},null,{"$f":"(Avropsblankett!$F$64-500)/100*IF(Avropsblankett!$C$64=$A$30,IF(Avropsblankett!$E$64<17,(AK31+(AK32-AK31)/8*(Avropsblankett!$E$64-8)),IF(Avropsblankett!$E$64<33,(AK32+(AK33-AK32)/16*(Avropsblankett!$E$64-16)),IF(Avropsblankett!$E$64<65,(AK33+(AK34-AK33)/32*(Avropsblankett!$E$64-32)),\"\"))))","v":0},null,null,{"$f":"IF(Avropsblankett!$C$64=$A$30,(IF(Avropsblankett!$E$64<17,(AN31+(AN32-AN31)/8*(Avropsblankett!$E$64-8)),IF(Avropsblankett!$E$64<33,(AN32+(AN33-AN32)/24*(Avropsblankett!$E$64-16)),IF(Avropsblankett!$E$64<65,(AN33+(AN34-AN33)/32*(Avropsblankett!$E$64-32)),\"\")))),\"\")","v":""},null,{"$f":"(Avropsblankett!$F$64-500)/100*IF(Avropsblankett!$C$64=$A$30,IF(Avropsblankett!$E$64<17,(AP31+(AP32-AP31)/8*(Avropsblankett!$E$64-8)),IF(Avropsblankett!$E$64<33,(AP32+(AP33-AP32)/16*(Avropsblankett!$E$64-16)),IF(Avropsblankett!$E$64<65,(AP33+(AP34-AP33)/32*(Avropsblankett!$E$64-32)),\"\"))))","v":0},null,null,{"$f":"IF(Avropsblankett!$C$64=$A$30,(IF(Avropsblankett!$E$64<17,(AS31+(AS32-AS31)/8*(Avropsblankett!$E$64-8)),IF(Avropsblankett!$E$64<33,(AS32+(AS33-AS32)/24*(Avropsblankett!$E$64-16)),IF(Avropsblankett!$E$64<65,(AS33+(AS34-AS33)/32*(Avropsblankett!$E$64-32)),\"\")))),\"\")","v":""},null,{"$f":"(Avropsblankett!$F$64-500)/100*IF(Avropsblankett!$C$64=$A$30,IF(Avropsblankett!$E$64<17,(AU31+(AU32-AU31)/8*(Avropsblankett!$E$64-8)),IF(Avropsblankett!$E$64<33,(AU32+(AU33-AU32)/16*(Avropsblankett!$E$64-16)),IF(Avropsblankett!$E$64<65,(AU33+(AU34-AU33)/32*(Avropsblankett!$E$64-32)),\"\"))))","v":0},null,null,{"$f":"IF(Avropsblankett!$C$64=$A$30,IF(Avropsblankett!$E$64<33,(AX31+(AX32-AX31)/24*(Avropsblankett!$E$64-8)),IF(Avropsblankett!$E$64<65,(AX32+(AX33-AX32)/32*(Avropsblankett!$E$64-32)),\"\")),\"\")","v":""},null,{"$f":"(Avropsblankett!$F$64-500)/100*IF(Avropsblankett!$C$64=$A$30,IF(Avropsblankett!$E$64<33,(AZ31+(AZ32-AZ31)/24*(Avropsblankett!$E$64-8)),IF(Avropsblankett!$E$64<65,(AZ32+(AZ33-AZ32)/32*(Avropsblankett!$E$64-32)),\"\")))","v":0}]
[null,null,null,null,{"$f":"IF(Avropsblankett!$C$76=$A$30,(IF(Avropsblankett!$E$76<17,(E31+(E32-E31)/8*(Avropsblankett!$E$76-8)),IF(Avropsblankett!$E$76<33,(E32+(E33-E32)/24*(Avropsblankett!$E$76-16)),IF(Avropsblankett!$E$76<65,(E33+(E34-E33)/32*(Avropsblankett!$E$76-32)),\"\")))),\"\")","v":""},null,{"$f":"(Avropsblankett!$F$76-500)/100*IF(Avropsblankett!$C$76=$A$30,IF(Avropsblankett!$E$76<17,(G31+(G32-G31)/8*(Avropsblankett!$E$76-8)),IF(Avropsblankett!$E$76<33,(G32+(G33-G32)/16*(Avropsblankett!$E$76-16)),IF(Avropsblankett!$E$76<65,(G33+(G34-G33)/32*(Avropsblankett!$E$76-32)),\"\"))))","v":0},null,null,{"$f":"IF(Avropsblankett!$C$76=$A$30,(IF(Avropsblankett!$E$76<17,(J31+(J32-J31)/8*(Avropsblankett!$E$76-8)),IF(Avropsblankett!$E$76<33,(J32+(J33-J32)/24*(Avropsblankett!$E$76-16)),IF(Avropsblankett!$E$76<65,(J33+(J34-J33)/32*(Avropsblankett!$E$76-32)),\"\")))),\"\")","v":""},null,{"$f":"(Avropsblankett!$F$76-500)/100*IF(Avropsblankett!$C$76=$A$30,IF(Avropsblankett!$E$76<17,(L31+(L32-L31)/8*(Avropsblankett!$E$76-8)),IF(Avropsblankett!$E$76<33,(L32+(L33-L32)/16*(Avropsblankett!$E$76-16)),IF(Avropsblankett!$E$76<65,(L33+(L34-L33)/32*(Avropsblankett!$E$76-32)),\"\"))))","v":0},null,null,{"$f":"IF(Avropsblankett!$C$76=$A$30,(IF(Avropsblankett!$E$76<17,(O31+(O32-O31)/8*(Avropsblankett!$E$76-8)),IF(Avropsblankett!$E$76<33,(O32+(O33-O32)/24*(Avropsblankett!$E$76-16)),IF(Avropsblankett!$E$76<65,(O33+(O34-O33)/32*(Avropsblankett!$E$76-32)),\"\")))),\"\")","v":""},null,{"$f":"(Avropsblankett!$F$76-500)/100*IF(Avropsblankett!$C$76=$A$30,IF(Avropsblankett!$E$76<17,(Q31+(Q32-Q31)/8*(Avropsblankett!$E$76-8)),IF(Avropsblankett!$E$76<33,(Q32+(Q33-Q32)/16*(Avropsblankett!$E$76-16)),IF(Avropsblankett!$E$76<65,(Q33+(Q34-Q33)/32*(Avropsblankett!$E$76-32)),\"\"))))","v":0},null,null,{"$f":"IF(Avropsblankett!$C$76=$A$30,(IF(Avropsblankett!$E$76<17,(T31+(T32-T31)/8*(Avropsblankett!$E$76-8)),IF(Avropsblankett!$E$76<33,(T32+(T33-T32)/24*(Avropsblankett!$E$76-16)),IF(Avropsblankett!$E$76<65,(T33+(T34-T33)/32*(Avropsblankett!$E$76-32)),\"\")))),\"\")","v":""},null,{"$f":"(Avropsblankett!$F$76-500)/100*IF(Avropsblankett!$C$76=$A$30,IF(Avropsblankett!$E$76<17,(V31+(V32-V31)/8*(Avropsblankett!$E$76-8)),IF(Avropsblankett!$E$76<33,(V32+(V33-V32)/16*(Avropsblankett!$E$76-16)),IF(Avropsblankett!$E$76<65,(V33+(V34-V33)/32*(Avropsblankett!$E$76-32)),\"\"))))","v":0},null,null,{"$f":"IF(Avropsblankett!$C$76=$A$30,(IF(Avropsblankett!$E$76<17,(Y31+(Y32-Y31)/8*(Avropsblankett!$E$76-8)),IF(Avropsblankett!$E$76<33,(Y32+(Y33-Y32)/24*(Avropsblankett!$E$76-16)),IF(Avropsblankett!$E$76<65,(Y33+(Y34-Y33)/32*(Avropsblankett!$E$76-32)),\"\")))),\"\")","v":""},null,{"$f":"(Avropsblankett!$F$76-500)/100*IF(Avropsblankett!$C$76=$A$30,IF(Avropsblankett!$E$76<17,(AA31+(AA32-AA31)/8*(Avropsblankett!$E$76-8)),IF(Avropsblankett!$E$76<33,(AA32+(AA33-AA32)/16*(Avropsblankett!$E$76-16)),IF(Avropsblankett!$E$76<65,(AA33+(AA34-AA33)/32*(Avropsblankett!$E$76-32)),\"\"))))","v":0},null,null,{"$f":"IF(Avropsblankett!$C$76=$A$30,(IF(Avropsblankett!$E$76<17,(AD31+(AD32-AD31)/8*(Avropsblankett!$E$76-8)),IF(Avropsblankett!$E$76<33,(AD32+(AD33-AD32)/24*(Avropsblankett!$E$76-16)),IF(Avropsblankett!$E$76<65,(AD33+(AD34-AD33)/32*(Avropsblankett!$E$76-32)),\"\")))),\"\")","v":""},null,{"$f":"(Avropsblankett!$F$76-500)/100*IF(Avropsblankett!$C$76=$A$30,IF(Avropsblankett!$E$76<17,(AF31+(AF32-AF31)/8*(Avropsblankett!$E$76-8)),IF(Avropsblankett!$E$76<33,(AF32+(AF33-AF32)/16*(Avropsblankett!$E$76-16)),IF(Avropsblankett!$E$76<65,(AF33+(AF34-AF33)/32*(Avropsblankett!$E$76-32)),\"\"))))","v":0},null,null,{"$f":"IF(Avropsblankett!$C$76=$A$30,(IF(Avropsblankett!$E$76<17,(AI31+(AI32-AI31)/8*(Avropsblankett!$E$76-8)),IF(Avropsblankett!$E$76<33,(AI32+(AI33-AI32)/24*(Avropsblankett!$E$76-16)),IF(Avropsblankett!$E$76<65,(AI33+(AI34-AI33)/32*(Avropsblankett!$E$76-32)),\"\")))),\"\")","v":""},null,{"$f":"(Avropsblankett!$F$76-500)/100*IF(Avropsblankett!$C$76=$A$30,IF(Avropsblankett!$E$76<17,(AK31+(AK32-AK31)/8*(Avropsblankett!$E$76-8)),IF(Avropsblankett!$E$76<33,(AK32+(AK33-AK32)/16*(Avropsblankett!$E$76-16)),IF(Avropsblankett!$E$76<65,(AK33+(AK34-AK33)/32*(Avropsblankett!$E$76-32)),\"\"))))","v":0},null,null,{"$f":"IF(Avropsblankett!$C$76=$A$30,(IF(Avropsblankett!$E$76<17,(AN31+(AN32-AN31)/8*(Avropsblankett!$E$76-8)),IF(Avropsblankett!$E$76<33,(AN32+(AN33-AN32)/24*(Avropsblankett!$E$76-16)),IF(Avropsblankett!$E$76<65,(AN33+(AN34-AN33)/32*(Avropsblankett!$E$76-32)),\"\")))),\"\")","v":""},null,{"$f":"(Avropsblankett!$F$76-500)/100*IF(Avropsblankett!$C$76=$A$30,IF(Avropsblankett!$E$76<17,(AP31+(AP32-AP31)/8*(Avropsblankett!$E$76-8)),IF(Avropsblankett!$E$76<33,(AP32+(AP33-AP32)/16*(Avropsblankett!$E$76-16)),IF(Avropsblankett!$E$76<65,(AP33+(AP34-AP33)/32*(Avropsblankett!$E$76-32)),\"\"))))","v":0},null,null,{"$f":"IF(Avropsblankett!$C$76=$A$30,(IF(Avropsblankett!$E$76<17,(AS31+(AS32-AS31)/8*(Avropsblankett!$E$76-8)),IF(Avropsblankett!$E$76<33,(AS32+(AS33-AS32)/24*(Avropsblankett!$E$76-16)),IF(Avropsblankett!$E$76<65,(AS33+(AS34-AS33)/32*(Avropsblankett!$E$76-32)),\"\")))),\"\")","v":""},null,{"$f":"(Avropsblankett!$F$76-500)/100*IF(Avropsblankett!$C$76=$A$30,IF(Avropsblankett!$E$76<17,(AU31+(AU32-AU31)/8*(Avropsblankett!$E$76-8)),IF(Avropsblankett!$E$76<33,(AU32+(AU33-AU32)/16*(Avropsblankett!$E$76-16)),IF(Avropsblankett!$E$76<65,(AU33+(AU34-AU33)/32*(Avropsblankett!$E$76-32)),\"\"))))","v":0},null,null,{"$f":"IF(Avropsblankett!$C$76=$A$30,IF(Avropsblankett!$E$76<33,(AX31+(AX32-AX31)/24*(Avropsblankett!$E$76-8)),IF(Avropsblankett!$E$76<65,(AX32+(AX33-AX32)/32*(Avropsblankett!$E$76-32)),\"\")),\"\")","v":""},null,{"$f":"(Avropsblankett!$F$76-500)/100*IF(Avropsblankett!$C$76=$A$30,IF(Avropsblankett!$E$76<33,(AZ31+(AZ32-AZ31)/24*(Avropsblankett!$E$76-8)),IF(Avropsblankett!$E$76<65,(AZ32+(AZ33-AZ32)/32*(Avropsblankett!$E$76-32)),\"\")))","v":0}]
[null,null,null,null,{"$f":"SUM(E38:E42)","v":0},null,{"$f":"SUM(G38:G42)","v":0},null,null,{"$f":"SUM(J38:J42)","v":0},null,{"$f":"SUM(L38:L42)","v":0},null,null,{"$f":"SUM(O38:O42)","v":0},null,{"$f":"SUM(Q38:Q42)","v":0},null,null,{"$f":"SUM(T38:T42)","v":0},null,{"$f":"SUM(V38:V42)","v":0},null,null,{"$f":"SUM(Y38:Y42)","v":0},null,{"$f":"SUM(AA38:AA42)","v":0},null,null,{"$f":"SUM(AD38:AD42)","v":0},null,{"$f":"SUM(AF38:AF42)","v":0},null,null,{"$f":"SUM(AI38:AI42)","v":0},null,{"$f":"SUM(AK38:AK42)","v":0},null,null,{"$f":"SUM(AN38:AN42)","v":0},null,{"$f":"SUM(AP38:AP42)","v":0},null,null,{"$f":"SUM(AS38:AS42)","v":0},null,{"$f":"SUM(AU38:AU42)","v":0},null,null,{"$f":"SUM(AX38:AX42)","v":0},null,{"$f":"SUM(AZ38:AZ42)","v":0}]
[null,null,null,"Summa",{"$f":"SUM(E15,E29,E43)","v":0},null,{"$f":"SUM(G15,G29,G43)","v":0},null,"Summa",{"$f":"SUM(J15,J29,J43)","v":0},null,{"$f":"SUM(L15,L29,L43)","v":0},null,"Summa",{"$f":"SUM(O15,O29,O43)","v":0},null,{"$f":"SUM(Q15,Q29,Q43)","v":0},null,"Summa",{"$f":"SUM(T15,T29,T43)","v":0},null,{"$f":"SUM(V15,V29,V43)","v":0},null,"Summa",{"$f":"SUM(Y15,Y29,Y43)","v":0},null,{"$f":"SUM(AA15,AA29,AA43)","v":0},null,"Summa",{"$f":"SUM(AD15,AD29,AD43)","v":0},null,{"$f":"SUM(AF15,AF29,AF43)","v":0},null,"Summa",{"$f":"SUM(AI15,AI29,AI43)","v":0},null,{"$f":"SUM(AK15,AK29,AK43)","v":0},null,"Summa",{"$f":"SUM(AN15,AN29,AN43)","v":0},null,{"$f":"SUM(AP15,AP29,AP43)","v":0},null,"Summa",{"$f":"SUM(AS15,AS29,AS43)","v":0},null,{"$f":"SUM(AU15,AU29,AU43)","v":0},null,"Summa",{"$f":"SUM(AX15,AX29,AX43)","v":0},null,{"$f":"SUM(AZ15,AZ29,AZ43)","v":0}]
[null,null,null,"Totalsumma",{"$f":"SUM(E44,G44)","v":0},null,null,null,"Totalsumma",{"$f":"SUM(J44,L44)","v":0},null,null,null,"Totalsumma",{"$f":"SUM(O44,Q44)","v":0},null,null,null,"Totalsumma",{"$f":"SUM(T44,V44)","v":0},null,null,null,"Totalsumma",{"$f":"SUM(Y44,AA44)","v":0},null,null,null,"Totalsumma",{"$f":"SUM(AD44,AF44)","v":0},null,null,null,"Totalsumma",{"$f":"SUM(AI44,AK44)","v":0},null,null,null,"Totalsumma",{"$f":"SUM(AN44,AP44)","v":0},null,null,null,"Totalsumma",{"$f":"SUM(AS44,AU44)","v":0},null,null,null,"Totalsumma",{"$f":"SUM(AX44,AZ44)","v":0}]
[null,{"$f":"A4","v":"Broschyrer_Variant_1"}]
[null,{"$f":"A16","v":"Broschyrer_Variant_2"}]
[null,{"$f":"A30","v":"Broschyrer_Variant_3"}]

{"sheet":"Folders","index":5,"n_rows":55,"n_cols":52,"rows_kept":55,"cut":false,"hidden":false,"merged":[[1,3,1,6],[0,0,0,2],[0,3,0,6],[51,4,51,6],[18,3,19,6],[18,2,19,2],[6,2,7,2],[6,3,7,6],[30,2,31,2],[30,3,31,6],[1,0,1,2],[2,0,2,1],[14,0,14,1],[26,0,26,1],[38,0,38,1],[42,2,43,2],[30,8,31,11],[51,9,51,11],[0,13,0,16],[1,13,1,16],[6,13,7,16],[18,13,19,16],[30,13,31,16],[51,14,51,16],[0,8,0,11],[1,8,1,11],[6,8,7,11],[18,8,19,11],[51,19,51,21],[51,24,51,26],[51,29,51,31],[18,18,19,21],[18,23,19,26],[18,28,19,31],[42,28,43,31],[30,18,31,21],[30,23,31,26],[30,28,31,31],[18,33,19,36],[18,43,19,46],[30,33,31,36],[6,48,7,51],[18,48,19,51],[6,33,7,36],[6,38,7,41],[6,43,7,46],[18,38,19,41],[6,18,7,21],[6,23,7,26],[6,28,7,31],[0,18,0,21],[0,23,0,26],[0,28,0,31],[1,18,1,21],[1,23,1,26],[1,28,1,31],[0,48,0,51],[0,33,0,36],[0,38,0,41],[0,43,0,46],[1,43,1,46],[1,33,1,36],[1,38,1,41],[1,48,1,51],[51,34,51,36],[51,39,51,41],[51,44,51,46],[30,48,31,51],[51,49,51,51],[30,38,31,41],[30,43,31,46],[42,33,43,36],[42,38,43,41],[42,43,43,46],[42,48,43,51],[42,3,43,6],[42,8,43,11],[42,13,43,16],[42,18,43,21],[42,23,43,26]]}
["Folders",null,null,{"$f":"Uträkningsblad!C4","v":"Bröderna Hansson H-tryck Aktiebolag"},null,null,null,null,{"$f":"Uträkningsblad!D4","v":"Elanders Sverige AB"},null,null,null,null,{"$f":"Uträkningsblad!E4","v":"Exakta Print AB"},null,null,null,null,{"$f":"Uträkningsblad!F4","v":"Kalmar Kuvert Sweden AB"},null,null,null,null,{"$f":"Uträkningsblad!G4","v":"Ljungbergs Tryckeri i Klippan AB"},null,null,null,null,{"$f":"Uträkningsblad!H4","v":"Scandinavian Print Group Sweden AB"},null,null,null,null,{"$f":"Uträkningsblad!I4","v":"Stema Specialtryck AB"},null,null,null,null,{"$f":"Uträkningsblad!J4","v":"Stibo Complete A/S"},null,null,null,null,{"$f":"Uträkningsblad!K4","v":"Åtta.45 Tryckeri AB"},null,null,null,null,{"$f":"Uträkningsblad!L4","v":"Leverantör 10"}]
[null,null,null,"Priser lämnas i gulmarkerade fält nedan",null,null,null,null,"Priser lämnas i gulmarkerade fält nedan",null,null,null,null,"Priser lämnas i gulmarkerade fält nedan",null,null,null,null,"Priser lämnas i gulmarkerade fält nedan",null,null,null,null,"Priser lämnas i gulmarkerade fält nedan",null,null,null,null,"Priser lämnas i gulmarkerade fält nedan",null,null,null,null,"Priser lämnas i gulmarkerade fält nedan",null,null,null,null,"Priser lämnas i gulmarkerade fält nedan",null,null,null,null,"Priser lämnas i gulmarkerade fält nedan",null,null,null,null,"Priser lämnas i gulmarkerade fält nedan"]
["Folders_Variant_1",null,"Beskrivning/omfång inklusive omslag","Upplaga","Ange pris","Följande","Ange pris",null,"Upplaga","Ange pris","Följande","Ange pris",null,"Upplaga","Ange pris","Följande","Ange pris",null,"Upplaga","Ange pris","Följande","Ange pris",null,"Upplaga","Ange pris","Följande","Ange pris",null,"Upplaga","Ange pris","Följande","Ange pris",null,"Upplaga","Ange pris","Följande","Ange pris",null,"Upplaga","Ange pris","Följande","Ange pris",null,"Upplaga","Ange pris","Följande","Ange pris",null,"Upplaga","Ange pris","Följande","Ange pris"]
["Underlag","A: Öppna filer. B: PDF/PDFx.","4 sidor",100,1345,100,216,null,100,496,100,214,null,100,1350,100,240,null,100,600,100,225,null,100,405,100,45,null,100,675,100,288,null,100,550,100,190,null,100,635,100,620,null,100,710,100,250,null,100,1120,100,145]
["Format","A4","4 sidor",1000,3288,100,216,null,1000,2366,100,214,null,1000,3100,100,65,null,1000,1800,100,200,null,1000,960,100,147,null,1000,2392,100,379,null,1000,1800,100,40,null,1000,1695,100,165,null,1000,2450,100,170,null,1000,2390,100,710]
["Papper","Mattbestruket 130 g","4 sidor",3000,7606,100,216,null,3000,6250,100,205,null,3000,5200,100,70,null,3000,2725,100,125,null,3000,1670,100,147,null,3000,3775,100,12,null,3000,2400,100,35,null,3000,2415,100,75,null,3000,3840,100,70,null,3000,3945,100,225]
["Tryck","4+4 färger"]
["Sidor","4 stycken"]
[null,null,null,null,{"$f":"IF(Avropsblankett!$C$28=$A$3,IF(Avropsblankett!$F$28<1000,E4,IF(Avropsblankett!$F$28<3000,E5,E6)),\"\")","v":""},null,{"$f":"IF(Avropsblankett!$C$28=$A$3,IF(Avropsblankett!$F$28<1000,((Avropsblankett!$F$28-100)*G4/100),IF(Avropsblankett!$F$28<3000,((Avropsblankett!$F$28-1000)*G5/100),((Avropsblankett!$F$28-3000)*G6/100))),\"\")","v":""},null,null,{"$f":"IF(Avropsblankett!$C$28=$A$3,IF(Avropsblankett!$F$28<1000,J4,IF(Avropsblankett!$F$28<3000,J5,J6)),\"\")","v":""},null,{"$f":"IF(Avropsblankett!$C$28=$A$3,IF(Avropsblankett!$F$28<1000,((Avropsblankett!$F$28-100)*L4/100),IF(Avropsblankett!$F$28<3000,((Avropsblankett!$F$28-1000)*L5/100),((Avropsblankett!$F$28-3000)*L6/100))),\"\")","v":""},null,null,{"$f":"IF(Avropsblankett!$C$28=$A$3,IF(Avropsblankett!$F$28<1000,O4,IF(Avropsblankett!$F$28<3000,O5,O6)),\"\")","v":""},null,{"$f":"IF(Avropsblankett!$C$28=$A$3,IF(Avropsblankett!$F$28<1000,((Avropsblankett!$F$28-100)*Q4/100),IF(Avropsblankett!$F$28<3000,((Avropsblankett!$F$28-1000)*Q5/100),((Avropsblankett!$F$28-3000)*Q6/100))),\"\")","v":""},null,null,{"$f":"IF(Avropsblankett!$C$28=$A$3,IF(Avropsblankett!$F$28<1000,T4,IF(Avropsblankett!$F$28<3000,T5,T6)),\"\")","v":""},null,{"$f":"IF(Avropsblankett!$C$28=$A$3,IF(Avropsblankett!$F$28<1000,((Avropsblankett!$F$28-100)*V4/100),IF(Avropsblankett!$F$28<3000,((Avropsblankett!$F$28-1000)*V5/100),((Avropsblankett!$F$28-3000)*V6/100))),\"\")","v":""},null,null,{"$f":"IF(Avropsblankett!$C$28=$A$3,IF(Avropsblankett!$F$28<1000,Y4,IF(Avropsblankett!$F$28<3000,Y5,Y6)),\"\")","v":""},null,{"$f":"IF(Avropsblankett!$C$28=$A$3,IF(Avropsblankett!$F$28<1000,((Avropsblankett!$F$28-100)*AA4/100),IF(Avropsblankett!$F$28<3000,((Avropsblankett!$F$28-1000)*AA5/100),((Avropsblankett!$F$28-3000)*AA6/100))),\"\")","v":""},null,null,{"$f":"IF(Avropsblankett!$C$28=$A$3,IF(Avropsblankett!$F$28<1000,AD4,IF(Avropsblankett!$F$28<3000,AD5,AD6)),\"\")","v":""},null,{"$f":"IF(Avropsblankett!$C$28=$A$3,IF(Avropsblankett!$F$28<1000,((Avropsblankett!$F$28-100)*AF4/100),IF(Avropsblankett!$F$28<3000,((Avropsblankett!$F$28-1000)*AF5/100),((Avropsblankett!$F$28-3000)*AF6/100))),\"\")","v":""},null,null,{"$f":"IF(Avropsblankett!$C$28=$A$3,IF(Avropsblankett!$F$28<1000,AI4,IF(Avropsblankett!$F$28<3000,AI5,AI6)),\"\")","v":""},null,{"$f":"IF(Avropsblankett!$C$28=$A$3,IF(Avropsblankett!$F$28<1000,((Avropsblankett!$F$28-100)*AK4/100),IF(Avropsblankett!$F$28<3000,((Avropsblankett!$F$28-1000)*AK5/100),((Avropsblankett!$F$28-3000)*AK6/100))),\"\")","v":""},null,null,{"$f":"IF(Avropsblankett!$C$28=$A$3,IF(Avropsblankett!$F$28<1000,AN4,IF(Avropsblankett!$F$28<3000,AN5,AN6)),\"\")","v":""},null,{"$f":"IF(Avropsblankett!$C$28=$A$3,IF(Avropsblankett!$F$28<1000,((Avropsblankett!$F$28-100)*AP4/100),IF(Avropsblankett!$F$28<3000,((Avropsblankett!$F$28-1000)*AP5/100),((Avropsblankett!$F$28-3000)*AP6/100))),\"\")","v":""},null,null,{"$f":"IF(Avropsblankett!$C$28=$A$3,IF(Avropsblankett!$F$28<1000,AS4,IF(Avropsblankett!$F$28<3000,AS5,AS6)),\"\")","v":""},null,{"$f":"IF(Avropsblankett!$C$28=$A$3,IF(Avropsblankett!$F$28<1000,((Avropsblankett!$F$28-100)*AU4/100),IF(Avropsblankett!$F$28<3000,((Avropsblankett!$F$28-1000)*AU5/100),((Avropsblankett!$F$28-3000)*AU6/100))),\"\")","v":""},null,null,{"$f":"IF(Avropsblankett!$C$28=$A$3,IF(Avropsblankett!$F$28<1000,AX4,IF(Avropsblankett!$F$28<3000,AX5,AX6)),\"\")","v":""},null,{"$f":"IF(Avropsblankett!$C$28=$A$3,IF(Avropsblankett!$F$28<1000,((Avropsblankett!$F$28-100)*AZ4/100),IF(Avropsblankett!$F$28<3000,((Avropsblankett!$F$28-1000)*AZ5/100),((Avropsblankett!$F$28-3000)*AZ6/100))),\"\")","v":""}]
[null,null,null,null,{"$f":"IF(Avropsblankett!$C$40=$A$3,IF(Avropsblankett!$F$40<1000,E4,IF(Avropsblankett!$F$40<3000,E5,E6)),\"\")","v":""},null,{"$f":"IF(Avropsblankett!$C$40=$A$3,IF(Avropsblankett!$F$40<1000,((Avropsblankett!$F$40-100)*G4/100),IF(Avropsblankett!$F$40<3000,((Avropsblankett!$F$40-1000)*G5/100),((Avropsblankett!$F$40-3000)*G6/100))),\"\")","v":""},null,null,{"$f":"IF(Avropsblankett!$C$40=$A$3,IF(Avropsblankett!$F$40<1000,J4,IF(Avropsblankett!$F$40<3000,J5,J6)),\"\")","v":""},null,{"$f":"IF(Avropsblankett!$C$40=$A$3,IF(Avropsblankett!$F$40<1000,((Avropsblankett!$F$40-100)*L4/100),IF(Avropsblankett!$F$40<3000,((Avropsblankett!$F$40-1000)*L5/100),((Avropsblankett!$F$40-3000)*L6/100))),\"\")","v":""},null,null,{"$f":"IF(Avropsblankett!$C$40=$A$3,IF(Avropsblankett!$F$40<1000,O4,IF(Avropsblankett!$F$40<3000,O5,O6)),\"\")","v":""},null,{"$f":"IF(Avropsblankett!$C$40=$A$3,IF(Avropsblankett!$F$40<1000,((Avropsblankett!$F$40-100)*Q4/100),IF(Avropsblankett!$F$40<3000,((Avropsblankett!$F$40-1000)*Q5/100),((Avropsblankett!$F$40-3000)*Q6/100))),\"\")","v":""},null,null,{"$f":"IF(Avropsblankett!$C$40=$A$3,IF(Avropsblankett!$F$40<1000,T4,IF(Avropsblankett!$F$40<3000,T5,T6)),\"\")","v":""},null,{"$f":"IF(Avropsblankett!$C$40=$A$3,IF(Avropsblankett!$F$40<1000,((Avropsblankett!$F$40-100)*V4/100),IF(Avropsblankett!$F$40<3000,((Avropsblankett!$F$40-1000)*V5/100),((Avropsblankett!$F$40-3000)*V6/100))),\"\")","v":""},null,null,{"$f":"IF(Avropsblankett!$C$40=$A$3,IF(Avropsblankett!$F$40<1000,Y4,IF(Avropsblankett!$F$40<3000,Y5,Y6)),\"\")","v":""},null,{"$f":"IF(Avropsblankett!$C$40=$A$3,IF(Avropsblankett!$F$40<1000,((Avropsblankett!$F$40-100)*AA4/100),IF(Avropsblankett!$F$40<3000,((Avropsblankett!$F$40-1000)*AA5/100),((Avropsblankett!$F$40-3000)*AA6/100))),\"\")","v":""},null,null,{"$f":"IF(Avropsblankett!$C$40=$A$3,IF(Avropsblankett!$F$40<1000,AD4,IF(Avropsblankett!$F$40<3000,AD5,AD6)),\"\")","v":""},null,{"$f":"IF(Avropsblankett!$C$40=$A$3,IF(Avropsblankett!$F$40<1000,((Avropsblankett!$F$40-100)*AF4/100),IF(Avropsblankett!$F$40<3000,((Avropsblankett!$F$40-1000)*AF5/100),((Avropsblankett!$F$40-3000)*AF6/100))),\"\")","v":""},null,null,{"$f":"IF(Avropsblankett!$C$40=$A$3,IF(Avropsblankett!$F$40<1000,AI4,IF(Avropsblankett!$F$40<3000,AI5,AI6)),\"\")","v":""},null,{"$f":"IF(Avropsblankett!$C$40=$A$3,IF(Avropsblankett!$F$40<1000,((Avropsblankett!$F$40-100)*AK4/100),IF(Avropsblankett!$F$40<3000,((Avropsblankett!$F$40-1000)*AK5/100),((Avropsblankett!$F$40-3000)*AK6/100))),\"\")","v":""},null,null,{"$f":"IF(Avropsblankett!$C$40=$A$3,IF(Avropsblankett!$F$40<1000,AN4,IF(Avropsblankett!$F$40<3000,AN5,AN6)),\"\")","v":""},null,{"$f":"IF(Avropsblankett!$C$40=$A$3,IF(Avropsblankett!$F$40<1000,((Avropsblankett!$F$40-100)*AP4/100),IF(Avropsblankett!$F$40<3000,((Avropsblankett!$F$40-1000)*AP5/100),((Avropsblankett!$F$40-3000)*AP6/100))),\"\")","v":""},null,null,{"$f":"IF(Avropsblankett!$C$40=$A$3,IF(Avropsblankett!$F$40<1000,AS4,IF(Avropsblankett!$F$40<3000,AS5,AS6)),\"\")","v":""},null,{"$f":"IF(Avropsblankett!$C$40=$A$3,IF(Avropsblankett!$F$40<1000,((Avropsblankett!$F$40-100)*AU4/100),IF(Avropsblankett!$F$40<3000,((Avropsblankett!$F$40-1000)*AU5/100),((Avropsblankett!$F$40-3000)*AU6/100))),\"\")","v":""},null,null,{"$f":"IF(Avropsblankett!$C$40=$A$3,IF(Avropsblankett!$F$40<1000,AX4,IF(Avropsblankett!$F$40<3000,AX5,AX6)),\"\")","v":""},null,{"$f":"IF(Avropsblankett!$C$40=$A$3,IF(Avropsblankett!$F$40<1000,((Avropsblankett!$F$40-100)*AZ4/100),IF(Avropsblankett!$F$40<3000,((Avropsblankett!$F$40-1000)*AZ5/100),((Avropsblankett!$F$40-3000)*AZ6/100))),\"\")","v":""}]
[null,null,null,null,{"$f":"IF(Avropsblankett!$C$52=$A$3,IF(Avropsblankett!$F$52<1000,E4,IF(Avropsblankett!$F$52<3000,E5,E6)),\"\")","v":""},null,{"$f":"IF(Avropsblankett!$C$52=$A$3,IF(Avropsblankett!$F$52<1000,((Avropsblankett!$F$52-100)*G4/100),IF(Avropsblankett!$F$52<3000,((Avropsblankett!$F$52-1000)*G5/100),((Avropsblankett!$F$52-3000)*G6/100))),\"\")","v":""},null,null,{"$f":"IF(Avropsblankett!$C$52=$A$3,IF(Avropsblankett!$F$52<1000,J4,IF(Avropsblankett!$F$52<3000,J5,J6)),\"\")","v":""},null,{"$f":"IF(Avropsblankett!$C$52=$A$3,IF(Avropsblankett!$F$52<1000,((Avropsblankett!$F$52-100)*L4/100),IF(Avropsblankett!$F$52<3000,((Avropsblankett!$F$52-1000)*L5/100),((Avropsblankett!$F$52-3000)*L6/100))),\"\")","v":""},null,null,{"$f":"IF(Avropsblankett!$C$52=$A$3,IF(Avropsblankett!$F$52<1000,O4,IF(Avropsblankett!$F$52<3000,O5,O6)),\"\")","v":""},null,{"$f":"IF(Avropsblankett!$C$52=$A$3,IF(Avropsblankett!$F$52<1000,((Avropsblankett!$F$52-100)*Q4/100),IF(Avropsblankett!$F$52<3000,((Avropsblankett!$F$52-1000)*Q5/100),((Avropsblankett!$F$52-3000)*Q6/100))),\"\")","v":""},null,null,{"$f":"IF(Avropsblankett!$C$52=$A$3,IF(Avropsblankett!$F$52<1000,T4,IF(Avropsblankett!$F$52<3000,T5,T6)),\"\")","v":""},null,{"$f":"IF(Avropsblankett!$C$52=$A$3,IF(Avropsblankett!$F$52<1000,((Avropsblankett!$F$52-100)*V4/100),IF(Avropsblankett!$F$52<3000,((Avropsblankett!$F$52-1000)*V5/100),((Avropsblankett!$F$52-3000)*V6/100))),\"\")","v":""},null,null,{"$f":"IF(Avropsblankett!$C$52=$A$3,IF(Avropsblankett!$F$52<1000,Y4,IF(Avropsblankett!$F$52<3000,Y5,Y6)),\"\")","v":""},null,{"$f":"IF(Avropsblankett!$C$52=$A$3,IF(Avropsblankett!$F$52<1000,((Avropsblankett!$F$52-100)*AA4/100),IF(Avropsblankett!$F$52<3000,((Avropsblankett!$F$52-1000)*AA5/100),((Avropsblankett!$F$52-3000)*AA6/100))),\"\")","v":""},null,null,{"$f":"IF(Avropsblankett!$C$52=$A$3,IF(Avropsblankett!$F$52<1000,AD4,IF(Avropsblankett!$F$52<3000,AD5,AD6)),\"\")","v":""},null,{"$f":"IF(Avropsblankett!$C$52=$A$3,IF(Avropsblankett!$F$52<1000,((Avropsblankett!$F$52-100)*AF4/100),IF(Avropsblankett!$F$52<3000,((Avropsblankett!$F$52-1000)*AF5/100),((Avropsblankett!$F$52-3000)*AF6/100))),\"\")","v":""},null,null,{"$f":"IF(Avropsblankett!$C$52=$A$3,IF(Avropsblankett!$F$52<1000,AI4,IF(Avropsblankett!$F$52<3000,AI5,AI6)),\"\")","v":""},null,{"$f":"IF(Avropsblankett!$C$52=$A$3,IF(Avropsblankett!$F$52<1000,((Avropsblankett!$F$52-100)*AK4/100),IF(Avropsblankett!$F$52<3000,((Avropsblankett!$F$52-1000)*AK5/100),((Avropsblankett!$F$52-3000)*AK6/100))),\"\")","v":""},null,null,{"$f":"IF(Avropsblankett!$C$52=$A$3,IF(Avropsblankett!$F$52<1000,AN4,IF(Avropsblankett!$F$52<3000,AN5,AN6)),\"\")","v":""},null,{"$f":"IF(Avropsblankett!$C$52=$A$3,IF(Avropsblankett!$F$52<1000,((Avropsblankett!$F$52-100)*AP4/100),IF(Avropsblankett!$F$52<3000,((Avropsblankett!$F$52-1000)*AP5/100),((Avropsblankett!$F$52-3000)*AP6/100))),\"\")","v":""},null,null,{"$f":"IF(Avropsblankett!$C$52=$A$3,IF(Avropsblankett!$F$52<1000,AS4,IF(Avropsblankett!$F$52<3000,AS5,AS6)),\"\")","v":""},null,{"$f":"IF(Avropsblankett!$C$52=$A$3,IF(Avropsblankett!$F$52<1000,((Avropsblankett!$F$52-100)*AU4/100),IF(Avropsblankett!$F$52<3000,((Avropsblankett!$F$52-1000)*AU5/100),((Avropsblankett!$F$52-3000)*AU6/100))),\"\")","v":""},null,null,{"$f":"IF(Avropsblankett!$C$52=$A$3,IF(Avropsblankett!$F$52<1000,AX4,IF(Avropsblankett!$F$52<3000,AX5,AX6)),\"\")","v":""},null,{"$f":"IF(Avropsblankett!$C$52=$A$3,IF(Avropsblankett!$F$52<1000,((Avropsblankett!$F$52-100)*AZ4/100),IF(Avropsblankett!$F$52<3000,((Avropsblankett!$F$52-1000)*AZ5/100),((Avropsblankett!$F$52-3000)*AZ6/100))),\"\")","v":""}]
[null,null,null,null,{"$f":"IF(Avropsblankett!$C$64=$A$3,IF(Avropsblankett!$F$64<1000,E4,IF(Avropsblankett!$F$64<3000,E5,E6)),\"\")","v":""},null,{"$f":"IF(Avropsblankett!$C$64=$A$3,IF(Avropsblankett!$F$64<1000,((Avropsblankett!$F$64-100)*G4/100),IF(Avropsblankett!$F$64<3000,((Avropsblankett!$F$64-1000)*G5/100),((Avropsblankett!$F$64-3000)*64/100))),\"\")","v":""},null,null,{"$f":"IF(Avropsblankett!$C$64=$A$3,IF(Avropsblankett!$F$64<1000,J4,IF(Avropsblankett!$F$64<3000,J5,J6)),\"\")","v":""},null,{"$f":"IF(Avropsblankett!$C$64=$A$3,IF(Avropsblankett!$F$64<1000,((Avropsblankett!$F$64-100)*L4/100),IF(Avropsblankett!$F$64<3000,((Avropsblankett!$F$64-1000)*L5/100),((Avropsblankett!$F$64-3000)*64/100))),\"\")","v":""},null,null,{"$f":"IF(Avropsblankett!$C$64=$A$3,IF(Avropsblankett!$F$64<1000,O4,IF(Avropsblankett!$F$64<3000,O5,O6)),\"\")","v":""},null,{"$f":"IF(Avropsblankett!$C$64=$A$3,IF(Avropsblankett!$F$64<1000,((Avropsblankett!$F$64-100)*Q4/100),IF(Avropsblankett!$F$64<3000,((Avropsblankett!$F$64-1000)*Q5/100),((Avropsblankett!$F$64-3000)*64/100))),\"\")","v":""},null,null,{"$f":"IF(Avropsblankett!$C$64=$A$3,IF(Avropsblankett!$F$64<1000,T4,IF(Avropsblankett!$F$64<3000,T5,T6)),\"\")","v":""},null,{"$f":"IF(Avropsblankett!$C$64=$A$3,IF(Avropsblankett!$F$64<1000,((Avropsblankett!$F$64-100)*V4/100),IF(Avropsblankett!$F$64<3000,((Avropsblankett!$F$64-1000)*V5/100),((Avropsblankett!$F$64-3000)*64/100))),\"\")","v":""},null,null,{"$f":"IF(Avropsblankett!$C$64=$A$3,IF(Avropsblankett!$F$64<1000,Y4,IF(Avropsblankett!$F$64<3000,Y5,Y6)),\"\")","v":""},null,{"$f":"IF(Avropsblankett!$C$64=$A$3,IF(Avropsblankett!$F$64<1000,((Avropsblankett!$F$64-100)*AA4/100),IF(Avropsblankett!$F$64<3000,((Avropsblankett!$F$64-1000)*AA5/100),((Avropsblankett!$F$64-3000)*64/100))),\"\")","v":""},null,null,{"$f":"IF(Avropsblankett!$C$64=$A$3,IF(Avropsblankett!$F$64<1000,AD4,IF(Avropsblankett!$F$64<3000,AD5,AD6)),\"\")","v":""},null,{"$f":"IF(Avropsblankett!$C$64=$A$3,IF(Avropsblankett!$F$64<1000,((Avropsblankett!$F$64-100)*AF4/100),IF(Avropsblankett!$F$64<3000,((Avropsblankett!$F$64-1000)*AF5/100),((Avropsblankett!$F$64-3000)*64/100))),\"\")","v":""},null,null,{"$f":"IF(Avropsblankett!$C$64=$A$3,IF(Avropsblankett!$F$64<1000,AI4,IF(Avropsblankett!$F$64<3000,AI5,AI6)),\"\")","v":""},null,{"$f":"IF(Avropsblankett!$C$64=$A$3,IF(Avropsblankett!$F$64<1000,((Avropsblankett!$F$64-100)*AK4/100),IF(Avropsblankett!$F$64<3000,((Avropsblankett!$F$64-1000)*AK5/100),((Avropsblankett!$F$64-3000)*64/100))),\"\")","v":""},null,null,{"$f":"IF(Avropsblankett!$C$64=$A$3,IF(Avropsblankett!$F$64<1000,AN4,IF(Avropsblankett!$F$64<3000,AN5,AN6)),\"\")","v":""},null,{"$f":"IF(Avropsblankett!$C$64=$A$3,IF(Avropsblankett!$F$64<1000,((Avropsblankett!$F$64-100)*AP4/100),IF(Avropsblankett!$F$64<3000,((Avropsblankett!$F$64-1000)*AP5/100),((Avropsblankett!$F$64-3000)*64/100))),\"\")","v":""},null,null,{"$f":"IF(Avropsblankett!$C$64=$A$3,IF(Avropsblankett!$F$64<1000,AS4,IF(Avropsblankett!$F$64<3000,AS5,AS6)),\"\")","v":""},null,{"$f":"IF(Avropsblankett!$C$64=$A$3,IF(Avropsblankett!$F$64<1000,((Avropsblankett!$F$64-100)*AU4/100),IF(Avropsblankett!$F$64<3000,((Avropsblankett!$F$64-1000)*AU5/100),((Avropsblankett!$F$64-3000)*64/100))),\"\")","v":""},null,null,{"$f":"IF(Avropsblankett!$C$64=$A$3,IF(Avropsblankett!$F$64<1000,AX4,IF(Avropsblankett!$F$64<3000,AX5,AX6)),\"\")","v":""},null,{"$f":"IF(Avropsblankett!$C$64=$A$3,IF(Avropsblankett!$F$64<1000,((Avropsblankett!$F$64-100)*AZ4/100),IF(Avropsblankett!$F$64<3000,((Avropsblankett!$F$64-1000)*AZ5/100),((Avropsblankett!$F$64-3000)*64/100))),\"\")","v":""}]
[null,null,null,null,{"$f":"IF(Avropsblankett!$C$76=$A$3,IF(Avropsblankett!$F$76<1000,E4,IF(Avropsblankett!$F$76<3000,E5,E6)),\"\")","v":""},null,{"$f":"IF(Avropsblankett!$C$76=$A$3,IF(Avropsblankett!$F$76<1000,((Avropsblankett!$F$76-100)*G4/100),IF(Avropsblankett!$F$76<3000,((Avropsblankett!$F$76-1000)*G5/100),((Avropsblankett!$F$76-3000)*G6/100))),\"\")","v":""},null,null,{"$f":"IF(Avropsblankett!$C$76=$A$3,IF(Avropsblankett!$F$76<1000,J4,IF(Avropsblankett!$F$76<3000,J5,J6)),\"\")","v":""},null,{"$f":"IF(Avropsblankett!$C$76=$A$3,IF(Avropsblankett!$F$76<1000,((Avropsblankett!$F$76-100)*L4/100),IF(Avropsblankett!$F$76<3000,((Avropsblankett!$F$76-1000)*L5/100),((Avropsblankett!$F$76-3000)*L6/100))),\"\")","v":""},null,null,{"$f":"IF(Avropsblankett!$C$76=$A$3,IF(Avropsblankett!$F$76<1000,O4,IF(Avropsblankett!$F$76<3000,O5,O6)),\"\")","v":""},null,{"$f":"IF(Avropsblankett!$C$76=$A$3,IF(Avropsblankett!$F$76<1000,((Avropsblankett!$F$76-100)*Q4/100),IF(Avropsblankett!$F$76<3000,((Avropsblankett!$F$76-1000)*Q5/100),((Avropsblankett!$F$76-3000)*Q6/100))),\"\")","v":""},null,null,{"$f":"IF(Avropsblankett!$C$76=$A$3,IF(Avropsblankett!$F$76<1000,T4,IF(Avropsblankett!$F$76<3000,T5,T6)),\"\")","v":""},null,{"$f":"IF(Avropsblankett!$C$76=$A$3,IF(Avropsblankett!$F$76<1000,((Avropsblankett!$F$76-100)*V4/100),IF(Avropsblankett!$F$76<3000,((Avropsblankett!$F$76-1000)*V5/100),((Avropsblankett!$F$76-3000)*V6/100))),\"\")","v":""},null,null,{"$f":"IF(Avropsblankett!$C$76=$A$3,IF(Avropsblankett!$F$76<1000,Y4,IF(Avropsblankett!$F$76<3000,Y5,Y6)),\"\")","v":""},null,{"$f":"IF(Avropsblankett!$C$76=$A$3,IF(Avropsblankett!$F$76<1000,((Avropsblankett!$F$76-100)*AA4/100),IF(Avropsblankett!$F$76<3000,((Avropsblankett!$F$76-1000)*AA5/100),((Avropsblankett!$F$76-3000)*AA6/100))),\"\")","v":""},null,null,{"$f":"IF(Avropsblankett!$C$76=$A$3,IF(Avropsblankett!$F$76<1000,AD4,IF(Avropsblankett!$F$76<3000,AD5,AD6)),\"\")","v":""},null,{"$f":"IF(Avropsblankett!$C$76=$A$3,IF(Avropsblankett!$F$76<1000,((Avropsblankett!$F$76-100)*AF4/100),IF(Avropsblankett!$F$76<3000,((Avropsblankett!$F$76-1000)*AF5/100),((Avropsblankett!$F$76-3000)*AF6/100))),\"\")","v":""},null,null,{"$f":"IF(Avropsblankett!$C$76=$A$3,IF(Avropsblankett!$F$76<1000,AI4,IF(Avropsblankett!$F$76<3000,AI5,AI6)),\"\")","v":""},null,{"$f":"IF(Avropsblankett!$C$76=$A$3,IF(Avropsblankett!$F$76<1000,((Avropsblankett!$F$76-100)*AK4/100),IF(Avropsblankett!$F$76<3000,((Avropsblankett!$F$76-1000)*AK5/100),((Avropsblankett!$F$76-3000)*AK6/100))),\"\")","v":""},null,null,{"$f":"IF(Avropsblankett!$C$76=$A$3,IF(Avropsblankett!$F$76<1000,AN4,IF(Avropsblankett!$F$76<3000,AN5,AN6)),\"\")","v":""},null,{"$f":"IF(Avropsblankett!$C$76=$A$3,IF(Avropsblankett!$F$76<1000,((Avropsblankett!$F$76-100)*AP4/100),IF(Avropsblankett!$F$76<3000,((Avropsblankett!$F$76-1000)*AP5/100),((Avropsblankett!$F$76-3000)*AP6/100))),\"\")","v":""},null,null,{"$f":"IF(Avropsblankett!$C$76=$A$3,IF(Avropsblankett!$F$76<1000,AS4,IF(Avropsblankett!$F$76<3000,AS5,AS6)),\"\")","v":""},null,{"$f":"IF(Avropsblankett!$C$76=$A$3,IF(Avropsblankett!$F$76<1000,((Avropsblankett!$F$76-100)*AU4/100),IF(Avropsblankett!$F$76<3000,((Avropsblankett!$F$76-1000)*AU5/100),((Avropsblankett!$F$76-3000)*AU6/100))),\"\")","v":""},null,null,{"$f":"IF(Avropsblankett!$C$76=$A$3,IF(Avropsblankett!$F$76<1000,AX4,IF(Avropsblankett!$F$76<3000,AX5,AX6)),\"\")","v":""},null,{"$f":"IF(Avropsblankett!$C$76=$A$3,IF(Avropsblankett!$F$76<1000,((Avropsblankett!$F$76-100)*AZ4/100),IF(Avropsblankett!$F$76<3000,((Avropsblankett!$F$76-1000)*AZ5/100),((Avropsblankett!$F$76-3000)*AZ6/100))),\"\")","v":""}]
[null,null,null,null,{"$f":"SUM(E9:E13)","v":0},null,{"$f":"SUM(G9:G13)","v":0},null,null,{"$f":"SUM(J9:J13)","v":0},null,{"$f":"SUM(L9:L13)","v":0},null,null,{"$f":"SUM(O9:O13)","v":0},null,{"$f":"SUM(Q9:Q13)","v":0},null,null,{"$f":"SUM(T9:T13)","v":0},null,{"$f":"SUM(V9:V13)","v":0},null,null,{"$f":"SUM(Y9:Y13)","v":0},null,{"$f":"SUM(AA9:AA13)","v":0},null,null,{"$f":"SUM(AD9:AD13)","v":0},null,{"$f":"SUM(AF9:AF13)","v":0},null,null,{"$f":"SUM(AI9:AI13)","v":0},null,{"$f":"SUM(AK9:AK13)","v":0},null,null,{"$f":"SUM(AN9:AN13)","v":0},null,{"$f":"SUM(AP9:AP13)","v":0},null,null,{"$f":"SUM(AS9:AS13)","v":0},null,{"$f":"SUM(AU9:AU13)","v":0},null,null,{"$f":"SUM(AX9:AX13)","v":0},null,{"$f":"SUM(AZ9:AZ13)","v":0}]
["Folders_Variant_2",null,"Beskrivning/omfång inklusive omslag","Upplaga","Ange pris","Följande","Ange pris",null,"Upplaga","Ange pris","Följande","Ange pris",null,"Upplaga","Ange pris","Följande","Ange pris",null,"Upplaga","Ange pris","Följande","Ange pris",null,"Upplaga","Ange pris","Följande","Ange pris",null,"Upplaga","Ange pris","Följande","Ange pris",null,"Upplaga","Ange pris","Följande","Ange pris",null,"Upplaga","Ange pris","Följande","Ange pris",null,"Upplaga","Ange pris","Följande","Ange pris",null,"Upplaga","Ange pris","Följande","Ange pris"]
["Underlag","A: Öppna filer. B: PDF/PDFx.","4 sidor",100,1261,100,133,null,100,435,100,153,null,100,1100,100,240,null,100,500,100,83,null,100,220,100,86,null,100,495,100,167,null,100,500,100,110,null,100,555,100,545,null,100,510,100,170,null,100,1740,100,75]
["Format","A5","4 sidor",1000,2454,100,133,null,1000,1752,100,153,null,1000,2400,100,125,null,1000,1250,100,50,null,1000,765,100,86,null,1000,1812,100,113,null,1000,1700,100,30,null,1000,1355,100,125,null,1000,1945,100,105,null,1000,2375,100,75]
["Papper","Mattbestruket 130 g","4 sidor",3000,5105,100,132,null,3000,4200,100,125,null,3000,3500,100,35,null,3000,2000,100,40,null,3000,1120,100,86,null,3000,2594,100,9,null,3000,2000,100,25,null,3000,1965,100,60,null,3000,3050,100,45,null,3000,3790,100,75]
["Tryck","4+4 färger"]
["Sidor","4 stycken"]
[null,null,null,null,{"$f":"IF(Avropsblankett!$C$28=$A$15,IF(Avropsblankett!$F$28<1000,E16,IF(Avropsblankett!$F$28<3000,E17,E18)),\"\")","v":""},null,{"$f":"IF(Avropsblankett!$C$28=$A$15,IF(Avropsblankett!$F$28<1000,((Avropsblankett!$F$28-100)*G16/100),IF(Avropsblankett!$F$28<3000,((Avropsblankett!$F$28-1000)*G17/100),((Avropsblankett!$F$28-3000)*G18/100))),\"\")","v":""},null,null,{"$f":"IF(Avropsblankett!$C$28=$A$15,IF(Avropsblankett!$F$28<1000,J16,IF(Avropsblankett!$F$28<3000,J17,J18)),\"\")","v":""},null,{"$f":"IF(Avropsblankett!$C$28=$A$15,IF(Avropsblankett!$F$28<1000,((Avropsblankett!$F$28-100)*L16/100),IF(Avropsblankett!$F$28<3000,((Avropsblankett!$F$28-1000)*L17/100),((Avropsblankett!$F$28-3000)*L18/100))),\"\")","v":""},null,null,{"$f":"IF(Avropsblankett!$C$28=$A$15,IF(Avropsblankett!$F$28<1000,O16,IF(Avropsblankett!$F$28<3000,O17,O18)),\"\")","v":""},null,{"$f":"IF(Avropsblankett!$C$28=$A$15,IF(Avropsblankett!$F$28<1000,((Avropsblankett!$F$28-100)*Q16/100),IF(Avropsblankett!$F$28<3000,((Avropsblankett!$F$28-1000)*Q17/100),((Avropsblankett!$F$28-3000)*Q18/100))),\"\")","v":""},null,null,{"$f":"IF(Avropsblankett!$C$28=$A$15,IF(Avropsblankett!$F$28<1000,T16,IF(Avropsblankett!$F$28<3000,T17,T18)),\"\")","v":""},null,{"$f":"IF(Avropsblankett!$C$28=$A$15,IF(Avropsblankett!$F$28<1000,((Avropsblankett!$F$28-100)*V16/100),IF(Avropsblankett!$F$28<3000,((Avropsblankett!$F$28-1000)*V17/100),((Avropsblankett!$F$28-3000)*V18/100))),\"\")","v":""},null,null,{"$f":"IF(Avropsblankett!$C$28=$A$15,IF(Avropsblankett!$F$28<1000,Y16,IF(Avropsblankett!$F$28<3000,Y17,Y18)),\"\")","v":""},null,{"$f":"IF(Avropsblankett!$C$28=$A$15,IF(Avropsblankett!$F$28<1000,((Avropsblankett!$F$28-100)*AA16/100),IF(Avropsblankett!$F$28<3000,((Avropsblankett!$F$28-1000)*AA17/100),((Avropsblankett!$F$28-3000)*AA18/100))),\"\")","v":""},null,null,{"$f":"IF(Avropsblankett!$C$28=$A$15,IF(Avropsblankett!$F$28<1000,AD16,IF(Avropsblankett!$F$28<3000,AD17,AD18)),\"\")","v":""},null,{"$f":"IF(Avropsblankett!$C$28=$A$15,IF(Avropsblankett!$F$28<1000,((Avropsblankett!$F$28-100)*AF16/100),IF(Avropsblankett!$F$28<3000,((Avropsblankett!$F$28-1000)*AF17/100),((Avropsblankett!$F$28-3000)*AF18/100))),\"\")","v":""},null,null,{"$f":"IF(Avropsblankett!$C$28=$A$15,IF(Avropsblankett!$F$28<1000,AI16,IF(Avropsblankett!$F$28<3000,AI17,AI18)),\"\")","v":""},null,{"$f":"IF(Avropsblankett!$C$28=$A$15,IF(Avropsblankett!$F$28<1000,((Avropsblankett!$F$28-100)*AK16/100),IF(Avropsblankett!$F$28<3000,((Avropsblankett!$F$28-1000)*AK17/100),((Avropsblankett!$F$28-3000)*AK18/100))),\"\")","v":""},null,null,{"$f":"IF(Avropsblankett!$C$28=$A$15,IF(Avropsblankett!$F$28<1000,AN16,IF(Avropsblankett!$F$28<3000,AN17,AN18)),\"\")","v":""},null,{"$f":"IF(Avropsblankett!$C$28=$A$15,IF(Avropsblankett!$F$28<1000,((Avropsblankett!$F$28-100)*AP16/100),IF(Avropsblankett!$F$28<3000,((Avropsblankett!$F$28-1000)*AP17/100),((Avropsblankett!$F$28-3000)*AP18/100))),\"\")","v":""},null,null,{"$f":"IF(Avropsblankett!$C$28=$A$15,IF(Avropsblankett!$F$28<1000,AS16,IF(Avropsblankett!$F$28<3000,AS17,AS18)),\"\")","v":""},null,{"$f":"IF(Avropsblankett!$C$28=$A$15,IF(Avropsblankett!$F$28<1000,((Avropsblankett!$F$28-100)*AU16/100),IF(Avropsblankett!$F$28<3000,((Avropsblankett!$F$28-1000)*AU17/100),((Avropsblankett!$F$28-3000)*AU18/100))),\"\")","v":""},null,null,{"$f":"IF(Avropsblankett!$C$28=$A$15,IF(Avropsblankett!$F$28<1000,AX16,IF(Avropsblankett!$F$28<3000,AX17,AX18)),\"\")","v":""},null,{"$f":"IF(Avropsblankett!$C$28=$A$15,IF(Avropsblankett!$F$28<1000,((Avropsblankett!$F$28-100)*AZ16/100),IF(Avropsblankett!$F$28<3000,((Avropsblankett!$F$28-1000)*AZ17/100),((Avropsblankett!$F$28-3000)*AZ18/100))),\"\")","v":""}]
[null,null,null,null,{"$f":"IF(Avropsblankett!$C$40=$A$15,IF(Avropsblankett!$F$40<1000,E16,IF(Avropsblankett!$F$40<3000,E17,E18)),\"\")","v":""},null,{"$f":"IF(Avropsblankett!$C$40=$A$15,IF(Avropsblankett!$F$40<1000,((Avropsblankett!$F$40-100)*G16/100),IF(Avropsblankett!$F$40<3000,((Avropsblankett!$F$40-1000)*G17/100),((Avropsblankett!$F$40-3000)*G18/100))),\"\")","v":""},null,null,{"$f":"IF(Avropsblankett!$C$40=$A$15,IF(Avropsblankett!$F$40<1000,J16,IF(Avropsblankett!$F$40<3000,J17,J18)),\"\")","v":""},null,{"$f":"IF(Avropsblankett!$C$40=$A$15,IF(Avropsblankett!$F$40<1000,((Avropsblankett!$F$40-100)*L16/100),IF(Avropsblankett!$F$40<3000,((Avropsblankett!$F$40-1000)*L17/100),((Avropsblankett!$F$40-3000)*L18/100))),\"\")","v":""},null,null,{"$f":"IF(Avropsblankett!$C$40=$A$15,IF(Avropsblankett!$F$40<1000,O16,IF(Avropsblankett!$F$40<3000,O17,O18)),\"\")","v":""},null,{"$f":"IF(Avropsblankett!$C$40=$A$15,IF(Avropsblankett!$F$40<1000,((Avropsblankett!$F$40-100)*Q16/100),IF(Avropsblankett!$F$40<3000,((Avropsblankett!$F$40-1000)*Q17/100),((Avropsblankett!$F$40-3000)*Q18/100))),\"\")","v":""},null,null,{"$f":"IF(Avropsblankett!$C$40=$A$15,IF(Avropsblankett!$F$40<1000,T16,IF(Avropsblankett!$F$40<3000,T17,T18)),\"\")","v":""},null,{"$f":"IF(Avropsblankett!$C$40=$A$15,IF(Avropsblankett!$F$40<1000,((Avropsblankett!$F$40-100)*V16/100),IF(Avropsblankett!$F$40<3000,((Avropsblankett!$F$40-1000)*V17/100),((Avropsblankett!$F$40-3000)*V18/100))),\"\")","v":""},null,null,{"$f":"IF(Avropsblankett!$C$40=$A$15,IF(Avropsblankett!$F$40<1000,Y16,IF(Avropsblankett!$F$40<3000,Y17,Y18)),\"\")","v":""},null,{"$f":"IF(Avropsblankett!$C$40=$A$15,IF(Avropsblankett!$F$40<1000,((Avropsblankett!$F$40-100)*AA16/100),IF(Avropsblankett!$F$40<3000,((Avropsblankett!$F$40-1000)*AA17/100),((Avropsblankett!$F$40-3000)*AA18/100))),\"\")","v":""},null,null,{"$f":"IF(Avropsblankett!$C$40=$A$15,IF(Avropsblankett!$F$40<1000,AD16,IF(Avropsblankett!$F$40<3000,AD17,AD18)),\"\")","v":""},null,{"$f":"IF(Avropsblankett!$C$40=$A$15,IF(Avropsblankett!$F$40<1000,((Avropsblankett!$F$40-100)*AF16/100),IF(Avropsblankett!$F$40<3000,((Avropsblankett!$F$40-1000)*AF17/100),((Avropsblankett!$F$40-3000)*AF18/100))),\"\")","v":""},null,null,{"$f":"IF(Avropsblankett!$C$40=$A$15,IF(Avropsblankett!$F$40<1000,AI16,IF(Avropsblankett!$F$40<3000,AI17,AI18)),\"\")","v":""},null,{"$f":"IF(Avropsblankett!$C$40=$A$15,IF(Avropsblankett!$F$40<1000,((Avropsblankett!$F$40-100)*AK16/100),IF(Avropsblankett!$F$40<3000,((Avropsblankett!$F$40-1000)*AK17/100),((Avropsblankett!$F$40-3000)*AK18/100))),\"\")","v":""},null,null,{"$f":"IF(Avropsblankett!$C$40=$A$15,IF(Avropsblankett!$F$40<1000,AN16,IF(Avropsblankett!$F$40<3000,AN17,AN18)),\"\")","v":""},null,{"$f":"IF(Avropsblankett!$C$40=$A$15,IF(Avropsblankett!$F$40<1000,((Avropsblankett!$F$40-100)*AP16/100),IF(Avropsblankett!$F$40<3000,((Avropsblankett!$F$40-1000)*AP17/100),((Avropsblankett!$F$40-3000)*AP18/100))),\"\")","v":""},null,null,{"$f":"IF(Avropsblankett!$C$40=$A$15,IF(Avropsblankett!$F$40<1000,AS16,IF(Avropsblankett!$F$40<3000,AS17,AS18)),\"\")","v":""},null,{"$f":"IF(Avropsblankett!$C$40=$A$15,IF(Avropsblankett!$F$40<1000,((Avropsblankett!$F$40-100)*AU16/100),IF(Avropsblankett!$F$40<3000,((Avropsblankett!$F$40-1000)*AU17/100),((Avropsblankett!$F$40-3000)*AU18/100))),\"\")","v":""},null,null,{"$f":"IF(Avropsblankett!$C$40=$A$15,IF(Avropsblankett!$F$40<1000,AX16,IF(Avropsblankett!$F$40<3000,AX17,AX18)),\"\")","v":""},null,{"$f":"IF(Avropsblankett!$C$40=$A$15,IF(Avropsblankett!$F$40<1000,((Avropsblankett!$F$40-100)*AZ16/100),IF(Avropsblankett!$F$40<3000,((Avropsblankett!$F$40-1000)*AZ17/100),((Avropsblankett!$F$40-3000)*AZ18/100))),\"\")","v":""}]
[null,null,null,null,{"$f":"IF(Avropsblankett!$C$52=$A$15,IF(Avropsblankett!$F$52<1000,E16,IF(Avropsblankett!$F$52<3000,E17,E18)),\"\")","v":""},null,{"$f":"IF(Avropsblankett!$C$52=$A$15,IF(Avropsblankett!$F$52<1000,((Avropsblankett!$F$52-100)*G16/100),IF(Avropsblankett!$F$52<3000,((Avropsblankett!$F$52-1000)*G17/100),((Avropsblankett!$F$52-3000)*G18/100))),\"\")","v":""},null,null,{"$f":"IF(Avropsblankett!$C$52=$A$15,IF(Avropsblankett!$F$52<1000,J16,IF(Avropsblankett!$F$52<3000,J17,J18)),\"\")","v":""},null,{"$f":"IF(Avropsblankett!$C$52=$A$15,IF(Avropsblankett!$F$52<1000,((Avropsblankett!$F$52-100)*L16/100),IF(Avropsblankett!$F$52<3000,((Avropsblankett!$F$52-1000)*L17/100),((Avropsblankett!$F$52-3000)*L18/100))),\"\")","v":""},null,null,{"$f":"IF(Avropsblankett!$C$52=$A$15,IF(Avropsblankett!$F$52<1000,O16,IF(Avropsblankett!$F$52<3000,O17,O18)),\"\")","v":""},null,{"$f":"IF(Avropsblankett!$C$52=$A$15,IF(Avropsblankett!$F$52<1000,((Avropsblankett!$F$52-100)*Q16/100),IF(Avropsblankett!$F$52<3000,((Avropsblankett!$F$52-1000)*Q17/100),((Avropsblankett!$F$52-3000)*Q18/100))),\"\")","v":""},null,null,{"$f":"IF(Avropsblankett!$C$52=$A$15,IF(Avropsblankett!$F$52<1000,T16,IF(Avropsblankett!$F$52<3000,T17,T18)),\"\")","v":""},null,{"$f":"IF(Avropsblankett!$C$52=$A$15,IF(Avropsblankett!$F$52<1000,((Avropsblankett!$F$52-100)*V16/100),IF(Avropsblankett!$F$52<3000,((Avropsblankett!$F$52-1000)*V17/100),((Avropsblankett!$F$52-3000)*V18/100))),\"\")","v":""},null,null,{"$f":"IF(Avropsblankett!$C$52=$A$15,IF(Avropsblankett!$F$52<1000,Y16,IF(Avropsblankett!$F$52<3000,Y17,Y18)),\"\")","v":""},null,{"$f":"IF(Avropsblankett!$C$52=$A$15,IF(Avropsblankett!$F$52<1000,((Avropsblankett!$F$52-100)*AA16/100),IF(Avropsblankett!$F$52<3000,((Avropsblankett!$F$52-1000)*AA17/100),((Avropsblankett!$F$52-3000)*AA18/100))),\"\")","v":""},null,null,{"$f":"IF(Avropsblankett!$C$52=$A$15,IF(Avropsblankett!$F$52<1000,AD16,IF(Avropsblankett!$F$52<3000,AD17,AD18)),\"\")","v":""},null,{"$f":"IF(Avropsblankett!$C$52=$A$15,IF(Avropsblankett!$F$52<1000,((Avropsblankett!$F$52-100)*AF16/100),IF(Avropsblankett!$F$52<3000,((Avropsblankett!$F$52-1000)*AF17/100),((Avropsblankett!$F$52-3000)*AF18/100))),\"\")","v":""},null,null,{"$f":"IF(Avropsblankett!$C$52=$A$15,IF(Avropsblankett!$F$52<1000,AI16,IF(Avropsblankett!$F$52<3000,AI17,AI18)),\"\")","v":""},null,{"$f":"IF(Avropsblankett!$C$52=$A$15,IF(Avropsblankett!$F$52<1000,((Avropsblankett!$F$52-100)*AK16/100),IF(Avropsblankett!$F$52<3000,((Avropsblankett!$F$52-1000)*AK17/100),((Avropsblankett!$F$52-3000)*AK18/100))),\"\")","v":""},null,null,{"$f":"IF(Avropsblankett!$C$52=$A$15,IF(Avropsblankett!$F$52<1000,AN16,IF(Avropsblankett!$F$52<3000,AN17,AN18)),\"\")","v":""},null,{"$f":"IF(Avropsblankett!$C$52=$A$15,IF(Avropsblankett!$F$52<1000,((Avropsblankett!$F$52-100)*AP16/100),IF(Avropsblankett!$F$52<3000,((Avropsblankett!$F$52-1000)*AP17/100),((Avropsblankett!$F$52-3000)*AP18/100))),\"\")","v":""},null,null,{"$f":"IF(Avropsblankett!$C$52=$A$15,IF(Avropsblankett!$F$52<1000,AS16,IF(Avropsblankett!$F$52<3000,AS17,AS18)),\"\")","v":""},null,{"$f":"IF(Avropsblankett!$C$52=$A$15,IF(Avropsblankett!$F$52<1000,((Avropsblankett!$F$52-100)*AU16/100),IF(Avropsblankett!$F$52<3000,((Avropsblankett!$F$52-1000)*AU17/100),((Avropsblankett!$F$52-3000)*AU18/100))),\"\")","v":""},null,null,{"$f":"IF(Avropsblankett!$C$52=$A$15,IF(Avropsblankett!$F$52<1000,AX16,IF(Avropsblankett!$F$52<3000,AX17,AX18)),\"\")","v":""},null,{"$f":"IF(Avropsblankett!$C$52=$A$15,IF(Avropsblankett!$F$52<1000,((Avropsblankett!$F$52-100)*AZ16/100),IF(Avropsblankett!$F$52<3000,((Avropsblankett!$F$52-1000)*AZ17/100),((Avropsblankett!$F$52-3000)*AZ18/100))),\"\")","v":""}]
[null,null,null,null,{"$f":"IF(Avropsblankett!$C$64=$A$15,IF(Avropsblankett!$F$64<1000,E16,IF(Avropsblankett!$F$64<3000,E17,E18)),\"\")","v":""},null,{"$f":"IF(Avropsblankett!$C$64=$A$15,IF(Avropsblankett!$F$64<1000,((Avropsblankett!$F$64-100)*G16/100),IF(Avropsblankett!$F$64<3000,((Avropsblankett!$F$64-1000)*G17/100),((Avropsblankett!$F$64-3000)*G18/100))),\"\")","v":""},null,null,{"$f":"IF(Avropsblankett!$C$64=$A$15,IF(Avropsblankett!$F$64<1000,J16,IF(Avropsblankett!$F$64<3000,J17,J18)),\"\")","v":""},null,{"$f":"IF(Avropsblankett!$C$64=$A$15,IF(Avropsblankett!$F$64<1000,((Avropsblankett!$F$64-100)*L16/100),IF(Avropsblankett!$F$64<3000,((Avropsblankett!$F$64-1000)*L17/100),((Avropsblankett!$F$64-3000)*L18/100))),\"\")","v":""},null,null,{"$f":"IF(Avropsblankett!$C$64=$A$15,IF(Avropsblankett!$F$64<1000,O16,IF(Avropsblankett!$F$64<3000,O17,O18)),\"\")","v":""},null,{"$f":"IF(Avropsblankett!$C$64=$A$15,IF(Avropsblankett!$F$64<1000,((Avropsblankett!$F$64-100)*Q16/100),IF(Avropsblankett!$F$64<3000,((Avropsblankett!$F$64-1000)*Q17/100),((Avropsblankett!$F$64-3000)*Q18/100))),\"\")","v":""},null,null,{"$f":"IF(Avropsblankett!$C$64=$A$15,IF(Avropsblankett!$F$64<1000,T16,IF(Avropsblankett!$F$64<3000,T17,T18)),\"\")","v":""},null,{"$f":"IF(Avropsblankett!$C$64=$A$15,IF(Avropsblankett!$F$64<1000,((Avropsblankett!$F$64-100)*V16/100),IF(Avropsblankett!$F$64<3000,((Avropsblankett!$F$64-1000)*V17/100),((Avropsblankett!$F$64-3000)*V18/100))),\"\")","v":""},null,null,{"$f":"IF(Avropsblankett!$C$64=$A$15,IF(Avropsblankett!$F$64<1000,Y16,IF(Avropsblankett!$F$64<3000,Y17,Y18)),\"\")","v":""},null,{"$f":"IF(Avropsblankett!$C$64=$A$15,IF(Avropsblankett!$F$64<1000,((Avropsblankett!$F$64-100)*AA16/100),IF(Avropsblankett!$F$64<3000,((Avropsblankett!$F$64-1000)*AA17/100),((Avropsblankett!$F$64-3000)*AA18/100))),\"\")","v":""},null,null,{"$f":"IF(Avropsblankett!$C$64=$A$15,IF(Avropsblankett!$F$64<1000,AD16,IF(Avropsblankett!$F$64<3000,AD17,AD18)),\"\")","v":""},null,{"$f":"IF(Avropsblankett!$C$64=$A$15,IF(Avropsblankett!$F$64<1000,((Avropsblankett!$F$64-100)*AF16/100),IF(Avropsblankett!$F$64<3000,((Avropsblankett!$F$64-1000)*AF17/100),((Avropsblankett!$F$64-3000)*AF18/100))),\"\")","v":""},null,null,{"$f":"IF(Avropsblankett!$C$64=$A$15,IF(Avropsblankett!$F$64<1000,AI16,IF(Avropsblankett!$F$64<3000,AI17,AI18)),\"\")","v":""},null,{"$f":"IF(Avropsblankett!$C$64=$A$15,IF(Avropsblankett!$F$64<1000,((Avropsblankett!$F$64-100)*AK16/100),IF(Avropsblankett!$F$64<3000,((Avropsblankett!$F$64-1000)*AK17/100),((Avropsblankett!$F$64-3000)*AK18/100))),\"\")","v":""},null,null,{"$f":"IF(Avropsblankett!$C$64=$A$15,IF(Avropsblankett!$F$64<1000,AN16,IF(Avropsblankett!$F$64<3000,AN17,AN18)),\"\")","v":""},null,{"$f":"IF(Avropsblankett!$C$64=$A$15,IF(Avropsblankett!$F$64<1000,((Avropsblankett!$F$64-100)*AP16/100),IF(Avropsblankett!$F$64<3000,((Avropsblankett!$F$64-1000)*AP17/100),((Avropsblankett!$F$64-3000)*AP18/100))),\"\")","v":""},null,null,{"$f":"IF(Avropsblankett!$C$64=$A$15,IF(Avropsblankett!$F$64<1000,AS16,IF(Avropsblankett!$F$64<3000,AS17,AS18)),\"\")","v":""},null,{"$f":"IF(Avropsblankett!$C$64=$A$15,IF(Avropsblankett!$F$64<1000,((Avropsblankett!$F$64-100)*AU16/100),IF(Avropsblankett!$F$64<3000,((Avropsblankett!$F$64-1000)*AU17/100),((Avropsblankett!$F$64-3000)*AU18/100))),\"\")","v":""},null,null,{"$f":"IF(Avropsblankett!$C$64=$A$15,IF(Avropsblankett!$F$64<1000,AX16,IF(Avropsblankett!$F$64<3000,AX17,AX18)),\"\")","v":""},null,{"$f":"IF(Avropsblankett!$C$64=$A$15,IF(Avropsblankett!$F$64<1000,((Avropsblankett!$F$64-100)*AZ16/100),IF(Avropsblankett!$F$64<3000,((Avropsblankett!$F$64-1000)*AZ17/100),((Avropsblankett!$F$64-3000)*AZ18/100))),\"\")","v":""}]
[null,null,null,null,{"$f":"IF(Avropsblankett!$C$76=$A$15,IF(Avropsblankett!$F$76<1000,E16,IF(Avropsblankett!$F$76<3000,E17,E18)),\"\")","v":""},null,{"$f":"IF(Avropsblankett!$C$76=$A$15,IF(Avropsblankett!$F$76<1000,((Avropsblankett!$F$76-100)*G16/100),IF(Avropsblankett!$F$76<3000,((Avropsblankett!$F$76-1000)*G17/100),((Avropsblankett!$F$76-3000)*G18/100))),\"\")","v":""},null,null,{"$f":"IF(Avropsblankett!$C$76=$A$15,IF(Avropsblankett!$F$76<1000,J16,IF(Avropsblankett!$F$76<3000,J17,J18)),\"\")","v":""},null,{"$f":"IF(Avropsblankett!$C$76=$A$15,IF(Avropsblankett!$F$76<1000,((Avropsblankett!$F$76-100)*L16/100),IF(Avropsblankett!$F$76<3000,((Avropsblankett!$F$76-1000)*L17/100),((Avropsblankett!$F$76-3000)*L18/100))),\"\")","v":""},null,null,{"$f":"IF(Avropsblankett!$C$76=$A$15,IF(Avropsblankett!$F$76<1000,O16,IF(Avropsblankett!$F$76<3000,O17,O18)),\"\")","v":""},null,{"$f":"IF(Avropsblankett!$C$76=$A$15,IF(Avropsblankett!$F$76<1000,((Avropsblankett!$F$76-100)*Q16/100),IF(Avropsblankett!$F$76<3000,((Avropsblankett!$F$76-1000)*Q17/100),((Avropsblankett!$F$76-3000)*Q18/100))),\"\")","v":""},null,null,{"$f":"IF(Avropsblankett!$C$76=$A$15,IF(Avropsblankett!$F$76<1000,T16,IF(Avropsblankett!$F$76<3000,T17,T18)),\"\")","v":""},null,{"$f":"IF(Avropsblankett!$C$76=$A$15,IF(Avropsblankett!$F$76<1000,((Avropsblankett!$F$76-100)*V16/100),IF(Avropsblankett!$F$76<3000,((Avropsblankett!$F$76-1000)*V17/100),((Avropsblankett!$F$76-3000)*V18/100))),\"\")","v":""},null,null,{"$f":"IF(Avropsblankett!$C$76=$A$15,IF(Avropsblankett!$F$76<1000,Y16,IF(Avropsblankett!$F$76<3000,Y17,Y18)),\"\")","v":""},null,{"$f":"IF(Avropsblankett!$C$76=$A$15,IF(Avropsblankett!$F$76<1000,((Avropsblankett!$F$76-100)*AA16/100),IF(Avropsblankett!$F$76<3000,((Avropsblankett!$F$76-1000)*AA17/100),((Avropsblankett!$F$76-3000)*AA18/100))),\"\")","v":""},null,null,{"$f":"IF(Avropsblankett!$C$76=$A$15,IF(Avropsblankett!$F$76<1000,AD16,IF(Avropsblankett!$F$76<3000,AD17,AD18)),\"\")","v":""},null,{"$f":"IF(Avropsblankett!$C$76=$A$15,IF(Avropsblankett!$F$76<1000,((Avropsblankett!$F$76-100)*AF16/100),IF(Avropsblankett!$F$76<3000,((Avropsblankett!$F$76-1000)*AF17/100),((Avropsblankett!$F$76-3000)*AF18/100))),\"\")","v":""},null,null,{"$f":"IF(Avropsblankett!$C$76=$A$15,IF(Avropsblankett!$F$76<1000,AI16,IF(Avropsblankett!$F$76<3000,AI17,AI18)),\"\")","v":""},null,{"$f":"IF(Avropsblankett!$C$76=$A$15,IF(Avropsblankett!$F$76<1000,((Avropsblankett!$F$76-100)*AK16/100),IF(Avropsblankett!$F$76<3000,((Avropsblankett!$F$76-1000)*AK17/100),((Avropsblankett!$F$76-3000)*AK18/100))),\"\")","v":""},null,null,{"$f":"IF(Avropsblankett!$C$76=$A$15,IF(Avropsblankett!$F$76<1000,AN16,IF(Avropsblankett!$F$76<3000,AN17,AN18)),\"\")","v":""},null,{"$f":"IF(Avropsblankett!$C$76=$A$15,IF(Avropsblankett!$F$76<1000,((Avropsblankett!$F$76-100)*AP16/100),IF(Avropsblankett!$F$76<3000,((Avropsblankett!$F$76-1000)*AP17/100),((Avropsblankett!$F$76-3000)*AP18/100))),\"\")","v":""},null,null,{"$f":"IF(Avropsblankett!$C$76=$A$15,IF(Avropsblankett!$F$76<1000,AS16,IF(Avropsblankett!$F$76<3000,AS17,AS18)),\"\")","v":""},null,{"$f":"IF(Avropsblankett!$C$76=$A$15,IF(Avropsblankett!$F$76<1000,((Avropsblankett!$F$76-100)*AU16/100),IF(Avropsblankett!$F$76<3000,((Avropsblankett!$F$76-1000)*AU17/100),((Avropsblankett!$F$76-3000)*AU18/100))),\"\")","v":""},null,null,{"$f":"IF(Avropsblankett!$C$76=$A$15,IF(Avropsblankett!$F$76<1000,AX16,IF(Avropsblankett!$F$76<3000,AX17,AX18)),\"\")","v":""},null,{"$f":"IF(Avropsblankett!$C$76=$A$15,IF(Avropsblankett!$F$76<1000,((Avropsblankett!$F$76-100)*AZ16/100),IF(Avropsblankett!$F$76<3000,((Avropsblankett!$F$76-1000)*AZ17/100),((Avropsblankett!$F$76-3000)*AZ18/100))),\"\")","v":""}]
[null,null,null,null,{"$f":"SUM(E21:E25)","v":0},null,{"$f":"SUM(G21:G25)","v":0},null,null,{"$f":"SUM(J21:J25)","v":0},null,{"$f":"SUM(L21:L25)","v":0},null,null,{"$f":"SUM(O21:O25)","v":0},null,{"$f":"SUM(Q21:Q25)","v":0},null,null,{"$f":"SUM(T21:T25)","v":0},null,{"$f":"SUM(V21:V25)","v":0},null,null,{"$f":"SUM(Y21:Y25)","v":0},null,{"$f":"SUM(AA21:AA25)","v":0},null,null,{"$f":"SUM(AD21:AD25)","v":0},null,{"$f":"SUM(AF21:AF25)","v":0},null,null,{"$f":"SUM(AI21:AI25)","v":0},null,{"$f":"SUM(AK21:AK25)","v":0},null,null,{"$f":"SUM(AN21:AN25)","v":0},null,{"$f":"SUM(AP21:AP25)","v":0},null,null,{"$f":"SUM(AS21:AS25)","v":0},null,{"$f":"SUM(AU21:AU25)","v":0},null,null,{"$f":"SUM(AX21:AX25)","v":0},null,{"$f":"SUM(AZ21:AZ25)","v":0}]
["Folders_Variant_3",null,"Beskrivning/omfång inklusive omslag","Upplaga","Ange pris","Följande","Ange pris",null,"Upplaga","Ange pris","Följande","Ange pris",null,"Upplaga","Ange pris","Följande","Ange pris",null,"Upplaga","Ange pris","Följande","Ange pris",null,"Upplaga","Ange pris","Följande","Ange pris",null,"Upplaga","Ange pris","Följande","Ange pris",null,"Upplaga","Ange pris","Följande","Ange pris",null,"Upplaga","Ange pris","Följande","Ange pris",null,"Upplaga","Ange pris","Följande","Ange pris",null,"Upplaga","Ange pris","Följande","Ange pris"]
["Underlag","A: Öppna filer. B: PDF/PDFx.","4 sidor",100,1261,100,133,null,100,442,100,160,null,100,1250,100,240,null,100,500,100,83,null,100,220,100,75,null,100,495,100,167,null,100,500,100,110,null,100,555,100,545,null,100,510,100,170,null,100,1050,100,75]
["Format","105 x 297 mm","4 sidor",1000,2454,100,133,null,1000,1770,100,125,null,1000,2400,100,125,null,1000,1250,100,50,null,1000,765,100,86,null,1000,1800,100,111,null,1000,1700,100,30,null,1000,1355,100,125,null,1000,1945,100,105,null,1000,1685,100,75]
["Papper","Mattbestruket 130 g","4 sidor",3000,5105,100,132,null,3000,4200,100,125,null,3000,3700,100,35,null,3000,2000,100,40,null,3000,1120,100,86,null,3000,2565,100,10,null,3000,2000,100,25,null,3000,1965,100,60,null,3000,3050,100,45,null,3000,3100,100,75]
["Tryck","4+4 färger"]
["Sidor","4 stycken"]
[null,null,null,null,{"$f":"IF(Avropsblankett!$C$28=$A$27,IF(Avropsblankett!$F$28<1000,E28,IF(Avropsblankett!$F$28<3000,E29,E30)),\"\")","v":""},null,{"$f":"IF(Avropsblankett!$C$28=$A$27,IF(Avropsblankett!$F$28<1000,((Avropsblankett!$F$28-100)*G28/100),IF(Avropsblankett!$F$28<3000,((Avropsblankett!$F$28-1000)*G29/100),((Avropsblankett!$F$28-3000)*G30/100))),\"\")","v":""},null,null,{"$f":"IF(Avropsblankett!$C$28=$A$27,IF(Avropsblankett!$F$28<1000,J28,IF(Avropsblankett!$F$28<3000,J29,J30)),\"\")","v":""},null,{"$f":"IF(Avropsblankett!$C$28=$A$27,IF(Avropsblankett!$F$28<1000,((Avropsblankett!$F$28-100)*L28/100),IF(Avropsblankett!$F$28<3000,((Avropsblankett!$F$28-1000)*L29/100),((Avropsblankett!$F$28-3000)*L30/100))),\"\")","v":""},null,null,{"$f":"IF(Avropsblankett!$C$28=$A$27,IF(Avropsblankett!$F$28<1000,O28,IF(Avropsblankett!$F$28<3000,O29,O30)),\"\")","v":""},null,{"$f":"IF(Avropsblankett!$C$28=$A$27,IF(Avropsblankett!$F$28<1000,((Avropsblankett!$F$28-100)*Q28/100),IF(Avropsblankett!$F$28<3000,((Avropsblankett!$F$28-1000)*Q29/100),((Avropsblankett!$F$28-3000)*Q30/100))),\"\")","v":""},null,null,{"$f":"IF(Avropsblankett!$C$28=$A$27,IF(Avropsblankett!$F$28<1000,T28,IF(Avropsblankett!$F$28<3000,T29,T30)),\"\")","v":""},null,{"$f":"IF(Avropsblankett!$C$28=$A$27,IF(Avropsblankett!$F$28<1000,((Avropsblankett!$F$28-100)*V28/100),IF(Avropsblankett!$F$28<3000,((Avropsblankett!$F$28-1000)*V29/100),((Avropsblankett!$F$28-3000)*V30/100))),\"\")","v":""},null,null,{"$f":"IF(Avropsblankett!$C$28=$A$27,IF(Avropsblankett!$F$28<1000,Y28,IF(Avropsblankett!$F$28<3000,Y29,Y30)),\"\")","v":""},null,{"$f":"IF(Avropsblankett!$C$28=$A$27,IF(Avropsblankett!$F$28<1000,((Avropsblankett!$F$28-100)*AA28/100),IF(Avropsblankett!$F$28<3000,((Avropsblankett!$F$28-1000)*AA29/100),((Avropsblankett!$F$28-3000)*AA30/100))),\"\")","v":""},null,null,{"$f":"IF(Avropsblankett!$C$28=$A$27,IF(Avropsblankett!$F$28<1000,AD28,IF(Avropsblankett!$F$28<3000,AD29,AD30)),\"\")","v":""},null,{"$f":"IF(Avropsblankett!$C$28=$A$27,IF(Avropsblankett!$F$28<1000,((Avropsblankett!$F$28-100)*AF28/100),IF(Avropsblankett!$F$28<3000,((Avropsblankett!$F$28-1000)*AF29/100),((Avropsblankett!$F$28-3000)*AF30/100))),\"\")","v":""},null,null,{"$f":"IF(Avropsblankett!$C$28=$A$27,IF(Avropsblankett!$F$28<1000,AI28,IF(Avropsblankett!$F$28<3000,AI29,AI30)),\"\")","v":""},null,{"$f":"IF(Avropsblankett!$C$28=$A$27,IF(Avropsblankett!$F$28<1000,((Avropsblankett!$F$28-100)*AK28/100),IF(Avropsblankett!$F$28<3000,((Avropsblankett!$F$28-1000)*AK29/100),((Avropsblankett!$F$28-3000)*AK30/100))),\"\")","v":""},null,null,{"$f":"IF(Avropsblankett!$C$28=$A$27,IF(Avropsblankett!$F$28<1000,AN28,IF(Avropsblankett!$F$28<3000,AN29,AN30)),\"\")","v":""},null,{"$f":"IF(Avropsblankett!$C$28=$A$27,IF(Avropsblankett!$F$28<1000,((Avropsblankett!$F$28-100)*AP28/100),IF(Avropsblankett!$F$28<3000,((Avropsblankett!$F$28-1000)*AP29/100),((Avropsblankett!$F$28-3000)*AP30/100))),\"\")","v":""},null,null,{"$f":"IF(Avropsblankett!$C$28=$A$27,IF(Avropsblankett!$F$28<1000,AS28,IF(Avropsblankett!$F$28<3000,AS29,AS30)),\"\")","v":""},null,{"$f":"IF(Avropsblankett!$C$28=$A$27,IF(Avropsblankett!$F$28<1000,((Avropsblankett!$F$28-100)*AU28/100),IF(Avropsblankett!$F$28<3000,((Avropsblankett!$F$28-1000)*AU29/100),((Avropsblankett!$F$28-3000)*AU30/100))),\"\")","v":""},null,null,{"$f":"IF(Avropsblankett!$C$28=$A$27,IF(Avropsblankett!$F$28<1000,AX28,IF(Avropsblankett!$F$28<3000,AX29,AX30)),\"\")","v":""},null,{"$f":"IF(Avropsblankett!$C$28=$A$27,IF(Avropsblankett!$F$28<1000,((Avropsblankett!$F$28-100)*AZ28/100),IF(Avropsblankett!$F$28<3000,((Avropsblankett!$F$28-1000)*AZ29/100),((Avropsblankett!$F$28-3000)*AZ30/100))),\"\")","v":""}]
[null,null,null,null,{"$f":"IF(Avropsblankett!$C$40=$A$27,IF(Avropsblankett!$F$40<1000,E28,IF(Avropsblankett!$F$40<3000,E29,E30)),\"\")","v":""},null,{"$f":"IF(Avropsblankett!$C$40=$A$27,IF(Avropsblankett!$F$40<1000,((Avropsblankett!$F$40-100)*G28/100),IF(Avropsblankett!$F$40<3000,((Avropsblankett!$F$40-1000)*G29/100),((Avropsblankett!$F$40-3000)*G30/100))),\"\")","v":""},null,null,{"$f":"IF(Avropsblankett!$C$40=$A$27,IF(Avropsblankett!$F$40<1000,J28,IF(Avropsblankett!$F$40<3000,J29,J30)),\"\")","v":""},null,{"$f":"IF(Avropsblankett!$C$40=$A$27,IF(Avropsblankett!$F$40<1000,((Avropsblankett!$F$40-100)*L28/100),IF(Avropsblankett!$F$40<3000,((Avropsblankett!$F$40-1000)*L29/100),((Avropsblankett!$F$40-3000)*L30/100))),\"\")","v":""},null,null,{"$f":"IF(Avropsblankett!$C$40=$A$27,IF(Avropsblankett!$F$40<1000,O28,IF(Avropsblankett!$F$40<3000,O29,O30)),\"\")","v":""},null,{"$f":"IF(Avropsblankett!$C$40=$A$27,IF(Avropsblankett!$F$40<1000,((Avropsblankett!$F$40-100)*Q28/100),IF(Avropsblankett!$F$40<3000,((Avropsblankett!$F$40-1000)*Q29/100),((Avropsblankett!$F$40-3000)*Q30/100))),\"\")","v":""},null,null,{"$f":"IF(Avropsblankett!$C$40=$A$27,IF(Avropsblankett!$F$40<1000,T28,IF(Avropsblankett!$F$40<3000,T29,T30)),\"\")","v":""},null,{"$f":"IF(Avropsblankett!$C$40=$A$27,IF(Avropsblankett!$F$40<1000,((Avropsblankett!$F$40-100)*V28/100),IF(Avropsblankett!$F$40<3000,((Avropsblankett!$F$40-1000)*V29/100),((Avropsblankett!$F$40-3000)*V30/100))),\"\")","v":""},null,null,{"$f":"IF(Avropsblankett!$C$40=$A$27,IF(Avropsblankett!$F$40<1000,Y28,IF(Avropsblankett!$F$40<3000,Y29,Y30)),\"\")","v":""},null,{"$f":"IF(Avropsblankett!$C$40=$A$27,IF(Avropsblankett!$F$40<1000,((Avropsblankett!$F$40-100)*AA28/100),IF(Avropsblankett!$F$40<3000,((Avropsblankett!$F$40-1000)*AA29/100),((Avropsblankett!$F$40-3000)*AA30/100))),\"\")","v":""},null,null,{"$f":"IF(Avropsblankett!$C$40=$A$27,IF(Avropsblankett!$F$40<1000,AD28,IF(Avropsblankett!$F$40<3000,AD29,AD30)),\"\")","v":""},null,{"$f":"IF(Avropsblankett!$C$40=$A$27,IF(Avropsblankett!$F$40<1000,((Avropsblankett!$F$40-100)*AF28/100),IF(Avropsblankett!$F$40<3000,((Avropsblankett!$F$40-1000)*AF29/100),((Avropsblankett!$F$40-3000)*AF30/100))),\"\")","v":""},null,null,{"$f":"IF(Avropsblankett!$C$40=$A$27,IF(Avropsblankett!$F$40<1000,AI28,IF(Avropsblankett!$F$40<3000,AI29,AI30)),\"\")","v":""},null,{"$f":"IF(Avropsblankett!$C$40=$A$27,IF(Avropsblankett!$F$40<1000,((Avropsblankett!$F$40-100)*AK28/100),IF(Avropsblankett!$F$40<3000,((Avropsblankett!$F$40-1000)*AK29/100),((Avropsblankett!$F$40-3000)*AK30/100))),\"\")","v":""},null,null,{"$f":"IF(Avropsblankett!$C$40=$A$27,IF(Avropsblankett!$F$40<1000,AN28,IF(Avropsblankett!$F$40<3000,AN29,AN30)),\"\")","v":""},null,{"$f":"IF(Avropsblankett!$C$40=$A$27,IF(Avropsblankett!$F$40<1000,((Avropsblankett!$F$40-100)*AP28/100),IF(Avropsblankett!$F$40<3000,((Avropsblankett!$F$40-1000)*AP29/100),((Avropsblankett!$F$40-3000)*AP30/100))),\"\")","v":""},null,null,{"$f":"IF(Avropsblankett!$C$40=$A$27,IF(Avropsblankett!$F$40<1000,AS28,IF(Avropsblankett!$F$40<3000,AS29,AS30)),\"\")","v":""},null,{"$f":"IF(Avropsblankett!$C$40=$A$27,IF(Avropsblankett!$F$40<1000,((Avropsblankett!$F$40-100)*AU28/100),IF(Avropsblankett!$F$40<3000,((Avropsblankett!$F$40-1000)*AU29/100),((Avropsblankett!$F$40-3000)*AU30/100))),\"\")","v":""},null,null,{"$f":"IF(Avropsblankett!$C$40=$A$27,IF(Avropsblankett!$F$40<1000,AX28,IF(Avropsblankett!$F$40<3000,AX29,AX30)),\"\")","v":""},null,{"$f":"IF(Avropsblankett!$C$40=$A$27,IF(Avropsblankett!$F$40<1000,((Avropsblankett!$F$40-100)*AZ28/100),IF(Avropsblankett!$F$40<3000,((Avropsblankett!$F$40-1000)*AZ29/100),((Avropsblankett!$F$40-3000)*AZ30/100))),\"\")","v":""}]
[null,null,null,null,{"$f":"IF(Avropsblankett!$C$52=$A$27,IF(Avropsblankett!$F$52<1000,E28,IF(Avropsblankett!$F$52<3000,E29,E30)),\"\")","v":""},null,{"$f":"IF(Avropsblankett!$C$52=$A$27,IF(Avropsblankett!$F$52<1000,((Avropsblankett!$F$52-100)*G28/100),IF(Avropsblankett!$F$52<3000,((Avropsblankett!$F$52-1000)*G29/100),((Avropsblankett!$F$52-3000)*G30/100))),\"\")","v":""},null,null,{"$f":"IF(Avropsblankett!$C$52=$A$27,IF(Avropsblankett!$F$52<1000,J28,IF(Avropsblankett!$F$52<3000,J29,J30)),\"\")","v":""},null,{"$f":"IF(Avropsblankett!$C$52=$A$27,IF(Avropsblankett!$F$52<1000,((Avropsblankett!$F$52-100)*L28/100),IF(Avropsblankett!$F$52<3000,((Avropsblankett!$F$52-1000)*L29/100),((Avropsblankett!$F$52-3000)*L30/100))),\"\")","v":""},null,null,{"$f":"IF(Avropsblankett!$C$52=$A$27,IF(Avropsblankett!$F$52<1000,O28,IF(Avropsblankett!$F$52<3000,O29,O30)),\"\")","v":""},null,{"$f":"IF(Avropsblankett!$C$52=$A$27,IF(Avropsblankett!$F$52<1000,((Avropsblankett!$F$52-100)*Q28/100),IF(Avropsblankett!$F$52<3000,((Avropsblankett!$F$52-1000)*Q29/100),((Avropsblankett!$F$52-3000)*Q30/100))),\"\")","v":""},null,null,{"$f":"IF(Avropsblankett!$C$52=$A$27,IF(Avropsblankett!$F$52<1000,T28,IF(Avropsblankett!$F$52<3000,T29,T30)),\"\")","v":""},null,{"$f":"IF(Avropsblankett!$C$52=$A$27,IF(Avropsblankett!$F$52<1000,((Avropsblankett!$F$52-100)*V28/100),IF(Avropsblankett!$F$52<3000,((Avropsblankett!$F$52-1000)*V29/100),((Avropsblankett!$F$52-3000)*V30/100))),\"\")","v":""},null,null,{"$f":"IF(Avropsblankett!$C$52=$A$27,IF(Avropsblankett!$F$52<1000,Y28,IF(Avropsblankett!$F$52<3000,Y29,Y30)),\"\")","v":""},null,{"$f":"IF(Avropsblankett!$C$52=$A$27,IF(Avropsblankett!$F$52<1000,((Avropsblankett!$F$52-100)*AA28/100),IF(Avropsblankett!$F$52<3000,((Avropsblankett!$F$52-1000)*AA29/100),((Avropsblankett!$F$52-3000)*AA30/100))),\"\")","v":""},null,null,{"$f":"IF(Avropsblankett!$C$52=$A$27,IF(Avropsblankett!$F$52<1000,AD28,IF(Avropsblankett!$F$52<3000,AD29,AD30)),\"\")","v":""},null,{"$f":"IF(Avropsblankett!$C$52=$A$27,IF(Avropsblankett!$F$52<1000,((Avropsblankett!$F$52-100)*AF28/100),IF(Avropsblankett!$F$52<3000,((Avropsblankett!$F$52-1000)*AF29/100),((Avropsblankett!$F$52-3000)*AF30/100))),\"\")","v":""},null,null,{"$f":"IF(Avropsblankett!$C$52=$A$27,IF(Avropsblankett!$F$52<1000,AI28,IF(Avropsblankett!$F$52<3000,AI29,AI30)),\"\")","v":""},null,{"$f":"IF(Avropsblankett!$C$52=$A$27,IF(Avropsblankett!$F$52<1000,((Avropsblankett!$F$52-100)*AK28/100),IF(Avropsblankett!$F$52<3000,((Avropsblankett!$F$52-1000)*AK29/100),((Avropsblankett!$F$52-3000)*AK30/100))),\"\")","v":""},null,null,{"$f":"IF(Avropsblankett!$C$52=$A$27,IF(Avropsblankett!$F$52<1000,AN28,IF(Avropsblankett!$F$52<3000,AN29,AN30)),\"\")","v":""},null,{"$f":"IF(Avropsblankett!$C$52=$A$27,IF(Avropsblankett!$F$52<1000,((Avropsblankett!$F$52-100)*AP28/100),IF(Avropsblankett!$F$52<3000,((Avropsblankett!$F$52-1000)*AP29/100),((Avropsblankett!$F$52-3000)*AP30/100))),\"\")","v":""},null,null,{"$f":"IF(Avropsblankett!$C$52=$A$27,IF(Avropsblankett!$F$52<1000,AS28,IF(Avropsblankett!$F$52<3000,AS29,AS30)),\"\")","v":""},null,{"$f":"IF(Avropsblankett!$C$52=$A$27,IF(Avropsblankett!$F$52<1000,((Avropsblankett!$F$52-100)*AU28/100),IF(Avropsblankett!$F$52<3000,((Avropsblankett!$F$52-1000)*AU29/100),((Avropsblankett!$F$52-3000)*AU30/100))),\"\")","v":""},null,null,{"$f":"IF(Avropsblankett!$C$52=$A$27,IF(Avropsblankett!$F$52<1000,AX28,IF(Avropsblankett!$F$52<3000,AX29,AX30)),\"\")","v":""},null,{"$f":"IF(Avropsblankett!$C$52=$A$27,IF(Avropsblankett!$F$52<1000,((Avropsblankett!$F$52-100)*AZ28/100),IF(Avropsblankett!$F$52<3000,((Avropsblankett!$F$52-1000)*AZ29/100),((Avropsblankett!$F$52-3000)*AZ30/100))),\"\")","v":""}]
[null,null,null,null,{"$f":"IF(Avropsblankett!$C$64=$A$27,IF(Avropsblankett!$F$64<1000,E28,IF(Avropsblankett!$F$64<3000,E29,E30)),\"\")","v":""},null,{"$f":"IF(Avropsblankett!$C$64=$A$27,IF(Avropsblankett!$F$64<1000,((Avropsblankett!$F$64-100)*G28/100),IF(Avropsblankett!$F$64<3000,((Avropsblankett!$F$64-1000)*G29/100),((Avropsblankett!$F$64-3000)*G30/100))),\"\")","v":""},null,null,{"$f":"IF(Avropsblankett!$C$64=$A$27,IF(Avropsblankett!$F$64<1000,J28,IF(Avropsblankett!$F$64<3000,J29,J30)),\"\")","v":""},null,{"$f":"IF(Avropsblankett!$C$64=$A$27,IF(Avropsblankett!$F$64<1000,((Avropsblankett!$F$64-100)*L28/100),IF(Avropsblankett!$F$64<3000,((Avropsblankett!$F$64-1000)*L29/100),((Avropsblankett!$F$64-3000)*L30/100))),\"\")","v":""},null,null,{"$f":"IF(Avropsblankett!$C$64=$A$27,IF(Avropsblankett!$F$64<1000,O28,IF(Avropsblankett!$F$64<3000,O29,O30)),\"\")","v":""},null,{"$f":"IF(Avropsblankett!$C$64=$A$27,IF(Avropsblankett!$F$64<1000,((Avropsblankett!$F$64-100)*Q28/100),IF(Avropsblankett!$F$64<3000,((Avropsblankett!$F$64-1000)*Q29/100),((Avropsblankett!$F$64-3000)*Q30/100))),\"\")","v":""},null,null,{"$f":"IF(Avropsblankett!$C$64=$A$27,IF(Avropsblankett!$F$64<1000,T28,IF(Avropsblankett!$F$64<3000,T29,T30)),\"\")","v":""},null,{"$f":"IF(Avropsblankett!$C$64=$A$27,IF(Avropsblankett!$F$64<1000,((Avropsblankett!$F$64-100)*V28/100),IF(Avropsblankett!$F$64<3000,((Avropsblankett!$F$64-1000)*V29/100),((Avropsblankett!$F$64-3000)*V30/100))),\"\")","v":""},null,null,{"$f":"IF(Avropsblankett!$C$64=$A$27,IF(Avropsblankett!$F$64<1000,Y28,IF(Avropsblankett!$F$64<3000,Y29,Y30)),\"\")","v":""},null,{"$f":"IF(Avropsblankett!$C$64=$A$27,IF(Avropsblankett!$F$64<1000,((Avropsblankett!$F$64-100)*AA28/100),IF(Avropsblankett!$F$64<3000,((Avropsblankett!$F$64-1000)*AA29/100),((Avropsblankett!$F$64-3000)*AA30/100))),\"\")","v":""},null,null,{"$f":"IF(Avropsblankett!$C$64=$A$27,IF(Avropsblankett!$F$64<1000,AD28,IF(Avropsblankett!$F$64<3000,AD29,AD30)),\"\")","v":""},null,{"$f":"IF(Avropsblankett!$C$64=$A$27,IF(Avropsblankett!$F$64<1000,((Avropsblankett!$F$64-100)*AF28/100),IF(Avropsblankett!$F$64<3000,((Avropsblankett!$F$64-1000)*AF29/100),((Avropsblankett!$F$64-3000)*AF30/100))),\"\")","v":""},null,null,{"$f":"IF(Avropsblankett!$C$64=$A$27,IF(Avropsblankett!$F$64<1000,AI28,IF(Avropsblankett!$F$64<3000,AI29,AI30)),\"\")","v":""},null,{"$f":"IF(Avropsblankett!$C$64=$A$27,IF(Avropsblankett!$F$64<1000,((Avropsblankett!$F$64-100)*AK28/100),IF(Avropsblankett!$F$64<3000,((Avropsblankett!$F$64-1000)*AK29/100),((Avropsblankett!$F$64-3000)*AK30/100))),\"\")","v":""},null,null,{"$f":"IF(Avropsblankett!$C$64=$A$27,IF(Avropsblankett!$F$64<1000,AN28,IF(Avropsblankett!$F$64<3000,AN29,AN30)),\"\")","v":""},null,{"$f":"IF(Avropsblankett!$C$64=$A$27,IF(Avropsblankett!$F$64<1000,((Avropsblankett!$F$64-100)*AP28/100),IF(Avropsblankett!$F$64<3000,((Avropsblankett!$F$64-1000)*AP29/100),((Avropsblankett!$F$64-3000)*AP30/100))),\"\")","v":""},null,null,{"$f":"IF(Avropsblankett!$C$64=$A$27,IF(Avropsblankett!$F$64<1000,AS28,IF(Avropsblankett!$F$64<3000,AS29,AS30)),\"\")","v":""},null,{"$f":"IF(Avropsblankett!$C$64=$A$27,IF(Avropsblankett!$F$64<1000,((Avropsblankett!$F$64-100)*AU28/100),IF(Avropsblankett!$F$64<3000,((Avropsblankett!$F$64-1000)*AU29/100),((Avropsblankett!$F$64-3000)*AU30/100))),\"\")","v":""},null,null,{"$f":"IF(Avropsblankett!$C$64=$A$27,IF(Avropsblankett!$F$64<1000,AX28,IF(Avropsblankett!$F$64<3000,AX29,AX30)),\"\")","v":""},null,{"$f":"IF(Avropsblankett!$C$64=$A$27,IF(Avropsblankett!$F$64<1000,((Avropsblankett!$F$64-100)*AZ28/100),IF(Avropsblankett!$F$64<3000,((Avropsblankett!$F$64-1000)*AZ29/100),((Avropsblankett!$F$64-3000)*AZ30/100))),\"\")","v":""}]
[null,null,null,null,{"$f":"IF(Avropsblankett!$C$76=$A$27,IF(Avropsblankett!$F$76<1000,E28,IF(Avropsblankett!$F$76<3000,E29,E30)),\"\")","v":""},null,{"$f":"IF(Avropsblankett!$C$76=$A$27,IF(Avropsblankett!$F$76<1000,((Avropsblankett!$F$76-100)*G28/100),IF(Avropsblankett!$F$76<3000,((Avropsblankett!$F$76-1000)*G29/100),((Avropsblankett!$F$76-3000)*G30/100))),\"\")","v":""},null,null,{"$f":"IF(Avropsblankett!$C$76=$A$27,IF(Avropsblankett!$F$76<1000,J28,IF(Avropsblankett!$F$76<3000,J29,J30)),\"\")","v":""},null,{"$f":"IF(Avropsblankett!$C$76=$A$27,IF(Avropsblankett!$F$76<1000,((Avropsblankett!$F$76-100)*L28/100),IF(Avropsblankett!$F$76<3000,((Avropsblankett!$F$76-1000)*L29/100),((Avropsblankett!$F$76-3000)*L30/100))),\"\")","v":""},null,null,{"$f":"IF(Avropsblankett!$C$76=$A$27,IF(Avropsblankett!$F$76<1000,O28,IF(Avropsblankett!$F$76<3000,O29,O30)),\"\")","v":""},null,{"$f":"IF(Avropsblankett!$C$76=$A$27,IF(Avropsblankett!$F$76<1000,((Avropsblankett!$F$76-100)*Q28/100),IF(Avropsblankett!$F$76<3000,((Avropsblankett!$F$76-1000)*Q29/100),((Avropsblankett!$F$76-3000)*Q30/100))),\"\")","v":""},null,null,{"$f":"IF(Avropsblankett!$C$76=$A$27,IF(Avropsblankett!$F$76<1000,T28,IF(Avropsblankett!$F$76<3000,T29,T30)),\"\")","v":""},null,{"$f":"IF(Avropsblankett!$C$76=$A$27,IF(Avropsblankett!$F$76<1000,((Avropsblankett!$F$76-100)*V28/100),IF(Avropsblankett!$F$76<3000,((Avropsblankett!$F$76-1000)*V29/100),((Avropsblankett!$F$76-3000)*V30/100))),\"\")","v":""},null,null,{"$f":"IF(Avropsblankett!$C$76=$A$27,IF(Avropsblankett!$F$76<1000,Y28,IF(Avropsblankett!$F$76<3000,Y29,Y30)),\"\")","v":""},null,{"$f":"IF(Avropsblankett!$C$76=$A$27,IF(Avropsblankett!$F$76<1000,((Avropsblankett!$F$76-100)*AA28/100),IF(Avropsblankett!$F$76<3000,((Avropsblankett!$F$76-1000)*AA29/100),((Avropsblankett!$F$76-3000)*AA30/100))),\"\")","v":""},null,null,{"$f":"IF(Avropsblankett!$C$76=$A$27,IF(Avropsblankett!$F$76<1000,AD28,IF(Avropsblankett!$F$76<3000,AD29,AD30)),\"\")","v":""},null,{"$f":"IF(Avropsblankett!$C$76=$A$27,IF(Avropsblankett!$F$76<1000,((Avropsblankett!$F$76-100)*AF28/100),IF(Avropsblankett!$F$76<3000,((Avropsblankett!$F$76-1000)*AF29/100),((Avropsblankett!$F$76-3000)*AF30/100))),\"\")","v":""},null,null,{"$f":"IF(Avropsblankett!$C$76=$A$27,IF(Avropsblankett!$F$76<1000,AI28,IF(Avropsblankett!$F$76<3000,AI29,AI30)),\"\")","v":""},null,{"$f":"IF(Avropsblankett!$C$76=$A$27,IF(Avropsblankett!$F$76<1000,((Avropsblankett!$F$76-100)*AK28/100),IF(Avropsblankett!$F$76<3000,((Avropsblankett!$F$76-1000)*AK29/100),((Avropsblankett!$F$76-3000)*AK30/100))),\"\")","v":""},null,null,{"$f":"IF(Avropsblankett!$C$76=$A$27,IF(Avropsblankett!$F$76<1000,AN28,IF(Avropsblankett!$F$76<3000,AN29,AN30)),\"\")","v":""},null,{"$f":"IF(Avropsblankett!$C$76=$A$27,IF(Avropsblankett!$F$76<1000,((Avropsblankett!$F$76-100)*AP28/100),IF(Avropsblankett!$F$76<3000,((Avropsblankett!$F$76-1000)*AP29/100),((Avropsblankett!$F$76-3000)*AP30/100))),\"\")","v":""},null,null,{"$f":"IF(Avropsblankett!$C$76=$A$27,IF(Avropsblankett!$F$76<1000,AS28,IF(Avropsblankett!$F$76<3000,AS29,AS30)),\"\")","v":""},null,{"$f":"IF(Avropsblankett!$C$76=$A$27,IF(Avropsblankett!$F$76<1000,((Avropsblankett!$F$76-100)*AU28/100),IF(Avropsblankett!$F$76<3000,((Avropsblankett!$F$76-1000)*AU29/100),((Avropsblankett!$F$76-3000)*AU30/100))),\"\")","v":""},null,null,{"$f":"IF(Avropsblankett!$C$76=$A$27,IF(Avropsblankett!$F$76<1000,AX28,IF(Avropsblankett!$F$76<3000,AX29,AX30)),\"\")","v":""},null,{"$f":"IF(Avropsblankett!$C$76=$A$27,IF(Avropsblankett!$F$76<1000,((Avropsblankett!$F$76-100)*AZ28/100),IF(Avropsblankett!$F$76<3000,((Avropsblankett!$F$76-1000)*AZ29/100),((Avropsblankett!$F$76-3000)*AZ30/100))),\"\")","v":""}]
[null,null,null,null,{"$f":"SUM(E33:E37)","v":0},null,{"$f":"SUM(G33:G37)","v":0},null,null,{"$f":"SUM(J33:J37)","v":0},null,{"$f":"SUM(L33:L37)","v":0},null,null,{"$f":"SUM(O33:O37)","v":0},null,{"$f":"SUM(Q33:Q37)","v":0},null,null,{"$f":"SUM(T33:T37)","v":0},null,{"$f":"SUM(V33:V37)","v":0},null,null,{"$f":"SUM(Y33:Y37)","v":0},null,{"$f":"SUM(AA33:AA37)","v":0},null,null,{"$f":"SUM(AD33:AD37)","v":0},null,{"$f":"SUM(AF33:AF37)","v":0},null,null,{"$f":"SUM(AI33:AI37)","v":0},null,{"$f":"SUM(AK33:AK37)","v":0},null,null,{"$f":"SUM(AN33:AN37)","v":0},null,{"$f":"SUM(AP33:AP37)","v":0},null,null,{"$f":"SUM(AS33:AS37)","v":0},null,{"$f":"SUM(AU33:AU37)","v":0},null,null,{"$f":"SUM(AX33:AX37)","v":0},null,{"$f":"SUM(AZ33:AZ37)","v":0}]
["Folders_Variant_4",null,"Beskrivning/omfång inklusive omslag","Upplaga","Ange pris","Följande","Ange pris",null,"Upplaga","Ange pris","Följande","Ange pris",null,"Upplaga","Ange pris","Följande","Ange pris",null,"Upplaga","Ange pris","Följande","Ange pris",null,"Upplaga","Ange pris","Följande","Ange pris",null,"Upplaga","Ange pris","Följande","Ange pris",null,"Upplaga","Ange pris","Följande","Ange pris",null,"Upplaga","Ange pris","Följande","Ange pris",null,"Upplaga","Ange pris","Följande","Ange pris",null,"Upplaga","Ange pris","Följande","Ange pris"]
["Underlag","A: Öppna filer. B: PDF/PDFx.","6 sidor",100,1933,100,683,null,100,1250,100,890,null,100,2200,100,51,null,100,700,100,200,null,100,1198,100,110,null,100,1208,100,427,null,100,1000,100,280,null,100,1200,100,870,null,100,1050,100,450,null,100,1050,100,75]
["Format","A4","6 sidor",1000,4723,100,897,null,1000,7150,100,195,null,1000,4200,100,95,null,1000,2500,100,150,null,1000,2707,100,82,null,1000,2960,100,565,null,1000,2950,100,100,null,1000,2405,100,230,null,1000,3110,100,155,null,1000,1685,100,75]
["Papper","Obestruket 130 g","6 sidor",3000,7818,100,30,null,3000,9350,100,195,null,3000,7500,100,95,null,3000,4500,100,100,null,3000,3479,100,79,null,3000,4904,100,15,null,3000,3950,100,100,null,3000,5490,100,180,null,3000,4130,100,70,null,3000,3100,100,75]
["Tryck","4+4 färger"]
["Sidor","6 stycken"]
[null,null,null,null,{"$f":"IF(Avropsblankett!$C$28=$A$39,IF(Avropsblankett!$F$28<1000,E40,IF(Avropsblankett!$F$28<3000,E41,E42)),\"\")","v":""},null,{"$f":"IF(Avropsblankett!$C$28=$A$39,IF(Avropsblankett!$F$28<1000,((Avropsblankett!$F$28-100)*G40/100),IF(Avropsblankett!$F$28<3000,((Avropsblankett!$F$28-1000)*G41/100),((Avropsblankett!$F$28-3000)*G42/100))),\"\")","v":""},null,null,{"$f":"IF(Avropsblankett!$C$28=$A$39,IF(Avropsblankett!$F$28<1000,J40,IF(Avropsblankett!$F$28<3000,J41,J42)),\"\")","v":""},null,{"$f":"IF(Avropsblankett!$C$28=$A$39,IF(Avropsblankett!$F$28<1000,((Avropsblankett!$F$28-100)*L40/100),IF(Avropsblankett!$F$28<3000,((Avropsblankett!$F$28-1000)*L41/100),((Avropsblankett!$F$28-3000)*L42/100))),\"\")","v":""},null,null,{"$f":"IF(Avropsblankett!$C$28=$A$39,IF(Avropsblankett!$F$28<1000,O40,IF(Avropsblankett!$F$28<3000,O41,O42)),\"\")","v":""},null,{"$f":"IF(Avropsblankett!$C$28=$A$39,IF(Avropsblankett!$F$28<1000,((Avropsblankett!$F$28-100)*Q40/100),IF(Avropsblankett!$F$28<3000,((Avropsblankett!$F$28-1000)*Q41/100),((Avropsblankett!$F$28-3000)*Q42/100))),\"\")","v":""},null,null,{"$f":"IF(Avropsblankett!$C$28=$A$39,IF(Avropsblankett!$F$28<1000,T40,IF(Avropsblankett!$F$28<3000,T41,T42)),\"\")","v":""},null,{"$f":"IF(Avropsblankett!$C$28=$A$39,IF(Avropsblankett!$F$28<1000,((Avropsblankett!$F$28-100)*V40/100),IF(Avropsblankett!$F$28<3000,((Avropsblankett!$F$28-1000)*V41/100),((Avropsblankett!$F$28-3000)*V42/100))),\"\")","v":""},null,null,{"$f":"IF(Avropsblankett!$C$28=$A$39,IF(Avropsblankett!$F$28<1000,Y40,IF(Avropsblankett!$F$28<3000,Y41,Y42)),\"\")","v":""},null,{"$f":"IF(Avropsblankett!$C$28=$A$39,IF(Avropsblankett!$F$28<1000,((Avropsblankett!$F$28-100)*AA40/100),IF(Avropsblankett!$F$28<3000,((Avropsblankett!$F$28-1000)*AA41/100),((Avropsblankett!$F$28-3000)*AA42/100))),\"\")","v":""},null,null,{"$f":"IF(Avropsblankett!$C$28=$A$39,IF(Avropsblankett!$F$28<1000,AD40,IF(Avropsblankett!$F$28<3000,AD41,AD42)),\"\")","v":""},null,{"$f":"IF(Avropsblankett!$C$28=$A$39,IF(Avropsblankett!$F$28<1000,((Avropsblankett!$F$28-100)*AF40/100),IF(Avropsblankett!$F$28<3000,((Avropsblankett!$F$28-1000)*AF41/100),((Avropsblankett!$F$28-3000)*AF42/100))),\"\")","v":""},null,null,{"$f":"IF(Avropsblankett!$C$28=$A$39,IF(Avropsblankett!$F$28<1000,AI40,IF(Avropsblankett!$F$28<3000,AI41,AI42)),\"\")","v":""},null,{"$f":"IF(Avropsblankett!$C$28=$A$39,IF(Avropsblankett!$F$28<1000,((Avropsblankett!$F$28-100)*AK40/100),IF(Avropsblankett!$F$28<3000,((Avropsblankett!$F$28-1000)*AK41/100),((Avropsblankett!$F$28-3000)*AK42/100))),\"\")","v":""},null,null,{"$f":"IF(Avropsblankett!$C$28=$A$39,IF(Avropsblankett!$F$28<1000,AN40,IF(Avropsblankett!$F$28<3000,AN41,AN42)),\"\")","v":""},null,{"$f":"IF(Avropsblankett!$C$28=$A$39,IF(Avropsblankett!$F$28<1000,((Avropsblankett!$F$28-100)*AP40/100),IF(Avropsblankett!$F$28<3000,((Avropsblankett!$F$28-1000)*AP41/100),((Avropsblankett!$F$28-3000)*AP42/100))),\"\")","v":""},null,null,{"$f":"IF(Avropsblankett!$C$28=$A$39,IF(Avropsblankett!$F$28<1000,AS40,IF(Avropsblankett!$F$28<3000,AS41,AS42)),\"\")","v":""},null,{"$f":"IF(Avropsblankett!$C$28=$A$39,IF(Avropsblankett!$F$28<1000,((Avropsblankett!$F$28-100)*AU40/100),IF(Avropsblankett!$F$28<3000,((Avropsblankett!$F$28-1000)*AU41/100),((Avropsblankett!$F$28-3000)*AU42/100))),\"\")","v":""},null,null,{"$f":"IF(Avropsblankett!$C$28=$A$27,IF(Avropsblankett!$F$28<1000,AX40,IF(Avropsblankett!$F$28<3000,AX41,AX42)),\"\")","v":""},null,{"$f":"IF(Avropsblankett!$C$28=$A$27,IF(Avropsblankett!$F$28<1000,((Avropsblankett!$F$28-100)*AZ40/100),IF(Avropsblankett!$F$28<3000,((Avropsblankett!$F$28-1000)*AZ41/100),((Avropsblankett!$F$28-3000)*AZ42/100))),\"\")","v":""}]
[null,null,null,null,{"$f":"IF(Avropsblankett!$C$40=$A$39,IF(Avropsblankett!$F$40<1000,E40,IF(Avropsblankett!$F$40<3000,E41,E42)),\"\")","v":""},null,{"$f":"IF(Avropsblankett!$C$40=$A$39,IF(Avropsblankett!$F$40<1000,((Avropsblankett!$F$40-100)*G40/100),IF(Avropsblankett!$F$40<3000,((Avropsblankett!$F$40-1000)*G41/100),((Avropsblankett!$F$40-3000)*G42/100))),\"\")","v":""},null,null,{"$f":"IF(Avropsblankett!$C$40=$A$39,IF(Avropsblankett!$F$40<1000,J40,IF(Avropsblankett!$F$40<3000,J41,J42)),\"\")","v":""},null,{"$f":"IF(Avropsblankett!$C$40=$A$39,IF(Avropsblankett!$F$40<1000,((Avropsblankett!$F$40-100)*L40/100),IF(Avropsblankett!$F$40<3000,((Avropsblankett!$F$40-1000)*L41/100),((Avropsblankett!$F$40-3000)*L42/100))),\"\")","v":""},null,null,{"$f":"IF(Avropsblankett!$C$40=$A$39,IF(Avropsblankett!$F$40<1000,O40,IF(Avropsblankett!$F$40<3000,O41,O42)),\"\")","v":""},null,{"$f":"IF(Avropsblankett!$C$40=$A$39,IF(Avropsblankett!$F$40<1000,((Avropsblankett!$F$40-100)*Q40/100),IF(Avropsblankett!$F$40<3000,((Avropsblankett!$F$40-1000)*Q41/100),((Avropsblankett!$F$40-3000)*Q42/100))),\"\")","v":""},null,null,{"$f":"IF(Avropsblankett!$C$40=$A$39,IF(Avropsblankett!$F$40<1000,T40,IF(Avropsblankett!$F$40<3000,T41,T42)),\"\")","v":""},null,{"$f":"IF(Avropsblankett!$C$40=$A$39,IF(Avropsblankett!$F$40<1000,((Avropsblankett!$F$40-100)*V40/100),IF(Avropsblankett!$F$40<3000,((Avropsblankett!$F$40-1000)*V41/100),((Avropsblankett!$F$40-3000)*V42/100))),\"\")","v":""},null,null,{"$f":"IF(Avropsblankett!$C$40=$A$39,IF(Avropsblankett!$F$40<1000,Y40,IF(Avropsblankett!$F$40<3000,Y41,Y42)),\"\")","v":""},null,{"$f":"IF(Avropsblankett!$C$40=$A$39,IF(Avropsblankett!$F$40<1000,((Avropsblankett!$F$40-100)*AA40/100),IF(Avropsblankett!$F$40<3000,((Avropsblankett!$F$40-1000)*AA41/100),((Avropsblankett!$F$40-3000)*AA42/100))),\"\")","v":""},null,null,{"$f":"IF(Avropsblankett!$C$40=$A$39,IF(Avropsblankett!$F$40<1000,AD40,IF(Avropsblankett!$F$40<3000,AD41,AD42)),\"\")","v":""},null,{"$f":"IF(Avropsblankett!$C$40=$A$39,IF(Avropsblankett!$F$40<1000,((Avropsblankett!$F$40-100)*AF40/100),IF(Avropsblankett!$F$40<3000,((Avropsblankett!$F$40-1000)*AF41/100),((Avropsblankett!$F$40-3000)*AF42/100))),\"\")","v":""},null,null,{"$f":"IF(Avropsblankett!$C$40=$A$39,IF(Avropsblankett!$F$40<1000,AI40,IF(Avropsblankett!$F$40<3000,AI41,AI42)),\"\")","v":""},null,{"$f":"IF(Avropsblankett!$C$40=$A$39,IF(Avropsblankett!$F$40<1000,((Avropsblankett!$F$40-100)*AK40/100),IF(Avropsblankett!$F$40<3000,((Avropsblankett!$F$40-1000)*AK41/100),((Avropsblankett!$F$40-3000)*AK42/100))),\"\")","v":""},null,null,{"$f":"IF(Avropsblankett!$C$40=$A$39,IF(Avropsblankett!$F$40<1000,AN40,IF(Avropsblankett!$F$40<3000,AN41,AN42)),\"\")","v":""},null,{"$f":"IF(Avropsblankett!$C$40=$A$39,IF(Avropsblankett!$F$40<1000,((Avropsblankett!$F$40-100)*AP40/100),IF(Avropsblankett!$F$40<3000,((Avropsblankett!$F$40-1000)*AP41/100),((Avropsblankett!$F$40-3000)*AP42/100))),\"\")","v":""},null,null,{"$f":"IF(Avropsblankett!$C$40=$A$39,IF(Avropsblankett!$F$40<1000,AS40,IF(Avropsblankett!$F$40<3000,AS41,AS42)),\"\")","v":""},null,{"$f":"IF(Avropsblankett!$C$40=$A$39,IF(Avropsblankett!$F$40<1000,((Avropsblankett!$F$40-100)*AU40/100),IF(Avropsblankett!$F$40<3000,((Avropsblankett!$F$40-1000)*AU41/100),((Avropsblankett!$F$40-3000)*AU42/100))),\"\")","v":""},null,null,{"$f":"IF(Avropsblankett!$C$40=$A$27,IF(Avropsblankett!$F$40<1000,AX40,IF(Avropsblankett!$F$40<3000,AX41,AX42)),\"\")","v":""},null,{"$f":"IF(Avropsblankett!$C$40=$A$27,IF(Avropsblankett!$F$40<1000,((Avropsblankett!$F$40-100)*AZ40/100),IF(Avropsblankett!$F$40<3000,((Avropsblankett!$F$40-1000)*AZ41/100),((Avropsblankett!$F$40-3000)*AZ42/100))),\"\")","v":""}]
[null,null,null,null,{"$f":"IF(Avropsblankett!$C$52=$A$39,IF(Avropsblankett!$F$52<1000,E40,IF(Avropsblankett!$F$52<3000,E41,E42)),\"\")","v":""},null,{"$f":"IF(Avropsblankett!$C$52=$A$39,IF(Avropsblankett!$F$52<1000,((Avropsblankett!$F$52-100)*G40/100),IF(Avropsblankett!$F$52<3000,((Avropsblankett!$F$52-1000)*G41/100),((Avropsblankett!$F$52-3000)*G42/100))),\"\")","v":""},null,null,{"$f":"IF(Avropsblankett!$C$52=$A$39,IF(Avropsblankett!$F$52<1000,J40,IF(Avropsblankett!$F$52<3000,J41,J42)),\"\")","v":""},null,{"$f":"IF(Avropsblankett!$C$52=$A$39,IF(Avropsblankett!$F$52<1000,((Avropsblankett!$F$52-100)*L40/100),IF(Avropsblankett!$F$52<3000,((Avropsblankett!$F$52-1000)*L41/100),((Avropsblankett!$F$52-3000)*L42/100))),\"\")","v":""},null,null,{"$f":"IF(Avropsblankett!$C$52=$A$39,IF(Avropsblankett!$F$52<1000,O40,IF(Avropsblankett!$F$52<3000,O41,O42)),\"\")","v":""},null,{"$f":"IF(Avropsblankett!$C$52=$A$39,IF(Avropsblankett!$F$52<1000,((Avropsblankett!$F$52-100)*Q40/100),IF(Avropsblankett!$F$52<3000,((Avropsblankett!$F$52-1000)*Q41/100),((Avropsblankett!$F$52-3000)*Q42/100))),\"\")","v":""},null,null,{"$f":"IF(Avropsblankett!$C$52=$A$39,IF(Avropsblankett!$F$52<1000,T40,IF(Avropsblankett!$F$52<3000,T41,T42)),\"\")","v":""},null,{"$f":"IF(Avropsblankett!$C$52=$A$39,IF(Avropsblankett!$F$52<1000,((Avropsblankett!$F$52-100)*V40/100),IF(Avropsblankett!$F$52<3000,((Avropsblankett!$F$52-1000)*V41/100),((Avropsblankett!$F$52-3000)*V42/100))),\"\")","v":""},null,null,{"$f":"IF(Avropsblankett!$C$52=$A$39,IF(Avropsblankett!$F$52<1000,Y40,IF(Avropsblankett!$F$52<3000,Y41,Y42)),\"\")","v":""},null,{"$f":"IF(Avropsblankett!$C$52=$A$39,IF(Avropsblankett!$F$52<1000,((Avropsblankett!$F$52-100)*AA40/100),IF(Avropsblankett!$F$52<3000,((Avropsblankett!$F$52-1000)*AA41/100),((Avropsblankett!$F$52-3000)*AA42/100))),\"\")","v":""},null,null,{"$f":"IF(Avropsblankett!$C$52=$A$39,IF(Avropsblankett!$F$52<1000,AD40,IF(Avropsblankett!$F$52<3000,AD41,AD42)),\"\")","v":""},null,{"$f":"IF(Avropsblankett!$C$52=$A$39,IF(Avropsblankett!$F$52<1000,((Avropsblankett!$F$52-100)*AF40/100),IF(Avropsblankett!$F$52<3000,((Avropsblankett!$F$52-1000)*AF41/100),((Avropsblankett!$F$52-3000)*AF42/100))),\"\")","v":""},null,null,{"$f":"IF(Avropsblankett!$C$52=$A$39,IF(Avropsblankett!$F$52<1000,AI40,IF(Avropsblankett!$F$52<3000,AI41,AI42)),\"\")","v":""},null,{"$f":"IF(Avropsblankett!$C$52=$A$39,IF(Avropsblankett!$F$52<1000,((Avropsblankett!$F$52-100)*AK40/100),IF(Avropsblankett!$F$52<3000,((Avropsblankett!$F$52-1000)*AK41/100),((Avropsblankett!$F$52-3000)*AK42/100))),\"\")","v":""},null,null,{"$f":"IF(Avropsblankett!$C$52=$A$39,IF(Avropsblankett!$F$52<1000,AN40,IF(Avropsblankett!$F$52<3000,AN41,AN42)),\"\")","v":""},null,{"$f":"IF(Avropsblankett!$C$52=$A$39,IF(Avropsblankett!$F$52<1000,((Avropsblankett!$F$52-100)*AP40/100),IF(Avropsblankett!$F$52<3000,((Avropsblankett!$F$52-1000)*AP41/100),((Avropsblankett!$F$52-3000)*AP42/100))),\"\")","v":""},null,null,{"$f":"IF(Avropsblankett!$C$52=$A$39,IF(Avropsblankett!$F$52<1000,AS40,IF(Avropsblankett!$F$52<3000,AS41,AS42)),\"\")","v":""},null,{"$f":"IF(Avropsblankett!$C$52=$A$39,IF(Avropsblankett!$F$52<1000,((Avropsblankett!$F$52-100)*AU40/100),IF(Avropsblankett!$F$52<3000,((Avropsblankett!$F$52-1000)*AU41/100),((Avropsblankett!$F$52-3000)*AU42/100))),\"\")","v":""},null,null,{"$f":"IF(Avropsblankett!$C$52=$A$27,IF(Avropsblankett!$F$52<1000,AX40,IF(Avropsblankett!$F$52<3000,AX41,AX42)),\"\")","v":""},null,{"$f":"IF(Avropsblankett!$C$52=$A$27,IF(Avropsblankett!$F$52<1000,((Avropsblankett!$F$52-100)*AZ40/100),IF(Avropsblankett!$F$52<3000,((Avropsblankett!$F$52-1000)*AZ41/100),((Avropsblankett!$F$52-3000)*AZ42/100))),\"\")","v":""}]
[null,null,null,null,{"$f":"IF(Avropsblankett!$C$64=$A$39,IF(Avropsblankett!$F$64<1000,E40,IF(Avropsblankett!$F$64<3000,E41,E42)),\"\")","v":""},null,{"$f":"IF(Avropsblankett!$C$64=$A$39,IF(Avropsblankett!$F$64<1000,((Avropsblankett!$F$64-100)*G40/100),IF(Avropsblankett!$F$64<3000,((Avropsblankett!$F$64-1000)*G41/100),((Avropsblankett!$F$64-3000)*G42/100))),\"\")","v":""},null,null,{"$f":"IF(Avropsblankett!$C$64=$A$39,IF(Avropsblankett!$F$64<1000,J40,IF(Avropsblankett!$F$64<3000,J41,J42)),\"\")","v":""},null,{"$f":"IF(Avropsblankett!$C$64=$A$39,IF(Avropsblankett!$F$64<1000,((Avropsblankett!$F$64-100)*L40/100),IF(Avropsblankett!$F$64<3000,((Avropsblankett!$F$64-1000)*L41/100),((Avropsblankett!$F$64-3000)*L42/100))),\"\")","v":""},null,null,{"$f":"IF(Avropsblankett!$C$64=$A$39,IF(Avropsblankett!$F$64<1000,O40,IF(Avropsblankett!$F$64<3000,O41,O42)),\"\")","v":""},null,{"$f":"IF(Avropsblankett!$C$64=$A$39,IF(Avropsblankett!$F$64<1000,((Avropsblankett!$F$64-100)*Q40/100),IF(Avropsblankett!$F$64<3000,((Avropsblankett!$F$64-1000)*Q41/100),((Avropsblankett!$F$64-3000)*Q42/100))),\"\")","v":""},null,null,{"$f":"IF(Avropsblankett!$C$64=$A$39,IF(Avropsblankett!$F$64<1000,T40,IF(Avropsblankett!$F$64<3000,T41,T42)),\"\")","v":""},null,{"$f":"IF(Avropsblankett!$C$64=$A$39,IF(Avropsblankett!$F$64<1000,((Avropsblankett!$F$64-100)*V40/100),IF(Avropsblankett!$F$64<3000,((Avropsblankett!$F$64-1000)*V41/100),((Avropsblankett!$F$64-3000)*V42/100))),\"\")","v":""},null,null,{"$f":"IF(Avropsblankett!$C$64=$A$39,IF(Avropsblankett!$F$64<1000,Y40,IF(Avropsblankett!$F$64<3000,Y41,Y42)),\"\")","v":""},null,{"$f":"IF(Avropsblankett!$C$64=$A$39,IF(Avropsblankett!$F$64<1000,((Avropsblankett!$F$64-100)*AA40/100),IF(Avropsblankett!$F$64<3000,((Avropsblankett!$F$64-1000)*AA41/100),((Avropsblankett!$F$64-3000)*AA42/100))),\"\")","v":""},null,null,{"$f":"IF(Avropsblankett!$C$64=$A$39,IF(Avropsblankett!$F$64<1000,AD40,IF(Avropsblankett!$F$64<3000,AD41,AD42)),\"\")","v":""},null,{"$f":"IF(Avropsblankett!$C$64=$A$39,IF(Avropsblankett!$F$64<1000,((Avropsblankett!$F$64-100)*AF40/100),IF(Avropsblankett!$F$64<3000,((Avropsblankett!$F$64-1000)*AF41/100),((Avropsblankett!$F$64-3000)*AF42/100))),\"\")","v":""},null,null,{"$f":"IF(Avropsblankett!$C$64=$A$39,IF(Avropsblankett!$F$64<1000,AI40,IF(Avropsblankett!$F$64<3000,AI41,AI42)),\"\")","v":""},null,{"$f":"IF(Avropsblankett!$C$64=$A$39,IF(Avropsblankett!$F$64<1000,((Avropsblankett!$F$64-100)*AK40/100),IF(Avropsblankett!$F$64<3000,((Avropsblankett!$F$64-1000)*AK41/100),((Avropsblankett!$F$64-3000)*AK42/100))),\"\")","v":""},null,null,{"$f":"IF(Avropsblankett!$C$64=$A$39,IF(Avropsblankett!$F$64<1000,AN40,IF(Avropsblankett!$F$64<3000,AN41,AN42)),\"\")","v":""},null,{"$f":"IF(Avropsblankett!$C$64=$A$39,IF(Avropsblankett!$F$64<1000,((Avropsblankett!$F$64-100)*AP40/100),IF(Avropsblankett!$F$64<3000,((Avropsblankett!$F$64-1000)*AP41/100),((Avropsblankett!$F$64-3000)*AP42/100))),\"\")","v":""},null,null,{"$f":"IF(Avropsblankett!$C$64=$A$39,IF(Avropsblankett!$F$64<1000,AS40,IF(Avropsblankett!$F$64<3000,AS41,AS42)),\"\")","v":""},null,{"$f":"IF(Avropsblankett!$C$64=$A$39,IF(Avropsblankett!$F$64<1000,((Avropsblankett!$F$64-100)*AU40/100),IF(Avropsblankett!$F$64<3000,((Avropsblankett!$F$64-1000)*AU41/100),((Avropsblankett!$F$64-3000)*AU42/100))),\"\")","v":""},null,null,{"$f":"IF(Avropsblankett!$C$64=$A$27,IF(Avropsblankett!$F$64<1000,AX40,IF(Avropsblankett!$F$64<3000,AX41,AX42)),\"\")","v":""},null,{"$f":"IF(Avropsblankett!$C$64=$A$27,IF(Avropsblankett!$F$64<1000,((Avropsblankett!$F$64-100)*AZ40/100),IF(Avropsblankett!$F$64<3000,((Avropsblankett!$F$64-1000)*AZ41/100),((Avropsblankett!$F$64-3000)*AZ42/100))),\"\")","v":""}]
[null,null,null,null,{"$f":"IF(Avropsblankett!$C$76=$A$39,IF(Avropsblankett!$F$76<1000,E40,IF(Avropsblankett!$F$76<3000,E41,E42)),\"\")","v":""},null,{"$f":"IF(Avropsblankett!$C$76=$A$39,IF(Avropsblankett!$F$76<1000,((Avropsblankett!$F$76-100)*G40/100),IF(Avropsblankett!$F$76<3000,((Avropsblankett!$F$76-1000)*G41/100),((Avropsblankett!$F$76-3000)*G42/100))),\"\")","v":""},null,null,{"$f":"IF(Avropsblankett!$C$76=$A$39,IF(Avropsblankett!$F$76<1000,J40,IF(Avropsblankett!$F$76<3000,J41,J42)),\"\")","v":""},null,{"$f":"IF(Avropsblankett!$C$76=$A$39,IF(Avropsblankett!$F$76<1000,((Avropsblankett!$F$76-100)*L40/100),IF(Avropsblankett!$F$76<3000,((Avropsblankett!$F$76-1000)*L41/100),((Avropsblankett!$F$76-3000)*L42/100))),\"\")","v":""},null,null,{"$f":"IF(Avropsblankett!$C$76=$A$39,IF(Avropsblankett!$F$76<1000,O40,IF(Avropsblankett!$F$76<3000,O41,O42)),\"\")","v":""},null,{"$f":"IF(Avropsblankett!$C$76=$A$39,IF(Avropsblankett!$F$76<1000,((Avropsblankett!$F$76-100)*Q40/100),IF(Avropsblankett!$F$76<3000,((Avropsblankett!$F$76-1000)*Q41/100),((Avropsblankett!$F$76-3000)*Q42/100))),\"\")","v":""},null,null,{"$f":"IF(Avropsblankett!$C$76=$A$39,IF(Avropsblankett!$F$76<1000,T40,IF(Avropsblankett!$F$76<3000,T41,T42)),\"\")","v":""},null,{"$f":"IF(Avropsblankett!$C$76=$A$39,IF(Avropsblankett!$F$76<1000,((Avropsblankett!$F$76-100)*V40/100),IF(Avropsblankett!$F$76<3000,((Avropsblankett!$F$76-1000)*V41/100),((Avropsblankett!$F$76-3000)*V42/100))),\"\")","v":""},null,null,{"$f":"IF(Avropsblankett!$C$76=$A$39,IF(Avropsblankett!$F$76<1000,Y40,IF(Avropsblankett!$F$76<3000,Y41,Y42)),\"\")","v":""},null,{"$f":"IF(Avropsblankett!$C$76=$A$39,IF(Avropsblankett!$F$76<1000,((Avropsblankett!$F$76-100)*AA40/100),IF(Avropsblankett!$F$76<3000,((Avropsblankett!$F$76-1000)*AA41/100),((Avropsblankett!$F$76-3000)*AA42/100))),\"\")","v":""},null,null,{"$f":"IF(Avropsblankett!$C$76=$A$39,IF(Avropsblankett!$F$76<1000,AD40,IF(Avropsblankett!$F$76<3000,AD41,AD42)),\"\")","v":""},null,{"$f":"IF(Avropsblankett!$C$76=$A$39,IF(Avropsblankett!$F$76<1000,((Avropsblankett!$F$76-100)*AF40/100),IF(Avropsblankett!$F$76<3000,((Avropsblankett!$F$76-1000)*AF41/100),((Avropsblankett!$F$76-3000)*AF42/100))),\"\")","v":""},null,null,{"$f":"IF(Avropsblankett!$C$76=$A$39,IF(Avropsblankett!$F$76<1000,AI40,IF(Avropsblankett!$F$76<3000,AI41,AI42)),\"\")","v":""},null,{"$f":"IF(Avropsblankett!$C$76=$A$39,IF(Avropsblankett!$F$76<1000,((Avropsblankett!$F$76-100)*AK40/100),IF(Avropsblankett!$F$76<3000,((Avropsblankett!$F$76-1000)*AK41/100),((Avropsblankett!$F$76-3000)*AK42/100))),\"\")","v":""},null,null,{"$f":"IF(Avropsblankett!$C$76=$A$39,IF(Avropsblankett!$F$76<1000,AN40,IF(Avropsblankett!$F$76<3000,AN41,AN42)),\"\")","v":""},null,{"$f":"IF(Avropsblankett!$C$76=$A$39,IF(Avropsblankett!$F$76<1000,((Avropsblankett!$F$76-100)*AP40/100),IF(Avropsblankett!$F$76<3000,((Avropsblankett!$F$76-1000)*AP41/100),((Avropsblankett!$F$76-3000)*AP42/100))),\"\")","v":""},null,null,{"$f":"IF(Avropsblankett!$C$76=$A$39,IF(Avropsblankett!$F$76<1000,AS40,IF(Avropsblankett!$F$76<3000,AS41,AS42)),\"\")","v":""},null,{"$f":"IF(Avropsblankett!$C$76=$A$39,IF(Avropsblankett!$F$76<1000,((Avropsblankett!$F$76-100)*AU40/100),IF(Avropsblankett!$F$76<3000,((Avropsblankett!$F$76-1000)*AU41/100),((Avropsblankett!$F$76-3000)*AU42/100))),\"\")","v":""},null,null,{"$f":"IF(Avropsblankett!$C$76=$A$27,IF(Avropsblankett!$F$76<1000,AX40,IF(Avropsblankett!$F$76<3000,AX41,AX42)),\"\")","v":""},null,{"$f":"IF(Avropsblankett!$C$76=$A$27,IF(Avropsblankett!$F$76<1000,((Avropsblankett!$F$76-100)*AZ40/100),IF(Avropsblankett!$F$76<3000,((Avropsblankett!$F$76-1000)*AZ41/100),((Avropsblankett!$F$76-3000)*AZ42/100))),\"\")","v":""}]
[null,null,null,null,{"$f":"SUM(E45:E49)","v":0},null,{"$f":"SUM(G45:G49)","v":0},null,null,{"$f":"SUM(J45:J49)","v":0},null,{"$f":"SUM(L45:L49)","v":0},null,null,{"$f":"SUM(O45:O49)","v":0},null,{"$f":"SUM(Q45:Q49)","v":0},null,null,{"$f":"SUM(T45:T49)","v":0},null,{"$f":"SUM(V45:V49)","v":0},null,null,{"$f":"SUM(Y45:Y49)","v":0},null,{"$f":"SUM(AA45:AA49)","v":0},null,null,{"$f":"SUM(AD45:AD49)","v":0},null,{"$f":"SUM(AF45:AF49)","v":0},null,null,{"$f":"SUM(AI45:AI49)","v":0},null,{"$f":"SUM(AK45:AK49)","v":0},null,null,{"$f":"SUM(AN45:AN49)","v":0},null,{"$f":"SUM(AP45:AP49)","v":0},null,null,{"$f":"SUM(AS45:AS49)","v":0},null,{"$f":"SUM(AU45:AU49)","v":0},null,null,{"$f":"SUM(AX45:AX49)","v":0},null,{"$f":"SUM(AZ45:AZ49)","v":0}]
[null,null,null,"Summa",{"$f":"SUM(E14,E26,E38,E50)","v":0},null,{"$f":"SUM(G14,G26,G38,G50)","v":0},null,"Summa",{"$f":"SUM(J14,J26,J38,J50)","v":0},null,{"$f":"SUM(L14,L26,L38,L50)","v":0},null,"Summa",{"$f":"SUM(O14,O26,O38,O50)","v":0},null,{"$f":"SUM(Q14,Q26,Q38,Q50)","v":0},null,"Summa",{"$f":"SUM(T14,T26,T38,T50)","v":0},null,{"$f":"SUM(V14,V26,V38,V50)","v":0},null,"Summa",{"$f":"SUM(Y14,Y26,Y38,Y50)","v":0},null,{"$f":"SUM(AA14,AA26,AA38,AA50)","v":0},null,"Summa",{"$f":"SUM(AD14,AD26,AD38,AD50)","v":0},null,{"$f":"SUM(AF14,AF26,AF38,AF50)","v":0},null,"Summa",{"$f":"SUM(AI14,AI26,AI38,AI50)","v":0},null,{"$f":"SUM(AK14,AK26,AK38,AK50)","v":0},null,"Summa",{"$f":"SUM(AN14,AN26,AN38,AN50)","v":0},null,{"$f":"SUM(AP14,AP26,AP38,AP50)","v":0},null,"Summa",{"$f":"SUM(AS14,AS26,AS38,AS50)","v":0},null,{"$f":"SUM(AU14,AU26,AU38,AU50)","v":0},null,"Summa",{"$f":"SUM(AX14,AX26,AX38)","v":0},null,{"$f":"SUM(AZ14,AZ26,AZ38)","v":0}]
[null,null,null,"Totalsumma",{"$f":"SUM(E51,G51)","v":0},null,null,null,"Totalsumma",{"$f":"SUM(J51,L51)","v":0},null,null,null,"Totalsumma",{"$f":"SUM(O51,Q51)","v":0},null,null,null,"Totalsumma",{"$f":"SUM(T51,V51)","v":0},null,null,null,"Totalsumma",{"$f":"SUM(Y51,AA51)","v":0},null,null,null,"Totalsumma",{"$f":"SUM(AD51,AF51)","v":0},null,null,null,"Totalsumma",{"$f":"SUM(AI51,AK51)","v":0},null,null,null,"Totalsumma",{"$f":"SUM(AN51,AP51)","v":0},null,null,null,"Totalsumma",{"$f":"SUM(AS51,AU51)","v":0},null,null,null,"Totalsumma",{"$f":"SUM(AX51,AZ51)","v":0}]
[null,{"$f":"B5","v":"A4"}]
[null,{"$f":"B17","v":"A5"}]
[null,{"$f":"B29","v":"105 x 297 mm"}]

{"sheet":"Katalog","index":6,"n_rows":40,"n_cols":52,"rows_kept":40,"cut":false,"hidden":false,"merged":[[32,4,32,6],[1,0,2,2],[0,8,0,11],[1,8,1,11],[2,8,2,11],[23,8,24,11],[32,9,32,11],[23,3,24,6],[0,0,0,2],[0,3,0,6],[1,3,1,6],[2,3,2,6],[3,0,3,1],[17,0,17,1],[0,13,0,16],[1,13,1,16],[2,13,2,16],[0,18,0,21],[0,23,0,26],[0,28,0,31],[1,18,1,21],[1,23,1,26],[1,28,1,31],[2,18,2,21],[2,23,2,26],[2,28,2,31],[23,28,24,31],[32,19,32,21],[32,24,32,26],[32,29,32,31],[23,13,24,16],[32,14,32,16],[23,18,24,21],[23,23,24,26],[0,33,0,36],[0,38,0,41],[0,43,0,46],[0,48,0,51],[1,33,1,36],[1,38,1,41],[1,43,1,46],[1,48,1,51],[32,34,32,36],[32,39,32,41],[32,44,32,46],[32,49,32,51],[2,33,2,36],[2,38,2,41],[2,43,2,46],[2,48,2,51],[23,33,24,36],[23,38,24,41],[23,43,24,46],[23,48,24,51]]}
["Katalog",null,null,{"$f":"Uträkningsblad!C4","v":"Bröderna Hansson H-tryck Aktiebolag"},null,null,null,null,{"$f":"Uträkningsblad!D4","v":"Elanders Sverige AB"},null,null,null,null,{"$f":"Uträkningsblad!E4","v":"Exakta Print AB"},null,null,null,null,{"$f":"Uträkningsblad!F4","v":"Kalmar Kuvert Sweden AB"},null,null,null,null,{"$f":"Uträkningsblad!G4","v":"Ljungbergs Tryckeri i Klippan AB"},null,null,null,null,{"$f":"Uträkningsblad!H4","v":"Scandinavian Print Group Sweden AB"},null,null,null,null,{"$f":"Uträkningsblad!I4","v":"Stema Specialtryck AB"},null,null,null,null,{"$f":"Uträkningsblad!J4","v":"Stibo Complete A/S"},null,null,null,null,{"$f":"Uträkningsblad!K4","v":"Åtta.45 Tryckeri AB"},null,null,null,null,{"$f":"Uträkningsblad!L4","v":"Leverantör 10"}]
[]
[null,null,null,"Priser lämnas i gulmarkerade fält nedan",null,null,null,null,"Priser lämnas i gulmarkerade fält nedan",null,null,null,null,"Priser lämnas i gulmarkerade fält nedan",null,null,null,null,"Priser lämnas i gulmarkerade fält nedan",null,null,null,null,"Priser lämnas i gulmarkerade fält nedan",null,null,null,null,"Priser lämnas i gulmarkerade fält nedan",null,null,null,null,"Priser lämnas i gulmarkerade fält nedan",null,null,null,null,"Priser lämnas i gulmarkerade fält nedan",null,null,null,null,"Priser lämnas i gulmarkerade fält nedan",null,null,null,null,"Priser lämnas i gulmarkerade fält nedan"]
["Katalog_1",null,"Beskrivning/omfång inklusive omslag","Upplaga","Ange pris","Följande","Ange pris",null,"Upplaga","Ange pris","Följande","Ange pris",null,"Upplaga","Ange pris","Följande","Ange pris",null,"Upplaga","Ange pris","Följande","Ange pris",null,"Upplaga","Ange pris","Följande","Ange pris",null,"Upplaga","Ange pris","Följande","Ange pris",null,"Upplaga","Ange pris","Följande","Ange pris",null,"Upplaga","Ange pris","Följande","Ange pris",null,"Upplaga","Ange pris","Följande","Ange pris",null,"Upplaga","Ange pris","Följande","Ange pris"]
["Underlag","A: Öppna filer. B: PDF/PDFx. ","32 sid + omslag",500,7568,100,1288,null,500,5874,100,1098,null,500,6450,100,490,null,500,6400,100,300,null,500,3700,100,140,null,500,7420,100,388,null,500,2500,100,390,null,500,3730,100,365,null,500,8500,100,605,null,500,8645,100,1530]
["Format","A4","64 sid + omslag",500,13106,100,2395,null,500,10200,100,1963,null,500,10950,100,900,null,500,11150,100,800,null,500,6750,100,300,null,500,11700,100,696,null,500,5500,100,715,null,500,7132,100,710,null,500,13950,100,965,null,500,15305,100,2860]
["Papper inlaga","Bestruket 80 g","128 sid + omslag",500,26180,100,5010,null,500,18582,100,3643,null,500,12900,100,1750,null,500,18500,100,1600,null,500,10700,100,500,null,500,20020,100,1523,null,500,11500,100,1425,null,500,11334,100,1125,null,500,22650,100,1795,null,500,26500,100,5120]
["Papper omslag","Bestruket 150 g"]
["Tryck inlaga","4+4"]
["Tryck omslag","4+4"]
["Bokbinderi","Klammerhäftning, men vid omfång (inlaga och omslag) 113 sidor eller fler limbindning."]
[null,null,null,null,{"$f":"IF(Avropsblankett!$C$28=$A$4,IF(Avropsblankett!$E$28<65,(E5+(E6-E5)/32*(Avropsblankett!$E$28-32)),IF(Avropsblankett!$E$28<129,(E6+(E7-E6)/64*(Avropsblankett!$E$28-64)),\"\")),\"\")","v":""},null,{"$f":"(Avropsblankett!$F$28-500)/100*IF(Avropsblankett!$C$28=$A$4,IF(Avropsblankett!$E$28<65,(G5+(G6-G5)/32*(Avropsblankett!$E$28-32)),IF(Avropsblankett!$E$28<129,(G6+(G7-G6)/64*(Avropsblankett!$E$28-64)),\"\")))","v":0},null,null,{"$f":"IF(Avropsblankett!$C$28=$A$4,IF(Avropsblankett!$E$28<65,(J5+(J6-J5)/32*(Avropsblankett!$E$28-32)),IF(Avropsblankett!$E$28<129,(J6+(J7-J6)/64*(Avropsblankett!$E$28-64)),\"\")),\"\")","v":""},null,{"$f":"(Avropsblankett!$F$28-500)/100*IF(Avropsblankett!$C$28=$A$4,IF(Avropsblankett!$E$28<65,(L5+(L6-L5)/32*(Avropsblankett!$E$28-32)),IF(Avropsblankett!$E$28<129,(L6+(L7-L6)/64*(Avropsblankett!$E$28-64)),\"\")))","v":0},null,null,{"$f":"IF(Avropsblankett!$C$28=$A$4,IF(Avropsblankett!$E$28<65,(O5+(O6-O5)/32*(Avropsblankett!$E$28-32)),IF(Avropsblankett!$E$28<129,(O6+(O7-O6)/64*(Avropsblankett!$E$28-64)),\"\")),\"\")","v":""},null,{"$f":"(Avropsblankett!$F$28-500)/100*IF(Avropsblankett!$C$28=$A$4,IF(Avropsblankett!$E$28<65,(Q5+(Q6-Q5)/32*(Avropsblankett!$E$28-32)),IF(Avropsblankett!$E$28<129,(Q6+(Q7-Q6)/64*(Avropsblankett!$E$28-64)),\"\")))","v":0},null,null,{"$f":"IF(Avropsblankett!$C$28=$A$4,IF(Avropsblankett!$E$28<65,(T5+(T6-T5)/32*(Avropsblankett!$E$28-32)),IF(Avropsblankett!$E$28<129,(T6+(T7-T6)/64*(Avropsblankett!$E$28-64)),\"\")),\"\")","v":""},null,{"$f":"(Avropsblankett!$F$28-500)/100*IF(Avropsblankett!$C$28=$A$4,IF(Avropsblankett!$E$28<65,(V5+(V6-V5)/32*(Avropsblankett!$E$28-32)),IF(Avropsblankett!$E$28<129,(V6+(V7-V6)/64*(Avropsblankett!$E$28-64)),\"\")))","v":0},null,null,{"$f":"IF(Avropsblankett!$C$28=$A$4,IF(Avropsblankett!$E$28<65,(Y5+(Y6-Y5)/32*(Avropsblankett!$E$28-32)),IF(Avropsblankett!$E$28<129,(Y6+(Y7-Y6)/64*(Avropsblankett!$E$28-64)),\"\")),\"\")","v":""},null,{"$f":"(Avropsblankett!$F$28-500)/100*IF(Avropsblankett!$C$28=$A$4,IF(Avropsblankett!$E$28<65,(AA5+(AA6-AA5)/32*(Avropsblankett!$E$28-32)),IF(Avropsblankett!$E$28<129,(AA6+(AA7-AA6)/64*(Avropsblankett!$E$28-64)),\"\")))","v":0},null,null,{"$f":"IF(Avropsblankett!$C$28=$A$4,IF(Avropsblankett!$E$28<65,(AD5+(AD6-AD5)/32*(Avropsblankett!$E$28-32)),IF(Avropsblankett!$E$28<129,(AD6+(AD7-AD6)/64*(Avropsblankett!$E$28-64)),\"\")),\"\")","v":""},null,{"$f":"(Avropsblankett!$F$28-500)/100*IF(Avropsblankett!$C$28=$A$4,IF(Avropsblankett!$E$28<65,(AF5+(AF6-AF5)/32*(Avropsblankett!$E$28-32)),IF(Avropsblankett!$E$28<129,(AF6+(AF7-AF6)/64*(Avropsblankett!$E$28-64)),\"\")))","v":0},null,null,{"$f":"IF(Avropsblankett!$C$28=$A$4,IF(Avropsblankett!$E$28<65,(AI5+(AI6-AI5)/32*(Avropsblankett!$E$28-32)),IF(Avropsblankett!$E$28<129,(AI6+(AI7-AI6)/64*(Avropsblankett!$E$28-64)),\"\")),\"\")","v":""},null,{"$f":"(Avropsblankett!$F$28-500)/100*IF(Avropsblankett!$C$28=$A$4,IF(Avropsblankett!$E$28<65,(AK5+(AK6-AK5)/32*(Avropsblankett!$E$28-32)),IF(Avropsblankett!$E$28<129,(AK6+(AK7-AK6)/64*(Avropsblankett!$E$28-64)),\"\")))","v":0},null,null,{"$f":"IF(Avropsblankett!$C$28=$A$4,IF(Avropsblankett!$E$28<65,(AN5+(AN6-AN5)/32*(Avropsblankett!$E$28-32)),IF(Avropsblankett!$E$28<129,(AN6+(AN7-AN6)/64*(Avropsblankett!$E$28-64)),\"\")),\"\")","v":""},null,{"$f":"(Avropsblankett!$F$28-500)/100*IF(Avropsblankett!$C$28=$A$4,IF(Avropsblankett!$E$28<65,(AP5+(AP6-AP5)/32*(Avropsblankett!$E$28-32)),IF(Avropsblankett!$E$28<129,(AP6+(AP7-AP6)/64*(Avropsblankett!$E$28-64)),\"\")))","v":0},null,null,{"$f":"IF(Avropsblankett!$C$28=$A$4,IF(Avropsblankett!$E$28<65,(AS5+(AS6-AS5)/32*(Avropsblankett!$E$28-32)),IF(Avropsblankett!$E$28<129,(AS6+(AS7-AS6)/64*(Avropsblankett!$E$28-64)),\"\")),\"\")","v":""},null,{"$f":"(Avropsblankett!$F$28-500)/100*IF(Avropsblankett!$C$28=$A$4,IF(Avropsblankett!$E$28<65,(AU5+(AU6-AU5)/32*(Avropsblankett!$E$28-32)),IF(Avropsblankett!$E$28<129,(AU6+(AU7-AU6)/64*(Avropsblankett!$E$28-64)),\"\")))","v":0},null,null,{"$f":"IF(Avropsblankett!$C$28=$A$4,IF(Avropsblankett!$E$28<65,(AX5+(AX6-AX5)/32*(Avropsblankett!$E$28-32)),IF(Avropsblankett!$E$28<129,(AX6+(AX7-AX6)/64*(Avropsblankett!$E$28-64)),\"\")),\"\")","v":""},null,{"$f":"(Avropsblankett!$F$28-500)/100*IF(Avropsblankett!$C$28=$A$4,IF(Avropsblankett!$E$28<65,(AZ5+(AZ6-AZ5)/32*(Avropsblankett!$E$28-32)),IF(Avropsblankett!$E$28<129,(AZ6+(AZ7-AZ6)/64*(Avropsblankett!$E$28-64)),\"\")))","v":0}]
[null,null,null,null,{"$f":"IF(Avropsblankett!$C$40=$A$4,IF(Avropsblankett!$E$40<65,(E5+(E6-E5)/32*(Avropsblankett!$E$40-32)),IF(Avropsblankett!$E$40<129,(E6+(E7-E6)/64*(Avropsblankett!$E$40-64)),\"\")),\"\")","v":""},null,{"$f":"(Avropsblankett!$F$40-500)/100*IF(Avropsblankett!$C$40=$A$4,IF(Avropsblankett!$E$40<65,(G5+(G6-G5)/32*(Avropsblankett!$E$40-32)),IF(Avropsblankett!$E$40<129,(G6+(G7-G6)/64*(Avropsblankett!$E$40-64)),\"\")))","v":0},null,null,{"$f":"IF(Avropsblankett!$C$40=$A$4,IF(Avropsblankett!$E$40<65,(J5+(J6-J5)/32*(Avropsblankett!$E$40-32)),IF(Avropsblankett!$E$40<129,(J6+(J7-J6)/64*(Avropsblankett!$E$40-64)),\"\")),\"\")","v":""},null,{"$f":"(Avropsblankett!$F$40-500)/100*IF(Avropsblankett!$C$40=$A$4,IF(Avropsblankett!$E$40<65,(L5+(L6-L5)/32*(Avropsblankett!$E$40-32)),IF(Avropsblankett!$E$40<129,(L6+(L7-L6)/64*(Avropsblankett!$E$40-64)),\"\")))","v":0},null,null,{"$f":"IF(Avropsblankett!$C$40=$A$4,IF(Avropsblankett!$E$40<65,(O5+(O6-O5)/32*(Avropsblankett!$E$40-32)),IF(Avropsblankett!$E$40<129,(O6+(O7-O6)/64*(Avropsblankett!$E$40-64)),\"\")),\"\")","v":""},null,{"$f":"(Avropsblankett!$F$40-500)/100*IF(Avropsblankett!$C$40=$A$4,IF(Avropsblankett!$E$40<65,(Q5+(Q6-Q5)/32*(Avropsblankett!$E$40-32)),IF(Avropsblankett!$E$40<129,(Q6+(Q7-Q6)/64*(Avropsblankett!$E$40-64)),\"\")))","v":0},null,null,{"$f":"IF(Avropsblankett!$C$40=$A$4,IF(Avropsblankett!$E$40<65,(T5+(T6-T5)/32*(Avropsblankett!$E$40-32)),IF(Avropsblankett!$E$40<129,(T6+(T7-T6)/64*(Avropsblankett!$E$40-64)),\"\")),\"\")","v":""},null,{"$f":"(Avropsblankett!$F$40-500)/100*IF(Avropsblankett!$C$40=$A$4,IF(Avropsblankett!$E$40<65,(V5+(V6-V5)/32*(Avropsblankett!$E$40-32)),IF(Avropsblankett!$E$40<129,(V6+(V7-V6)/64*(Avropsblankett!$E$40-64)),\"\")))","v":0},null,null,{"$f":"IF(Avropsblankett!$C$40=$A$4,IF(Avropsblankett!$E$40<65,(Y5+(Y6-Y5)/32*(Avropsblankett!$E$40-32)),IF(Avropsblankett!$E$40<129,(Y6+(Y7-Y6)/64*(Avropsblankett!$E$40-64)),\"\")),\"\")","v":""},null,{"$f":"(Avropsblankett!$F$40-500)/100*IF(Avropsblankett!$C$40=$A$4,IF(Avropsblankett!$E$40<65,(AA5+(AA6-AA5)/32*(Avropsblankett!$E$40-32)),IF(Avropsblankett!$E$40<129,(AA6+(AA7-AA6)/64*(Avropsblankett!$E$40-64)),\"\")))","v":0},null,null,{"$f":"IF(Avropsblankett!$C$40=$A$4,IF(Avropsblankett!$E$40<65,(AD5+(AD6-AD5)/32*(Avropsblankett!$E$40-32)),IF(Avropsblankett!$E$40<129,(AD6+(AD7-AD6)/64*(Avropsblankett!$E$40-64)),\"\")),\"\")","v":""},null,{"$f":"(Avropsblankett!$F$40-500)/100*IF(Avropsblankett!$C$40=$A$4,IF(Avropsblankett!$E$40<65,(AF5+(AF6-AF5)/32*(Avropsblankett!$E$40-32)),IF(Avropsblankett!$E$40<129,(AF6+(AF7-AF6)/64*(Avropsblankett!$E$40-64)),\"\")))","v":0},null,null,{"$f":"IF(Avropsblankett!$C$40=$A$4,IF(Avropsblankett!$E$40<65,(AI5+(AI6-AI5)/32*(Avropsblankett!$E$40-32)),IF(Avropsblankett!$E$40<129,(AI6+(AI7-AI6)/64*(Avropsblankett!$E$40-64)),\"\")),\"\")","v":""},null,{"$f":"(Avropsblankett!$F$40-500)/100*IF(Avropsblankett!$C$40=$A$4,IF(Avropsblankett!$E$40<65,(AK5+(AK6-AK5)/32*(Avropsblankett!$E$40-32)),IF(Avropsblankett!$E$40<129,(AK6+(AK7-AK6)/64*(Avropsblankett!$E$40-64)),\"\")))","v":0},null,null,{"$f":"IF(Avropsblankett!$C$40=$A$4,IF(Avropsblankett!$E$40<65,(AN5+(AN6-AN5)/32*(Avropsblankett!$E$40-32)),IF(Avropsblankett!$E$40<129,(AN6+(AN7-AN6)/64*(Avropsblankett!$E$40-64)),\"\")),\"\")","v":""},null,{"$f":"(Avropsblankett!$F$40-500)/100*IF(Avropsblankett!$C$40=$A$4,IF(Avropsblankett!$E$40<65,(AP5+(AP6-AP5)/32*(Avropsblankett!$E$40-32)),IF(Avropsblankett!$E$40<129,(AP6+(AP7-AP6)/64*(Avropsblankett!$E$40-64)),\"\")))","v":0},null,null,{"$f":"IF(Avropsblankett!$C$40=$A$4,IF(Avropsblankett!$E$40<65,(AS5+(AS6-AS5)/32*(Avropsblankett!$E$40-32)),IF(Avropsblankett!$E$40<129,(AS6+(AS7-AS6)/64*(Avropsblankett!$E$40-64)),\"\")),\"\")","v":""},null,{"$f":"(Avropsblankett!$F$40-500)/100*IF(Avropsblankett!$C$40=$A$4,IF(Avropsblankett!$E$40<65,(AU5+(AU6-AU5)/32*(Avropsblankett!$E$40-32)),IF(Avropsblankett!$E$40<129,(AU6+(AU7-AU6)/64*(Avropsblankett!$E$40-64)),\"\")))","v":0},null,null,{"$f":"IF(Avropsblankett!$C$40=$A$4,IF(Avropsblankett!$E$40<65,(AX5+(AX6-AX5)/32*(Avropsblankett!$E$40-32)),IF(Avropsblankett!$E$40<129,(AX6+(AX7-AX6)/64*(Avropsblankett!$E$40-64)),\"\")),\"\")","v":""},null,{"$f":"(Avropsblankett!$F$40-500)/100*IF(Avropsblankett!$C$40=$A$4,IF(Avropsblankett!$E$40<65,(AZ5+(AZ6-AZ5)/32*(Avropsblankett!$E$40-32)),IF(Avropsblankett!$E$40<129,(AZ6+(AZ7-AZ6)/64*(Avropsblankett!$E$40-64)),\"\")))","v":0}]
[null,null,null,null,{"$f":"IF(Avropsblankett!$C$52=$A$4,IF(Avropsblankett!$E$52<65,(E5+(E6-E5)/32*(Avropsblankett!$E$52-32)),IF(Avropsblankett!$E$52<129,(E6+(E7-E6)/64*(Avropsblankett!$E$52-64)),\"\")),\"\")","v":""},null,{"$f":"(Avropsblankett!$F$52-500)/100*IF(Avropsblankett!$C$52=$A$4,IF(Avropsblankett!$E$52<65,(G5+(G6-G5)/32*(Avropsblankett!$E$52-32)),IF(Avropsblankett!$E$52<129,(G6+(G7-G6)/64*(Avropsblankett!$E$52-64)),\"\")))","v":0},null,null,{"$f":"IF(Avropsblankett!$C$52=$A$4,IF(Avropsblankett!$E$52<65,(J5+(J6-J5)/32*(Avropsblankett!$E$52-32)),IF(Avropsblankett!$E$52<129,(J6+(J7-J6)/64*(Avropsblankett!$E$52-64)),\"\")),\"\")","v":""},null,{"$f":"(Avropsblankett!$F$52-500)/100*IF(Avropsblankett!$C$52=$A$4,IF(Avropsblankett!$E$52<65,(L5+(L6-L5)/32*(Avropsblankett!$E$52-32)),IF(Avropsblankett!$E$52<129,(L6+(L7-L6)/64*(Avropsblankett!$E$52-64)),\"\")))","v":0},null,null,{"$f":"IF(Avropsblankett!$C$52=$A$4,IF(Avropsblankett!$E$52<65,(O5+(O6-O5)/32*(Avropsblankett!$E$52-32)),IF(Avropsblankett!$E$52<129,(O6+(O7-O6)/64*(Avropsblankett!$E$52-64)),\"\")),\"\")","v":""},null,{"$f":"(Avropsblankett!$F$52-500)/100*IF(Avropsblankett!$C$52=$A$4,IF(Avropsblankett!$E$52<65,(Q5+(Q6-Q5)/32*(Avropsblankett!$E$52-32)),IF(Avropsblankett!$E$52<129,(Q6+(Q7-Q6)/64*(Avropsblankett!$E$52-64)),\"\")))","v":0},null,null,{"$f":"IF(Avropsblankett!$C$52=$A$4,IF(Avropsblankett!$E$52<65,(T5+(T6-T5)/32*(Avropsblankett!$E$52-32)),IF(Avropsblankett!$E$52<129,(T6+(T7-T6)/64*(Avropsblankett!$E$52-64)),\"\")),\"\")","v":""},null,{"$f":"(Avropsblankett!$F$52-500)/100*IF(Avropsblankett!$C$52=$A$4,IF(Avropsblankett!$E$52<65,(V5+(V6-V5)/32*(Avropsblankett!$E$52-32)),IF(Avropsblankett!$E$52<129,(V6+(V7-V6)/64*(Avropsblankett!$E$52-64)),\"\")))","v":0},null,null,{"$f":"IF(Avropsblankett!$C$52=$A$4,IF(Avropsblankett!$E$52<65,(Y5+(Y6-Y5)/32*(Avropsblankett!$E$52-32)),IF(Avropsblankett!$E$52<129,(Y6+(Y7-Y6)/64*(Avropsblankett!$E$52-64)),\"\")),\"\")","v":""},null,{"$f":"(Avropsblankett!$F$52-500)/100*IF(Avropsblankett!$C$52=$A$4,IF(Avropsblankett!$E$52<65,(AA5+(AA6-AA5)/32*(Avropsblankett!$E$52-32)),IF(Avropsblankett!$E$52<129,(AA6+(AA7-AA6)/64*(Avropsblankett!$E$52-64)),\"\")))","v":0},null,null,{"$f":"IF(Avropsblankett!$C$52=$A$4,IF(Avropsblankett!$E$52<65,(AD5+(AD6-AD5)/32*(Avropsblankett!$E$52-32)),IF(Avropsblankett!$E$52<129,(AD6+(AD7-AD6)/64*(Avropsblankett!$E$52-64)),\"\")),\"\")","v":""},null,{"$f":"(Avropsblankett!$F$52-500)/100*IF(Avropsblankett!$C$52=$A$4,IF(Avropsblankett!$E$52<65,(AF5+(AF6-AF5)/32*(Avropsblankett!$E$52-32)),IF(Avropsblankett!$E$52<129,(AF6+(AF7-AF6)/64*(Avropsblankett!$E$52-64)),\"\")))","v":0},null,null,{"$f":"IF(Avropsblankett!$C$52=$A$4,IF(Avropsblankett!$E$52<65,(AI5+(AI6-AI5)/32*(Avropsblankett!$E$52-32)),IF(Avropsblankett!$E$52<129,(AI6+(AI7-AI6)/64*(Avropsblankett!$E$52-64)),\"\")),\"\")","v":""},null,{"$f":"(Avropsblankett!$F$52-500)/100*IF(Avropsblankett!$C$52=$A$4,IF(Avropsblankett!$E$52<65,(AK5+(AK6-AK5)/32*(Avropsblankett!$E$52-32)),IF(Avropsblankett!$E$52<129,(AK6+(AK7-AK6)/64*(Avropsblankett!$E$52-64)),\"\")))","v":0},null,null,{"$f":"IF(Avropsblankett!$C$52=$A$4,IF(Avropsblankett!$E$52<65,(AN5+(AN6-AN5)/32*(Avropsblankett!$E$52-32)),IF(Avropsblankett!$E$52<129,(AN6+(AN7-AN6)/64*(Avropsblankett!$E$52-64)),\"\")),\"\")","v":""},null,{"$f":"(Avropsblankett!$F$52-500)/100*IF(Avropsblankett!$C$52=$A$4,IF(Avropsblankett!$E$52<65,(AP5+(AP6-AP5)/32*(Avropsblankett!$E$52-32)),IF(Avropsblankett!$E$52<129,(AP6+(AP7-AP6)/64*(Avropsblankett!$E$52-64)),\"\")))","v":0},null,null,{"$f":"IF(Avropsblankett!$C$52=$A$4,IF(Avropsblankett!$E$52<65,(AS5+(AS6-AS5)/32*(Avropsblankett!$E$52-32)),IF(Avropsblankett!$E$52<129,(AS6+(AS7-AS6)/64*(Avropsblankett!$E$52-64)),\"\")),\"\")","v":""},null,{"$f":"(Avropsblankett!$F$52-500)/100*IF(Avropsblankett!$C$52=$A$4,IF(Avropsblankett!$E$52<65,(AU5+(AU6-AU5)/32*(Avropsblankett!$E$52-32)),IF(Avropsblankett!$E$52<129,(AU6+(AU7-AU6)/64*(Avropsblankett!$E$52-64)),\"\")))","v":0},null,null,{"$f":"IF(Avropsblankett!$C$52=$A$4,IF(Avropsblankett!$E$52<65,(AX5+(AX6-AX5)/32*(Avropsblankett!$E$52-32)),IF(Avropsblankett!$E$52<129,(AX6+(AX7-AX6)/64*(Avropsblankett!$E$52-64)),\"\")),\"\")","v":""},null,{"$f":"(Avropsblankett!$F$52-500)/100*IF(Avropsblankett!$C$52=$A$4,IF(Avropsblankett!$E$52<65,(AZ5+(AZ6-AZ5)/32*(Avropsblankett!$E$52-32)),IF(Avropsblankett!$E$52<129,(AZ6+(AZ7-AZ6)/64*(Avropsblankett!$E$52-64)),\"\")))","v":0}]
[null,null,null,null,{"$f":"IF(Avropsblankett!$C$64=$A$4,IF(Avropsblankett!$E$64<65,(E5+(E6-E5)/32*(Avropsblankett!$E$64-32)),IF(Avropsblankett!$E$64<129,(E6+(E7-E6)/64*(Avropsblankett!$E$64-64)),\"\")),\"\")","v":""},null,{"$f":"(Avropsblankett!$F$64-500)/100*IF(Avropsblankett!$C$64=$A$4,IF(Avropsblankett!$E$64<65,(G5+(G6-G5)/32*(Avropsblankett!$E$64-32)),IF(Avropsblankett!$E$64<129,(G6+(G7-G6)/64*(Avropsblankett!$E$64-64)),\"\")))","v":0},null,null,{"$f":"IF(Avropsblankett!$C$64=$A$4,IF(Avropsblankett!$E$64<65,(J5+(J6-J5)/32*(Avropsblankett!$E$64-32)),IF(Avropsblankett!$E$64<129,(J6+(J7-J6)/64*(Avropsblankett!$E$64-64)),\"\")),\"\")","v":""},null,{"$f":"(Avropsblankett!$F$64-500)/100*IF(Avropsblankett!$C$64=$A$4,IF(Avropsblankett!$E$64<65,(L5+(L6-L5)/32*(Avropsblankett!$E$64-32)),IF(Avropsblankett!$E$64<129,(L6+(L7-L6)/64*(Avropsblankett!$E$64-64)),\"\")))","v":0},null,null,{"$f":"IF(Avropsblankett!$C$64=$A$4,IF(Avropsblankett!$E$64<65,(O5+(O6-O5)/32*(Avropsblankett!$E$64-32)),IF(Avropsblankett!$E$64<129,(O6+(O7-O6)/64*(Avropsblankett!$E$64-64)),\"\")),\"\")","v":""},null,{"$f":"(Avropsblankett!$F$64-500)/100*IF(Avropsblankett!$C$64=$A$4,IF(Avropsblankett!$E$64<65,(Q5+(Q6-Q5)/32*(Avropsblankett!$E$64-32)),IF(Avropsblankett!$E$64<129,(Q6+(Q7-Q6)/64*(Avropsblankett!$E$64-64)),\"\")))","v":0},null,null,{"$f":"IF(Avropsblankett!$C$64=$A$4,IF(Avropsblankett!$E$64<65,(T5+(T6-T5)/32*(Avropsblankett!$E$64-32)),IF(Avropsblankett!$E$64<129,(T6+(T7-T6)/64*(Avropsblankett!$E$64-64)),\"\")),\"\")","v":""},null,{"$f":"(Avropsblankett!$F$64-500)/100*IF(Avropsblankett!$C$64=$A$4,IF(Avropsblankett!$E$64<65,(V5+(V6-V5)/32*(Avropsblankett!$E$64-32)),IF(Avropsblankett!$E$64<129,(V6+(V7-V6)/64*(Avropsblankett!$E$64-64)),\"\")))","v":0},null,null,{"$f":"IF(Avropsblankett!$C$64=$A$4,IF(Avropsblankett!$E$64<65,(Y5+(Y6-Y5)/32*(Avropsblankett!$E$64-32)),IF(Avropsblankett!$E$64<129,(Y6+(Y7-Y6)/64*(Avropsblankett!$E$64-64)),\"\")),\"\")","v":""},null,{"$f":"(Avropsblankett!$F$64-500)/100*IF(Avropsblankett!$C$64=$A$4,IF(Avropsblankett!$E$64<65,(AA5+(AA6-AA5)/32*(Avropsblankett!$E$64-32)),IF(Avropsblankett!$E$64<129,(AA6+(AA7-AA6)/64*(Avropsblankett!$E$64-64)),\"\")))","v":0},null,null,{"$f":"IF(Avropsblankett!$C$64=$A$4,IF(Avropsblankett!$E$64<65,(AD5+(AD6-AD5)/32*(Avropsblankett!$E$64-32)),IF(Avropsblankett!$E$64<129,(AD6+(AD7-AD6)/64*(Avropsblankett!$E$64-64)),\"\")),\"\")","v":""},null,{"$f":"(Avropsblankett!$F$64-500)/100*IF(Avropsblankett!$C$64=$A$4,IF(Avropsblankett!$E$64<65,(AF5+(AF6-AF5)/32*(Avropsblankett!$E$64-32)),IF(Avropsblankett!$E$64<129,(AF6+(AF7-AF6)/64*(Avropsblankett!$E$64-64)),\"\")))","v":0},null,null,{"$f":"IF(Avropsblankett!$C$64=$A$4,IF(Avropsblankett!$E$64<65,(AI5+(AI6-AI5)/32*(Avropsblankett!$E$64-32)),IF(Avropsblankett!$E$64<129,(AI6+(AI7-AI6)/64*(Avropsblankett!$E$64-64)),\"\")),\"\")","v":""},null,{"$f":"(Avropsblankett!$F$64-500)/100*IF(Avropsblankett!$C$64=$A$4,IF(Avropsblankett!$E$64<65,(AK5+(AK6-AK5)/32*(Avropsblankett!$E$64-32)),IF(Avropsblankett!$E$64<129,(AK6+(AK7-AK6)/64*(Avropsblankett!$E$64-64)),\"\")))","v":0},null,null,{"$f":"IF(Avropsblankett!$C$64=$A$4,IF(Avropsblankett!$E$64<65,(AN5+(AN6-AN5)/32*(Avropsblankett!$E$64-32)),IF(Avropsblankett!$E$64<129,(AN6+(AN7-AN6)/64*(Avropsblankett!$E$64-64)),\"\")),\"\")","v":""},null,{"$f":"(Avropsblankett!$F$64-500)/100*IF(Avropsblankett!$C$64=$A$4,IF(Avropsblankett!$E$64<65,(AP5+(AP6-AP5)/32*(Avropsblankett!$E$64-32)),IF(Avropsblankett!$E$64<129,(AP6+(AP7-AP6)/64*(Avropsblankett!$E$64-64)),\"\")))","v":0},null,null,{"$f":"IF(Avropsblankett!$C$64=$A$4,IF(Avropsblankett!$E$64<65,(AS5+(AS6-AS5)/32*(Avropsblankett!$E$64-32)),IF(Avropsblankett!$E$64<129,(AS6+(AS7-AS6)/64*(Avropsblankett!$E$64-64)),\"\")),\"\")","v":""},null,{"$f":"(Avropsblankett!$F$64-500)/100*IF(Avropsblankett!$C$64=$A$4,IF(Avropsblankett!$E$64<65,(AU5+(AU6-AU5)/32*(Avropsblankett!$E$64-32)),IF(Avropsblankett!$E$64<129,(AU6+(AU7-AU6)/64*(Avropsblankett!$E$64-64)),\"\")))","v":0},null,null,{"$f":"IF(Avropsblankett!$C$64=$A$4,IF(Avropsblankett!$E$64<65,(AX5+(AX6-AX5)/32*(Avropsblankett!$E$64-32)),IF(Avropsblankett!$E$64<129,(AX6+(AX7-AX6)/64*(Avropsblankett!$E$64-64)),\"\")),\"\")","v":""},null,{"$f":"(Avropsblankett!$F$64-500)/100*IF(Avropsblankett!$C$64=$A$4,IF(Avropsblankett!$E$64<65,(AZ5+(AZ6-AZ5)/32*(Avropsblankett!$E$64-32)),IF(Avropsblankett!$E$64<129,(AZ6+(AZ7-AZ6)/64*(Avropsblankett!$E$64-64)),\"\")))","v":0}]
[null,null,null,null,{"$f":"IF(Avropsblankett!$C$76=$A$4,IF(Avropsblankett!$E$76<65,(E5+(E6-E5)/32*(Avropsblankett!$E$76-32)),IF(Avropsblankett!$E$76<129,(E6+(E7-E6)/64*(Avropsblankett!$E$76-64)),\"\")),\"\")","v":""},null,{"$f":"(Avropsblankett!$F$76-500)/100*IF(Avropsblankett!$C$76=$A$4,IF(Avropsblankett!$E$76<65,(G5+(G6-G5)/32*(Avropsblankett!$E$76-32)),IF(Avropsblankett!$E$76<129,(G6+(G7-G6)/64*(Avropsblankett!$E$76-64)),\"\")))","v":0},null,null,{"$f":"IF(Avropsblankett!$C$76=$A$4,IF(Avropsblankett!$E$76<65,(J5+(J6-J5)/32*(Avropsblankett!$E$76-32)),IF(Avropsblankett!$E$76<129,(J6+(J7-J6)/64*(Avropsblankett!$E$76-64)),\"\")),\"\")","v":""},null,{"$f":"(Avropsblankett!$F$76-500)/100*IF(Avropsblankett!$C$76=$A$4,IF(Avropsblankett!$E$76<65,(L5+(L6-L5)/32*(Avropsblankett!$E$76-32)),IF(Avropsblankett!$E$76<129,(L6+(L7-L6)/64*(Avropsblankett!$E$76-64)),\"\")))","v":0},null,null,{"$f":"IF(Avropsblankett!$C$76=$A$4,IF(Avropsblankett!$E$76<65,(O5+(O6-O5)/32*(Avropsblankett!$E$76-32)),IF(Avropsblankett!$E$76<129,(O6+(O7-O6)/64*(Avropsblankett!$E$76-64)),\"\")),\"\")","v":""},null,{"$f":"(Avropsblankett!$F$76-500)/100*IF(Avropsblankett!$C$76=$A$4,IF(Avropsblankett!$E$76<65,(Q5+(Q6-Q5)/32*(Avropsblankett!$E$76-32)),IF(Avropsblankett!$E$76<129,(Q6+(Q7-Q6)/64*(Avropsblankett!$E$76-64)),\"\")))","v":0},null,null,{"$f":"IF(Avropsblankett!$C$76=$A$4,IF(Avropsblankett!$E$76<65,(T5+(T6-T5)/32*(Avropsblankett!$E$76-32)),IF(Avropsblankett!$E$76<129,(T6+(T7-T6)/64*(Avropsblankett!$E$76-64)),\"\")),\"\")","v":""},null,{"$f":"(Avropsblankett!$F$76-500)/100*IF(Avropsblankett!$C$76=$A$4,IF(Avropsblankett!$E$76<65,(V5+(V6-V5)/32*(Avropsblankett!$E$76-32)),IF(Avropsblankett!$E$76<129,(V6+(V7-V6)/64*(Avropsblankett!$E$76-64)),\"\")))","v":0},null,null,{"$f":"IF(Avropsblankett!$C$76=$A$4,IF(Avropsblankett!$E$76<65,(Y5+(Y6-Y5)/32*(Avropsblankett!$E$76-32)),IF(Avropsblankett!$E$76<129,(Y6+(Y7-Y6)/64*(Avropsblankett!$E$76-64)),\"\")),\"\")","v":""},null,{"$f":"(Avropsblankett!$F$76-500)/100*IF(Avropsblankett!$C$76=$A$4,IF(Avropsblankett!$E$76<65,(AA5+(AA6-AA5)/32*(Avropsblankett!$E$76-32)),IF(Avropsblankett!$E$76<129,(AA6+(AA7-AA6)/64*(Avropsblankett!$E$76-64)),\"\")))","v":0},null,null,{"$f":"IF(Avropsblankett!$C$76=$A$4,IF(Avropsblankett!$E$76<65,(AD5+(AD6-AD5)/32*(Avropsblankett!$E$76-32)),IF(Avropsblankett!$E$76<129,(AD6+(AD7-AD6)/64*(Avropsblankett!$E$76-64)),\"\")),\"\")","v":""},null,{"$f":"(Avropsblankett!$F$76-500)/100*IF(Avropsblankett!$C$76=$A$4,IF(Avropsblankett!$E$76<65,(AF5+(AF6-AF5)/32*(Avropsblankett!$E$76-32)),IF(Avropsblankett!$E$76<129,(AF6+(AF7-AF6)/64*(Avropsblankett!$E$76-64)),\"\")))","v":0},null,null,{"$f":"IF(Avropsblankett!$C$76=$A$4,IF(Avropsblankett!$E$76<65,(AI5+(AI6-AI5)/32*(Avropsblankett!$E$76-32)),IF(Avropsblankett!$E$76<129,(AI6+(AI7-AI6)/64*(Avropsblankett!$E$76-64)),\"\")),\"\")","v":""},null,{"$f":"(Avropsblankett!$F$76-500)/100*IF(Avropsblankett!$C$76=$A$4,IF(Avropsblankett!$E$76<65,(AK5+(AK6-AK5)/32*(Avropsblankett!$E$76-32)),IF(Avropsblankett!$E$76<129,(AK6+(AK7-AK6)/64*(Avropsblankett!$E$76-64)),\"\")))","v":0},null,null,{"$f":"IF(Avropsblankett!$C$76=$A$4,IF(Avropsblankett!$E$76<65,(AN5+(AN6-AN5)/32*(Avropsblankett!$E$76-32)),IF(Avropsblankett!$E$76<129,(AN6+(AN7-AN6)/64*(Avropsblankett!$E$76-64)),\"\")),\"\")","v":""},null,{"$f":"(Avropsblankett!$F$76-500)/100*IF(Avropsblankett!$C$76=$A$4,IF(Avropsblankett!$E$76<65,(AP5+(AP6-AP5)/32*(Avropsblankett!$E$76-32)),IF(Avropsblankett!$E$76<129,(AP6+(AP7-AP6)/64*(Avropsblankett!$E$76-64)),\"\")))","v":0},null,null,{"$f":"IF(Avropsblankett!$C$76=$A$4,IF(Avropsblankett!$E$76<65,(AS5+(AS6-AS5)/32*(Avropsblankett!$E$76-32)),IF(Avropsblankett!$E$76<129,(AS6+(AS7-AS6)/64*(Avropsblankett!$E$76-64)),\"\")),\"\")","v":""},null,{"$f":"(Avropsblankett!$F$76-500)/100*IF(Avropsblankett!$C$76=$A$4,IF(Avropsblankett!$E$76<65,(AU5+(AU6-AU5)/32*(Avropsblankett!$E$76-32)),IF(Avropsblankett!$E$76<129,(AU6+(AU7-AU6)/64*(Avropsblankett!$E$76-64)),\"\")))","v":0},null,null,{"$f":"IF(Avropsblankett!$C$76=$A$4,IF(Avropsblankett!$E$76<65,(AX5+(AX6-AX5)/32*(Avropsblankett!$E$76-32)),IF(Avropsblankett!$E$76<129,(AX6+(AX7-AX6)/64*(Avropsblankett!$E$76-64)),\"\")),\"\")","v":""},null,{"$f":"(Avropsblankett!$F$76-500)/100*IF(Avropsblankett!$C$76=$A$4,IF(Avropsblankett!$E$76<65,(AZ5+(AZ6-AZ5)/32*(Avropsblankett!$E$76-32)),IF(Avropsblankett!$E$76<129,(AZ6+(AZ7-AZ6)/64*(Avropsblankett!$E$76-64)),\"\")))","v":0}]
[null,null,null,null,{"$f":"SUM(E12:E16)","v":0},null,{"$f":"SUM(G12:G16)","v":0},null,null,{"$f":"SUM(J12:J16)","v":0},null,{"$f":"SUM(L12:L16)","v":0},null,null,{"$f":"SUM(O12:O16)","v":0},null,{"$f":"SUM(Q12:Q16)","v":0},null,null,{"$f":"SUM(T12:T16)","v":0},null,{"$f":"SUM(V12:V16)","v":0},null,null,{"$f":"SUM(Y12:Y16)","v":0},null,{"$f":"SUM(AA12:AA16)","v":0},null,null,{"$f":"SUM(AD12:AD16)","v":0},null,{"$f":"SUM(AF12:AF16)","v":0},null,null,{"$f":"SUM(AI12:AI16)","v":0},null,{"$f":"SUM(AK12:AK16)","v":0},null,null,{"$f":"SUM(AN12:AN16)","v":0},null,{"$f":"SUM(AP12:AP16)","v":0},null,null,{"$f":"SUM(AS12:AS16)","v":0},null,{"$f":"SUM(AU12:AU16)","v":0},null,null,{"$f":"SUM(AX12:AX16)","v":0},null,{"$f":"SUM(AZ12:AZ16)","v":0}]
["Katalog_2",null,"Beskrivning/omfång inklusive omslag","Upplaga","Ange pris","Följande","Ange pris",null,"Upplaga","Ange pris","Följande","Ange pris",null,"Upplaga","Ange pris","Följande","Ange pris",null,"Upplaga","Ange pris","Följande","Ange pris",null,"Upplaga","Ange pris","Följande","Ange pris",null,"Upplaga","Ange pris","Följande","Ange pris",null,"Upplaga","Ange pris","Följande","Ange pris",null,"Upplaga","Ange pris","Följande","Ange pris",null,"Upplaga","Ange pris","Följande","Ange pris",null,"Upplaga","Ange pris","Följande","Ange pris"]
["Underlag","A: Öppna filer. B: PDF/PDFx.","32 sid + omslag",500,7568,100,1288,null,500,5844,100,1092,null,500,6450,100,490,null,500,6595,100,310,null,500,3700,100,140,null,500,8050,100,457,null,500,3000,100,400,null,500,3730,100,365,null,500,9050,100,615,null,500,9470,100,1675]
["Format","225 x 270 mm ","64 sid + omslag",500,13106,100,2395,null,500,10170,100,1957,null,500,10950,100,900,null,500,11485,100,825,null,500,6650,100,300,null,500,12980,100,816,null,500,6000,100,725,null,500,7132,100,710,null,500,14660,100,1080,null,500,16795,100,3140]
["Papper inlaga","Bestruket 80 g","128 sid + omslag",500,26180,100,5010,null,500,18797,100,3686,null,500,12900,100,1750,null,500,19050,100,1645,null,500,10700,100,500,null,500,21870,100,1737,null,500,12000,100,1450,null,500,11334,100,1125,null,500,23960,100,2050,null,500,29120,100,5625]
["Papper omslag","Bestruket 130 g"]
["Tryck inlaga","4+4"]
["Tryck omslag","4+4"]
["Bokbinderi","Klammerhäftning, men vid omfång (inlaga och omslag) 113 sidor eller fler limbindning."]
[null,null,null,null,{"$f":"IF(Avropsblankett!$C$28=$A$18,IF(Avropsblankett!$E$28<65,(E19+(E20-E19)/32*(Avropsblankett!$E$28-32)),IF(Avropsblankett!$E$28<129,(E20+(E21-E20)/64*(Avropsblankett!$E$28-64)),\"\")),\"\")","v":""},null,{"$f":"(Avropsblankett!$F$28-500)/100*IF(Avropsblankett!$C$28=$A$18,IF(Avropsblankett!$E$28<65,(G19+(G20-G19)/32*(Avropsblankett!$E$28-32)),IF(Avropsblankett!$E$28<129,(G20+(G21-G20)/64*(Avropsblankett!$E$28-64)),\"\")))","v":0},null,null,{"$f":"IF(Avropsblankett!$C$28=$A$18,IF(Avropsblankett!$E$28<65,(J19+(J20-J19)/32*(Avropsblankett!$E$28-32)),IF(Avropsblankett!$E$28<129,(J20+(J21-J20)/64*(Avropsblankett!$E$28-64)),\"\")),\"\")","v":""},null,{"$f":"(Avropsblankett!$F$28-500)/100*IF(Avropsblankett!$C$28=$A$18,IF(Avropsblankett!$E$28<65,(L19+(L20-L19)/32*(Avropsblankett!$E$28-32)),IF(Avropsblankett!$E$28<129,(L20+(L21-L20)/64*(Avropsblankett!$E$28-64)),\"\")))","v":0},null,null,{"$f":"IF(Avropsblankett!$C$28=$A$18,IF(Avropsblankett!$E$28<65,(O19+(O20-O19)/32*(Avropsblankett!$E$28-32)),IF(Avropsblankett!$E$28<129,(O20+(O21-O20)/64*(Avropsblankett!$E$28-64)),\"\")),\"\")","v":""},null,{"$f":"(Avropsblankett!$F$28-500)/100*IF(Avropsblankett!$C$28=$A$18,IF(Avropsblankett!$E$28<65,(Q19+(Q20-Q19)/32*(Avropsblankett!$E$28-32)),IF(Avropsblankett!$E$28<129,(Q20+(Q21-Q20)/64*(Avropsblankett!$E$28-64)),\"\")))","v":0},null,null,{"$f":"IF(Avropsblankett!$C$28=$A$18,IF(Avropsblankett!$E$28<65,(T19+(T20-T19)/32*(Avropsblankett!$E$28-32)),IF(Avropsblankett!$E$28<129,(T20+(T21-T20)/64*(Avropsblankett!$E$28-64)),\"\")),\"\")","v":""},null,{"$f":"(Avropsblankett!$F$28-500)/100*IF(Avropsblankett!$C$28=$A$18,IF(Avropsblankett!$E$28<65,(V19+(V20-V19)/32*(Avropsblankett!$E$28-32)),IF(Avropsblankett!$E$28<129,(V20+(V21-V20)/64*(Avropsblankett!$E$28-64)),\"\")))","v":0},null,null,{"$f":"IF(Avropsblankett!$C$28=$A$18,IF(Avropsblankett!$E$28<65,(Y19+(Y20-Y19)/32*(Avropsblankett!$E$28-32)),IF(Avropsblankett!$E$28<129,(Y20+(Y21-Y20)/64*(Avropsblankett!$E$28-64)),\"\")),\"\")","v":""},null,{"$f":"(Avropsblankett!$F$28-500)/100*IF(Avropsblankett!$C$28=$A$18,IF(Avropsblankett!$E$28<65,(AA19+(AA20-AA19)/32*(Avropsblankett!$E$28-32)),IF(Avropsblankett!$E$28<129,(AA20+(AA21-AA20)/64*(Avropsblankett!$E$28-64)),\"\")))","v":0},null,null,{"$f":"IF(Avropsblankett!$C$28=$A$18,IF(Avropsblankett!$E$28<65,(AD19+(AD20-AD19)/32*(Avropsblankett!$E$28-32)),IF(Avropsblankett!$E$28<129,(AD20+(AD21-AD20)/64*(Avropsblankett!$E$28-64)),\"\")),\"\")","v":""},null,{"$f":"(Avropsblankett!$F$28-500)/100*IF(Avropsblankett!$C$28=$A$18,IF(Avropsblankett!$E$28<65,(AF19+(AF20-AF19)/32*(Avropsblankett!$E$28-32)),IF(Avropsblankett!$E$28<129,(AF20+(AF21-AF20)/64*(Avropsblankett!$E$28-64)),\"\")))","v":0},null,null,{"$f":"IF(Avropsblankett!$C$28=$A$18,IF(Avropsblankett!$E$28<65,(AI19+(AI20-AI19)/32*(Avropsblankett!$E$28-32)),IF(Avropsblankett!$E$28<129,(AI20+(AI21-AI20)/64*(Avropsblankett!$E$28-64)),\"\")),\"\")","v":""},null,{"$f":"(Avropsblankett!$F$28-500)/100*IF(Avropsblankett!$C$28=$A$18,IF(Avropsblankett!$E$28<65,(AK19+(AK20-AK19)/32*(Avropsblankett!$E$28-32)),IF(Avropsblankett!$E$28<129,(AK20+(AK21-AK20)/64*(Avropsblankett!$E$28-64)),\"\")))","v":0},null,null,{"$f":"IF(Avropsblankett!$C$28=$A$18,IF(Avropsblankett!$E$28<65,(AN19+(AN20-AN19)/32*(Avropsblankett!$E$28-32)),IF(Avropsblankett!$E$28<129,(AN20+(AN21-AN20)/64*(Avropsblankett!$E$28-64)),\"\")),\"\")","v":""},null,{"$f":"(Avropsblankett!$F$28-500)/100*IF(Avropsblankett!$C$28=$A$18,IF(Avropsblankett!$E$28<65,(AP19+(AP20-AP19)/32*(Avropsblankett!$E$28-32)),IF(Avropsblankett!$E$28<129,(AP20+(AP21-AP20)/64*(Avropsblankett!$E$28-64)),\"\")))","v":0},null,null,{"$f":"IF(Avropsblankett!$C$28=$A$18,IF(Avropsblankett!$E$28<65,(AS19+(AS20-AS19)/32*(Avropsblankett!$E$28-32)),IF(Avropsblankett!$E$28<129,(AS20+(AS21-AS20)/64*(Avropsblankett!$E$28-64)),\"\")),\"\")","v":""},null,{"$f":"(Avropsblankett!$F$28-500)/100*IF(Avropsblankett!$C$28=$A$18,IF(Avropsblankett!$E$28<65,(AU19+(AU20-AU19)/32*(Avropsblankett!$E$28-32)),IF(Avropsblankett!$E$28<129,(AU20+(AU21-AU20)/64*(Avropsblankett!$E$28-64)),\"\")))","v":0},null,null,{"$f":"IF(Avropsblankett!$C$28=$A$18,IF(Avropsblankett!$E$28<65,(AX19+(AX20-AX19)/32*(Avropsblankett!$E$28-32)),IF(Avropsblankett!$E$28<129,(AX20+(AX21-AX20)/64*(Avropsblankett!$E$28-64)),\"\")),\"\")","v":""},null,{"$f":"(Avropsblankett!$F$28-500)/100*IF(Avropsblankett!$C$28=$A$18,IF(Avropsblankett!$E$28<65,(AZ19+(AZ20-AZ19)/32*(Avropsblankett!$E$28-32)),IF(Avropsblankett!$E$28<129,(AZ20+(AZ21-AZ20)/64*(Avropsblankett!$E$28-64)),\"\")))","v":0}]
[null,null,null,null,{"$f":"IF(Avropsblankett!$C$40=$A$18,IF(Avropsblankett!$E$40<65,(E19+(E20-E19)/32*(Avropsblankett!$E$40-32)),IF(Avropsblankett!$E$40<129,(E20+(E21-E20)/64*(Avropsblankett!$E$40-64)),\"\")),\"\")","v":""},null,{"$f":"(Avropsblankett!$F$40-500)/100*IF(Avropsblankett!$C$40=$A$18,IF(Avropsblankett!$E$40<65,(G19+(G20-G19)/32*(Avropsblankett!$E$40-32)),IF(Avropsblankett!$E$40<129,(G20+(G21-G20)/64*(Avropsblankett!$E$40-64)),\"\")))","v":0},null,null,{"$f":"IF(Avropsblankett!$C$40=$A$18,IF(Avropsblankett!$E$40<65,(J19+(J20-J19)/32*(Avropsblankett!$E$40-32)),IF(Avropsblankett!$E$40<129,(J20+(J21-J20)/64*(Avropsblankett!$E$40-64)),\"\")),\"\")","v":""},null,{"$f":"(Avropsblankett!$F$40-500)/100*IF(Avropsblankett!$C$40=$A$18,IF(Avropsblankett!$E$40<65,(L19+(L20-L19)/32*(Avropsblankett!$E$40-32)),IF(Avropsblankett!$E$40<129,(L20+(L21-L20)/64*(Avropsblankett!$E$40-64)),\"\")))","v":0},null,null,{"$f":"IF(Avropsblankett!$C$40=$A$18,IF(Avropsblankett!$E$40<65,(O19+(O20-O19)/32*(Avropsblankett!$E$40-32)),IF(Avropsblankett!$E$40<129,(O20+(O21-O20)/64*(Avropsblankett!$E$40-64)),\"\")),\"\")","v":""},null,{"$f":"(Avropsblankett!$F$40-500)/100*IF(Avropsblankett!$C$40=$A$18,IF(Avropsblankett!$E$40<65,(Q19+(Q20-Q19)/32*(Avropsblankett!$E$40-32)),IF(Avropsblankett!$E$40<129,(Q20+(Q21-Q20)/64*(Avropsblankett!$E$40-64)),\"\")))","v":0},null,null,{"$f":"IF(Avropsblankett!$C$40=$A$18,IF(Avropsblankett!$E$40<65,(T19+(T20-T19)/32*(Avropsblankett!$E$40-32)),IF(Avropsblankett!$E$40<129,(T20+(T21-T20)/64*(Avropsblankett!$E$40-64)),\"\")),\"\")","v":""},null,{"$f":"(Avropsblankett!$F$40-500)/100*IF(Avropsblankett!$C$40=$A$18,IF(Avropsblankett!$E$40<65,(V19+(V20-V19)/32*(Avropsblankett!$E$40-32)),IF(Avropsblankett!$E$40<129,(V20+(V21-V20)/64*(Avropsblankett!$E$40-64)),\"\")))","v":0},null,null,{"$f":"IF(Avropsblankett!$C$40=$A$18,IF(Avropsblankett!$E$40<65,(Y19+(Y20-Y19)/32*(Avropsblankett!$E$40-32)),IF(Avropsblankett!$E$40<129,(Y20+(Y21-Y20)/64*(Avropsblankett!$E$40-64)),\"\")),\"\")","v":""},null,{"$f":"(Avropsblankett!$F$40-500)/100*IF(Avropsblankett!$C$40=$A$18,IF(Avropsblankett!$E$40<65,(AA19+(AA20-AA19)/32*(Avropsblankett!$E$40-32)),IF(Avropsblankett!$E$40<129,(AA20+(AA21-AA20)/64*(Avropsblankett!$E$40-64)),\"\")))","v":0},null,null,{"$f":"IF(Avropsblankett!$C$40=$A$18,IF(Avropsblankett!$E$40<65,(AD19+(AD20-AD19)/32*(Avropsblankett!$E$40-32)),IF(Avropsblankett!$E$40<129,(AD20+(AD21-AD20)/64*(Avropsblankett!$E$40-64)),\"\")),\"\")","v":""},null,{"$f":"(Avropsblankett!$F$40-500)/100*IF(Avropsblankett!$C$40=$A$18,IF(Avropsblankett!$E$40<65,(AF19+(AF20-AF19)/32*(Avropsblankett!$E$40-32)),IF(Avropsblankett!$E$40<129,(AF20+(AF21-AF20)/64*(Avropsblankett!$E$40-64)),\"\")))","v":0},null,null,{"$f":"IF(Avropsblankett!$C$40=$A$18,IF(Avropsblankett!$E$40<65,(AI19+(AI20-AI19)/32*(Avropsblankett!$E$40-32)),IF(Avropsblankett!$E$40<129,(AI20+(AI21-AI20)/64*(Avropsblankett!$E$40-64)),\"\")),\"\")","v":""},null,{"$f":"(Avropsblankett!$F$40-500)/100*IF(Avropsblankett!$C$40=$A$18,IF(Avropsblankett!$E$40<65,(AK19+(AK20-AK19)/32*(Avropsblankett!$E$40-32)),IF(Avropsblankett!$E$40<129,(AK20+(AK21-AK20)/64*(Avropsblankett!$E$40-64)),\"\")))","v":0},null,null,{"$f":"IF(Avropsblankett!$C$40=$A$18,IF(Avropsblankett!$E$40<65,(AN19+(AN20-AN19)/32*(Avropsblankett!$E$40-32)),IF(Avropsblankett!$E$40<129,(AN20+(AN21-AN20)/64*(Avropsblankett!$E$40-64)),\"\")),\"\")","v":""},null,{"$f":"(Avropsblankett!$F$40-500)/100*IF(Avropsblankett!$C$40=$A$18,IF(Avropsblankett!$E$40<65,(AP19+(AP20-AP19)/32*(Avropsblankett!$E$40-32)),IF(Avropsblankett!$E$40<129,(AP20+(AP21-AP20)/64*(Avropsblankett!$E$40-64)),\"\")))","v":0},null,null,{"$f":"IF(Avropsblankett!$C$40=$A$18,IF(Avropsblankett!$E$40<65,(AS19+(AS20-AS19)/32*(Avropsblankett!$E$40-32)),IF(Avropsblankett!$E$40<129,(AS20+(AS21-AS20)/64*(Avropsblankett!$E$40-64)),\"\")),\"\")","v":""},null,{"$f":"(Avropsblankett!$F$40-500)/100*IF(Avropsblankett!$C$40=$A$18,IF(Avropsblankett!$E$40<65,(AU19+(AU20-AU19)/32*(Avropsblankett!$E$40-32)),IF(Avropsblankett!$E$40<129,(AU20+(AU21-AU20)/64*(Avropsblankett!$E$40-64)),\"\")))","v":0},null,null,{"$f":"IF(Avropsblankett!$C$40=$A$18,IF(Avropsblankett!$E$40<65,(AX19+(AX20-AX19)/32*(Avropsblankett!$E$40-32)),IF(Avropsblankett!$E$40<129,(AX20+(AX21-AX20)/64*(Avropsblankett!$E$40-64)),\"\")),\"\")","v":""},null,{"$f":"(Avropsblankett!$F$40-500)/100*IF(Avropsblankett!$C$40=$A$18,IF(Avropsblankett!$E$40<65,(AZ19+(AZ20-AZ19)/32*(Avropsblankett!$E$40-32)),IF(Avropsblankett!$E$40<129,(AZ20+(AZ21-AZ20)/64*(Avropsblankett!$E$40-64)),\"\")))","v":0}]
[null,null,null,null,{"$f":"IF(Avropsblankett!$C$52=$A$18,IF(Avropsblankett!$E$52<65,(E19+(E20-E19)/32*(Avropsblankett!$E$52-32)),IF(Avropsblankett!$E$52<129,(E20+(E21-E20)/64*(Avropsblankett!$E$52-64)),\"\")),\"\")","v":""},null,{"$f":"(Avropsblankett!$F$52-500)/100*IF(Avropsblankett!$C$52=$A$18,IF(Avropsblankett!$E$52<65,(G19+(G20-G19)/32*(Avropsblankett!$E$52-32)),IF(Avropsblankett!$E$52<129,(G20+(G21-G20)/64*(Avropsblankett!$E$52-64)),\"\")))","v":0},null,null,{"$f":"IF(Avropsblankett!$C$52=$A$18,IF(Avropsblankett!$E$52<65,(J19+(J20-J19)/32*(Avropsblankett!$E$52-32)),IF(Avropsblankett!$E$52<129,(J20+(J21-J20)/64*(Avropsblankett!$E$52-64)),\"\")),\"\")","v":""},null,{"$f":"(Avropsblankett!$F$52-500)/100*IF(Avropsblankett!$C$52=$A$18,IF(Avropsblankett!$E$52<65,(L19+(L20-L19)/32*(Avropsblankett!$E$52-32)),IF(Avropsblankett!$E$52<129,(L20+(L21-L20)/64*(Avropsblankett!$E$52-64)),\"\")))","v":0},null,null,{"$f":"IF(Avropsblankett!$C$52=$A$18,IF(Avropsblankett!$E$52<65,(O19+(O20-O19)/32*(Avropsblankett!$E$52-32)),IF(Avropsblankett!$E$52<129,(O20+(O21-O20)/64*(Avropsblankett!$E$52-64)),\"\")),\"\")","v":""},null,{"$f":"(Avropsblankett!$F$52-500)/100*IF(Avropsblankett!$C$52=$A$18,IF(Avropsblankett!$E$52<65,(Q19+(Q20-Q19)/32*(Avropsblankett!$E$52-32)),IF(Avropsblankett!$E$52<129,(Q20+(Q21-Q20)/64*(Avropsblankett!$E$52-64)),\"\")))","v":0},null,null,{"$f":"IF(Avropsblankett!$C$52=$A$18,IF(Avropsblankett!$E$52<65,(T19+(T20-T19)/32*(Avropsblankett!$E$52-32)),IF(Avropsblankett!$E$52<129,(T20+(T21-T20)/64*(Avropsblankett!$E$52-64)),\"\")),\"\")","v":""},null,{"$f":"(Avropsblankett!$F$52-500)/100*IF(Avropsblankett!$C$52=$A$18,IF(Avropsblankett!$E$52<65,(V19+(V20-V19)/32*(Avropsblankett!$E$52-32)),IF(Avropsblankett!$E$52<129,(V20+(V21-V20)/64*(Avropsblankett!$E$52-64)),\"\")))","v":0},null,null,{"$f":"IF(Avropsblankett!$C$52=$A$18,IF(Avropsblankett!$E$52<65,(Y19+(Y20-Y19)/32*(Avropsblankett!$E$52-32)),IF(Avropsblankett!$E$52<129,(Y20+(Y21-Y20)/64*(Avropsblankett!$E$52-64)),\"\")),\"\")","v":""},null,{"$f":"(Avropsblankett!$F$52-500)/100*IF(Avropsblankett!$C$52=$A$18,IF(Avropsblankett!$E$52<65,(AA19+(AA20-AA19)/32*(Avropsblankett!$E$52-32)),IF(Avropsblankett!$E$52<129,(AA20+(AA21-AA20)/64*(Avropsblankett!$E$52-64)),\"\")))","v":0},null,null,{"$f":"IF(Avropsblankett!$C$52=$A$18,IF(Avropsblankett!$E$52<65,(AD19+(AD20-AD19)/32*(Avropsblankett!$E$52-32)),IF(Avropsblankett!$E$52<129,(AD20+(AD21-AD20)/64*(Avropsblankett!$E$52-64)),\"\")),\"\")","v":""},null,{"$f":"(Avropsblankett!$F$52-500)/100*IF(Avropsblankett!$C$52=$A$18,IF(Avropsblankett!$E$52<65,(AF19+(AF20-AF19)/32*(Avropsblankett!$E$52-32)),IF(Avropsblankett!$E$52<129,(AF20+(AF21-AF20)/64*(Avropsblankett!$E$52-64)),\"\")))","v":0},null,null,{"$f":"IF(Avropsblankett!$C$52=$A$18,IF(Avropsblankett!$E$52<65,(AI19+(AI20-AI19)/32*(Avropsblankett!$E$52-32)),IF(Avropsblankett!$E$52<129,(AI20+(AI21-AI20)/64*(Avropsblankett!$E$52-64)),\"\")),\"\")","v":""},null,{"$f":"(Avropsblankett!$F$52-500)/100*IF(Avropsblankett!$C$52=$A$18,IF(Avropsblankett!$E$52<65,(AK19+(AK20-AK19)/32*(Avropsblankett!$E$52-32)),IF(Avropsblankett!$E$52<129,(AK20+(AK21-AK20)/64*(Avropsblankett!$E$52-64)),\"\")))","v":0},null,null,{"$f":"IF(Avropsblankett!$C$52=$A$18,IF(Avropsblankett!$E$52<65,(AN19+(AN20-AN19)/32*(Avropsblankett!$E$52-32)),IF(Avropsblankett!$E$52<129,(AN20+(AN21-AN20)/64*(Avropsblankett!$E$52-64)),\"\")),\"\")","v":""},null,{"$f":"(Avropsblankett!$F$52-500)/100*IF(Avropsblankett!$C$52=$A$18,IF(Avropsblankett!$E$52<65,(AP19+(AP20-AP19)/32*(Avropsblankett!$E$52-32)),IF(Avropsblankett!$E$52<129,(AP20+(AP21-AP20)/64*(Avropsblankett!$E$52-64)),\"\")))","v":0},null,null,{"$f":"IF(Avropsblankett!$C$52=$A$18,IF(Avropsblankett!$E$52<65,(AS19+(AS20-AS19)/32*(Avropsblankett!$E$52-32)),IF(Avropsblankett!$E$52<129,(AS20+(AS21-AS20)/64*(Avropsblankett!$E$52-64)),\"\")),\"\")","v":""},null,{"$f":"(Avropsblankett!$F$52-500)/100*IF(Avropsblankett!$C$52=$A$18,IF(Avropsblankett!$E$52<65,(AU19+(AU20-AU19)/32*(Avropsblankett!$E$52-32)),IF(Avropsblankett!$E$52<129,(AU20+(AU21-AU20)/64*(Avropsblankett!$E$52-64)),\"\")))","v":0},null,null,{"$f":"IF(Avropsblankett!$C$52=$A$18,IF(Avropsblankett!$E$52<65,(AX19+(AX20-AX19)/32*(Avropsblankett!$E$52-32)),IF(Avropsblankett!$E$52<129,(AX20+(AX21-AX20)/64*(Avropsblankett!$E$52-64)),\"\")),\"\")","v":""},null,{"$f":"(Avropsblankett!$F$52-500)/100*IF(Avropsblankett!$C$52=$A$18,IF(Avropsblankett!$E$52<65,(AZ19+(AZ20-AZ19)/32*(Avropsblankett!$E$52-32)),IF(Avropsblankett!$E$52<129,(AZ20+(AZ21-AZ20)/64*(Avropsblankett!$E$52-64)),\"\")))","v":0}]
[null,null,null,null,{"$f":"IF(Avropsblankett!$C$64=$A$18,IF(Avropsblankett!$E$64<65,(E19+(E20-E19)/32*(Avropsblankett!$E$64-32)),IF(Avropsblankett!$E$64<129,(E20+(E21-E20)/64*(Avropsblankett!$E$64-64)),\"\")),\"\")","v":""},null,{"$f":"(Avropsblankett!$F$64-500)/100*IF(Avropsblankett!$C$64=$A$18,IF(Avropsblankett!$E$64<65,(G19+(G20-G19)/32*(Avropsblankett!$E$64-32)),IF(Avropsblankett!$E$64<129,(G20+(G21-G20)/64*(Avropsblankett!$E$64-64)),\"\")))","v":0},null,null,{"$f":"IF(Avropsblankett!$C$64=$A$18,IF(Avropsblankett!$E$64<65,(J19+(J20-J19)/32*(Avropsblankett!$E$64-32)),IF(Avropsblankett!$E$64<129,(J20+(J21-J20)/64*(Avropsblankett!$E$64-64)),\"\")),\"\")","v":""},null,{"$f":"(Avropsblankett!$F$64-500)/100*IF(Avropsblankett!$C$64=$A$18,IF(Avropsblankett!$E$64<65,(L19+(L20-L19)/32*(Avropsblankett!$E$64-32)),IF(Avropsblankett!$E$64<129,(L20+(L21-L20)/64*(Avropsblankett!$E$64-64)),\"\")))","v":0},null,null,{"$f":"IF(Avropsblankett!$C$64=$A$18,IF(Avropsblankett!$E$64<65,(O19+(O20-O19)/32*(Avropsblankett!$E$64-32)),IF(Avropsblankett!$E$64<129,(O20+(O21-O20)/64*(Avropsblankett!$E$64-64)),\"\")),\"\")","v":""},null,{"$f":"(Avropsblankett!$F$64-500)/100*IF(Avropsblankett!$C$64=$A$18,IF(Avropsblankett!$E$64<65,(Q19+(Q20-Q19)/32*(Avropsblankett!$E$64-32)),IF(Avropsblankett!$E$64<129,(Q20+(Q21-Q20)/64*(Avropsblankett!$E$64-64)),\"\")))","v":0},null,null,{"$f":"IF(Avropsblankett!$C$64=$A$18,IF(Avropsblankett!$E$64<65,(T19+(T20-T19)/32*(Avropsblankett!$E$64-32)),IF(Avropsblankett!$E$64<129,(T20+(T21-T20)/64*(Avropsblankett!$E$64-64)),\"\")),\"\")","v":""},null,{"$f":"(Avropsblankett!$F$64-500)/100*IF(Avropsblankett!$C$64=$A$18,IF(Avropsblankett!$E$64<65,(V19+(V20-V19)/32*(Avropsblankett!$E$64-32)),IF(Avropsblankett!$E$64<129,(V20+(V21-V20)/64*(Avropsblankett!$E$64-64)),\"\")))","v":0},null,null,{"$f":"IF(Avropsblankett!$C$64=$A$18,IF(Avropsblankett!$E$64<65,(Y19+(Y20-Y19)/32*(Avropsblankett!$E$64-32)),IF(Avropsblankett!$E$64<129,(Y20+(Y21-Y20)/64*(Avropsblankett!$E$64-64)),\"\")),\"\")","v":""},null,{"$f":"(Avropsblankett!$F$64-500)/100*IF(Avropsblankett!$C$64=$A$18,IF(Avropsblankett!$E$64<65,(AA19+(AA20-AA19)/32*(Avropsblankett!$E$64-32)),IF(Avropsblankett!$E$64<129,(AA20+(AA21-AA20)/64*(Avropsblankett!$E$64-64)),\"\")))","v":0},null,null,{"$f":"IF(Avropsblankett!$C$64=$A$18,IF(Avropsblankett!$E$64<65,(AD19+(AD20-AD19)/32*(Avropsblankett!$E$64-32)),IF(Avropsblankett!$E$64<129,(AD20+(AD21-AD20)/64*(Avropsblankett!$E$64-64)),\"\")),\"\")","v":""},null,{"$f":"(Avropsblankett!$F$64-500)/100*IF(Avropsblankett!$C$64=$A$18,IF(Avropsblankett!$E$64<65,(AF19+(AF20-AF19)/32*(Avropsblankett!$E$64-32)),IF(Avropsblankett!$E$64<129,(AF20+(AF21-AF20)/64*(Avropsblankett!$E$64-64)),\"\")))","v":0},null,null,{"$f":"IF(Avropsblankett!$C$64=$A$18,IF(Avropsblankett!$E$64<65,(AI19+(AI20-AI19)/32*(Avropsblankett!$E$64-32)),IF(Avropsblankett!$E$64<129,(AI20+(AI21-AI20)/64*(Avropsblankett!$E$64-64)),\"\")),\"\")","v":""},null,{"$f":"(Avropsblankett!$F$64-500)/100*IF(Avropsblankett!$C$64=$A$18,IF(Avropsblankett!$E$64<65,(AK19+(AK20-AK19)/32*(Avropsblankett!$E$64-32)),IF(Avropsblankett!$E$64<129,(AK20+(AK21-AK20)/64*(Avropsblankett!$E$64-64)),\"\")))","v":0},null,null,{"$f":"IF(Avropsblankett!$C$64=$A$18,IF(Avropsblankett!$E$64<65,(AN19+(AN20-AN19)/32*(Avropsblankett!$E$64-32)),IF(Avropsblankett!$E$64<129,(AN20+(AN21-AN20)/64*(Avropsblankett!$E$64-64)),\"\")),\"\")","v":""},null,{"$f":"(Avropsblankett!$F$64-500)/100*IF(Avropsblankett!$C$64=$A$18,IF(Avropsblankett!$E$64<65,(AP19+(AP20-AP19)/32*(Avropsblankett!$E$64-32)),IF(Avropsblankett!$E$64<129,(AP20+(AP21-AP20)/64*(Avropsblankett!$E$64-64)),\"\")))","v":0},null,null,{"$f":"IF(Avropsblankett!$C$64=$A$18,IF(Avropsblankett!$E$64<65,(AS19+(AS20-AS19)/32*(Avropsblankett!$E$64-32)),IF(Avropsblankett!$E$64<129,(AS20+(AS21-AS20)/64*(Avropsblankett!$E$64-64)),\"\")),\"\")","v":""},null,{"$f":"(Avropsblankett!$F$64-500)/100*IF(Avropsblankett!$C$64=$A$18,IF(Avropsblankett!$E$64<65,(AU19+(AU20-AU19)/32*(Avropsblankett!$E$64-32)),IF(Avropsblankett!$E$64<129,(AU20+(AU21-AU20)/64*(Avropsblankett!$E$64-64)),\"\")))","v":0},null,null,{"$f":"IF(Avropsblankett!$C$64=$A$18,IF(Avropsblankett!$E$64<65,(AX19+(AX20-AX19)/32*(Avropsblankett!$E$64-32)),IF(Avropsblankett!$E$64<129,(AX20+(AX21-AX20)/64*(Avropsblankett!$E$64-64)),\"\")),\"\")","v":""},null,{"$f":"(Avropsblankett!$F$64-500)/100*IF(Avropsblankett!$C$64=$A$18,IF(Avropsblankett!$E$64<65,(AZ19+(AZ20-AZ19)/32*(Avropsblankett!$E$64-32)),IF(Avropsblankett!$E$64<129,(AZ20+(AZ21-AZ20)/64*(Avropsblankett!$E$64-64)),\"\")))","v":0}]
[null,null,null,null,{"$f":"IF(Avropsblankett!$C$76=$A$18,IF(Avropsblankett!$E$76<65,(E19+(E20-E19)/32*(Avropsblankett!$E$76-32)),IF(Avropsblankett!$E$76<129,(E20+(E21-E20)/64*(Avropsblankett!$E$76-64)),\"\")),\"\")","v":""},null,{"$f":"(Avropsblankett!$F$76-500)/100*IF(Avropsblankett!$C$76=$A$18,IF(Avropsblankett!$E$76<65,(G19+(G20-G19)/32*(Avropsblankett!$E$76-32)),IF(Avropsblankett!$E$76<129,(G20+(G21-G20)/64*(Avropsblankett!$E$76-64)),\"\")))","v":0},null,null,{"$f":"IF(Avropsblankett!$C$76=$A$18,IF(Avropsblankett!$E$76<65,(J19+(J20-J19)/32*(Avropsblankett!$E$76-32)),IF(Avropsblankett!$E$76<129,(J20+(J21-J20)/64*(Avropsblankett!$E$76-64)),\"\")),\"\")","v":""},null,{"$f":"(Avropsblankett!$F$76-500)/100*IF(Avropsblankett!$C$76=$A$18,IF(Avropsblankett!$E$76<65,(L19+(L20-L19)/32*(Avropsblankett!$E$76-32)),IF(Avropsblankett!$E$76<129,(L20+(L21-L20)/64*(Avropsblankett!$E$76-64)),\"\")))","v":0},null,null,{"$f":"IF(Avropsblankett!$C$76=$A$18,IF(Avropsblankett!$E$76<65,(O19+(O20-O19)/32*(Avropsblankett!$E$76-32)),IF(Avropsblankett!$E$76<129,(O20+(O21-O20)/64*(Avropsblankett!$E$76-64)),\"\")),\"\")","v":""},null,{"$f":"(Avropsblankett!$F$76-500)/100*IF(Avropsblankett!$C$76=$A$18,IF(Avropsblankett!$E$76<65,(Q19+(Q20-Q19)/32*(Avropsblankett!$E$76-32)),IF(Avropsblankett!$E$76<129,(Q20+(Q21-Q20)/64*(Avropsblankett!$E$76-64)),\"\")))","v":0},null,null,{"$f":"IF(Avropsblankett!$C$76=$A$18,IF(Avropsblankett!$E$76<65,(T19+(T20-T19)/32*(Avropsblankett!$E$76-32)),IF(Avropsblankett!$E$76<129,(T20+(T21-T20)/64*(Avropsblankett!$E$76-64)),\"\")),\"\")","v":""},null,{"$f":"(Avropsblankett!$F$76-500)/100*IF(Avropsblankett!$C$76=$A$18,IF(Avropsblankett!$E$76<65,(V19+(V20-V19)/32*(Avropsblankett!$E$76-32)),IF(Avropsblankett!$E$76<129,(V20+(V21-V20)/64*(Avropsblankett!$E$76-64)),\"\")))","v":0},null,null,{"$f":"IF(Avropsblankett!$C$76=$A$18,IF(Avropsblankett!$E$76<65,(Y19+(Y20-Y19)/32*(Avropsblankett!$E$76-32)),IF(Avropsblankett!$E$76<129,(Y20+(Y21-Y20)/64*(Avropsblankett!$E$76-64)),\"\")),\"\")","v":""},null,{"$f":"(Avropsblankett!$F$76-500)/100*IF(Avropsblankett!$C$76=$A$18,IF(Avropsblankett!$E$76<65,(AA19+(AA20-AA19)/32*(Avropsblankett!$E$76-32)),IF(Avropsblankett!$E$76<129,(AA20+(AA21-AA20)/64*(Avropsblankett!$E$76-64)),\"\")))","v":0},null,null,{"$f":"IF(Avropsblankett!$C$76=$A$18,IF(Avropsblankett!$E$76<65,(AD19+(AD20-AD19)/32*(Avropsblankett!$E$76-32)),IF(Avropsblankett!$E$76<129,(AD20+(AD21-AD20)/64*(Avropsblankett!$E$76-64)),\"\")),\"\")","v":""},null,{"$f":"(Avropsblankett!$F$76-500)/100*IF(Avropsblankett!$C$76=$A$18,IF(Avropsblankett!$E$76<65,(AF19+(AF20-AF19)/32*(Avropsblankett!$E$76-32)),IF(Avropsblankett!$E$76<129,(AF20+(AF21-AF20)/64*(Avropsblankett!$E$76-64)),\"\")))","v":0},null,null,{"$f":"IF(Avropsblankett!$C$76=$A$18,IF(Avropsblankett!$E$76<65,(AI19+(AI20-AI19)/32*(Avropsblankett!$E$76-32)),IF(Avropsblankett!$E$76<129,(AI20+(AI21-AI20)/64*(Avropsblankett!$E$76-64)),\"\")),\"\")","v":""},null,{"$f":"(Avropsblankett!$F$76-500)/100*IF(Avropsblankett!$C$76=$A$18,IF(Avropsblankett!$E$76<65,(AK19+(AK20-AK19)/32*(Avropsblankett!$E$76-32)),IF(Avropsblankett!$E$76<129,(AK20+(AK21-AK20)/64*(Avropsblankett!$E$76-64)),\"\")))","v":0},null,null,{"$f":"IF(Avropsblankett!$C$76=$A$18,IF(Avropsblankett!$E$76<65,(AN19+(AN20-AN19)/32*(Avropsblankett!$E$76-32)),IF(Avropsblankett!$E$76<129,(AN20+(AN21-AN20)/64*(Avropsblankett!$E$76-64)),\"\")),\"\")","v":""},null,{"$f":"(Avropsblankett!$F$76-500)/100*IF(Avropsblankett!$C$76=$A$18,IF(Avropsblankett!$E$76<65,(AP19+(AP20-AP19)/32*(Avropsblankett!$E$76-32)),IF(Avropsblankett!$E$76<129,(AP20+(AP21-AP20)/64*(Avropsblankett!$E$76-64)),\"\")))","v":0},null,null,{"$f":"IF(Avropsblankett!$C$76=$A$18,IF(Avropsblankett!$E$76<65,(AS19+(AS20-AS19)/32*(Avropsblankett!$E$76-32)),IF(Avropsblankett!$E$76<129,(AS20+(AS21-AS20)/64*(Avropsblankett!$E$76-64)),\"\")),\"\")","v":""},null,{"$f":"(Avropsblankett!$F$76-500)/100*IF(Avropsblankett!$C$76=$A$18,IF(Avropsblankett!$E$76<65,(AU19+(AU20-AU19)/32*(Avropsblankett!$E$76-32)),IF(Avropsblankett!$E$76<129,(AU20+(AU21-AU20)/64*(Avropsblankett!$E$76-64)),\"\")))","v":0},null,null,{"$f":"IF(Avropsblankett!$C$76=$A$18,IF(Avropsblankett!$E$76<65,(AX19+(AX20-AX19)/32*(Avropsblankett!$E$76-32)),IF(Avropsblankett!$E$76<129,(AX20+(AX21-AX20)/64*(Avropsblankett!$E$76-64)),\"\")),\"\")","v":""},null,{"$f":"(Avropsblankett!$F$76-500)/100*IF(Avropsblankett!$C$76=$A$18,IF(Avropsblankett!$E$76<65,(AZ19+(AZ20-AZ19)/32*(Avropsblankett!$E$76-32)),IF(Avropsblankett!$E$76<129,(AZ20+(AZ21-AZ20)/64*(Avropsblankett!$E$76-64)),\"\")))","v":0}]
[null,null,null,null,{"$f":"SUM(E26:E30)","v":0},null,{"$f":"SUM(G26:G30)","v":0},null,null,{"$f":"SUM(J26:J30)","v":0},null,{"$f":"SUM(L26:L30)","v":0},null,null,{"$f":"SUM(O26:O30)","v":0},null,{"$f":"SUM(Q26:Q30)","v":0},null,null,{"$f":"SUM(T26:T30)","v":0},null,{"$f":"SUM(V26:V30)","v":0},null,null,{"$f":"SUM(Y26:Y30)","v":0},null,{"$f":"SUM(AA26:AA30)","v":0},null,null,{"$f":"SUM(AD26:AD30)","v":0},null,{"$f":"SUM(AF26:AF30)","v":0},null,null,{"$f":"SUM(AI26:AI30)","v":0},null,{"$f":"SUM(AK26:AK30)","v":0},null,null,{"$f":"SUM(AN26:AN30)","v":0},null,{"$f":"SUM(AP26:AP30)","v":0},null,null,{"$f":"SUM(AS26:AS30)","v":0},null,{"$f":"SUM(AU26:AU30)","v":0},null,null,{"$f":"SUM(AX26:AX30)","v":0},null,{"$f":"SUM(AZ26:AZ30)","v":0}]
[null,null,null,"Summa",{"$f":"SUM(E17,E31)","v":0},null,{"$f":"SUM(G17,G31)","v":0},null,"Summa",{"$f":"SUM(J17,J31)","v":0},null,{"$f":"SUM(L17,L31)","v":0},null,"Summa",{"$f":"SUM(O17,O31)","v":0},null,{"$f":"SUM(Q17,Q31)","v":0},null,"Summa",{"$f":"SUM(T17,T31)","v":0},null,{"$f":"SUM(V17,V31)","v":0},null,"Summa",{"$f":"SUM(Y17,Y31)","v":0},null,{"$f":"SUM(AA17,AA31)","v":0},null,"Summa",{"$f":"SUM(AD17,AD31)","v":0},null,{"$f":"SUM(AF17,AF31)","v":0},null,"Summa",{"$f":"SUM(AI17,AI31)","v":0},null,{"$f":"SUM(AK17,AK31)","v":0},null,"Summa",{"$f":"SUM(AN17,AN31)","v":0},null,{"$f":"SUM(AP17,AP31)","v":0},null,"Summa",{"$f":"SUM(AS17,AS31)","v":0},null,{"$f":"SUM(AU17,AU31)","v":0},null,"Summa",{"$f":"SUM(AX17,AX31)","v":0},null,{"$f":"SUM(AZ17,AZ31)","v":0}]
[null,null,null,"Totalsumma",{"$f":"SUM(E32,G32)","v":0},null,null,null,"Totalsumma",{"$f":"SUM(J32,L32)","v":0},null,null,null,"Totalsumma",{"$f":"SUM(O32,Q32)","v":0},null,null,null,"Totalsumma",{"$f":"SUM(T32,V32)","v":0},null,null,null,"Totalsumma",{"$f":"SUM(Y32,AA32)","v":0},null,null,null,"Totalsumma",{"$f":"SUM(AD32,AF32)","v":0},null,null,null,"Totalsumma",{"$f":"SUM(AI32,AK32)","v":0},null,null,null,"Totalsumma",{"$f":"SUM(AN32,AP32)","v":0},null,null,null,"Totalsumma",{"$f":"SUM(AS32,AU32)","v":0},null,null,null,"Totalsumma",{"$f":"SUM(AX32,AZ32)","v":0}]
[]
[]
[]
[]
[null,"Papper omslag             Format"]
[null,"Mattbestruket 130 g     A4"]
[null,"Mattbestruket 100 g    225 x 270 mm "]

{"sheet":"Kuvert","index":7,"n_rows":96,"n_cols":42,"rows_kept":96,"cut":false,"hidden":false,"merged":[[0,11,0,13],[0,15,0,17],[0,19,0,21],[0,23,0,25],[0,27,0,29],[37,19,37,20],[37,23,37,24],[1,11,2,13],[3,11,3,13],[1,27,2,29],[3,27,3,29],[15,19,15,20],[15,23,15,24],[15,27,15,28],[0,31,0,33],[0,35,0,37],[0,39,0,41],[26,35,26,36],[26,39,26,40],[1,31,2,33],[1,35,2,37],[1,39,2,41],[3,31,3,33],[3,35,3,37],[3,39,3,41],[15,39,15,40],[82,3,82,5],[48,7,48,8],[59,7,59,8],[82,7,82,9],[37,7,37,8],[82,15,82,17],[82,19,82,21],[82,23,82,25],[70,3,70,4],[70,7,70,8],[48,15,48,16],[48,19,48,20],[48,23,48,24],[59,19,59,20],[59,23,59,24],[48,3,48,4],[59,3,59,4],[0,0,0,2],[1,1,1,2],[3,0,3,2],[0,7,0,9],[1,3,2,5],[0,3,0,5],[3,3,3,5],[1,7,2,9],[3,7,3,9],[2,1,2,2],[4,3,4,4],[15,3,15,4],[26,3,26,4],[37,3,37,4],[1,15,2,17],[1,19,2,21],[1,23,2,25],[3,15,3,17],[3,19,3,21],[3,23,3,25],[26,15,26,16],[26,19,26,20],[26,23,26,24],[37,15,37,16],[15,15,15,16],[26,7,26,8],[4,7,4,8],[15,7,15,8],[37,35,37,36],[37,39,37,40],[48,35,48,36],[48,39,48,40],[4,11,4,12],[4,15,4,16],[4,19,4,20],[4,23,4,24],[4,27,4,28],[4,31,4,32],[4,35,4,36],[4,39,4,40],[26,11,26,12],[37,11,37,12],[48,11,48,12],[15,11,15,12],[26,27,26,28],[26,31,26,32],[37,27,37,28],[37,31,37,32],[48,27,48,28],[48,31,48,32],[15,31,15,32],[15,35,15,36],[82,35,82,37],[82,39,82,41],[59,11,59,12],[59,15,59,16],[70,11,70,12],[70,15,70,16],[70,19,70,20],[70,23,70,24],[70,27,70,28],[70,31,70,32],[70,35,70,36],[70,39,70,40],[59,35,59,36],[59,39,59,40],[82,11,82,13],[59,27,59,28],[59,31,59,32],[82,27,82,29],[82,31,82,33]]}
["Kuvert",null,null,{"$f":"Uträkningsblad!C4","v":"Bröderna Hansson H-tryck Aktiebolag"},null,null,null,{"$f":"Uträkningsblad!D4","v":"Elanders Sverige AB"},null,null,null,{"$f":"Uträkningsblad!E4","v":"Exakta Print AB"},null,null,null,{"$f":"Uträkningsblad!F4","v":"Kalmar Kuvert Sweden AB"},null,null,null,{"$f":"Uträkningsblad!G4","v":"Ljungbergs Tryckeri i Klippan AB"},null,null,null,{"$f":"Uträkningsblad!H4","v":"Scandinavian Print Group Sweden AB"},null,null,null,{"$f":"Uträkningsblad!I4","v":"Stema Specialtryck AB"},null,null,null,{"$f":"Uträkningsblad!J4","v":"Stibo Complete A/S"},null,null,null,{"$f":"Uträkningsblad!K4","v":"Åtta.45 Tryckeri AB"},null,null,null,{"$f":"Uträkningsblad!L4","v":"Leverantör 10"}]
["Underlag:","A: Öppna filer. B: PDF/PDFx. "]
["Binderi:","Tryckning på standardkuvert, ej utfallande tryck, levereras i kartong"]
[null,null,null,"Priser lämnas i gulmarkerade fält nedan",null,null,null,"Priser lämnas i gulmarkerade fält nedan",null,null,null,"Priser lämnas i gulmarkerade fält nedan",null,null,null,"Priser lämnas i gulmarkerade fält nedan",null,null,null,"Priser lämnas i gulmarkerade fält nedan",null,null,null,"Priser lämnas i gulmarkerade fält nedan",null,null,null,"Priser lämnas i gulmarkerade fält nedan",null,null,null,"Priser lämnas i gulmarkerade fält nedan",null,null,null,"Priser lämnas i gulmarkerade fält nedan",null,null,null,"Priser lämnas i gulmarkerade fält nedan"]
["Kuvert_Variant_1",null,"Variant 1","Upplaga",null,"Följande",null,"Upplaga",null,"Följande",null,"Upplaga",null,"Följande",null,"Upplaga",null,"Följande",null,"Upplaga",null,"Följande",null,"Upplaga",null,"Följande",null,"Upplaga",null,"Följande",null,"Upplaga",null,"Följande",null,"Upplaga",null,"Följande",null,"Upplaga",null,"Följande"]
["Kuvert","Kuvert vitt utan fönster, självhäftande klaff med täckremsa. Klaffen ska vara tryckbar. 90g",null,500,1000,100,null,500,1000,100,null,500,1000,100,null,500,1000,100,null,500,1000,100,null,500,1000,100,null,500,1000,100,null,500,1000,100,null,500,1000,100,null,500,1000,100]
["Storlek","C4","Tryck ´4+4",1500,2250,150,null,2858,3186,319,null,3150,3400,72,null,1200,1400,130,null,1032,1400,24,null,1987,2208,182,null,1400,1800,200,null,1290,1943,132,null,2000,3000,170,null,2404,2643,24]
[null,null,"Tryck ´4+0",1150,1300,150,null,1593,1921,192,null,1350,1620,36,null,900,1200,110,null,617,979,26,null,1987,2208,180,null,1000,1350,150,null,772,1224,92,null,1625,2500,150,null,1343,2156,26]
[null,null,"Tryck ´1+0",450,635,150,null,669,998,100,null,620,820,18,null,500,680,65,null,329,578,26,null,727,984,99,null,800,1100,125,null,412,723,63,null,1000,1450,130,null,698,957,26]
[null,null,null,{"$f":"IF(Avropsblankett!$C$28=$A$5,IF(Avropsblankett!$C$32=$B$7,IF(Avropsblankett!$D$28=$C$7,IF(Avropsblankett!$F$28<1000,D7,E7),IF(Avropsblankett!$D$28=$C$8,IF(Avropsblankett!$F$28<1000,D8,E8),IF(Avropsblankett!$D$28=$C$9,IF(Avropsblankett!$F$28<1000,D9,E9),))),\"\"),\"\")","v":""},null,{"$f":"IF(Avropsblankett!$C$28=$A$5,IF(Avropsblankett!$C$32=$B$7,IF(Avropsblankett!$D$28=$C$7,IF(Avropsblankett!$F$28<1000,((Avropsblankett!$F$28-500)*F7/100),((Avropsblankett!$F$28-1000)*F7/100)),IF(Avropsblankett!$D$28=$C$8,IF(Avropsblankett!$F$28<1000,((Avropsblankett!$F$28-500)*F8/100),((Avropsblankett!$F$28-1000)*F8/100)),IF(Avropsblankett!$D$28=$C$9,IF(Avropsblankett!$F$28<1000,((Avropsblankett!$F$28-500)*F9/100),((Avropsblankett!$F$28-1000)*F9/100)),))),\"\"),\"\")","v":""},null,{"$f":"IF(Avropsblankett!$C$28=$A$5,IF(Avropsblankett!$C$32=$B$7,IF(Avropsblankett!$D$28=$C$7,IF(Avropsblankett!$F$28<1000,H7,I7),IF(Avropsblankett!$D$28=$C$8,IF(Avropsblankett!$F$28<1000,H8,I8),IF(Avropsblankett!$D$28=$C$9,IF(Avropsblankett!$F$28<1000,H9,I9),))),\"\"),\"\")","v":""},null,{"$f":"IF(Avropsblankett!$C$28=$A$5,IF(Avropsblankett!$C$32=$B$7,IF(Avropsblankett!$D$28=$C$7,IF(Avropsblankett!$F$28<1000,((Avropsblankett!$F$28-500)*J7/100),((Avropsblankett!$F$28-1000)*J7/100)),IF(Avropsblankett!$D$28=$C$8,IF(Avropsblankett!$F$28<1000,((Avropsblankett!$F$28-500)*J8/100),((Avropsblankett!$F$28-1000)*J8/100)),IF(Avropsblankett!$D$28=$C$9,IF(Avropsblankett!$F$28<1000,((Avropsblankett!$F$28-500)*J9/100),((Avropsblankett!$F$28-1000)*J9/100)),))),\"\"),\"\")","v":""},null,{"$f":"IF(Avropsblankett!$C$28=$A$5,IF(Avropsblankett!$C$32=$B$7,IF(Avropsblankett!$D$28=$C$7,IF(Avropsblankett!$F$28<1000,L7,M7),IF(Avropsblankett!$D$28=$C$8,IF(Avropsblankett!$F$28<1000,L8,M8),IF(Avropsblankett!$D$28=$C$9,IF(Avropsblankett!$F$28<1000,L9,M9),))),\"\"),\"\")","v":""},null,{"$f":"IF(Avropsblankett!$C$28=$A$5,IF(Avropsblankett!$C$32=$B$7,IF(Avropsblankett!$D$28=$C$7,IF(Avropsblankett!$F$28<1000,((Avropsblankett!$F$28-500)*N7/100),((Avropsblankett!$F$28-1000)*N7/100)),IF(Avropsblankett!$D$28=$C$8,IF(Avropsblankett!$F$28<1000,((Avropsblankett!$F$28-500)*N8/100),((Avropsblankett!$F$28-1000)*N8/100)),IF(Avropsblankett!$D$28=$C$9,IF(Avropsblankett!$F$28<1000,((Avropsblankett!$F$28-500)*N9/100),((Avropsblankett!$F$28-1000)*N9/100)),))),\"\"),\"\")","v":""},null,{"$f":"IF(Avropsblankett!$C$28=$A$5,IF(Avropsblankett!$C$32=$B$7,IF(Avropsblankett!$D$28=$C$7,IF(Avropsblankett!$F$28<1000,P7,Q7),IF(Avropsblankett!$D$28=$C$8,IF(Avropsblankett!$F$28<1000,P8,Q8),IF(Avropsblankett!$D$28=$C$9,IF(Avropsblankett!$F$28<1000,P9,Q9),))),\"\"),\"\")","v":""},null,{"$f":"IF(Avropsblankett!$C$28=$A$5,IF(Avropsblankett!$C$32=$B$7,IF(Avropsblankett!$D$28=$C$7,IF(Avropsblankett!$F$28<1000,((Avropsblankett!$F$28-500)*R7/100),((Avropsblankett!$F$28-1000)*R7/100)),IF(Avropsblankett!$D$28=$C$8,IF(Avropsblankett!$F$28<1000,((Avropsblankett!$F$28-500)*R8/100),((Avropsblankett!$F$28-1000)*R8/100)),IF(Avropsblankett!$D$28=$C$9,IF(Avropsblankett!$F$28<1000,((Avropsblankett!$F$28-500)*R9/100),((Avropsblankett!$F$28-1000)*R9/100)),))),\"\"),\"\")","v":""},null,{"$f":"IF(Avropsblankett!$C$28=$A$5,IF(Avropsblankett!$C$32=$B$7,IF(Avropsblankett!$D$28=$C$7,IF(Avropsblankett!$F$28<1000,T7,U7),IF(Avropsblankett!$D$28=$C$8,IF(Avropsblankett!$F$28<1000,T8,U8),IF(Avropsblankett!$D$28=$C$9,IF(Avropsblankett!$F$28<1000,T9,U9),))),\"\"),\"\")","v":""},null,{"$f":"IF(Avropsblankett!$C$28=$A$5,IF(Avropsblankett!$C$32=$B$7,IF(Avropsblankett!$D$28=$C$7,IF(Avropsblankett!$F$28<1000,((Avropsblankett!$F$28-500)*V7/100),((Avropsblankett!$F$28-1000)*V7/100)),IF(Avropsblankett!$D$28=$C$8,IF(Avropsblankett!$F$28<1000,((Avropsblankett!$F$28-500)*V8/100),((Avropsblankett!$F$28-1000)*V8/100)),IF(Avropsblankett!$D$28=$C$9,IF(Avropsblankett!$F$28<1000,((Avropsblankett!$F$28-500)*V9/100),((Avropsblankett!$F$28-1000)*V9/100)),))),\"\"),\"\")","v":""},null,{"$f":"IF(Avropsblankett!$C$28=$A$5,IF(Avropsblankett!$C$32=$B$7,IF(Avropsblankett!$D$28=$C$7,IF(Avropsblankett!$F$28<1000,X7,Y7),IF(Avropsblankett!$D$28=$C$8,IF(Avropsblankett!$F$28<1000,X8,Y8),IF(Avropsblankett!$D$28=$C$9,IF(Avropsblankett!$F$28<1000,X9,Y9),))),\"\"),\"\")","v":""},null,{"$f":"IF(Avropsblankett!$C$28=$A$5,IF(Avropsblankett!$C$32=$B$7,IF(Avropsblankett!$D$28=$C$7,IF(Avropsblankett!$F$28<1000,((Avropsblankett!$F$28-500)*Z7/100),((Avropsblankett!$F$28-1000)*Z7/100)),IF(Avropsblankett!$D$28=$C$8,IF(Avropsblankett!$F$28<1000,((Avropsblankett!$F$28-500)*Z8/100),((Avropsblankett!$F$28-1000)*Z8/100)),IF(Avropsblankett!$D$28=$C$9,IF(Avropsblankett!$F$28<1000,((Avropsblankett!$F$28-500)*Z9/100),((Avropsblankett!$F$28-1000)*Z9/100)),))),\"\"),\"\")","v":""},null,{"$f":"IF(Avropsblankett!$C$28=$A$5,IF(Avropsblankett!$C$32=$B$7,IF(Avropsblankett!$D$28=$C$7,IF(Avropsblankett!$F$28<1000,AB7,AC7),IF(Avropsblankett!$D$28=$C$8,IF(Avropsblankett!$F$28<1000,AB8,AC8),IF(Avropsblankett!$D$28=$C$9,IF(Avropsblankett!$F$28<1000,AB9,AC9),))),\"\"),\"\")","v":""},null,{"$f":"IF(Avropsblankett!$C$28=$A$5,IF(Avropsblankett!$C$32=$B$7,IF(Avropsblankett!$D$28=$C$7,IF(Avropsblankett!$F$28<1000,((Avropsblankett!$F$28-500)*AD7/100),((Avropsblankett!$F$28-1000)*AD7/100)),IF(Avropsblankett!$D$28=$C$8,IF(Avropsblankett!$F$28<1000,((Avropsblankett!$F$28-500)*AD8/100),((Avropsblankett!$F$28-1000)*AD8/100)),IF(Avropsblankett!$D$28=$C$9,IF(Avropsblankett!$F$28<1000,((Avropsblankett!$F$28-500)*AD9/100),((Avropsblankett!$F$28-1000)*AD9/100)),))),\"\"),\"\")","v":""},null,{"$f":"IF(Avropsblankett!$C$28=$A$5,IF(Avropsblankett!$C$32=$B$7,IF(Avropsblankett!$D$28=$C$7,IF(Avropsblankett!$F$28<1000,AF7,AG7),IF(Avropsblankett!$D$28=$C$8,IF(Avropsblankett!$F$28<1000,AF8,AG8),IF(Avropsblankett!$D$28=$C$9,IF(Avropsblankett!$F$28<1000,AF9,AG9),))),\"\"),\"\")","v":""},null,{"$f":"IF(Avropsblankett!$C$28=$A$5,IF(Avropsblankett!$C$32=$B$7,IF(Avropsblankett!$D$28=$C$7,IF(Avropsblankett!$F$28<1000,((Avropsblankett!$F$28-500)*AH7/100),((Avropsblankett!$F$28-1000)*AH7/100)),IF(Avropsblankett!$D$28=$C$8,IF(Avropsblankett!$F$28<1000,((Avropsblankett!$F$28-500)*AH8/100),((Avropsblankett!$F$28-1000)*AH8/100)),IF(Avropsblankett!$D$28=$C$9,IF(Avropsblankett!$F$28<1000,((Avropsblankett!$F$28-500)*AH9/100),((Avropsblankett!$F$28-1000)*AH9/100)),))),\"\"),\"\")","v":""},null,{"$f":"IF(Avropsblankett!$C$28=$A$5,IF(Avropsblankett!$C$32=$B$7,IF(Avropsblankett!$D$28=$C$7,IF(Avropsblankett!$F$28<1000,AJ7,AK7),IF(Avropsblankett!$D$28=$C$8,IF(Avropsblankett!$F$28<1000,AJ8,AK8),IF(Avropsblankett!$D$28=$C$9,IF(Avropsblankett!$F$28<1000,AJ9,AK9),))),\"\"),\"\")","v":""},null,{"$f":"IF(Avropsblankett!$C$28=$A$5,IF(Avropsblankett!$C$32=$B$7,IF(Avropsblankett!$D$28=$C$7,IF(Avropsblankett!$F$28<1000,((Avropsblankett!$F$28-500)*AL7/100),((Avropsblankett!$F$28-1000)*AL7/100)),IF(Avropsblankett!$D$28=$C$8,IF(Avropsblankett!$F$28<1000,((Avropsblankett!$F$28-500)*AL8/100),((Avropsblankett!$F$28-1000)*AL8/100)),IF(Avropsblankett!$D$28=$C$9,IF(Avropsblankett!$F$28<1000,((Avropsblankett!$F$28-500)*AL9/100),((Avropsblankett!$F$28-1000)*AL9/100)),))),\"\"),\"\")","v":""},null,{"$f":"IF(Avropsblankett!$C$28=$A$5,IF(Avropsblankett!$C$32=$B$7,IF(Avropsblankett!$D$28=$C$7,IF(Avropsblankett!$F$28<1000,AN7,AO7),IF(Avropsblankett!$D$28=$C$8,IF(Avropsblankett!$F$28<1000,AN8,AO8),IF(Avropsblankett!$D$28=$C$9,IF(Avropsblankett!$F$28<1000,AN9,AO9),))),\"\"),\"\")","v":""},null,{"$f":"IF(Avropsblankett!$C$28=$A$5,IF(Avropsblankett!$C$32=$B$7,IF(Avropsblankett!$D$28=$C$7,IF(Avropsblankett!$F$28<1000,((Avropsblankett!$F$28-500)*AP7/100),((Avropsblankett!$F$28-1000)*AP7/100)),IF(Avropsblankett!$D$28=$C$8,IF(Avropsblankett!$F$28<1000,((Avropsblankett!$F$28-500)*AP8/100),((Avropsblankett!$F$28-1000)*AP8/100)),IF(Avropsblankett!$D$28=$C$9,IF(Avropsblankett!$F$28<1000,((Avropsblankett!$F$28-500)*AP9/100),((Avropsblankett!$F$28-1000)*AP9/100)),))),\"\"),\"\")","v":""}]
[null,null,null,{"$f":"IF(Avropsblankett!$C$40=$A$5,IF(Avropsblankett!$C$44=$B$7,IF(Avropsblankett!$D$40=$C$7,IF(Avropsblankett!$F$40<1000,D7,E7),IF(Avropsblankett!$D$40=$C$8,IF(Avropsblankett!$F$40<1000,D8,E8),IF(Avropsblankett!$D$40=$C$9,IF(Avropsblankett!$F$40<1000,D9,E9),))),\"\"),\"\")","v":""},null,{"$f":"IF(Avropsblankett!$C$40=$A$5,IF(Avropsblankett!$C$44=$B$7,IF(Avropsblankett!$D$40=$C$7,IF(Avropsblankett!$F$40<1000,((Avropsblankett!$F$40-500)*F7/100),((Avropsblankett!$F$40-1000)*F7/100)),IF(Avropsblankett!$D$40=$C$8,IF(Avropsblankett!$F$40<1000,((Avropsblankett!$F$40-500)*F8/100),((Avropsblankett!$F$40-1000)*F8/100)),IF(Avropsblankett!$D$40=$C$9,IF(Avropsblankett!$F$40<1000,((Avropsblankett!$F$40-500)*F9/100),((Avropsblankett!$F$40-1000)*F9/100)),))),\"\"),\"\")","v":""},null,{"$f":"IF(Avropsblankett!$C$40=$A$5,IF(Avropsblankett!$C$44=$B$7,IF(Avropsblankett!$D$40=$C$7,IF(Avropsblankett!$F$40<1000,H7,I7),IF(Avropsblankett!$D$40=$C$8,IF(Avropsblankett!$F$40<1000,H8,I8),IF(Avropsblankett!$D$40=$C$9,IF(Avropsblankett!$F$40<1000,H9,I9),))),\"\"),\"\")","v":""},null,{"$f":"IF(Avropsblankett!$C$40=$A$5,IF(Avropsblankett!$C$44=$B$7,IF(Avropsblankett!$D$40=$C$7,IF(Avropsblankett!$F$40<1000,((Avropsblankett!$F$40-500)*J7/100),((Avropsblankett!$F$40-1000)*J7/100)),IF(Avropsblankett!$D$40=$C$8,IF(Avropsblankett!$F$40<1000,((Avropsblankett!$F$40-500)*J8/100),((Avropsblankett!$F$40-1000)*J8/100)),IF(Avropsblankett!$D$40=$C$9,IF(Avropsblankett!$F$40<1000,((Avropsblankett!$F$40-500)*J9/100),((Avropsblankett!$F$40-1000)*J9/100)),))),\"\"),\"\")","v":""},null,{"$f":"IF(Avropsblankett!$C$40=$A$5,IF(Avropsblankett!$C$44=$B$7,IF(Avropsblankett!$D$40=$C$7,IF(Avropsblankett!$F$40<1000,L7,M7),IF(Avropsblankett!$D$40=$C$8,IF(Avropsblankett!$F$40<1000,L8,M8),IF(Avropsblankett!$D$40=$C$9,IF(Avropsblankett!$F$40<1000,L9,M9),))),\"\"),\"\")","v":""},null,{"$f":"IF(Avropsblankett!$C$40=$A$5,IF(Avropsblankett!$C$44=$B$7,IF(Avropsblankett!$D$40=$C$7,IF(Avropsblankett!$F$40<1000,((Avropsblankett!$F$40-500)*N7/100),((Avropsblankett!$F$40-1000)*N7/100)),IF(Avropsblankett!$D$40=$C$8,IF(Avropsblankett!$F$40<1000,((Avropsblankett!$F$40-500)*N8/100),((Avropsblankett!$F$40-1000)*N8/100)),IF(Avropsblankett!$D$40=$C$9,IF(Avropsblankett!$F$40<1000,((Avropsblankett!$F$40-500)*N9/100),((Avropsblankett!$F$40-1000)*N9/100)),))),\"\"),\"\")","v":""},null,{"$f":"IF(Avropsblankett!$C$40=$A$5,IF(Avropsblankett!$C$44=$B$7,IF(Avropsblankett!$D$40=$C$7,IF(Avropsblankett!$F$40<1000,P7,Q7),IF(Avropsblankett!$D$40=$C$8,IF(Avropsblankett!$F$40<1000,P8,Q8),IF(Avropsblankett!$D$40=$C$9,IF(Avropsblankett!$F$40<1000,P9,Q9),))),\"\"),\"\")","v":""},null,{"$f":"IF(Avropsblankett!$C$40=$A$5,IF(Avropsblankett!$C$44=$B$7,IF(Avropsblankett!$D$40=$C$7,IF(Avropsblankett!$F$40<1000,((Avropsblankett!$F$40-500)*R7/100),((Avropsblankett!$F$40-1000)*R7/100)),IF(Avropsblankett!$D$40=$C$8,IF(Avropsblankett!$F$40<1000,((Avropsblankett!$F$40-500)*R8/100),((Avropsblankett!$F$40-1000)*R8/100)),IF(Avropsblankett!$D$40=$C$9,IF(Avropsblankett!$F$40<1000,((Avropsblankett!$F$40-500)*R9/100),((Avropsblankett!$F$40-1000)*R9/100)),))),\"\"),\"\")","v":""},null,{"$f":"IF(Avropsblankett!$C$40=$A$5,IF(Avropsblankett!$C$44=$B$7,IF(Avropsblankett!$D$40=$C$7,IF(Avropsblankett!$F$40<1000,T7,U7),IF(Avropsblankett!$D$40=$C$8,IF(Avropsblankett!$F$40<1000,T8,U8),IF(Avropsblankett!$D$40=$C$9,IF(Avropsblankett!$F$40<1000,T9,U9),))),\"\"),\"\")","v":""},null,{"$f":"IF(Avropsblankett!$C$40=$A$5,IF(Avropsblankett!$C$44=$B$7,IF(Avropsblankett!$D$40=$C$7,IF(Avropsblankett!$F$40<1000,((Avropsblankett!$F$40-500)*V7/100),((Avropsblankett!$F$40-1000)*V7/100)),IF(Avropsblankett!$D$40=$C$8,IF(Avropsblankett!$F$40<1000,((Avropsblankett!$F$40-500)*V8/100),((Avropsblankett!$F$40-1000)*V8/100)),IF(Avropsblankett!$D$40=$C$9,IF(Avropsblankett!$F$40<1000,((Avropsblankett!$F$40-500)*V9/100),((Avropsblankett!$F$40-1000)*V9/100)),))),\"\"),\"\")","v":""},null,{"$f":"IF(Avropsblankett!$C$40=$A$5,IF(Avropsblankett!$C$44=$B$7,IF(Avropsblankett!$D$40=$C$7,IF(Avropsblankett!$F$40<1000,X7,Y7),IF(Avropsblankett!$D$40=$C$8,IF(Avropsblankett!$F$40<1000,X8,Y8),IF(Avropsblankett!$D$40=$C$9,IF(Avropsblankett!$F$40<1000,X9,Y9),))),\"\"),\"\")","v":""},null,{"$f":"IF(Avropsblankett!$C$40=$A$5,IF(Avropsblankett!$C$44=$B$7,IF(Avropsblankett!$D$40=$C$7,IF(Avropsblankett!$F$40<1000,((Avropsblankett!$F$40-500)*Z7/100),((Avropsblankett!$F$40-1000)*Z7/100)),IF(Avropsblankett!$D$40=$C$8,IF(Avropsblankett!$F$40<1000,((Avropsblankett!$F$40-500)*Z8/100),((Avropsblankett!$F$40-1000)*Z8/100)),IF(Avropsblankett!$D$40=$C$9,IF(Avropsblankett!$F$40<1000,((Avropsblankett!$F$40-500)*Z9/100),((Avropsblankett!$F$40-1000)*Z9/100)),))),\"\"),\"\")","v":""},null,{"$f":"IF(Avropsblankett!$C$40=$A$5,IF(Avropsblankett!$C$44=$B$7,IF(Avropsblankett!$D$40=$C$7,IF(Avropsblankett!$F$40<1000,AB7,AC7),IF(Avropsblankett!$D$40=$C$8,IF(Avropsblankett!$F$40<1000,AB8,AC8),IF(Avropsblankett!$D$40=$C$9,IF(Avropsblankett!$F$40<1000,AB9,AC9),))),\"\"),\"\")","v":""},null,{"$f":"IF(Avropsblankett!$C$40=$A$5,IF(Avropsblankett!$C$44=$B$7,IF(Avropsblankett!$D$40=$C$7,IF(Avropsblankett!$F$40<1000,((Avropsblankett!$F$40-500)*AD7/100),((Avropsblankett!$F$40-1000)*AD7/100)),IF(Avropsblankett!$D$40=$C$8,IF(Avropsblankett!$F$40<1000,((Avropsblankett!$F$40-500)*AD8/100),((Avropsblankett!$F$40-1000)*AD8/100)),IF(Avropsblankett!$D$40=$C$9,IF(Avropsblankett!$F$40<1000,((Avropsblankett!$F$40-500)*AD9/100),((Avropsblankett!$F$40-1000)*AD9/100)),))),\"\"),\"\")","v":""},null,{"$f":"IF(Avropsblankett!$C$40=$A$5,IF(Avropsblankett!$C$44=$B$7,IF(Avropsblankett!$D$40=$C$7,IF(Avropsblankett!$F$40<1000,AF7,AG7),IF(Avropsblankett!$D$40=$C$8,IF(Avropsblankett!$F$40<1000,AF8,AG8),IF(Avropsblankett!$D$40=$C$9,IF(Avropsblankett!$F$40<1000,AF9,AG9),))),\"\"),\"\")","v":""},null,{"$f":"IF(Avropsblankett!$C$40=$A$5,IF(Avropsblankett!$C$44=$B$7,IF(Avropsblankett!$D$40=$C$7,IF(Avropsblankett!$F$40<1000,((Avropsblankett!$F$40-500)*AH7/100),((Avropsblankett!$F$40-1000)*AH7/100)),IF(Avropsblankett!$D$40=$C$8,IF(Avropsblankett!$F$40<1000,((Avropsblankett!$F$40-500)*AH8/100),((Avropsblankett!$F$40-1000)*AH8/100)),IF(Avropsblankett!$D$40=$C$9,IF(Avropsblankett!$F$40<1000,((Avropsblankett!$F$40-500)*AH9/100),((Avropsblankett!$F$40-1000)*AH9/100)),))),\"\"),\"\")","v":""},null,{"$f":"IF(Avropsblankett!$C$40=$A$5,IF(Avropsblankett!$C$44=$B$7,IF(Avropsblankett!$D$40=$C$7,IF(Avropsblankett!$F$40<1000,AJ7,AK7),IF(Avropsblankett!$D$40=$C$8,IF(Avropsblankett!$F$40<1000,AJ8,AK8),IF(Avropsblankett!$D$40=$C$9,IF(Avropsblankett!$F$40<1000,AJ9,AK9),))),\"\"),\"\")","v":""},null,{"$f":"IF(Avropsblankett!$C$40=$A$5,IF(Avropsblankett!$C$44=$B$7,IF(Avropsblankett!$D$40=$C$7,IF(Avropsblankett!$F$40<1000,((Avropsblankett!$F$40-500)*AL7/100),((Avropsblankett!$F$40-1000)*AL7/100)),IF(Avropsblankett!$D$40=$C$8,IF(Avropsblankett!$F$40<1000,((Avropsblankett!$F$40-500)*AL8/100),((Avropsblankett!$F$40-1000)*AL8/100)),IF(Avropsblankett!$D$40=$C$9,IF(Avropsblankett!$F$40<1000,((Avropsblankett!$F$40-500)*AL9/100),((Avropsblankett!$F$40-1000)*AL9/100)),))),\"\"),\"\")","v":""},null,{"$f":"IF(Avropsblankett!$C$40=$A$5,IF(Avropsblankett!$C$44=$B$7,IF(Avropsblankett!$D$40=$C$7,IF(Avropsblankett!$F$40<1000,AN7,AO7),IF(Avropsblankett!$D$40=$C$8,IF(Avropsblankett!$F$40<1000,AN8,AO8),IF(Avropsblankett!$D$40=$C$9,IF(Avropsblankett!$F$40<1000,AN9,AO9),))),\"\"),\"\")","v":""},null,{"$f":"IF(Avropsblankett!$C$40=$A$5,IF(Avropsblankett!$C$44=$B$7,IF(Avropsblankett!$D$40=$C$7,IF(Avropsblankett!$F$40<1000,((Avropsblankett!$F$40-500)*AP7/100),((Avropsblankett!$F$40-1000)*AP7/100)),IF(Avropsblankett!$D$40=$C$8,IF(Avropsblankett!$F$40<1000,((Avropsblankett!$F$40-500)*AP8/100),((Avropsblankett!$F$40-1000)*AP8/100)),IF(Avropsblankett!$D$40=$C$9,IF(Avropsblankett!$F$40<1000,((Avropsblankett!$F$40-500)*AP9/100),((Avropsblankett!$F$40-1000)*AP9/100)),))),\"\"),\"\")","v":""}]
[null,null,null,{"$f":"IF(Avropsblankett!$C$52=$A$5,IF(Avropsblankett!$C$56=$B$7,IF(Avropsblankett!$D$52=$C$7,IF(Avropsblankett!$F$52<1000,D7,E7),IF(Avropsblankett!$D$52=$C$8,IF(Avropsblankett!$F$52<1000,D8,E8),IF(Avropsblankett!$D$52=$C$9,IF(Avropsblankett!$F$52<1000,D9,E9),))),\"\"),\"\")","v":""},null,{"$f":"IF(Avropsblankett!$C$52=$A$5,IF(Avropsblankett!$C$56=$B$7,IF(Avropsblankett!$D$52=$C$7,IF(Avropsblankett!$F$52<1000,((Avropsblankett!$F$52-500)*F7/100),((Avropsblankett!$F$52-1000)*F7/100)),IF(Avropsblankett!$D$52=$C$8,IF(Avropsblankett!$F$52<1000,((Avropsblankett!$F$52-500)*F8/100),((Avropsblankett!$F$52-1000)*F8/100)),IF(Avropsblankett!$D$52=$C$9,IF(Avropsblankett!$F$52<1000,((Avropsblankett!$F$52-500)*F9/100),((Avropsblankett!$F$52-1000)*F9/100)),))),\"\"),\"\")","v":""},null,{"$f":"IF(Avropsblankett!$C$52=$A$5,IF(Avropsblankett!$C$56=$B$7,IF(Avropsblankett!$D$52=$C$7,IF(Avropsblankett!$F$52<1000,H7,I7),IF(Avropsblankett!$D$52=$C$8,IF(Avropsblankett!$F$52<1000,H8,I8),IF(Avropsblankett!$D$52=$C$9,IF(Avropsblankett!$F$52<1000,H9,I9),))),\"\"),\"\")","v":""},null,{"$f":"IF(Avropsblankett!$C$52=$A$5,IF(Avropsblankett!$C$56=$B$7,IF(Avropsblankett!$D$52=$C$7,IF(Avropsblankett!$F$52<1000,((Avropsblankett!$F$52-500)*J7/100),((Avropsblankett!$F$52-1000)*J7/100)),IF(Avropsblankett!$D$52=$C$8,IF(Avropsblankett!$F$52<1000,((Avropsblankett!$F$52-500)*J8/100),((Avropsblankett!$F$52-1000)*J8/100)),IF(Avropsblankett!$D$52=$C$9,IF(Avropsblankett!$F$52<1000,((Avropsblankett!$F$52-500)*J9/100),((Avropsblankett!$F$52-1000)*J9/100)),))),\"\"),\"\")","v":""},null,{"$f":"IF(Avropsblankett!$C$52=$A$5,IF(Avropsblankett!$C$56=$B$7,IF(Avropsblankett!$D$52=$C$7,IF(Avropsblankett!$F$52<1000,L7,M7),IF(Avropsblankett!$D$52=$C$8,IF(Avropsblankett!$F$52<1000,L8,M8),IF(Avropsblankett!$D$52=$C$9,IF(Avropsblankett!$F$52<1000,L9,M9),))),\"\"),\"\")","v":""},null,{"$f":"IF(Avropsblankett!$C$52=$A$5,IF(Avropsblankett!$C$56=$B$7,IF(Avropsblankett!$D$52=$C$7,IF(Avropsblankett!$F$52<1000,((Avropsblankett!$F$52-500)*N7/100),((Avropsblankett!$F$52-1000)*N7/100)),IF(Avropsblankett!$D$52=$C$8,IF(Avropsblankett!$F$52<1000,((Avropsblankett!$F$52-500)*N8/100),((Avropsblankett!$F$52-1000)*N8/100)),IF(Avropsblankett!$D$52=$C$9,IF(Avropsblankett!$F$52<1000,((Avropsblankett!$F$52-500)*N9/100),((Avropsblankett!$F$52-1000)*N9/100)),))),\"\"),\"\")","v":""},null,{"$f":"IF(Avropsblankett!$C$52=$A$5,IF(Avropsblankett!$C$56=$B$7,IF(Avropsblankett!$D$52=$C$7,IF(Avropsblankett!$F$52<1000,P7,Q7),IF(Avropsblankett!$D$52=$C$8,IF(Avropsblankett!$F$52<1000,P8,Q8),IF(Avropsblankett!$D$52=$C$9,IF(Avropsblankett!$F$52<1000,P9,Q9),))),\"\"),\"\")","v":""},null,{"$f":"IF(Avropsblankett!$C$52=$A$5,IF(Avropsblankett!$C$56=$B$7,IF(Avropsblankett!$D$52=$C$7,IF(Avropsblankett!$F$52<1000,((Avropsblankett!$F$52-500)*R7/100),((Avropsblankett!$F$52-1000)*R7/100)),IF(Avropsblankett!$D$52=$C$8,IF(Avropsblankett!$F$52<1000,((Avropsblankett!$F$52-500)*R8/100),((Avropsblankett!$F$52-1000)*R8/100)),IF(Avropsblankett!$D$52=$C$9,IF(Avropsblankett!$F$52<1000,((Avropsblankett!$F$52-500)*R9/100),((Avropsblankett!$F$52-1000)*R9/100)),))),\"\"),\"\")","v":""},null,{"$f":"IF(Avropsblankett!$C$52=$A$5,IF(Avropsblankett!$C$56=$B$7,IF(Avropsblankett!$D$52=$C$7,IF(Avropsblankett!$F$52<1000,T7,U7),IF(Avropsblankett!$D$52=$C$8,IF(Avropsblankett!$F$52<1000,T8,U8),IF(Avropsblankett!$D$52=$C$9,IF(Avropsblankett!$F$52<1000,T9,U9),))),\"\"),\"\")","v":""},null,{"$f":"IF(Avropsblankett!$C$52=$A$5,IF(Avropsblankett!$C$56=$B$7,IF(Avropsblankett!$D$52=$C$7,IF(Avropsblankett!$F$52<1000,((Avropsblankett!$F$52-500)*V7/100),((Avropsblankett!$F$52-1000)*V7/100)),IF(Avropsblankett!$D$52=$C$8,IF(Avropsblankett!$F$52<1000,((Avropsblankett!$F$52-500)*V8/100),((Avropsblankett!$F$52-1000)*V8/100)),IF(Avropsblankett!$D$52=$C$9,IF(Avropsblankett!$F$52<1000,((Avropsblankett!$F$52-500)*V9/100),((Avropsblankett!$F$52-1000)*V9/100)),))),\"\"),\"\")","v":""},null,{"$f":"IF(Avropsblankett!$C$52=$A$5,IF(Avropsblankett!$C$56=$B$7,IF(Avropsblankett!$D$52=$C$7,IF(Avropsblankett!$F$52<1000,X7,Y7),IF(Avropsblankett!$D$52=$C$8,IF(Avropsblankett!$F$52<1000,X8,Y8),IF(Avropsblankett!$D$52=$C$9,IF(Avropsblankett!$F$52<1000,X9,Y9),))),\"\"),\"\")","v":""},null,{"$f":"IF(Avropsblankett!$C$52=$A$5,IF(Avropsblankett!$C$56=$B$7,IF(Avropsblankett!$D$52=$C$7,IF(Avropsblankett!$F$52<1000,((Avropsblankett!$F$52-500)*Z7/100),((Avropsblankett!$F$52-1000)*Z7/100)),IF(Avropsblankett!$D$52=$C$8,IF(Avropsblankett!$F$52<1000,((Avropsblankett!$F$52-500)*Z8/100),((Avropsblankett!$F$52-1000)*Z8/100)),IF(Avropsblankett!$D$52=$C$9,IF(Avropsblankett!$F$52<1000,((Avropsblankett!$F$52-500)*Z9/100),((Avropsblankett!$F$52-1000)*Z9/100)),))),\"\"),\"\")","v":""},null,{"$f":"IF(Avropsblankett!$C$52=$A$5,IF(Avropsblankett!$C$56=$B$7,IF(Avropsblankett!$D$52=$C$7,IF(Avropsblankett!$F$52<1000,AB7,AC7),IF(Avropsblankett!$D$52=$C$8,IF(Avropsblankett!$F$52<1000,AB8,AC8),IF(Avropsblankett!$D$52=$C$9,IF(Avropsblankett!$F$52<1000,AB9,AC9),))),\"\"),\"\")","v":""},null,{"$f":"IF(Avropsblankett!$C$52=$A$5,IF(Avropsblankett!$C$56=$B$7,IF(Avropsblankett!$D$52=$C$7,IF(Avropsblankett!$F$52<1000,((Avropsblankett!$F$52-500)*AD7/100),((Avropsblankett!$F$52-1000)*AD7/100)),IF(Avropsblankett!$D$52=$C$8,IF(Avropsblankett!$F$52<1000,((Avropsblankett!$F$52-500)*AD8/100),((Avropsblankett!$F$52-1000)*AD8/100)),IF(Avropsblankett!$D$52=$C$9,IF(Avropsblankett!$F$52<1000,((Avropsblankett!$F$52-500)*AD9/100),((Avropsblankett!$F$52-1000)*AD9/100)),))),\"\"),\"\")","v":""},null,{"$f":"IF(Avropsblankett!$C$52=$A$5,IF(Avropsblankett!$C$56=$B$7,IF(Avropsblankett!$D$52=$C$7,IF(Avropsblankett!$F$52<1000,AF7,AG7),IF(Avropsblankett!$D$52=$C$8,IF(Avropsblankett!$F$52<1000,AF8,AG8),IF(Avropsblankett!$D$52=$C$9,IF(Avropsblankett!$F$52<1000,AF9,AG9),))),\"\"),\"\")","v":""},null,{"$f":"IF(Avropsblankett!$C$52=$A$5,IF(Avropsblankett!$C$56=$B$7,IF(Avropsblankett!$D$52=$C$7,IF(Avropsblankett!$F$52<1000,((Avropsblankett!$F$52-500)*AH7/100),((Avropsblankett!$F$52-1000)*AH7/100)),IF(Avropsblankett!$D$52=$C$8,IF(Avropsblankett!$F$52<1000,((Avropsblankett!$F$52-500)*AH8/100),((Avropsblankett!$F$52-1000)*AH8/100)),IF(Avropsblankett!$D$52=$C$9,IF(Avropsblankett!$F$52<1000,((Avropsblankett!$F$52-500)*AH9/100),((Avropsblankett!$F$52-1000)*AH9/100)),))),\"\"),\"\")","v":""},null,{"$f":"IF(Avropsblankett!$C$52=$A$5,IF(Avropsblankett!$C$56=$B$7,IF(Avropsblankett!$D$52=$C$7,IF(Avropsblankett!$F$52<1000,AJ7,AK7),IF(Avropsblankett!$D$52=$C$8,IF(Avropsblankett!$F$52<1000,AJ8,AK8),IF(Avropsblankett!$D$52=$C$9,IF(Avropsblankett!$F$52<1000,AJ9,AK9),))),\"\"),\"\")","v":""},null,{"$f":"IF(Avropsblankett!$C$52=$A$5,IF(Avropsblankett!$C$56=$B$7,IF(Avropsblankett!$D$52=$C$7,IF(Avropsblankett!$F$52<1000,((Avropsblankett!$F$52-500)*AL7/100),((Avropsblankett!$F$52-1000)*AL7/100)),IF(Avropsblankett!$D$52=$C$8,IF(Avropsblankett!$F$52<1000,((Avropsblankett!$F$52-500)*AL8/100),((Avropsblankett!$F$52-1000)*AL8/100)),IF(Avropsblankett!$D$52=$C$9,IF(Avropsblankett!$F$52<1000,((Avropsblankett!$F$52-500)*AL9/100),((Avropsblankett!$F$52-1000)*AL9/100)),))),\"\"),\"\")","v":""},null,{"$f":"IF(Avropsblankett!$C$52=$A$5,IF(Avropsblankett!$C$56=$B$7,IF(Avropsblankett!$D$52=$C$7,IF(Avropsblankett!$F$52<1000,AN7,AO7),IF(Avropsblankett!$D$52=$C$8,IF(Avropsblankett!$F$52<1000,AN8,AO8),IF(Avropsblankett!$D$52=$C$9,IF(Avropsblankett!$F$52<1000,AN9,AO9),))),\"\"),\"\")","v":""},null,{"$f":"IF(Avropsblankett!$C$52=$A$5,IF(Avropsblankett!$C$56=$B$7,IF(Avropsblankett!$D$52=$C$7,IF(Avropsblankett!$F$52<1000,((Avropsblankett!$F$52-500)*AP7/100),((Avropsblankett!$F$52-1000)*AP7/100)),IF(Avropsblankett!$D$52=$C$8,IF(Avropsblankett!$F$52<1000,((Avropsblankett!$F$52-500)*AP8/100),((Avropsblankett!$F$52-1000)*AP8/100)),IF(Avropsblankett!$D$52=$C$9,IF(Avropsblankett!$F$52<1000,((Avropsblankett!$F$52-500)*AP9/100),((Avropsblankett!$F$52-1000)*AP9/100)),))),\"\"),\"\")","v":""}]
[null,null,null,{"$f":"IF(Avropsblankett!$C$64=$A$5,IF(Avropsblankett!$C$68=$B$7,IF(Avropsblankett!$D$64=$C$7,IF(Avropsblankett!$F$64<1000,D7,E7),IF(Avropsblankett!$D$64=$C$8,IF(Avropsblankett!$F$64<1000,D8,E8),IF(Avropsblankett!$D$64=$C$9,IF(Avropsblankett!$F$64<1000,D9,E9),))),\"\"),\"\")","v":""},null,{"$f":"IF(Avropsblankett!$C$64=$A$5,IF(Avropsblankett!$C$68=$B$7,IF(Avropsblankett!$D$64=$C$7,IF(Avropsblankett!$F$64<1000,((Avropsblankett!$F$64-500)*F7/100),((Avropsblankett!$F$64-1000)*F7/100)),IF(Avropsblankett!$D$64=$C$8,IF(Avropsblankett!$F$64<1000,((Avropsblankett!$F$64-500)*F8/100),((Avropsblankett!$F$64-1000)*F8/100)),IF(Avropsblankett!$D$64=$C$9,IF(Avropsblankett!$F$64<1000,((Avropsblankett!$F$64-500)*F9/100),((Avropsblankett!$F$64-1000)*F9/100)),))),\"\"),\"\")","v":""},null,{"$f":"IF(Avropsblankett!$C$64=$A$5,IF(Avropsblankett!$C$68=$B$7,IF(Avropsblankett!$D$64=$C$7,IF(Avropsblankett!$F$64<1000,H7,I7),IF(Avropsblankett!$D$64=$C$8,IF(Avropsblankett!$F$64<1000,H8,I8),IF(Avropsblankett!$D$64=$C$9,IF(Avropsblankett!$F$64<1000,H9,I9),))),\"\"),\"\")","v":""},null,{"$f":"IF(Avropsblankett!$C$64=$A$5,IF(Avropsblankett!$C$68=$B$7,IF(Avropsblankett!$D$64=$C$7,IF(Avropsblankett!$F$64<1000,((Avropsblankett!$F$64-500)*J7/100),((Avropsblankett!$F$64-1000)*J7/100)),IF(Avropsblankett!$D$64=$C$8,IF(Avropsblankett!$F$64<1000,((Avropsblankett!$F$64-500)*J8/100),((Avropsblankett!$F$64-1000)*J8/100)),IF(Avropsblankett!$D$64=$C$9,IF(Avropsblankett!$F$64<1000,((Avropsblankett!$F$64-500)*J9/100),((Avropsblankett!$F$64-1000)*J9/100)),))),\"\"),\"\")","v":""},null,{"$f":"IF(Avropsblankett!$C$64=$A$5,IF(Avropsblankett!$C$68=$B$7,IF(Avropsblankett!$D$64=$C$7,IF(Avropsblankett!$F$64<1000,L7,M7),IF(Avropsblankett!$D$64=$C$8,IF(Avropsblankett!$F$64<1000,L8,M8),IF(Avropsblankett!$D$64=$C$9,IF(Avropsblankett!$F$64<1000,L9,M9),))),\"\"),\"\")","v":""},null,{"$f":"IF(Avropsblankett!$C$64=$A$5,IF(Avropsblankett!$C$68=$B$7,IF(Avropsblankett!$D$64=$C$7,IF(Avropsblankett!$F$64<1000,((Avropsblankett!$F$64-500)*N7/100),((Avropsblankett!$F$64-1000)*N7/100)),IF(Avropsblankett!$D$64=$C$8,IF(Avropsblankett!$F$64<1000,((Avropsblankett!$F$64-500)*N8/100),((Avropsblankett!$F$64-1000)*N8/100)),IF(Avropsblankett!$D$64=$C$9,IF(Avropsblankett!$F$64<1000,((Avropsblankett!$F$64-500)*N9/100),((Avropsblankett!$F$64-1000)*N9/100)),))),\"\"),\"\")","v":""},null,{"$f":"IF(Avropsblankett!$C$64=$A$5,IF(Avropsblankett!$C$68=$B$7,IF(Avropsblankett!$D$64=$C$7,IF(Avropsblankett!$F$64<1000,P7,Q7),IF(Avropsblankett!$D$64=$C$8,IF(Avropsblankett!$F$64<1000,P8,Q8),IF(Avropsblankett!$D$64=$C$9,IF(Avropsblankett!$F$64<1000,P9,Q9),))),\"\"),\"\")","v":""},null,{"$f":"IF(Avropsblankett!$C$64=$A$5,IF(Avropsblankett!$C$68=$B$7,IF(Avropsblankett!$D$64=$C$7,IF(Avropsblankett!$F$64<1000,((Avropsblankett!$F$64-500)*R7/100),((Avropsblankett!$F$64-1000)*R7/100)),IF(Avropsblankett!$D$64=$C$8,IF(Avropsblankett!$F$64<1000,((Avropsblankett!$F$64-500)*R8/100),((Avropsblankett!$F$64-1000)*R8/100)),IF(Avropsblankett!$D$64=$C$9,IF(Avropsblankett!$F$64<1000,((Avropsblankett!$F$64-500)*R9/100),((Avropsblankett!$F$64-1000)*R9/100)),))),\"\"),\"\")","v":""},null,{"$f":"IF(Avropsblankett!$C$64=$A$5,IF(Avropsblankett!$C$68=$B$7,IF(Avropsblankett!$D$64=$C$7,IF(Avropsblankett!$F$64<1000,T7,U7),IF(Avropsblankett!$D$64=$C$8,IF(Avropsblankett!$F$64<1000,T8,U8),IF(Avropsblankett!$D$64=$C$9,IF(Avropsblankett!$F$64<1000,T9,U9),))),\"\"),\"\")","v":""},null,{"$f":"IF(Avropsblankett!$C$64=$A$5,IF(Avropsblankett!$C$68=$B$7,IF(Avropsblankett!$D$64=$C$7,IF(Avropsblankett!$F$64<1000,((Avropsblankett!$F$64-500)*V7/100),((Avropsblankett!$F$64-1000)*V7/100)),IF(Avropsblankett!$D$64=$C$8,IF(Avropsblankett!$F$64<1000,((Avropsblankett!$F$64-500)*V8/100),((Avropsblankett!$F$64-1000)*V8/100)),IF(Avropsblankett!$D$64=$C$9,IF(Avropsblankett!$F$64<1000,((Avropsblankett!$F$64-500)*V9/100),((Avropsblankett!$F$64-1000)*V9/100)),))),\"\"),\"\")","v":""},null,{"$f":"IF(Avropsblankett!$C$64=$A$5,IF(Avropsblankett!$C$68=$B$7,IF(Avropsblankett!$D$64=$C$7,IF(Avropsblankett!$F$64<1000,X7,Y7),IF(Avropsblankett!$D$64=$C$8,IF(Avropsblankett!$F$64<1000,X8,Y8),IF(Avropsblankett!$D$64=$C$9,IF(Avropsblankett!$F$64<1000,X9,Y9),))),\"\"),\"\")","v":""},null,{"$f":"IF(Avropsblankett!$C$64=$A$5,IF(Avropsblankett!$C$68=$B$7,IF(Avropsblankett!$D$64=$C$7,IF(Avropsblankett!$F$64<1000,((Avropsblankett!$F$64-500)*Z7/100),((Avropsblankett!$F$64-1000)*Z7/100)),IF(Avropsblankett!$D$64=$C$8,IF(Avropsblankett!$F$64<1000,((Avropsblankett!$F$64-500)*Z8/100),((Avropsblankett!$F$64-1000)*Z8/100)),IF(Avropsblankett!$D$64=$C$9,IF(Avropsblankett!$F$64<1000,((Avropsblankett!$F$64-500)*Z9/100),((Avropsblankett!$F$64-1000)*Z9/100)),))),\"\"),\"\")","v":""},null,{"$f":"IF(Avropsblankett!$C$64=$A$5,IF(Avropsblankett!$C$68=$B$7,IF(Avropsblankett!$D$64=$C$7,IF(Avropsblankett!$F$64<1000,AB7,AC7),IF(Avropsblankett!$D$64=$C$8,IF(Avropsblankett!$F$64<1000,AB8,AC8),IF(Avropsblankett!$D$64=$C$9,IF(Avropsblankett!$F$64<1000,AB9,AC9),))),\"\"),\"\")","v":""},null,{"$f":"IF(Avropsblankett!$C$64=$A$5,IF(Avropsblankett!$C$68=$B$7,IF(Avropsblankett!$D$64=$C$7,IF(Avropsblankett!$F$64<1000,((Avropsblankett!$F$64-500)*AD7/100),((Avropsblankett!$F$64-1000)*AD7/100)),IF(Avropsblankett!$D$64=$C$8,IF(Avropsblankett!$F$64<1000,((Avropsblankett!$F$64-500)*AD8/100),((Avropsblankett!$F$64-1000)*AD8/100)),IF(Avropsblankett!$D$64=$C$9,IF(Avropsblankett!$F$64<1000,((Avropsblankett!$F$64-500)*AD9/100),((Avropsblankett!$F$64-1000)*AD9/100)),))),\"\"),\"\")","v":""},null,{"$f":"IF(Avropsblankett!$C$64=$A$5,IF(Avropsblankett!$C$68=$B$7,IF(Avropsblankett!$D$64=$C$7,IF(Avropsblankett!$F$64<1000,AF7,AG7),IF(Avropsblankett!$D$64=$C$8,IF(Avropsblankett!$F$64<1000,AF8,AG8),IF(Avropsblankett!$D$64=$C$9,IF(Avropsblankett!$F$64<1000,AF9,AG9),))),\"\"),\"\")","v":""},null,{"$f":"IF(Avropsblankett!$C$64=$A$5,IF(Avropsblankett!$C$68=$B$7,IF(Avropsblankett!$D$64=$C$7,IF(Avropsblankett!$F$64<1000,((Avropsblankett!$F$64-500)*AH7/100),((Avropsblankett!$F$64-1000)*AH7/100)),IF(Avropsblankett!$D$64=$C$8,IF(Avropsblankett!$F$64<1000,((Avropsblankett!$F$64-500)*AH8/100),((Avropsblankett!$F$64-1000)*AH8/100)),IF(Avropsblankett!$D$64=$C$9,IF(Avropsblankett!$F$64<1000,((Avropsblankett!$F$64-500)*AH9/100),((Avropsblankett!$F$64-1000)*AH9/100)),))),\"\"),\"\")","v":""},null,{"$f":"IF(Avropsblankett!$C$64=$A$5,IF(Avropsblankett!$C$68=$B$7,IF(Avropsblankett!$D$64=$C$7,IF(Avropsblankett!$F$64<1000,AJ7,AK7),IF(Avropsblankett!$D$64=$C$8,IF(Avropsblankett!$F$64<1000,AJ8,AK8),IF(Avropsblankett!$D$64=$C$9,IF(Avropsblankett!$F$64<1000,AJ9,AK9),))),\"\"),\"\")","v":""},null,{"$f":"IF(Avropsblankett!$C$64=$A$5,IF(Avropsblankett!$C$68=$B$7,IF(Avropsblankett!$D$64=$C$7,IF(Avropsblankett!$F$64<1000,((Avropsblankett!$F$64-500)*AL7/100),((Avropsblankett!$F$64-1000)*AL7/100)),IF(Avropsblankett!$D$64=$C$8,IF(Avropsblankett!$F$64<1000,((Avropsblankett!$F$64-500)*AL8/100),((Avropsblankett!$F$64-1000)*AL8/100)),IF(Avropsblankett!$D$64=$C$9,IF(Avropsblankett!$F$64<1000,((Avropsblankett!$F$64-500)*AL9/100),((Avropsblankett!$F$64-1000)*AL9/100)),))),\"\"),\"\")","v":""},null,{"$f":"IF(Avropsblankett!$C$64=$A$5,IF(Avropsblankett!$C$68=$B$7,IF(Avropsblankett!$D$64=$C$7,IF(Avropsblankett!$F$64<1000,AN7,AO7),IF(Avropsblankett!$D$64=$C$8,IF(Avropsblankett!$F$64<1000,AN8,AO8),IF(Avropsblankett!$D$64=$C$9,IF(Avropsblankett!$F$64<1000,AN9,AO9),))),\"\"),\"\")","v":""},null,{"$f":"IF(Avropsblankett!$C$64=$A$5,IF(Avropsblankett!$C$68=$B$7,IF(Avropsblankett!$D$64=$C$7,IF(Avropsblankett!$F$64<1000,((Avropsblankett!$F$64-500)*AP7/100),((Avropsblankett!$F$64-1000)*AP7/100)),IF(Avropsblankett!$D$64=$C$8,IF(Avropsblankett!$F$64<1000,((Avropsblankett!$F$64-500)*AP8/100),((Avropsblankett!$F$64-1000)*AP8/100)),IF(Avropsblankett!$D$64=$C$9,IF(Avropsblankett!$F$64<1000,((Avropsblankett!$F$64-500)*AP9/100),((Avropsblankett!$F$64-1000)*AP9/100)),))),\"\"),\"\")","v":""}]
[null,null,null,{"$f":"IF(Avropsblankett!$C$76=$A$5,IF(Avropsblankett!$C$80=$B$7,IF(Avropsblankett!$D$76=$C$7,IF(Avropsblankett!$F$76<1000,D7,E7),IF(Avropsblankett!$D$76=$C$8,IF(Avropsblankett!$F$76<1000,D8,E8),IF(Avropsblankett!$D$76=$C$9,IF(Avropsblankett!$F$76<1000,D9,E9),))),\"\"),\"\")","v":""},null,{"$f":"IF(Avropsblankett!$C$76=$A$5,IF(Avropsblankett!$C$80=$B$7,IF(Avropsblankett!$D$76=$C$7,IF(Avropsblankett!$F$76<1000,((Avropsblankett!$F$76-500)*F7/100),((Avropsblankett!$F$76-1000)*F7/100)),IF(Avropsblankett!$D$76=$C$8,IF(Avropsblankett!$F$76<1000,((Avropsblankett!$F$76-500)*F8/100),((Avropsblankett!$F$76-1000)*F8/100)),IF(Avropsblankett!$D$76=$C$9,IF(Avropsblankett!$F$76<1000,((Avropsblankett!$F$76-500)*F9/100),((Avropsblankett!$F$76-1000)*F9/100)),))),\"\"),\"\")","v":""},null,{"$f":"IF(Avropsblankett!$C$76=$A$5,IF(Avropsblankett!$C$80=$B$7,IF(Avropsblankett!$D$76=$C$7,IF(Avropsblankett!$F$76<1000,H7,I7),IF(Avropsblankett!$D$76=$C$8,IF(Avropsblankett!$F$76<1000,H8,I8),IF(Avropsblankett!$D$76=$C$9,IF(Avropsblankett!$F$76<1000,H9,I9),))),\"\"),\"\")","v":""},null,{"$f":"IF(Avropsblankett!$C$76=$A$5,IF(Avropsblankett!$C$80=$B$7,IF(Avropsblankett!$D$76=$C$7,IF(Avropsblankett!$F$76<1000,((Avropsblankett!$F$76-500)*J7/100),((Avropsblankett!$F$76-1000)*J7/100)),IF(Avropsblankett!$D$76=$C$8,IF(Avropsblankett!$F$76<1000,((Avropsblankett!$F$76-500)*J8/100),((Avropsblankett!$F$76-1000)*J8/100)),IF(Avropsblankett!$D$76=$C$9,IF(Avropsblankett!$F$76<1000,((Avropsblankett!$F$76-500)*J9/100),((Avropsblankett!$F$76-1000)*J9/100)),))),\"\"),\"\")","v":""},null,{"$f":"IF(Avropsblankett!$C$76=$A$5,IF(Avropsblankett!$C$80=$B$7,IF(Avropsblankett!$D$76=$C$7,IF(Avropsblankett!$F$76<1000,L7,M7),IF(Avropsblankett!$D$76=$C$8,IF(Avropsblankett!$F$76<1000,L8,M8),IF(Avropsblankett!$D$76=$C$9,IF(Avropsblankett!$F$76<1000,L9,M9),))),\"\"),\"\")","v":""},null,{"$f":"IF(Avropsblankett!$C$76=$A$5,IF(Avropsblankett!$C$80=$B$7,IF(Avropsblankett!$D$76=$C$7,IF(Avropsblankett!$F$76<1000,((Avropsblankett!$F$76-500)*N7/100),((Avropsblankett!$F$76-1000)*N7/100)),IF(Avropsblankett!$D$76=$C$8,IF(Avropsblankett!$F$76<1000,((Avropsblankett!$F$76-500)*N8/100),((Avropsblankett!$F$76-1000)*N8/100)),IF(Avropsblankett!$D$76=$C$9,IF(Avropsblankett!$F$76<1000,((Avropsblankett!$F$76-500)*N9/100),((Avropsblankett!$F$76-1000)*N9/100)),))),\"\"),\"\")","v":""},null,{"$f":"IF(Avropsblankett!$C$76=$A$5,IF(Avropsblankett!$C$80=$B$7,IF(Avropsblankett!$D$76=$C$7,IF(Avropsblankett!$F$76<1000,P7,Q7),IF(Avropsblankett!$D$76=$C$8,IF(Avropsblankett!$F$76<1000,P8,Q8),IF(Avropsblankett!$D$76=$C$9,IF(Avropsblankett!$F$76<1000,P9,Q9),))),\"\"),\"\")","v":""},null,{"$f":"IF(Avropsblankett!$C$76=$A$5,IF(Avropsblankett!$C$80=$B$7,IF(Avropsblankett!$D$76=$C$7,IF(Avropsblankett!$F$76<1000,((Avropsblankett!$F$76-500)*R7/100),((Avropsblankett!$F$76-1000)*R7/100)),IF(Avropsblankett!$D$76=$C$8,IF(Avropsblankett!$F$76<1000,((Avropsblankett!$F$76-500)*R8/100),((Avropsblankett!$F$76-1000)*R8/100)),IF(Avropsblankett!$D$76=$C$9,IF(Avropsblankett!$F$76<1000,((Avropsblankett!$F$76-500)*R9/100),((Avropsblankett!$F$76-1000)*R9/100)),))),\"\"),\"\")","v":""},null,{"$f":"IF(Avropsblankett!$C$76=$A$5,IF(Avropsblankett!$C$80=$B$7,IF(Avropsblankett!$D$76=$C$7,IF(Avropsblankett!$F$76<1000,T7,U7),IF(Avropsblankett!$D$76=$C$8,IF(Avropsblankett!$F$76<1000,T8,U8),IF(Avropsblankett!$D$76=$C$9,IF(Avropsblankett!$F$76<1000,T9,U9),))),\"\"),\"\")","v":""},null,{"$f":"IF(Avropsblankett!$C$76=$A$5,IF(Avropsblankett!$C$80=$B$7,IF(Avropsblankett!$D$76=$C$7,IF(Avropsblankett!$F$76<1000,((Avropsblankett!$F$76-500)*V7/100),((Avropsblankett!$F$76-1000)*V7/100)),IF(Avropsblankett!$D$76=$C$8,IF(Avropsblankett!$F$76<1000,((Avropsblankett!$F$76-500)*V8/100),((Avropsblankett!$F$76-1000)*V8/100)),IF(Avropsblankett!$D$76=$C$9,IF(Avropsblankett!$F$76<1000,((Avropsblankett!$F$76-500)*V9/100),((Avropsblankett!$F$76-1000)*V9/100)),))),\"\"),\"\")","v":""},null,{"$f":"IF(Avropsblankett!$C$76=$A$5,IF(Avropsblankett!$C$80=$B$7,IF(Avropsblankett!$D$76=$C$7,IF(Avropsblankett!$F$76<1000,X7,Y7),IF(Avropsblankett!$D$76=$C$8,IF(Avropsblankett!$F$76<1000,X8,Y8),IF(Avropsblankett!$D$76=$C$9,IF(Avropsblankett!$F$76<1000,X9,Y9),))),\"\"),\"\")","v":""},null,{"$f":"IF(Avropsblankett!$C$76=$A$5,IF(Avropsblankett!$C$80=$B$7,IF(Avropsblankett!$D$76=$C$7,IF(Avropsblankett!$F$76<1000,((Avropsblankett!$F$76-500)*Z7/100),((Avropsblankett!$F$76-1000)*Z7/100)),IF(Avropsblankett!$D$76=$C$8,IF(Avropsblankett!$F$76<1000,((Avropsblankett!$F$76-500)*Z8/100),((Avropsblankett!$F$76-1000)*Z8/100)),IF(Avropsblankett!$D$76=$C$9,IF(Avropsblankett!$F$76<1000,((Avropsblankett!$F$76-500)*Z9/100),((Avropsblankett!$F$76-1000)*Z9/100)),))),\"\"),\"\")","v":""},null,{"$f":"IF(Avropsblankett!$C$76=$A$5,IF(Avropsblankett!$C$80=$B$7,IF(Avropsblankett!$D$76=$C$7,IF(Avropsblankett!$F$76<1000,AB7,AC7),IF(Avropsblankett!$D$76=$C$8,IF(Avropsblankett!$F$76<1000,AB8,AC8),IF(Avropsblankett!$D$76=$C$9,IF(Avropsblankett!$F$76<1000,AB9,AC9),))),\"\"),\"\")","v":""},null,{"$f":"IF(Avropsblankett!$C$76=$A$5,IF(Avropsblankett!$C$80=$B$7,IF(Avropsblankett!$D$76=$C$7,IF(Avropsblankett!$F$76<1000,((Avropsblankett!$F$76-500)*AD7/100),((Avropsblankett!$F$76-1000)*AD7/100)),IF(Avropsblankett!$D$76=$C$8,IF(Avropsblankett!$F$76<1000,((Avropsblankett!$F$76-500)*AD8/100),((Avropsblankett!$F$76-1000)*AD8/100)),IF(Avropsblankett!$D$76=$C$9,IF(Avropsblankett!$F$76<1000,((Avropsblankett!$F$76-500)*AD9/100),((Avropsblankett!$F$76-1000)*AD9/100)),))),\"\"),\"\")","v":""},null,{"$f":"IF(Avropsblankett!$C$76=$A$5,IF(Avropsblankett!$C$80=$B$7,IF(Avropsblankett!$D$76=$C$7,IF(Avropsblankett!$F$76<1000,AF7,AG7),IF(Avropsblankett!$D$76=$C$8,IF(Avropsblankett!$F$76<1000,AF8,AG8),IF(Avropsblankett!$D$76=$C$9,IF(Avropsblankett!$F$76<1000,AF9,AG9),))),\"\"),\"\")","v":""},null,{"$f":"IF(Avropsblankett!$C$76=$A$5,IF(Avropsblankett!$C$80=$B$7,IF(Avropsblankett!$D$76=$C$7,IF(Avropsblankett!$F$76<1000,((Avropsblankett!$F$76-500)*AH7/100),((Avropsblankett!$F$76-1000)*AH7/100)),IF(Avropsblankett!$D$76=$C$8,IF(Avropsblankett!$F$76<1000,((Avropsblankett!$F$76-500)*AH8/100),((Avropsblankett!$F$76-1000)*AH8/100)),IF(Avropsblankett!$D$76=$C$9,IF(Avropsblankett!$F$76<1000,((Avropsblankett!$F$76-500)*AH9/100),((Avropsblankett!$F$76-1000)*AH9/100)),))),\"\"),\"\")","v":""},null,{"$f":"IF(Avropsblankett!$C$76=$A$5,IF(Avropsblankett!$C$80=$B$7,IF(Avropsblankett!$D$76=$C$7,IF(Avropsblankett!$F$76<1000,AJ7,AK7),IF(Avropsblankett!$D$76=$C$8,IF(Avropsblankett!$F$76<1000,AJ8,AK8),IF(Avropsblankett!$D$76=$C$9,IF(Avropsblankett!$F$76<1000,AJ9,AK9),))),\"\"),\"\")","v":""},null,{"$f":"IF(Avropsblankett!$C$76=$A$5,IF(Avropsblankett!$C$80=$B$7,IF(Avropsblankett!$D$76=$C$7,IF(Avropsblankett!$F$76<1000,((Avropsblankett!$F$76-500)*AL7/100),((Avropsblankett!$F$76-1000)*AL7/100)),IF(Avropsblankett!$D$76=$C$8,IF(Avropsblankett!$F$76<1000,((Avropsblankett!$F$76-500)*AL8/100),((Avropsblankett!$F$76-1000)*AL8/100)),IF(Avropsblankett!$D$76=$C$9,IF(Avropsblankett!$F$76<1000,((Avropsblankett!$F$76-500)*AL9/100),((Avropsblankett!$F$76-1000)*AL9/100)),))),\"\"),\"\")","v":""},null,{"$f":"IF(Avropsblankett!$C$76=$A$5,IF(Avropsblankett!$C$80=$B$7,IF(Avropsblankett!$D$76=$C$7,IF(Avropsblankett!$F$76<1000,AN7,AO7),IF(Avropsblankett!$D$76=$C$8,IF(Avropsblankett!$F$76<1000,AN8,AO8),IF(Avropsblankett!$D$76=$C$9,IF(Avropsblankett!$F$76<1000,AN9,AO9),))),\"\"),\"\")","v":""},null,{"$f":"IF(Avropsblankett!$C$76=$A$5,IF(Avropsblankett!$C$80=$B$7,IF(Avropsblankett!$D$76=$C$7,IF(Avropsblankett!$F$76<1000,((Avropsblankett!$F$76-500)*AP7/100),((Avropsblankett!$F$76-1000)*AP7/100)),IF(Avropsblankett!$D$76=$C$8,IF(Avropsblankett!$F$76<1000,((Avropsblankett!$F$76-500)*AP8/100),((Avropsblankett!$F$76-1000)*AP8/100)),IF(Avropsblankett!$D$76=$C$9,IF(Avropsblankett!$F$76<1000,((Avropsblankett!$F$76-500)*AP9/100),((Avropsblankett!$F$76-1000)*AP9/100)),))),\"\"),\"\")","v":""}]
[null,null,null,{"$f":"SUM(D10:D14)","v":0},null,{"$f":"SUM(F10:F14)","v":0},null,{"$f":"SUM(H10:H14)","v":0},null,{"$f":"SUM(J10:J14)","v":0},null,{"$f":"SUM(L10:L14)","v":0},null,{"$f":"SUM(N10:N14)","v":0},null,{"$f":"SUM(P10:P14)","v":0},null,{"$f":"SUM(R10:R14)","v":0},null,{"$f":"SUM(T10:T14)","v":0},null,{"$f":"SUM(V10:V14)","v":0},null,{"$f":"SUM(X10:X14)","v":0},null,{"$f":"SUM(Z10:Z14)","v":0},null,{"$f":"SUM(AB10:AB14)","v":0},null,{"$f":"SUM(AD10:AD14)","v":0},null,{"$f":"SUM(AF10:AF14)","v":0},null,{"$f":"SUM(AH10:AH14)","v":0},null,{"$f":"SUM(AJ10:AJ14)","v":0},null,{"$f":"SUM(AL10:AL14)","v":0},null,{"$f":"SUM(AN10:AN14)","v":0},null,{"$f":"SUM(AP10:AP14)","v":0}]
["Kuvert_Variant_2",null,"Variant 2","Upplaga",null,"Följande",null,"Upplaga",null,"Följande",null,"Upplaga",null,"Följande",null,"Upplaga",null,"Följande",null,"Upplaga",null,"Följande",null,"Upplaga",null,"Följande",null,"Upplaga",null,"Följande",null,"Upplaga",null,"Följande",null,"Upplaga",null,"Följande",null,"Upplaga",null,"Följande"]
["Kuvert","Kuvert vitt utan fönster, självhäftande klaff med täckremsa. Klaffen ska vara tryckbar. 100g",null,500,1000,100,null,500,1000,100,null,500,1000,100,null,500,1000,100,null,500,1000,100,null,500,1000,100,null,500,1000,100,null,500,1000,100,null,500,1000,100,null,500,1000,100]
["Storlek","C4","Tryck ´4+4",1500,2250,150,null,2858,3186,319,null,3150,3400,72,null,1200,1400,130,null,1032,1400,24,null,1987,2208,182,null,1400,1800,200,null,1290,1943,132,null,2000,3000,170,null,2404,2643,24]
[null,null,"Tryck ´4+0",1150,1300,150,null,1593,1921,192,null,1350,1620,36,null,900,1200,110,null,617,979,26,null,1987,2208,180,null,1000,1350,150,null,772,1224,92,null,1625,2500,150,null,1343,2156,26]
[null,null,"Tryck ´1+0",450,635,150,null,669,998,100,null,620,820,18,null,500,680,65,null,329,578,26,null,727,984,99,null,800,1100,125,null,412,723,63,null,1000,1450,130,null,698,957,26]
[null,null,null,{"$f":"IF(Avropsblankett!$C$28=$A$16,IF(Avropsblankett!$C$32=$B$18,IF(Avropsblankett!$D$28=$C$7,IF(Avropsblankett!$F$28<1000,D18,E18),IF(Avropsblankett!$D$28=$C$8,IF(Avropsblankett!$F$28<1000,D19,E19),IF(Avropsblankett!$D$28=$C$9,IF(Avropsblankett!$F$28<1000,D20,E20),))),\"\"),\"\")","v":""},null,{"$f":"IF(Avropsblankett!$C$28=$A$16,IF(Avropsblankett!$C$32=$B$18,IF(Avropsblankett!$D$28=$C$7,IF(Avropsblankett!$F$28<1000,((Avropsblankett!$F$28-500)*F18/100),((Avropsblankett!$F$28-1000)*F18/100)),IF(Avropsblankett!$D$28=$C$8,IF(Avropsblankett!$F$28<1000,((Avropsblankett!$F$28-500)*F19/100),((Avropsblankett!$F$28-1000)*F19/100)),IF(Avropsblankett!$D$28=$C$9,IF(Avropsblankett!$F$28<1000,((Avropsblankett!$F$28-500)*F20/100),((Avropsblankett!$F$28-1000)*F20/100)),))),\"\"),\"\")","v":""},null,{"$f":"IF(Avropsblankett!$C$28=$A$16,IF(Avropsblankett!$C$32=$B$18,IF(Avropsblankett!$D$28=$C$7,IF(Avropsblankett!$F$28<1000,H18,I18),IF(Avropsblankett!$D$28=$C$8,IF(Avropsblankett!$F$28<1000,H19,I19),IF(Avropsblankett!$D$28=$C$9,IF(Avropsblankett!$F$28<1000,H20,I20),))),\"\"),\"\")","v":""},null,{"$f":"IF(Avropsblankett!$C$28=$A$16,IF(Avropsblankett!$C$32=$B$18,IF(Avropsblankett!$D$28=$C$7,IF(Avropsblankett!$F$28<1000,((Avropsblankett!$F$28-500)*J18/100),((Avropsblankett!$F$28-1000)*J18/100)),IF(Avropsblankett!$D$28=$C$8,IF(Avropsblankett!$F$28<1000,((Avropsblankett!$F$28-500)*J19/100),((Avropsblankett!$F$28-1000)*J19/100)),IF(Avropsblankett!$D$28=$C$9,IF(Avropsblankett!$F$28<1000,((Avropsblankett!$F$28-500)*J20/100),((Avropsblankett!$F$28-1000)*J20/100)),))),\"\"),\"\")","v":""},null,{"$f":"IF(Avropsblankett!$C$28=$A$16,IF(Avropsblankett!$C$32=$B$18,IF(Avropsblankett!$D$28=$C$7,IF(Avropsblankett!$F$28<1000,L18,M18),IF(Avropsblankett!$D$28=$C$8,IF(Avropsblankett!$F$28<1000,L19,M19),IF(Avropsblankett!$D$28=$C$9,IF(Avropsblankett!$F$28<1000,L20,M20),))),\"\"),\"\")","v":""},null,{"$f":"IF(Avropsblankett!$C$28=$A$16,IF(Avropsblankett!$C$32=$B$18,IF(Avropsblankett!$D$28=$C$7,IF(Avropsblankett!$F$28<1000,((Avropsblankett!$F$28-500)*N18/100),((Avropsblankett!$F$28-1000)*N18/100)),IF(Avropsblankett!$D$28=$C$8,IF(Avropsblankett!$F$28<1000,((Avropsblankett!$F$28-500)*N19/100),((Avropsblankett!$F$28-1000)*N19/100)),IF(Avropsblankett!$D$28=$C$9,IF(Avropsblankett!$F$28<1000,((Avropsblankett!$F$28-500)*N20/100),((Avropsblankett!$F$28-1000)*N20/100)),))),\"\"),\"\")","v":""},null,{"$f":"IF(Avropsblankett!$C$28=$A$16,IF(Avropsblankett!$C$32=$B$18,IF(Avropsblankett!$D$28=$C$7,IF(Avropsblankett!$F$28<1000,P18,Q18),IF(Avropsblankett!$D$28=$C$8,IF(Avropsblankett!$F$28<1000,P19,Q19),IF(Avropsblankett!$D$28=$C$9,IF(Avropsblankett!$F$28<1000,P20,Q20),))),\"\"),\"\")","v":""},null,{"$f":"IF(Avropsblankett!$C$28=$A$16,IF(Avropsblankett!$C$32=$B$18,IF(Avropsblankett!$D$28=$C$7,IF(Avropsblankett!$F$28<1000,((Avropsblankett!$F$28-500)*R18/100),((Avropsblankett!$F$28-1000)*R18/100)),IF(Avropsblankett!$D$28=$C$8,IF(Avropsblankett!$F$28<1000,((Avropsblankett!$F$28-500)*R19/100),((Avropsblankett!$F$28-1000)*R19/100)),IF(Avropsblankett!$D$28=$C$9,IF(Avropsblankett!$F$28<1000,((Avropsblankett!$F$28-500)*R20/100),((Avropsblankett!$F$28-1000)*R20/100)),))),\"\"),\"\")","v":""},null,{"$f":"IF(Avropsblankett!$C$28=$A$16,IF(Avropsblankett!$C$32=$B$18,IF(Avropsblankett!$D$28=$C$7,IF(Avropsblankett!$F$28<1000,T18,U18),IF(Avropsblankett!$D$28=$C$8,IF(Avropsblankett!$F$28<1000,T19,U19),IF(Avropsblankett!$D$28=$C$9,IF(Avropsblankett!$F$28<1000,T20,U20),))),\"\"),\"\")","v":""},null,{"$f":"IF(Avropsblankett!$C$28=$A$16,IF(Avropsblankett!$C$32=$B$18,IF(Avropsblankett!$D$28=$C$7,IF(Avropsblankett!$F$28<1000,((Avropsblankett!$F$28-500)*V18/100),((Avropsblankett!$F$28-1000)*V18/100)),IF(Avropsblankett!$D$28=$C$8,IF(Avropsblankett!$F$28<1000,((Avropsblankett!$F$28-500)*V19/100),((Avropsblankett!$F$28-1000)*V19/100)),IF(Avropsblankett!$D$28=$C$9,IF(Avropsblankett!$F$28<1000,((Avropsblankett!$F$28-500)*V20/100),((Avropsblankett!$F$28-1000)*V20/100)),))),\"\"),\"\")","v":""},null,{"$f":"IF(Avropsblankett!$C$28=$A$16,IF(Avropsblankett!$C$32=$B$18,IF(Avropsblankett!$D$28=$C$7,IF(Avropsblankett!$F$28<1000,X18,Y18),IF(Avropsblankett!$D$28=$C$8,IF(Avropsblankett!$F$28<1000,X19,Y19),IF(Avropsblankett!$D$28=$C$9,IF(Avropsblankett!$F$28<1000,X20,Y20),))),\"\"),\"\")","v":""},null,{"$f":"IF(Avropsblankett!$C$28=$A$16,IF(Avropsblankett!$C$32=$B$18,IF(Avropsblankett!$D$28=$C$7,IF(Avropsblankett!$F$28<1000,((Avropsblankett!$F$28-500)*Z18/100),((Avropsblankett!$F$28-1000)*Z18/100)),IF(Avropsblankett!$D$28=$C$8,IF(Avropsblankett!$F$28<1000,((Avropsblankett!$F$28-500)*Z19/100),((Avropsblankett!$F$28-1000)*Z19/100)),IF(Avropsblankett!$D$28=$C$9,IF(Avropsblankett!$F$28<1000,((Avropsblankett!$F$28-500)*Z20/100),((Avropsblankett!$F$28-1000)*Z20/100)),))),\"\"),\"\")","v":""},null,{"$f":"IF(Avropsblankett!$C$28=$A$16,IF(Avropsblankett!$C$32=$B$18,IF(Avropsblankett!$D$28=$C$7,IF(Avropsblankett!$F$28<1000,AB18,AC18),IF(Avropsblankett!$D$28=$C$8,IF(Avropsblankett!$F$28<1000,AB19,AC19),IF(Avropsblankett!$D$28=$C$9,IF(Avropsblankett!$F$28<1000,AB20,AC20),))),\"\"),\"\")","v":""},null,{"$f":"IF(Avropsblankett!$C$28=$A$16,IF(Avropsblankett!$C$32=$B$18,IF(Avropsblankett!$D$28=$C$7,IF(Avropsblankett!$F$28<1000,((Avropsblankett!$F$28-500)*AD18/100),((Avropsblankett!$F$28-1000)*AD18/100)),IF(Avropsblankett!$D$28=$C$8,IF(Avropsblankett!$F$28<1000,((Avropsblankett!$F$28-500)*AD19/100),((Avropsblankett!$F$28-1000)*AD19/100)),IF(Avropsblankett!$D$28=$C$9,IF(Avropsblankett!$F$28<1000,((Avropsblankett!$F$28-500)*AD20/100),((Avropsblankett!$F$28-1000)*AD20/100)),))),\"\"),\"\")","v":""},null,{"$f":"IF(Avropsblankett!$C$28=$A$16,IF(Avropsblankett!$C$32=$B$18,IF(Avropsblankett!$D$28=$C$7,IF(Avropsblankett!$F$28<1000,AF18,AG18),IF(Avropsblankett!$D$28=$C$8,IF(Avropsblankett!$F$28<1000,AF19,AG19),IF(Avropsblankett!$D$28=$C$9,IF(Avropsblankett!$F$28<1000,AF20,AG20),))),\"\"),\"\")","v":""},null,{"$f":"IF(Avropsblankett!$C$28=$A$16,IF(Avropsblankett!$C$32=$B$18,IF(Avropsblankett!$D$28=$C$7,IF(Avropsblankett!$F$28<1000,((Avropsblankett!$F$28-500)*AH18/100),((Avropsblankett!$F$28-1000)*AH18/100)),IF(Avropsblankett!$D$28=$C$8,IF(Avropsblankett!$F$28<1000,((Avropsblankett!$F$28-500)*AH19/100),((Avropsblankett!$F$28-1000)*AH19/100)),IF(Avropsblankett!$D$28=$C$9,IF(Avropsblankett!$F$28<1000,((Avropsblankett!$F$28-500)*AH20/100),((Avropsblankett!$F$28-1000)*AH20/100)),))),\"\"),\"\")","v":""},null,{"$f":"IF(Avropsblankett!$C$28=$A$16,IF(Avropsblankett!$C$32=$B$18,IF(Avropsblankett!$D$28=$C$7,IF(Avropsblankett!$F$28<1000,AJ18,AK18),IF(Avropsblankett!$D$28=$C$8,IF(Avropsblankett!$F$28<1000,AJ19,AK19),IF(Avropsblankett!$D$28=$C$9,IF(Avropsblankett!$F$28<1000,AJ20,AK20),))),\"\"),\"\")","v":""},null,{"$f":"IF(Avropsblankett!$C$28=$A$16,IF(Avropsblankett!$C$32=$B$18,IF(Avropsblankett!$D$28=$C$7,IF(Avropsblankett!$F$28<1000,((Avropsblankett!$F$28-500)*AL18/100),((Avropsblankett!$F$28-1000)*AL18/100)),IF(Avropsblankett!$D$28=$C$8,IF(Avropsblankett!$F$28<1000,((Avropsblankett!$F$28-500)*AL19/100),((Avropsblankett!$F$28-1000)*AL19/100)),IF(Avropsblankett!$D$28=$C$9,IF(Avropsblankett!$F$28<1000,((Avropsblankett!$F$28-500)*AL20/100),((Avropsblankett!$F$28-1000)*AL20/100)),))),\"\"),\"\")","v":""},null,{"$f":"IF(Avropsblankett!$C$28=$A$16,IF(Avropsblankett!$C$32=$B$18,IF(Avropsblankett!$D$28=$C$7,IF(Avropsblankett!$F$28<1000,AN18,AO18),IF(Avropsblankett!$D$28=$C$8,IF(Avropsblankett!$F$28<1000,AN19,AO19),IF(Avropsblankett!$D$28=$C$9,IF(Avropsblankett!$F$28<1000,AN20,AO20),))),\"\"),\"\")","v":""},null,{"$f":"IF(Avropsblankett!$C$28=$A$16,IF(Avropsblankett!$C$32=$B$18,IF(Avropsblankett!$D$28=$C$7,IF(Avropsblankett!$F$28<1000,((Avropsblankett!$F$28-500)*AP18/100),((Avropsblankett!$F$28-1000)*AP18/100)),IF(Avropsblankett!$D$28=$C$8,IF(Avropsblankett!$F$28<1000,((Avropsblankett!$F$28-500)*AP19/100),((Avropsblankett!$F$28-1000)*AP19/100)),IF(Avropsblankett!$D$28=$C$9,IF(Avropsblankett!$F$28<1000,((Avropsblankett!$F$28-500)*AP20/100),((Avropsblankett!$F$28-1000)*AP20/100)),))),\"\"),\"\")","v":""}]
[null,null,null,{"$f":"IF(Avropsblankett!$C$40=$A$16,IF(Avropsblankett!$C$44=$B$18,IF(Avropsblankett!$D$40=$C$7,IF(Avropsblankett!$F$40<1000,D18,E18),IF(Avropsblankett!$D$40=$C$8,IF(Avropsblankett!$F$40<1000,D19,E19),IF(Avropsblankett!$D$40=$C$9,IF(Avropsblankett!$F$40<1000,D20,E20),))),\"\"),\"\")","v":""},null,{"$f":"IF(Avropsblankett!$C$40=$A$16,IF(Avropsblankett!$C$44=$B$18,IF(Avropsblankett!$D$40=$C$7,IF(Avropsblankett!$F$40<1000,((Avropsblankett!$F$40-500)*F18/100),((Avropsblankett!$F$40-1000)*F18/100)),IF(Avropsblankett!$D$40=$C$8,IF(Avropsblankett!$F$40<1000,((Avropsblankett!$F$40-500)*F19/100),((Avropsblankett!$F$40-1000)*F19/100)),IF(Avropsblankett!$D$40=$C$9,IF(Avropsblankett!$F$40<1000,((Avropsblankett!$F$40-500)*F20/100),((Avropsblankett!$F$40-1000)*F20/100)),))),\"\"),\"\")","v":""},null,{"$f":"IF(Avropsblankett!$C$40=$A$16,IF(Avropsblankett!$C$44=$B$18,IF(Avropsblankett!$D$40=$C$7,IF(Avropsblankett!$F$40<1000,H18,I18),IF(Avropsblankett!$D$40=$C$8,IF(Avropsblankett!$F$40<1000,H19,I19),IF(Avropsblankett!$D$40=$C$9,IF(Avropsblankett!$F$40<1000,H20,I20),))),\"\"),\"\")","v":""},null,{"$f":"IF(Avropsblankett!$C$40=$A$16,IF(Avropsblankett!$C$44=$B$18,IF(Avropsblankett!$D$40=$C$7,IF(Avropsblankett!$F$40<1000,((Avropsblankett!$F$40-500)*J18/100),((Avropsblankett!$F$40-1000)*J18/100)),IF(Avropsblankett!$D$40=$C$8,IF(Avropsblankett!$F$40<1000,((Avropsblankett!$F$40-500)*J19/100),((Avropsblankett!$F$40-1000)*J19/100)),IF(Avropsblankett!$D$40=$C$9,IF(Avropsblankett!$F$40<1000,((Avropsblankett!$F$40-500)*J20/100),((Avropsblankett!$F$40-1000)*J20/100)),))),\"\"),\"\")","v":""},null,{"$f":"IF(Avropsblankett!$C$40=$A$16,IF(Avropsblankett!$C$44=$B$18,IF(Avropsblankett!$D$40=$C$7,IF(Avropsblankett!$F$40<1000,L18,M18),IF(Avropsblankett!$D$40=$C$8,IF(Avropsblankett!$F$40<1000,L19,M19),IF(Avropsblankett!$D$40=$C$9,IF(Avropsblankett!$F$40<1000,L20,M20),))),\"\"),\"\")","v":""},null,{"$f":"IF(Avropsblankett!$C$40=$A$16,IF(Avropsblankett!$C$44=$B$18,IF(Avropsblankett!$D$40=$C$7,IF(Avropsblankett!$F$40<1000,((Avropsblankett!$F$40-500)*N18/100),((Avropsblankett!$F$40-1000)*N18/100)),IF(Avropsblankett!$D$40=$C$8,IF(Avropsblankett!$F$40<1000,((Avropsblankett!$F$40-500)*N19/100),((Avropsblankett!$F$40-1000)*N19/100)),IF(Avropsblankett!$D$40=$C$9,IF(Avropsblankett!$F$40<1000,((Avropsblankett!$F$40-500)*N20/100),((Avropsblankett!$F$40-1000)*N20/100)),))),\"\"),\"\")","v":""},null,{"$f":"IF(Avropsblankett!$C$40=$A$16,IF(Avropsblankett!$C$44=$B$18,IF(Avropsblankett!$D$40=$C$7,IF(Avropsblankett!$F$40<1000,P18,Q18),IF(Avropsblankett!$D$40=$C$8,IF(Avropsblankett!$F$40<1000,P19,Q19),IF(Avropsblankett!$D$40=$C$9,IF(Avropsblankett!$F$40<1000,P20,Q20),))),\"\"),\"\")","v":""},null,{"$f":"IF(Avropsblankett!$C$40=$A$16,IF(Avropsblankett!$C$44=$B$18,IF(Avropsblankett!$D$40=$C$7,IF(Avropsblankett!$F$40<1000,((Avropsblankett!$F$40-500)*R18/100),((Avropsblankett!$F$40-1000)*R18/100)),IF(Avropsblankett!$D$40=$C$8,IF(Avropsblankett!$F$40<1000,((Avropsblankett!$F$40-500)*R19/100),((Avropsblankett!$F$40-1000)*R19/100)),IF(Avropsblankett!$D$40=$C$9,IF(Avropsblankett!$F$40<1000,((Avropsblankett!$F$40-500)*R20/100),((Avropsblankett!$F$40-1000)*R20/100)),))),\"\"),\"\")","v":""},null,{"$f":"IF(Avropsblankett!$C$40=$A$16,IF(Avropsblankett!$C$44=$B$18,IF(Avropsblankett!$D$40=$C$7,IF(Avropsblankett!$F$40<1000,T18,U18),IF(Avropsblankett!$D$40=$C$8,IF(Avropsblankett!$F$40<1000,T19,U19),IF(Avropsblankett!$D$40=$C$9,IF(Avropsblankett!$F$40<1000,T20,U20),))),\"\"),\"\")","v":""},null,{"$f":"IF(Avropsblankett!$C$40=$A$16,IF(Avropsblankett!$C$44=$B$18,IF(Avropsblankett!$D$40=$C$7,IF(Avropsblankett!$F$40<1000,((Avropsblankett!$F$40-500)*V18/100),((Avropsblankett!$F$40-1000)*V18/100)),IF(Avropsblankett!$D$40=$C$8,IF(Avropsblankett!$F$40<1000,((Avropsblankett!$F$40-500)*V19/100),((Avropsblankett!$F$40-1000)*V19/100)),IF(Avropsblankett!$D$40=$C$9,IF(Avropsblankett!$F$40<1000,((Avropsblankett!$F$40-500)*V20/100),((Avropsblankett!$F$40-1000)*V20/100)),))),\"\"),\"\")","v":""},null,{"$f":"IF(Avropsblankett!$C$40=$A$16,IF(Avropsblankett!$C$44=$B$18,IF(Avropsblankett!$D$40=$C$7,IF(Avropsblankett!$F$40<1000,X18,Y18),IF(Avropsblankett!$D$40=$C$8,IF(Avropsblankett!$F$40<1000,X19,Y19),IF(Avropsblankett!$D$40=$C$9,IF(Avropsblankett!$F$40<1000,X20,Y20),))),\"\"),\"\")","v":""},null,{"$f":"IF(Avropsblankett!$C$40=$A$16,IF(Avropsblankett!$C$44=$B$18,IF(Avropsblankett!$D$40=$C$7,IF(Avropsblankett!$F$40<1000,((Avropsblankett!$F$40-500)*Z18/100),((Avropsblankett!$F$40-1000)*Z18/100)),IF(Avropsblankett!$D$40=$C$8,IF(Avropsblankett!$F$40<1000,((Avropsblankett!$F$40-500)*Z19/100),((Avropsblankett!$F$40-1000)*Z19/100)),IF(Avropsblankett!$D$40=$C$9,IF(Avropsblankett!$F$40<1000,((Avropsblankett!$F$40-500)*Z20/100),((Avropsblankett!$F$40-1000)*Z20/100)),))),\"\"),\"\")","v":""},null,{"$f":"IF(Avropsblankett!$C$40=$A$16,IF(Avropsblankett!$C$44=$B$18,IF(Avropsblankett!$D$40=$C$7,IF(Avropsblankett!$F$40<1000,AB18,AC18),IF(Avropsblankett!$D$40=$C$8,IF(Avropsblankett!$F$40<1000,AB19,AC19),IF(Avropsblankett!$D$40=$C$9,IF(Avropsblankett!$F$40<1000,AB20,AC20),))),\"\"),\"\")","v":""},null,{"$f":"IF(Avropsblankett!$C$40=$A$16,IF(Avropsblankett!$C$44=$B$18,IF(Avropsblankett!$D$40=$C$7,IF(Avropsblankett!$F$40<1000,((Avropsblankett!$F$40-500)*AD18/100),((Avropsblankett!$F$40-1000)*AD18/100)),IF(Avropsblankett!$D$40=$C$8,IF(Avropsblankett!$F$40<1000,((Avropsblankett!$F$40-500)*AD19/100),((Avropsblankett!$F$40-1000)*AD19/100)),IF(Avropsblankett!$D$40=$C$9,IF(Avropsblankett!$F$40<1000,((Avropsblankett!$F$40-500)*AD20/100),((Avropsblankett!$F$40-1000)*AD20/100)),))),\"\"),\"\")","v":""},null,{"$f":"IF(Avropsblankett!$C$40=$A$16,IF(Avropsblankett!$C$44=$B$18,IF(Avropsblankett!$D$40=$C$7,IF(Avropsblankett!$F$40<1000,AF18,AG18),IF(Avropsblankett!$D$40=$C$8,IF(Avropsblankett!$F$40<1000,AF19,AG19),IF(Avropsblankett!$D$40=$C$9,IF(Avropsblankett!$F$40<1000,AF20,AG20),))),\"\"),\"\")","v":""},null,{"$f":"IF(Avropsblankett!$C$40=$A$16,IF(Avropsblankett!$C$44=$B$18,IF(Avropsblankett!$D$40=$C$7,IF(Avropsblankett!$F$40<1000,((Avropsblankett!$F$40-500)*AH18/100),((Avropsblankett!$F$40-1000)*AH18/100)),IF(Avropsblankett!$D$40=$C$8,IF(Avropsblankett!$F$40<1000,((Avropsblankett!$F$40-500)*AH19/100),((Avropsblankett!$F$40-1000)*AH19/100)),IF(Avropsblankett!$D$40=$C$9,IF(Avropsblankett!$F$40<1000,((Avropsblankett!$F$40-500)*AH20/100),((Avropsblankett!$F$40-1000)*AH20/100)),))),\"\"),\"\")","v":""},null,{"$f":"IF(Avropsblankett!$C$40=$A$16,IF(Avropsblankett!$C$44=$B$18,IF(Avropsblankett!$D$40=$C$7,IF(Avropsblankett!$F$40<1000,AJ18,AK18),IF(Avropsblankett!$D$40=$C$8,IF(Avropsblankett!$F$40<1000,AJ19,AK19),IF(Avropsblankett!$D$40=$C$9,IF(Avropsblankett!$F$40<1000,AJ20,AK20),))),\"\"),\"\")","v":""},null,{"$f":"IF(Avropsblankett!$C$40=$A$16,IF(Avropsblankett!$C$44=$B$18,IF(Avropsblankett!$D$40=$C$7,IF(Avropsblankett!$F$40<1000,((Avropsblankett!$F$40-500)*AL18/100),((Avropsblankett!$F$40-1000)*AL18/100)),IF(Avropsblankett!$D$40=$C$8,IF(Avropsblankett!$F$40<1000,((Avropsblankett!$F$40-500)*AL19/100),((Avropsblankett!$F$40-1000)*AL19/100)),IF(Avropsblankett!$D$40=$C$9,IF(Avropsblankett!$F$40<1000,((Avropsblankett!$F$40-500)*AL20/100),((Avropsblankett!$F$40-1000)*AL20/100)),))),\"\"),\"\")","v":""},null,{"$f":"IF(Avropsblankett!$C$40=$A$16,IF(Avropsblankett!$C$44=$B$18,IF(Avropsblankett!$D$40=$C$7,IF(Avropsblankett!$F$40<1000,AN18,AO18),IF(Avropsblankett!$D$40=$C$8,IF(Avropsblankett!$F$40<1000,AN19,AO19),IF(Avropsblankett!$D$40=$C$9,IF(Avropsblankett!$F$40<1000,AN20,AO20),))),\"\"),\"\")","v":""},null,{"$f":"IF(Avropsblankett!$C$40=$A$16,IF(Avropsblankett!$C$44=$B$18,IF(Avropsblankett!$D$40=$C$7,IF(Avropsblankett!$F$40<1000,((Avropsblankett!$F$40-500)*AP18/100),((Avropsblankett!$F$40-1000)*AP18/100)),IF(Avropsblankett!$D$40=$C$8,IF(Avropsblankett!$F$40<1000,((Avropsblankett!$F$40-500)*AP19/100),((Avropsblankett!$F$40-1000)*AP19/100)),IF(Avropsblankett!$D$40=$C$9,IF(Avropsblankett!$F$40<1000,((Avropsblankett!$F$40-500)*AP20/100),((Avropsblankett!$F$40-1000)*AP20/100)),))),\"\"),\"\")","v":""}]
[null,null,null,{"$f":"IF(Avropsblankett!$C$52=$A$16,IF(Avropsblankett!$C$56=$B$18,IF(Avropsblankett!$D$52=$C$7,IF(Avropsblankett!$F$52<1000,D18,E18),IF(Avropsblankett!$D$52=$C$8,IF(Avropsblankett!$F$52<1000,D19,E19),IF(Avropsblankett!$D$52=$C$9,IF(Avropsblankett!$F$52<1000,D20,E20),))),\"\"),\"\")","v":""},null,{"$f":"IF(Avropsblankett!$C$52=$A$16,IF(Avropsblankett!$C$56=$B$18,IF(Avropsblankett!$D$52=$C$7,IF(Avropsblankett!$F$52<1000,((Avropsblankett!$F$52-500)*F18/100),((Avropsblankett!$F$52-1000)*F18/100)),IF(Avropsblankett!$D$52=$C$8,IF(Avropsblankett!$F$52<1000,((Avropsblankett!$F$52-500)*F19/100),((Avropsblankett!$F$52-1000)*F19/100)),IF(Avropsblankett!$D$52=$C$9,IF(Avropsblankett!$F$52<1000,((Avropsblankett!$F$52-500)*F20/100),((Avropsblankett!$F$52-1000)*F20/100)),))),\"\"),\"\")","v":""},null,{"$f":"IF(Avropsblankett!$C$52=$A$16,IF(Avropsblankett!$C$56=$B$18,IF(Avropsblankett!$D$52=$C$7,IF(Avropsblankett!$F$52<1000,H18,I18),IF(Avropsblankett!$D$52=$C$8,IF(Avropsblankett!$F$52<1000,H19,I19),IF(Avropsblankett!$D$52=$C$9,IF(Avropsblankett!$F$52<1000,H20,I20),))),\"\"),\"\")","v":""},null,{"$f":"IF(Avropsblankett!$C$52=$A$16,IF(Avropsblankett!$C$56=$B$18,IF(Avropsblankett!$D$52=$C$7,IF(Avropsblankett!$F$52<1000,((Avropsblankett!$F$52-500)*J18/100),((Avropsblankett!$F$52-1000)*J18/100)),IF(Avropsblankett!$D$52=$C$8,IF(Avropsblankett!$F$52<1000,((Avropsblankett!$F$52-500)*J19/100),((Avropsblankett!$F$52-1000)*J19/100)),IF(Avropsblankett!$D$52=$C$9,IF(Avropsblankett!$F$52<1000,((Avropsblankett!$F$52-500)*J20/100),((Avropsblankett!$F$52-1000)*J20/100)),))),\"\"),\"\")","v":""},null,{"$f":"IF(Avropsblankett!$C$52=$A$16,IF(Avropsblankett!$C$56=$B$18,IF(Avropsblankett!$D$52=$C$7,IF(Avropsblankett!$F$52<1000,L18,M18),IF(Avropsblankett!$D$52=$C$8,IF(Avropsblankett!$F$52<1000,L19,M19),IF(Avropsblankett!$D$52=$C$9,IF(Avropsblankett!$F$52<1000,L20,M20),))),\"\"),\"\")","v":""},null,{"$f":"IF(Avropsblankett!$C$52=$A$16,IF(Avropsblankett!$C$56=$B$18,IF(Avropsblankett!$D$52=$C$7,IF(Avropsblankett!$F$52<1000,((Avropsblankett!$F$52-500)*N18/100),((Avropsblankett!$F$52-1000)*N18/100)),IF(Avropsblankett!$D$52=$C$8,IF(Avropsblankett!$F$52<1000,((Avropsblankett!$F$52-500)*N19/100),((Avropsblankett!$F$52-1000)*N19/100)),IF(Avropsblankett!$D$52=$C$9,IF(Avropsblankett!$F$52<1000,((Avropsblankett!$F$52-500)*N20/100),((Avropsblankett!$F$52-1000)*N20/100)),))),\"\"),\"\")","v":""},null,{"$f":"IF(Avropsblankett!$C$52=$A$16,IF(Avropsblankett!$C$56=$B$18,IF(Avropsblankett!$D$52=$C$7,IF(Avropsblankett!$F$52<1000,P18,Q18),IF(Avropsblankett!$D$52=$C$8,IF(Avropsblankett!$F$52<1000,P19,Q19),IF(Avropsblankett!$D$52=$C$9,IF(Avropsblankett!$F$52<1000,P20,Q20),))),\"\"),\"\")","v":""},null,{"$f":"IF(Avropsblankett!$C$52=$A$16,IF(Avropsblankett!$C$56=$B$18,IF(Avropsblankett!$D$52=$C$7,IF(Avropsblankett!$F$52<1000,((Avropsblankett!$F$52-500)*R18/100),((Avropsblankett!$F$52-1000)*R18/100)),IF(Avropsblankett!$D$52=$C$8,IF(Avropsblankett!$F$52<1000,((Avropsblankett!$F$52-500)*R19/100),((Avropsblankett!$F$52-1000)*R19/100)),IF(Avropsblankett!$D$52=$C$9,IF(Avropsblankett!$F$52<1000,((Avropsblankett!$F$52-500)*R20/100),((Avropsblankett!$F$52-1000)*R20/100)),))),\"\"),\"\")","v":""},null,{"$f":"IF(Avropsblankett!$C$52=$A$16,IF(Avropsblankett!$C$56=$B$18,IF(Avropsblankett!$D$52=$C$7,IF(Avropsblankett!$F$52<1000,T18,U18),IF(Avropsblankett!$D$52=$C$8,IF(Avropsblankett!$F$52<1000,T19,U19),IF(Avropsblankett!$D$52=$C$9,IF(Avropsblankett!$F$52<1000,T20,U20),))),\"\"),\"\")","v":""},null,{"$f":"IF(Avropsblankett!$C$52=$A$16,IF(Avropsblankett!$C$56=$B$18,IF(Avropsblankett!$D$52=$C$7,IF(Avropsblankett!$F$52<1000,((Avropsblankett!$F$52-500)*V18/100),((Avropsblankett!$F$52-1000)*V18/100)),IF(Avropsblankett!$D$52=$C$8,IF(Avropsblankett!$F$52<1000,((Avropsblankett!$F$52-500)*V19/100),((Avropsblankett!$F$52-1000)*V19/100)),IF(Avropsblankett!$D$52=$C$9,IF(Avropsblankett!$F$52<1000,((Avropsblankett!$F$52-500)*V20/100),((Avropsblankett!$F$52-1000)*V20/100)),))),\"\"),\"\")","v":""},null,{"$f":"IF(Avropsblankett!$C$52=$A$16,IF(Avropsblankett!$C$56=$B$18,IF(Avropsblankett!$D$52=$C$7,IF(Avropsblankett!$F$52<1000,X18,Y18),IF(Avropsblankett!$D$52=$C$8,IF(Avropsblankett!$F$52<1000,X19,Y19),IF(Avropsblankett!$D$52=$C$9,IF(Avropsblankett!$F$52<1000,X20,Y20),))),\"\"),\"\")","v":""},null,{"$f":"IF(Avropsblankett!$C$52=$A$16,IF(Avropsblankett!$C$56=$B$18,IF(Avropsblankett!$D$52=$C$7,IF(Avropsblankett!$F$52<1000,((Avropsblankett!$F$52-500)*Z18/100),((Avropsblankett!$F$52-1000)*Z18/100)),IF(Avropsblankett!$D$52=$C$8,IF(Avropsblankett!$F$52<1000,((Avropsblankett!$F$52-500)*Z19/100),((Avropsblankett!$F$52-1000)*Z19/100)),IF(Avropsblankett!$D$52=$C$9,IF(Avropsblankett!$F$52<1000,((Avropsblankett!$F$52-500)*Z20/100),((Avropsblankett!$F$52-1000)*Z20/100)),))),\"\"),\"\")","v":""},null,{"$f":"IF(Avropsblankett!$C$52=$A$16,IF(Avropsblankett!$C$56=$B$18,IF(Avropsblankett!$D$52=$C$7,IF(Avropsblankett!$F$52<1000,AB18,AC18),IF(Avropsblankett!$D$52=$C$8,IF(Avropsblankett!$F$52<1000,AB19,AC19),IF(Avropsblankett!$D$52=$C$9,IF(Avropsblankett!$F$52<1000,AB20,AC20),))),\"\"),\"\")","v":""},null,{"$f":"IF(Avropsblankett!$C$52=$A$16,IF(Avropsblankett!$C$56=$B$18,IF(Avropsblankett!$D$52=$C$7,IF(Avropsblankett!$F$52<1000,((Avropsblankett!$F$52-500)*AD18/100),((Avropsblankett!$F$52-1000)*AD18/100)),IF(Avropsblankett!$D$52=$C$8,IF(Avropsblankett!$F$52<1000,((Avropsblankett!$F$52-500)*AD19/100),((Avropsblankett!$F$52-1000)*AD19/100)),IF(Avropsblankett!$D$52=$C$9,IF(Avropsblankett!$F$52<1000,((Avropsblankett!$F$52-500)*AD20/100),((Avropsblankett!$F$52-1000)*AD20/100)),))),\"\"),\"\")","v":""},null,{"$f":"IF(Avropsblankett!$C$52=$A$16,IF(Avropsblankett!$C$56=$B$18,IF(Avropsblankett!$D$52=$C$7,IF(Avropsblankett!$F$52<1000,AF18,AG18),IF(Avropsblankett!$D$52=$C$8,IF(Avropsblankett!$F$52<1000,AF19,AG19),IF(Avropsblankett!$D$52=$C$9,IF(Avropsblankett!$F$52<1000,AF20,AG20),))),\"\"),\"\")","v":""},null,{"$f":"IF(Avropsblankett!$C$52=$A$16,IF(Avropsblankett!$C$56=$B$18,IF(Avropsblankett!$D$52=$C$7,IF(Avropsblankett!$F$52<1000,((Avropsblankett!$F$52-500)*AH18/100),((Avropsblankett!$F$52-1000)*AH18/100)),IF(Avropsblankett!$D$52=$C$8,IF(Avropsblankett!$F$52<1000,((Avropsblankett!$F$52-500)*AH19/100),((Avropsblankett!$F$52-1000)*AH19/100)),IF(Avropsblankett!$D$52=$C$9,IF(Avropsblankett!$F$52<1000,((Avropsblankett!$F$52-500)*AH20/100),((Avropsblankett!$F$52-1000)*AH20/100)),))),\"\"),\"\")","v":""},null,{"$f":"IF(Avropsblankett!$C$52=$A$16,IF(Avropsblankett!$C$56=$B$18,IF(Avropsblankett!$D$52=$C$7,IF(Avropsblankett!$F$52<1000,AJ18,AK18),IF(Avropsblankett!$D$52=$C$8,IF(Avropsblankett!$F$52<1000,AJ19,AK19),IF(Avropsblankett!$D$52=$C$9,IF(Avropsblankett!$F$52<1000,AJ20,AK20),))),\"\"),\"\")","v":""},null,{"$f":"IF(Avropsblankett!$C$52=$A$16,IF(Avropsblankett!$C$56=$B$18,IF(Avropsblankett!$D$52=$C$7,IF(Avropsblankett!$F$52<1000,((Avropsblankett!$F$52-500)*AL18/100),((Avropsblankett!$F$52-1000)*AL18/100)),IF(Avropsblankett!$D$52=$C$8,IF(Avropsblankett!$F$52<1000,((Avropsblankett!$F$52-500)*AL19/100),((Avropsblankett!$F$52-1000)*AL19/100)),IF(Avropsblankett!$D$52=$C$9,IF(Avropsblankett!$F$52<1000,((Avropsblankett!$F$52-500)*AL20/100),((Avropsblankett!$F$52-1000)*AL20/100)),))),\"\"),\"\")","v":""},null,{"$f":"IF(Avropsblankett!$C$52=$A$16,IF(Avropsblankett!$C$56=$B$18,IF(Avropsblankett!$D$52=$C$7,IF(Avropsblankett!$F$52<1000,AN18,AO18),IF(Avropsblankett!$D$52=$C$8,IF(Avropsblankett!$F$52<1000,AN19,AO19),IF(Avropsblankett!$D$52=$C$9,IF(Avropsblankett!$F$52<1000,AN20,AO20),))),\"\"),\"\")","v":""},null,{"$f":"IF(Avropsblankett!$C$52=$A$16,IF(Avropsblankett!$C$56=$B$18,IF(Avropsblankett!$D$52=$C$7,IF(Avropsblankett!$F$52<1000,((Avropsblankett!$F$52-500)*AP18/100),((Avropsblankett!$F$52-1000)*AP18/100)),IF(Avropsblankett!$D$52=$C$8,IF(Avropsblankett!$F$52<1000,((Avropsblankett!$F$52-500)*AP19/100),((Avropsblankett!$F$52-1000)*AP19/100)),IF(Avropsblankett!$D$52=$C$9,IF(Avropsblankett!$F$52<1000,((Avropsblankett!$F$52-500)*AP20/100),((Avropsblankett!$F$52-1000)*AP20/100)),))),\"\"),\"\")","v":""}]
[null,null,null,{"$f":"IF(Avropsblankett!$C$64=$A$16,IF(Avropsblankett!$C$68=$B$18,IF(Avropsblankett!$D$64=$C$7,IF(Avropsblankett!$F$64<1000,D18,E18),IF(Avropsblankett!$D$64=$C$8,IF(Avropsblankett!$F$64<1000,D19,E19),IF(Avropsblankett!$D$64=$C$9,IF(Avropsblankett!$F$64<1000,D20,E20),))),\"\"),\"\")","v":""},null,{"$f":"IF(Avropsblankett!$C$64=$A$16,IF(Avropsblankett!$C$68=$B$18,IF(Avropsblankett!$D$64=$C$7,IF(Avropsblankett!$F$64<1000,((Avropsblankett!$F$64-500)*F18/100),((Avropsblankett!$F$64-1000)*F18/100)),IF(Avropsblankett!$D$64=$C$8,IF(Avropsblankett!$F$64<1000,((Avropsblankett!$F$64-500)*F19/100),((Avropsblankett!$F$64-1000)*F19/100)),IF(Avropsblankett!$D$64=$C$9,IF(Avropsblankett!$F$64<1000,((Avropsblankett!$F$64-500)*F20/100),((Avropsblankett!$F$64-1000)*F20/100)),))),\"\"),\"\")","v":""},null,{"$f":"IF(Avropsblankett!$C$64=$A$16,IF(Avropsblankett!$C$68=$B$18,IF(Avropsblankett!$D$64=$C$7,IF(Avropsblankett!$F$64<1000,H18,I18),IF(Avropsblankett!$D$64=$C$8,IF(Avropsblankett!$F$64<1000,H19,I19),IF(Avropsblankett!$D$64=$C$9,IF(Avropsblankett!$F$64<1000,H20,I20),))),\"\"),\"\")","v":""},null,{"$f":"IF(Avropsblankett!$C$64=$A$16,IF(Avropsblankett!$C$68=$B$18,IF(Avropsblankett!$D$64=$C$7,IF(Avropsblankett!$F$64<1000,((Avropsblankett!$F$64-500)*J18/100),((Avropsblankett!$F$64-1000)*J18/100)),IF(Avropsblankett!$D$64=$C$8,IF(Avropsblankett!$F$64<1000,((Avropsblankett!$F$64-500)*J19/100),((Avropsblankett!$F$64-1000)*J19/100)),IF(Avropsblankett!$D$64=$C$9,IF(Avropsblankett!$F$64<1000,((Avropsblankett!$F$64-500)*J20/100),((Avropsblankett!$F$64-1000)*J20/100)),))),\"\"),\"\")","v":""},null,{"$f":"IF(Avropsblankett!$C$64=$A$16,IF(Avropsblankett!$C$68=$B$18,IF(Avropsblankett!$D$64=$C$7,IF(Avropsblankett!$F$64<1000,L18,M18),IF(Avropsblankett!$D$64=$C$8,IF(Avropsblankett!$F$64<1000,L19,M19),IF(Avropsblankett!$D$64=$C$9,IF(Avropsblankett!$F$64<1000,L20,M20),))),\"\"),\"\")","v":""},null,{"$f":"IF(Avropsblankett!$C$64=$A$16,IF(Avropsblankett!$C$68=$B$18,IF(Avropsblankett!$D$64=$C$7,IF(Avropsblankett!$F$64<1000,((Avropsblankett!$F$64-500)*N18/100),((Avropsblankett!$F$64-1000)*N18/100)),IF(Avropsblankett!$D$64=$C$8,IF(Avropsblankett!$F$64<1000,((Avropsblankett!$F$64-500)*N19/100),((Avropsblankett!$F$64-1000)*N19/100)),IF(Avropsblankett!$D$64=$C$9,IF(Avropsblankett!$F$64<1000,((Avropsblankett!$F$64-500)*N20/100),((Avropsblankett!$F$64-1000)*N20/100)),))),\"\"),\"\")","v":""},null,{"$f":"IF(Avropsblankett!$C$64=$A$16,IF(Avropsblankett!$C$68=$B$18,IF(Avropsblankett!$D$64=$C$7,IF(Avropsblankett!$F$64<1000,P18,Q18),IF(Avropsblankett!$D$64=$C$8,IF(Avropsblankett!$F$64<1000,P19,Q19),IF(Avropsblankett!$D$64=$C$9,IF(Avropsblankett!$F$64<1000,P20,Q20),))),\"\"),\"\")","v":""},null,{"$f":"IF(Avropsblankett!$C$64=$A$16,IF(Avropsblankett!$C$68=$B$18,IF(Avropsblankett!$D$64=$C$7,IF(Avropsblankett!$F$64<1000,((Avropsblankett!$F$64-500)*R18/100),((Avropsblankett!$F$64-1000)*R18/100)),IF(Avropsblankett!$D$64=$C$8,IF(Avropsblankett!$F$64<1000,((Avropsblankett!$F$64-500)*R19/100),((Avropsblankett!$F$64-1000)*R19/100)),IF(Avropsblankett!$D$64=$C$9,IF(Avropsblankett!$F$64<1000,((Avropsblankett!$F$64-500)*R20/100),((Avropsblankett!$F$64-1000)*R20/100)),))),\"\"),\"\")","v":""},null,{"$f":"IF(Avropsblankett!$C$64=$A$16,IF(Avropsblankett!$C$68=$B$18,IF(Avropsblankett!$D$64=$C$7,IF(Avropsblankett!$F$64<1000,T18,U18),IF(Avropsblankett!$D$64=$C$8,IF(Avropsblankett!$F$64<1000,T19,U19),IF(Avropsblankett!$D$64=$C$9,IF(Avropsblankett!$F$64<1000,T20,U20),))),\"\"),\"\")","v":""},null,{"$f":"IF(Avropsblankett!$C$64=$A$16,IF(Avropsblankett!$C$68=$B$18,IF(Avropsblankett!$D$64=$C$7,IF(Avropsblankett!$F$64<1000,((Avropsblankett!$F$64-500)*V18/100),((Avropsblankett!$F$64-1000)*V18/100)),IF(Avropsblankett!$D$64=$C$8,IF(Avropsblankett!$F$64<1000,((Avropsblankett!$F$64-500)*V19/100),((Avropsblankett!$F$64-1000)*V19/100)),IF(Avropsblankett!$D$64=$C$9,IF(Avropsblankett!$F$64<1000,((Avropsblankett!$F$64-500)*V20/100),((Avropsblankett!$F$64-1000)*V20/100)),))),\"\"),\"\")","v":""},null,{"$f":"IF(Avropsblankett!$C$64=$A$16,IF(Avropsblankett!$C$68=$B$18,IF(Avropsblankett!$D$64=$C$7,IF(Avropsblankett!$F$64<1000,X18,Y18),IF(Avropsblankett!$D$64=$C$8,IF(Avropsblankett!$F$64<1000,X19,Y19),IF(Avropsblankett!$D$64=$C$9,IF(Avropsblankett!$F$64<1000,X20,Y20),))),\"\"),\"\")","v":""},null,{"$f":"IF(Avropsblankett!$C$64=$A$16,IF(Avropsblankett!$C$68=$B$18,IF(Avropsblankett!$D$64=$C$7,IF(Avropsblankett!$F$64<1000,((Avropsblankett!$F$64-500)*Z18/100),((Avropsblankett!$F$64-1000)*Z18/100)),IF(Avropsblankett!$D$64=$C$8,IF(Avropsblankett!$F$64<1000,((Avropsblankett!$F$64-500)*Z19/100),((Avropsblankett!$F$64-1000)*Z19/100)),IF(Avropsblankett!$D$64=$C$9,IF(Avropsblankett!$F$64<1000,((Avropsblankett!$F$64-500)*Z20/100),((Avropsblankett!$F$64-1000)*Z20/100)),))),\"\"),\"\")","v":""},null,{"$f":"IF(Avropsblankett!$C$64=$A$16,IF(Avropsblankett!$C$68=$B$18,IF(Avropsblankett!$D$64=$C$7,IF(Avropsblankett!$F$64<1000,AB18,AC18),IF(Avropsblankett!$D$64=$C$8,IF(Avropsblankett!$F$64<1000,AB19,AC19),IF(Avropsblankett!$D$64=$C$9,IF(Avropsblankett!$F$64<1000,AB20,AC20),))),\"\"),\"\")","v":""},null,{"$f":"IF(Avropsblankett!$C$64=$A$16,IF(Avropsblankett!$C$68=$B$18,IF(Avropsblankett!$D$64=$C$7,IF(Avropsblankett!$F$64<1000,((Avropsblankett!$F$64-500)*AD18/100),((Avropsblankett!$F$64-1000)*AD18/100)),IF(Avropsblankett!$D$64=$C$8,IF(Avropsblankett!$F$64<1000,((Avropsblankett!$F$64-500)*AD19/100),((Avropsblankett!$F$64-1000)*AD19/100)),IF(Avropsblankett!$D$64=$C$9,IF(Avropsblankett!$F$64<1000,((Avropsblankett!$F$64-500)*AD20/100),((Avropsblankett!$F$64-1000)*AD20/100)),))),\"\"),\"\")","v":""},null,{"$f":"IF(Avropsblankett!$C$64=$A$16,IF(Avropsblankett!$C$68=$B$18,IF(Avropsblankett!$D$64=$C$7,IF(Avropsblankett!$F$64<1000,AF18,AG18),IF(Avropsblankett!$D$64=$C$8,IF(Avropsblankett!$F$64<1000,AF19,AG19),IF(Avropsblankett!$D$64=$C$9,IF(Avropsblankett!$F$64<1000,AF20,AG20),))),\"\"),\"\")","v":""},null,{"$f":"IF(Avropsblankett!$C$64=$A$16,IF(Avropsblankett!$C$68=$B$18,IF(Avropsblankett!$D$64=$C$7,IF(Avropsblankett!$F$64<1000,((Avropsblankett!$F$64-500)*AH18/100),((Avropsblankett!$F$64-1000)*AH18/100)),IF(Avropsblankett!$D$64=$C$8,IF(Avropsblankett!$F$64<1000,((Avropsblankett!$F$64-500)*AH19/100),((Avropsblankett!$F$64-1000)*AH19/100)),IF(Avropsblankett!$D$64=$C$9,IF(Avropsblankett!$F$64<1000,((Avropsblankett!$F$64-500)*AH20/100),((Avropsblankett!$F$64-1000)*AH20/100)),))),\"\"),\"\")","v":""},null,{"$f":"IF(Avropsblankett!$C$64=$A$16,IF(Avropsblankett!$C$68=$B$18,IF(Avropsblankett!$D$64=$C$7,IF(Avropsblankett!$F$64<1000,AJ18,AK18),IF(Avropsblankett!$D$64=$C$8,IF(Avropsblankett!$F$64<1000,AJ19,AK19),IF(Avropsblankett!$D$64=$C$9,IF(Avropsblankett!$F$64<1000,AJ20,AK20),))),\"\"),\"\")","v":""},null,{"$f":"IF(Avropsblankett!$C$64=$A$16,IF(Avropsblankett!$C$68=$B$18,IF(Avropsblankett!$D$64=$C$7,IF(Avropsblankett!$F$64<1000,((Avropsblankett!$F$64-500)*AL18/100),((Avropsblankett!$F$64-1000)*AL18/100)),IF(Avropsblankett!$D$64=$C$8,IF(Avropsblankett!$F$64<1000,((Avropsblankett!$F$64-500)*AL19/100),((Avropsblankett!$F$64-1000)*AL19/100)),IF(Avropsblankett!$D$64=$C$9,IF(Avropsblankett!$F$64<1000,((Avropsblankett!$F$64-500)*AL20/100),((Avropsblankett!$F$64-1000)*AL20/100)),))),\"\"),\"\")","v":""},null,{"$f":"IF(Avropsblankett!$C$64=$A$16,IF(Avropsblankett!$C$68=$B$18,IF(Avropsblankett!$D$64=$C$7,IF(Avropsblankett!$F$64<1000,AN18,AO18),IF(Avropsblankett!$D$64=$C$8,IF(Avropsblankett!$F$64<1000,AN19,AO19),IF(Avropsblankett!$D$64=$C$9,IF(Avropsblankett!$F$64<1000,AN20,AO20),))),\"\"),\"\")","v":""},null,{"$f":"IF(Avropsblankett!$C$64=$A$16,IF(Avropsblankett!$C$68=$B$18,IF(Avropsblankett!$D$64=$C$7,IF(Avropsblankett!$F$64<1000,((Avropsblankett!$F$64-500)*AP18/100),((Avropsblankett!$F$64-1000)*AP18/100)),IF(Avropsblankett!$D$64=$C$8,IF(Avropsblankett!$F$64<1000,((Avropsblankett!$F$64-500)*AP19/100),((Avropsblankett!$F$64-1000)*AP19/100)),IF(Avropsblankett!$D$64=$C$9,IF(Avropsblankett!$F$64<1000,((Avropsblankett!$F$64-500)*AP20/100),((Avropsblankett!$F$64-1000)*AP20/100)),))),\"\"),\"\")","v":""}]
[null,null,null,{"$f":"IF(Avropsblankett!$C$76=$A$16,IF(Avropsblankett!$C$80=$B$18,IF(Avropsblankett!$D$76=$C$7,IF(Avropsblankett!$F$76<1000,D18,E18),IF(Avropsblankett!$D$76=$C$8,IF(Avropsblankett!$F$76<1000,D19,E19),IF(Avropsblankett!$D$76=$C$9,IF(Avropsblankett!$F$76<1000,D20,E20),))),\"\"),\"\")","v":""},null,{"$f":"IF(Avropsblankett!$C$76=$A$16,IF(Avropsblankett!$C$80=$B$18,IF(Avropsblankett!$D$76=$C$7,IF(Avropsblankett!$F$76<1000,((Avropsblankett!$F$76-500)*F18/100),((Avropsblankett!$F$76-1000)*F18/100)),IF(Avropsblankett!$D$76=$C$8,IF(Avropsblankett!$F$76<1000,((Avropsblankett!$F$76-500)*F19/100),((Avropsblankett!$F$76-1000)*F19/100)),IF(Avropsblankett!$D$76=$C$9,IF(Avropsblankett!$F$76<1000,((Avropsblankett!$F$76-500)*F20/100),((Avropsblankett!$F$76-1000)*F20/100)),))),\"\"),\"\")","v":""},null,{"$f":"IF(Avropsblankett!$C$76=$A$16,IF(Avropsblankett!$C$80=$B$18,IF(Avropsblankett!$D$76=$C$7,IF(Avropsblankett!$F$76<1000,H18,I18),IF(Avropsblankett!$D$76=$C$8,IF(Avropsblankett!$F$76<1000,H19,I19),IF(Avropsblankett!$D$76=$C$9,IF(Avropsblankett!$F$76<1000,H20,I20),))),\"\"),\"\")","v":""},null,{"$f":"IF(Avropsblankett!$C$76=$A$16,IF(Avropsblankett!$C$80=$B$18,IF(Avropsblankett!$D$76=$C$7,IF(Avropsblankett!$F$76<1000,((Avropsblankett!$F$76-500)*J18/100),((Avropsblankett!$F$76-1000)*J18/100)),IF(Avropsblankett!$D$76=$C$8,IF(Avropsblankett!$F$76<1000,((Avropsblankett!$F$76-500)*J19/100),((Avropsblankett!$F$76-1000)*J19/100)),IF(Avropsblankett!$D$76=$C$9,IF(Avropsblankett!$F$76<1000,((Avropsblankett!$F$76-500)*J20/100),((Avropsblankett!$F$76-1000)*J20/100)),))),\"\"),\"\")","v":""},null,{"$f":"IF(Avropsblankett!$C$76=$A$16,IF(Avropsblankett!$C$80=$B$18,IF(Avropsblankett!$D$76=$C$7,IF(Avropsblankett!$F$76<1000,L18,M18),IF(Avropsblankett!$D$76=$C$8,IF(Avropsblankett!$F$76<1000,L19,M19),IF(Avropsblankett!$D$76=$C$9,IF(Avropsblankett!$F$76<1000,L20,M20),))),\"\"),\"\")","v":""},null,{"$f":"IF(Avropsblankett!$C$76=$A$16,IF(Avropsblankett!$C$80=$B$18,IF(Avropsblankett!$D$76=$C$7,IF(Avropsblankett!$F$76<1000,((Avropsblankett!$F$76-500)*N18/100),((Avropsblankett!$F$76-1000)*N18/100)),IF(Avropsblankett!$D$76=$C$8,IF(Avropsblankett!$F$76<1000,((Avropsblankett!$F$76-500)*N19/100),((Avropsblankett!$F$76-1000)*N19/100)),IF(Avropsblankett!$D$76=$C$9,IF(Avropsblankett!$F$76<1000,((Avropsblankett!$F$76-500)*N20/100),((Avropsblankett!$F$76-1000)*N20/100)),))),\"\"),\"\")","v":""},null,{"$f":"IF(Avropsblankett!$C$76=$A$16,IF(Avropsblankett!$C$80=$B$18,IF(Avropsblankett!$D$76=$C$7,IF(Avropsblankett!$F$76<1000,P18,Q18),IF(Avropsblankett!$D$76=$C$8,IF(Avropsblankett!$F$76<1000,P19,Q19),IF(Avropsblankett!$D$76=$C$9,IF(Avropsblankett!$F$76<1000,P20,Q20),))),\"\"),\"\")","v":""},null,{"$f":"IF(Avropsblankett!$C$76=$A$16,IF(Avropsblankett!$C$80=$B$18,IF(Avropsblankett!$D$76=$C$7,IF(Avropsblankett!$F$76<1000,((Avropsblankett!$F$76-500)*R18/100),((Avropsblankett!$F$76-1000)*R18/100)),IF(Avropsblankett!$D$76=$C$8,IF(Avropsblankett!$F$76<1000,((Avropsblankett!$F$76-500)*R19/100),((Avropsblankett!$F$76-1000)*R19/100)),IF(Avropsblankett!$D$76=$C$9,IF(Avropsblankett!$F$76<1000,((Avropsblankett!$F$76-500)*R20/100),((Avropsblankett!$F$76-1000)*R20/100)),))),\"\"),\"\")","v":""},null,{"$f":"IF(Avropsblankett!$C$76=$A$16,IF(Avropsblankett!$C$80=$B$18,IF(Avropsblankett!$D$76=$C$7,IF(Avropsblankett!$F$76<1000,T18,U18),IF(Avropsblankett!$D$76=$C$8,IF(Avropsblankett!$F$76<1000,T19,U19),IF(Avropsblankett!$D$76=$C$9,IF(Avropsblankett!$F$76<1000,T20,U20),))),\"\"),\"\")","v":""},null,{"$f":"IF(Avropsblankett!$C$76=$A$16,IF(Avropsblankett!$C$80=$B$18,IF(Avropsblankett!$D$76=$C$7,IF(Avropsblankett!$F$76<1000,((Avropsblankett!$F$76-500)*V18/100),((Avropsblankett!$F$76-1000)*V18/100)),IF(Avropsblankett!$D$76=$C$8,IF(Avropsblankett!$F$76<1000,((Avropsblankett!$F$76-500)*V19/100),((Avropsblankett!$F$76-1000)*V19/100)),IF(Avropsblankett!$D$76=$C$9,IF(Avropsblankett!$F$76<1000,((Avropsblankett!$F$76-500)*V20/100),((Avropsblankett!$F$76-1000)*V20/100)),))),\"\"),\"\")","v":""},null,{"$f":"IF(Avropsblankett!$C$76=$A$16,IF(Avropsblankett!$C$80=$B$18,IF(Avropsblankett!$D$76=$C$7,IF(Avropsblankett!$F$76<1000,X18,Y18),IF(Avropsblankett!$D$76=$C$8,IF(Avropsblankett!$F$76<1000,X19,Y19),IF(Avropsblankett!$D$76=$C$9,IF(Avropsblankett!$F$76<1000,X20,Y20),))),\"\"),\"\")","v":""},null,{"$f":"IF(Avropsblankett!$C$76=$A$16,IF(Avropsblankett!$C$80=$B$18,IF(Avropsblankett!$D$76=$C$7,IF(Avropsblankett!$F$76<1000,((Avropsblankett!$F$76-500)*Z18/100),((Avropsblankett!$F$76-1000)*Z18/100)),IF(Avropsblankett!$D$76=$C$8,IF(Avropsblankett!$F$76<1000,((Avropsblankett!$F$76-500)*Z19/100),((Avropsblankett!$F$76-1000)*Z19/100)),IF(Avropsblankett!$D$76=$C$9,IF(Avropsblankett!$F$76<1000,((Avropsblankett!$F$76-500)*Z20/100),((Avropsblankett!$F$76-1000)*Z20/100)),))),\"\"),\"\")","v":""},null,{"$f":"IF(Avropsblankett!$C$76=$A$16,IF(Avropsblankett!$C$80=$B$18,IF(Avropsblankett!$D$76=$C$7,IF(Avropsblankett!$F$76<1000,AB18,AC18),IF(Avropsblankett!$D$76=$C$8,IF(Avropsblankett!$F$76<1000,AB19,AC19),IF(Avropsblankett!$D$76=$C$9,IF(Avropsblankett!$F$76<1000,AB20,AC20),))),\"\"),\"\")","v":""},null,{"$f":"IF(Avropsblankett!$C$76=$A$16,IF(Avropsblankett!$C$80=$B$18,IF(Avropsblankett!$D$76=$C$7,IF(Avropsblankett!$F$76<1000,((Avropsblankett!$F$76-500)*AD18/100),((Avropsblankett!$F$76-1000)*AD18/100)),IF(Avropsblankett!$D$76=$C$8,IF(Avropsblankett!$F$76<1000,((Avropsblankett!$F$76-500)*AD19/100),((Avropsblankett!$F$76-1000)*AD19/100)),IF(Avropsblankett!$D$76=$C$9,IF(Avropsblankett!$F$76<1000,((Avropsblankett!$F$76-500)*AD20/100),((Avropsblankett!$F$76-1000)*AD20/100)),))),\"\"),\"\")","v":""},null,{"$f":"IF(Avropsblankett!$C$76=$A$16,IF(Avropsblankett!$C$80=$B$18,IF(Avropsblankett!$D$76=$C$7,IF(Avropsblankett!$F$76<1000,AF18,AG18),IF(Avropsblankett!$D$76=$C$8,IF(Avropsblankett!$F$76<1000,AF19,AG19),IF(Avropsblankett!$D$76=$C$9,IF(Avropsblankett!$F$76<1000,AF20,AG20),))),\"\"),\"\")","v":""},null,{"$f":"IF(Avropsblankett!$C$76=$A$16,IF(Avropsblankett!$C$80=$B$18,IF(Avropsblankett!$D$76=$C$7,IF(Avropsblankett!$F$76<1000,((Avropsblankett!$F$76-500)*AH18/100),((Avropsblankett!$F$76-1000)*AH18/100)),IF(Avropsblankett!$D$76=$C$8,IF(Avropsblankett!$F$76<1000,((Avropsblankett!$F$76-500)*AH19/100),((Avropsblankett!$F$76-1000)*AH19/100)),IF(Avropsblankett!$D$76=$C$9,IF(Avropsblankett!$F$76<1000,((Avropsblankett!$F$76-500)*AH20/100),((Avropsblankett!$F$76-1000)*AH20/100)),))),\"\"),\"\")","v":""},null,{"$f":"IF(Avropsblankett!$C$76=$A$16,IF(Avropsblankett!$C$80=$B$18,IF(Avropsblankett!$D$76=$C$7,IF(Avropsblankett!$F$76<1000,AJ18,AK18),IF(Avropsblankett!$D$76=$C$8,IF(Avropsblankett!$F$76<1000,AJ19,AK19),IF(Avropsblankett!$D$76=$C$9,IF(Avropsblankett!$F$76<1000,AJ20,AK20),))),\"\"),\"\")","v":""},null,{"$f":"IF(Avropsblankett!$C$76=$A$16,IF(Avropsblankett!$C$80=$B$18,IF(Avropsblankett!$D$76=$C$7,IF(Avropsblankett!$F$76<1000,((Avropsblankett!$F$76-500)*AL18/100),((Avropsblankett!$F$76-1000)*AL18/100)),IF(Avropsblankett!$D$76=$C$8,IF(Avropsblankett!$F$76<1000,((Avropsblankett!$F$76-500)*AL19/100),((Avropsblankett!$F$76-1000)*AL19/100)),IF(Avropsblankett!$D$76=$C$9,IF(Avropsblankett!$F$76<1000,((Avropsblankett!$F$76-500)*AL20/100),((Avropsblankett!$F$76-1000)*AL20/100)),))),\"\"),\"\")","v":""},null,{"$f":"IF(Avropsblankett!$C$76=$A$16,IF(Avropsblankett!$C$80=$B$18,IF(Avropsblankett!$D$76=$C$7,IF(Avropsblankett!$F$76<1000,AN18,AO18),IF(Avropsblankett!$D$76=$C$8,IF(Avropsblankett!$F$76<1000,AN19,AO19),IF(Avropsblankett!$D$76=$C$9,IF(Avropsblankett!$F$76<1000,AN20,AO20),))),\"\"),\"\")","v":""},null,{"$f":"IF(Avropsblankett!$C$76=$A$16,IF(Avropsblankett!$C$80=$B$18,IF(Avropsblankett!$D$76=$C$7,IF(Avropsblankett!$F$76<1000,((Avropsblankett!$F$76-500)*AP18/100),((Avropsblankett!$F$76-1000)*AP18/100)),IF(Avropsblankett!$D$76=$C$8,IF(Avropsblankett!$F$76<1000,((Avropsblankett!$F$76-500)*AP19/100),((Avropsblankett!$F$76-1000)*AP19/100)),IF(Avropsblankett!$D$76=$C$9,IF(Avropsblankett!$F$76<1000,((Avropsblankett!$F$76-500)*AP20/100),((Avropsblankett!$F$76-1000)*AP20/100)),))),\"\"),\"\")","v":""}]
[null,null,null,{"$f":"SUM(D21:D25)","v":0},null,{"$f":"SUM(F21:F25)","v":0},null,{"$f":"SUM(H21:H25)","v":0},null,{"$f":"SUM(J21:J25)","v":0},null,{"$f":"SUM(L21:L25)","v":0},null,{"$f":"SUM(N21:N25)","v":0},null,{"$f":"SUM(P21:P25)","v":0},null,{"$f":"SUM(R21:R25)","v":0},null,{"$f":"SUM(T21:T25)","v":0},null,{"$f":"SUM(V21:V25)","v":0},null,{"$f":"SUM(X21:X25)","v":0},null,{"$f":"SUM(Z21:Z25)","v":0},null,{"$f":"SUM(AB21:AB25)","v":0},null,{"$f":"SUM(AD21:AD25)","v":0},null,{"$f":"SUM(AF21:AF25)","v":0},null,{"$f":"SUM(AH21:AH25)","v":0},null,{"$f":"SUM(AJ21:AJ25)","v":0},null,{"$f":"SUM(AL21:AL25)","v":0},null,{"$f":"SUM(AN21:AN25)","v":0},null,{"$f":"SUM(AP21:AP25)","v":0}]
["Kuvert_Variant_3",null,"Variant 3","Upplaga",null,"Följande",null,"Upplaga",null,"Följande",null,"Upplaga",null,"Följande",null,"Upplaga",null,"Följande",null,"Upplaga",null,"Följande",null,"Upplaga",null,"Följande",null,"Upplaga",null,"Följande",null,"Upplaga",null,"Följande",null,"Upplaga",null,"Följande",null,"Upplaga",null,"Följande"]
["Kuvert","Kuvert vitt fönster stående, självhäftande klaff med täckremsa. Klaffen ska vara tryckbar. 100g",null,500,1000,100,null,500,1000,100,null,500,1000,100,null,500,1000,100,null,500,1000,100,null,500,1000,100,null,500,1000,100,null,500,1000,100,null,500,1000,100,null,500,1000,100]
["Storlek","C4","Tryck ´4+4",1500,2250,150,null,2860.0000000000005,3190.0000000000005,319,null,3100,3400,74,null,1300,1600,150,null,1115,1525,30,null,2010,2252,187,null,1400,1800,200,null,1394,2149,152,null,2200,3300,190,null,2433,2700,30]
[null,null,"Tryck ´4+0",1150,1300,150,null,1595.0000000000002,1924,192,null,1400,1700,40,null,1000,1400,130,null,617,979,15,null,1827,2047,185,null,1000,1350,150,null,875,1430,112,null,1780,2750,170,null,1372,1663,15]
[null,null,"Tryck ´1+0",450,635,150,null,671,1001.0000000000001,100.10000000000001,null,650,950,20,null,600,880,85,null,411,635,15,null,747,1007,104,null,800,1100,125,null,514,929,84,null,1100,1600,150,null,727,1030,15]
[null,null,null,{"$f":"IF(Avropsblankett!$C$28=$A$27,IF(Avropsblankett!$C$32=$B$29,IF(Avropsblankett!$D$28=$C$7,IF(Avropsblankett!$F$28<1000,D29,E29),IF(Avropsblankett!$D$28=$C$8,IF(Avropsblankett!$F$28<1000,D30,E30),IF(Avropsblankett!$D$28=$C$9,IF(Avropsblankett!$F$28<1000,D31,E31),))),\"\"),\"\")","v":""},null,{"$f":"IF(Avropsblankett!$C$28=$A$27,IF(Avropsblankett!$C$32=$B$29,IF(Avropsblankett!$D$28=$C$7,IF(Avropsblankett!$F$28<1000,((Avropsblankett!$F$28-500)*F29/100),((Avropsblankett!$F$28-1000)*F29/100)),IF(Avropsblankett!$D$28=$C$8,IF(Avropsblankett!$F$28<1000,((Avropsblankett!$F$28-500)*F30/100),((Avropsblankett!$F$28-1000)*F30/100)),IF(Avropsblankett!$D$28=$C$9,IF(Avropsblankett!$F$28<1000,((Avropsblankett!$F$28-500)*F31/100),((Avropsblankett!$F$28-1000)*F31/100)),))),\"\"),\"\")","v":""},null,{"$f":"IF(Avropsblankett!$C$28=$A$27,IF(Avropsblankett!$C$32=$B$29,IF(Avropsblankett!$D$28=$C$7,IF(Avropsblankett!$F$28<1000,H29,I29),IF(Avropsblankett!$D$28=$C$8,IF(Avropsblankett!$F$28<1000,H30,I30),IF(Avropsblankett!$D$28=$C$9,IF(Avropsblankett!$F$28<1000,H31,I31),))),\"\"),\"\")","v":""},null,{"$f":"IF(Avropsblankett!$C$28=$A$27,IF(Avropsblankett!$C$32=$B$29,IF(Avropsblankett!$D$28=$C$7,IF(Avropsblankett!$F$28<1000,((Avropsblankett!$F$28-500)*J29/100),((Avropsblankett!$F$28-1000)*J29/100)),IF(Avropsblankett!$D$28=$C$8,IF(Avropsblankett!$F$28<1000,((Avropsblankett!$F$28-500)*J30/100),((Avropsblankett!$F$28-1000)*J30/100)),IF(Avropsblankett!$D$28=$C$9,IF(Avropsblankett!$F$28<1000,((Avropsblankett!$F$28-500)*J31/100),((Avropsblankett!$F$28-1000)*J31/100)),))),\"\"),\"\")","v":""},null,{"$f":"IF(Avropsblankett!$C$28=$A$27,IF(Avropsblankett!$C$32=$B$29,IF(Avropsblankett!$D$28=$C$7,IF(Avropsblankett!$F$28<1000,L29,M29),IF(Avropsblankett!$D$28=$C$8,IF(Avropsblankett!$F$28<1000,L30,M30),IF(Avropsblankett!$D$28=$C$9,IF(Avropsblankett!$F$28<1000,L31,M31),))),\"\"),\"\")","v":""},null,{"$f":"IF(Avropsblankett!$C$28=$A$27,IF(Avropsblankett!$C$32=$B$29,IF(Avropsblankett!$D$28=$C$7,IF(Avropsblankett!$F$28<1000,((Avropsblankett!$F$28-500)*N29/100),((Avropsblankett!$F$28-1000)*N29/100)),IF(Avropsblankett!$D$28=$C$8,IF(Avropsblankett!$F$28<1000,((Avropsblankett!$F$28-500)*N30/100),((Avropsblankett!$F$28-1000)*N30/100)),IF(Avropsblankett!$D$28=$C$9,IF(Avropsblankett!$F$28<1000,((Avropsblankett!$F$28-500)*N31/100),((Avropsblankett!$F$28-1000)*N31/100)),))),\"\"),\"\")","v":""},null,{"$f":"IF(Avropsblankett!$C$28=$A$27,IF(Avropsblankett!$C$32=$B$29,IF(Avropsblankett!$D$28=$C$7,IF(Avropsblankett!$F$28<1000,P29,Q29),IF(Avropsblankett!$D$28=$C$8,IF(Avropsblankett!$F$28<1000,P30,Q30),IF(Avropsblankett!$D$28=$C$9,IF(Avropsblankett!$F$28<1000,P31,Q31),))),\"\"),\"\")","v":""},null,{"$f":"IF(Avropsblankett!$C$28=$A$27,IF(Avropsblankett!$C$32=$B$29,IF(Avropsblankett!$D$28=$C$7,IF(Avropsblankett!$F$28<1000,((Avropsblankett!$F$28-500)*R29/100),((Avropsblankett!$F$28-1000)*R29/100)),IF(Avropsblankett!$D$28=$C$8,IF(Avropsblankett!$F$28<1000,((Avropsblankett!$F$28-500)*R30/100),((Avropsblankett!$F$28-1000)*R30/100)),IF(Avropsblankett!$D$28=$C$9,IF(Avropsblankett!$F$28<1000,((Avropsblankett!$F$28-500)*R31/100),((Avropsblankett!$F$28-1000)*R31/100)),))),\"\"),\"\")","v":""},null,{"$f":"IF(Avropsblankett!$C$28=$A$27,IF(Avropsblankett!$C$32=$B$29,IF(Avropsblankett!$D$28=$C$7,IF(Avropsblankett!$F$28<1000,T29,U29),IF(Avropsblankett!$D$28=$C$8,IF(Avropsblankett!$F$28<1000,T30,U30),IF(Avropsblankett!$D$28=$C$9,IF(Avropsblankett!$F$28<1000,T31,U31),))),\"\"),\"\")","v":""},null,{"$f":"IF(Avropsblankett!$C$28=$A$27,IF(Avropsblankett!$C$32=$B$29,IF(Avropsblankett!$D$28=$C$7,IF(Avropsblankett!$F$28<1000,((Avropsblankett!$F$28-500)*V29/100),((Avropsblankett!$F$28-1000)*V29/100)),IF(Avropsblankett!$D$28=$C$8,IF(Avropsblankett!$F$28<1000,((Avropsblankett!$F$28-500)*V30/100),((Avropsblankett!$F$28-1000)*V30/100)),IF(Avropsblankett!$D$28=$C$9,IF(Avropsblankett!$F$28<1000,((Avropsblankett!$F$28-500)*V31/100),((Avropsblankett!$F$28-1000)*V31/100)),))),\"\"),\"\")","v":""},null,{"$f":"IF(Avropsblankett!$C$28=$A$27,IF(Avropsblankett!$C$32=$B$29,IF(Avropsblankett!$D$28=$C$7,IF(Avropsblankett!$F$28<1000,X29,Y29),IF(Avropsblankett!$D$28=$C$8,IF(Avropsblankett!$F$28<1000,X30,Y30),IF(Avropsblankett!$D$28=$C$9,IF(Avropsblankett!$F$28<1000,X31,Y31),))),\"\"),\"\")","v":""},null,{"$f":"IF(Avropsblankett!$C$28=$A$27,IF(Avropsblankett!$C$32=$B$29,IF(Avropsblankett!$D$28=$C$7,IF(Avropsblankett!$F$28<1000,((Avropsblankett!$F$28-500)*Z29/100),((Avropsblankett!$F$28-1000)*Z29/100)),IF(Avropsblankett!$D$28=$C$8,IF(Avropsblankett!$F$28<1000,((Avropsblankett!$F$28-500)*Z30/100),((Avropsblankett!$F$28-1000)*Z30/100)),IF(Avropsblankett!$D$28=$C$9,IF(Avropsblankett!$F$28<1000,((Avropsblankett!$F$28-500)*Z31/100),((Avropsblankett!$F$28-1000)*Z31/100)),))),\"\"),\"\")","v":""},null,{"$f":"IF(Avropsblankett!$C$28=$A$27,IF(Avropsblankett!$C$32=$B$29,IF(Avropsblankett!$D$28=$C$7,IF(Avropsblankett!$F$28<1000,AB29,AC29),IF(Avropsblankett!$D$28=$C$8,IF(Avropsblankett!$F$28<1000,AB30,AC30),IF(Avropsblankett!$D$28=$C$9,IF(Avropsblankett!$F$28<1000,AB31,AC31),))),\"\"),\"\")","v":""},null,{"$f":"IF(Avropsblankett!$C$28=$A$27,IF(Avropsblankett!$C$32=$B$29,IF(Avropsblankett!$D$28=$C$7,IF(Avropsblankett!$F$28<1000,((Avropsblankett!$F$28-500)*AD29/100),((Avropsblankett!$F$28-1000)*AD29/100)),IF(Avropsblankett!$D$28=$C$8,IF(Avropsblankett!$F$28<1000,((Avropsblankett!$F$28-500)*AD30/100),((Avropsblankett!$F$28-1000)*AD30/100)),IF(Avropsblankett!$D$28=$C$9,IF(Avropsblankett!$F$28<1000,((Avropsblankett!$F$28-500)*AD31/100),((Avropsblankett!$F$28-1000)*AD31/100)),))),\"\"),\"\")","v":""},null,{"$f":"IF(Avropsblankett!$C$28=$A$27,IF(Avropsblankett!$C$32=$B$29,IF(Avropsblankett!$D$28=$C$7,IF(Avropsblankett!$F$28<1000,AF29,AG29),IF(Avropsblankett!$D$28=$C$8,IF(Avropsblankett!$F$28<1000,AF30,AG30),IF(Avropsblankett!$D$28=$C$9,IF(Avropsblankett!$F$28<1000,AF31,AG31),))),\"\"),\"\")","v":""},null,{"$f":"IF(Avropsblankett!$C$28=$A$27,IF(Avropsblankett!$C$32=$B$29,IF(Avropsblankett!$D$28=$C$7,IF(Avropsblankett!$F$28<1000,((Avropsblankett!$F$28-500)*AH29/100),((Avropsblankett!$F$28-1000)*AH29/100)),IF(Avropsblankett!$D$28=$C$8,IF(Avropsblankett!$F$28<1000,((Avropsblankett!$F$28-500)*AH30/100),((Avropsblankett!$F$28-1000)*AH30/100)),IF(Avropsblankett!$D$28=$C$9,IF(Avropsblankett!$F$28<1000,((Avropsblankett!$F$28-500)*AH31/100),((Avropsblankett!$F$28-1000)*AH31/100)),))),\"\"),\"\")","v":""},null,{"$f":"IF(Avropsblankett!$C$28=$A$27,IF(Avropsblankett!$C$32=$B$29,IF(Avropsblankett!$D$28=$C$7,IF(Avropsblankett!$F$28<1000,AJ29,AK29),IF(Avropsblankett!$D$28=$C$8,IF(Avropsblankett!$F$28<1000,AJ30,AK30),IF(Avropsblankett!$D$28=$C$9,IF(Avropsblankett!$F$28<1000,AJ31,AK31),))),\"\"),\"\")","v":""},null,{"$f":"IF(Avropsblankett!$C$28=$A$27,IF(Avropsblankett!$C$32=$B$29,IF(Avropsblankett!$D$28=$C$7,IF(Avropsblankett!$F$28<1000,((Avropsblankett!$F$28-500)*AL29/100),((Avropsblankett!$F$28-1000)*AL29/100)),IF(Avropsblankett!$D$28=$C$8,IF(Avropsblankett!$F$28<1000,((Avropsblankett!$F$28-500)*AL30/100),((Avropsblankett!$F$28-1000)*AL30/100)),IF(Avropsblankett!$D$28=$C$9,IF(Avropsblankett!$F$28<1000,((Avropsblankett!$F$28-500)*AL31/100),((Avropsblankett!$F$28-1000)*AL31/100)),))),\"\"),\"\")","v":""},null,{"$f":"IF(Avropsblankett!$C$28=$A$27,IF(Avropsblankett!$C$32=$B$29,IF(Avropsblankett!$D$28=$C$7,IF(Avropsblankett!$F$28<1000,AN29,AO29),IF(Avropsblankett!$D$28=$C$8,IF(Avropsblankett!$F$28<1000,AN30,AO30),IF(Avropsblankett!$D$28=$C$9,IF(Avropsblankett!$F$28<1000,AN31,AO31),))),\"\"),\"\")","v":""},null,{"$f":"IF(Avropsblankett!$C$28=$A$27,IF(Avropsblankett!$C$32=$B$29,IF(Avropsblankett!$D$28=$C$7,IF(Avropsblankett!$F$28<1000,((Avropsblankett!$F$28-500)*AP29/100),((Avropsblankett!$F$28-1000)*AP29/100)),IF(Avropsblankett!$D$28=$C$8,IF(Avropsblankett!$F$28<1000,((Avropsblankett!$F$28-500)*AP30/100),((Avropsblankett!$F$28-1000)*AP30/100)),IF(Avropsblankett!$D$28=$C$9,IF(Avropsblankett!$F$28<1000,((Avropsblankett!$F$28-500)*AP31/100),((Avropsblankett!$F$28-1000)*AP31/100)),))),\"\"),\"\")","v":""}]
[null,null,null,{"$f":"IF(Avropsblankett!$C$40=$A$27,IF(Avropsblankett!$C$44=$B$29,IF(Avropsblankett!$D$40=$C$7,IF(Avropsblankett!$F$40<1000,D29,E29),IF(Avropsblankett!$D$40=$C$8,IF(Avropsblankett!$F$40<1000,D30,E30),IF(Avropsblankett!$D$40=$C$9,IF(Avropsblankett!$F$40<1000,D31,E31),))),\"\"),\"\")","v":""},null,{"$f":"IF(Avropsblankett!$C$40=$A$27,IF(Avropsblankett!$C$44=$B$29,IF(Avropsblankett!$D$40=$C$7,IF(Avropsblankett!$F$40<1000,((Avropsblankett!$F$40-500)*F29/100),((Avropsblankett!$F$40-1000)*F29/100)),IF(Avropsblankett!$D$40=$C$8,IF(Avropsblankett!$F$40<1000,((Avropsblankett!$F$40-500)*F30/100),((Avropsblankett!$F$40-1000)*F30/100)),IF(Avropsblankett!$D$40=$C$9,IF(Avropsblankett!$F$40<1000,((Avropsblankett!$F$40-500)*F31/100),((Avropsblankett!$F$40-1000)*F31/100)),))),\"\"),\"\")","v":""},null,{"$f":"IF(Avropsblankett!$C$40=$A$27,IF(Avropsblankett!$C$44=$B$29,IF(Avropsblankett!$D$40=$C$7,IF(Avropsblankett!$F$40<1000,H29,I29),IF(Avropsblankett!$D$40=$C$8,IF(Avropsblankett!$F$40<1000,H30,I30),IF(Avropsblankett!$D$40=$C$9,IF(Avropsblankett!$F$40<1000,H31,I31),))),\"\"),\"\")","v":""},null,{"$f":"IF(Avropsblankett!$C$40=$A$27,IF(Avropsblankett!$C$44=$B$29,IF(Avropsblankett!$D$40=$C$7,IF(Avropsblankett!$F$40<1000,((Avropsblankett!$F$40-500)*J29/100),((Avropsblankett!$F$40-1000)*J29/100)),IF(Avropsblankett!$D$40=$C$8,IF(Avropsblankett!$F$40<1000,((Avropsblankett!$F$40-500)*J30/100),((Avropsblankett!$F$40-1000)*J30/100)),IF(Avropsblankett!$D$40=$C$9,IF(Avropsblankett!$F$40<1000,((Avropsblankett!$F$40-500)*J31/100),((Avropsblankett!$F$40-1000)*J31/100)),))),\"\"),\"\")","v":""},null,{"$f":"IF(Avropsblankett!$C$40=$A$27,IF(Avropsblankett!$C$44=$B$29,IF(Avropsblankett!$D$40=$C$7,IF(Avropsblankett!$F$40<1000,L29,M29),IF(Avropsblankett!$D$40=$C$8,IF(Avropsblankett!$F$40<1000,L30,M30),IF(Avropsblankett!$D$40=$C$9,IF(Avropsblankett!$F$40<1000,L31,M31),))),\"\"),\"\")","v":""},null,{"$f":"IF(Avropsblankett!$C$40=$A$27,IF(Avropsblankett!$C$44=$B$29,IF(Avropsblankett!$D$40=$C$7,IF(Avropsblankett!$F$40<1000,((Avropsblankett!$F$40-500)*N29/100),((Avropsblankett!$F$40-1000)*N29/100)),IF(Avropsblankett!$D$40=$C$8,IF(Avropsblankett!$F$40<1000,((Avropsblankett!$F$40-500)*N30/100),((Avropsblankett!$F$40-1000)*N30/100)),IF(Avropsblankett!$D$40=$C$9,IF(Avropsblankett!$F$40<1000,((Avropsblankett!$F$40-500)*N31/100),((Avropsblankett!$F$40-1000)*N31/100)),))),\"\"),\"\")","v":""},null,{"$f":"IF(Avropsblankett!$C$40=$A$27,IF(Avropsblankett!$C$44=$B$29,IF(Avropsblankett!$D$40=$C$7,IF(Avropsblankett!$F$40<1000,P29,Q29),IF(Avropsblankett!$D$40=$C$8,IF(Avropsblankett!$F$40<1000,P30,Q30),IF(Avropsblankett!$D$40=$C$9,IF(Avropsblankett!$F$40<1000,P31,Q31),))),\"\"),\"\")","v":""},null,{"$f":"IF(Avropsblankett!$C$40=$A$27,IF(Avropsblankett!$C$44=$B$29,IF(Avropsblankett!$D$40=$C$7,IF(Avropsblankett!$F$40<1000,((Avropsblankett!$F$40-500)*R29/100),((Avropsblankett!$F$40-1000)*R29/100)),IF(Avropsblankett!$D$40=$C$8,IF(Avropsblankett!$F$40<1000,((Avropsblankett!$F$40-500)*R30/100),((Avropsblankett!$F$40-1000)*R30/100)),IF(Avropsblankett!$D$40=$C$9,IF(Avropsblankett!$F$40<1000,((Avropsblankett!$F$40-500)*R31/100),((Avropsblankett!$F$40-1000)*R31/100)),))),\"\"),\"\")","v":""},null,{"$f":"IF(Avropsblankett!$C$40=$A$27,IF(Avropsblankett!$C$44=$B$29,IF(Avropsblankett!$D$40=$C$7,IF(Avropsblankett!$F$40<1000,T29,U29),IF(Avropsblankett!$D$40=$C$8,IF(Avropsblankett!$F$40<1000,T30,U30),IF(Avropsblankett!$D$40=$C$9,IF(Avropsblankett!$F$40<1000,T31,U31),))),\"\"),\"\")","v":""},null,{"$f":"IF(Avropsblankett!$C$40=$A$27,IF(Avropsblankett!$C$44=$B$29,IF(Avropsblankett!$D$40=$C$7,IF(Avropsblankett!$F$40<1000,((Avropsblankett!$F$40-500)*V29/100),((Avropsblankett!$F$40-1000)*V29/100)),IF(Avropsblankett!$D$40=$C$8,IF(Avropsblankett!$F$40<1000,((Avropsblankett!$F$40-500)*V30/100),((Avropsblankett!$F$40-1000)*V30/100)),IF(Avropsblankett!$D$40=$C$9,IF(Avropsblankett!$F$40<1000,((Avropsblankett!$F$40-500)*V31/100),((Avropsblankett!$F$40-1000)*V31/100)),))),\"\"),\"\")","v":""},null,{"$f":"IF(Avropsblankett!$C$40=$A$27,IF(Avropsblankett!$C$44=$B$29,IF(Avropsblankett!$D$40=$C$7,IF(Avropsblankett!$F$40<1000,X29,Y29),IF(Avropsblankett!$D$40=$C$8,IF(Avropsblankett!$F$40<1000,X30,Y30),IF(Avropsblankett!$D$40=$C$9,IF(Avropsblankett!$F$40<1000,X31,Y31),))),\"\"),\"\")","v":""},null,{"$f":"IF(Avropsblankett!$C$40=$A$27,IF(Avropsblankett!$C$44=$B$29,IF(Avropsblankett!$D$40=$C$7,IF(Avropsblankett!$F$40<1000,((Avropsblankett!$F$40-500)*Z29/100),((Avropsblankett!$F$40-1000)*Z29/100)),IF(Avropsblankett!$D$40=$C$8,IF(Avropsblankett!$F$40<1000,((Avropsblankett!$F$40-500)*Z30/100),((Avropsblankett!$F$40-1000)*Z30/100)),IF(Avropsblankett!$D$40=$C$9,IF(Avropsblankett!$F$40<1000,((Avropsblankett!$F$40-500)*Z31/100),((Avropsblankett!$F$40-1000)*Z31/100)),))),\"\"),\"\")","v":""},null,{"$f":"IF(Avropsblankett!$C$40=$A$27,IF(Avropsblankett!$C$44=$B$29,IF(Avropsblankett!$D$40=$C$7,IF(Avropsblankett!$F$40<1000,AB29,AC29),IF(Avropsblankett!$D$40=$C$8,IF(Avropsblankett!$F$40<1000,AB30,AC30),IF(Avropsblankett!$D$40=$C$9,IF(Avropsblankett!$F$40<1000,AB31,AC31),))),\"\"),\"\")","v":""},null,{"$f":"IF(Avropsblankett!$C$40=$A$27,IF(Avropsblankett!$C$44=$B$29,IF(Avropsblankett!$D$40=$C$7,IF(Avropsblankett!$F$40<1000,((Avropsblankett!$F$40-500)*AD29/100),((Avropsblankett!$F$40-1000)*AD29/100)),IF(Avropsblankett!$D$40=$C$8,IF(Avropsblankett!$F$40<1000,((Avropsblankett!$F$40-500)*AD30/100),((Avropsblankett!$F$40-1000)*AD30/100)),IF(Avropsblankett!$D$40=$C$9,IF(Avropsblankett!$F$40<1000,((Avropsblankett!$F$40-500)*AD31/100),((Avropsblankett!$F$40-1000)*AD31/100)),))),\"\"),\"\")","v":""},null,{"$f":"IF(Avropsblankett!$C$40=$A$27,IF(Avropsblankett!$C$44=$B$29,IF(Avropsblankett!$D$40=$C$7,IF(Avropsblankett!$F$40<1000,AF29,AG29),IF(Avropsblankett!$D$40=$C$8,IF(Avropsblankett!$F$40<1000,AF30,AG30),IF(Avropsblankett!$D$40=$C$9,IF(Avropsblankett!$F$40<1000,AF31,AG31),))),\"\"),\"\")","v":""},null,{"$f":"IF(Avropsblankett!$C$40=$A$27,IF(Avropsblankett!$C$44=$B$29,IF(Avropsblankett!$D$40=$C$7,IF(Avropsblankett!$F$40<1000,((Avropsblankett!$F$40-500)*AH29/100),((Avropsblankett!$F$40-1000)*AH29/100)),IF(Avropsblankett!$D$40=$C$8,IF(Avropsblankett!$F$40<1000,((Avropsblankett!$F$40-500)*AH30/100),((Avropsblankett!$F$40-1000)*AH30/100)),IF(Avropsblankett!$D$40=$C$9,IF(Avropsblankett!$F$40<1000,((Avropsblankett!$F$40-500)*AH31/100),((Avropsblankett!$F$40-1000)*AH31/100)),))),\"\"),\"\")","v":""},null,{"$f":"IF(Avropsblankett!$C$40=$A$27,IF(Avropsblankett!$C$44=$B$29,IF(Avropsblankett!$D$40=$C$7,IF(Avropsblankett!$F$40<1000,AJ29,AK29),IF(Avropsblankett!$D$40=$C$8,IF(Avropsblankett!$F$40<1000,AJ30,AK30),IF(Avropsblankett!$D$40=$C$9,IF(Avropsblankett!$F$40<1000,AJ31,AK31),))),\"\"),\"\")","v":""},null,{"$f":"IF(Avropsblankett!$C$40=$A$27,IF(Avropsblankett!$C$44=$B$29,IF(Avropsblankett!$D$40=$C$7,IF(Avropsblankett!$F$40<1000,((Avropsblankett!$F$40-500)*AL29/100),((Avropsblankett!$F$40-1000)*AL29/100)),IF(Avropsblankett!$D$40=$C$8,IF(Avropsblankett!$F$40<1000,((Avropsblankett!$F$40-500)*AL30/100),((Avropsblankett!$F$40-1000)*AL30/100)),IF(Avropsblankett!$D$40=$C$9,IF(Avropsblankett!$F$40<1000,((Avropsblankett!$F$40-500)*AL31/100),((Avropsblankett!$F$40-1000)*AL31/100)),))),\"\"),\"\")","v":""},null,{"$f":"IF(Avropsblankett!$C$40=$A$27,IF(Avropsblankett!$C$44=$B$29,IF(Avropsblankett!$D$40=$C$7,IF(Avropsblankett!$F$40<1000,AN29,AO29),IF(Avropsblankett!$D$40=$C$8,IF(Avropsblankett!$F$40<1000,AN30,AO30),IF(Avropsblankett!$D$40=$C$9,IF(Avropsblankett!$F$40<1000,AN31,AO31),))),\"\"),\"\")","v":""},null,{"$f":"IF(Avropsblankett!$C$40=$A$27,IF(Avropsblankett!$C$44=$B$29,IF(Avropsblankett!$D$40=$C$7,IF(Avropsblankett!$F$40<1000,((Avropsblankett!$F$40-500)*AP29/100),((Avropsblankett!$F$40-1000)*AP29/100)),IF(Avropsblankett!$D$40=$C$8,IF(Avropsblankett!$F$40<1000,((Avropsblankett!$F$40-500)*AP30/100),((Avropsblankett!$F$40-1000)*AP30/100)),IF(Avropsblankett!$D$40=$C$9,IF(Avropsblankett!$F$40<1000,((Avropsblankett!$F$40-500)*AP31/100),((Avropsblankett!$F$40-1000)*AP31/100)),))),\"\"),\"\")","v":""}]
[null,null,null,{"$f":"IF(Avropsblankett!$C$52=$A$27,IF(Avropsblankett!$C$56=$B$29,IF(Avropsblankett!$D$52=$C$7,IF(Avropsblankett!$F$52<1000,D29,E29),IF(Avropsblankett!$D$52=$C$8,IF(Avropsblankett!$F$52<1000,D30,E30),IF(Avropsblankett!$D$52=$C$9,IF(Avropsblankett!$F$52<1000,D31,E31),))),\"\"),\"\")","v":""},null,{"$f":"IF(Avropsblankett!$C$52=$A$27,IF(Avropsblankett!$C$56=$B$29,IF(Avropsblankett!$D$52=$C$7,IF(Avropsblankett!$F$52<1000,((Avropsblankett!$F$52-500)*F29/100),((Avropsblankett!$F$52-1000)*F29/100)),IF(Avropsblankett!$D$52=$C$8,IF(Avropsblankett!$F$52<1000,((Avropsblankett!$F$52-500)*F30/100),((Avropsblankett!$F$52-1000)*F30/100)),IF(Avropsblankett!$D$52=$C$9,IF(Avropsblankett!$F$52<1000,((Avropsblankett!$F$52-500)*F31/100),((Avropsblankett!$F$52-1000)*F31/100)),))),\"\"),\"\")","v":""},null,{"$f":"IF(Avropsblankett!$C$52=$A$27,IF(Avropsblankett!$C$56=$B$29,IF(Avropsblankett!$D$52=$C$7,IF(Avropsblankett!$F$52<1000,H29,I29),IF(Avropsblankett!$D$52=$C$8,IF(Avropsblankett!$F$52<1000,H30,I30),IF(Avropsblankett!$D$52=$C$9,IF(Avropsblankett!$F$52<1000,H31,I31),))),\"\"),\"\")","v":""},null,{"$f":"IF(Avropsblankett!$C$52=$A$27,IF(Avropsblankett!$C$56=$B$29,IF(Avropsblankett!$D$52=$C$7,IF(Avropsblankett!$F$52<1000,((Avropsblankett!$F$52-500)*J29/100),((Avropsblankett!$F$52-1000)*J29/100)),IF(Avropsblankett!$D$52=$C$8,IF(Avropsblankett!$F$52<1000,((Avropsblankett!$F$52-500)*J30/100),((Avropsblankett!$F$52-1000)*J30/100)),IF(Avropsblankett!$D$52=$C$9,IF(Avropsblankett!$F$52<1000,((Avropsblankett!$F$52-500)*J31/100),((Avropsblankett!$F$52-1000)*J31/100)),))),\"\"),\"\")","v":""},null,{"$f":"IF(Avropsblankett!$C$52=$A$27,IF(Avropsblankett!$C$56=$B$29,IF(Avropsblankett!$D$52=$C$7,IF(Avropsblankett!$F$52<1000,L29,M29),IF(Avropsblankett!$D$52=$C$8,IF(Avropsblankett!$F$52<1000,L30,M30),IF(Avropsblankett!$D$52=$C$9,IF(Avropsblankett!$F$52<1000,L31,M31),))),\"\"),\"\")","v":""},null,{"$f":"IF(Avropsblankett!$C$52=$A$27,IF(Avropsblankett!$C$56=$B$29,IF(Avropsblankett!$D$52=$C$7,IF(Avropsblankett!$F$52<1000,((Avropsblankett!$F$52-500)*N29/100),((Avropsblankett!$F$52-1000)*N29/100)),IF(Avropsblankett!$D$52=$C$8,IF(Avropsblankett!$F$52<1000,((Avropsblankett!$F$52-500)*N30/100),((Avropsblankett!$F$52-1000)*N30/100)),IF(Avropsblankett!$D$52=$C$9,IF(Avropsblankett!$F$52<1000,((Avropsblankett!$F$52-500)*N31/100),((Avropsblankett!$F$52-1000)*N31/100)),))),\"\"),\"\")","v":""},null,{"$f":"IF(Avropsblankett!$C$52=$A$27,IF(Avropsblankett!$C$56=$B$29,IF(Avropsblankett!$D$52=$C$7,IF(Avropsblankett!$F$52<1000,P29,Q29),IF(Avropsblankett!$D$52=$C$8,IF(Avropsblankett!$F$52<1000,P30,Q30),IF(Avropsblankett!$D$52=$C$9,IF(Avropsblankett!$F$52<1000,P31,Q31),))),\"\"),\"\")","v":""},null,{"$f":"IF(Avropsblankett!$C$52=$A$27,IF(Avropsblankett!$C$56=$B$29,IF(Avropsblankett!$D$52=$C$7,IF(Avropsblankett!$F$52<1000,((Avropsblankett!$F$52-500)*R29/100),((Avropsblankett!$F$52-1000)*R29/100)),IF(Avropsblankett!$D$52=$C$8,IF(Avropsblankett!$F$52<1000,((Avropsblankett!$F$52-500)*R30/100),((Avropsblankett!$F$52-1000)*R30/100)),IF(Avropsblankett!$D$52=$C$9,IF(Avropsblankett!$F$52<1000,((Avropsblankett!$F$52-500)*R31/100),((Avropsblankett!$F$52-1000)*R31/100)),))),\"\"),\"\")","v":""},null,{"$f":"IF(Avropsblankett!$C$52=$A$27,IF(Avropsblankett!$C$56=$B$29,IF(Avropsblankett!$D$52=$C$7,IF(Avropsblankett!$F$52<1000,T29,U29),IF(Avropsblankett!$D$52=$C$8,IF(Avropsblankett!$F$52<1000,T30,U30),IF(Avropsblankett!$D$52=$C$9,IF(Avropsblankett!$F$52<1000,T31,U31),))),\"\"),\"\")","v":""},null,{"$f":"IF(Avropsblankett!$C$52=$A$27,IF(Avropsblankett!$C$56=$B$29,IF(Avropsblankett!$D$52=$C$7,IF(Avropsblankett!$F$52<1000,((Avropsblankett!$F$52-500)*V29/100),((Avropsblankett!$F$52-1000)*V29/100)),IF(Avropsblankett!$D$52=$C$8,IF(Avropsblankett!$F$52<1000,((Avropsblankett!$F$52-500)*V30/100),((Avropsblankett!$F$52-1000)*V30/100)),IF(Avropsblankett!$D$52=$C$9,IF(Avropsblankett!$F$52<1000,((Avropsblankett!$F$52-500)*V31/100),((Avropsblankett!$F$52-1000)*V31/100)),))),\"\"),\"\")","v":""},null,{"$f":"IF(Avropsblankett!$C$52=$A$27,IF(Avropsblankett!$C$56=$B$29,IF(Avropsblankett!$D$52=$C$7,IF(Avropsblankett!$F$52<1000,X29,Y29),IF(Avropsblankett!$D$52=$C$8,IF(Avropsblankett!$F$52<1000,X30,Y30),IF(Avropsblankett!$D$52=$C$9,IF(Avropsblankett!$F$52<1000,X31,Y31),))),\"\"),\"\")","v":""},null,{"$f":"IF(Avropsblankett!$C$52=$A$27,IF(Avropsblankett!$C$56=$B$29,IF(Avropsblankett!$D$52=$C$7,IF(Avropsblankett!$F$52<1000,((Avropsblankett!$F$52-500)*Z29/100),((Avropsblankett!$F$52-1000)*Z29/100)),IF(Avropsblankett!$D$52=$C$8,IF(Avropsblankett!$F$52<1000,((Avropsblankett!$F$52-500)*Z30/100),((Avropsblankett!$F$52-1000)*Z30/100)),IF(Avropsblankett!$D$52=$C$9,IF(Avropsblankett!$F$52<1000,((Avropsblankett!$F$52-500)*Z31/100),((Avropsblankett!$F$52-1000)*Z31/100)),))),\"\"),\"\")","v":""},null,{"$f":"IF(Avropsblankett!$C$52=$A$27,IF(Avropsblankett!$C$56=$B$29,IF(Avropsblankett!$D$52=$C$7,IF(Avropsblankett!$F$52<1000,AB29,AC29),IF(Avropsblankett!$D$52=$C$8,IF(Avropsblankett!$F$52<1000,AB30,AC30),IF(Avropsblankett!$D$52=$C$9,IF(Avropsblankett!$F$52<1000,AB31,AC31),))),\"\"),\"\")","v":""},null,{"$f":"IF(Avropsblankett!$C$52=$A$27,IF(Avropsblankett!$C$56=$B$29,IF(Avropsblankett!$D$52=$C$7,IF(Avropsblankett!$F$52<1000,((Avropsblankett!$F$52-500)*AD29/100),((Avropsblankett!$F$52-1000)*AD29/100)),IF(Avropsblankett!$D$52=$C$8,IF(Avropsblankett!$F$52<1000,((Avropsblankett!$F$52-500)*AD30/100),((Avropsblankett!$F$52-1000)*AD30/100)),IF(Avropsblankett!$D$52=$C$9,IF(Avropsblankett!$F$52<1000,((Avropsblankett!$F$52-500)*AD31/100),((Avropsblankett!$F$52-1000)*AD31/100)),))),\"\"),\"\")","v":""},null,{"$f":"IF(Avropsblankett!$C$52=$A$27,IF(Avropsblankett!$C$56=$B$29,IF(Avropsblankett!$D$52=$C$7,IF(Avropsblankett!$F$52<1000,AF29,AG29),IF(Avropsblankett!$D$52=$C$8,IF(Avropsblankett!$F$52<1000,AF30,AG30),IF(Avropsblankett!$D$52=$C$9,IF(Avropsblankett!$F$52<1000,AF31,AG31),))),\"\"),\"\")","v":""},null,{"$f":"IF(Avropsblankett!$C$52=$A$27,IF(Avropsblankett!$C$56=$B$29,IF(Avropsblankett!$D$52=$C$7,IF(Avropsblankett!$F$52<1000,((Avropsblankett!$F$52-500)*AH29/100),((Avropsblankett!$F$52-1000)*AH29/100)),IF(Avropsblankett!$D$52=$C$8,IF(Avropsblankett!$F$52<1000,((Avropsblankett!$F$52-500)*AH30/100),((Avropsblankett!$F$52-1000)*AH30/100)),IF(Avropsblankett!$D$52=$C$9,IF(Avropsblankett!$F$52<1000,((Avropsblankett!$F$52-500)*AH31/100),((Avropsblankett!$F$52-1000)*AH31/100)),))),\"\"),\"\")","v":""},null,{"$f":"IF(Avropsblankett!$C$52=$A$27,IF(Avropsblankett!$C$56=$B$29,IF(Avropsblankett!$D$52=$C$7,IF(Avropsblankett!$F$52<1000,AJ29,AK29),IF(Avropsblankett!$D$52=$C$8,IF(Avropsblankett!$F$52<1000,AJ30,AK30),IF(Avropsblankett!$D$52=$C$9,IF(Avropsblankett!$F$52<1000,AJ31,AK31),))),\"\"),\"\")","v":""},null,{"$f":"IF(Avropsblankett!$C$52=$A$27,IF(Avropsblankett!$C$56=$B$29,IF(Avropsblankett!$D$52=$C$7,IF(Avropsblankett!$F$52<1000,((Avropsblankett!$F$52-500)*AL29/100),((Avropsblankett!$F$52-1000)*AL29/100)),IF(Avropsblankett!$D$52=$C$8,IF(Avropsblankett!$F$52<1000,((Avropsblankett!$F$52-500)*AL30/100),((Avropsblankett!$F$52-1000)*AL30/100)),IF(Avropsblankett!$D$52=$C$9,IF(Avropsblankett!$F$52<1000,((Avropsblankett!$F$52-500)*AL31/100),((Avropsblankett!$F$52-1000)*AL31/100)),))),\"\"),\"\")","v":""},null,{"$f":"IF(Avropsblankett!$C$52=$A$27,IF(Avropsblankett!$C$56=$B$29,IF(Avropsblankett!$D$52=$C$7,IF(Avropsblankett!$F$52<1000,AN29,AO29),IF(Avropsblankett!$D$52=$C$8,IF(Avropsblankett!$F$52<1000,AN30,AO30),IF(Avropsblankett!$D$52=$C$9,IF(Avropsblankett!$F$52<1000,AN31,AO31),))),\"\"),\"\")","v":""},null,{"$f":"IF(Avropsblankett!$C$52=$A$27,IF(Avropsblankett!$C$56=$B$29,IF(Avropsblankett!$D$52=$C$7,IF(Avropsblankett!$F$52<1000,((Avropsblankett!$F$52-500)*AP29/100),((Avropsblankett!$F$52-1000)*AP29/100)),IF(Avropsblankett!$D$52=$C$8,IF(Avropsblankett!$F$52<1000,((Avropsblankett!$F$52-500)*AP30/100),((Avropsblankett!$F$52-1000)*AP30/100)),IF(Avropsblankett!$D$52=$C$9,IF(Avropsblankett!$F$52<1000,((Avropsblankett!$F$52-500)*AP31/100),((Avropsblankett!$F$52-1000)*AP31/100)),))),\"\"),\"\")","v":""}]
[null,null,null,{"$f":"IF(Avropsblankett!$C$64=$A$27,IF(Avropsblankett!$C$68=$B$29,IF(Avropsblankett!$D$64=$C$7,IF(Avropsblankett!$F$64<1000,D29,E29),IF(Avropsblankett!$D$64=$C$8,IF(Avropsblankett!$F$64<1000,D30,E30),IF(Avropsblankett!$D$64=$C$9,IF(Avropsblankett!$F$64<1000,D31,E31),))),\"\"),\"\")","v":""},null,{"$f":"IF(Avropsblankett!$C$64=$A$27,IF(Avropsblankett!$C$68=$B$29,IF(Avropsblankett!$D$64=$C$7,IF(Avropsblankett!$F$64<1000,((Avropsblankett!$F$64-500)*F29/100),((Avropsblankett!$F$64-1000)*F29/100)),IF(Avropsblankett!$D$64=$C$8,IF(Avropsblankett!$F$64<1000,((Avropsblankett!$F$64-500)*F30/100),((Avropsblankett!$F$64-1000)*F30/100)),IF(Avropsblankett!$D$64=$C$9,IF(Avropsblankett!$F$64<1000,((Avropsblankett!$F$64-500)*F31/100),((Avropsblankett!$F$64-1000)*F31/100)),))),\"\"),\"\")","v":""},null,{"$f":"IF(Avropsblankett!$C$64=$A$27,IF(Avropsblankett!$C$68=$B$29,IF(Avropsblankett!$D$64=$C$7,IF(Avropsblankett!$F$64<1000,H29,I29),IF(Avropsblankett!$D$64=$C$8,IF(Avropsblankett!$F$64<1000,H30,I30),IF(Avropsblankett!$D$64=$C$9,IF(Avropsblankett!$F$64<1000,H31,I31),))),\"\"),\"\")","v":""},null,{"$f":"IF(Avropsblankett!$C$64=$A$27,IF(Avropsblankett!$C$68=$B$29,IF(Avropsblankett!$D$64=$C$7,IF(Avropsblankett!$F$64<1000,((Avropsblankett!$F$64-500)*J29/100),((Avropsblankett!$F$64-1000)*J29/100)),IF(Avropsblankett!$D$64=$C$8,IF(Avropsblankett!$F$64<1000,((Avropsblankett!$F$64-500)*J30/100),((Avropsblankett!$F$64-1000)*J30/100)),IF(Avropsblankett!$D$64=$C$9,IF(Avropsblankett!$F$64<1000,((Avropsblankett!$F$64-500)*J31/100),((Avropsblankett!$F$64-1000)*J31/100)),))),\"\"),\"\")","v":""},null,{"$f":"IF(Avropsblankett!$C$64=$A$27,IF(Avropsblankett!$C$68=$B$29,IF(Avropsblankett!$D$64=$C$7,IF(Avropsblankett!$F$64<1000,L29,M29),IF(Avropsblankett!$D$64=$C$8,IF(Avropsblankett!$F$64<1000,L30,M30),IF(Avropsblankett!$D$64=$C$9,IF(Avropsblankett!$F$64<1000,L31,M31),))),\"\"),\"\")","v":""},null,{"$f":"IF(Avropsblankett!$C$64=$A$27,IF(Avropsblankett!$C$68=$B$29,IF(Avropsblankett!$D$64=$C$7,IF(Avropsblankett!$F$64<1000,((Avropsblankett!$F$64-500)*N29/100),((Avropsblankett!$F$64-1000)*N29/100)),IF(Avropsblankett!$D$64=$C$8,IF(Avropsblankett!$F$64<1000,((Avropsblankett!$F$64-500)*N30/100),((Avropsblankett!$F$64-1000)*N30/100)),IF(Avropsblankett!$D$64=$C$9,IF(Avropsblankett!$F$64<1000,((Avropsblankett!$F$64-500)*N31/100),((Avropsblankett!$F$64-1000)*N31/100)),))),\"\"),\"\")","v":""},null,{"$f":"IF(Avropsblankett!$C$64=$A$27,IF(Avropsblankett!$C$68=$B$29,IF(Avropsblankett!$D$64=$C$7,IF(Avropsblankett!$F$64<1000,P29,Q29),IF(Avropsblankett!$D$64=$C$8,IF(Avropsblankett!$F$64<1000,P30,Q30),IF(Avropsblankett!$D$64=$C$9,IF(Avropsblankett!$F$64<1000,P31,Q31),))),\"\"),\"\")","v":""},null,{"$f":"IF(Avropsblankett!$C$64=$A$27,IF(Avropsblankett!$C$68=$B$29,IF(Avropsblankett!$D$64=$C$7,IF(Avropsblankett!$F$64<1000,((Avropsblankett!$F$64-500)*R29/100),((Avropsblankett!$F$64-1000)*R29/100)),IF(Avropsblankett!$D$64=$C$8,IF(Avropsblankett!$F$64<1000,((Avropsblankett!$F$64-500)*R30/100),((Avropsblankett!$F$64-1000)*R30/100)),IF(Avropsblankett!$D$64=$C$9,IF(Avropsblankett!$F$64<1000,((Avropsblankett!$F$64-500)*R31/100),((Avropsblankett!$F$64-1000)*R31/100)),))),\"\"),\"\")","v":""},null,{"$f":"IF(Avropsblankett!$C$64=$A$27,IF(Avropsblankett!$C$68=$B$29,IF(Avropsblankett!$D$64=$C$7,IF(Avropsblankett!$F$64<1000,T29,U29),IF(Avropsblankett!$D$64=$C$8,IF(Avropsblankett!$F$64<1000,T30,U30),IF(Avropsblankett!$D$64=$C$9,IF(Avropsblankett!$F$64<1000,T31,U31),))),\"\"),\"\")","v":""},null,{"$f":"IF(Avropsblankett!$C$64=$A$27,IF(Avropsblankett!$C$68=$B$29,IF(Avropsblankett!$D$64=$C$7,IF(Avropsblankett!$F$64<1000,((Avropsblankett!$F$64-500)*V29/100),((Avropsblankett!$F$64-1000)*V29/100)),IF(Avropsblankett!$D$64=$C$8,IF(Avropsblankett!$F$64<1000,((Avropsblankett!$F$64-500)*V30/100),((Avropsblankett!$F$64-1000)*V30/100)),IF(Avropsblankett!$D$64=$C$9,IF(Avropsblankett!$F$64<1000,((Avropsblankett!$F$64-500)*V31/100),((Avropsblankett!$F$64-1000)*V31/100)),))),\"\"),\"\")","v":""},null,{"$f":"IF(Avropsblankett!$C$64=$A$27,IF(Avropsblankett!$C$68=$B$29,IF(Avropsblankett!$D$64=$C$7,IF(Avropsblankett!$F$64<1000,X29,Y29),IF(Avropsblankett!$D$64=$C$8,IF(Avropsblankett!$F$64<1000,X30,Y30),IF(Avropsblankett!$D$64=$C$9,IF(Avropsblankett!$F$64<1000,X31,Y31),))),\"\"),\"\")","v":""},null,{"$f":"IF(Avropsblankett!$C$64=$A$27,IF(Avropsblankett!$C$68=$B$29,IF(Avropsblankett!$D$64=$C$7,IF(Avropsblankett!$F$64<1000,((Avropsblankett!$F$64-500)*Z29/100),((Avropsblankett!$F$64-1000)*Z29/100)),IF(Avropsblankett!$D$64=$C$8,IF(Avropsblankett!$F$64<1000,((Avropsblankett!$F$64-500)*Z30/100),((Avropsblankett!$F$64-1000)*Z30/100)),IF(Avropsblankett!$D$64=$C$9,IF(Avropsblankett!$F$64<1000,((Avropsblankett!$F$64-500)*Z31/100),((Avropsblankett!$F$64-1000)*Z31/100)),))),\"\"),\"\")","v":""},null,{"$f":"IF(Avropsblankett!$C$64=$A$27,IF(Avropsblankett!$C$68=$B$29,IF(Avropsblankett!$D$64=$C$7,IF(Avropsblankett!$F$64<1000,AB29,AC29),IF(Avropsblankett!$D$64=$C$8,IF(Avropsblankett!$F$64<1000,AB30,AC30),IF(Avropsblankett!$D$64=$C$9,IF(Avropsblankett!$F$64<1000,AB31,AC31),))),\"\"),\"\")","v":""},null,{"$f":"IF(Avropsblankett!$C$64=$A$27,IF(Avropsblankett!$C$68=$B$29,IF(Avropsblankett!$D$64=$C$7,IF(Avropsblankett!$F$64<1000,((Avropsblankett!$F$64-500)*AD29/100),((Avropsblankett!$F$64-1000)*AD29/100)),IF(Avropsblankett!$D$64=$C$8,IF(Avropsblankett!$F$64<1000,((Avropsblankett!$F$64-500)*AD30/100),((Avropsblankett!$F$64-1000)*AD30/100)),IF(Avropsblankett!$D$64=$C$9,IF(Avropsblankett!$F$64<1000,((Avropsblankett!$F$64-500)*AD31/100),((Avropsblankett!$F$64-1000)*AD31/100)),))),\"\"),\"\")","v":""},null,{"$f":"IF(Avropsblankett!$C$64=$A$27,IF(Avropsblankett!$C$68=$B$29,IF(Avropsblankett!$D$64=$C$7,IF(Avropsblankett!$F$64<1000,AF29,AG29),IF(Avropsblankett!$D$64=$C$8,IF(Avropsblankett!$F$64<1000,AF30,AG30),IF(Avropsblankett!$D$64=$C$9,IF(Avropsblankett!$F$64<1000,AF31,AG31),))),\"\"),\"\")","v":""},null,{"$f":"IF(Avropsblankett!$C$64=$A$27,IF(Avropsblankett!$C$68=$B$29,IF(Avropsblankett!$D$64=$C$7,IF(Avropsblankett!$F$64<1000,((Avropsblankett!$F$64-500)*AH29/100),((Avropsblankett!$F$64-1000)*AH29/100)),IF(Avropsblankett!$D$64=$C$8,IF(Avropsblankett!$F$64<1000,((Avropsblankett!$F$64-500)*AH30/100),((Avropsblankett!$F$64-1000)*AH30/100)),IF(Avropsblankett!$D$64=$C$9,IF(Avropsblankett!$F$64<1000,((Avropsblankett!$F$64-500)*AH31/100),((Avropsblankett!$F$64-1000)*AH31/100)),))),\"\"),\"\")","v":""},null,{"$f":"IF(Avropsblankett!$C$64=$A$27,IF(Avropsblankett!$C$68=$B$29,IF(Avropsblankett!$D$64=$C$7,IF(Avropsblankett!$F$64<1000,AJ29,AK29),IF(Avropsblankett!$D$64=$C$8,IF(Avropsblankett!$F$64<1000,AJ30,AK30),IF(Avropsblankett!$D$64=$C$9,IF(Avropsblankett!$F$64<1000,AJ31,AK31),))),\"\"),\"\")","v":""},null,{"$f":"IF(Avropsblankett!$C$64=$A$27,IF(Avropsblankett!$C$68=$B$29,IF(Avropsblankett!$D$64=$C$7,IF(Avropsblankett!$F$64<1000,((Avropsblankett!$F$64-500)*AL29/100),((Avropsblankett!$F$64-1000)*AL29/100)),IF(Avropsblankett!$D$64=$C$8,IF(Avropsblankett!$F$64<1000,((Avropsblankett!$F$64-500)*AL30/100),((Avropsblankett!$F$64-1000)*AL30/100)),IF(Avropsblankett!$D$64=$C$9,IF(Avropsblankett!$F$64<1000,((Avropsblankett!$F$64-500)*AL31/100),((Avropsblankett!$F$64-1000)*AL31/100)),))),\"\"),\"\")","v":""},null,{"$f":"IF(Avropsblankett!$C$64=$A$27,IF(Avropsblankett!$C$68=$B$29,IF(Avropsblankett!$D$64=$C$7,IF(Avropsblankett!$F$64<1000,AN29,AO29),IF(Avropsblankett!$D$64=$C$8,IF(Avropsblankett!$F$64<1000,AN30,AO30),IF(Avropsblankett!$D$64=$C$9,IF(Avropsblankett!$F$64<1000,AN31,AO31),))),\"\"),\"\")","v":""},null,{"$f":"IF(Avropsblankett!$C$64=$A$27,IF(Avropsblankett!$C$68=$B$29,IF(Avropsblankett!$D$64=$C$7,IF(Avropsblankett!$F$64<1000,((Avropsblankett!$F$64-500)*AP29/100),((Avropsblankett!$F$64-1000)*AP29/100)),IF(Avropsblankett!$D$64=$C$8,IF(Avropsblankett!$F$64<1000,((Avropsblankett!$F$64-500)*AP30/100),((Avropsblankett!$F$64-1000)*AP30/100)),IF(Avropsblankett!$D$64=$C$9,IF(Avropsblankett!$F$64<1000,((Avropsblankett!$F$64-500)*AP31/100),((Avropsblankett!$F$64-1000)*AP31/100)),))),\"\"),\"\")","v":""}]
[null,null,null,{"$f":"IF(Avropsblankett!$C$76=$A$27,IF(Avropsblankett!$C$80=$B$29,IF(Avropsblankett!$D$76=$C$7,IF(Avropsblankett!$F$76<1000,D29,E29),IF(Avropsblankett!$D$76=$C$8,IF(Avropsblankett!$F$76<1000,D30,E30),IF(Avropsblankett!$D$76=$C$9,IF(Avropsblankett!$F$76<1000,D31,E31),))),\"\"),\"\")","v":""},null,{"$f":"IF(Avropsblankett!$C$76=$A$27,IF(Avropsblankett!$C$80=$B$29,IF(Avropsblankett!$D$76=$C$7,IF(Avropsblankett!$F$76<1000,((Avropsblankett!$F$76-500)*F29/100),((Avropsblankett!$F$76-1000)*F29/100)),IF(Avropsblankett!$D$76=$C$8,IF(Avropsblankett!$F$76<1000,((Avropsblankett!$F$76-500)*F30/100),((Avropsblankett!$F$76-1000)*F30/100)),IF(Avropsblankett!$D$76=$C$9,IF(Avropsblankett!$F$76<1000,((Avropsblankett!$F$76-500)*F31/100),((Avropsblankett!$F$76-1000)*F31/100)),))),\"\"),\"\")","v":""},null,{"$f":"IF(Avropsblankett!$C$76=$A$27,IF(Avropsblankett!$C$80=$B$29,IF(Avropsblankett!$D$76=$C$7,IF(Avropsblankett!$F$76<1000,H29,I29),IF(Avropsblankett!$D$76=$C$8,IF(Avropsblankett!$F$76<1000,H30,I30),IF(Avropsblankett!$D$76=$C$9,IF(Avropsblankett!$F$76<1000,H31,I31),))),\"\"),\"\")","v":""},null,{"$f":"IF(Avropsblankett!$C$76=$A$27,IF(Avropsblankett!$C$80=$B$29,IF(Avropsblankett!$D$76=$C$7,IF(Avropsblankett!$F$76<1000,((Avropsblankett!$F$76-500)*J29/100),((Avropsblankett!$F$76-1000)*J29/100)),IF(Avropsblankett!$D$76=$C$8,IF(Avropsblankett!$F$76<1000,((Avropsblankett!$F$76-500)*J30/100),((Avropsblankett!$F$76-1000)*J30/100)),IF(Avropsblankett!$D$76=$C$9,IF(Avropsblankett!$F$76<1000,((Avropsblankett!$F$76-500)*J31/100),((Avropsblankett!$F$76-1000)*J31/100)),))),\"\"),\"\")","v":""},null,{"$f":"IF(Avropsblankett!$C$76=$A$27,IF(Avropsblankett!$C$80=$B$29,IF(Avropsblankett!$D$76=$C$7,IF(Avropsblankett!$F$76<1000,L29,M29),IF(Avropsblankett!$D$76=$C$8,IF(Avropsblankett!$F$76<1000,L30,M30),IF(Avropsblankett!$D$76=$C$9,IF(Avropsblankett!$F$76<1000,L31,M31),))),\"\"),\"\")","v":""},null,{"$f":"IF(Avropsblankett!$C$76=$A$27,IF(Avropsblankett!$C$80=$B$29,IF(Avropsblankett!$D$76=$C$7,IF(Avropsblankett!$F$76<1000,((Avropsblankett!$F$76-500)*N29/100),((Avropsblankett!$F$76-1000)*N29/100)),IF(Avropsblankett!$D$76=$C$8,IF(Avropsblankett!$F$76<1000,((Avropsblankett!$F$76-500)*N30/100),((Avropsblankett!$F$76-1000)*N30/100)),IF(Avropsblankett!$D$76=$C$9,IF(Avropsblankett!$F$76<1000,((Avropsblankett!$F$76-500)*N31/100),((Avropsblankett!$F$76-1000)*N31/100)),))),\"\"),\"\")","v":""},null,{"$f":"IF(Avropsblankett!$C$76=$A$27,IF(Avropsblankett!$C$80=$B$29,IF(Avropsblankett!$D$76=$C$7,IF(Avropsblankett!$F$76<1000,P29,Q29),IF(Avropsblankett!$D$76=$C$8,IF(Avropsblankett!$F$76<1000,P30,Q30),IF(Avropsblankett!$D$76=$C$9,IF(Avropsblankett!$F$76<1000,P31,Q31),))),\"\"),\"\")","v":""},null,{"$f":"IF(Avropsblankett!$C$76=$A$27,IF(Avropsblankett!$C$80=$B$29,IF(Avropsblankett!$D$76=$C$7,IF(Avropsblankett!$F$76<1000,((Avropsblankett!$F$76-500)*R29/100),((Avropsblankett!$F$76-1000)*R29/100)),IF(Avropsblankett!$D$76=$C$8,IF(Avropsblankett!$F$76<1000,((Avropsblankett!$F$76-500)*R30/100),((Avropsblankett!$F$76-1000)*R30/100)),IF(Avropsblankett!$D$76=$C$9,IF(Avropsblankett!$F$76<1000,((Avropsblankett!$F$76-500)*R31/100),((Avropsblankett!$F$76-1000)*R31/100)),))),\"\"),\"\")","v":""},null,{"$f":"IF(Avropsblankett!$C$76=$A$27,IF(Avropsblankett!$C$80=$B$29,IF(Avropsblankett!$D$76=$C$7,IF(Avropsblankett!$F$76<1000,T29,U29),IF(Avropsblankett!$D$76=$C$8,IF(Avropsblankett!$F$76<1000,T30,U30),IF(Avropsblankett!$D$76=$C$9,IF(Avropsblankett!$F$76<1000,T31,U31),))),\"\"),\"\")","v":""},null,{"$f":"IF(Avropsblankett!$C$76=$A$27,IF(Avropsblankett!$C$80=$B$29,IF(Avropsblankett!$D$76=$C$7,IF(Avropsblankett!$F$76<1000,((Avropsblankett!$F$76-500)*V29/100),((Avropsblankett!$F$76-1000)*V29/100)),IF(Avropsblankett!$D$76=$C$8,IF(Avropsblankett!$F$76<1000,((Avropsblankett!$F$76-500)*V30/100),((Avropsblankett!$F$76-1000)*V30/100)),IF(Avropsblankett!$D$76=$C$9,IF(Avropsblankett!$F$76<1000,((Avropsblankett!$F$76-500)*V31/100),((Avropsblankett!$F$76-1000)*V31/100)),))),\"\"),\"\")","v":""},null,{"$f":"IF(Avropsblankett!$C$76=$A$27,IF(Avropsblankett!$C$80=$B$29,IF(Avropsblankett!$D$76=$C$7,IF(Avropsblankett!$F$76<1000,X29,Y29),IF(Avropsblankett!$D$76=$C$8,IF(Avropsblankett!$F$76<1000,X30,Y30),IF(Avropsblankett!$D$76=$C$9,IF(Avropsblankett!$F$76<1000,X31,Y31),))),\"\"),\"\")","v":""},null,{"$f":"IF(Avropsblankett!$C$76=$A$27,IF(Avropsblankett!$C$80=$B$29,IF(Avropsblankett!$D$76=$C$7,IF(Avropsblankett!$F$76<1000,((Avropsblankett!$F$76-500)*Z29/100),((Avropsblankett!$F$76-1000)*Z29/100)),IF(Avropsblankett!$D$76=$C$8,IF(Avropsblankett!$F$76<1000,((Avropsblankett!$F$76-500)*Z30/100),((Avropsblankett!$F$76-1000)*Z30/100)),IF(Avropsblankett!$D$76=$C$9,IF(Avropsblankett!$F$76<1000,((Avropsblankett!$F$76-500)*Z31/100),((Avropsblankett!$F$76-1000)*Z31/100)),))),\"\"),\"\")","v":""},null,{"$f":"IF(Avropsblankett!$C$76=$A$27,IF(Avropsblankett!$C$80=$B$29,IF(Avropsblankett!$D$76=$C$7,IF(Avropsblankett!$F$76<1000,AB29,AC29),IF(Avropsblankett!$D$76=$C$8,IF(Avropsblankett!$F$76<1000,AB30,AC30),IF(Avropsblankett!$D$76=$C$9,IF(Avropsblankett!$F$76<1000,AB31,AC31),))),\"\"),\"\")","v":""},null,{"$f":"IF(Avropsblankett!$C$76=$A$27,IF(Avropsblankett!$C$80=$B$29,IF(Avropsblankett!$D$76=$C$7,IF(Avropsblankett!$F$76<1000,((Avropsblankett!$F$76-500)*AD29/100),((Avropsblankett!$F$76-1000)*AD29/100)),IF(Avropsblankett!$D$76=$C$8,IF(Avropsblankett!$F$76<1000,((Avropsblankett!$F$76-500)*AD30/100),((Avropsblankett!$F$76-1000)*AD30/100)),IF(Avropsblankett!$D$76=$C$9,IF(Avropsblankett!$F$76<1000,((Avropsblankett!$F$76-500)*AD31/100),((Avropsblankett!$F$76-1000)*AD31/100)),))),\"\"),\"\")","v":""},null,{"$f":"IF(Avropsblankett!$C$76=$A$27,IF(Avropsblankett!$C$80=$B$29,IF(Avropsblankett!$D$76=$C$7,IF(Avropsblankett!$F$76<1000,AF29,AG29),IF(Avropsblankett!$D$76=$C$8,IF(Avropsblankett!$F$76<1000,AF30,AG30),IF(Avropsblankett!$D$76=$C$9,IF(Avropsblankett!$F$76<1000,AF31,AG31),))),\"\"),\"\")","v":""},null,{"$f":"IF(Avropsblankett!$C$76=$A$27,IF(Avropsblankett!$C$80=$B$29,IF(Avropsblankett!$D$76=$C$7,IF(Avropsblankett!$F$76<1000,((Avropsblankett!$F$76-500)*AH29/100),((Avropsblankett!$F$76-1000)*AH29/100)),IF(Avropsblankett!$D$76=$C$8,IF(Avropsblankett!$F$76<1000,((Avropsblankett!$F$76-500)*AH30/100),((Avropsblankett!$F$76-1000)*AH30/100)),IF(Avropsblankett!$D$76=$C$9,IF(Avropsblankett!$F$76<1000,((Avropsblankett!$F$76-500)*AH31/100),((Avropsblankett!$F$76-1000)*AH31/100)),))),\"\"),\"\")","v":""},null,{"$f":"IF(Avropsblankett!$C$76=$A$27,IF(Avropsblankett!$C$80=$B$29,IF(Avropsblankett!$D$76=$C$7,IF(Avropsblankett!$F$76<1000,AJ29,AK29),IF(Avropsblankett!$D$76=$C$8,IF(Avropsblankett!$F$76<1000,AJ30,AK30),IF(Avropsblankett!$D$76=$C$9,IF(Avropsblankett!$F$76<1000,AJ31,AK31),))),\"\"),\"\")","v":""},null,{"$f":"IF(Avropsblankett!$C$76=$A$27,IF(Avropsblankett!$C$80=$B$29,IF(Avropsblankett!$D$76=$C$7,IF(Avropsblankett!$F$76<1000,((Avropsblankett!$F$76-500)*AL29/100),((Avropsblankett!$F$76-1000)*AL29/100)),IF(Avropsblankett!$D$76=$C$8,IF(Avropsblankett!$F$76<1000,((Avropsblankett!$F$76-500)*AL30/100),((Avropsblankett!$F$76-1000)*AL30/100)),IF(Avropsblankett!$D$76=$C$9,IF(Avropsblankett!$F$76<1000,((Avropsblankett!$F$76-500)*AL31/100),((Avropsblankett!$F$76-1000)*AL31/100)),))),\"\"),\"\")","v":""},null,{"$f":"IF(Avropsblankett!$C$76=$A$27,IF(Avropsblankett!$C$80=$B$29,IF(Avropsblankett!$D$76=$C$7,IF(Avropsblankett!$F$76<1000,AN29,AO29),IF(Avropsblankett!$D$76=$C$8,IF(Avropsblankett!$F$76<1000,AN30,AO30),IF(Avropsblankett!$D$76=$C$9,IF(Avropsblankett!$F$76<1000,AN31,AO31),))),\"\"),\"\")","v":""},null,{"$f":"IF(Avropsblankett!$C$76=$A$27,IF(Avropsblankett!$C$80=$B$29,IF(Avropsblankett!$D$76=$C$7,IF(Avropsblankett!$F$76<1000,((Avropsblankett!$F$76-500)*AP29/100),((Avropsblankett!$F$76-1000)*AP29/100)),IF(Avropsblankett!$D$76=$C$8,IF(Avropsblankett!$F$76<1000,((Avropsblankett!$F$76-500)*AP30/100),((Avropsblankett!$F$76-1000)*AP30/100)),IF(Avropsblankett!$D$76=$C$9,IF(Avropsblankett!$F$76<1000,((Avropsblankett!$F$76-500)*AP31/100),((Avropsblankett!$F$76-1000)*AP31/100)),))),\"\"),\"\")","v":""}]
[null,null,null,{"$f":"SUM(D32:D36)","v":0},null,{"$f":"SUM(F32:F36)","v":0},null,{"$f":"SUM(H32:H36)","v":0},null,{"$f":"SUM(J32:J36)","v":0},null,{"$f":"SUM(L32:L36)","v":0},null,{"$f":"SUM(N32:N36)","v":0},null,{"$f":"SUM(P32:P36)","v":0},null,{"$f":"SUM(R32:R36)","v":0},null,{"$f":"SUM(T32:T36)","v":0},null,{"$f":"SUM(V32:V36)","v":0},null,{"$f":"SUM(X32:X36)","v":0},null,{"$f":"SUM(Z32:Z36)","v":0},null,{"$f":"SUM(AB32:AB36)","v":0},null,{"$f":"SUM(AD32:AD36)","v":0},null,{"$f":"SUM(AF32:AF36)","v":0},null,{"$f":"SUM(AH32:AH36)","v":0},null,{"$f":"SUM(AJ32:AJ36)","v":0},null,{"$f":"SUM(AL32:AL36)","v":0},null,{"$f":"SUM(AN32:AN36)","v":0},null,{"$f":"SUM(AP32:AP36)","v":0}]
["Kuvert_Variant_4",null,"Variant 4","Upplaga",null,"Följande",null,"Upplaga",null,"Följande",null,"Upplaga",null,"Följande",null,"Upplaga",null,"Följande",null,"Upplaga",null,"Följande",null,"Upplaga",null,"Följande",null,"Upplaga",null,"Följande",null,"Upplaga",null,"Följande",null,"Upplaga",null,"Följande",null,"Upplaga",null,"Följande"]
["Kuvert","Kuvert vitt utan fönster, självhäftande klaff med täckremsa. Klaffen ska vara tryckbar. 90g",null,500,1000,100,null,500,1000,100,null,500,1000,100,null,500,1000,100,null,500,1000,100,null,500,1000,100,null,500,1000,100,null,500,1000,100,null,500,1000,100,null,500,1000,100]
["Storlek","C5","Tryck ´4+4",1350,1480,130,null,2693,2856,286,null,2800,3000,68,null,1100,1200,105,null,927,1220,30,null,1644,1730,143,null,850,1400,150,null,1159,1680,105,null,1000,1850,130,null,1783,2080,30]
[null,null,"Tryck ´4+0",1050,1480,130,null,1428,1591,160,null,1200,1350,30,null,750,975,95,null,512,769,15,null,1494,1572,141,null,650,1000,115,null,640,962,65,null,850,1300,105,null,978,1126,15]
[null,null,"Tryck ´1+0",510,1120,125,null,504,668,67,null,500,630,14,null,425,500,47.5,null,224,368,15,null,556,675,69,null,500,800,100,null,280,460,37,null,750,950,80,null,522,670,15]
[null,null,null,{"$f":"IF(Avropsblankett!$C$28=$A$38,IF(Avropsblankett!$C$32=$B$40,IF(Avropsblankett!$D$28=$C$7,IF(Avropsblankett!$F$28<1000,D40,E40),IF(Avropsblankett!$D$28=$C$8,IF(Avropsblankett!$F$28<1000,D41,E41),IF(Avropsblankett!$D$28=$C$9,IF(Avropsblankett!$F$28<1000,D42,E42),))),\"\"),\"\")","v":""},null,{"$f":"IF(Avropsblankett!$C$28=$A$38,IF(Avropsblankett!$C$32=$B$40,IF(Avropsblankett!$D$28=$C$7,IF(Avropsblankett!$F$28<1000,((Avropsblankett!$F$28-500)*F40/100),((Avropsblankett!$F$28-1000)*F40/100)),IF(Avropsblankett!$D$28=$C$8,IF(Avropsblankett!$F$28<1000,((Avropsblankett!$F$28-500)*F41/100),((Avropsblankett!$F$28-1000)*F41/100)),IF(Avropsblankett!$D$28=$C$9,IF(Avropsblankett!$F$28<1000,((Avropsblankett!$F$28-500)*F42/100),((Avropsblankett!$F$28-1000)*F42/100)),))),\"\"),\"\")","v":""},null,{"$f":"IF(Avropsblankett!$C$28=$A$38,IF(Avropsblankett!$C$32=$B$40,IF(Avropsblankett!$D$28=$C$7,IF(Avropsblankett!$F$28<1000,H40,I40),IF(Avropsblankett!$D$28=$C$8,IF(Avropsblankett!$F$28<1000,H41,I41),IF(Avropsblankett!$D$28=$C$9,IF(Avropsblankett!$F$28<1000,H42,I42),))),\"\"),\"\")","v":""},null,{"$f":"IF(Avropsblankett!$C$28=$A$38,IF(Avropsblankett!$C$32=$B$40,IF(Avropsblankett!$D$28=$C$7,IF(Avropsblankett!$F$28<1000,((Avropsblankett!$F$28-500)*J40/100),((Avropsblankett!$F$28-1000)*J40/100)),IF(Avropsblankett!$D$28=$C$8,IF(Avropsblankett!$F$28<1000,((Avropsblankett!$F$28-500)*J41/100),((Avropsblankett!$F$28-1000)*J41/100)),IF(Avropsblankett!$D$28=$C$9,IF(Avropsblankett!$F$28<1000,((Avropsblankett!$F$28-500)*J42/100),((Avropsblankett!$F$28-1000)*J42/100)),))),\"\"),\"\")","v":""},null,{"$f":"IF(Avropsblankett!$C$28=$A$38,IF(Avropsblankett!$C$32=$B$40,IF(Avropsblankett!$D$28=$C$7,IF(Avropsblankett!$F$28<1000,L40,M40),IF(Avropsblankett!$D$28=$C$8,IF(Avropsblankett!$F$28<1000,L41,M41),IF(Avropsblankett!$D$28=$C$9,IF(Avropsblankett!$F$28<1000,L42,M42),))),\"\"),\"\")","v":""},null,{"$f":"IF(Avropsblankett!$C$28=$A$38,IF(Avropsblankett!$C$32=$B$40,IF(Avropsblankett!$D$28=$C$7,IF(Avropsblankett!$F$28<1000,((Avropsblankett!$F$28-500)*N40/100),((Avropsblankett!$F$28-1000)*N40/100)),IF(Avropsblankett!$D$28=$C$8,IF(Avropsblankett!$F$28<1000,((Avropsblankett!$F$28-500)*N41/100),((Avropsblankett!$F$28-1000)*N41/100)),IF(Avropsblankett!$D$28=$C$9,IF(Avropsblankett!$F$28<1000,((Avropsblankett!$F$28-500)*N42/100),((Avropsblankett!$F$28-1000)*N42/100)),))),\"\"),\"\")","v":""},null,{"$f":"IF(Avropsblankett!$C$28=$A$38,IF(Avropsblankett!$C$32=$B$40,IF(Avropsblankett!$D$28=$C$7,IF(Avropsblankett!$F$28<1000,P40,Q40),IF(Avropsblankett!$D$28=$C$8,IF(Avropsblankett!$F$28<1000,P41,Q41),IF(Avropsblankett!$D$28=$C$9,IF(Avropsblankett!$F$28<1000,P42,Q42),))),\"\"),\"\")","v":""},null,{"$f":"IF(Avropsblankett!$C$28=$A$38,IF(Avropsblankett!$C$32=$B$40,IF(Avropsblankett!$D$28=$C$7,IF(Avropsblankett!$F$28<1000,((Avropsblankett!$F$28-500)*R40/100),((Avropsblankett!$F$28-1000)*R40/100)),IF(Avropsblankett!$D$28=$C$8,IF(Avropsblankett!$F$28<1000,((Avropsblankett!$F$28-500)*R41/100),((Avropsblankett!$F$28-1000)*R41/100)),IF(Avropsblankett!$D$28=$C$9,IF(Avropsblankett!$F$28<1000,((Avropsblankett!$F$28-500)*R42/100),((Avropsblankett!$F$28-1000)*R42/100)),))),\"\"),\"\")","v":""},null,{"$f":"IF(Avropsblankett!$C$28=$A$38,IF(Avropsblankett!$C$32=$B$40,IF(Avropsblankett!$D$28=$C$7,IF(Avropsblankett!$F$28<1000,T40,U40),IF(Avropsblankett!$D$28=$C$8,IF(Avropsblankett!$F$28<1000,T41,U41),IF(Avropsblankett!$D$28=$C$9,IF(Avropsblankett!$F$28<1000,T42,U42),))),\"\"),\"\")","v":""},null,{"$f":"IF(Avropsblankett!$C$28=$A$38,IF(Avropsblankett!$C$32=$B$40,IF(Avropsblankett!$D$28=$C$7,IF(Avropsblankett!$F$28<1000,((Avropsblankett!$F$28-500)*V40/100),((Avropsblankett!$F$28-1000)*V40/100)),IF(Avropsblankett!$D$28=$C$8,IF(Avropsblankett!$F$28<1000,((Avropsblankett!$F$28-500)*V41/100),((Avropsblankett!$F$28-1000)*V41/100)),IF(Avropsblankett!$D$28=$C$9,IF(Avropsblankett!$F$28<1000,((Avropsblankett!$F$28-500)*V42/100),((Avropsblankett!$F$28-1000)*V42/100)),))),\"\"),\"\")","v":""},null,{"$f":"IF(Avropsblankett!$C$28=$A$38,IF(Avropsblankett!$C$32=$B$40,IF(Avropsblankett!$D$28=$C$7,IF(Avropsblankett!$F$28<1000,X40,Y40),IF(Avropsblankett!$D$28=$C$8,IF(Avropsblankett!$F$28<1000,X41,Y41),IF(Avropsblankett!$D$28=$C$9,IF(Avropsblankett!$F$28<1000,X42,Y42),))),\"\"),\"\")","v":""},null,{"$f":"IF(Avropsblankett!$C$28=$A$38,IF(Avropsblankett!$C$32=$B$40,IF(Avropsblankett!$D$28=$C$7,IF(Avropsblankett!$F$28<1000,((Avropsblankett!$F$28-500)*Z40/100),((Avropsblankett!$F$28-1000)*Z40/100)),IF(Avropsblankett!$D$28=$C$8,IF(Avropsblankett!$F$28<1000,((Avropsblankett!$F$28-500)*Z41/100),((Avropsblankett!$F$28-1000)*Z41/100)),IF(Avropsblankett!$D$28=$C$9,IF(Avropsblankett!$F$28<1000,((Avropsblankett!$F$28-500)*Z42/100),((Avropsblankett!$F$28-1000)*Z42/100)),))),\"\"),\"\")","v":""},null,{"$f":"IF(Avropsblankett!$C$28=$A$38,IF(Avropsblankett!$C$32=$B$40,IF(Avropsblankett!$D$28=$C$7,IF(Avropsblankett!$F$28<1000,AB40,AC40),IF(Avropsblankett!$D$28=$C$8,IF(Avropsblankett!$F$28<1000,AB41,AC41),IF(Avropsblankett!$D$28=$C$9,IF(Avropsblankett!$F$28<1000,AB42,AC42),))),\"\"),\"\")","v":""},null,{"$f":"IF(Avropsblankett!$C$28=$A$38,IF(Avropsblankett!$C$32=$B$40,IF(Avropsblankett!$D$28=$C$7,IF(Avropsblankett!$F$28<1000,((Avropsblankett!$F$28-500)*AD40/100),((Avropsblankett!$F$28-1000)*AD40/100)),IF(Avropsblankett!$D$28=$C$8,IF(Avropsblankett!$F$28<1000,((Avropsblankett!$F$28-500)*AD41/100),((Avropsblankett!$F$28-1000)*AD41/100)),IF(Avropsblankett!$D$28=$C$9,IF(Avropsblankett!$F$28<1000,((Avropsblankett!$F$28-500)*AD42/100),((Avropsblankett!$F$28-1000)*AD42/100)),))),\"\"),\"\")","v":""},null,{"$f":"IF(Avropsblankett!$C$28=$A$38,IF(Avropsblankett!$C$32=$B$40,IF(Avropsblankett!$D$28=$C$7,IF(Avropsblankett!$F$28<1000,AF40,AG40),IF(Avropsblankett!$D$28=$C$8,IF(Avropsblankett!$F$28<1000,AF41,AG41),IF(Avropsblankett!$D$28=$C$9,IF(Avropsblankett!$F$28<1000,AF42,AG42),))),\"\"),\"\")","v":""},null,{"$f":"IF(Avropsblankett!$C$28=$A$38,IF(Avropsblankett!$C$32=$B$40,IF(Avropsblankett!$D$28=$C$7,IF(Avropsblankett!$F$28<1000,((Avropsblankett!$F$28-500)*AH40/100),((Avropsblankett!$F$28-1000)*AH40/100)),IF(Avropsblankett!$D$28=$C$8,IF(Avropsblankett!$F$28<1000,((Avropsblankett!$F$28-500)*AH41/100),((Avropsblankett!$F$28-1000)*AH41/100)),IF(Avropsblankett!$D$28=$C$9,IF(Avropsblankett!$F$28<1000,((Avropsblankett!$F$28-500)*AH42/100),((Avropsblankett!$F$28-1000)*AH42/100)),))),\"\"),\"\")","v":""},null,{"$f":"IF(Avropsblankett!$C$28=$A$38,IF(Avropsblankett!$C$32=$B$40,IF(Avropsblankett!$D$28=$C$7,IF(Avropsblankett!$F$28<1000,AJ40,AK40),IF(Avropsblankett!$D$28=$C$8,IF(Avropsblankett!$F$28<1000,AJ41,AK41),IF(Avropsblankett!$D$28=$C$9,IF(Avropsblankett!$F$28<1000,AJ42,AK42),))),\"\"),\"\")","v":""},null,{"$f":"IF(Avropsblankett!$C$28=$A$38,IF(Avropsblankett!$C$32=$B$40,IF(Avropsblankett!$D$28=$C$7,IF(Avropsblankett!$F$28<1000,((Avropsblankett!$F$28-500)*AL40/100),((Avropsblankett!$F$28-1000)*AL40/100)),IF(Avropsblankett!$D$28=$C$8,IF(Avropsblankett!$F$28<1000,((Avropsblankett!$F$28-500)*AL41/100),((Avropsblankett!$F$28-1000)*AL41/100)),IF(Avropsblankett!$D$28=$C$9,IF(Avropsblankett!$F$28<1000,((Avropsblankett!$F$28-500)*AL42/100),((Avropsblankett!$F$28-1000)*AL42/100)),))),\"\"),\"\")","v":""},null,{"$f":"IF(Avropsblankett!$C$28=$A$38,IF(Avropsblankett!$C$32=$B$40,IF(Avropsblankett!$D$28=$C$7,IF(Avropsblankett!$F$28<1000,AN40,AO40),IF(Avropsblankett!$D$28=$C$8,IF(Avropsblankett!$F$28<1000,AN41,AO41),IF(Avropsblankett!$D$28=$C$9,IF(Avropsblankett!$F$28<1000,AN42,AO42),))),\"\"),\"\")","v":""},null,{"$f":"IF(Avropsblankett!$C$28=$A$38,IF(Avropsblankett!$C$32=$B$40,IF(Avropsblankett!$D$28=$C$7,IF(Avropsblankett!$F$28<1000,((Avropsblankett!$F$28-500)*AP40/100),((Avropsblankett!$F$28-1000)*AP40/100)),IF(Avropsblankett!$D$28=$C$8,IF(Avropsblankett!$F$28<1000,((Avropsblankett!$F$28-500)*AP41/100),((Avropsblankett!$F$28-1000)*AP41/100)),IF(Avropsblankett!$D$28=$C$9,IF(Avropsblankett!$F$28<1000,((Avropsblankett!$F$28-500)*AP42/100),((Avropsblankett!$F$28-1000)*AP42/100)),))),\"\"),\"\")","v":""}]
[null,null,null,{"$f":"IF(Avropsblankett!$C$40=$A$38,IF(Avropsblankett!$C$44=$B$40,IF(Avropsblankett!$D$40=$C$7,IF(Avropsblankett!$F$40<1000,D40,E40),IF(Avropsblankett!$D$40=$C$8,IF(Avropsblankett!$F$40<1000,D41,E41),IF(Avropsblankett!$D$40=$C$9,IF(Avropsblankett!$F$40<1000,D42,E42),))),\"\"),\"\")","v":""},null,{"$f":"IF(Avropsblankett!$C$40=$A$38,IF(Avropsblankett!$C$44=$B$40,IF(Avropsblankett!$D$40=$C$7,IF(Avropsblankett!$F$40<1000,((Avropsblankett!$F$40-500)*F40/100),((Avropsblankett!$F$40-1000)*F40/100)),IF(Avropsblankett!$D$40=$C$8,IF(Avropsblankett!$F$40<1000,((Avropsblankett!$F$40-500)*F41/100),((Avropsblankett!$F$40-1000)*F41/100)),IF(Avropsblankett!$D$40=$C$9,IF(Avropsblankett!$F$40<1000,((Avropsblankett!$F$40-500)*F42/100),((Avropsblankett!$F$40-1000)*F42/100)),))),\"\"),\"\")","v":""},null,{"$f":"IF(Avropsblankett!$C$40=$A$38,IF(Avropsblankett!$C$44=$B$40,IF(Avropsblankett!$D$40=$C$7,IF(Avropsblankett!$F$40<1000,H40,I40),IF(Avropsblankett!$D$40=$C$8,IF(Avropsblankett!$F$40<1000,H41,I41),IF(Avropsblankett!$D$40=$C$9,IF(Avropsblankett!$F$40<1000,H42,I42),))),\"\"),\"\")","v":""},null,{"$f":"IF(Avropsblankett!$C$40=$A$38,IF(Avropsblankett!$C$44=$B$40,IF(Avropsblankett!$D$40=$C$7,IF(Avropsblankett!$F$40<1000,((Avropsblankett!$F$40-500)*J40/100),((Avropsblankett!$F$40-1000)*J40/100)),IF(Avropsblankett!$D$40=$C$8,IF(Avropsblankett!$F$40<1000,((Avropsblankett!$F$40-500)*J41/100),((Avropsblankett!$F$40-1000)*J41/100)),IF(Avropsblankett!$D$40=$C$9,IF(Avropsblankett!$F$40<1000,((Avropsblankett!$F$40-500)*J42/100),((Avropsblankett!$F$40-1000)*J42/100)),))),\"\"),\"\")","v":""},null,{"$f":"IF(Avropsblankett!$C$40=$A$38,IF(Avropsblankett!$C$44=$B$40,IF(Avropsblankett!$D$40=$C$7,IF(Avropsblankett!$F$40<1000,L40,M40),IF(Avropsblankett!$D$40=$C$8,IF(Avropsblankett!$F$40<1000,L41,M41),IF(Avropsblankett!$D$40=$C$9,IF(Avropsblankett!$F$40<1000,L42,M42),))),\"\"),\"\")","v":""},null,{"$f":"IF(Avropsblankett!$C$40=$A$38,IF(Avropsblankett!$C$44=$B$40,IF(Avropsblankett!$D$40=$C$7,IF(Avropsblankett!$F$40<1000,((Avropsblankett!$F$40-500)*N40/100),((Avropsblankett!$F$40-1000)*N40/100)),IF(Avropsblankett!$D$40=$C$8,IF(Avropsblankett!$F$40<1000,((Avropsblankett!$F$40-500)*N41/100),((Avropsblankett!$F$40-1000)*N41/100)),IF(Avropsblankett!$D$40=$C$9,IF(Avropsblankett!$F$40<1000,((Avropsblankett!$F$40-500)*N42/100),((Avropsblankett!$F$40-1000)*N42/100)),))),\"\"),\"\")","v":""},null,{"$f":"IF(Avropsblankett!$C$40=$A$38,IF(Avropsblankett!$C$44=$B$40,IF(Avropsblankett!$D$40=$C$7,IF(Avropsblankett!$F$40<1000,P40,Q40),IF(Avropsblankett!$D$40=$C$8,IF(Avropsblankett!$F$40<1000,P41,Q41),IF(Avropsblankett!$D$40=$C$9,IF(Avropsblankett!$F$40<1000,P42,Q42),))),\"\"),\"\")","v":""},null,{"$f":"IF(Avropsblankett!$C$40=$A$38,IF(Avropsblankett!$C$44=$B$40,IF(Avropsblankett!$D$40=$C$7,IF(Avropsblankett!$F$40<1000,((Avropsblankett!$F$40-500)*R40/100),((Avropsblankett!$F$40-1000)*R40/100)),IF(Avropsblankett!$D$40=$C$8,IF(Avropsblankett!$F$40<1000,((Avropsblankett!$F$40-500)*R41/100),((Avropsblankett!$F$40-1000)*R41/100)),IF(Avropsblankett!$D$40=$C$9,IF(Avropsblankett!$F$40<1000,((Avropsblankett!$F$40-500)*R42/100),((Avropsblankett!$F$40-1000)*R42/100)),))),\"\"),\"\")","v":""},null,{"$f":"IF(Avropsblankett!$C$40=$A$38,IF(Avropsblankett!$C$44=$B$40,IF(Avropsblankett!$D$40=$C$7,IF(Avropsblankett!$F$40<1000,T40,U40),IF(Avropsblankett!$D$40=$C$8,IF(Avropsblankett!$F$40<1000,T41,U41),IF(Avropsblankett!$D$40=$C$9,IF(Avropsblankett!$F$40<1000,T42,U42),))),\"\"),\"\")","v":""},null,{"$f":"IF(Avropsblankett!$C$40=$A$38,IF(Avropsblankett!$C$44=$B$40,IF(Avropsblankett!$D$40=$C$7,IF(Avropsblankett!$F$40<1000,((Avropsblankett!$F$40-500)*V40/100),((Avropsblankett!$F$40-1000)*V40/100)),IF(Avropsblankett!$D$40=$C$8,IF(Avropsblankett!$F$40<1000,((Avropsblankett!$F$40-500)*V41/100),((Avropsblankett!$F$40-1000)*V41/100)),IF(Avropsblankett!$D$40=$C$9,IF(Avropsblankett!$F$40<1000,((Avropsblankett!$F$40-500)*V42/100),((Avropsblankett!$F$40-1000)*V42/100)),))),\"\"),\"\")","v":""},null,{"$f":"IF(Avropsblankett!$C$40=$A$38,IF(Avropsblankett!$C$44=$B$40,IF(Avropsblankett!$D$40=$C$7,IF(Avropsblankett!$F$40<1000,X40,Y40),IF(Avropsblankett!$D$40=$C$8,IF(Avropsblankett!$F$40<1000,X41,Y41),IF(Avropsblankett!$D$40=$C$9,IF(Avropsblankett!$F$40<1000,X42,Y42),))),\"\"),\"\")","v":""},null,{"$f":"IF(Avropsblankett!$C$40=$A$38,IF(Avropsblankett!$C$44=$B$40,IF(Avropsblankett!$D$40=$C$7,IF(Avropsblankett!$F$40<1000,((Avropsblankett!$F$40-500)*Z40/100),((Avropsblankett!$F$40-1000)*Z40/100)),IF(Avropsblankett!$D$40=$C$8,IF(Avropsblankett!$F$40<1000,((Avropsblankett!$F$40-500)*Z41/100),((Avropsblankett!$F$40-1000)*Z41/100)),IF(Avropsblankett!$D$40=$C$9,IF(Avropsblankett!$F$40<1000,((Avropsblankett!$F$40-500)*Z42/100),((Avropsblankett!$F$40-1000)*Z42/100)),))),\"\"),\"\")","v":""},null,{"$f":"IF(Avropsblankett!$C$40=$A$38,IF(Avropsblankett!$C$44=$B$40,IF(Avropsblankett!$D$40=$C$7,IF(Avropsblankett!$F$40<1000,AB40,AC40),IF(Avropsblankett!$D$40=$C$8,IF(Avropsblankett!$F$40<1000,AB41,AC41),IF(Avropsblankett!$D$40=$C$9,IF(Avropsblankett!$F$40<1000,AB42,AC42),))),\"\"),\"\")","v":""},null,{"$f":"IF(Avropsblankett!$C$40=$A$38,IF(Avropsblankett!$C$44=$B$40,IF(Avropsblankett!$D$40=$C$7,IF(Avropsblankett!$F$40<1000,((Avropsblankett!$F$40-500)*AD40/100),((Avropsblankett!$F$40-1000)*AD40/100)),IF(Avropsblankett!$D$40=$C$8,IF(Avropsblankett!$F$40<1000,((Avropsblankett!$F$40-500)*AD41/100),((Avropsblankett!$F$40-1000)*AD41/100)),IF(Avropsblankett!$D$40=$C$9,IF(Avropsblankett!$F$40<1000,((Avropsblankett!$F$40-500)*AD42/100),((Avropsblankett!$F$40-1000)*AD42/100)),))),\"\"),\"\")","v":""},null,{"$f":"IF(Avropsblankett!$C$40=$A$38,IF(Avropsblankett!$C$44=$B$40,IF(Avropsblankett!$D$40=$C$7,IF(Avropsblankett!$F$40<1000,AF40,AG40),IF(Avropsblankett!$D$40=$C$8,IF(Avropsblankett!$F$40<1000,AF41,AG41),IF(Avropsblankett!$D$40=$C$9,IF(Avropsblankett!$F$40<1000,AF42,AG42),))),\"\"),\"\")","v":""},null,{"$f":"IF(Avropsblankett!$C$40=$A$38,IF(Avropsblankett!$C$44=$B$40,IF(Avropsblankett!$D$40=$C$7,IF(Avropsblankett!$F$40<1000,((Avropsblankett!$F$40-500)*AH40/100),((Avropsblankett!$F$40-1000)*AH40/100)),IF(Avropsblankett!$D$40=$C$8,IF(Avropsblankett!$F$40<1000,((Avropsblankett!$F$40-500)*AH41/100),((Avropsblankett!$F$40-1000)*AH41/100)),IF(Avropsblankett!$D$40=$C$9,IF(Avropsblankett!$F$40<1000,((Avropsblankett!$F$40-500)*AH42/100),((Avropsblankett!$F$40-1000)*AH42/100)),))),\"\"),\"\")","v":""},null,{"$f":"IF(Avropsblankett!$C$40=$A$38,IF(Avropsblankett!$C$44=$B$40,IF(Avropsblankett!$D$40=$C$7,IF(Avropsblankett!$F$40<1000,AJ40,AK40),IF(Avropsblankett!$D$40=$C$8,IF(Avropsblankett!$F$40<1000,AJ41,AK41),IF(Avropsblankett!$D$40=$C$9,IF(Avropsblankett!$F$40<1000,AJ42,AK42),))),\"\"),\"\")","v":""},null,{"$f":"IF(Avropsblankett!$C$40=$A$38,IF(Avropsblankett!$C$44=$B$40,IF(Avropsblankett!$D$40=$C$7,IF(Avropsblankett!$F$40<1000,((Avropsblankett!$F$40-500)*AL40/100),((Avropsblankett!$F$40-1000)*AL40/100)),IF(Avropsblankett!$D$40=$C$8,IF(Avropsblankett!$F$40<1000,((Avropsblankett!$F$40-500)*AL41/100),((Avropsblankett!$F$40-1000)*AL41/100)),IF(Avropsblankett!$D$40=$C$9,IF(Avropsblankett!$F$40<1000,((Avropsblankett!$F$40-500)*AL42/100),((Avropsblankett!$F$40-1000)*AL42/100)),))),\"\"),\"\")","v":""},null,{"$f":"IF(Avropsblankett!$C$40=$A$38,IF(Avropsblankett!$C$44=$B$40,IF(Avropsblankett!$D$40=$C$7,IF(Avropsblankett!$F$40<1000,AN40,AO40),IF(Avropsblankett!$D$40=$C$8,IF(Avropsblankett!$F$40<1000,AN41,AO41),IF(Avropsblankett!$D$40=$C$9,IF(Avropsblankett!$F$40<1000,AN42,AO42),))),\"\"),\"\")","v":""},null,{"$f":"IF(Avropsblankett!$C$40=$A$38,IF(Avropsblankett!$C$44=$B$40,IF(Avropsblankett!$D$40=$C$7,IF(Avropsblankett!$F$40<1000,((Avropsblankett!$F$40-500)*AP40/100),((Avropsblankett!$F$40-1000)*AP40/100)),IF(Avropsblankett!$D$40=$C$8,IF(Avropsblankett!$F$40<1000,((Avropsblankett!$F$40-500)*AP41/100),((Avropsblankett!$F$40-1000)*AP41/100)),IF(Avropsblankett!$D$40=$C$9,IF(Avropsblankett!$F$40<1000,((Avropsblankett!$F$40-500)*AP42/100),((Avropsblankett!$F$40-1000)*AP42/100)),))),\"\"),\"\")","v":""}]
[null,null,null,{"$f":"IF(Avropsblankett!$C$52=$A$38,IF(Avropsblankett!$C$56=$B$40,IF(Avropsblankett!$D$52=$C$7,IF(Avropsblankett!$F$52<1000,D40,E40),IF(Avropsblankett!$D$52=$C$8,IF(Avropsblankett!$F$52<1000,D41,E41),IF(Avropsblankett!$D$52=$C$9,IF(Avropsblankett!$F$52<1000,D42,E42),))),\"\"),\"\")","v":""},null,{"$f":"IF(Avropsblankett!$C$52=$A$38,IF(Avropsblankett!$C$56=$B$40,IF(Avropsblankett!$D$52=$C$7,IF(Avropsblankett!$F$52<1000,((Avropsblankett!$F$52-500)*F40/100),((Avropsblankett!$F$52-1000)*F40/100)),IF(Avropsblankett!$D$52=$C$8,IF(Avropsblankett!$F$52<1000,((Avropsblankett!$F$52-500)*F41/100),((Avropsblankett!$F$52-1000)*F41/100)),IF(Avropsblankett!$D$52=$C$9,IF(Avropsblankett!$F$52<1000,((Avropsblankett!$F$52-500)*F42/100),((Avropsblankett!$F$52-1000)*F42/100)),))),\"\"),\"\")","v":""},null,{"$f":"IF(Avropsblankett!$C$52=$A$38,IF(Avropsblankett!$C$56=$B$40,IF(Avropsblankett!$D$52=$C$7,IF(Avropsblankett!$F$52<1000,H40,I40),IF(Avropsblankett!$D$52=$C$8,IF(Avropsblankett!$F$52<1000,H41,I41),IF(Avropsblankett!$D$52=$C$9,IF(Avropsblankett!$F$52<1000,H42,I42),))),\"\"),\"\")","v":""},null,{"$f":"IF(Avropsblankett!$C$52=$A$38,IF(Avropsblankett!$C$56=$B$40,IF(Avropsblankett!$D$52=$C$7,IF(Avropsblankett!$F$52<1000,((Avropsblankett!$F$52-500)*J40/100),((Avropsblankett!$F$52-1000)*J40/100)),IF(Avropsblankett!$D$52=$C$8,IF(Avropsblankett!$F$52<1000,((Avropsblankett!$F$52-500)*J41/100),((Avropsblankett!$F$52-1000)*J41/100)),IF(Avropsblankett!$D$52=$C$9,IF(Avropsblankett!$F$52<1000,((Avropsblankett!$F$52-500)*J42/100),((Avropsblankett!$F$52-1000)*J42/100)),))),\"\"),\"\")","v":""},null,{"$f":"IF(Avropsblankett!$C$52=$A$38,IF(Avropsblankett!$C$56=$B$40,IF(Avropsblankett!$D$52=$C$7,IF(Avropsblankett!$F$52<1000,L40,M40),IF(Avropsblankett!$D$52=$C$8,IF(Avropsblankett!$F$52<1000,L41,M41),IF(Avropsblankett!$D$52=$C$9,IF(Avropsblankett!$F$52<1000,L42,M42),))),\"\"),\"\")","v":""},null,{"$f":"IF(Avropsblankett!$C$52=$A$38,IF(Avropsblankett!$C$56=$B$40,IF(Avropsblankett!$D$52=$C$7,IF(Avropsblankett!$F$52<1000,((Avropsblankett!$F$52-500)*N40/100),((Avropsblankett!$F$52-1000)*N40/100)),IF(Avropsblankett!$D$52=$C$8,IF(Avropsblankett!$F$52<1000,((Avropsblankett!$F$52-500)*N41/100),((Avropsblankett!$F$52-1000)*N41/100)),IF(Avropsblankett!$D$52=$C$9,IF(Avropsblankett!$F$52<1000,((Avropsblankett!$F$52-500)*N42/100),((Avropsblankett!$F$52-1000)*N42/100)),))),\"\"),\"\")","v":""},null,{"$f":"IF(Avropsblankett!$C$52=$A$38,IF(Avropsblankett!$C$56=$B$40,IF(Avropsblankett!$D$52=$C$7,IF(Avropsblankett!$F$52<1000,P40,Q40),IF(Avropsblankett!$D$52=$C$8,IF(Avropsblankett!$F$52<1000,P41,Q41),IF(Avropsblankett!$D$52=$C$9,IF(Avropsblankett!$F$52<1000,P42,Q42),))),\"\"),\"\")","v":""},null,{"$f":"IF(Avropsblankett!$C$52=$A$38,IF(Avropsblankett!$C$56=$B$40,IF(Avropsblankett!$D$52=$C$7,IF(Avropsblankett!$F$52<1000,((Avropsblankett!$F$52-500)*R40/100),((Avropsblankett!$F$52-1000)*R40/100)),IF(Avropsblankett!$D$52=$C$8,IF(Avropsblankett!$F$52<1000,((Avropsblankett!$F$52-500)*R41/100),((Avropsblankett!$F$52-1000)*R41/100)),IF(Avropsblankett!$D$52=$C$9,IF(Avropsblankett!$F$52<1000,((Avropsblankett!$F$52-500)*R42/100),((Avropsblankett!$F$52-1000)*R42/100)),))),\"\"),\"\")","v":""},null,{"$f":"IF(Avropsblankett!$C$52=$A$38,IF(Avropsblankett!$C$56=$B$40,IF(Avropsblankett!$D$52=$C$7,IF(Avropsblankett!$F$52<1000,T40,U40),IF(Avropsblankett!$D$52=$C$8,IF(Avropsblankett!$F$52<1000,T41,U41),IF(Avropsblankett!$D$52=$C$9,IF(Avropsblankett!$F$52<1000,T42,U42),))),\"\"),\"\")","v":""},null,{"$f":"IF(Avropsblankett!$C$52=$A$38,IF(Avropsblankett!$C$56=$B$40,IF(Avropsblankett!$D$52=$C$7,IF(Avropsblankett!$F$52<1000,((Avropsblankett!$F$52-500)*V40/100),((Avropsblankett!$F$52-1000)*V40/100)),IF(Avropsblankett!$D$52=$C$8,IF(Avropsblankett!$F$52<1000,((Avropsblankett!$F$52-500)*V41/100),((Avropsblankett!$F$52-1000)*V41/100)),IF(Avropsblankett!$D$52=$C$9,IF(Avropsblankett!$F$52<1000,((Avropsblankett!$F$52-500)*V42/100),((Avropsblankett!$F$52-1000)*V42/100)),))),\"\"),\"\")","v":""},null,{"$f":"IF(Avropsblankett!$C$52=$A$38,IF(Avropsblankett!$C$56=$B$40,IF(Avropsblankett!$D$52=$C$7,IF(Avropsblankett!$F$52<1000,X40,Y40),IF(Avropsblankett!$D$52=$C$8,IF(Avropsblankett!$F$52<1000,X41,Y41),IF(Avropsblankett!$D$52=$C$9,IF(Avropsblankett!$F$52<1000,X42,Y42),))),\"\"),\"\")","v":""},null,{"$f":"IF(Avropsblankett!$C$52=$A$38,IF(Avropsblankett!$C$56=$B$40,IF(Avropsblankett!$D$52=$C$7,IF(Avropsblankett!$F$52<1000,((Avropsblankett!$F$52-500)*Z40/100),((Avropsblankett!$F$52-1000)*Z40/100)),IF(Avropsblankett!$D$52=$C$8,IF(Avropsblankett!$F$52<1000,((Avropsblankett!$F$52-500)*Z41/100),((Avropsblankett!$F$52-1000)*Z41/100)),IF(Avropsblankett!$D$52=$C$9,IF(Avropsblankett!$F$52<1000,((Avropsblankett!$F$52-500)*Z42/100),((Avropsblankett!$F$52-1000)*Z42/100)),))),\"\"),\"\")","v":""},null,{"$f":"IF(Avropsblankett!$C$52=$A$38,IF(Avropsblankett!$C$56=$B$40,IF(Avropsblankett!$D$52=$C$7,IF(Avropsblankett!$F$52<1000,AB40,AC40),IF(Avropsblankett!$D$52=$C$8,IF(Avropsblankett!$F$52<1000,AB41,AC41),IF(Avropsblankett!$D$52=$C$9,IF(Avropsblankett!$F$52<1000,AB42,AC42),))),\"\"),\"\")","v":""},null,{"$f":"IF(Avropsblankett!$C$52=$A$38,IF(Avropsblankett!$C$56=$B$40,IF(Avropsblankett!$D$52=$C$7,IF(Avropsblankett!$F$52<1000,((Avropsblankett!$F$52-500)*AD40/100),((Avropsblankett!$F$52-1000)*AD40/100)),IF(Avropsblankett!$D$52=$C$8,IF(Avropsblankett!$F$52<1000,((Avropsblankett!$F$52-500)*AD41/100),((Avropsblankett!$F$52-1000)*AD41/100)),IF(Avropsblankett!$D$52=$C$9,IF(Avropsblankett!$F$52<1000,((Avropsblankett!$F$52-500)*AD42/100),((Avropsblankett!$F$52-1000)*AD42/100)),))),\"\"),\"\")","v":""},null,{"$f":"IF(Avropsblankett!$C$52=$A$38,IF(Avropsblankett!$C$56=$B$40,IF(Avropsblankett!$D$52=$C$7,IF(Avropsblankett!$F$52<1000,AF40,AG40),IF(Avropsblankett!$D$52=$C$8,IF(Avropsblankett!$F$52<1000,AF41,AG41),IF(Avropsblankett!$D$52=$C$9,IF(Avropsblankett!$F$52<1000,AF42,AG42),))),\"\"),\"\")","v":""},null,{"$f":"IF(Avropsblankett!$C$52=$A$38,IF(Avropsblankett!$C$56=$B$40,IF(Avropsblankett!$D$52=$C$7,IF(Avropsblankett!$F$52<1000,((Avropsblankett!$F$52-500)*AH40/100),((Avropsblankett!$F$52-1000)*AH40/100)),IF(Avropsblankett!$D$52=$C$8,IF(Avropsblankett!$F$52<1000,((Avropsblankett!$F$52-500)*AH41/100),((Avropsblankett!$F$52-1000)*AH41/100)),IF(Avropsblankett!$D$52=$C$9,IF(Avropsblankett!$F$52<1000,((Avropsblankett!$F$52-500)*AH42/100),((Avropsblankett!$F$52-1000)*AH42/100)),))),\"\"),\"\")","v":""},null,{"$f":"IF(Avropsblankett!$C$52=$A$38,IF(Avropsblankett!$C$56=$B$40,IF(Avropsblankett!$D$52=$C$7,IF(Avropsblankett!$F$52<1000,AJ40,AK40),IF(Avropsblankett!$D$52=$C$8,IF(Avropsblankett!$F$52<1000,AJ41,AK41),IF(Avropsblankett!$D$52=$C$9,IF(Avropsblankett!$F$52<1000,AJ42,AK42),))),\"\"),\"\")","v":""},null,{"$f":"IF(Avropsblankett!$C$52=$A$38,IF(Avropsblankett!$C$56=$B$40,IF(Avropsblankett!$D$52=$C$7,IF(Avropsblankett!$F$52<1000,((Avropsblankett!$F$52-500)*AL40/100),((Avropsblankett!$F$52-1000)*AL40/100)),IF(Avropsblankett!$D$52=$C$8,IF(Avropsblankett!$F$52<1000,((Avropsblankett!$F$52-500)*AL41/100),((Avropsblankett!$F$52-1000)*AL41/100)),IF(Avropsblankett!$D$52=$C$9,IF(Avropsblankett!$F$52<1000,((Avropsblankett!$F$52-500)*AL42/100),((Avropsblankett!$F$52-1000)*AL42/100)),))),\"\"),\"\")","v":""},null,{"$f":"IF(Avropsblankett!$C$52=$A$38,IF(Avropsblankett!$C$56=$B$40,IF(Avropsblankett!$D$52=$C$7,IF(Avropsblankett!$F$52<1000,AN40,AO40),IF(Avropsblankett!$D$52=$C$8,IF(Avropsblankett!$F$52<1000,AN41,AO41),IF(Avropsblankett!$D$52=$C$9,IF(Avropsblankett!$F$52<1000,AN42,AO42),))),\"\"),\"\")","v":""},null,{"$f":"IF(Avropsblankett!$C$52=$A$38,IF(Avropsblankett!$C$56=$B$40,IF(Avropsblankett!$D$52=$C$7,IF(Avropsblankett!$F$52<1000,((Avropsblankett!$F$52-500)*AP40/100),((Avropsblankett!$F$52-1000)*AP40/100)),IF(Avropsblankett!$D$52=$C$8,IF(Avropsblankett!$F$52<1000,((Avropsblankett!$F$52-500)*AP41/100),((Avropsblankett!$F$52-1000)*AP41/100)),IF(Avropsblankett!$D$52=$C$9,IF(Avropsblankett!$F$52<1000,((Avropsblankett!$F$52-500)*AP42/100),((Avropsblankett!$F$52-1000)*AP42/100)),))),\"\"),\"\")","v":""}]
[null,null,null,{"$f":"IF(Avropsblankett!$C$64=$A$38,IF(Avropsblankett!$C$68=$B$40,IF(Avropsblankett!$D$64=$C$7,IF(Avropsblankett!$F$64<1000,D40,E40),IF(Avropsblankett!$D$64=$C$8,IF(Avropsblankett!$F$64<1000,D41,E41),IF(Avropsblankett!$D$64=$C$9,IF(Avropsblankett!$F$64<1000,D42,E42),))),\"\"),\"\")","v":""},null,{"$f":"IF(Avropsblankett!$C$64=$A$38,IF(Avropsblankett!$C$68=$B$40,IF(Avropsblankett!$D$64=$C$7,IF(Avropsblankett!$F$64<1000,((Avropsblankett!$F$64-500)*F40/100),((Avropsblankett!$F$64-1000)*F40/100)),IF(Avropsblankett!$D$64=$C$8,IF(Avropsblankett!$F$64<1000,((Avropsblankett!$F$64-500)*F41/100),((Avropsblankett!$F$64-1000)*F41/100)),IF(Avropsblankett!$D$64=$C$9,IF(Avropsblankett!$F$64<1000,((Avropsblankett!$F$64-500)*F42/100),((Avropsblankett!$F$64-1000)*F42/100)),))),\"\"),\"\")","v":""},null,{"$f":"IF(Avropsblankett!$C$64=$A$38,IF(Avropsblankett!$C$68=$B$40,IF(Avropsblankett!$D$64=$C$7,IF(Avropsblankett!$F$64<1000,H40,I40),IF(Avropsblankett!$D$64=$C$8,IF(Avropsblankett!$F$64<1000,H41,I41),IF(Avropsblankett!$D$64=$C$9,IF(Avropsblankett!$F$64<1000,H42,I42),))),\"\"),\"\")","v":""},null,{"$f":"IF(Avropsblankett!$C$64=$A$38,IF(Avropsblankett!$C$68=$B$40,IF(Avropsblankett!$D$64=$C$7,IF(Avropsblankett!$F$64<1000,((Avropsblankett!$F$64-500)*J40/100),((Avropsblankett!$F$64-1000)*J40/100)),IF(Avropsblankett!$D$64=$C$8,IF(Avropsblankett!$F$64<1000,((Avropsblankett!$F$64-500)*J41/100),((Avropsblankett!$F$64-1000)*J41/100)),IF(Avropsblankett!$D$64=$C$9,IF(Avropsblankett!$F$64<1000,((Avropsblankett!$F$64-500)*J42/100),((Avropsblankett!$F$64-1000)*J42/100)),))),\"\"),\"\")","v":""},null,{"$f":"IF(Avropsblankett!$C$64=$A$38,IF(Avropsblankett!$C$68=$B$40,IF(Avropsblankett!$D$64=$C$7,IF(Avropsblankett!$F$64<1000,L40,M40),IF(Avropsblankett!$D$64=$C$8,IF(Avropsblankett!$F$64<1000,L41,M41),IF(Avropsblankett!$D$64=$C$9,IF(Avropsblankett!$F$64<1000,L42,M42),))),\"\"),\"\")","v":""},null,{"$f":"IF(Avropsblankett!$C$64=$A$38,IF(Avropsblankett!$C$68=$B$40,IF(Avropsblankett!$D$64=$C$7,IF(Avropsblankett!$F$64<1000,((Avropsblankett!$F$64-500)*N40/100),((Avropsblankett!$F$64-1000)*N40/100)),IF(Avropsblankett!$D$64=$C$8,IF(Avropsblankett!$F$64<1000,((Avropsblankett!$F$64-500)*N41/100),((Avropsblankett!$F$64-1000)*N41/100)),IF(Avropsblankett!$D$64=$C$9,IF(Avropsblankett!$F$64<1000,((Avropsblankett!$F$64-500)*N42/100),((Avropsblankett!$F$64-1000)*N42/100)),))),\"\"),\"\")","v":""},null,{"$f":"IF(Avropsblankett!$C$64=$A$38,IF(Avropsblankett!$C$68=$B$40,IF(Avropsblankett!$D$64=$C$7,IF(Avropsblankett!$F$64<1000,P40,Q40),IF(Avropsblankett!$D$64=$C$8,IF(Avropsblankett!$F$64<1000,P41,Q41),IF(Avropsblankett!$D$64=$C$9,IF(Avropsblankett!$F$64<1000,P42,Q42),))),\"\"),\"\")","v":""},null,{"$f":"IF(Avropsblankett!$C$64=$A$38,IF(Avropsblankett!$C$68=$B$40,IF(Avropsblankett!$D$64=$C$7,IF(Avropsblankett!$F$64<1000,((Avropsblankett!$F$64-500)*R40/100),((Avropsblankett!$F$64-1000)*R40/100)),IF(Avropsblankett!$D$64=$C$8,IF(Avropsblankett!$F$64<1000,((Avropsblankett!$F$64-500)*R41/100),((Avropsblankett!$F$64-1000)*R41/100)),IF(Avropsblankett!$D$64=$C$9,IF(Avropsblankett!$F$64<1000,((Avropsblankett!$F$64-500)*R42/100),((Avropsblankett!$F$64-1000)*R42/100)),))),\"\"),\"\")","v":""},null,{"$f":"IF(Avropsblankett!$C$64=$A$38,IF(Avropsblankett!$C$68=$B$40,IF(Avropsblankett!$D$64=$C$7,IF(Avropsblankett!$F$64<1000,T40,U40),IF(Avropsblankett!$D$64=$C$8,IF(Avropsblankett!$F$64<1000,T41,U41),IF(Avropsblankett!$D$64=$C$9,IF(Avropsblankett!$F$64<1000,T42,U42),))),\"\"),\"\")","v":""},null,{"$f":"IF(Avropsblankett!$C$64=$A$38,IF(Avropsblankett!$C$68=$B$40,IF(Avropsblankett!$D$64=$C$7,IF(Avropsblankett!$F$64<1000,((Avropsblankett!$F$64-500)*V40/100),((Avropsblankett!$F$64-1000)*V40/100)),IF(Avropsblankett!$D$64=$C$8,IF(Avropsblankett!$F$64<1000,((Avropsblankett!$F$64-500)*V41/100),((Avropsblankett!$F$64-1000)*V41/100)),IF(Avropsblankett!$D$64=$C$9,IF(Avropsblankett!$F$64<1000,((Avropsblankett!$F$64-500)*V42/100),((Avropsblankett!$F$64-1000)*V42/100)),))),\"\"),\"\")","v":""},null,{"$f":"IF(Avropsblankett!$C$64=$A$38,IF(Avropsblankett!$C$68=$B$40,IF(Avropsblankett!$D$64=$C$7,IF(Avropsblankett!$F$64<1000,X40,Y40),IF(Avropsblankett!$D$64=$C$8,IF(Avropsblankett!$F$64<1000,X41,Y41),IF(Avropsblankett!$D$64=$C$9,IF(Avropsblankett!$F$64<1000,X42,Y42),))),\"\"),\"\")","v":""},null,{"$f":"IF(Avropsblankett!$C$64=$A$38,IF(Avropsblankett!$C$68=$B$40,IF(Avropsblankett!$D$64=$C$7,IF(Avropsblankett!$F$64<1000,((Avropsblankett!$F$64-500)*Z40/100),((Avropsblankett!$F$64-1000)*Z40/100)),IF(Avropsblankett!$D$64=$C$8,IF(Avropsblankett!$F$64<1000,((Avropsblankett!$F$64-500)*Z41/100),((Avropsblankett!$F$64-1000)*Z41/100)),IF(Avropsblankett!$D$64=$C$9,IF(Avropsblankett!$F$64<1000,((Avropsblankett!$F$64-500)*Z42/100),((Avropsblankett!$F$64-1000)*Z42/100)),))),\"\"),\"\")","v":""},null,{"$f":"IF(Avropsblankett!$C$64=$A$38,IF(Avropsblankett!$C$68=$B$40,IF(Avropsblankett!$D$64=$C$7,IF(Avropsblankett!$F$64<1000,AB40,AC40),IF(Avropsblankett!$D$64=$C$8,IF(Avropsblankett!$F$64<1000,AB41,AC41),IF(Avropsblankett!$D$64=$C$9,IF(Avropsblankett!$F$64<1000,AB42,AC42),))),\"\"),\"\")","v":""},null,{"$f":"IF(Avropsblankett!$C$64=$A$38,IF(Avropsblankett!$C$68=$B$40,IF(Avropsblankett!$D$64=$C$7,IF(Avropsblankett!$F$64<1000,((Avropsblankett!$F$64-500)*AD40/100),((Avropsblankett!$F$64-1000)*AD40/100)),IF(Avropsblankett!$D$64=$C$8,IF(Avropsblankett!$F$64<1000,((Avropsblankett!$F$64-500)*AD41/100),((Avropsblankett!$F$64-1000)*AD41/100)),IF(Avropsblankett!$D$64=$C$9,IF(Avropsblankett!$F$64<1000,((Avropsblankett!$F$64-500)*AD42/100),((Avropsblankett!$F$64-1000)*AD42/100)),))),\"\"),\"\")","v":""},null,{"$f":"IF(Avropsblankett!$C$64=$A$38,IF(Avropsblankett!$C$68=$B$40,IF(Avropsblankett!$D$64=$C$7,IF(Avropsblankett!$F$64<1000,AF40,AG40),IF(Avropsblankett!$D$64=$C$8,IF(Avropsblankett!$F$64<1000,AF41,AG41),IF(Avropsblankett!$D$64=$C$9,IF(Avropsblankett!$F$64<1000,AF42,AG42),))),\"\"),\"\")","v":""},null,{"$f":"IF(Avropsblankett!$C$64=$A$38,IF(Avropsblankett!$C$68=$B$40,IF(Avropsblankett!$D$64=$C$7,IF(Avropsblankett!$F$64<1000,((Avropsblankett!$F$64-500)*AH40/100),((Avropsblankett!$F$64-1000)*AH40/100)),IF(Avropsblankett!$D$64=$C$8,IF(Avropsblankett!$F$64<1000,((Avropsblankett!$F$64-500)*AH41/100),((Avropsblankett!$F$64-1000)*AH41/100)),IF(Avropsblankett!$D$64=$C$9,IF(Avropsblankett!$F$64<1000,((Avropsblankett!$F$64-500)*AH42/100),((Avropsblankett!$F$64-1000)*AH42/100)),))),\"\"),\"\")","v":""},null,{"$f":"IF(Avropsblankett!$C$64=$A$38,IF(Avropsblankett!$C$68=$B$40,IF(Avropsblankett!$D$64=$C$7,IF(Avropsblankett!$F$64<1000,AJ40,AK40),IF(Avropsblankett!$D$64=$C$8,IF(Avropsblankett!$F$64<1000,AJ41,AK41),IF(Avropsblankett!$D$64=$C$9,IF(Avropsblankett!$F$64<1000,AJ42,AK42),))),\"\"),\"\")","v":""},null,{"$f":"IF(Avropsblankett!$C$64=$A$38,IF(Avropsblankett!$C$68=$B$40,IF(Avropsblankett!$D$64=$C$7,IF(Avropsblankett!$F$64<1000,((Avropsblankett!$F$64-500)*AL40/100),((Avropsblankett!$F$64-1000)*AL40/100)),IF(Avropsblankett!$D$64=$C$8,IF(Avropsblankett!$F$64<1000,((Avropsblankett!$F$64-500)*AL41/100),((Avropsblankett!$F$64-1000)*AL41/100)),IF(Avropsblankett!$D$64=$C$9,IF(Avropsblankett!$F$64<1000,((Avropsblankett!$F$64-500)*AL42/100),((Avropsblankett!$F$64-1000)*AL42/100)),))),\"\"),\"\")","v":""},null,{"$f":"IF(Avropsblankett!$C$64=$A$38,IF(Avropsblankett!$C$68=$B$40,IF(Avropsblankett!$D$64=$C$7,IF(Avropsblankett!$F$64<1000,AN40,AO40),IF(Avropsblankett!$D$64=$C$8,IF(Avropsblankett!$F$64<1000,AN41,AO41),IF(Avropsblankett!$D$64=$C$9,IF(Avropsblankett!$F$64<1000,AN42,AO42),))),\"\"),\"\")","v":""},null,{"$f":"IF(Avropsblankett!$C$64=$A$38,IF(Avropsblankett!$C$68=$B$40,IF(Avropsblankett!$D$64=$C$7,IF(Avropsblankett!$F$64<1000,((Avropsblankett!$F$64-500)*AP40/100),((Avropsblankett!$F$64-1000)*AP40/100)),IF(Avropsblankett!$D$64=$C$8,IF(Avropsblankett!$F$64<1000,((Avropsblankett!$F$64-500)*AP41/100),((Avropsblankett!$F$64-1000)*AP41/100)),IF(Avropsblankett!$D$64=$C$9,IF(Avropsblankett!$F$64<1000,((Avropsblankett!$F$64-500)*AP42/100),((Avropsblankett!$F$64-1000)*AP42/100)),))),\"\"),\"\")","v":""}]
[null,null,null,{"$f":"IF(Avropsblankett!$C$76=$A$38,IF(Avropsblankett!$C$80=$B$40,IF(Avropsblankett!$D$76=$C$7,IF(Avropsblankett!$F$76<1000,D40,E40),IF(Avropsblankett!$D$76=$C$8,IF(Avropsblankett!$F$76<1000,D41,E41),IF(Avropsblankett!$D$76=$C$9,IF(Avropsblankett!$F$76<1000,D42,E42),))),\"\"),\"\")","v":""},null,{"$f":"IF(Avropsblankett!$C$76=$A$38,IF(Avropsblankett!$C$80=$B$40,IF(Avropsblankett!$D$76=$C$7,IF(Avropsblankett!$F$76<1000,((Avropsblankett!$F$76-500)*F40/100),((Avropsblankett!$F$76-1000)*F40/100)),IF(Avropsblankett!$D$76=$C$8,IF(Avropsblankett!$F$76<1000,((Avropsblankett!$F$76-500)*F41/100),((Avropsblankett!$F$76-1000)*F41/100)),IF(Avropsblankett!$D$76=$C$9,IF(Avropsblankett!$F$76<1000,((Avropsblankett!$F$76-500)*F42/100),((Avropsblankett!$F$76-1000)*F42/100)),))),\"\"),\"\")","v":""},null,{"$f":"IF(Avropsblankett!$C$76=$A$38,IF(Avropsblankett!$C$80=$B$40,IF(Avropsblankett!$D$76=$C$7,IF(Avropsblankett!$F$76<1000,H40,I40),IF(Avropsblankett!$D$76=$C$8,IF(Avropsblankett!$F$76<1000,H41,I41),IF(Avropsblankett!$D$76=$C$9,IF(Avropsblankett!$F$76<1000,H42,I42),))),\"\"),\"\")","v":""},null,{"$f":"IF(Avropsblankett!$C$76=$A$38,IF(Avropsblankett!$C$80=$B$40,IF(Avropsblankett!$D$76=$C$7,IF(Avropsblankett!$F$76<1000,((Avropsblankett!$F$76-500)*J40/100),((Avropsblankett!$F$76-1000)*J40/100)),IF(Avropsblankett!$D$76=$C$8,IF(Avropsblankett!$F$76<1000,((Avropsblankett!$F$76-500)*J41/100),((Avropsblankett!$F$76-1000)*J41/100)),IF(Avropsblankett!$D$76=$C$9,IF(Avropsblankett!$F$76<1000,((Avropsblankett!$F$76-500)*J42/100),((Avropsblankett!$F$76-1000)*J42/100)),))),\"\"),\"\")","v":""},null,{"$f":"IF(Avropsblankett!$C$76=$A$38,IF(Avropsblankett!$C$80=$B$40,IF(Avropsblankett!$D$76=$C$7,IF(Avropsblankett!$F$76<1000,L40,M40),IF(Avropsblankett!$D$76=$C$8,IF(Avropsblankett!$F$76<1000,L41,M41),IF(Avropsblankett!$D$76=$C$9,IF(Avropsblankett!$F$76<1000,L42,M42),))),\"\"),\"\")","v":""},null,{"$f":"IF(Avropsblankett!$C$76=$A$38,IF(Avropsblankett!$C$80=$B$40,IF(Avropsblankett!$D$76=$C$7,IF(Avropsblankett!$F$76<1000,((Avropsblankett!$F$76-500)*N40/100),((Avropsblankett!$F$76-1000)*N40/100)),IF(Avropsblankett!$D$76=$C$8,IF(Avropsblankett!$F$76<1000,((Avropsblankett!$F$76-500)*N41/100),((Avropsblankett!$F$76-1000)*N41/100)),IF(Avropsblankett!$D$76=$C$9,IF(Avropsblankett!$F$76<1000,((Avropsblankett!$F$76-500)*N42/100),((Avropsblankett!$F$76-1000)*N42/100)),))),\"\"),\"\")","v":""},null,{"$f":"IF(Avropsblankett!$C$76=$A$38,IF(Avropsblankett!$C$80=$B$40,IF(Avropsblankett!$D$76=$C$7,IF(Avropsblankett!$F$76<1000,P40,Q40),IF(Avropsblankett!$D$76=$C$8,IF(Avropsblankett!$F$76<1000,P41,Q41),IF(Avropsblankett!$D$76=$C$9,IF(Avropsblankett!$F$76<1000,P42,Q42),))),\"\"),\"\")","v":""},null,{"$f":"IF(Avropsblankett!$C$76=$A$38,IF(Avropsblankett!$C$80=$B$40,IF(Avropsblankett!$D$76=$C$7,IF(Avropsblankett!$F$76<1000,((Avropsblankett!$F$76-500)*R40/100),((Avropsblankett!$F$76-1000)*R40/100)),IF(Avropsblankett!$D$76=$C$8,IF(Avropsblankett!$F$76<1000,((Avropsblankett!$F$76-500)*R41/100),((Avropsblankett!$F$76-1000)*R41/100)),IF(Avropsblankett!$D$76=$C$9,IF(Avropsblankett!$F$76<1000,((Avropsblankett!$F$76-500)*R42/100),((Avropsblankett!$F$76-1000)*R42/100)),))),\"\"),\"\")","v":""},null,{"$f":"IF(Avropsblankett!$C$76=$A$38,IF(Avropsblankett!$C$80=$B$40,IF(Avropsblankett!$D$76=$C$7,IF(Avropsblankett!$F$76<1000,T40,U40),IF(Avropsblankett!$D$76=$C$8,IF(Avropsblankett!$F$76<1000,T41,U41),IF(Avropsblankett!$D$76=$C$9,IF(Avropsblankett!$F$76<1000,T42,U42),))),\"\"),\"\")","v":""},null,{"$f":"IF(Avropsblankett!$C$76=$A$38,IF(Avropsblankett!$C$80=$B$40,IF(Avropsblankett!$D$76=$C$7,IF(Avropsblankett!$F$76<1000,((Avropsblankett!$F$76-500)*V40/100),((Avropsblankett!$F$76-1000)*V40/100)),IF(Avropsblankett!$D$76=$C$8,IF(Avropsblankett!$F$76<1000,((Avropsblankett!$F$76-500)*V41/100),((Avropsblankett!$F$76-1000)*V41/100)),IF(Avropsblankett!$D$76=$C$9,IF(Avropsblankett!$F$76<1000,((Avropsblankett!$F$76-500)*V42/100),((Avropsblankett!$F$76-1000)*V42/100)),))),\"\"),\"\")","v":""},null,{"$f":"IF(Avropsblankett!$C$76=$A$38,IF(Avropsblankett!$C$80=$B$40,IF(Avropsblankett!$D$76=$C$7,IF(Avropsblankett!$F$76<1000,X40,Y40),IF(Avropsblankett!$D$76=$C$8,IF(Avropsblankett!$F$76<1000,X41,Y41),IF(Avropsblankett!$D$76=$C$9,IF(Avropsblankett!$F$76<1000,X42,Y42),))),\"\"),\"\")","v":""},null,{"$f":"IF(Avropsblankett!$C$76=$A$38,IF(Avropsblankett!$C$80=$B$40,IF(Avropsblankett!$D$76=$C$7,IF(Avropsblankett!$F$76<1000,((Avropsblankett!$F$76-500)*Z40/100),((Avropsblankett!$F$76-1000)*Z40/100)),IF(Avropsblankett!$D$76=$C$8,IF(Avropsblankett!$F$76<1000,((Avropsblankett!$F$76-500)*Z41/100),((Avropsblankett!$F$76-1000)*Z41/100)),IF(Avropsblankett!$D$76=$C$9,IF(Avropsblankett!$F$76<1000,((Avropsblankett!$F$76-500)*Z42/100),((Avropsblankett!$F$76-1000)*Z42/100)),))),\"\"),\"\")","v":""},null,{"$f":"IF(Avropsblankett!$C$76=$A$38,IF(Avropsblankett!$C$80=$B$40,IF(Avropsblankett!$D$76=$C$7,IF(Avropsblankett!$F$76<1000,AB40,AC40),IF(Avropsblankett!$D$76=$C$8,IF(Avropsblankett!$F$76<1000,AB41,AC41),IF(Avropsblankett!$D$76=$C$9,IF(Avropsblankett!$F$76<1000,AB42,AC42),))),\"\"),\"\")","v":""},null,{"$f":"IF(Avropsblankett!$C$76=$A$38,IF(Avropsblankett!$C$80=$B$40,IF(Avropsblankett!$D$76=$C$7,IF(Avropsblankett!$F$76<1000,((Avropsblankett!$F$76-500)*AD40/100),((Avropsblankett!$F$76-1000)*AD40/100)),IF(Avropsblankett!$D$76=$C$8,IF(Avropsblankett!$F$76<1000,((Avropsblankett!$F$76-500)*AD41/100),((Avropsblankett!$F$76-1000)*AD41/100)),IF(Avropsblankett!$D$76=$C$9,IF(Avropsblankett!$F$76<1000,((Avropsblankett!$F$76-500)*AD42/100),((Avropsblankett!$F$76-1000)*AD42/100)),))),\"\"),\"\")","v":""},null,{"$f":"IF(Avropsblankett!$C$76=$A$38,IF(Avropsblankett!$C$80=$B$40,IF(Avropsblankett!$D$76=$C$7,IF(Avropsblankett!$F$76<1000,AF40,AG40),IF(Avropsblankett!$D$76=$C$8,IF(Avropsblankett!$F$76<1000,AF41,AG41),IF(Avropsblankett!$D$76=$C$9,IF(Avropsblankett!$F$76<1000,AF42,AG42),))),\"\"),\"\")","v":""},null,{"$f":"IF(Avropsblankett!$C$76=$A$38,IF(Avropsblankett!$C$80=$B$40,IF(Avropsblankett!$D$76=$C$7,IF(Avropsblankett!$F$76<1000,((Avropsblankett!$F$76-500)*AH40/100),((Avropsblankett!$F$76-1000)*AH40/100)),IF(Avropsblankett!$D$76=$C$8,IF(Avropsblankett!$F$76<1000,((Avropsblankett!$F$76-500)*AH41/100),((Avropsblankett!$F$76-1000)*AH41/100)),IF(Avropsblankett!$D$76=$C$9,IF(Avropsblankett!$F$76<1000,((Avropsblankett!$F$76-500)*AH42/100),((Avropsblankett!$F$76-1000)*AH42/100)),))),\"\"),\"\")","v":""},null,{"$f":"IF(Avropsblankett!$C$76=$A$38,IF(Avropsblankett!$C$80=$B$40,IF(Avropsblankett!$D$76=$C$7,IF(Avropsblankett!$F$76<1000,AJ40,AK40),IF(Avropsblankett!$D$76=$C$8,IF(Avropsblankett!$F$76<1000,AJ41,AK41),IF(Avropsblankett!$D$76=$C$9,IF(Avropsblankett!$F$76<1000,AJ42,AK42),))),\"\"),\"\")","v":""},null,{"$f":"IF(Avropsblankett!$C$76=$A$38,IF(Avropsblankett!$C$80=$B$40,IF(Avropsblankett!$D$76=$C$7,IF(Avropsblankett!$F$76<1000,((Avropsblankett!$F$76-500)*AL40/100),((Avropsblankett!$F$76-1000)*AL40/100)),IF(Avropsblankett!$D$76=$C$8,IF(Avropsblankett!$F$76<1000,((Avropsblankett!$F$76-500)*AL41/100),((Avropsblankett!$F$76-1000)*AL41/100)),IF(Avropsblankett!$D$76=$C$9,IF(Avropsblankett!$F$76<1000,((Avropsblankett!$F$76-500)*AL42/100),((Avropsblankett!$F$76-1000)*AL42/100)),))),\"\"),\"\")","v":""},null,{"$f":"IF(Avropsblankett!$C$76=$A$38,IF(Avropsblankett!$C$80=$B$40,IF(Avropsblankett!$D$76=$C$7,IF(Avropsblankett!$F$76<1000,AN40,AO40),IF(Avropsblankett!$D$76=$C$8,IF(Avropsblankett!$F$76<1000,AN41,AO41),IF(Avropsblankett!$D$76=$C$9,IF(Avropsblankett!$F$76<1000,AN42,AO42),))),\"\"),\"\")","v":""},null,{"$f":"IF(Avropsblankett!$C$76=$A$38,IF(Avropsblankett!$C$80=$B$40,IF(Avropsblankett!$D$76=$C$7,IF(Avropsblankett!$F$76<1000,((Avropsblankett!$F$76-500)*AP40/100),((Avropsblankett!$F$76-1000)*AP40/100)),IF(Avropsblankett!$D$76=$C$8,IF(Avropsblankett!$F$76<1000,((Avropsblankett!$F$76-500)*AP41/100),((Avropsblankett!$F$76-1000)*AP41/100)),IF(Avropsblankett!$D$76=$C$9,IF(Avropsblankett!$F$76<1000,((Avropsblankett!$F$76-500)*AP42/100),((Avropsblankett!$F$76-1000)*AP42/100)),))),\"\"),\"\")","v":""}]
[null,null,null,{"$f":"SUM(D43:D47)","v":0},null,{"$f":"SUM(F43:F47)","v":0},null,{"$f":"SUM(H43:H47)","v":0},null,{"$f":"SUM(J43:J47)","v":0},null,{"$f":"SUM(L43:L47)","v":0},null,{"$f":"SUM(N43:N47)","v":0},null,{"$f":"SUM(P43:P47)","v":0},null,{"$f":"SUM(R43:R47)","v":0},null,{"$f":"SUM(T43:T47)","v":0},null,{"$f":"SUM(V43:V47)","v":0},null,{"$f":"SUM(X43:X47)","v":0},null,{"$f":"SUM(Z43:Z47)","v":0},null,{"$f":"SUM(AB43:AB47)","v":0},null,{"$f":"SUM(AD43:AD47)","v":0},null,{"$f":"SUM(AF43:AF47)","v":0},null,{"$f":"SUM(AH43:AH47)","v":0},null,{"$f":"SUM(AJ43:AJ47)","v":0},null,{"$f":"SUM(AL43:AL47)","v":0},null,{"$f":"SUM(AN43:AN47)","v":0},null,{"$f":"SUM(AP43:AP47)","v":0}]
["Kuvert_Variant_5",null,"Variant 5","Upplaga",null,"Följande",null,"Upplaga",null,"Följande",null,"Upplaga",null,"Följande",null,"Upplaga",null,"Följande",null,"Upplaga",null,"Följande",null,"Upplaga",null,"Följande",null,"Upplaga",null,"Följande",null,"Upplaga",null,"Följande",null,"Upplaga",null,"Följande",null,"Upplaga",null,"Följande"]
["Kuvert","Kuvert vitt utan fönster, självhäftande klaff med täckremsa. Klaffen ska vara tryckbar. 115g",null,500,1000,100,null,500,1000,100,null,500,1000,100,null,500,1000,100,null,500,1000,100,null,500,1000,100,null,500,1000,100,null,500,1000,100,null,500,1000,100,null,500,1000,100]
["Storlek","C5","Tryck ´4+4",1350,1480,120,null,2872,3213,320,null,3500,4200,93,null,1150,1250,120,null,927,1344,30,null,1644,1730,143,null,1300,2200,230,null,1159,1680,105,null,1100,2000,135,null,1783,2080,30]
[null,null,"Tryck ´4+0",1050,1480,120,null,1606,1948,195,null,1650,2250,49,null,800,1025,100,null,512,769,15,null,1494,1572,141,null,1100,1800,200,null,640,962,65,null,920,1450,115,null,978,1126,15]
[null,null,"Tryck ´1+0",510,1120,100,null,682,1025,102,null,950,1530,31,null,450,525,50,null,224,369,15,null,556,675,69,null,950,1550,165,null,280,462,37,null,825,980,90,null,522,670,15]
[null,null,null,{"$f":"IF(Avropsblankett!$C$28=$A$49,IF(Avropsblankett!$C$32=$B$51,IF(Avropsblankett!$D$28=$C$7,IF(Avropsblankett!$F$28<1000,D51,E51),IF(Avropsblankett!$D$28=$C$8,IF(Avropsblankett!$F$28<1000,D52,E52),IF(Avropsblankett!$D$28=$C$9,IF(Avropsblankett!$F$28<1000,D53,E53),))),\"\"),\"\")","v":""},null,{"$f":"IF(Avropsblankett!$C$28=$A$49,IF(Avropsblankett!$C$32=$B$51,IF(Avropsblankett!$D$28=$C$7,IF(Avropsblankett!$F$28<1000,((Avropsblankett!$F$28-500)*F51/100),((Avropsblankett!$F$28-1000)*F51/100)),IF(Avropsblankett!$D$28=$C$8,IF(Avropsblankett!$F$28<1000,((Avropsblankett!$F$28-500)*F52/100),((Avropsblankett!$F$28-1000)*F52/100)),IF(Avropsblankett!$D$28=$C$9,IF(Avropsblankett!$F$28<1000,((Avropsblankett!$F$28-500)*F53/100),((Avropsblankett!$F$28-1000)*F53/100)),))),\"\"),\"\")","v":""},null,{"$f":"IF(Avropsblankett!$C$28=$A$49,IF(Avropsblankett!$C$32=$B$51,IF(Avropsblankett!$D$28=$C$7,IF(Avropsblankett!$F$28<1000,H51,I51),IF(Avropsblankett!$D$28=$C$8,IF(Avropsblankett!$F$28<1000,H52,I52),IF(Avropsblankett!$D$28=$C$9,IF(Avropsblankett!$F$28<1000,H53,I53),))),\"\"),\"\")","v":""},null,{"$f":"IF(Avropsblankett!$C$28=$A$49,IF(Avropsblankett!$C$32=$B$51,IF(Avropsblankett!$D$28=$C$7,IF(Avropsblankett!$F$28<1000,((Avropsblankett!$F$28-500)*J51/100),((Avropsblankett!$F$28-1000)*J51/100)),IF(Avropsblankett!$D$28=$C$8,IF(Avropsblankett!$F$28<1000,((Avropsblankett!$F$28-500)*J52/100),((Avropsblankett!$F$28-1000)*J52/100)),IF(Avropsblankett!$D$28=$C$9,IF(Avropsblankett!$F$28<1000,((Avropsblankett!$F$28-500)*J53/100),((Avropsblankett!$F$28-1000)*J53/100)),))),\"\"),\"\")","v":""},null,{"$f":"IF(Avropsblankett!$C$28=$A$49,IF(Avropsblankett!$C$32=$B$51,IF(Avropsblankett!$D$28=$C$7,IF(Avropsblankett!$F$28<1000,L51,M51),IF(Avropsblankett!$D$28=$C$8,IF(Avropsblankett!$F$28<1000,L52,M52),IF(Avropsblankett!$D$28=$C$9,IF(Avropsblankett!$F$28<1000,L53,M53),))),\"\"),\"\")","v":""},null,{"$f":"IF(Avropsblankett!$C$28=$A$49,IF(Avropsblankett!$C$32=$B$51,IF(Avropsblankett!$D$28=$C$7,IF(Avropsblankett!$F$28<1000,((Avropsblankett!$F$28-500)*N51/100),((Avropsblankett!$F$28-1000)*N51/100)),IF(Avropsblankett!$D$28=$C$8,IF(Avropsblankett!$F$28<1000,((Avropsblankett!$F$28-500)*N52/100),((Avropsblankett!$F$28-1000)*N52/100)),IF(Avropsblankett!$D$28=$C$9,IF(Avropsblankett!$F$28<1000,((Avropsblankett!$F$28-500)*N53/100),((Avropsblankett!$F$28-1000)*N53/100)),))),\"\"),\"\")","v":""},null,{"$f":"IF(Avropsblankett!$C$28=$A$49,IF(Avropsblankett!$C$32=$B$51,IF(Avropsblankett!$D$28=$C$7,IF(Avropsblankett!$F$28<1000,P51,Q51),IF(Avropsblankett!$D$28=$C$8,IF(Avropsblankett!$F$28<1000,P52,Q52),IF(Avropsblankett!$D$28=$C$9,IF(Avropsblankett!$F$28<1000,P53,Q53),))),\"\"),\"\")","v":""},null,{"$f":"IF(Avropsblankett!$C$28=$A$49,IF(Avropsblankett!$C$32=$B$51,IF(Avropsblankett!$D$28=$C$7,IF(Avropsblankett!$F$28<1000,((Avropsblankett!$F$28-500)*R51/100),((Avropsblankett!$F$28-1000)*R51/100)),IF(Avropsblankett!$D$28=$C$8,IF(Avropsblankett!$F$28<1000,((Avropsblankett!$F$28-500)*R52/100),((Avropsblankett!$F$28-1000)*R52/100)),IF(Avropsblankett!$D$28=$C$9,IF(Avropsblankett!$F$28<1000,((Avropsblankett!$F$28-500)*R53/100),((Avropsblankett!$F$28-1000)*R53/100)),))),\"\"),\"\")","v":""},null,{"$f":"IF(Avropsblankett!$C$28=$A$49,IF(Avropsblankett!$C$32=$B$51,IF(Avropsblankett!$D$28=$C$7,IF(Avropsblankett!$F$28<1000,T51,U51),IF(Avropsblankett!$D$28=$C$8,IF(Avropsblankett!$F$28<1000,T52,U52),IF(Avropsblankett!$D$28=$C$9,IF(Avropsblankett!$F$28<1000,T53,U53),))),\"\"),\"\")","v":""},null,{"$f":"IF(Avropsblankett!$C$28=$A$49,IF(Avropsblankett!$C$32=$B$51,IF(Avropsblankett!$D$28=$C$7,IF(Avropsblankett!$F$28<1000,((Avropsblankett!$F$28-500)*V51/100),((Avropsblankett!$F$28-1000)*V51/100)),IF(Avropsblankett!$D$28=$C$8,IF(Avropsblankett!$F$28<1000,((Avropsblankett!$F$28-500)*V52/100),((Avropsblankett!$F$28-1000)*V52/100)),IF(Avropsblankett!$D$28=$C$9,IF(Avropsblankett!$F$28<1000,((Avropsblankett!$F$28-500)*V53/100),((Avropsblankett!$F$28-1000)*V53/100)),))),\"\"),\"\")","v":""},null,{"$f":"IF(Avropsblankett!$C$28=$A$49,IF(Avropsblankett!$C$32=$B$51,IF(Avropsblankett!$D$28=$C$7,IF(Avropsblankett!$F$28<1000,X51,Y51),IF(Avropsblankett!$D$28=$C$8,IF(Avropsblankett!$F$28<1000,X52,Y52),IF(Avropsblankett!$D$28=$C$9,IF(Avropsblankett!$F$28<1000,X53,Y53),))),\"\"),\"\")","v":""},null,{"$f":"IF(Avropsblankett!$C$28=$A$49,IF(Avropsblankett!$C$32=$B$51,IF(Avropsblankett!$D$28=$C$7,IF(Avropsblankett!$F$28<1000,((Avropsblankett!$F$28-500)*Z51/100),((Avropsblankett!$F$28-1000)*Z51/100)),IF(Avropsblankett!$D$28=$C$8,IF(Avropsblankett!$F$28<1000,((Avropsblankett!$F$28-500)*Z52/100),((Avropsblankett!$F$28-1000)*Z52/100)),IF(Avropsblankett!$D$28=$C$9,IF(Avropsblankett!$F$28<1000,((Avropsblankett!$F$28-500)*Z53/100),((Avropsblankett!$F$28-1000)*Z53/100)),))),\"\"),\"\")","v":""},null,{"$f":"IF(Avropsblankett!$C$28=$A$49,IF(Avropsblankett!$C$32=$B$51,IF(Avropsblankett!$D$28=$C$7,IF(Avropsblankett!$F$28<1000,AB51,AC51),IF(Avropsblankett!$D$28=$C$8,IF(Avropsblankett!$F$28<1000,AB52,AC52),IF(Avropsblankett!$D$28=$C$9,IF(Avropsblankett!$F$28<1000,AB53,AC53),))),\"\"),\"\")","v":""},null,{"$f":"IF(Avropsblankett!$C$28=$A$49,IF(Avropsblankett!$C$32=$B$51,IF(Avropsblankett!$D$28=$C$7,IF(Avropsblankett!$F$28<1000,((Avropsblankett!$F$28-500)*AD51/100),((Avropsblankett!$F$28-1000)*AD51/100)),IF(Avropsblankett!$D$28=$C$8,IF(Avropsblankett!$F$28<1000,((Avropsblankett!$F$28-500)*AD52/100),((Avropsblankett!$F$28-1000)*AD52/100)),IF(Avropsblankett!$D$28=$C$9,IF(Avropsblankett!$F$28<1000,((Avropsblankett!$F$28-500)*AD53/100),((Avropsblankett!$F$28-1000)*AD53/100)),))),\"\"),\"\")","v":""},null,{"$f":"IF(Avropsblankett!$C$28=$A$49,IF(Avropsblankett!$C$32=$B$51,IF(Avropsblankett!$D$28=$C$7,IF(Avropsblankett!$F$28<1000,AF51,AG51),IF(Avropsblankett!$D$28=$C$8,IF(Avropsblankett!$F$28<1000,AF52,AG52),IF(Avropsblankett!$D$28=$C$9,IF(Avropsblankett!$F$28<1000,AF53,AG53),))),\"\"),\"\")","v":""},null,{"$f":"IF(Avropsblankett!$C$28=$A$49,IF(Avropsblankett!$C$32=$B$51,IF(Avropsblankett!$D$28=$C$7,IF(Avropsblankett!$F$28<1000,((Avropsblankett!$F$28-500)*AH51/100),((Avropsblankett!$F$28-1000)*AH51/100)),IF(Avropsblankett!$D$28=$C$8,IF(Avropsblankett!$F$28<1000,((Avropsblankett!$F$28-500)*AH52/100),((Avropsblankett!$F$28-1000)*AH52/100)),IF(Avropsblankett!$D$28=$C$9,IF(Avropsblankett!$F$28<1000,((Avropsblankett!$F$28-500)*AH53/100),((Avropsblankett!$F$28-1000)*AH53/100)),))),\"\"),\"\")","v":""},null,{"$f":"IF(Avropsblankett!$C$28=$A$49,IF(Avropsblankett!$C$32=$B$51,IF(Avropsblankett!$D$28=$C$7,IF(Avropsblankett!$F$28<1000,AJ51,AK51),IF(Avropsblankett!$D$28=$C$8,IF(Avropsblankett!$F$28<1000,AJ52,AK52),IF(Avropsblankett!$D$28=$C$9,IF(Avropsblankett!$F$28<1000,AJ53,AK53),))),\"\"),\"\")","v":""},null,{"$f":"IF(Avropsblankett!$C$28=$A$49,IF(Avropsblankett!$C$32=$B$51,IF(Avropsblankett!$D$28=$C$7,IF(Avropsblankett!$F$28<1000,((Avropsblankett!$F$28-500)*AL51/100),((Avropsblankett!$F$28-1000)*AL51/100)),IF(Avropsblankett!$D$28=$C$8,IF(Avropsblankett!$F$28<1000,((Avropsblankett!$F$28-500)*AL52/100),((Avropsblankett!$F$28-1000)*AL52/100)),IF(Avropsblankett!$D$28=$C$9,IF(Avropsblankett!$F$28<1000,((Avropsblankett!$F$28-500)*AL53/100),((Avropsblankett!$F$28-1000)*AL53/100)),))),\"\"),\"\")","v":""},null,{"$f":"IF(Avropsblankett!$C$28=$A$49,IF(Avropsblankett!$C$32=$B$51,IF(Avropsblankett!$D$28=$C$7,IF(Avropsblankett!$F$28<1000,AN51,AO51),IF(Avropsblankett!$D$28=$C$8,IF(Avropsblankett!$F$28<1000,AN52,AO52),IF(Avropsblankett!$D$28=$C$9,IF(Avropsblankett!$F$28<1000,AN53,AO53),))),\"\"),\"\")","v":""},null,{"$f":"IF(Avropsblankett!$C$28=$A$49,IF(Avropsblankett!$C$32=$B$51,IF(Avropsblankett!$D$28=$C$7,IF(Avropsblankett!$F$28<1000,((Avropsblankett!$F$28-500)*AP51/100),((Avropsblankett!$F$28-1000)*AP51/100)),IF(Avropsblankett!$D$28=$C$8,IF(Avropsblankett!$F$28<1000,((Avropsblankett!$F$28-500)*AP52/100),((Avropsblankett!$F$28-1000)*AP52/100)),IF(Avropsblankett!$D$28=$C$9,IF(Avropsblankett!$F$28<1000,((Avropsblankett!$F$28-500)*AP53/100),((Avropsblankett!$F$28-1000)*AP53/100)),))),\"\"),\"\")","v":""}]
[null,null,null,{"$f":"IF(Avropsblankett!$C$40=$A$49,IF(Avropsblankett!$C$44=$B$51,IF(Avropsblankett!$D$40=$C$7,IF(Avropsblankett!$F$40<1000,D51,E51),IF(Avropsblankett!$D$40=$C$8,IF(Avropsblankett!$F$40<1000,D52,E52),IF(Avropsblankett!$D$40=$C$9,IF(Avropsblankett!$F$40<1000,D53,E53),))),\"\"),\"\")","v":""},null,{"$f":"IF(Avropsblankett!$C$40=$A$49,IF(Avropsblankett!$C$44=$B$51,IF(Avropsblankett!$D$40=$C$7,IF(Avropsblankett!$F$40<1000,((Avropsblankett!$F$40-500)*F51/100),((Avropsblankett!$F$40-1000)*F51/100)),IF(Avropsblankett!$D$40=$C$8,IF(Avropsblankett!$F$40<1000,((Avropsblankett!$F$40-500)*F52/100),((Avropsblankett!$F$40-1000)*F52/100)),IF(Avropsblankett!$D$40=$C$9,IF(Avropsblankett!$F$40<1000,((Avropsblankett!$F$40-500)*F53/100),((Avropsblankett!$F$40-1000)*F53/100)),))),\"\"),\"\")","v":""},null,{"$f":"IF(Avropsblankett!$C$40=$A$49,IF(Avropsblankett!$C$44=$B$51,IF(Avropsblankett!$D$40=$C$7,IF(Avropsblankett!$F$40<1000,H51,I51),IF(Avropsblankett!$D$40=$C$8,IF(Avropsblankett!$F$40<1000,H52,I52),IF(Avropsblankett!$D$40=$C$9,IF(Avropsblankett!$F$40<1000,H53,I53),))),\"\"),\"\")","v":""},null,{"$f":"IF(Avropsblankett!$C$40=$A$49,IF(Avropsblankett!$C$44=$B$51,IF(Avropsblankett!$D$40=$C$7,IF(Avropsblankett!$F$40<1000,((Avropsblankett!$F$40-500)*J51/100),((Avropsblankett!$F$40-1000)*J51/100)),IF(Avropsblankett!$D$40=$C$8,IF(Avropsblankett!$F$40<1000,((Avropsblankett!$F$40-500)*J52/100),((Avropsblankett!$F$40-1000)*J52/100)),IF(Avropsblankett!$D$40=$C$9,IF(Avropsblankett!$F$40<1000,((Avropsblankett!$F$40-500)*J53/100),((Avropsblankett!$F$40-1000)*J53/100)),))),\"\"),\"\")","v":""},null,{"$f":"IF(Avropsblankett!$C$40=$A$49,IF(Avropsblankett!$C$44=$B$51,IF(Avropsblankett!$D$40=$C$7,IF(Avropsblankett!$F$40<1000,L51,M51),IF(Avropsblankett!$D$40=$C$8,IF(Avropsblankett!$F$40<1000,L52,M52),IF(Avropsblankett!$D$40=$C$9,IF(Avropsblankett!$F$40<1000,L53,M53),))),\"\"),\"\")","v":""},null,{"$f":"IF(Avropsblankett!$C$40=$A$49,IF(Avropsblankett!$C$44=$B$51,IF(Avropsblankett!$D$40=$C$7,IF(Avropsblankett!$F$40<1000,((Avropsblankett!$F$40-500)*N51/100),((Avropsblankett!$F$40-1000)*N51/100)),IF(Avropsblankett!$D$40=$C$8,IF(Avropsblankett!$F$40<1000,((Avropsblankett!$F$40-500)*N52/100),((Avropsblankett!$F$40-1000)*N52/100)),IF(Avropsblankett!$D$40=$C$9,IF(Avropsblankett!$F$40<1000,((Avropsblankett!$F$40-500)*N53/100),((Avropsblankett!$F$40-1000)*N53/100)),))),\"\"),\"\")","v":""},null,{"$f":"IF(Avropsblankett!$C$40=$A$49,IF(Avropsblankett!$C$44=$B$51,IF(Avropsblankett!$D$40=$C$7,IF(Avropsblankett!$F$40<1000,P51,Q51),IF(Avropsblankett!$D$40=$C$8,IF(Avropsblankett!$F$40<1000,P52,Q52),IF(Avropsblankett!$D$40=$C$9,IF(Avropsblankett!$F$40<1000,P53,Q53),))),\"\"),\"\")","v":""},null,{"$f":"IF(Avropsblankett!$C$40=$A$49,IF(Avropsblankett!$C$44=$B$51,IF(Avropsblankett!$D$40=$C$7,IF(Avropsblankett!$F$40<1000,((Avropsblankett!$F$40-500)*R51/100),((Avropsblankett!$F$40-1000)*R51/100)),IF(Avropsblankett!$D$40=$C$8,IF(Avropsblankett!$F$40<1000,((Avropsblankett!$F$40-500)*R52/100),((Avropsblankett!$F$40-1000)*R52/100)),IF(Avropsblankett!$D$40=$C$9,IF(Avropsblankett!$F$40<1000,((Avropsblankett!$F$40-500)*R53/100),((Avropsblankett!$F$40-1000)*R53/100)),))),\"\"),\"\")","v":""},null,{"$f":"IF(Avropsblankett!$C$40=$A$49,IF(Avropsblankett!$C$44=$B$51,IF(Avropsblankett!$D$40=$C$7,IF(Avropsblankett!$F$40<1000,T51,U51),IF(Avropsblankett!$D$40=$C$8,IF(Avropsblankett!$F$40<1000,T52,U52),IF(Avropsblankett!$D$40=$C$9,IF(Avropsblankett!$F$40<1000,T53,U53),))),\"\"),\"\")","v":""},null,{"$f":"IF(Avropsblankett!$C$40=$A$49,IF(Avropsblankett!$C$44=$B$51,IF(Avropsblankett!$D$40=$C$7,IF(Avropsblankett!$F$40<1000,((Avropsblankett!$F$40-500)*V51/100),((Avropsblankett!$F$40-1000)*V51/100)),IF(Avropsblankett!$D$40=$C$8,IF(Avropsblankett!$F$40<1000,((Avropsblankett!$F$40-500)*V52/100),((Avropsblankett!$F$40-1000)*V52/100)),IF(Avropsblankett!$D$40=$C$9,IF(Avropsblankett!$F$40<1000,((Avropsblankett!$F$40-500)*V53/100),((Avropsblankett!$F$40-1000)*V53/100)),))),\"\"),\"\")","v":""},null,{"$f":"IF(Avropsblankett!$C$40=$A$49,IF(Avropsblankett!$C$44=$B$51,IF(Avropsblankett!$D$40=$C$7,IF(Avropsblankett!$F$40<1000,X51,Y51),IF(Avropsblankett!$D$40=$C$8,IF(Avropsblankett!$F$40<1000,X52,Y52),IF(Avropsblankett!$D$40=$C$9,IF(Avropsblankett!$F$40<1000,X53,Y53),))),\"\"),\"\")","v":""},null,{"$f":"IF(Avropsblankett!$C$40=$A$49,IF(Avropsblankett!$C$44=$B$51,IF(Avropsblankett!$D$40=$C$7,IF(Avropsblankett!$F$40<1000,((Avropsblankett!$F$40-500)*Z51/100),((Avropsblankett!$F$40-1000)*Z51/100)),IF(Avropsblankett!$D$40=$C$8,IF(Avropsblankett!$F$40<1000,((Avropsblankett!$F$40-500)*Z52/100),((Avropsblankett!$F$40-1000)*Z52/100)),IF(Avropsblankett!$D$40=$C$9,IF(Avropsblankett!$F$40<1000,((Avropsblankett!$F$40-500)*Z53/100),((Avropsblankett!$F$40-1000)*Z53/100)),))),\"\"),\"\")","v":""},null,{"$f":"IF(Avropsblankett!$C$40=$A$49,IF(Avropsblankett!$C$44=$B$51,IF(Avropsblankett!$D$40=$C$7,IF(Avropsblankett!$F$40<1000,AB51,AC51),IF(Avropsblankett!$D$40=$C$8,IF(Avropsblankett!$F$40<1000,AB52,AC52),IF(Avropsblankett!$D$40=$C$9,IF(Avropsblankett!$F$40<1000,AB53,AC53),))),\"\"),\"\")","v":""},null,{"$f":"IF(Avropsblankett!$C$40=$A$49,IF(Avropsblankett!$C$44=$B$51,IF(Avropsblankett!$D$40=$C$7,IF(Avropsblankett!$F$40<1000,((Avropsblankett!$F$40-500)*AD51/100),((Avropsblankett!$F$40-1000)*AD51/100)),IF(Avropsblankett!$D$40=$C$8,IF(Avropsblankett!$F$40<1000,((Avropsblankett!$F$40-500)*AD52/100),((Avropsblankett!$F$40-1000)*AD52/100)),IF(Avropsblankett!$D$40=$C$9,IF(Avropsblankett!$F$40<1000,((Avropsblankett!$F$40-500)*AD53/100),((Avropsblankett!$F$40-1000)*AD53/100)),))),\"\"),\"\")","v":""},null,{"$f":"IF(Avropsblankett!$C$40=$A$49,IF(Avropsblankett!$C$44=$B$51,IF(Avropsblankett!$D$40=$C$7,IF(Avropsblankett!$F$40<1000,AF51,AG51),IF(Avropsblankett!$D$40=$C$8,IF(Avropsblankett!$F$40<1000,AF52,AG52),IF(Avropsblankett!$D$40=$C$9,IF(Avropsblankett!$F$40<1000,AF53,AG53),))),\"\"),\"\")","v":""},null,{"$f":"IF(Avropsblankett!$C$40=$A$49,IF(Avropsblankett!$C$44=$B$51,IF(Avropsblankett!$D$40=$C$7,IF(Avropsblankett!$F$40<1000,((Avropsblankett!$F$40-500)*AH51/100),((Avropsblankett!$F$40-1000)*AH51/100)),IF(Avropsblankett!$D$40=$C$8,IF(Avropsblankett!$F$40<1000,((Avropsblankett!$F$40-500)*AH52/100),((Avropsblankett!$F$40-1000)*AH52/100)),IF(Avropsblankett!$D$40=$C$9,IF(Avropsblankett!$F$40<1000,((Avropsblankett!$F$40-500)*AH53/100),((Avropsblankett!$F$40-1000)*AH53/100)),))),\"\"),\"\")","v":""},null,{"$f":"IF(Avropsblankett!$C$40=$A$49,IF(Avropsblankett!$C$44=$B$51,IF(Avropsblankett!$D$40=$C$7,IF(Avropsblankett!$F$40<1000,AJ51,AK51),IF(Avropsblankett!$D$40=$C$8,IF(Avropsblankett!$F$40<1000,AJ52,AK52),IF(Avropsblankett!$D$40=$C$9,IF(Avropsblankett!$F$40<1000,AJ53,AK53),))),\"\"),\"\")","v":""},null,{"$f":"IF(Avropsblankett!$C$40=$A$49,IF(Avropsblankett!$C$44=$B$51,IF(Avropsblankett!$D$40=$C$7,IF(Avropsblankett!$F$40<1000,((Avropsblankett!$F$40-500)*AL51/100),((Avropsblankett!$F$40-1000)*AL51/100)),IF(Avropsblankett!$D$40=$C$8,IF(Avropsblankett!$F$40<1000,((Avropsblankett!$F$40-500)*AL52/100),((Avropsblankett!$F$40-1000)*AL52/100)),IF(Avropsblankett!$D$40=$C$9,IF(Avropsblankett!$F$40<1000,((Avropsblankett!$F$40-500)*AL53/100),((Avropsblankett!$F$40-1000)*AL53/100)),))),\"\"),\"\")","v":""},null,{"$f":"IF(Avropsblankett!$C$40=$A$49,IF(Avropsblankett!$C$44=$B$51,IF(Avropsblankett!$D$40=$C$7,IF(Avropsblankett!$F$40<1000,AN51,AO51),IF(Avropsblankett!$D$40=$C$8,IF(Avropsblankett!$F$40<1000,AN52,AO52),IF(Avropsblankett!$D$40=$C$9,IF(Avropsblankett!$F$40<1000,AN53,AO53),))),\"\"),\"\")","v":""},null,{"$f":"IF(Avropsblankett!$C$40=$A$49,IF(Avropsblankett!$C$44=$B$51,IF(Avropsblankett!$D$40=$C$7,IF(Avropsblankett!$F$40<1000,((Avropsblankett!$F$40-500)*AP51/100),((Avropsblankett!$F$40-1000)*AP51/100)),IF(Avropsblankett!$D$40=$C$8,IF(Avropsblankett!$F$40<1000,((Avropsblankett!$F$40-500)*AP52/100),((Avropsblankett!$F$40-1000)*AP52/100)),IF(Avropsblankett!$D$40=$C$9,IF(Avropsblankett!$F$40<1000,((Avropsblankett!$F$40-500)*AP53/100),((Avropsblankett!$F$40-1000)*AP53/100)),))),\"\"),\"\")","v":""}]
[null,null,null,{"$f":"IF(Avropsblankett!$C$52=$A$49,IF(Avropsblankett!$C$56=$B$51,IF(Avropsblankett!$D$52=$C$7,IF(Avropsblankett!$F$52<1000,D51,E51),IF(Avropsblankett!$D$52=$C$8,IF(Avropsblankett!$F$52<1000,D52,E52),IF(Avropsblankett!$D$52=$C$9,IF(Avropsblankett!$F$52<1000,D53,E53),))),\"\"),\"\")","v":""},null,{"$f":"IF(Avropsblankett!$C$52=$A$49,IF(Avropsblankett!$C$56=$B$51,IF(Avropsblankett!$D$52=$C$7,IF(Avropsblankett!$F$52<1000,((Avropsblankett!$F$52-500)*F51/100),((Avropsblankett!$F$52-1000)*F51/100)),IF(Avropsblankett!$D$52=$C$8,IF(Avropsblankett!$F$52<1000,((Avropsblankett!$F$52-500)*F52/100),((Avropsblankett!$F$52-1000)*F52/100)),IF(Avropsblankett!$D$52=$C$9,IF(Avropsblankett!$F$52<1000,((Avropsblankett!$F$52-500)*F53/100),((Avropsblankett!$F$52-1000)*F53/100)),))),\"\"),\"\")","v":""},null,{"$f":"IF(Avropsblankett!$C$52=$A$49,IF(Avropsblankett!$C$56=$B$51,IF(Avropsblankett!$D$52=$C$7,IF(Avropsblankett!$F$52<1000,H51,I51),IF(Avropsblankett!$D$52=$C$8,IF(Avropsblankett!$F$52<1000,H52,I52),IF(Avropsblankett!$D$52=$C$9,IF(Avropsblankett!$F$52<1000,H53,I53),))),\"\"),\"\")","v":""},null,{"$f":"IF(Avropsblankett!$C$52=$A$49,IF(Avropsblankett!$C$56=$B$51,IF(Avropsblankett!$D$52=$C$7,IF(Avropsblankett!$F$52<1000,((Avropsblankett!$F$52-500)*J51/100),((Avropsblankett!$F$52-1000)*J51/100)),IF(Avropsblankett!$D$52=$C$8,IF(Avropsblankett!$F$52<1000,((Avropsblankett!$F$52-500)*J52/100),((Avropsblankett!$F$52-1000)*J52/100)),IF(Avropsblankett!$D$52=$C$9,IF(Avropsblankett!$F$52<1000,((Avropsblankett!$F$52-500)*J53/100),((Avropsblankett!$F$52-1000)*J53/100)),))),\"\"),\"\")","v":""},null,{"$f":"IF(Avropsblankett!$C$52=$A$49,IF(Avropsblankett!$C$56=$B$51,IF(Avropsblankett!$D$52=$C$7,IF(Avropsblankett!$F$52<1000,L51,M51),IF(Avropsblankett!$D$52=$C$8,IF(Avropsblankett!$F$52<1000,L52,M52),IF(Avropsblankett!$D$52=$C$9,IF(Avropsblankett!$F$52<1000,L53,M53),))),\"\"),\"\")","v":""},null,{"$f":"IF(Avropsblankett!$C$52=$A$49,IF(Avropsblankett!$C$56=$B$51,IF(Avropsblankett!$D$52=$C$7,IF(Avropsblankett!$F$52<1000,((Avropsblankett!$F$52-500)*N51/100),((Avropsblankett!$F$52-1000)*N51/100)),IF(Avropsblankett!$D$52=$C$8,IF(Avropsblankett!$F$52<1000,((Avropsblankett!$F$52-500)*N52/100),((Avropsblankett!$F$52-1000)*N52/100)),IF(Avropsblankett!$D$52=$C$9,IF(Avropsblankett!$F$52<1000,((Avropsblankett!$F$52-500)*N53/100),((Avropsblankett!$F$52-1000)*N53/100)),))),\"\"),\"\")","v":""},null,{"$f":"IF(Avropsblankett!$C$52=$A$49,IF(Avropsblankett!$C$56=$B$51,IF(Avropsblankett!$D$52=$C$7,IF(Avropsblankett!$F$52<1000,P51,Q51),IF(Avropsblankett!$D$52=$C$8,IF(Avropsblankett!$F$52<1000,P52,Q52),IF(Avropsblankett!$D$52=$C$9,IF(Avropsblankett!$F$52<1000,P53,Q53),))),\"\"),\"\")","v":""},null,{"$f":"IF(Avropsblankett!$C$52=$A$49,IF(Avropsblankett!$C$56=$B$51,IF(Avropsblankett!$D$52=$C$7,IF(Avropsblankett!$F$52<1000,((Avropsblankett!$F$52-500)*R51/100),((Avropsblankett!$F$52-1000)*R51/100)),IF(Avropsblankett!$D$52=$C$8,IF(Avropsblankett!$F$52<1000,((Avropsblankett!$F$52-500)*R52/100),((Avropsblankett!$F$52-1000)*R52/100)),IF(Avropsblankett!$D$52=$C$9,IF(Avropsblankett!$F$52<1000,((Avropsblankett!$F$52-500)*R53/100),((Avropsblankett!$F$52-1000)*R53/100)),))),\"\"),\"\")","v":""},null,{"$f":"IF(Avropsblankett!$C$52=$A$49,IF(Avropsblankett!$C$56=$B$51,IF(Avropsblankett!$D$52=$C$7,IF(Avropsblankett!$F$52<1000,T51,U51),IF(Avropsblankett!$D$52=$C$8,IF(Avropsblankett!$F$52<1000,T52,U52),IF(Avropsblankett!$D$52=$C$9,IF(Avropsblankett!$F$52<1000,T53,U53),))),\"\"),\"\")","v":""},null,{"$f":"IF(Avropsblankett!$C$52=$A$49,IF(Avropsblankett!$C$56=$B$51,IF(Avropsblankett!$D$52=$C$7,IF(Avropsblankett!$F$52<1000,((Avropsblankett!$F$52-500)*V51/100),((Avropsblankett!$F$52-1000)*V51/100)),IF(Avropsblankett!$D$52=$C$8,IF(Avropsblankett!$F$52<1000,((Avropsblankett!$F$52-500)*V52/100),((Avropsblankett!$F$52-1000)*V52/100)),IF(Avropsblankett!$D$52=$C$9,IF(Avropsblankett!$F$52<1000,((Avropsblankett!$F$52-500)*V53/100),((Avropsblankett!$F$52-1000)*V53/100)),))),\"\"),\"\")","v":""},null,{"$f":"IF(Avropsblankett!$C$52=$A$49,IF(Avropsblankett!$C$56=$B$51,IF(Avropsblankett!$D$52=$C$7,IF(Avropsblankett!$F$52<1000,X51,Y51),IF(Avropsblankett!$D$52=$C$8,IF(Avropsblankett!$F$52<1000,X52,Y52),IF(Avropsblankett!$D$52=$C$9,IF(Avropsblankett!$F$52<1000,X53,Y53),))),\"\"),\"\")","v":""},null,{"$f":"IF(Avropsblankett!$C$52=$A$49,IF(Avropsblankett!$C$56=$B$51,IF(Avropsblankett!$D$52=$C$7,IF(Avropsblankett!$F$52<1000,((Avropsblankett!$F$52-500)*Z51/100),((Avropsblankett!$F$52-1000)*Z51/100)),IF(Avropsblankett!$D$52=$C$8,IF(Avropsblankett!$F$52<1000,((Avropsblankett!$F$52-500)*Z52/100),((Avropsblankett!$F$52-1000)*Z52/100)),IF(Avropsblankett!$D$52=$C$9,IF(Avropsblankett!$F$52<1000,((Avropsblankett!$F$52-500)*Z53/100),((Avropsblankett!$F$52-1000)*Z53/100)),))),\"\"),\"\")","v":""},null,{"$f":"IF(Avropsblankett!$C$52=$A$49,IF(Avropsblankett!$C$56=$B$51,IF(Avropsblankett!$D$52=$C$7,IF(Avropsblankett!$F$52<1000,AB51,AC51),IF(Avropsblankett!$D$52=$C$8,IF(Avropsblankett!$F$52<1000,AB52,AC52),IF(Avropsblankett!$D$52=$C$9,IF(Avropsblankett!$F$52<1000,AB53,AC53),))),\"\"),\"\")","v":""},null,{"$f":"IF(Avropsblankett!$C$52=$A$49,IF(Avropsblankett!$C$56=$B$51,IF(Avropsblankett!$D$52=$C$7,IF(Avropsblankett!$F$52<1000,((Avropsblankett!$F$52-500)*AD51/100),((Avropsblankett!$F$52-1000)*AD51/100)),IF(Avropsblankett!$D$52=$C$8,IF(Avropsblankett!$F$52<1000,((Avropsblankett!$F$52-500)*AD52/100),((Avropsblankett!$F$52-1000)*AD52/100)),IF(Avropsblankett!$D$52=$C$9,IF(Avropsblankett!$F$52<1000,((Avropsblankett!$F$52-500)*AD53/100),((Avropsblankett!$F$52-1000)*AD53/100)),))),\"\"),\"\")","v":""},null,{"$f":"IF(Avropsblankett!$C$52=$A$49,IF(Avropsblankett!$C$56=$B$51,IF(Avropsblankett!$D$52=$C$7,IF(Avropsblankett!$F$52<1000,AF51,AG51),IF(Avropsblankett!$D$52=$C$8,IF(Avropsblankett!$F$52<1000,AF52,AG52),IF(Avropsblankett!$D$52=$C$9,IF(Avropsblankett!$F$52<1000,AF53,AG53),))),\"\"),\"\")","v":""},null,{"$f":"IF(Avropsblankett!$C$52=$A$49,IF(Avropsblankett!$C$56=$B$51,IF(Avropsblankett!$D$52=$C$7,IF(Avropsblankett!$F$52<1000,((Avropsblankett!$F$52-500)*AH51/100),((Avropsblankett!$F$52-1000)*AH51/100)),IF(Avropsblankett!$D$52=$C$8,IF(Avropsblankett!$F$52<1000,((Avropsblankett!$F$52-500)*AH52/100),((Avropsblankett!$F$52-1000)*AH52/100)),IF(Avropsblankett!$D$52=$C$9,IF(Avropsblankett!$F$52<1000,((Avropsblankett!$F$52-500)*AH53/100),((Avropsblankett!$F$52-1000)*AH53/100)),))),\"\"),\"\")","v":""},null,{"$f":"IF(Avropsblankett!$C$52=$A$49,IF(Avropsblankett!$C$56=$B$51,IF(Avropsblankett!$D$52=$C$7,IF(Avropsblankett!$F$52<1000,AJ51,AK51),IF(Avropsblankett!$D$52=$C$8,IF(Avropsblankett!$F$52<1000,AJ52,AK52),IF(Avropsblankett!$D$52=$C$9,IF(Avropsblankett!$F$52<1000,AJ53,AK53),))),\"\"),\"\")","v":""},null,{"$f":"IF(Avropsblankett!$C$52=$A$49,IF(Avropsblankett!$C$56=$B$51,IF(Avropsblankett!$D$52=$C$7,IF(Avropsblankett!$F$52<1000,((Avropsblankett!$F$52-500)*AL51/100),((Avropsblankett!$F$52-1000)*AL51/100)),IF(Avropsblankett!$D$52=$C$8,IF(Avropsblankett!$F$52<1000,((Avropsblankett!$F$52-500)*AL52/100),((Avropsblankett!$F$52-1000)*AL52/100)),IF(Avropsblankett!$D$52=$C$9,IF(Avropsblankett!$F$52<1000,((Avropsblankett!$F$52-500)*AL53/100),((Avropsblankett!$F$52-1000)*AL53/100)),))),\"\"),\"\")","v":""},null,{"$f":"IF(Avropsblankett!$C$52=$A$49,IF(Avropsblankett!$C$56=$B$51,IF(Avropsblankett!$D$52=$C$7,IF(Avropsblankett!$F$52<1000,AN51,AO51),IF(Avropsblankett!$D$52=$C$8,IF(Avropsblankett!$F$52<1000,AN52,AO52),IF(Avropsblankett!$D$52=$C$9,IF(Avropsblankett!$F$52<1000,AN53,AO53),))),\"\"),\"\")","v":""},null,{"$f":"IF(Avropsblankett!$C$52=$A$49,IF(Avropsblankett!$C$56=$B$51,IF(Avropsblankett!$D$52=$C$7,IF(Avropsblankett!$F$52<1000,((Avropsblankett!$F$52-500)*AP51/100),((Avropsblankett!$F$52-1000)*AP51/100)),IF(Avropsblankett!$D$52=$C$8,IF(Avropsblankett!$F$52<1000,((Avropsblankett!$F$52-500)*AP52/100),((Avropsblankett!$F$52-1000)*AP52/100)),IF(Avropsblankett!$D$52=$C$9,IF(Avropsblankett!$F$52<1000,((Avropsblankett!$F$52-500)*AP53/100),((Avropsblankett!$F$52-1000)*AP53/100)),))),\"\"),\"\")","v":""}]
[null,null,null,{"$f":"IF(Avropsblankett!$C$64=$A$49,IF(Avropsblankett!$C$68=$B$51,IF(Avropsblankett!$D$64=$C$7,IF(Avropsblankett!$F$64<1000,D51,E51),IF(Avropsblankett!$D$64=$C$8,IF(Avropsblankett!$F$64<1000,D52,E52),IF(Avropsblankett!$D$64=$C$9,IF(Avropsblankett!$F$64<1000,D53,E53),))),\"\"),\"\")","v":""},null,{"$f":"IF(Avropsblankett!$C$64=$A$49,IF(Avropsblankett!$C$68=$B$51,IF(Avropsblankett!$D$64=$C$7,IF(Avropsblankett!$F$64<1000,((Avropsblankett!$F$64-500)*F51/100),((Avropsblankett!$F$64-1000)*F51/100)),IF(Avropsblankett!$D$64=$C$8,IF(Avropsblankett!$F$64<1000,((Avropsblankett!$F$64-500)*F52/100),((Avropsblankett!$F$64-1000)*F52/100)),IF(Avropsblankett!$D$64=$C$9,IF(Avropsblankett!$F$64<1000,((Avropsblankett!$F$64-500)*F53/100),((Avropsblankett!$F$64-1000)*F53/100)),))),\"\"),\"\")","v":""},null,{"$f":"IF(Avropsblankett!$C$64=$A$49,IF(Avropsblankett!$C$68=$B$51,IF(Avropsblankett!$D$64=$C$7,IF(Avropsblankett!$F$64<1000,H51,I51),IF(Avropsblankett!$D$64=$C$8,IF(Avropsblankett!$F$64<1000,H52,I52),IF(Avropsblankett!$D$64=$C$9,IF(Avropsblankett!$F$64<1000,H53,I53),))),\"\"),\"\")","v":""},null,{"$f":"IF(Avropsblankett!$C$64=$A$49,IF(Avropsblankett!$C$68=$B$51,IF(Avropsblankett!$D$64=$C$7,IF(Avropsblankett!$F$64<1000,((Avropsblankett!$F$64-500)*J51/100),((Avropsblankett!$F$64-1000)*J51/100)),IF(Avropsblankett!$D$64=$C$8,IF(Avropsblankett!$F$64<1000,((Avropsblankett!$F$64-500)*J52/100),((Avropsblankett!$F$64-1000)*J52/100)),IF(Avropsblankett!$D$64=$C$9,IF(Avropsblankett!$F$64<1000,((Avropsblankett!$F$64-500)*J53/100),((Avropsblankett!$F$64-1000)*J53/100)),))),\"\"),\"\")","v":""},null,{"$f":"IF(Avropsblankett!$C$64=$A$49,IF(Avropsblankett!$C$68=$B$51,IF(Avropsblankett!$D$64=$C$7,IF(Avropsblankett!$F$64<1000,L51,M51),IF(Avropsblankett!$D$64=$C$8,IF(Avropsblankett!$F$64<1000,L52,M52),IF(Avropsblankett!$D$64=$C$9,IF(Avropsblankett!$F$64<1000,L53,M53),))),\"\"),\"\")","v":""},null,{"$f":"IF(Avropsblankett!$C$64=$A$49,IF(Avropsblankett!$C$68=$B$51,IF(Avropsblankett!$D$64=$C$7,IF(Avropsblankett!$F$64<1000,((Avropsblankett!$F$64-500)*N51/100),((Avropsblankett!$F$64-1000)*N51/100)),IF(Avropsblankett!$D$64=$C$8,IF(Avropsblankett!$F$64<1000,((Avropsblankett!$F$64-500)*N52/100),((Avropsblankett!$F$64-1000)*N52/100)),IF(Avropsblankett!$D$64=$C$9,IF(Avropsblankett!$F$64<1000,((Avropsblankett!$F$64-500)*N53/100),((Avropsblankett!$F$64-1000)*N53/100)),))),\"\"),\"\")","v":""},null,{"$f":"IF(Avropsblankett!$C$64=$A$49,IF(Avropsblankett!$C$68=$B$51,IF(Avropsblankett!$D$64=$C$7,IF(Avropsblankett!$F$64<1000,P51,Q51),IF(Avropsblankett!$D$64=$C$8,IF(Avropsblankett!$F$64<1000,P52,Q52),IF(Avropsblankett!$D$64=$C$9,IF(Avropsblankett!$F$64<1000,P53,Q53),))),\"\"),\"\")","v":""},null,{"$f":"IF(Avropsblankett!$C$64=$A$49,IF(Avropsblankett!$C$68=$B$51,IF(Avropsblankett!$D$64=$C$7,IF(Avropsblankett!$F$64<1000,((Avropsblankett!$F$64-500)*R51/100),((Avropsblankett!$F$64-1000)*R51/100)),IF(Avropsblankett!$D$64=$C$8,IF(Avropsblankett!$F$64<1000,((Avropsblankett!$F$64-500)*R52/100),((Avropsblankett!$F$64-1000)*R52/100)),IF(Avropsblankett!$D$64=$C$9,IF(Avropsblankett!$F$64<1000,((Avropsblankett!$F$64-500)*R53/100),((Avropsblankett!$F$64-1000)*R53/100)),))),\"\"),\"\")","v":""},null,{"$f":"IF(Avropsblankett!$C$64=$A$49,IF(Avropsblankett!$C$68=$B$51,IF(Avropsblankett!$D$64=$C$7,IF(Avropsblankett!$F$64<1000,T51,U51),IF(Avropsblankett!$D$64=$C$8,IF(Avropsblankett!$F$64<1000,T52,U52),IF(Avropsblankett!$D$64=$C$9,IF(Avropsblankett!$F$64<1000,T53,U53),))),\"\"),\"\")","v":""},null,{"$f":"IF(Avropsblankett!$C$64=$A$49,IF(Avropsblankett!$C$68=$B$51,IF(Avropsblankett!$D$64=$C$7,IF(Avropsblankett!$F$64<1000,((Avropsblankett!$F$64-500)*V51/100),((Avropsblankett!$F$64-1000)*V51/100)),IF(Avropsblankett!$D$64=$C$8,IF(Avropsblankett!$F$64<1000,((Avropsblankett!$F$64-500)*V52/100),((Avropsblankett!$F$64-1000)*V52/100)),IF(Avropsblankett!$D$64=$C$9,IF(Avropsblankett!$F$64<1000,((Avropsblankett!$F$64-500)*V53/100),((Avropsblankett!$F$64-1000)*V53/100)),))),\"\"),\"\")","v":""},null,{"$f":"IF(Avropsblankett!$C$64=$A$49,IF(Avropsblankett!$C$68=$B$51,IF(Avropsblankett!$D$64=$C$7,IF(Avropsblankett!$F$64<1000,X51,Y51),IF(Avropsblankett!$D$64=$C$8,IF(Avropsblankett!$F$64<1000,X52,Y52),IF(Avropsblankett!$D$64=$C$9,IF(Avropsblankett!$F$64<1000,X53,Y53),))),\"\"),\"\")","v":""},null,{"$f":"IF(Avropsblankett!$C$64=$A$49,IF(Avropsblankett!$C$68=$B$51,IF(Avropsblankett!$D$64=$C$7,IF(Avropsblankett!$F$64<1000,((Avropsblankett!$F$64-500)*Z51/100),((Avropsblankett!$F$64-1000)*Z51/100)),IF(Avropsblankett!$D$64=$C$8,IF(Avropsblankett!$F$64<1000,((Avropsblankett!$F$64-500)*Z52/100),((Avropsblankett!$F$64-1000)*Z52/100)),IF(Avropsblankett!$D$64=$C$9,IF(Avropsblankett!$F$64<1000,((Avropsblankett!$F$64-500)*Z53/100),((Avropsblankett!$F$64-1000)*Z53/100)),))),\"\"),\"\")","v":""},null,{"$f":"IF(Avropsblankett!$C$64=$A$49,IF(Avropsblankett!$C$68=$B$51,IF(Avropsblankett!$D$64=$C$7,IF(Avropsblankett!$F$64<1000,AB51,AC51),IF(Avropsblankett!$D$64=$C$8,IF(Avropsblankett!$F$64<1000,AB52,AC52),IF(Avropsblankett!$D$64=$C$9,IF(Avropsblankett!$F$64<1000,AB53,AC53),))),\"\"),\"\")","v":""},null,{"$f":"IF(Avropsblankett!$C$64=$A$49,IF(Avropsblankett!$C$68=$B$51,IF(Avropsblankett!$D$64=$C$7,IF(Avropsblankett!$F$64<1000,((Avropsblankett!$F$64-500)*AD51/100),((Avropsblankett!$F$64-1000)*AD51/100)),IF(Avropsblankett!$D$64=$C$8,IF(Avropsblankett!$F$64<1000,((Avropsblankett!$F$64-500)*AD52/100),((Avropsblankett!$F$64-1000)*AD52/100)),IF(Avropsblankett!$D$64=$C$9,IF(Avropsblankett!$F$64<1000,((Avropsblankett!$F$64-500)*AD53/100),((Avropsblankett!$F$64-1000)*AD53/100)),))),\"\"),\"\")","v":""},null,{"$f":"IF(Avropsblankett!$C$64=$A$49,IF(Avropsblankett!$C$68=$B$51,IF(Avropsblankett!$D$64=$C$7,IF(Avropsblankett!$F$64<1000,AF51,AG51),IF(Avropsblankett!$D$64=$C$8,IF(Avropsblankett!$F$64<1000,AF52,AG52),IF(Avropsblankett!$D$64=$C$9,IF(Avropsblankett!$F$64<1000,AF53,AG53),))),\"\"),\"\")","v":""},null,{"$f":"IF(Avropsblankett!$C$64=$A$49,IF(Avropsblankett!$C$68=$B$51,IF(Avropsblankett!$D$64=$C$7,IF(Avropsblankett!$F$64<1000,((Avropsblankett!$F$64-500)*AH51/100),((Avropsblankett!$F$64-1000)*AH51/100)),IF(Avropsblankett!$D$64=$C$8,IF(Avropsblankett!$F$64<1000,((Avropsblankett!$F$64-500)*AH52/100),((Avropsblankett!$F$64-1000)*AH52/100)),IF(Avropsblankett!$D$64=$C$9,IF(Avropsblankett!$F$64<1000,((Avropsblankett!$F$64-500)*AH53/100),((Avropsblankett!$F$64-1000)*AH53/100)),))),\"\"),\"\")","v":""},null,{"$f":"IF(Avropsblankett!$C$64=$A$49,IF(Avropsblankett!$C$68=$B$51,IF(Avropsblankett!$D$64=$C$7,IF(Avropsblankett!$F$64<1000,AJ51,AK51),IF(Avropsblankett!$D$64=$C$8,IF(Avropsblankett!$F$64<1000,AJ52,AK52),IF(Avropsblankett!$D$64=$C$9,IF(Avropsblankett!$F$64<1000,AJ53,AK53),))),\"\"),\"\")","v":""},null,{"$f":"IF(Avropsblankett!$C$64=$A$49,IF(Avropsblankett!$C$68=$B$51,IF(Avropsblankett!$D$64=$C$7,IF(Avropsblankett!$F$64<1000,((Avropsblankett!$F$64-500)*AL51/100),((Avropsblankett!$F$64-1000)*AL51/100)),IF(Avropsblankett!$D$64=$C$8,IF(Avropsblankett!$F$64<1000,((Avropsblankett!$F$64-500)*AL52/100),((Avropsblankett!$F$64-1000)*AL52/100)),IF(Avropsblankett!$D$64=$C$9,IF(Avropsblankett!$F$64<1000,((Avropsblankett!$F$64-500)*AL53/100),((Avropsblankett!$F$64-1000)*AL53/100)),))),\"\"),\"\")","v":""},null,{"$f":"IF(Avropsblankett!$C$64=$A$49,IF(Avropsblankett!$C$68=$B$51,IF(Avropsblankett!$D$64=$C$7,IF(Avropsblankett!$F$64<1000,AN51,AO51),IF(Avropsblankett!$D$64=$C$8,IF(Avropsblankett!$F$64<1000,AN52,AO52),IF(Avropsblankett!$D$64=$C$9,IF(Avropsblankett!$F$64<1000,AN53,AO53),))),\"\"),\"\")","v":""},null,{"$f":"IF(Avropsblankett!$C$64=$A$49,IF(Avropsblankett!$C$68=$B$51,IF(Avropsblankett!$D$64=$C$7,IF(Avropsblankett!$F$64<1000,((Avropsblankett!$F$64-500)*AP51/100),((Avropsblankett!$F$64-1000)*AP51/100)),IF(Avropsblankett!$D$64=$C$8,IF(Avropsblankett!$F$64<1000,((Avropsblankett!$F$64-500)*AP52/100),((Avropsblankett!$F$64-1000)*AP52/100)),IF(Avropsblankett!$D$64=$C$9,IF(Avropsblankett!$F$64<1000,((Avropsblankett!$F$64-500)*AP53/100),((Avropsblankett!$F$64-1000)*AP53/100)),))),\"\"),\"\")","v":""}]
[null,null,null,{"$f":"IF(Avropsblankett!$C$76=$A$49,IF(Avropsblankett!$C$80=$B$51,IF(Avropsblankett!$D$76=$C$7,IF(Avropsblankett!$F$76<1000,D51,E51),IF(Avropsblankett!$D$76=$C$8,IF(Avropsblankett!$F$76<1000,D52,E52),IF(Avropsblankett!$D$76=$C$9,IF(Avropsblankett!$F$76<1000,D53,E53),))),\"\"),\"\")","v":""},null,{"$f":"IF(Avropsblankett!$C$76=$A$49,IF(Avropsblankett!$C$80=$B$51,IF(Avropsblankett!$D$76=$C$7,IF(Avropsblankett!$F$76<1000,((Avropsblankett!$F$76-500)*F51/100),((Avropsblankett!$F$76-1000)*F51/100)),IF(Avropsblankett!$D$76=$C$8,IF(Avropsblankett!$F$76<1000,((Avropsblankett!$F$76-500)*F52/100),((Avropsblankett!$F$76-1000)*F52/100)),IF(Avropsblankett!$D$76=$C$9,IF(Avropsblankett!$F$76<1000,((Avropsblankett!$F$76-500)*F53/100),((Avropsblankett!$F$76-1000)*F53/100)),))),\"\"),\"\")","v":""},null,{"$f":"IF(Avropsblankett!$C$76=$A$49,IF(Avropsblankett!$C$80=$B$51,IF(Avropsblankett!$D$76=$C$7,IF(Avropsblankett!$F$76<1000,H51,I51),IF(Avropsblankett!$D$76=$C$8,IF(Avropsblankett!$F$76<1000,H52,I52),IF(Avropsblankett!$D$76=$C$9,IF(Avropsblankett!$F$76<1000,H53,I53),))),\"\"),\"\")","v":""},null,{"$f":"IF(Avropsblankett!$C$76=$A$49,IF(Avropsblankett!$C$80=$B$51,IF(Avropsblankett!$D$76=$C$7,IF(Avropsblankett!$F$76<1000,((Avropsblankett!$F$76-500)*J51/100),((Avropsblankett!$F$76-1000)*J51/100)),IF(Avropsblankett!$D$76=$C$8,IF(Avropsblankett!$F$76<1000,((Avropsblankett!$F$76-500)*J52/100),((Avropsblankett!$F$76-1000)*J52/100)),IF(Avropsblankett!$D$76=$C$9,IF(Avropsblankett!$F$76<1000,((Avropsblankett!$F$76-500)*J53/100),((Avropsblankett!$F$76-1000)*J53/100)),))),\"\"),\"\")","v":""},null,{"$f":"IF(Avropsblankett!$C$76=$A$49,IF(Avropsblankett!$C$80=$B$51,IF(Avropsblankett!$D$76=$C$7,IF(Avropsblankett!$F$76<1000,L51,M51),IF(Avropsblankett!$D$76=$C$8,IF(Avropsblankett!$F$76<1000,L52,M52),IF(Avropsblankett!$D$76=$C$9,IF(Avropsblankett!$F$76<1000,L53,M53),))),\"\"),\"\")","v":""},null,{"$f":"IF(Avropsblankett!$C$76=$A$49,IF(Avropsblankett!$C$80=$B$51,IF(Avropsblankett!$D$76=$C$7,IF(Avropsblankett!$F$76<1000,((Avropsblankett!$F$76-500)*N51/100),((Avropsblankett!$F$76-1000)*N51/100)),IF(Avropsblankett!$D$76=$C$8,IF(Avropsblankett!$F$76<1000,((Avropsblankett!$F$76-500)*N52/100),((Avropsblankett!$F$76-1000)*N52/100)),IF(Avropsblankett!$D$76=$C$9,IF(Avropsblankett!$F$76<1000,((Avropsblankett!$F$76-500)*N53/100),((Avropsblankett!$F$76-1000)*N53/100)),))),\"\"),\"\")","v":""},null,{"$f":"IF(Avropsblankett!$C$76=$A$49,IF(Avropsblankett!$C$80=$B$51,IF(Avropsblankett!$D$76=$C$7,IF(Avropsblankett!$F$76<1000,P51,Q51),IF(Avropsblankett!$D$76=$C$8,IF(Avropsblankett!$F$76<1000,P52,Q52),IF(Avropsblankett!$D$76=$C$9,IF(Avropsblankett!$F$76<1000,P53,Q53),))),\"\"),\"\")","v":""},null,{"$f":"IF(Avropsblankett!$C$76=$A$49,IF(Avropsblankett!$C$80=$B$51,IF(Avropsblankett!$D$76=$C$7,IF(Avropsblankett!$F$76<1000,((Avropsblankett!$F$76-500)*R51/100),((Avropsblankett!$F$76-1000)*R51/100)),IF(Avropsblankett!$D$76=$C$8,IF(Avropsblankett!$F$76<1000,((Avropsblankett!$F$76-500)*R52/100),((Avropsblankett!$F$76-1000)*R52/100)),IF(Avropsblankett!$D$76=$C$9,IF(Avropsblankett!$F$76<1000,((Avropsblankett!$F$76-500)*R53/100),((Avropsblankett!$F$76-1000)*R53/100)),))),\"\"),\"\")","v":""},null,{"$f":"IF(Avropsblankett!$C$76=$A$49,IF(Avropsblankett!$C$80=$B$51,IF(Avropsblankett!$D$76=$C$7,IF(Avropsblankett!$F$76<1000,T51,U51),IF(Avropsblankett!$D$76=$C$8,IF(Avropsblankett!$F$76<1000,T52,U52),IF(Avropsblankett!$D$76=$C$9,IF(Avropsblankett!$F$76<1000,T53,U53),))),\"\"),\"\")","v":""},null,{"$f":"IF(Avropsblankett!$C$76=$A$49,IF(Avropsblankett!$C$80=$B$51,IF(Avropsblankett!$D$76=$C$7,IF(Avropsblankett!$F$76<1000,((Avropsblankett!$F$76-500)*V51/100),((Avropsblankett!$F$76-1000)*V51/100)),IF(Avropsblankett!$D$76=$C$8,IF(Avropsblankett!$F$76<1000,((Avropsblankett!$F$76-500)*V52/100),((Avropsblankett!$F$76-1000)*V52/100)),IF(Avropsblankett!$D$76=$C$9,IF(Avropsblankett!$F$76<1000,((Avropsblankett!$F$76-500)*V53/100),((Avropsblankett!$F$76-1000)*V53/100)),))),\"\"),\"\")","v":""},null,{"$f":"IF(Avropsblankett!$C$76=$A$49,IF(Avropsblankett!$C$80=$B$51,IF(Avropsblankett!$D$76=$C$7,IF(Avropsblankett!$F$76<1000,X51,Y51),IF(Avropsblankett!$D$76=$C$8,IF(Avropsblankett!$F$76<1000,X52,Y52),IF(Avropsblankett!$D$76=$C$9,IF(Avropsblankett!$F$76<1000,X53,Y53),))),\"\"),\"\")","v":""},null,{"$f":"IF(Avropsblankett!$C$76=$A$49,IF(Avropsblankett!$C$80=$B$51,IF(Avropsblankett!$D$76=$C$7,IF(Avropsblankett!$F$76<1000,((Avropsblankett!$F$76-500)*Z51/100),((Avropsblankett!$F$76-1000)*Z51/100)),IF(Avropsblankett!$D$76=$C$8,IF(Avropsblankett!$F$76<1000,((Avropsblankett!$F$76-500)*Z52/100),((Avropsblankett!$F$76-1000)*Z52/100)),IF(Avropsblankett!$D$76=$C$9,IF(Avropsblankett!$F$76<1000,((Avropsblankett!$F$76-500)*Z53/100),((Avropsblankett!$F$76-1000)*Z53/100)),))),\"\"),\"\")","v":""},null,{"$f":"IF(Avropsblankett!$C$76=$A$49,IF(Avropsblankett!$C$80=$B$51,IF(Avropsblankett!$D$76=$C$7,IF(Avropsblankett!$F$76<1000,AB51,AC51),IF(Avropsblankett!$D$76=$C$8,IF(Avropsblankett!$F$76<1000,AB52,AC52),IF(Avropsblankett!$D$76=$C$9,IF(Avropsblankett!$F$76<1000,AB53,AC53),))),\"\"),\"\")","v":""},null,{"$f":"IF(Avropsblankett!$C$76=$A$49,IF(Avropsblankett!$C$80=$B$51,IF(Avropsblankett!$D$76=$C$7,IF(Avropsblankett!$F$76<1000,((Avropsblankett!$F$76-500)*AD51/100),((Avropsblankett!$F$76-1000)*AD51/100)),IF(Avropsblankett!$D$76=$C$8,IF(Avropsblankett!$F$76<1000,((Avropsblankett!$F$76-500)*AD52/100),((Avropsblankett!$F$76-1000)*AD52/100)),IF(Avropsblankett!$D$76=$C$9,IF(Avropsblankett!$F$76<1000,((Avropsblankett!$F$76-500)*AD53/100),((Avropsblankett!$F$76-1000)*AD53/100)),))),\"\"),\"\")","v":""},null,{"$f":"IF(Avropsblankett!$C$76=$A$49,IF(Avropsblankett!$C$80=$B$51,IF(Avropsblankett!$D$76=$C$7,IF(Avropsblankett!$F$76<1000,AF51,AG51),IF(Avropsblankett!$D$76=$C$8,IF(Avropsblankett!$F$76<1000,AF52,AG52),IF(Avropsblankett!$D$76=$C$9,IF(Avropsblankett!$F$76<1000,AF53,AG53),))),\"\"),\"\")","v":""},null,{"$f":"IF(Avropsblankett!$C$76=$A$49,IF(Avropsblankett!$C$80=$B$51,IF(Avropsblankett!$D$76=$C$7,IF(Avropsblankett!$F$76<1000,((Avropsblankett!$F$76-500)*AH51/100),((Avropsblankett!$F$76-1000)*AH51/100)),IF(Avropsblankett!$D$76=$C$8,IF(Avropsblankett!$F$76<1000,((Avropsblankett!$F$76-500)*AH52/100),((Avropsblankett!$F$76-1000)*AH52/100)),IF(Avropsblankett!$D$76=$C$9,IF(Avropsblankett!$F$76<1000,((Avropsblankett!$F$76-500)*AH53/100),((Avropsblankett!$F$76-1000)*AH53/100)),))),\"\"),\"\")","v":""},null,{"$f":"IF(Avropsblankett!$C$76=$A$49,IF(Avropsblankett!$C$80=$B$51,IF(Avropsblankett!$D$76=$C$7,IF(Avropsblankett!$F$76<1000,AJ51,AK51),IF(Avropsblankett!$D$76=$C$8,IF(Avropsblankett!$F$76<1000,AJ52,AK52),IF(Avropsblankett!$D$76=$C$9,IF(Avropsblankett!$F$76<1000,AJ53,AK53),))),\"\"),\"\")","v":""},null,{"$f":"IF(Avropsblankett!$C$76=$A$49,IF(Avropsblankett!$C$80=$B$51,IF(Avropsblankett!$D$76=$C$7,IF(Avropsblankett!$F$76<1000,((Avropsblankett!$F$76-500)*AL51/100),((Avropsblankett!$F$76-1000)*AL51/100)),IF(Avropsblankett!$D$76=$C$8,IF(Avropsblankett!$F$76<1000,((Avropsblankett!$F$76-500)*AL52/100),((Avropsblankett!$F$76-1000)*AL52/100)),IF(Avropsblankett!$D$76=$C$9,IF(Avropsblankett!$F$76<1000,((Avropsblankett!$F$76-500)*AL53/100),((Avropsblankett!$F$76-1000)*AL53/100)),))),\"\"),\"\")","v":""},null,{"$f":"IF(Avropsblankett!$C$76=$A$49,IF(Avropsblankett!$C$80=$B$51,IF(Avropsblankett!$D$76=$C$7,IF(Avropsblankett!$F$76<1000,AN51,AO51),IF(Avropsblankett!$D$76=$C$8,IF(Avropsblankett!$F$76<1000,AN52,AO52),IF(Avropsblankett!$D$76=$C$9,IF(Avropsblankett!$F$76<1000,AN53,AO53),))),\"\"),\"\")","v":""},null,{"$f":"IF(Avropsblankett!$C$76=$A$49,IF(Avropsblankett!$C$80=$B$51,IF(Avropsblankett!$D$76=$C$7,IF(Avropsblankett!$F$76<1000,((Avropsblankett!$F$76-500)*AP51/100),((Avropsblankett!$F$76-1000)*AP51/100)),IF(Avropsblankett!$D$76=$C$8,IF(Avropsblankett!$F$76<1000,((Avropsblankett!$F$76-500)*AP52/100),((Avropsblankett!$F$76-1000)*AP52/100)),IF(Avropsblankett!$D$76=$C$9,IF(Avropsblankett!$F$76<1000,((Avropsblankett!$F$76-500)*AP53/100),((Avropsblankett!$F$76-1000)*AP53/100)),))),\"\"),\"\")","v":""}]
[null,null,null,{"$f":"SUM(D54:D58)","v":0},null,{"$f":"SUM(F54:F58)","v":0},null,{"$f":"SUM(H54:H58)","v":0},null,{"$f":"SUM(J54:J58)","v":0},null,{"$f":"SUM(L54:L58)","v":0},null,{"$f":"SUM(N54:N58)","v":0},null,{"$f":"SUM(P54:P58)","v":0},null,{"$f":"SUM(R54:R58)","v":0},null,{"$f":"SUM(T54:T58)","v":0},null,{"$f":"SUM(V54:V58)","v":0},null,{"$f":"SUM(X54:X58)","v":0},null,{"$f":"SUM(Z54:Z58)","v":0},null,{"$f":"SUM(AB54:AB58)","v":0},null,{"$f":"SUM(AD54:AD58)","v":0},null,{"$f":"SUM(AF54:AF58)","v":0},null,{"$f":"SUM(AH54:AH58)","v":0},null,{"$f":"SUM(AJ54:AJ58)","v":0},null,{"$f":"SUM(AL54:AL58)","v":0},null,{"$f":"SUM(AN54:AN58)","v":0},null,{"$f":"SUM(AP54:AP58)","v":0}]
["Kuvert_Variant_6",null,"Variant 6","Upplaga",null,"Följande",null,"Upplaga",null,"Följande",null,"Upplaga",null,"Följande",null,"Upplaga",null,"Följande",null,"Upplaga",null,"Följande",null,"Upplaga",null,"Följande",null,"Upplaga",null,"Följande",null,"Upplaga",null,"Följande",null,"Upplaga",null,"Följande",null,"Upplaga",null,"Följande"]
["Kuvert","Kuvert vitt liggande fönster, självhäftande klaff med täckremsa. Klaffen ska vara tryckbar. 90g",null,500,1000,100,null,500,1000,100,null,500,1000,100,null,500,1000,100,null,500,1000,100,null,500,1000,100,null,500,1000,100,null,500,1000,100,null,500,1000,100,null,500,1000,100]
["Storlek","C5","Tryck ´4+4",1350,1480,120,null,2703,2874,287,null,2800,3000,68,null,1110,1210,120,null,935,1354,30,null,1650,1742,144,null,900,1400,155,null,1169,1699,107,null,1000,1850,130,null,1783,2080,30]
[null,null,"Tryck ´4+0",1050,1480,120,null,1436,1629,160,null,1200,1350,30,null,810,990,95,null,520,784,15,null,1500,1583,142,null,650,1000,115,null,650,980,67,null,850,1300,105,null,978,1126,15]
[null,null,"Tryck ´1+0",510,1120,100,null,514,686,68,null,500,630,14,null,460,525,50,null,231,383,15,null,561,686,70,null,500,800,100,null,289,479,39,null,750,950,80,null,522,670,15]
[null,null,null,{"$f":"IF(Avropsblankett!$C$28=$A$60,IF(Avropsblankett!$C$32=$B$62,IF(Avropsblankett!$D$28=$C$7,IF(Avropsblankett!$F$28<1000,D62,E62),IF(Avropsblankett!$D$28=$C$8,IF(Avropsblankett!$F$28<1000,D63,E63),IF(Avropsblankett!$D$28=$C$9,IF(Avropsblankett!$F$28<1000,D64,E64),))),\"\"),\"\")","v":""},null,{"$f":"IF(Avropsblankett!$C$28=$A$60,IF(Avropsblankett!$C$32=$B$62,IF(Avropsblankett!$D$28=$C$7,IF(Avropsblankett!$F$28<1000,((Avropsblankett!$F$28-500)*F62/100),((Avropsblankett!$F$28-1000)*F62/100)),IF(Avropsblankett!$D$28=$C$8,IF(Avropsblankett!$F$28<1000,((Avropsblankett!$F$28-500)*F63/100),((Avropsblankett!$F$28-1000)*F63/100)),IF(Avropsblankett!$D$28=$C$9,IF(Avropsblankett!$F$28<1000,((Avropsblankett!$F$28-500)*F64/100),((Avropsblankett!$F$28-1000)*F64/100)),))),\"\"),\"\")","v":""},null,{"$f":"IF(Avropsblankett!$C$28=$A$60,IF(Avropsblankett!$C$32=$B$62,IF(Avropsblankett!$D$28=$C$7,IF(Avropsblankett!$F$28<1000,H62,I62),IF(Avropsblankett!$D$28=$C$8,IF(Avropsblankett!$F$28<1000,H63,I63),IF(Avropsblankett!$D$28=$C$9,IF(Avropsblankett!$F$28<1000,H64,I64),))),\"\"),\"\")","v":""},null,{"$f":"IF(Avropsblankett!$C$28=$A$60,IF(Avropsblankett!$C$32=$B$62,IF(Avropsblankett!$D$28=$C$7,IF(Avropsblankett!$F$28<1000,((Avropsblankett!$F$28-500)*J62/100),((Avropsblankett!$F$28-1000)*J62/100)),IF(Avropsblankett!$D$28=$C$8,IF(Avropsblankett!$F$28<1000,((Avropsblankett!$F$28-500)*J63/100),((Avropsblankett!$F$28-1000)*J63/100)),IF(Avropsblankett!$D$28=$C$9,IF(Avropsblankett!$F$28<1000,((Avropsblankett!$F$28-500)*J64/100),((Avropsblankett!$F$28-1000)*J64/100)),))),\"\"),\"\")","v":""},null,{"$f":"IF(Avropsblankett!$C$28=$A$60,IF(Avropsblankett!$C$32=$B$62,IF(Avropsblankett!$D$28=$C$7,IF(Avropsblankett!$F$28<1000,L62,M62),IF(Avropsblankett!$D$28=$C$8,IF(Avropsblankett!$F$28<1000,L63,M63),IF(Avropsblankett!$D$28=$C$9,IF(Avropsblankett!$F$28<1000,L64,M64),))),\"\"),\"\")","v":""},null,{"$f":"IF(Avropsblankett!$C$28=$A$60,IF(Avropsblankett!$C$32=$B$62,IF(Avropsblankett!$D$28=$C$7,IF(Avropsblankett!$F$28<1000,((Avropsblankett!$F$28-500)*N62/100),((Avropsblankett!$F$28-1000)*N62/100)),IF(Avropsblankett!$D$28=$C$8,IF(Avropsblankett!$F$28<1000,((Avropsblankett!$F$28-500)*N63/100),((Avropsblankett!$F$28-1000)*N63/100)),IF(Avropsblankett!$D$28=$C$9,IF(Avropsblankett!$F$28<1000,((Avropsblankett!$F$28-500)*N64/100),((Avropsblankett!$F$28-1000)*N64/100)),))),\"\"),\"\")","v":""},null,{"$f":"IF(Avropsblankett!$C$28=$A$60,IF(Avropsblankett!$C$32=$B$62,IF(Avropsblankett!$D$28=$C$7,IF(Avropsblankett!$F$28<1000,P62,Q62),IF(Avropsblankett!$D$28=$C$8,IF(Avropsblankett!$F$28<1000,P63,Q63),IF(Avropsblankett!$D$28=$C$9,IF(Avropsblankett!$F$28<1000,P64,Q64),))),\"\"),\"\")","v":""},null,{"$f":"IF(Avropsblankett!$C$28=$A$60,IF(Avropsblankett!$C$32=$B$62,IF(Avropsblankett!$D$28=$C$7,IF(Avropsblankett!$F$28<1000,((Avropsblankett!$F$28-500)*R62/100),((Avropsblankett!$F$28-1000)*R62/100)),IF(Avropsblankett!$D$28=$C$8,IF(Avropsblankett!$F$28<1000,((Avropsblankett!$F$28-500)*R63/100),((Avropsblankett!$F$28-1000)*R63/100)),IF(Avropsblankett!$D$28=$C$9,IF(Avropsblankett!$F$28<1000,((Avropsblankett!$F$28-500)*R64/100),((Avropsblankett!$F$28-1000)*R64/100)),))),\"\"),\"\")","v":""},null,{"$f":"IF(Avropsblankett!$C$28=$A$60,IF(Avropsblankett!$C$32=$B$62,IF(Avropsblankett!$D$28=$C$7,IF(Avropsblankett!$F$28<1000,T62,U62),IF(Avropsblankett!$D$28=$C$8,IF(Avropsblankett!$F$28<1000,T63,U63),IF(Avropsblankett!$D$28=$C$9,IF(Avropsblankett!$F$28<1000,T64,U64),))),\"\"),\"\")","v":""},null,{"$f":"IF(Avropsblankett!$C$28=$A$60,IF(Avropsblankett!$C$32=$B$62,IF(Avropsblankett!$D$28=$C$7,IF(Avropsblankett!$F$28<1000,((Avropsblankett!$F$28-500)*V62/100),((Avropsblankett!$F$28-1000)*V62/100)),IF(Avropsblankett!$D$28=$C$8,IF(Avropsblankett!$F$28<1000,((Avropsblankett!$F$28-500)*V63/100),((Avropsblankett!$F$28-1000)*V63/100)),IF(Avropsblankett!$D$28=$C$9,IF(Avropsblankett!$F$28<1000,((Avropsblankett!$F$28-500)*V64/100),((Avropsblankett!$F$28-1000)*V64/100)),))),\"\"),\"\")","v":""},null,{"$f":"IF(Avropsblankett!$C$28=$A$60,IF(Avropsblankett!$C$32=$B$62,IF(Avropsblankett!$D$28=$C$7,IF(Avropsblankett!$F$28<1000,X62,Y62),IF(Avropsblankett!$D$28=$C$8,IF(Avropsblankett!$F$28<1000,X63,Y63),IF(Avropsblankett!$D$28=$C$9,IF(Avropsblankett!$F$28<1000,X64,Y64),))),\"\"),\"\")","v":""},null,{"$f":"IF(Avropsblankett!$C$28=$A$60,IF(Avropsblankett!$C$32=$B$62,IF(Avropsblankett!$D$28=$C$7,IF(Avropsblankett!$F$28<1000,((Avropsblankett!$F$28-500)*Z62/100),((Avropsblankett!$F$28-1000)*Z62/100)),IF(Avropsblankett!$D$28=$C$8,IF(Avropsblankett!$F$28<1000,((Avropsblankett!$F$28-500)*Z63/100),((Avropsblankett!$F$28-1000)*Z63/100)),IF(Avropsblankett!$D$28=$C$9,IF(Avropsblankett!$F$28<1000,((Avropsblankett!$F$28-500)*Z64/100),((Avropsblankett!$F$28-1000)*Z64/100)),))),\"\"),\"\")","v":""},null,{"$f":"IF(Avropsblankett!$C$28=$A$60,IF(Avropsblankett!$C$32=$B$62,IF(Avropsblankett!$D$28=$C$7,IF(Avropsblankett!$F$28<1000,AB62,AC62),IF(Avropsblankett!$D$28=$C$8,IF(Avropsblankett!$F$28<1000,AB63,AC63),IF(Avropsblankett!$D$28=$C$9,IF(Avropsblankett!$F$28<1000,AB64,AC64),))),\"\"),\"\")","v":""},null,{"$f":"IF(Avropsblankett!$C$28=$A$60,IF(Avropsblankett!$C$32=$B$62,IF(Avropsblankett!$D$28=$C$7,IF(Avropsblankett!$F$28<1000,((Avropsblankett!$F$28-500)*AD62/100),((Avropsblankett!$F$28-1000)*AD62/100)),IF(Avropsblankett!$D$28=$C$8,IF(Avropsblankett!$F$28<1000,((Avropsblankett!$F$28-500)*AD63/100),((Avropsblankett!$F$28-1000)*AD63/100)),IF(Avropsblankett!$D$28=$C$9,IF(Avropsblankett!$F$28<1000,((Avropsblankett!$F$28-500)*AD64/100),((Avropsblankett!$F$28-1000)*AD64/100)),))),\"\"),\"\")","v":""},null,{"$f":"IF(Avropsblankett!$C$28=$A$60,IF(Avropsblankett!$C$32=$B$62,IF(Avropsblankett!$D$28=$C$7,IF(Avropsblankett!$F$28<1000,AF62,AG62),IF(Avropsblankett!$D$28=$C$8,IF(Avropsblankett!$F$28<1000,AF63,AG63),IF(Avropsblankett!$D$28=$C$9,IF(Avropsblankett!$F$28<1000,AF64,AG64),))),\"\"),\"\")","v":""},null,{"$f":"IF(Avropsblankett!$C$28=$A$60,IF(Avropsblankett!$C$32=$B$62,IF(Avropsblankett!$D$28=$C$7,IF(Avropsblankett!$F$28<1000,((Avropsblankett!$F$28-500)*AH62/100),((Avropsblankett!$F$28-1000)*AH62/100)),IF(Avropsblankett!$D$28=$C$8,IF(Avropsblankett!$F$28<1000,((Avropsblankett!$F$28-500)*AH63/100),((Avropsblankett!$F$28-1000)*AH63/100)),IF(Avropsblankett!$D$28=$C$9,IF(Avropsblankett!$F$28<1000,((Avropsblankett!$F$28-500)*AH64/100),((Avropsblankett!$F$28-1000)*AH64/100)),))),\"\"),\"\")","v":""},null,{"$f":"IF(Avropsblankett!$C$28=$A$60,IF(Avropsblankett!$C$32=$B$62,IF(Avropsblankett!$D$28=$C$7,IF(Avropsblankett!$F$28<1000,AJ62,AK62),IF(Avropsblankett!$D$28=$C$8,IF(Avropsblankett!$F$28<1000,AJ63,AK63),IF(Avropsblankett!$D$28=$C$9,IF(Avropsblankett!$F$28<1000,AJ64,AK64),))),\"\"),\"\")","v":""},null,{"$f":"IF(Avropsblankett!$C$28=$A$60,IF(Avropsblankett!$C$32=$B$62,IF(Avropsblankett!$D$28=$C$7,IF(Avropsblankett!$F$28<1000,((Avropsblankett!$F$28-500)*AL62/100),((Avropsblankett!$F$28-1000)*AL62/100)),IF(Avropsblankett!$D$28=$C$8,IF(Avropsblankett!$F$28<1000,((Avropsblankett!$F$28-500)*AL63/100),((Avropsblankett!$F$28-1000)*AL63/100)),IF(Avropsblankett!$D$28=$C$9,IF(Avropsblankett!$F$28<1000,((Avropsblankett!$F$28-500)*AL64/100),((Avropsblankett!$F$28-1000)*AL64/100)),))),\"\"),\"\")","v":""},null,{"$f":"IF(Avropsblankett!$C$28=$A$60,IF(Avropsblankett!$C$32=$B$62,IF(Avropsblankett!$D$28=$C$7,IF(Avropsblankett!$F$28<1000,AN62,AO62),IF(Avropsblankett!$D$28=$C$8,IF(Avropsblankett!$F$28<1000,AN63,AO63),IF(Avropsblankett!$D$28=$C$9,IF(Avropsblankett!$F$28<1000,AN64,AO64),))),\"\"),\"\")","v":""},null,{"$f":"IF(Avropsblankett!$C$28=$A$60,IF(Avropsblankett!$C$32=$B$62,IF(Avropsblankett!$D$28=$C$7,IF(Avropsblankett!$F$28<1000,((Avropsblankett!$F$28-500)*AP62/100),((Avropsblankett!$F$28-1000)*AP62/100)),IF(Avropsblankett!$D$28=$C$8,IF(Avropsblankett!$F$28<1000,((Avropsblankett!$F$28-500)*AP63/100),((Avropsblankett!$F$28-1000)*AP63/100)),IF(Avropsblankett!$D$28=$C$9,IF(Avropsblankett!$F$28<1000,((Avropsblankett!$F$28-500)*AP64/100),((Avropsblankett!$F$28-1000)*AP64/100)),))),\"\"),\"\")","v":""}]
[null,null,null,{"$f":"IF(Avropsblankett!$C$40=$A$60,IF(Avropsblankett!$C$44=$B$62,IF(Avropsblankett!$D$40=$C$7,IF(Avropsblankett!$F$40<1000,D62,E62),IF(Avropsblankett!$D$40=$C$8,IF(Avropsblankett!$F$40<1000,D63,E63),IF(Avropsblankett!$D$40=$C$9,IF(Avropsblankett!$F$40<1000,D64,E64),))),\"\"),\"\")","v":""},null,{"$f":"IF(Avropsblankett!$C$40=$A$60,IF(Avropsblankett!$C$44=$B$62,IF(Avropsblankett!$D$40=$C$7,IF(Avropsblankett!$F$40<1000,((Avropsblankett!$F$40-500)*F62/100),((Avropsblankett!$F$40-1000)*F62/100)),IF(Avropsblankett!$D$40=$C$8,IF(Avropsblankett!$F$40<1000,((Avropsblankett!$F$40-500)*F63/100),((Avropsblankett!$F$40-1000)*F63/100)),IF(Avropsblankett!$D$40=$C$9,IF(Avropsblankett!$F$40<1000,((Avropsblankett!$F$40-500)*F64/100),((Avropsblankett!$F$40-1000)*F64/100)),))),\"\"),\"\")","v":""},null,{"$f":"IF(Avropsblankett!$C$40=$A$60,IF(Avropsblankett!$C$44=$B$62,IF(Avropsblankett!$D$40=$C$7,IF(Avropsblankett!$F$40<1000,H62,I62),IF(Avropsblankett!$D$40=$C$8,IF(Avropsblankett!$F$40<1000,H63,I63),IF(Avropsblankett!$D$40=$C$9,IF(Avropsblankett!$F$40<1000,H64,I64),))),\"\"),\"\")","v":""},null,{"$f":"IF(Avropsblankett!$C$40=$A$60,IF(Avropsblankett!$C$44=$B$62,IF(Avropsblankett!$D$40=$C$7,IF(Avropsblankett!$F$40<1000,((Avropsblankett!$F$40-500)*J62/100),((Avropsblankett!$F$40-1000)*J62/100)),IF(Avropsblankett!$D$40=$C$8,IF(Avropsblankett!$F$40<1000,((Avropsblankett!$F$40-500)*J63/100),((Avropsblankett!$F$40-1000)*J63/100)),IF(Avropsblankett!$D$40=$C$9,IF(Avropsblankett!$F$40<1000,((Avropsblankett!$F$40-500)*J64/100),((Avropsblankett!$F$40-1000)*J64/100)),))),\"\"),\"\")","v":""},null,{"$f":"IF(Avropsblankett!$C$40=$A$60,IF(Avropsblankett!$C$44=$B$62,IF(Avropsblankett!$D$40=$C$7,IF(Avropsblankett!$F$40<1000,L62,M62),IF(Avropsblankett!$D$40=$C$8,IF(Avropsblankett!$F$40<1000,L63,M63),IF(Avropsblankett!$D$40=$C$9,IF(Avropsblankett!$F$40<1000,L64,M64),))),\"\"),\"\")","v":""},null,{"$f":"IF(Avropsblankett!$C$40=$A$60,IF(Avropsblankett!$C$44=$B$62,IF(Avropsblankett!$D$40=$C$7,IF(Avropsblankett!$F$40<1000,((Avropsblankett!$F$40-500)*N62/100),((Avropsblankett!$F$40-1000)*N62/100)),IF(Avropsblankett!$D$40=$C$8,IF(Avropsblankett!$F$40<1000,((Avropsblankett!$F$40-500)*N63/100),((Avropsblankett!$F$40-1000)*N63/100)),IF(Avropsblankett!$D$40=$C$9,IF(Avropsblankett!$F$40<1000,((Avropsblankett!$F$40-500)*N64/100),((Avropsblankett!$F$40-1000)*N64/100)),))),\"\"),\"\")","v":""},null,{"$f":"IF(Avropsblankett!$C$40=$A$60,IF(Avropsblankett!$C$44=$B$62,IF(Avropsblankett!$D$40=$C$7,IF(Avropsblankett!$F$40<1000,P62,Q62),IF(Avropsblankett!$D$40=$C$8,IF(Avropsblankett!$F$40<1000,P63,Q63),IF(Avropsblankett!$D$40=$C$9,IF(Avropsblankett!$F$40<1000,P64,Q64),))),\"\"),\"\")","v":""},null,{"$f":"IF(Avropsblankett!$C$40=$A$60,IF(Avropsblankett!$C$44=$B$62,IF(Avropsblankett!$D$40=$C$7,IF(Avropsblankett!$F$40<1000,((Avropsblankett!$F$40-500)*R62/100),((Avropsblankett!$F$40-1000)*R62/100)),IF(Avropsblankett!$D$40=$C$8,IF(Avropsblankett!$F$40<1000,((Avropsblankett!$F$40-500)*R63/100),((Avropsblankett!$F$40-1000)*R63/100)),IF(Avropsblankett!$D$40=$C$9,IF(Avropsblankett!$F$40<1000,((Avropsblankett!$F$40-500)*R64/100),((Avropsblankett!$F$40-1000)*R64/100)),))),\"\"),\"\")","v":""},null,{"$f":"IF(Avropsblankett!$C$40=$A$60,IF(Avropsblankett!$C$44=$B$62,IF(Avropsblankett!$D$40=$C$7,IF(Avropsblankett!$F$40<1000,T62,U62),IF(Avropsblankett!$D$40=$C$8,IF(Avropsblankett!$F$40<1000,T63,U63),IF(Avropsblankett!$D$40=$C$9,IF(Avropsblankett!$F$40<1000,T64,U64),))),\"\"),\"\")","v":""},null,{"$f":"IF(Avropsblankett!$C$40=$A$60,IF(Avropsblankett!$C$44=$B$62,IF(Avropsblankett!$D$40=$C$7,IF(Avropsblankett!$F$40<1000,((Avropsblankett!$F$40-500)*V62/100),((Avropsblankett!$F$40-1000)*V62/100)),IF(Avropsblankett!$D$40=$C$8,IF(Avropsblankett!$F$40<1000,((Avropsblankett!$F$40-500)*V63/100),((Avropsblankett!$F$40-1000)*V63/100)),IF(Avropsblankett!$D$40=$C$9,IF(Avropsblankett!$F$40<1000,((Avropsblankett!$F$40-500)*V64/100),((Avropsblankett!$F$40-1000)*V64/100)),))),\"\"),\"\")","v":""},null,{"$f":"IF(Avropsblankett!$C$40=$A$60,IF(Avropsblankett!$C$44=$B$62,IF(Avropsblankett!$D$40=$C$7,IF(Avropsblankett!$F$40<1000,X62,Y62),IF(Avropsblankett!$D$40=$C$8,IF(Avropsblankett!$F$40<1000,X63,Y63),IF(Avropsblankett!$D$40=$C$9,IF(Avropsblankett!$F$40<1000,X64,Y64),))),\"\"),\"\")","v":""},null,{"$f":"IF(Avropsblankett!$C$40=$A$60,IF(Avropsblankett!$C$44=$B$62,IF(Avropsblankett!$D$40=$C$7,IF(Avropsblankett!$F$40<1000,((Avropsblankett!$F$40-500)*Z62/100),((Avropsblankett!$F$40-1000)*Z62/100)),IF(Avropsblankett!$D$40=$C$8,IF(Avropsblankett!$F$40<1000,((Avropsblankett!$F$40-500)*Z63/100),((Avropsblankett!$F$40-1000)*Z63/100)),IF(Avropsblankett!$D$40=$C$9,IF(Avropsblankett!$F$40<1000,((Avropsblankett!$F$40-500)*Z64/100),((Avropsblankett!$F$40-1000)*Z64/100)),))),\"\"),\"\")","v":""},null,{"$f":"IF(Avropsblankett!$C$40=$A$60,IF(Avropsblankett!$C$44=$B$62,IF(Avropsblankett!$D$40=$C$7,IF(Avropsblankett!$F$40<1000,AB62,AC62),IF(Avropsblankett!$D$40=$C$8,IF(Avropsblankett!$F$40<1000,AB63,AC63),IF(Avropsblankett!$D$40=$C$9,IF(Avropsblankett!$F$40<1000,AB64,AC64),))),\"\"),\"\")","v":""},null,{"$f":"IF(Avropsblankett!$C$40=$A$60,IF(Avropsblankett!$C$44=$B$62,IF(Avropsblankett!$D$40=$C$7,IF(Avropsblankett!$F$40<1000,((Avropsblankett!$F$40-500)*AD62/100),((Avropsblankett!$F$40-1000)*AD62/100)),IF(Avropsblankett!$D$40=$C$8,IF(Avropsblankett!$F$40<1000,((Avropsblankett!$F$40-500)*AD63/100),((Avropsblankett!$F$40-1000)*AD63/100)),IF(Avropsblankett!$D$40=$C$9,IF(Avropsblankett!$F$40<1000,((Avropsblankett!$F$40-500)*AD64/100),((Avropsblankett!$F$40-1000)*AD64/100)),))),\"\"),\"\")","v":""},null,{"$f":"IF(Avropsblankett!$C$40=$A$60,IF(Avropsblankett!$C$44=$B$62,IF(Avropsblankett!$D$40=$C$7,IF(Avropsblankett!$F$40<1000,AF62,AG62),IF(Avropsblankett!$D$40=$C$8,IF(Avropsblankett!$F$40<1000,AF63,AG63),IF(Avropsblankett!$D$40=$C$9,IF(Avropsblankett!$F$40<1000,AF64,AG64),))),\"\"),\"\")","v":""},null,{"$f":"IF(Avropsblankett!$C$40=$A$60,IF(Avropsblankett!$C$44=$B$62,IF(Avropsblankett!$D$40=$C$7,IF(Avropsblankett!$F$40<1000,((Avropsblankett!$F$40-500)*AH62/100),((Avropsblankett!$F$40-1000)*AH62/100)),IF(Avropsblankett!$D$40=$C$8,IF(Avropsblankett!$F$40<1000,((Avropsblankett!$F$40-500)*AH63/100),((Avropsblankett!$F$40-1000)*AH63/100)),IF(Avropsblankett!$D$40=$C$9,IF(Avropsblankett!$F$40<1000,((Avropsblankett!$F$40-500)*AH64/100),((Avropsblankett!$F$40-1000)*AH64/100)),))),\"\"),\"\")","v":""},null,{"$f":"IF(Avropsblankett!$C$40=$A$60,IF(Avropsblankett!$C$44=$B$62,IF(Avropsblankett!$D$40=$C$7,IF(Avropsblankett!$F$40<1000,AJ62,AK62),IF(Avropsblankett!$D$40=$C$8,IF(Avropsblankett!$F$40<1000,AJ63,AK63),IF(Avropsblankett!$D$40=$C$9,IF(Avropsblankett!$F$40<1000,AJ64,AK64),))),\"\"),\"\")","v":""},null,{"$f":"IF(Avropsblankett!$C$40=$A$60,IF(Avropsblankett!$C$44=$B$62,IF(Avropsblankett!$D$40=$C$7,IF(Avropsblankett!$F$40<1000,((Avropsblankett!$F$40-500)*AL62/100),((Avropsblankett!$F$40-1000)*AL62/100)),IF(Avropsblankett!$D$40=$C$8,IF(Avropsblankett!$F$40<1000,((Avropsblankett!$F$40-500)*AL63/100),((Avropsblankett!$F$40-1000)*AL63/100)),IF(Avropsblankett!$D$40=$C$9,IF(Avropsblankett!$F$40<1000,((Avropsblankett!$F$40-500)*AL64/100),((Avropsblankett!$F$40-1000)*AL64/100)),))),\"\"),\"\")","v":""},null,{"$f":"IF(Avropsblankett!$C$40=$A$60,IF(Avropsblankett!$C$44=$B$62,IF(Avropsblankett!$D$40=$C$7,IF(Avropsblankett!$F$40<1000,AN62,AO62),IF(Avropsblankett!$D$40=$C$8,IF(Avropsblankett!$F$40<1000,AN63,AO63),IF(Avropsblankett!$D$40=$C$9,IF(Avropsblankett!$F$40<1000,AN64,AO64),))),\"\"),\"\")","v":""},null,{"$f":"IF(Avropsblankett!$C$40=$A$60,IF(Avropsblankett!$C$44=$B$62,IF(Avropsblankett!$D$40=$C$7,IF(Avropsblankett!$F$40<1000,((Avropsblankett!$F$40-500)*AP62/100),((Avropsblankett!$F$40-1000)*AP62/100)),IF(Avropsblankett!$D$40=$C$8,IF(Avropsblankett!$F$40<1000,((Avropsblankett!$F$40-500)*AP63/100),((Avropsblankett!$F$40-1000)*AP63/100)),IF(Avropsblankett!$D$40=$C$9,IF(Avropsblankett!$F$40<1000,((Avropsblankett!$F$40-500)*AP64/100),((Avropsblankett!$F$40-1000)*AP64/100)),))),\"\"),\"\")","v":""}]
[null,null,null,{"$f":"IF(Avropsblankett!$C$52=$A$60,IF(Avropsblankett!$C$56=$B$62,IF(Avropsblankett!$D$52=$C$7,IF(Avropsblankett!$F$52<1000,D62,E62),IF(Avropsblankett!$D$52=$C$8,IF(Avropsblankett!$F$52<1000,D63,E63),IF(Avropsblankett!$D$52=$C$9,IF(Avropsblankett!$F$52<1000,D64,E64),))),\"\"),\"\")","v":""},null,{"$f":"IF(Avropsblankett!$C$52=$A$60,IF(Avropsblankett!$C$56=$B$62,IF(Avropsblankett!$D$52=$C$7,IF(Avropsblankett!$F$52<1000,((Avropsblankett!$F$52-500)*F62/100),((Avropsblankett!$F$52-1000)*F62/100)),IF(Avropsblankett!$D$52=$C$8,IF(Avropsblankett!$F$52<1000,((Avropsblankett!$F$52-500)*F63/100),((Avropsblankett!$F$52-1000)*F63/100)),IF(Avropsblankett!$D$52=$C$9,IF(Avropsblankett!$F$52<1000,((Avropsblankett!$F$52-500)*F64/100),((Avropsblankett!$F$52-1000)*F64/100)),))),\"\"),\"\")","v":""},null,{"$f":"IF(Avropsblankett!$C$52=$A$60,IF(Avropsblankett!$C$56=$B$62,IF(Avropsblankett!$D$52=$C$7,IF(Avropsblankett!$F$52<1000,H62,I62),IF(Avropsblankett!$D$52=$C$8,IF(Avropsblankett!$F$52<1000,H63,I63),IF(Avropsblankett!$D$52=$C$9,IF(Avropsblankett!$F$52<1000,H64,I64),))),\"\"),\"\")","v":""},null,{"$f":"IF(Avropsblankett!$C$52=$A$60,IF(Avropsblankett!$C$56=$B$62,IF(Avropsblankett!$D$52=$C$7,IF(Avropsblankett!$F$52<1000,((Avropsblankett!$F$52-500)*J62/100),((Avropsblankett!$F$52-1000)*J62/100)),IF(Avropsblankett!$D$52=$C$8,IF(Avropsblankett!$F$52<1000,((Avropsblankett!$F$52-500)*J63/100),((Avropsblankett!$F$52-1000)*J63/100)),IF(Avropsblankett!$D$52=$C$9,IF(Avropsblankett!$F$52<1000,((Avropsblankett!$F$52-500)*J64/100),((Avropsblankett!$F$52-1000)*J64/100)),))),\"\"),\"\")","v":""},null,{"$f":"IF(Avropsblankett!$C$52=$A$60,IF(Avropsblankett!$C$56=$B$62,IF(Avropsblankett!$D$52=$C$7,IF(Avropsblankett!$F$52<1000,L62,M62),IF(Avropsblankett!$D$52=$C$8,IF(Avropsblankett!$F$52<1000,L63,M63),IF(Avropsblankett!$D$52=$C$9,IF(Avropsblankett!$F$52<1000,L64,M64),))),\"\"),\"\")","v":""},null,{"$f":"IF(Avropsblankett!$C$52=$A$60,IF(Avropsblankett!$C$56=$B$62,IF(Avropsblankett!$D$52=$C$7,IF(Avropsblankett!$F$52<1000,((Avropsblankett!$F$52-500)*N62/100),((Avropsblankett!$F$52-1000)*N62/100)),IF(Avropsblankett!$D$52=$C$8,IF(Avropsblankett!$F$52<1000,((Avropsblankett!$F$52-500)*N63/100),((Avropsblankett!$F$52-1000)*N63/100)),IF(Avropsblankett!$D$52=$C$9,IF(Avropsblankett!$F$52<1000,((Avropsblankett!$F$52-500)*N64/100),((Avropsblankett!$F$52-1000)*N64/100)),))),\"\"),\"\")","v":""},null,{"$f":"IF(Avropsblankett!$C$52=$A$60,IF(Avropsblankett!$C$56=$B$62,IF(Avropsblankett!$D$52=$C$7,IF(Avropsblankett!$F$52<1000,P62,Q62),IF(Avropsblankett!$D$52=$C$8,IF(Avropsblankett!$F$52<1000,P63,Q63),IF(Avropsblankett!$D$52=$C$9,IF(Avropsblankett!$F$52<1000,P64,Q64),))),\"\"),\"\")","v":""},null,{"$f":"IF(Avropsblankett!$C$52=$A$60,IF(Avropsblankett!$C$56=$B$62,IF(Avropsblankett!$D$52=$C$7,IF(Avropsblankett!$F$52<1000,((Avropsblankett!$F$52-500)*R62/100),((Avropsblankett!$F$52-1000)*R62/100)),IF(Avropsblankett!$D$52=$C$8,IF(Avropsblankett!$F$52<1000,((Avropsblankett!$F$52-500)*R63/100),((Avropsblankett!$F$52-1000)*R63/100)),IF(Avropsblankett!$D$52=$C$9,IF(Avropsblankett!$F$52<1000,((Avropsblankett!$F$52-500)*R64/100),((Avropsblankett!$F$52-1000)*R64/100)),))),\"\"),\"\")","v":""},null,{"$f":"IF(Avropsblankett!$C$52=$A$60,IF(Avropsblankett!$C$56=$B$62,IF(Avropsblankett!$D$52=$C$7,IF(Avropsblankett!$F$52<1000,T62,U62),IF(Avropsblankett!$D$52=$C$8,IF(Avropsblankett!$F$52<1000,T63,U63),IF(Avropsblankett!$D$52=$C$9,IF(Avropsblankett!$F$52<1000,T64,U64),))),\"\"),\"\")","v":""},null,{"$f":"IF(Avropsblankett!$C$52=$A$60,IF(Avropsblankett!$C$56=$B$62,IF(Avropsblankett!$D$52=$C$7,IF(Avropsblankett!$F$52<1000,((Avropsblankett!$F$52-500)*V62/100),((Avropsblankett!$F$52-1000)*V62/100)),IF(Avropsblankett!$D$52=$C$8,IF(Avropsblankett!$F$52<1000,((Avropsblankett!$F$52-500)*V63/100),((Avropsblankett!$F$52-1000)*V63/100)),IF(Avropsblankett!$D$52=$C$9,IF(Avropsblankett!$F$52<1000,((Avropsblankett!$F$52-500)*V64/100),((Avropsblankett!$F$52-1000)*V64/100)),))),\"\"),\"\")","v":""},null,{"$f":"IF(Avropsblankett!$C$52=$A$60,IF(Avropsblankett!$C$56=$B$62,IF(Avropsblankett!$D$52=$C$7,IF(Avropsblankett!$F$52<1000,X62,Y62),IF(Avropsblankett!$D$52=$C$8,IF(Avropsblankett!$F$52<1000,X63,Y63),IF(Avropsblankett!$D$52=$C$9,IF(Avropsblankett!$F$52<1000,X64,Y64),))),\"\"),\"\")","v":""},null,{"$f":"IF(Avropsblankett!$C$52=$A$60,IF(Avropsblankett!$C$56=$B$62,IF(Avropsblankett!$D$52=$C$7,IF(Avropsblankett!$F$52<1000,((Avropsblankett!$F$52-500)*Z62/100),((Avropsblankett!$F$52-1000)*Z62/100)),IF(Avropsblankett!$D$52=$C$8,IF(Avropsblankett!$F$52<1000,((Avropsblankett!$F$52-500)*Z63/100),((Avropsblankett!$F$52-1000)*Z63/100)),IF(Avropsblankett!$D$52=$C$9,IF(Avropsblankett!$F$52<1000,((Avropsblankett!$F$52-500)*Z64/100),((Avropsblankett!$F$52-1000)*Z64/100)),))),\"\"),\"\")","v":""},null,{"$f":"IF(Avropsblankett!$C$52=$A$60,IF(Avropsblankett!$C$56=$B$62,IF(Avropsblankett!$D$52=$C$7,IF(Avropsblankett!$F$52<1000,AB62,AC62),IF(Avropsblankett!$D$52=$C$8,IF(Avropsblankett!$F$52<1000,AB63,AC63),IF(Avropsblankett!$D$52=$C$9,IF(Avropsblankett!$F$52<1000,AB64,AC64),))),\"\"),\"\")","v":""},null,{"$f":"IF(Avropsblankett!$C$52=$A$60,IF(Avropsblankett!$C$56=$B$62,IF(Avropsblankett!$D$52=$C$7,IF(Avropsblankett!$F$52<1000,((Avropsblankett!$F$52-500)*AD62/100),((Avropsblankett!$F$52-1000)*AD62/100)),IF(Avropsblankett!$D$52=$C$8,IF(Avropsblankett!$F$52<1000,((Avropsblankett!$F$52-500)*AD63/100),((Avropsblankett!$F$52-1000)*AD63/100)),IF(Avropsblankett!$D$52=$C$9,IF(Avropsblankett!$F$52<1000,((Avropsblankett!$F$52-500)*AD64/100),((Avropsblankett!$F$52-1000)*AD64/100)),))),\"\"),\"\")","v":""},null,{"$f":"IF(Avropsblankett!$C$52=$A$60,IF(Avropsblankett!$C$56=$B$62,IF(Avropsblankett!$D$52=$C$7,IF(Avropsblankett!$F$52<1000,AF62,AG62),IF(Avropsblankett!$D$52=$C$8,IF(Avropsblankett!$F$52<1000,AF63,AG63),IF(Avropsblankett!$D$52=$C$9,IF(Avropsblankett!$F$52<1000,AF64,AG64),))),\"\"),\"\")","v":""},null,{"$f":"IF(Avropsblankett!$C$52=$A$60,IF(Avropsblankett!$C$56=$B$62,IF(Avropsblankett!$D$52=$C$7,IF(Avropsblankett!$F$52<1000,((Avropsblankett!$F$52-500)*AH62/100),((Avropsblankett!$F$52-1000)*AH62/100)),IF(Avropsblankett!$D$52=$C$8,IF(Avropsblankett!$F$52<1000,((Avropsblankett!$F$52-500)*AH63/100),((Avropsblankett!$F$52-1000)*AH63/100)),IF(Avropsblankett!$D$52=$C$9,IF(Avropsblankett!$F$52<1000,((Avropsblankett!$F$52-500)*AH64/100),((Avropsblankett!$F$52-1000)*AH64/100)),))),\"\"),\"\")","v":""},null,{"$f":"IF(Avropsblankett!$C$52=$A$60,IF(Avropsblankett!$C$56=$B$62,IF(Avropsblankett!$D$52=$C$7,IF(Avropsblankett!$F$52<1000,AJ62,AK62),IF(Avropsblankett!$D$52=$C$8,IF(Avropsblankett!$F$52<1000,AJ63,AK63),IF(Avropsblankett!$D$52=$C$9,IF(Avropsblankett!$F$52<1000,AJ64,AK64),))),\"\"),\"\")","v":""},null,{"$f":"IF(Avropsblankett!$C$52=$A$60,IF(Avropsblankett!$C$56=$B$62,IF(Avropsblankett!$D$52=$C$7,IF(Avropsblankett!$F$52<1000,((Avropsblankett!$F$52-500)*AL62/100),((Avropsblankett!$F$52-1000)*AL62/100)),IF(Avropsblankett!$D$52=$C$8,IF(Avropsblankett!$F$52<1000,((Avropsblankett!$F$52-500)*AL63/100),((Avropsblankett!$F$52-1000)*AL63/100)),IF(Avropsblankett!$D$52=$C$9,IF(Avropsblankett!$F$52<1000,((Avropsblankett!$F$52-500)*AL64/100),((Avropsblankett!$F$52-1000)*AL64/100)),))),\"\"),\"\")","v":""},null,{"$f":"IF(Avropsblankett!$C$52=$A$60,IF(Avropsblankett!$C$56=$B$62,IF(Avropsblankett!$D$52=$C$7,IF(Avropsblankett!$F$52<1000,AN62,AO62),IF(Avropsblankett!$D$52=$C$8,IF(Avropsblankett!$F$52<1000,AN63,AO63),IF(Avropsblankett!$D$52=$C$9,IF(Avropsblankett!$F$52<1000,AN64,AO64),))),\"\"),\"\")","v":""},null,{"$f":"IF(Avropsblankett!$C$52=$A$60,IF(Avropsblankett!$C$56=$B$62,IF(Avropsblankett!$D$52=$C$7,IF(Avropsblankett!$F$52<1000,((Avropsblankett!$F$52-500)*AP62/100),((Avropsblankett!$F$52-1000)*AP62/100)),IF(Avropsblankett!$D$52=$C$8,IF(Avropsblankett!$F$52<1000,((Avropsblankett!$F$52-500)*AP63/100),((Avropsblankett!$F$52-1000)*AP63/100)),IF(Avropsblankett!$D$52=$C$9,IF(Avropsblankett!$F$52<1000,((Avropsblankett!$F$52-500)*AP64/100),((Avropsblankett!$F$52-1000)*AP64/100)),))),\"\"),\"\")","v":""}]
[null,null,null,{"$f":"IF(Avropsblankett!$C$64=$A$60,IF(Avropsblankett!$C$68=$B$62,IF(Avropsblankett!$D$64=$C$7,IF(Avropsblankett!$F$64<1000,D62,E62),IF(Avropsblankett!$D$64=$C$8,IF(Avropsblankett!$F$64<1000,D63,E63),IF(Avropsblankett!$D$64=$C$9,IF(Avropsblankett!$F$64<1000,D64,E64),))),\"\"),\"\")","v":""},null,{"$f":"IF(Avropsblankett!$C$64=$A$60,IF(Avropsblankett!$C$68=$B$62,IF(Avropsblankett!$D$64=$C$7,IF(Avropsblankett!$F$64<1000,((Avropsblankett!$F$64-500)*F62/100),((Avropsblankett!$F$64-1000)*F62/100)),IF(Avropsblankett!$D$64=$C$8,IF(Avropsblankett!$F$64<1000,((Avropsblankett!$F$64-500)*F63/100),((Avropsblankett!$F$64-1000)*F63/100)),IF(Avropsblankett!$D$64=$C$9,IF(Avropsblankett!$F$64<1000,((Avropsblankett!$F$64-500)*F64/100),((Avropsblankett!$F$64-1000)*F64/100)),))),\"\"),\"\")","v":""},null,{"$f":"IF(Avropsblankett!$C$64=$A$60,IF(Avropsblankett!$C$68=$B$62,IF(Avropsblankett!$D$64=$C$7,IF(Avropsblankett!$F$64<1000,H62,I62),IF(Avropsblankett!$D$64=$C$8,IF(Avropsblankett!$F$64<1000,H63,I63),IF(Avropsblankett!$D$64=$C$9,IF(Avropsblankett!$F$64<1000,H64,I64),))),\"\"),\"\")","v":""},null,{"$f":"IF(Avropsblankett!$C$64=$A$60,IF(Avropsblankett!$C$68=$B$62,IF(Avropsblankett!$D$64=$C$7,IF(Avropsblankett!$F$64<1000,((Avropsblankett!$F$64-500)*J62/100),((Avropsblankett!$F$64-1000)*J62/100)),IF(Avropsblankett!$D$64=$C$8,IF(Avropsblankett!$F$64<1000,((Avropsblankett!$F$64-500)*J63/100),((Avropsblankett!$F$64-1000)*J63/100)),IF(Avropsblankett!$D$64=$C$9,IF(Avropsblankett!$F$64<1000,((Avropsblankett!$F$64-500)*J64/100),((Avropsblankett!$F$64-1000)*J64/100)),))),\"\"),\"\")","v":""},null,{"$f":"IF(Avropsblankett!$C$64=$A$60,IF(Avropsblankett!$C$68=$B$62,IF(Avropsblankett!$D$64=$C$7,IF(Avropsblankett!$F$64<1000,L62,M62),IF(Avropsblankett!$D$64=$C$8,IF(Avropsblankett!$F$64<1000,L63,M63),IF(Avropsblankett!$D$64=$C$9,IF(Avropsblankett!$F$64<1000,L64,M64),))),\"\"),\"\")","v":""},null,{"$f":"IF(Avropsblankett!$C$64=$A$60,IF(Avropsblankett!$C$68=$B$62,IF(Avropsblankett!$D$64=$C$7,IF(Avropsblankett!$F$64<1000,((Avropsblankett!$F$64-500)*N62/100),((Avropsblankett!$F$64-1000)*N62/100)),IF(Avropsblankett!$D$64=$C$8,IF(Avropsblankett!$F$64<1000,((Avropsblankett!$F$64-500)*N63/100),((Avropsblankett!$F$64-1000)*N63/100)),IF(Avropsblankett!$D$64=$C$9,IF(Avropsblankett!$F$64<1000,((Avropsblankett!$F$64-500)*N64/100),((Avropsblankett!$F$64-1000)*N64/100)),))),\"\"),\"\")","v":""},null,{"$f":"IF(Avropsblankett!$C$64=$A$60,IF(Avropsblankett!$C$68=$B$62,IF(Avropsblankett!$D$64=$C$7,IF(Avropsblankett!$F$64<1000,P62,Q62),IF(Avropsblankett!$D$64=$C$8,IF(Avropsblankett!$F$64<1000,P63,Q63),IF(Avropsblankett!$D$64=$C$9,IF(Avropsblankett!$F$64<1000,P64,Q64),))),\"\"),\"\")","v":""},null,{"$f":"IF(Avropsblankett!$C$64=$A$60,IF(Avropsblankett!$C$68=$B$62,IF(Avropsblankett!$D$64=$C$7,IF(Avropsblankett!$F$64<1000,((Avropsblankett!$F$64-500)*R62/100),((Avropsblankett!$F$64-1000)*R62/100)),IF(Avropsblankett!$D$64=$C$8,IF(Avropsblankett!$F$64<1000,((Avropsblankett!$F$64-500)*R63/100),((Avropsblankett!$F$64-1000)*R63/100)),IF(Avropsblankett!$D$64=$C$9,IF(Avropsblankett!$F$64<1000,((Avropsblankett!$F$64-500)*R64/100),((Avropsblankett!$F$64-1000)*R64/100)),))),\"\"),\"\")","v":""},null,{"$f":"IF(Avropsblankett!$C$64=$A$60,IF(Avropsblankett!$C$68=$B$62,IF(Avropsblankett!$D$64=$C$7,IF(Avropsblankett!$F$64<1000,T62,U62),IF(Avropsblankett!$D$64=$C$8,IF(Avropsblankett!$F$64<1000,T63,U63),IF(Avropsblankett!$D$64=$C$9,IF(Avropsblankett!$F$64<1000,T64,U64),))),\"\"),\"\")","v":""},null,{"$f":"IF(Avropsblankett!$C$64=$A$60,IF(Avropsblankett!$C$68=$B$62,IF(Avropsblankett!$D$64=$C$7,IF(Avropsblankett!$F$64<1000,((Avropsblankett!$F$64-500)*V62/100),((Avropsblankett!$F$64-1000)*V62/100)),IF(Avropsblankett!$D$64=$C$8,IF(Avropsblankett!$F$64<1000,((Avropsblankett!$F$64-500)*V63/100),((Avropsblankett!$F$64-1000)*V63/100)),IF(Avropsblankett!$D$64=$C$9,IF(Avropsblankett!$F$64<1000,((Avropsblankett!$F$64-500)*V64/100),((Avropsblankett!$F$64-1000)*V64/100)),))),\"\"),\"\")","v":""},null,{"$f":"IF(Avropsblankett!$C$64=$A$60,IF(Avropsblankett!$C$68=$B$62,IF(Avropsblankett!$D$64=$C$7,IF(Avropsblankett!$F$64<1000,X62,Y62),IF(Avropsblankett!$D$64=$C$8,IF(Avropsblankett!$F$64<1000,X63,Y63),IF(Avropsblankett!$D$64=$C$9,IF(Avropsblankett!$F$64<1000,X64,Y64),))),\"\"),\"\")","v":""},null,{"$f":"IF(Avropsblankett!$C$64=$A$60,IF(Avropsblankett!$C$68=$B$62,IF(Avropsblankett!$D$64=$C$7,IF(Avropsblankett!$F$64<1000,((Avropsblankett!$F$64-500)*Z62/100),((Avropsblankett!$F$64-1000)*Z62/100)),IF(Avropsblankett!$D$64=$C$8,IF(Avropsblankett!$F$64<1000,((Avropsblankett!$F$64-500)*Z63/100),((Avropsblankett!$F$64-1000)*Z63/100)),IF(Avropsblankett!$D$64=$C$9,IF(Avropsblankett!$F$64<1000,((Avropsblankett!$F$64-500)*Z64/100),((Avropsblankett!$F$64-1000)*Z64/100)),))),\"\"),\"\")","v":""},null,{"$f":"IF(Avropsblankett!$C$64=$A$60,IF(Avropsblankett!$C$68=$B$62,IF(Avropsblankett!$D$64=$C$7,IF(Avropsblankett!$F$64<1000,AB62,AC62),IF(Avropsblankett!$D$64=$C$8,IF(Avropsblankett!$F$64<1000,AB63,AC63),IF(Avropsblankett!$D$64=$C$9,IF(Avropsblankett!$F$64<1000,AB64,AC64),))),\"\"),\"\")","v":""},null,{"$f":"IF(Avropsblankett!$C$64=$A$60,IF(Avropsblankett!$C$68=$B$62,IF(Avropsblankett!$D$64=$C$7,IF(Avropsblankett!$F$64<1000,((Avropsblankett!$F$64-500)*AD62/100),((Avropsblankett!$F$64-1000)*AD62/100)),IF(Avropsblankett!$D$64=$C$8,IF(Avropsblankett!$F$64<1000,((Avropsblankett!$F$64-500)*AD63/100),((Avropsblankett!$F$64-1000)*AD63/100)),IF(Avropsblankett!$D$64=$C$9,IF(Avropsblankett!$F$64<1000,((Avropsblankett!$F$64-500)*AD64/100),((Avropsblankett!$F$64-1000)*AD64/100)),))),\"\"),\"\")","v":""},null,{"$f":"IF(Avropsblankett!$C$64=$A$60,IF(Avropsblankett!$C$68=$B$62,IF(Avropsblankett!$D$64=$C$7,IF(Avropsblankett!$F$64<1000,AF62,AG62),IF(Avropsblankett!$D$64=$C$8,IF(Avropsblankett!$F$64<1000,AF63,AG63),IF(Avropsblankett!$D$64=$C$9,IF(Avropsblankett!$F$64<1000,AF64,AG64),))),\"\"),\"\")","v":""},null,{"$f":"IF(Avropsblankett!$C$64=$A$60,IF(Avropsblankett!$C$68=$B$62,IF(Avropsblankett!$D$64=$C$7,IF(Avropsblankett!$F$64<1000,((Avropsblankett!$F$64-500)*AH62/100),((Avropsblankett!$F$64-1000)*AH62/100)),IF(Avropsblankett!$D$64=$C$8,IF(Avropsblankett!$F$64<1000,((Avropsblankett!$F$64-500)*AH63/100),((Avropsblankett!$F$64-1000)*AH63/100)),IF(Avropsblankett!$D$64=$C$9,IF(Avropsblankett!$F$64<1000,((Avropsblankett!$F$64-500)*AH64/100),((Avropsblankett!$F$64-1000)*AH64/100)),))),\"\"),\"\")","v":""},null,{"$f":"IF(Avropsblankett!$C$64=$A$60,IF(Avropsblankett!$C$68=$B$62,IF(Avropsblankett!$D$64=$C$7,IF(Avropsblankett!$F$64<1000,AJ62,AK62),IF(Avropsblankett!$D$64=$C$8,IF(Avropsblankett!$F$64<1000,AJ63,AK63),IF(Avropsblankett!$D$64=$C$9,IF(Avropsblankett!$F$64<1000,AJ64,AK64),))),\"\"),\"\")","v":""},null,{"$f":"IF(Avropsblankett!$C$64=$A$60,IF(Avropsblankett!$C$68=$B$62,IF(Avropsblankett!$D$64=$C$7,IF(Avropsblankett!$F$64<1000,((Avropsblankett!$F$64-500)*AL62/100),((Avropsblankett!$F$64-1000)*AL62/100)),IF(Avropsblankett!$D$64=$C$8,IF(Avropsblankett!$F$64<1000,((Avropsblankett!$F$64-500)*AL63/100),((Avropsblankett!$F$64-1000)*AL63/100)),IF(Avropsblankett!$D$64=$C$9,IF(Avropsblankett!$F$64<1000,((Avropsblankett!$F$64-500)*AL64/100),((Avropsblankett!$F$64-1000)*AL64/100)),))),\"\"),\"\")","v":""},null,{"$f":"IF(Avropsblankett!$C$64=$A$60,IF(Avropsblankett!$C$68=$B$62,IF(Avropsblankett!$D$64=$C$7,IF(Avropsblankett!$F$64<1000,AN62,AO62),IF(Avropsblankett!$D$64=$C$8,IF(Avropsblankett!$F$64<1000,AN63,AO63),IF(Avropsblankett!$D$64=$C$9,IF(Avropsblankett!$F$64<1000,AN64,AO64),))),\"\"),\"\")","v":""},null,{"$f":"IF(Avropsblankett!$C$64=$A$60,IF(Avropsblankett!$C$68=$B$62,IF(Avropsblankett!$D$64=$C$7,IF(Avropsblankett!$F$64<1000,((Avropsblankett!$F$64-500)*AP62/100),((Avropsblankett!$F$64-1000)*AP62/100)),IF(Avropsblankett!$D$64=$C$8,IF(Avropsblankett!$F$64<1000,((Avropsblankett!$F$64-500)*AP63/100),((Avropsblankett!$F$64-1000)*AP63/100)),IF(Avropsblankett!$D$64=$C$9,IF(Avropsblankett!$F$64<1000,((Avropsblankett!$F$64-500)*AP64/100),((Avropsblankett!$F$64-1000)*AP64/100)),))),\"\"),\"\")","v":""}]
[null,null,null,{"$f":"IF(Avropsblankett!$C$76=$A$60,IF(Avropsblankett!$C$80=$B$62,IF(Avropsblankett!$D$76=$C$7,IF(Avropsblankett!$F$76<1000,D62,E62),IF(Avropsblankett!$D$76=$C$8,IF(Avropsblankett!$F$76<1000,D63,E63),IF(Avropsblankett!$D$76=$C$9,IF(Avropsblankett!$F$76<1000,D64,E64),))),\"\"),\"\")","v":""},null,{"$f":"IF(Avropsblankett!$C$76=$A$60,IF(Avropsblankett!$C$80=$B$62,IF(Avropsblankett!$D$76=$C$7,IF(Avropsblankett!$F$76<1000,((Avropsblankett!$F$76-500)*F62/100),((Avropsblankett!$F$76-1000)*F62/100)),IF(Avropsblankett!$D$76=$C$8,IF(Avropsblankett!$F$76<1000,((Avropsblankett!$F$76-500)*F63/100),((Avropsblankett!$F$76-1000)*F63/100)),IF(Avropsblankett!$D$76=$C$9,IF(Avropsblankett!$F$76<1000,((Avropsblankett!$F$76-500)*F64/100),((Avropsblankett!$F$76-1000)*F64/100)),))),\"\"),\"\")","v":""},null,{"$f":"IF(Avropsblankett!$C$76=$A$60,IF(Avropsblankett!$C$80=$B$62,IF(Avropsblankett!$D$76=$C$7,IF(Avropsblankett!$F$76<1000,H62,I62),IF(Avropsblankett!$D$76=$C$8,IF(Avropsblankett!$F$76<1000,H63,I63),IF(Avropsblankett!$D$76=$C$9,IF(Avropsblankett!$F$76<1000,H64,I64),))),\"\"),\"\")","v":""},null,{"$f":"IF(Avropsblankett!$C$76=$A$60,IF(Avropsblankett!$C$80=$B$62,IF(Avropsblankett!$D$76=$C$7,IF(Avropsblankett!$F$76<1000,((Avropsblankett!$F$76-500)*J62/100),((Avropsblankett!$F$76-1000)*J62/100)),IF(Avropsblankett!$D$76=$C$8,IF(Avropsblankett!$F$76<1000,((Avropsblankett!$F$76-500)*J63/100),((Avropsblankett!$F$76-1000)*J63/100)),IF(Avropsblankett!$D$76=$C$9,IF(Avropsblankett!$F$76<1000,((Avropsblankett!$F$76-500)*J64/100),((Avropsblankett!$F$76-1000)*J64/100)),))),\"\"),\"\")","v":""},null,{"$f":"IF(Avropsblankett!$C$76=$A$60,IF(Avropsblankett!$C$80=$B$62,IF(Avropsblankett!$D$76=$C$7,IF(Avropsblankett!$F$76<1000,L62,M62),IF(Avropsblankett!$D$76=$C$8,IF(Avropsblankett!$F$76<1000,L63,M63),IF(Avropsblankett!$D$76=$C$9,IF(Avropsblankett!$F$76<1000,L64,M64),))),\"\"),\"\")","v":""},null,{"$f":"IF(Avropsblankett!$C$76=$A$60,IF(Avropsblankett!$C$80=$B$62,IF(Avropsblankett!$D$76=$C$7,IF(Avropsblankett!$F$76<1000,((Avropsblankett!$F$76-500)*N62/100),((Avropsblankett!$F$76-1000)*N62/100)),IF(Avropsblankett!$D$76=$C$8,IF(Avropsblankett!$F$76<1000,((Avropsblankett!$F$76-500)*N63/100),((Avropsblankett!$F$76-1000)*N63/100)),IF(Avropsblankett!$D$76=$C$9,IF(Avropsblankett!$F$76<1000,((Avropsblankett!$F$76-500)*N64/100),((Avropsblankett!$F$76-1000)*N64/100)),))),\"\"),\"\")","v":""},null,{"$f":"IF(Avropsblankett!$C$76=$A$60,IF(Avropsblankett!$C$80=$B$62,IF(Avropsblankett!$D$76=$C$7,IF(Avropsblankett!$F$76<1000,P62,Q62),IF(Avropsblankett!$D$76=$C$8,IF(Avropsblankett!$F$76<1000,P63,Q63),IF(Avropsblankett!$D$76=$C$9,IF(Avropsblankett!$F$76<1000,P64,Q64),))),\"\"),\"\")","v":""},null,{"$f":"IF(Avropsblankett!$C$76=$A$60,IF(Avropsblankett!$C$80=$B$62,IF(Avropsblankett!$D$76=$C$7,IF(Avropsblankett!$F$76<1000,((Avropsblankett!$F$76-500)*R62/100),((Avropsblankett!$F$76-1000)*R62/100)),IF(Avropsblankett!$D$76=$C$8,IF(Avropsblankett!$F$76<1000,((Avropsblankett!$F$76-500)*R63/100),((Avropsblankett!$F$76-1000)*R63/100)),IF(Avropsblankett!$D$76=$C$9,IF(Avropsblankett!$F$76<1000,((Avropsblankett!$F$76-500)*R64/100),((Avropsblankett!$F$76-1000)*R64/100)),))),\"\"),\"\")","v":""},null,{"$f":"IF(Avropsblankett!$C$76=$A$60,IF(Avropsblankett!$C$80=$B$62,IF(Avropsblankett!$D$76=$C$7,IF(Avropsblankett!$F$76<1000,T62,U62),IF(Avropsblankett!$D$76=$C$8,IF(Avropsblankett!$F$76<1000,T63,U63),IF(Avropsblankett!$D$76=$C$9,IF(Avropsblankett!$F$76<1000,T64,U64),))),\"\"),\"\")","v":""},null,{"$f":"IF(Avropsblankett!$C$76=$A$60,IF(Avropsblankett!$C$80=$B$62,IF(Avropsblankett!$D$76=$C$7,IF(Avropsblankett!$F$76<1000,((Avropsblankett!$F$76-500)*V62/100),((Avropsblankett!$F$76-1000)*V62/100)),IF(Avropsblankett!$D$76=$C$8,IF(Avropsblankett!$F$76<1000,((Avropsblankett!$F$76-500)*V63/100),((Avropsblankett!$F$76-1000)*V63/100)),IF(Avropsblankett!$D$76=$C$9,IF(Avropsblankett!$F$76<1000,((Avropsblankett!$F$76-500)*V64/100),((Avropsblankett!$F$76-1000)*V64/100)),))),\"\"),\"\")","v":""},null,{"$f":"IF(Avropsblankett!$C$76=$A$60,IF(Avropsblankett!$C$80=$B$62,IF(Avropsblankett!$D$76=$C$7,IF(Avropsblankett!$F$76<1000,X62,Y62),IF(Avropsblankett!$D$76=$C$8,IF(Avropsblankett!$F$76<1000,X63,Y63),IF(Avropsblankett!$D$76=$C$9,IF(Avropsblankett!$F$76<1000,X64,Y64),))),\"\"),\"\")","v":""},null,{"$f":"IF(Avropsblankett!$C$76=$A$60,IF(Avropsblankett!$C$80=$B$62,IF(Avropsblankett!$D$76=$C$7,IF(Avropsblankett!$F$76<1000,((Avropsblankett!$F$76-500)*Z62/100),((Avropsblankett!$F$76-1000)*Z62/100)),IF(Avropsblankett!$D$76=$C$8,IF(Avropsblankett!$F$76<1000,((Avropsblankett!$F$76-500)*Z63/100),((Avropsblankett!$F$76-1000)*Z63/100)),IF(Avropsblankett!$D$76=$C$9,IF(Avropsblankett!$F$76<1000,((Avropsblankett!$F$76-500)*Z64/100),((Avropsblankett!$F$76-1000)*Z64/100)),))),\"\"),\"\")","v":""},null,{"$f":"IF(Avropsblankett!$C$76=$A$60,IF(Avropsblankett!$C$80=$B$62,IF(Avropsblankett!$D$76=$C$7,IF(Avropsblankett!$F$76<1000,AB62,AC62),IF(Avropsblankett!$D$76=$C$8,IF(Avropsblankett!$F$76<1000,AB63,AC63),IF(Avropsblankett!$D$76=$C$9,IF(Avropsblankett!$F$76<1000,AB64,AC64),))),\"\"),\"\")","v":""},null,{"$f":"IF(Avropsblankett!$C$76=$A$60,IF(Avropsblankett!$C$80=$B$62,IF(Avropsblankett!$D$76=$C$7,IF(Avropsblankett!$F$76<1000,((Avropsblankett!$F$76-500)*AD62/100),((Avropsblankett!$F$76-1000)*AD62/100)),IF(Avropsblankett!$D$76=$C$8,IF(Avropsblankett!$F$76<1000,((Avropsblankett!$F$76-500)*AD63/100),((Avropsblankett!$F$76-1000)*AD63/100)),IF(Avropsblankett!$D$76=$C$9,IF(Avropsblankett!$F$76<1000,((Avropsblankett!$F$76-500)*AD64/100),((Avropsblankett!$F$76-1000)*AD64/100)),))),\"\"),\"\")","v":""},null,{"$f":"IF(Avropsblankett!$C$76=$A$60,IF(Avropsblankett!$C$80=$B$62,IF(Avropsblankett!$D$76=$C$7,IF(Avropsblankett!$F$76<1000,AF62,AG62),IF(Avropsblankett!$D$76=$C$8,IF(Avropsblankett!$F$76<1000,AF63,AG63),IF(Avropsblankett!$D$76=$C$9,IF(Avropsblankett!$F$76<1000,AF64,AG64),))),\"\"),\"\")","v":""},null,{"$f":"IF(Avropsblankett!$C$76=$A$60,IF(Avropsblankett!$C$80=$B$62,IF(Avropsblankett!$D$76=$C$7,IF(Avropsblankett!$F$76<1000,((Avropsblankett!$F$76-500)*AH62/100),((Avropsblankett!$F$76-1000)*AH62/100)),IF(Avropsblankett!$D$76=$C$8,IF(Avropsblankett!$F$76<1000,((Avropsblankett!$F$76-500)*AH63/100),((Avropsblankett!$F$76-1000)*AH63/100)),IF(Avropsblankett!$D$76=$C$9,IF(Avropsblankett!$F$76<1000,((Avropsblankett!$F$76-500)*AH64/100),((Avropsblankett!$F$76-1000)*AH64/100)),))),\"\"),\"\")","v":""},null,{"$f":"IF(Avropsblankett!$C$76=$A$60,IF(Avropsblankett!$C$80=$B$62,IF(Avropsblankett!$D$76=$C$7,IF(Avropsblankett!$F$76<1000,AJ62,AK62),IF(Avropsblankett!$D$76=$C$8,IF(Avropsblankett!$F$76<1000,AJ63,AK63),IF(Avropsblankett!$D$76=$C$9,IF(Avropsblankett!$F$76<1000,AJ64,AK64),))),\"\"),\"\")","v":""},null,{"$f":"IF(Avropsblankett!$C$76=$A$60,IF(Avropsblankett!$C$80=$B$62,IF(Avropsblankett!$D$76=$C$7,IF(Avropsblankett!$F$76<1000,((Avropsblankett!$F$76-500)*AL62/100),((Avropsblankett!$F$76-1000)*AL62/100)),IF(Avropsblankett!$D$76=$C$8,IF(Avropsblankett!$F$76<1000,((Avropsblankett!$F$76-500)*AL63/100),((Avropsblankett!$F$76-1000)*AL63/100)),IF(Avropsblankett!$D$76=$C$9,IF(Avropsblankett!$F$76<1000,((Avropsblankett!$F$76-500)*AL64/100),((Avropsblankett!$F$76-1000)*AL64/100)),))),\"\"),\"\")","v":""},null,{"$f":"IF(Avropsblankett!$C$76=$A$60,IF(Avropsblankett!$C$80=$B$62,IF(Avropsblankett!$D$76=$C$7,IF(Avropsblankett!$F$76<1000,AN62,AO62),IF(Avropsblankett!$D$76=$C$8,IF(Avropsblankett!$F$76<1000,AN63,AO63),IF(Avropsblankett!$D$76=$C$9,IF(Avropsblankett!$F$76<1000,AN64,AO64),))),\"\"),\"\")","v":""},null,{"$f":"IF(Avropsblankett!$C$76=$A$60,IF(Avropsblankett!$C$80=$B$62,IF(Avropsblankett!$D$76=$C$7,IF(Avropsblankett!$F$76<1000,((Avropsblankett!$F$76-500)*AP62/100),((Avropsblankett!$F$76-1000)*AP62/100)),IF(Avropsblankett!$D$76=$C$8,IF(Avropsblankett!$F$76<1000,((Avropsblankett!$F$76-500)*AP63/100),((Avropsblankett!$F$76-1000)*AP63/100)),IF(Avropsblankett!$D$76=$C$9,IF(Avropsblankett!$F$76<1000,((Avropsblankett!$F$76-500)*AP64/100),((Avropsblankett!$F$76-1000)*AP64/100)),))),\"\"),\"\")","v":""}]
[null,null,null,{"$f":"SUM(D65:D69)","v":0},null,{"$f":"SUM(F65:F69)","v":0},null,{"$f":"SUM(H65:H69)","v":0},null,{"$f":"SUM(J65:J69)","v":0},null,{"$f":"SUM(L65:L69)","v":0},null,{"$f":"SUM(N65:N69)","v":0},null,{"$f":"SUM(P65:P69)","v":0},null,{"$f":"SUM(R65:R69)","v":0},null,{"$f":"SUM(T65:T69)","v":0},null,{"$f":"SUM(V65:V69)","v":0},null,{"$f":"SUM(X65:X69)","v":0},null,{"$f":"SUM(Z65:Z69)","v":0},null,{"$f":"SUM(AB65:AB69)","v":0},null,{"$f":"SUM(AD65:AD69)","v":0},null,{"$f":"SUM(AF65:AF69)","v":0},null,{"$f":"SUM(AH65:AH69)","v":0},null,{"$f":"SUM(AJ65:AJ69)","v":0},null,{"$f":"SUM(AL65:AL69)","v":0},null,{"$f":"SUM(AN65:AN69)","v":0},null,{"$f":"SUM(AP65:AP69)","v":0}]
["Kuvert_Variant_7",null,"Variant 7","Upplaga",null,"Följande",null,"Upplaga",null,"Följande",null,"Upplaga",null,"Följande",null,"Upplaga",null,"Följande",null,"Upplaga",null,"Följande",null,"Upplaga",null,"Följande",null,"Upplaga",null,"Följande",null,"Upplaga",null,"Följande",null,"Upplaga",null,"Följande",null,"Upplaga",null,"Följande"]
["Kuvert","Kuvert vitt Liggande fönster, självhäftande klaff med täckremsa. Klaffen ska vara tryckbar. 115g",null,500,1000,100,null,500,1000,100,null,500,1000,100,null,500,1000,100,null,500,1000,100,null,500,1000,100,null,500,1000,100,null,500,1000,100,null,500,1000,100,null,500,1000,100]
["Storlek","C5","Tryck ´4+4",1350,1480,120,null,2905,3280,328,null,3500,4200,93,null,1175,1275,125,null,935,1354,30,null,1650,1742,144,null,1350,2200,230,null,1169,1699,107,null,1100,2000,135,null,1783,2080,30]
[null,null,"Tryck ´4+0",1050,1480,120,null,1640,2015,201,null,1650,2250,49,null,825,1050,100,null,520,784,15,null,1500,1583,142,null,1100,1800,200,null,650,980,67,null,920,1450,115,null,978,1126,15]
[null,null,"Tryck ´1+0",510,1120,100,null,716,1092,109,null,950,1530,31,null,475,550,82.5,null,231,383,15,null,561,686,70,null,950,1550,170,null,289,479,39,null,825,980,90,null,522,670,15]
[null,null,null,{"$f":"IF(Avropsblankett!$C$28=$A$71,IF(Avropsblankett!$C$32=$B$73,IF(Avropsblankett!$D$28=$C$7,IF(Avropsblankett!$F$28<1000,D73,E73),IF(Avropsblankett!$D$28=$C$8,IF(Avropsblankett!$F$28<1000,D74,E74),IF(Avropsblankett!$D$28=$C$9,IF(Avropsblankett!$F$28<1000,D75,E75),))),\"\"),\"\")","v":""},null,{"$f":"IF(Avropsblankett!$C$28=$A$71,IF(Avropsblankett!$C$32=$B$73,IF(Avropsblankett!$D$28=$C$7,IF(Avropsblankett!$F$28<1000,((Avropsblankett!$F$28-500)*F73/100),((Avropsblankett!$F$28-1000)*F73/100)),IF(Avropsblankett!$D$28=$C$8,IF(Avropsblankett!$F$28<1000,((Avropsblankett!$F$28-500)*F74/100),((Avropsblankett!$F$28-1000)*F74/100)),IF(Avropsblankett!$D$28=$C$9,IF(Avropsblankett!$F$28<1000,((Avropsblankett!$F$28-500)*F75/100),((Avropsblankett!$F$28-1000)*F75/100)),))),\"\"),\"\")","v":""},null,{"$f":"IF(Avropsblankett!$C$28=$A$71,IF(Avropsblankett!$C$32=$B$73,IF(Avropsblankett!$D$28=$C$7,IF(Avropsblankett!$F$28<1000,H73,I73),IF(Avropsblankett!$D$28=$C$8,IF(Avropsblankett!$F$28<1000,H74,I74),IF(Avropsblankett!$D$28=$C$9,IF(Avropsblankett!$F$28<1000,H75,I75),))),\"\"),\"\")","v":""},null,{"$f":"IF(Avropsblankett!$C$28=$A$71,IF(Avropsblankett!$C$32=$B$73,IF(Avropsblankett!$D$28=$C$7,IF(Avropsblankett!$F$28<1000,((Avropsblankett!$F$28-500)*J73/100),((Avropsblankett!$F$28-1000)*J73/100)),IF(Avropsblankett!$D$28=$C$8,IF(Avropsblankett!$F$28<1000,((Avropsblankett!$F$28-500)*J74/100),((Avropsblankett!$F$28-1000)*J74/100)),IF(Avropsblankett!$D$28=$C$9,IF(Avropsblankett!$F$28<1000,((Avropsblankett!$F$28-500)*J75/100),((Avropsblankett!$F$28-1000)*J75/100)),))),\"\"),\"\")","v":""},null,{"$f":"IF(Avropsblankett!$C$28=$A$71,IF(Avropsblankett!$C$32=$B$73,IF(Avropsblankett!$D$28=$C$7,IF(Avropsblankett!$F$28<1000,L73,M73),IF(Avropsblankett!$D$28=$C$8,IF(Avropsblankett!$F$28<1000,L74,M74),IF(Avropsblankett!$D$28=$C$9,IF(Avropsblankett!$F$28<1000,L75,M75),))),\"\"),\"\")","v":""},null,{"$f":"IF(Avropsblankett!$C$28=$A$71,IF(Avropsblankett!$C$32=$B$73,IF(Avropsblankett!$D$28=$C$7,IF(Avropsblankett!$F$28<1000,((Avropsblankett!$F$28-500)*N73/100),((Avropsblankett!$F$28-1000)*N73/100)),IF(Avropsblankett!$D$28=$C$8,IF(Avropsblankett!$F$28<1000,((Avropsblankett!$F$28-500)*N74/100),((Avropsblankett!$F$28-1000)*N74/100)),IF(Avropsblankett!$D$28=$C$9,IF(Avropsblankett!$F$28<1000,((Avropsblankett!$F$28-500)*N75/100),((Avropsblankett!$F$28-1000)*N75/100)),))),\"\"),\"\")","v":""},null,{"$f":"IF(Avropsblankett!$C$28=$A$71,IF(Avropsblankett!$C$32=$B$73,IF(Avropsblankett!$D$28=$C$7,IF(Avropsblankett!$F$28<1000,P73,Q73),IF(Avropsblankett!$D$28=$C$8,IF(Avropsblankett!$F$28<1000,P74,Q74),IF(Avropsblankett!$D$28=$C$9,IF(Avropsblankett!$F$28<1000,P75,Q75),))),\"\"),\"\")","v":""},null,{"$f":"IF(Avropsblankett!$C$28=$A$71,IF(Avropsblankett!$C$32=$B$73,IF(Avropsblankett!$D$28=$C$7,IF(Avropsblankett!$F$28<1000,((Avropsblankett!$F$28-500)*R73/100),((Avropsblankett!$F$28-1000)*R73/100)),IF(Avropsblankett!$D$28=$C$8,IF(Avropsblankett!$F$28<1000,((Avropsblankett!$F$28-500)*R74/100),((Avropsblankett!$F$28-1000)*R74/100)),IF(Avropsblankett!$D$28=$C$9,IF(Avropsblankett!$F$28<1000,((Avropsblankett!$F$28-500)*R75/100),((Avropsblankett!$F$28-1000)*R75/100)),))),\"\"),\"\")","v":""},null,{"$f":"IF(Avropsblankett!$C$28=$A$71,IF(Avropsblankett!$C$32=$B$73,IF(Avropsblankett!$D$28=$C$7,IF(Avropsblankett!$F$28<1000,T73,U73),IF(Avropsblankett!$D$28=$C$8,IF(Avropsblankett!$F$28<1000,T74,U74),IF(Avropsblankett!$D$28=$C$9,IF(Avropsblankett!$F$28<1000,T75,U75),))),\"\"),\"\")","v":""},null,{"$f":"IF(Avropsblankett!$C$28=$A$71,IF(Avropsblankett!$C$32=$B$73,IF(Avropsblankett!$D$28=$C$7,IF(Avropsblankett!$F$28<1000,((Avropsblankett!$F$28-500)*V73/100),((Avropsblankett!$F$28-1000)*V73/100)),IF(Avropsblankett!$D$28=$C$8,IF(Avropsblankett!$F$28<1000,((Avropsblankett!$F$28-500)*V74/100),((Avropsblankett!$F$28-1000)*V74/100)),IF(Avropsblankett!$D$28=$C$9,IF(Avropsblankett!$F$28<1000,((Avropsblankett!$F$28-500)*V75/100),((Avropsblankett!$F$28-1000)*V75/100)),))),\"\"),\"\")","v":""},null,{"$f":"IF(Avropsblankett!$C$28=$A$71,IF(Avropsblankett!$C$32=$B$73,IF(Avropsblankett!$D$28=$C$7,IF(Avropsblankett!$F$28<1000,X73,Y73),IF(Avropsblankett!$D$28=$C$8,IF(Avropsblankett!$F$28<1000,X74,Y74),IF(Avropsblankett!$D$28=$C$9,IF(Avropsblankett!$F$28<1000,X75,Y75),))),\"\"),\"\")","v":""},null,{"$f":"IF(Avropsblankett!$C$28=$A$71,IF(Avropsblankett!$C$32=$B$73,IF(Avropsblankett!$D$28=$C$7,IF(Avropsblankett!$F$28<1000,((Avropsblankett!$F$28-500)*Z73/100),((Avropsblankett!$F$28-1000)*Z73/100)),IF(Avropsblankett!$D$28=$C$8,IF(Avropsblankett!$F$28<1000,((Avropsblankett!$F$28-500)*Z74/100),((Avropsblankett!$F$28-1000)*Z74/100)),IF(Avropsblankett!$D$28=$C$9,IF(Avropsblankett!$F$28<1000,((Avropsblankett!$F$28-500)*Z75/100),((Avropsblankett!$F$28-1000)*Z75/100)),))),\"\"),\"\")","v":""},null,{"$f":"IF(Avropsblankett!$C$28=$A$71,IF(Avropsblankett!$C$32=$B$73,IF(Avropsblankett!$D$28=$C$7,IF(Avropsblankett!$F$28<1000,AB73,AC73),IF(Avropsblankett!$D$28=$C$8,IF(Avropsblankett!$F$28<1000,AB74,AC74),IF(Avropsblankett!$D$28=$C$9,IF(Avropsblankett!$F$28<1000,AB75,AC75),))),\"\"),\"\")","v":""},null,{"$f":"IF(Avropsblankett!$C$28=$A$71,IF(Avropsblankett!$C$32=$B$73,IF(Avropsblankett!$D$28=$C$7,IF(Avropsblankett!$F$28<1000,((Avropsblankett!$F$28-500)*AD73/100),((Avropsblankett!$F$28-1000)*AD73/100)),IF(Avropsblankett!$D$28=$C$8,IF(Avropsblankett!$F$28<1000,((Avropsblankett!$F$28-500)*AD74/100),((Avropsblankett!$F$28-1000)*AD74/100)),IF(Avropsblankett!$D$28=$C$9,IF(Avropsblankett!$F$28<1000,((Avropsblankett!$F$28-500)*AD75/100),((Avropsblankett!$F$28-1000)*AD75/100)),))),\"\"),\"\")","v":""},null,{"$f":"IF(Avropsblankett!$C$28=$A$71,IF(Avropsblankett!$C$32=$B$73,IF(Avropsblankett!$D$28=$C$7,IF(Avropsblankett!$F$28<1000,AF73,AG73),IF(Avropsblankett!$D$28=$C$8,IF(Avropsblankett!$F$28<1000,AF74,AG74),IF(Avropsblankett!$D$28=$C$9,IF(Avropsblankett!$F$28<1000,AF75,AG75),))),\"\"),\"\")","v":""},null,{"$f":"IF(Avropsblankett!$C$28=$A$71,IF(Avropsblankett!$C$32=$B$73,IF(Avropsblankett!$D$28=$C$7,IF(Avropsblankett!$F$28<1000,((Avropsblankett!$F$28-500)*AH73/100),((Avropsblankett!$F$28-1000)*AH73/100)),IF(Avropsblankett!$D$28=$C$8,IF(Avropsblankett!$F$28<1000,((Avropsblankett!$F$28-500)*AH74/100),((Avropsblankett!$F$28-1000)*AH74/100)),IF(Avropsblankett!$D$28=$C$9,IF(Avropsblankett!$F$28<1000,((Avropsblankett!$F$28-500)*AH75/100),((Avropsblankett!$F$28-1000)*AH75/100)),))),\"\"),\"\")","v":""},null,{"$f":"IF(Avropsblankett!$C$28=$A$71,IF(Avropsblankett!$C$32=$B$73,IF(Avropsblankett!$D$28=$C$7,IF(Avropsblankett!$F$28<1000,AJ73,AK73),IF(Avropsblankett!$D$28=$C$8,IF(Avropsblankett!$F$28<1000,AJ74,AK74),IF(Avropsblankett!$D$28=$C$9,IF(Avropsblankett!$F$28<1000,AJ75,AK75),))),\"\"),\"\")","v":""},null,{"$f":"IF(Avropsblankett!$C$28=$A$71,IF(Avropsblankett!$C$32=$B$73,IF(Avropsblankett!$D$28=$C$7,IF(Avropsblankett!$F$28<1000,((Avropsblankett!$F$28-500)*AL73/100),((Avropsblankett!$F$28-1000)*AL73/100)),IF(Avropsblankett!$D$28=$C$8,IF(Avropsblankett!$F$28<1000,((Avropsblankett!$F$28-500)*AL74/100),((Avropsblankett!$F$28-1000)*AL74/100)),IF(Avropsblankett!$D$28=$C$9,IF(Avropsblankett!$F$28<1000,((Avropsblankett!$F$28-500)*AL75/100),((Avropsblankett!$F$28-1000)*AL75/100)),))),\"\"),\"\")","v":""},null,{"$f":"IF(Avropsblankett!$C$28=$A$71,IF(Avropsblankett!$C$32=$B$73,IF(Avropsblankett!$D$28=$C$7,IF(Avropsblankett!$F$28<1000,AN73,AO73),IF(Avropsblankett!$D$28=$C$8,IF(Avropsblankett!$F$28<1000,AN74,AO74),IF(Avropsblankett!$D$28=$C$9,IF(Avropsblankett!$F$28<1000,AN75,AO75),))),\"\"),\"\")","v":""},null,{"$f":"IF(Avropsblankett!$C$28=$A$71,IF(Avropsblankett!$C$32=$B$73,IF(Avropsblankett!$D$28=$C$7,IF(Avropsblankett!$F$28<1000,((Avropsblankett!$F$28-500)*AP73/100),((Avropsblankett!$F$28-1000)*AP73/100)),IF(Avropsblankett!$D$28=$C$8,IF(Avropsblankett!$F$28<1000,((Avropsblankett!$F$28-500)*AP74/100),((Avropsblankett!$F$28-1000)*AP74/100)),IF(Avropsblankett!$D$28=$C$9,IF(Avropsblankett!$F$28<1000,((Avropsblankett!$F$28-500)*AP75/100),((Avropsblankett!$F$28-1000)*AP75/100)),))),\"\"),\"\")","v":""}]
[null,null,null,{"$f":"IF(Avropsblankett!$C$40=$A$71,IF(Avropsblankett!$C$44=$B$73,IF(Avropsblankett!$D$40=$C$7,IF(Avropsblankett!$F$40<1000,D73,E73),IF(Avropsblankett!$D$40=$C$8,IF(Avropsblankett!$F$40<1000,D74,E74),IF(Avropsblankett!$D$40=$C$9,IF(Avropsblankett!$F$40<1000,D75,E75),))),\"\"),\"\")","v":""},null,{"$f":"IF(Avropsblankett!$C$40=$A$71,IF(Avropsblankett!$C$44=$B$73,IF(Avropsblankett!$D$40=$C$7,IF(Avropsblankett!$F$40<1000,((Avropsblankett!$F$40-500)*F73/100),((Avropsblankett!$F$40-1000)*F73/100)),IF(Avropsblankett!$D$40=$C$8,IF(Avropsblankett!$F$40<1000,((Avropsblankett!$F$40-500)*F74/100),((Avropsblankett!$F$40-1000)*F74/100)),IF(Avropsblankett!$D$40=$C$9,IF(Avropsblankett!$F$40<1000,((Avropsblankett!$F$40-500)*F75/100),((Avropsblankett!$F$40-1000)*F75/100)),))),\"\"),\"\")","v":""},null,{"$f":"IF(Avropsblankett!$C$40=$A$71,IF(Avropsblankett!$C$44=$B$73,IF(Avropsblankett!$D$40=$C$7,IF(Avropsblankett!$F$40<1000,H73,I73),IF(Avropsblankett!$D$40=$C$8,IF(Avropsblankett!$F$40<1000,H74,I74),IF(Avropsblankett!$D$40=$C$9,IF(Avropsblankett!$F$40<1000,H75,I75),))),\"\"),\"\")","v":""},null,{"$f":"IF(Avropsblankett!$C$40=$A$71,IF(Avropsblankett!$C$44=$B$73,IF(Avropsblankett!$D$40=$C$7,IF(Avropsblankett!$F$40<1000,((Avropsblankett!$F$40-500)*J73/100),((Avropsblankett!$F$40-1000)*J73/100)),IF(Avropsblankett!$D$40=$C$8,IF(Avropsblankett!$F$40<1000,((Avropsblankett!$F$40-500)*J74/100),((Avropsblankett!$F$40-1000)*J74/100)),IF(Avropsblankett!$D$40=$C$9,IF(Avropsblankett!$F$40<1000,((Avropsblankett!$F$40-500)*J75/100),((Avropsblankett!$F$40-1000)*J75/100)),))),\"\"),\"\")","v":""},null,{"$f":"IF(Avropsblankett!$C$40=$A$71,IF(Avropsblankett!$C$44=$B$73,IF(Avropsblankett!$D$40=$C$7,IF(Avropsblankett!$F$40<1000,L73,M73),IF(Avropsblankett!$D$40=$C$8,IF(Avropsblankett!$F$40<1000,L74,M74),IF(Avropsblankett!$D$40=$C$9,IF(Avropsblankett!$F$40<1000,L75,M75),))),\"\"),\"\")","v":""},null,{"$f":"IF(Avropsblankett!$C$40=$A$71,IF(Avropsblankett!$C$44=$B$73,IF(Avropsblankett!$D$40=$C$7,IF(Avropsblankett!$F$40<1000,((Avropsblankett!$F$40-500)*N73/100),((Avropsblankett!$F$40-1000)*N73/100)),IF(Avropsblankett!$D$40=$C$8,IF(Avropsblankett!$F$40<1000,((Avropsblankett!$F$40-500)*N74/100),((Avropsblankett!$F$40-1000)*N74/100)),IF(Avropsblankett!$D$40=$C$9,IF(Avropsblankett!$F$40<1000,((Avropsblankett!$F$40-500)*N75/100),((Avropsblankett!$F$40-1000)*N75/100)),))),\"\"),\"\")","v":""},null,{"$f":"IF(Avropsblankett!$C$40=$A$71,IF(Avropsblankett!$C$44=$B$73,IF(Avropsblankett!$D$40=$C$7,IF(Avropsblankett!$F$40<1000,P73,Q73),IF(Avropsblankett!$D$40=$C$8,IF(Avropsblankett!$F$40<1000,P74,Q74),IF(Avropsblankett!$D$40=$C$9,IF(Avropsblankett!$F$40<1000,P75,Q75),))),\"\"),\"\")","v":""},null,{"$f":"IF(Avropsblankett!$C$40=$A$71,IF(Avropsblankett!$C$44=$B$73,IF(Avropsblankett!$D$40=$C$7,IF(Avropsblankett!$F$40<1000,((Avropsblankett!$F$40-500)*R73/100),((Avropsblankett!$F$40-1000)*R73/100)),IF(Avropsblankett!$D$40=$C$8,IF(Avropsblankett!$F$40<1000,((Avropsblankett!$F$40-500)*R74/100),((Avropsblankett!$F$40-1000)*R74/100)),IF(Avropsblankett!$D$40=$C$9,IF(Avropsblankett!$F$40<1000,((Avropsblankett!$F$40-500)*R75/100),((Avropsblankett!$F$40-1000)*R75/100)),))),\"\"),\"\")","v":""},null,{"$f":"IF(Avropsblankett!$C$40=$A$71,IF(Avropsblankett!$C$44=$B$73,IF(Avropsblankett!$D$40=$C$7,IF(Avropsblankett!$F$40<1000,T73,U73),IF(Avropsblankett!$D$40=$C$8,IF(Avropsblankett!$F$40<1000,T74,U74),IF(Avropsblankett!$D$40=$C$9,IF(Avropsblankett!$F$40<1000,T75,U75),))),\"\"),\"\")","v":""},null,{"$f":"IF(Avropsblankett!$C$40=$A$71,IF(Avropsblankett!$C$44=$B$73,IF(Avropsblankett!$D$40=$C$7,IF(Avropsblankett!$F$40<1000,((Avropsblankett!$F$40-500)*V73/100),((Avropsblankett!$F$40-1000)*V73/100)),IF(Avropsblankett!$D$40=$C$8,IF(Avropsblankett!$F$40<1000,((Avropsblankett!$F$40-500)*V74/100),((Avropsblankett!$F$40-1000)*V74/100)),IF(Avropsblankett!$D$40=$C$9,IF(Avropsblankett!$F$40<1000,((Avropsblankett!$F$40-500)*V75/100),((Avropsblankett!$F$40-1000)*V75/100)),))),\"\"),\"\")","v":""},null,{"$f":"IF(Avropsblankett!$C$40=$A$71,IF(Avropsblankett!$C$44=$B$73,IF(Avropsblankett!$D$40=$C$7,IF(Avropsblankett!$F$40<1000,X73,Y73),IF(Avropsblankett!$D$40=$C$8,IF(Avropsblankett!$F$40<1000,X74,Y74),IF(Avropsblankett!$D$40=$C$9,IF(Avropsblankett!$F$40<1000,X75,Y75),))),\"\"),\"\")","v":""},null,{"$f":"IF(Avropsblankett!$C$40=$A$71,IF(Avropsblankett!$C$44=$B$73,IF(Avropsblankett!$D$40=$C$7,IF(Avropsblankett!$F$40<1000,((Avropsblankett!$F$40-500)*Z73/100),((Avropsblankett!$F$40-1000)*Z73/100)),IF(Avropsblankett!$D$40=$C$8,IF(Avropsblankett!$F$40<1000,((Avropsblankett!$F$40-500)*Z74/100),((Avropsblankett!$F$40-1000)*Z74/100)),IF(Avropsblankett!$D$40=$C$9,IF(Avropsblankett!$F$40<1000,((Avropsblankett!$F$40-500)*Z75/100),((Avropsblankett!$F$40-1000)*Z75/100)),))),\"\"),\"\")","v":""},null,{"$f":"IF(Avropsblankett!$C$40=$A$71,IF(Avropsblankett!$C$44=$B$73,IF(Avropsblankett!$D$40=$C$7,IF(Avropsblankett!$F$40<1000,AB73,AC73),IF(Avropsblankett!$D$40=$C$8,IF(Avropsblankett!$F$40<1000,AB74,AC74),IF(Avropsblankett!$D$40=$C$9,IF(Avropsblankett!$F$40<1000,AB75,AC75),))),\"\"),\"\")","v":""},null,{"$f":"IF(Avropsblankett!$C$40=$A$71,IF(Avropsblankett!$C$44=$B$73,IF(Avropsblankett!$D$40=$C$7,IF(Avropsblankett!$F$40<1000,((Avropsblankett!$F$40-500)*AD73/100),((Avropsblankett!$F$40-1000)*AD73/100)),IF(Avropsblankett!$D$40=$C$8,IF(Avropsblankett!$F$40<1000,((Avropsblankett!$F$40-500)*AD74/100),((Avropsblankett!$F$40-1000)*AD74/100)),IF(Avropsblankett!$D$40=$C$9,IF(Avropsblankett!$F$40<1000,((Avropsblankett!$F$40-500)*AD75/100),((Avropsblankett!$F$40-1000)*AD75/100)),))),\"\"),\"\")","v":""},null,{"$f":"IF(Avropsblankett!$C$40=$A$71,IF(Avropsblankett!$C$44=$B$73,IF(Avropsblankett!$D$40=$C$7,IF(Avropsblankett!$F$40<1000,AF73,AG73),IF(Avropsblankett!$D$40=$C$8,IF(Avropsblankett!$F$40<1000,AF74,AG74),IF(Avropsblankett!$D$40=$C$9,IF(Avropsblankett!$F$40<1000,AF75,AG75),))),\"\"),\"\")","v":""},null,{"$f":"IF(Avropsblankett!$C$40=$A$71,IF(Avropsblankett!$C$44=$B$73,IF(Avropsblankett!$D$40=$C$7,IF(Avropsblankett!$F$40<1000,((Avropsblankett!$F$40-500)*AH73/100),((Avropsblankett!$F$40-1000)*AH73/100)),IF(Avropsblankett!$D$40=$C$8,IF(Avropsblankett!$F$40<1000,((Avropsblankett!$F$40-500)*AH74/100),((Avropsblankett!$F$40-1000)*AH74/100)),IF(Avropsblankett!$D$40=$C$9,IF(Avropsblankett!$F$40<1000,((Avropsblankett!$F$40-500)*AH75/100),((Avropsblankett!$F$40-1000)*AH75/100)),))),\"\"),\"\")","v":""},null,{"$f":"IF(Avropsblankett!$C$40=$A$71,IF(Avropsblankett!$C$44=$B$73,IF(Avropsblankett!$D$40=$C$7,IF(Avropsblankett!$F$40<1000,AJ73,AK73),IF(Avropsblankett!$D$40=$C$8,IF(Avropsblankett!$F$40<1000,AJ74,AK74),IF(Avropsblankett!$D$40=$C$9,IF(Avropsblankett!$F$40<1000,AJ75,AK75),))),\"\"),\"\")","v":""},null,{"$f":"IF(Avropsblankett!$C$40=$A$71,IF(Avropsblankett!$C$44=$B$73,IF(Avropsblankett!$D$40=$C$7,IF(Avropsblankett!$F$40<1000,((Avropsblankett!$F$40-500)*AL73/100),((Avropsblankett!$F$40-1000)*AL73/100)),IF(Avropsblankett!$D$40=$C$8,IF(Avropsblankett!$F$40<1000,((Avropsblankett!$F$40-500)*AL74/100),((Avropsblankett!$F$40-1000)*AL74/100)),IF(Avropsblankett!$D$40=$C$9,IF(Avropsblankett!$F$40<1000,((Avropsblankett!$F$40-500)*AL75/100),((Avropsblankett!$F$40-1000)*AL75/100)),))),\"\"),\"\")","v":""},null,{"$f":"IF(Avropsblankett!$C$40=$A$71,IF(Avropsblankett!$C$44=$B$73,IF(Avropsblankett!$D$40=$C$7,IF(Avropsblankett!$F$40<1000,AN73,AO73),IF(Avropsblankett!$D$40=$C$8,IF(Avropsblankett!$F$40<1000,AN74,AO74),IF(Avropsblankett!$D$40=$C$9,IF(Avropsblankett!$F$40<1000,AN75,AO75),))),\"\"),\"\")","v":""},null,{"$f":"IF(Avropsblankett!$C$40=$A$71,IF(Avropsblankett!$C$44=$B$73,IF(Avropsblankett!$D$40=$C$7,IF(Avropsblankett!$F$40<1000,((Avropsblankett!$F$40-500)*AP73/100),((Avropsblankett!$F$40-1000)*AP73/100)),IF(Avropsblankett!$D$40=$C$8,IF(Avropsblankett!$F$40<1000,((Avropsblankett!$F$40-500)*AP74/100),((Avropsblankett!$F$40-1000)*AP74/100)),IF(Avropsblankett!$D$40=$C$9,IF(Avropsblankett!$F$40<1000,((Avropsblankett!$F$40-500)*AP75/100),((Avropsblankett!$F$40-1000)*AP75/100)),))),\"\"),\"\")","v":""}]
[null,null,null,{"$f":"IF(Avropsblankett!$C$52=$A$71,IF(Avropsblankett!$C$56=$B$73,IF(Avropsblankett!$D$52=$C$7,IF(Avropsblankett!$F$52<1000,D73,E73),IF(Avropsblankett!$D$52=$C$8,IF(Avropsblankett!$F$52<1000,D74,E74),IF(Avropsblankett!$D$52=$C$9,IF(Avropsblankett!$F$52<1000,D75,E75),))),\"\"),\"\")","v":""},null,{"$f":"IF(Avropsblankett!$C$52=$A$71,IF(Avropsblankett!$C$56=$B$73,IF(Avropsblankett!$D$52=$C$7,IF(Avropsblankett!$F$52<1000,((Avropsblankett!$F$52-500)*F73/100),((Avropsblankett!$F$52-1000)*F73/100)),IF(Avropsblankett!$D$52=$C$8,IF(Avropsblankett!$F$52<1000,((Avropsblankett!$F$52-500)*F74/100),((Avropsblankett!$F$52-1000)*F74/100)),IF(Avropsblankett!$D$52=$C$9,IF(Avropsblankett!$F$52<1000,((Avropsblankett!$F$52-500)*F75/100),((Avropsblankett!$F$52-1000)*F75/100)),))),\"\"),\"\")","v":""},null,{"$f":"IF(Avropsblankett!$C$52=$A$71,IF(Avropsblankett!$C$56=$B$73,IF(Avropsblankett!$D$52=$C$7,IF(Avropsblankett!$F$52<1000,H73,I73),IF(Avropsblankett!$D$52=$C$8,IF(Avropsblankett!$F$52<1000,H74,I74),IF(Avropsblankett!$D$52=$C$9,IF(Avropsblankett!$F$52<1000,H75,I75),))),\"\"),\"\")","v":""},null,{"$f":"IF(Avropsblankett!$C$52=$A$71,IF(Avropsblankett!$C$56=$B$73,IF(Avropsblankett!$D$52=$C$7,IF(Avropsblankett!$F$52<1000,((Avropsblankett!$F$52-500)*J73/100),((Avropsblankett!$F$52-1000)*J73/100)),IF(Avropsblankett!$D$52=$C$8,IF(Avropsblankett!$F$52<1000,((Avropsblankett!$F$52-500)*J74/100),((Avropsblankett!$F$52-1000)*J74/100)),IF(Avropsblankett!$D$52=$C$9,IF(Avropsblankett!$F$52<1000,((Avropsblankett!$F$52-500)*J75/100),((Avropsblankett!$F$52-1000)*J75/100)),))),\"\"),\"\")","v":""},null,{"$f":"IF(Avropsblankett!$C$52=$A$71,IF(Avropsblankett!$C$56=$B$73,IF(Avropsblankett!$D$52=$C$7,IF(Avropsblankett!$F$52<1000,L73,M73),IF(Avropsblankett!$D$52=$C$8,IF(Avropsblankett!$F$52<1000,L74,M74),IF(Avropsblankett!$D$52=$C$9,IF(Avropsblankett!$F$52<1000,L75,M75),))),\"\"),\"\")","v":""},null,{"$f":"IF(Avropsblankett!$C$52=$A$71,IF(Avropsblankett!$C$56=$B$73,IF(Avropsblankett!$D$52=$C$7,IF(Avropsblankett!$F$52<1000,((Avropsblankett!$F$52-500)*N73/100),((Avropsblankett!$F$52-1000)*N73/100)),IF(Avropsblankett!$D$52=$C$8,IF(Avropsblankett!$F$52<1000,((Avropsblankett!$F$52-500)*N74/100),((Avropsblankett!$F$52-1000)*N74/100)),IF(Avropsblankett!$D$52=$C$9,IF(Avropsblankett!$F$52<1000,((Avropsblankett!$F$52-500)*N75/100),((Avropsblankett!$F$52-1000)*N75/100)),))),\"\"),\"\")","v":""},null,{"$f":"IF(Avropsblankett!$C$52=$A$71,IF(Avropsblankett!$C$56=$B$73,IF(Avropsblankett!$D$52=$C$7,IF(Avropsblankett!$F$52<1000,P73,Q73),IF(Avropsblankett!$D$52=$C$8,IF(Avropsblankett!$F$52<1000,P74,Q74),IF(Avropsblankett!$D$52=$C$9,IF(Avropsblankett!$F$52<1000,P75,Q75),))),\"\"),\"\")","v":""},null,{"$f":"IF(Avropsblankett!$C$52=$A$71,IF(Avropsblankett!$C$56=$B$73,IF(Avropsblankett!$D$52=$C$7,IF(Avropsblankett!$F$52<1000,((Avropsblankett!$F$52-500)*R73/100),((Avropsblankett!$F$52-1000)*R73/100)),IF(Avropsblankett!$D$52=$C$8,IF(Avropsblankett!$F$52<1000,((Avropsblankett!$F$52-500)*R74/100),((Avropsblankett!$F$52-1000)*R74/100)),IF(Avropsblankett!$D$52=$C$9,IF(Avropsblankett!$F$52<1000,((Avropsblankett!$F$52-500)*R75/100),((Avropsblankett!$F$52-1000)*R75/100)),))),\"\"),\"\")","v":""},null,{"$f":"IF(Avropsblankett!$C$52=$A$71,IF(Avropsblankett!$C$56=$B$73,IF(Avropsblankett!$D$52=$C$7,IF(Avropsblankett!$F$52<1000,T73,U73),IF(Avropsblankett!$D$52=$C$8,IF(Avropsblankett!$F$52<1000,T74,U74),IF(Avropsblankett!$D$52=$C$9,IF(Avropsblankett!$F$52<1000,T75,U75),))),\"\"),\"\")","v":""},null,{"$f":"IF(Avropsblankett!$C$52=$A$71,IF(Avropsblankett!$C$56=$B$73,IF(Avropsblankett!$D$52=$C$7,IF(Avropsblankett!$F$52<1000,((Avropsblankett!$F$52-500)*V73/100),((Avropsblankett!$F$52-1000)*V73/100)),IF(Avropsblankett!$D$52=$C$8,IF(Avropsblankett!$F$52<1000,((Avropsblankett!$F$52-500)*V74/100),((Avropsblankett!$F$52-1000)*V74/100)),IF(Avropsblankett!$D$52=$C$9,IF(Avropsblankett!$F$52<1000,((Avropsblankett!$F$52-500)*V75/100),((Avropsblankett!$F$52-1000)*V75/100)),))),\"\"),\"\")","v":""},null,{"$f":"IF(Avropsblankett!$C$52=$A$71,IF(Avropsblankett!$C$56=$B$73,IF(Avropsblankett!$D$52=$C$7,IF(Avropsblankett!$F$52<1000,X73,Y73),IF(Avropsblankett!$D$52=$C$8,IF(Avropsblankett!$F$52<1000,X74,Y74),IF(Avropsblankett!$D$52=$C$9,IF(Avropsblankett!$F$52<1000,X75,Y75),))),\"\"),\"\")","v":""},null,{"$f":"IF(Avropsblankett!$C$52=$A$71,IF(Avropsblankett!$C$56=$B$73,IF(Avropsblankett!$D$52=$C$7,IF(Avropsblankett!$F$52<1000,((Avropsblankett!$F$52-500)*Z73/100),((Avropsblankett!$F$52-1000)*Z73/100)),IF(Avropsblankett!$D$52=$C$8,IF(Avropsblankett!$F$52<1000,((Avropsblankett!$F$52-500)*Z74/100),((Avropsblankett!$F$52-1000)*Z74/100)),IF(Avropsblankett!$D$52=$C$9,IF(Avropsblankett!$F$52<1000,((Avropsblankett!$F$52-500)*Z75/100),((Avropsblankett!$F$52-1000)*Z75/100)),))),\"\"),\"\")","v":""},null,{"$f":"IF(Avropsblankett!$C$52=$A$71,IF(Avropsblankett!$C$56=$B$73,IF(Avropsblankett!$D$52=$C$7,IF(Avropsblankett!$F$52<1000,AB73,AC73),IF(Avropsblankett!$D$52=$C$8,IF(Avropsblankett!$F$52<1000,AB74,AC74),IF(Avropsblankett!$D$52=$C$9,IF(Avropsblankett!$F$52<1000,AB75,AC75),))),\"\"),\"\")","v":""},null,{"$f":"IF(Avropsblankett!$C$52=$A$71,IF(Avropsblankett!$C$56=$B$73,IF(Avropsblankett!$D$52=$C$7,IF(Avropsblankett!$F$52<1000,((Avropsblankett!$F$52-500)*AD73/100),((Avropsblankett!$F$52-1000)*AD73/100)),IF(Avropsblankett!$D$52=$C$8,IF(Avropsblankett!$F$52<1000,((Avropsblankett!$F$52-500)*AD74/100),((Avropsblankett!$F$52-1000)*AD74/100)),IF(Avropsblankett!$D$52=$C$9,IF(Avropsblankett!$F$52<1000,((Avropsblankett!$F$52-500)*AD75/100),((Avropsblankett!$F$52-1000)*AD75/100)),))),\"\"),\"\")","v":""},null,{"$f":"IF(Avropsblankett!$C$52=$A$71,IF(Avropsblankett!$C$56=$B$73,IF(Avropsblankett!$D$52=$C$7,IF(Avropsblankett!$F$52<1000,AF73,AG73),IF(Avropsblankett!$D$52=$C$8,IF(Avropsblankett!$F$52<1000,AF74,AG74),IF(Avropsblankett!$D$52=$C$9,IF(Avropsblankett!$F$52<1000,AF75,AG75),))),\"\"),\"\")","v":""},null,{"$f":"IF(Avropsblankett!$C$52=$A$71,IF(Avropsblankett!$C$56=$B$73,IF(Avropsblankett!$D$52=$C$7,IF(Avropsblankett!$F$52<1000,((Avropsblankett!$F$52-500)*AH73/100),((Avropsblankett!$F$52-1000)*AH73/100)),IF(Avropsblankett!$D$52=$C$8,IF(Avropsblankett!$F$52<1000,((Avropsblankett!$F$52-500)*AH74/100),((Avropsblankett!$F$52-1000)*AH74/100)),IF(Avropsblankett!$D$52=$C$9,IF(Avropsblankett!$F$52<1000,((Avropsblankett!$F$52-500)*AH75/100),((Avropsblankett!$F$52-1000)*AH75/100)),))),\"\"),\"\")","v":""},null,{"$f":"IF(Avropsblankett!$C$52=$A$71,IF(Avropsblankett!$C$56=$B$73,IF(Avropsblankett!$D$52=$C$7,IF(Avropsblankett!$F$52<1000,AJ73,AK73),IF(Avropsblankett!$D$52=$C$8,IF(Avropsblankett!$F$52<1000,AJ74,AK74),IF(Avropsblankett!$D$52=$C$9,IF(Avropsblankett!$F$52<1000,AJ75,AK75),))),\"\"),\"\")","v":""},null,{"$f":"IF(Avropsblankett!$C$52=$A$71,IF(Avropsblankett!$C$56=$B$73,IF(Avropsblankett!$D$52=$C$7,IF(Avropsblankett!$F$52<1000,((Avropsblankett!$F$52-500)*AL73/100),((Avropsblankett!$F$52-1000)*AL73/100)),IF(Avropsblankett!$D$52=$C$8,IF(Avropsblankett!$F$52<1000,((Avropsblankett!$F$52-500)*AL74/100),((Avropsblankett!$F$52-1000)*AL74/100)),IF(Avropsblankett!$D$52=$C$9,IF(Avropsblankett!$F$52<1000,((Avropsblankett!$F$52-500)*AL75/100),((Avropsblankett!$F$52-1000)*AL75/100)),))),\"\"),\"\")","v":""},null,{"$f":"IF(Avropsblankett!$C$52=$A$71,IF(Avropsblankett!$C$56=$B$73,IF(Avropsblankett!$D$52=$C$7,IF(Avropsblankett!$F$52<1000,AN73,AO73),IF(Avropsblankett!$D$52=$C$8,IF(Avropsblankett!$F$52<1000,AN74,AO74),IF(Avropsblankett!$D$52=$C$9,IF(Avropsblankett!$F$52<1000,AN75,AO75),))),\"\"),\"\")","v":""},null,{"$f":"IF(Avropsblankett!$C$52=$A$71,IF(Avropsblankett!$C$56=$B$73,IF(Avropsblankett!$D$52=$C$7,IF(Avropsblankett!$F$52<1000,((Avropsblankett!$F$52-500)*AP73/100),((Avropsblankett!$F$52-1000)*AP73/100)),IF(Avropsblankett!$D$52=$C$8,IF(Avropsblankett!$F$52<1000,((Avropsblankett!$F$52-500)*AP74/100),((Avropsblankett!$F$52-1000)*AP74/100)),IF(Avropsblankett!$D$52=$C$9,IF(Avropsblankett!$F$52<1000,((Avropsblankett!$F$52-500)*AP75/100),((Avropsblankett!$F$52-1000)*AP75/100)),))),\"\"),\"\")","v":""}]
[null,null,null,{"$f":"IF(Avropsblankett!$C$64=$A$71,IF(Avropsblankett!$C$68=$B$73,IF(Avropsblankett!$D$64=$C$7,IF(Avropsblankett!$F$64<1000,D73,E73),IF(Avropsblankett!$D$64=$C$8,IF(Avropsblankett!$F$64<1000,D74,E74),IF(Avropsblankett!$D$64=$C$9,IF(Avropsblankett!$F$64<1000,D75,E75),))),\"\"),\"\")","v":""},null,{"$f":"IF(Avropsblankett!$C$64=$A$71,IF(Avropsblankett!$C$68=$B$73,IF(Avropsblankett!$D$64=$C$7,IF(Avropsblankett!$F$64<1000,((Avropsblankett!$F$64-500)*F73/100),((Avropsblankett!$F$64-1000)*F73/100)),IF(Avropsblankett!$D$64=$C$8,IF(Avropsblankett!$F$64<1000,((Avropsblankett!$F$64-500)*F74/100),((Avropsblankett!$F$64-1000)*F74/100)),IF(Avropsblankett!$D$64=$C$9,IF(Avropsblankett!$F$64<1000,((Avropsblankett!$F$64-500)*F75/100),((Avropsblankett!$F$64-1000)*F75/100)),))),\"\"),\"\")","v":""},null,{"$f":"IF(Avropsblankett!$C$64=$A$71,IF(Avropsblankett!$C$68=$B$73,IF(Avropsblankett!$D$64=$C$7,IF(Avropsblankett!$F$64<1000,H73,I73),IF(Avropsblankett!$D$64=$C$8,IF(Avropsblankett!$F$64<1000,H74,I74),IF(Avropsblankett!$D$64=$C$9,IF(Avropsblankett!$F$64<1000,H75,I75),))),\"\"),\"\")","v":""},null,{"$f":"IF(Avropsblankett!$C$64=$A$71,IF(Avropsblankett!$C$68=$B$73,IF(Avropsblankett!$D$64=$C$7,IF(Avropsblankett!$F$64<1000,((Avropsblankett!$F$64-500)*J73/100),((Avropsblankett!$F$64-1000)*J73/100)),IF(Avropsblankett!$D$64=$C$8,IF(Avropsblankett!$F$64<1000,((Avropsblankett!$F$64-500)*J74/100),((Avropsblankett!$F$64-1000)*J74/100)),IF(Avropsblankett!$D$64=$C$9,IF(Avropsblankett!$F$64<1000,((Avropsblankett!$F$64-500)*J75/100),((Avropsblankett!$F$64-1000)*J75/100)),))),\"\"),\"\")","v":""},null,{"$f":"IF(Avropsblankett!$C$64=$A$71,IF(Avropsblankett!$C$68=$B$73,IF(Avropsblankett!$D$64=$C$7,IF(Avropsblankett!$F$64<1000,L73,M73),IF(Avropsblankett!$D$64=$C$8,IF(Avropsblankett!$F$64<1000,L74,M74),IF(Avropsblankett!$D$64=$C$9,IF(Avropsblankett!$F$64<1000,L75,M75),))),\"\"),\"\")","v":""},null,{"$f":"IF(Avropsblankett!$C$64=$A$71,IF(Avropsblankett!$C$68=$B$73,IF(Avropsblankett!$D$64=$C$7,IF(Avropsblankett!$F$64<1000,((Avropsblankett!$F$64-500)*N73/100),((Avropsblankett!$F$64-1000)*N73/100)),IF(Avropsblankett!$D$64=$C$8,IF(Avropsblankett!$F$64<1000,((Avropsblankett!$F$64-500)*N74/100),((Avropsblankett!$F$64-1000)*N74/100)),IF(Avropsblankett!$D$64=$C$9,IF(Avropsblankett!$F$64<1000,((Avropsblankett!$F$64-500)*N75/100),((Avropsblankett!$F$64-1000)*N75/100)),))),\"\"),\"\")","v":""},null,{"$f":"IF(Avropsblankett!$C$64=$A$71,IF(Avropsblankett!$C$68=$B$73,IF(Avropsblankett!$D$64=$C$7,IF(Avropsblankett!$F$64<1000,P73,Q73),IF(Avropsblankett!$D$64=$C$8,IF(Avropsblankett!$F$64<1000,P74,Q74),IF(Avropsblankett!$D$64=$C$9,IF(Avropsblankett!$F$64<1000,P75,Q75),))),\"\"),\"\")","v":""},null,{"$f":"IF(Avropsblankett!$C$64=$A$71,IF(Avropsblankett!$C$68=$B$73,IF(Avropsblankett!$D$64=$C$7,IF(Avropsblankett!$F$64<1000,((Avropsblankett!$F$64-500)*R73/100),((Avropsblankett!$F$64-1000)*R73/100)),IF(Avropsblankett!$D$64=$C$8,IF(Avropsblankett!$F$64<1000,((Avropsblankett!$F$64-500)*R74/100),((Avropsblankett!$F$64-1000)*R74/100)),IF(Avropsblankett!$D$64=$C$9,IF(Avropsblankett!$F$64<1000,((Avropsblankett!$F$64-500)*R75/100),((Avropsblankett!$F$64-1000)*R75/100)),))),\"\"),\"\")","v":""},null,{"$f":"IF(Avropsblankett!$C$64=$A$71,IF(Avropsblankett!$C$68=$B$73,IF(Avropsblankett!$D$64=$C$7,IF(Avropsblankett!$F$64<1000,T73,U73),IF(Avropsblankett!$D$64=$C$8,IF(Avropsblankett!$F$64<1000,T74,U74),IF(Avropsblankett!$D$64=$C$9,IF(Avropsblankett!$F$64<1000,T75,U75),))),\"\"),\"\")","v":""},null,{"$f":"IF(Avropsblankett!$C$64=$A$71,IF(Avropsblankett!$C$68=$B$73,IF(Avropsblankett!$D$64=$C$7,IF(Avropsblankett!$F$64<1000,((Avropsblankett!$F$64-500)*V73/100),((Avropsblankett!$F$64-1000)*V73/100)),IF(Avropsblankett!$D$64=$C$8,IF(Avropsblankett!$F$64<1000,((Avropsblankett!$F$64-500)*V74/100),((Avropsblankett!$F$64-1000)*V74/100)),IF(Avropsblankett!$D$64=$C$9,IF(Avropsblankett!$F$64<1000,((Avropsblankett!$F$64-500)*V75/100),((Avropsblankett!$F$64-1000)*V75/100)),))),\"\"),\"\")","v":""},null,{"$f":"IF(Avropsblankett!$C$64=$A$71,IF(Avropsblankett!$C$68=$B$73,IF(Avropsblankett!$D$64=$C$7,IF(Avropsblankett!$F$64<1000,X73,Y73),IF(Avropsblankett!$D$64=$C$8,IF(Avropsblankett!$F$64<1000,X74,Y74),IF(Avropsblankett!$D$64=$C$9,IF(Avropsblankett!$F$64<1000,X75,Y75),))),\"\"),\"\")","v":""},null,{"$f":"IF(Avropsblankett!$C$64=$A$71,IF(Avropsblankett!$C$68=$B$73,IF(Avropsblankett!$D$64=$C$7,IF(Avropsblankett!$F$64<1000,((Avropsblankett!$F$64-500)*Z73/100),((Avropsblankett!$F$64-1000)*Z73/100)),IF(Avropsblankett!$D$64=$C$8,IF(Avropsblankett!$F$64<1000,((Avropsblankett!$F$64-500)*Z74/100),((Avropsblankett!$F$64-1000)*Z74/100)),IF(Avropsblankett!$D$64=$C$9,IF(Avropsblankett!$F$64<1000,((Avropsblankett!$F$64-500)*Z75/100),((Avropsblankett!$F$64-1000)*Z75/100)),))),\"\"),\"\")","v":""},null,{"$f":"IF(Avropsblankett!$C$64=$A$71,IF(Avropsblankett!$C$68=$B$73,IF(Avropsblankett!$D$64=$C$7,IF(Avropsblankett!$F$64<1000,AB73,AC73),IF(Avropsblankett!$D$64=$C$8,IF(Avropsblankett!$F$64<1000,AB74,AC74),IF(Avropsblankett!$D$64=$C$9,IF(Avropsblankett!$F$64<1000,AB75,AC75),))),\"\"),\"\")","v":""},null,{"$f":"IF(Avropsblankett!$C$64=$A$71,IF(Avropsblankett!$C$68=$B$73,IF(Avropsblankett!$D$64=$C$7,IF(Avropsblankett!$F$64<1000,((Avropsblankett!$F$64-500)*AD73/100),((Avropsblankett!$F$64-1000)*AD73/100)),IF(Avropsblankett!$D$64=$C$8,IF(Avropsblankett!$F$64<1000,((Avropsblankett!$F$64-500)*AD74/100),((Avropsblankett!$F$64-1000)*AD74/100)),IF(Avropsblankett!$D$64=$C$9,IF(Avropsblankett!$F$64<1000,((Avropsblankett!$F$64-500)*AD75/100),((Avropsblankett!$F$64-1000)*AD75/100)),))),\"\"),\"\")","v":""},null,{"$f":"IF(Avropsblankett!$C$64=$A$71,IF(Avropsblankett!$C$68=$B$73,IF(Avropsblankett!$D$64=$C$7,IF(Avropsblankett!$F$64<1000,AF73,AG73),IF(Avropsblankett!$D$64=$C$8,IF(Avropsblankett!$F$64<1000,AF74,AG74),IF(Avropsblankett!$D$64=$C$9,IF(Avropsblankett!$F$64<1000,AF75,AG75),))),\"\"),\"\")","v":""},null,{"$f":"IF(Avropsblankett!$C$64=$A$71,IF(Avropsblankett!$C$68=$B$73,IF(Avropsblankett!$D$64=$C$7,IF(Avropsblankett!$F$64<1000,((Avropsblankett!$F$64-500)*AH73/100),((Avropsblankett!$F$64-1000)*AH73/100)),IF(Avropsblankett!$D$64=$C$8,IF(Avropsblankett!$F$64<1000,((Avropsblankett!$F$64-500)*AH74/100),((Avropsblankett!$F$64-1000)*AH74/100)),IF(Avropsblankett!$D$64=$C$9,IF(Avropsblankett!$F$64<1000,((Avropsblankett!$F$64-500)*AH75/100),((Avropsblankett!$F$64-1000)*AH75/100)),))),\"\"),\"\")","v":""},null,{"$f":"IF(Avropsblankett!$C$64=$A$71,IF(Avropsblankett!$C$68=$B$73,IF(Avropsblankett!$D$64=$C$7,IF(Avropsblankett!$F$64<1000,AJ73,AK73),IF(Avropsblankett!$D$64=$C$8,IF(Avropsblankett!$F$64<1000,AJ74,AK74),IF(Avropsblankett!$D$64=$C$9,IF(Avropsblankett!$F$64<1000,AJ75,AK75),))),\"\"),\"\")","v":""},null,{"$f":"IF(Avropsblankett!$C$64=$A$71,IF(Avropsblankett!$C$68=$B$73,IF(Avropsblankett!$D$64=$C$7,IF(Avropsblankett!$F$64<1000,((Avropsblankett!$F$64-500)*AL73/100),((Avropsblankett!$F$64-1000)*AL73/100)),IF(Avropsblankett!$D$64=$C$8,IF(Avropsblankett!$F$64<1000,((Avropsblankett!$F$64-500)*AL74/100),((Avropsblankett!$F$64-1000)*AL74/100)),IF(Avropsblankett!$D$64=$C$9,IF(Avropsblankett!$F$64<1000,((Avropsblankett!$F$64-500)*AL75/100),((Avropsblankett!$F$64-1000)*AL75/100)),))),\"\"),\"\")","v":""},null,{"$f":"IF(Avropsblankett!$C$64=$A$71,IF(Avropsblankett!$C$68=$B$73,IF(Avropsblankett!$D$64=$C$7,IF(Avropsblankett!$F$64<1000,AN73,AO73),IF(Avropsblankett!$D$64=$C$8,IF(Avropsblankett!$F$64<1000,AN74,AO74),IF(Avropsblankett!$D$64=$C$9,IF(Avropsblankett!$F$64<1000,AN75,AO75),))),\"\"),\"\")","v":""},null,{"$f":"IF(Avropsblankett!$C$64=$A$71,IF(Avropsblankett!$C$68=$B$73,IF(Avropsblankett!$D$64=$C$7,IF(Avropsblankett!$F$64<1000,((Avropsblankett!$F$64-500)*AP73/100),((Avropsblankett!$F$64-1000)*AP73/100)),IF(Avropsblankett!$D$64=$C$8,IF(Avropsblankett!$F$64<1000,((Avropsblankett!$F$64-500)*AP74/100),((Avropsblankett!$F$64-1000)*AP74/100)),IF(Avropsblankett!$D$64=$C$9,IF(Avropsblankett!$F$64<1000,((Avropsblankett!$F$64-500)*AP75/100),((Avropsblankett!$F$64-1000)*AP75/100)),))),\"\"),\"\")","v":""}]
[null,null,null,{"$f":"IF(Avropsblankett!$C$76=$A$71,IF(Avropsblankett!$C$80=$B$73,IF(Avropsblankett!$D$76=$C$7,IF(Avropsblankett!$F$76<1000,D73,E73),IF(Avropsblankett!$D$76=$C$8,IF(Avropsblankett!$F$76<1000,D74,E74),IF(Avropsblankett!$D$76=$C$9,IF(Avropsblankett!$F$76<1000,D75,E75),))),\"\"),\"\")","v":""},null,{"$f":"IF(Avropsblankett!$C$76=$A$71,IF(Avropsblankett!$C$80=$B$73,IF(Avropsblankett!$D$76=$C$7,IF(Avropsblankett!$F$76<1000,((Avropsblankett!$F$76-500)*F73/100),((Avropsblankett!$F$76-1000)*F73/100)),IF(Avropsblankett!$D$76=$C$8,IF(Avropsblankett!$F$76<1000,((Avropsblankett!$F$76-500)*F74/100),((Avropsblankett!$F$76-1000)*F74/100)),IF(Avropsblankett!$D$76=$C$9,IF(Avropsblankett!$F$76<1000,((Avropsblankett!$F$76-500)*F75/100),((Avropsblankett!$F$76-1000)*F75/100)),))),\"\"),\"\")","v":""},null,{"$f":"IF(Avropsblankett!$C$76=$A$71,IF(Avropsblankett!$C$80=$B$73,IF(Avropsblankett!$D$76=$C$7,IF(Avropsblankett!$F$76<1000,H73,I73),IF(Avropsblankett!$D$76=$C$8,IF(Avropsblankett!$F$76<1000,H74,I74),IF(Avropsblankett!$D$76=$C$9,IF(Avropsblankett!$F$76<1000,H75,I75),))),\"\"),\"\")","v":""},null,{"$f":"IF(Avropsblankett!$C$76=$A$71,IF(Avropsblankett!$C$80=$B$73,IF(Avropsblankett!$D$76=$C$7,IF(Avropsblankett!$F$76<1000,((Avropsblankett!$F$76-500)*J73/100),((Avropsblankett!$F$76-1000)*J73/100)),IF(Avropsblankett!$D$76=$C$8,IF(Avropsblankett!$F$76<1000,((Avropsblankett!$F$76-500)*J74/100),((Avropsblankett!$F$76-1000)*J74/100)),IF(Avropsblankett!$D$76=$C$9,IF(Avropsblankett!$F$76<1000,((Avropsblankett!$F$76-500)*J75/100),((Avropsblankett!$F$76-1000)*J75/100)),))),\"\"),\"\")","v":""},null,{"$f":"IF(Avropsblankett!$C$76=$A$71,IF(Avropsblankett!$C$80=$B$73,IF(Avropsblankett!$D$76=$C$7,IF(Avropsblankett!$F$76<1000,L73,M73),IF(Avropsblankett!$D$76=$C$8,IF(Avropsblankett!$F$76<1000,L74,M74),IF(Avropsblankett!$D$76=$C$9,IF(Avropsblankett!$F$76<1000,L75,M75),))),\"\"),\"\")","v":""},null,{"$f":"IF(Avropsblankett!$C$76=$A$71,IF(Avropsblankett!$C$80=$B$73,IF(Avropsblankett!$D$76=$C$7,IF(Avropsblankett!$F$76<1000,((Avropsblankett!$F$76-500)*N73/100),((Avropsblankett!$F$76-1000)*N73/100)),IF(Avropsblankett!$D$76=$C$8,IF(Avropsblankett!$F$76<1000,((Avropsblankett!$F$76-500)*N74/100),((Avropsblankett!$F$76-1000)*N74/100)),IF(Avropsblankett!$D$76=$C$9,IF(Avropsblankett!$F$76<1000,((Avropsblankett!$F$76-500)*N75/100),((Avropsblankett!$F$76-1000)*N75/100)),))),\"\"),\"\")","v":""},null,{"$f":"IF(Avropsblankett!$C$76=$A$71,IF(Avropsblankett!$C$80=$B$73,IF(Avropsblankett!$D$76=$C$7,IF(Avropsblankett!$F$76<1000,P73,Q73),IF(Avropsblankett!$D$76=$C$8,IF(Avropsblankett!$F$76<1000,P74,Q74),IF(Avropsblankett!$D$76=$C$9,IF(Avropsblankett!$F$76<1000,P75,Q75),))),\"\"),\"\")","v":""},null,{"$f":"IF(Avropsblankett!$C$76=$A$71,IF(Avropsblankett!$C$80=$B$73,IF(Avropsblankett!$D$76=$C$7,IF(Avropsblankett!$F$76<1000,((Avropsblankett!$F$76-500)*R73/100),((Avropsblankett!$F$76-1000)*R73/100)),IF(Avropsblankett!$D$76=$C$8,IF(Avropsblankett!$F$76<1000,((Avropsblankett!$F$76-500)*R74/100),((Avropsblankett!$F$76-1000)*R74/100)),IF(Avropsblankett!$D$76=$C$9,IF(Avropsblankett!$F$76<1000,((Avropsblankett!$F$76-500)*R75/100),((Avropsblankett!$F$76-1000)*R75/100)),))),\"\"),\"\")","v":""},null,{"$f":"IF(Avropsblankett!$C$76=$A$71,IF(Avropsblankett!$C$80=$B$73,IF(Avropsblankett!$D$76=$C$7,IF(Avropsblankett!$F$76<1000,T73,U73),IF(Avropsblankett!$D$76=$C$8,IF(Avropsblankett!$F$76<1000,T74,U74),IF(Avropsblankett!$D$76=$C$9,IF(Avropsblankett!$F$76<1000,T75,U75),))),\"\"),\"\")","v":""},null,{"$f":"IF(Avropsblankett!$C$76=$A$71,IF(Avropsblankett!$C$80=$B$73,IF(Avropsblankett!$D$76=$C$7,IF(Avropsblankett!$F$76<1000,((Avropsblankett!$F$76-500)*V73/100),((Avropsblankett!$F$76-1000)*V73/100)),IF(Avropsblankett!$D$76=$C$8,IF(Avropsblankett!$F$76<1000,((Avropsblankett!$F$76-500)*V74/100),((Avropsblankett!$F$76-1000)*V74/100)),IF(Avropsblankett!$D$76=$C$9,IF(Avropsblankett!$F$76<1000,((Avropsblankett!$F$76-500)*V75/100),((Avropsblankett!$F$76-1000)*V75/100)),))),\"\"),\"\")","v":""},null,{"$f":"IF(Avropsblankett!$C$76=$A$71,IF(Avropsblankett!$C$80=$B$73,IF(Avropsblankett!$D$76=$C$7,IF(Avropsblankett!$F$76<1000,X73,Y73),IF(Avropsblankett!$D$76=$C$8,IF(Avropsblankett!$F$76<1000,X74,Y74),IF(Avropsblankett!$D$76=$C$9,IF(Avropsblankett!$F$76<1000,X75,Y75),))),\"\"),\"\")","v":""},null,{"$f":"IF(Avropsblankett!$C$76=$A$71,IF(Avropsblankett!$C$80=$B$73,IF(Avropsblankett!$D$76=$C$7,IF(Avropsblankett!$F$76<1000,((Avropsblankett!$F$76-500)*Z73/100),((Avropsblankett!$F$76-1000)*Z73/100)),IF(Avropsblankett!$D$76=$C$8,IF(Avropsblankett!$F$76<1000,((Avropsblankett!$F$76-500)*Z74/100),((Avropsblankett!$F$76-1000)*Z74/100)),IF(Avropsblankett!$D$76=$C$9,IF(Avropsblankett!$F$76<1000,((Avropsblankett!$F$76-500)*Z75/100),((Avropsblankett!$F$76-1000)*Z75/100)),))),\"\"),\"\")","v":""},null,{"$f":"IF(Avropsblankett!$C$76=$A$71,IF(Avropsblankett!$C$80=$B$73,IF(Avropsblankett!$D$76=$C$7,IF(Avropsblankett!$F$76<1000,AB73,AC73),IF(Avropsblankett!$D$76=$C$8,IF(Avropsblankett!$F$76<1000,AB74,AC74),IF(Avropsblankett!$D$76=$C$9,IF(Avropsblankett!$F$76<1000,AB75,AC75),))),\"\"),\"\")","v":""},null,{"$f":"IF(Avropsblankett!$C$76=$A$71,IF(Avropsblankett!$C$80=$B$73,IF(Avropsblankett!$D$76=$C$7,IF(Avropsblankett!$F$76<1000,((Avropsblankett!$F$76-500)*AD73/100),((Avropsblankett!$F$76-1000)*AD73/100)),IF(Avropsblankett!$D$76=$C$8,IF(Avropsblankett!$F$76<1000,((Avropsblankett!$F$76-500)*AD74/100),((Avropsblankett!$F$76-1000)*AD74/100)),IF(Avropsblankett!$D$76=$C$9,IF(Avropsblankett!$F$76<1000,((Avropsblankett!$F$76-500)*AD75/100),((Avropsblankett!$F$76-1000)*AD75/100)),))),\"\"),\"\")","v":""},null,{"$f":"IF(Avropsblankett!$C$76=$A$71,IF(Avropsblankett!$C$80=$B$73,IF(Avropsblankett!$D$76=$C$7,IF(Avropsblankett!$F$76<1000,AF73,AG73),IF(Avropsblankett!$D$76=$C$8,IF(Avropsblankett!$F$76<1000,AF74,AG74),IF(Avropsblankett!$D$76=$C$9,IF(Avropsblankett!$F$76<1000,AF75,AG75),))),\"\"),\"\")","v":""},null,{"$f":"IF(Avropsblankett!$C$76=$A$71,IF(Avropsblankett!$C$80=$B$73,IF(Avropsblankett!$D$76=$C$7,IF(Avropsblankett!$F$76<1000,((Avropsblankett!$F$76-500)*AH73/100),((Avropsblankett!$F$76-1000)*AH73/100)),IF(Avropsblankett!$D$76=$C$8,IF(Avropsblankett!$F$76<1000,((Avropsblankett!$F$76-500)*AH74/100),((Avropsblankett!$F$76-1000)*AH74/100)),IF(Avropsblankett!$D$76=$C$9,IF(Avropsblankett!$F$76<1000,((Avropsblankett!$F$76-500)*AH75/100),((Avropsblankett!$F$76-1000)*AH75/100)),))),\"\"),\"\")","v":""},null,{"$f":"IF(Avropsblankett!$C$76=$A$71,IF(Avropsblankett!$C$80=$B$73,IF(Avropsblankett!$D$76=$C$7,IF(Avropsblankett!$F$76<1000,AJ73,AK73),IF(Avropsblankett!$D$76=$C$8,IF(Avropsblankett!$F$76<1000,AJ74,AK74),IF(Avropsblankett!$D$76=$C$9,IF(Avropsblankett!$F$76<1000,AJ75,AK75),))),\"\"),\"\")","v":""},null,{"$f":"IF(Avropsblankett!$C$76=$A$71,IF(Avropsblankett!$C$80=$B$73,IF(Avropsblankett!$D$76=$C$7,IF(Avropsblankett!$F$76<1000,((Avropsblankett!$F$76-500)*AL73/100),((Avropsblankett!$F$76-1000)*AL73/100)),IF(Avropsblankett!$D$76=$C$8,IF(Avropsblankett!$F$76<1000,((Avropsblankett!$F$76-500)*AL74/100),((Avropsblankett!$F$76-1000)*AL74/100)),IF(Avropsblankett!$D$76=$C$9,IF(Avropsblankett!$F$76<1000,((Avropsblankett!$F$76-500)*AL75/100),((Avropsblankett!$F$76-1000)*AL75/100)),))),\"\"),\"\")","v":""},null,{"$f":"IF(Avropsblankett!$C$76=$A$71,IF(Avropsblankett!$C$80=$B$73,IF(Avropsblankett!$D$76=$C$7,IF(Avropsblankett!$F$76<1000,AN73,AO73),IF(Avropsblankett!$D$76=$C$8,IF(Avropsblankett!$F$76<1000,AN74,AO74),IF(Avropsblankett!$D$76=$C$9,IF(Avropsblankett!$F$76<1000,AN75,AO75),))),\"\"),\"\")","v":""},null,{"$f":"IF(Avropsblankett!$C$76=$A$71,IF(Avropsblankett!$C$80=$B$73,IF(Avropsblankett!$D$76=$C$7,IF(Avropsblankett!$F$76<1000,((Avropsblankett!$F$76-500)*AP73/100),((Avropsblankett!$F$76-1000)*AP73/100)),IF(Avropsblankett!$D$76=$C$8,IF(Avropsblankett!$F$76<1000,((Avropsblankett!$F$76-500)*AP74/100),((Avropsblankett!$F$76-1000)*AP74/100)),IF(Avropsblankett!$D$76=$C$9,IF(Avropsblankett!$F$76<1000,((Avropsblankett!$F$76-500)*AP75/100),((Avropsblankett!$F$76-1000)*AP75/100)),))),\"\"),\"\")","v":""}]
[null,null,null,{"$f":"SUM(D76:D80)","v":0},null,{"$f":"SUM(F76:F80)","v":0},null,{"$f":"SUM(H76:H80)","v":0},null,{"$f":"SUM(J76:J80)","v":0},null,{"$f":"SUM(L76:L80)","v":0},null,{"$f":"SUM(N76:N80)","v":0},null,{"$f":"SUM(P76:P80)","v":0},null,{"$f":"SUM(R76:R80)","v":0},null,{"$f":"SUM(T76:T80)","v":0},null,{"$f":"SUM(V76:V80)","v":0},null,{"$f":"SUM(X76:X80)","v":0},null,{"$f":"SUM(Z76:Z80)","v":0},null,{"$f":"SUM(AB76:AB80)","v":0},null,{"$f":"SUM(AD76:AD80)","v":0},null,{"$f":"SUM(AF76:AF80)","v":0},null,{"$f":"SUM(AH76:AH80)","v":0},null,{"$f":"SUM(AJ76:AJ80)","v":0},null,{"$f":"SUM(AL76:AL80)","v":0},null,{"$f":"SUM(AN76:AN80)","v":0},null,{"$f":"SUM(AP76:AP80)","v":0}]
[null,null,"Summa",{"$f":"SUM(D15,D26,D37,D48,D59,D70,D81)","v":0},null,{"$f":"SUM(F15,F26,F37,F48,F59,F70,F81)","v":0},null,{"$f":"SUM(H15,H26,H37,H48,H59,H70,H81)","v":0},null,{"$f":"SUM(J15,J26,J37,J48,J59,J70,J81)","v":0},null,{"$f":"SUM(L15,L26,L37,L48,L59,L70,L81)","v":0},null,{"$f":"SUM(N15,N26,N37,N48,N59,N70,N81)","v":0},null,{"$f":"SUM(P15,P26,P37,P48,P59,P70,P81)","v":0},null,{"$f":"SUM(R15,R26,R37,R48,R59,R70,R81)","v":0},null,{"$f":"SUM(T15,T26,T37,T48,T59,T70,T81)","v":0},null,{"$f":"SUM(V15,V26,V37,V48,V59,V70,V81)","v":0},null,{"$f":"SUM(X15,X26,X37,X48,X59,X70,X81)","v":0},null,{"$f":"SUM(Z15,Z26,Z37,Z48,Z59,Z70,Z81)","v":0},null,{"$f":"SUM(AB15,AB26,AB37,AB48,AB59,AB70,AB81)","v":0},null,{"$f":"SUM(AD15,AD26,AD37,AD48,AD59,AD70,AD81)","v":0},null,{"$f":"SUM(AF15,AF26,AF37,AF48,AF59,AF70,AF81)","v":0},null,{"$f":"SUM(AH15,AH26,AH37,AH48,AH59,AH70,AH81)","v":0},null,{"$f":"SUM(AJ15,AJ26,AJ37,AJ48,AJ59,AJ70,AJ81)","v":0},null,{"$f":"SUM(AL15,AL26,AL37,AL48,AL59,AL70,AL81)","v":0},null,{"$f":"SUM(AN15,AN26,AN37,AN48,AN59,AN70,AN81)","v":0},null,{"$f":"SUM(AP15,AP26,AP37,AP48,AP59,AP70,AP81)","v":0}]
[null,null,"Totalsumma",{"$f":"SUM(D82:F82)","v":0},null,null,null,{"$f":"SUM(H82:J82)","v":0},null,null,null,{"$f":"SUM(L82:N82)","v":0},null,null,null,{"$f":"SUM(P82:R82)","v":0},null,null,null,{"$f":"SUM(T82:V82)","v":0},null,null,null,{"$f":"SUM(X82:Z82)","v":0},null,null,null,{"$f":"SUM(AB82:AD82)","v":0},null,null,null,{"$f":"SUM(AF82:AH82)","v":0},null,null,null,{"$f":"SUM(AJ82:AL82)","v":0},null,null,null,{"$f":"SUM(AN82:AP82)","v":0}]
[]
[]
[]
[]
[]
[null,{"$f":"B6","v":"Kuvert vitt utan fönster, självhäftande klaff med täckremsa. Klaffen ska vara tryckbar. 90g"}]
[null,{"$f":"B17","v":"Kuvert vitt utan fönster, självhäftande klaff med täckremsa. Klaffen ska vara tryckbar. 100g"}]
[null,{"$f":"#REF!","v":{"$error":"#REF!"}}]
[null,{"$f":"B28","v":"Kuvert vitt fönster stående, självhäftande klaff med täckremsa. Klaffen ska vara tryckbar. 100g"}]
[]
[]
[null,{"$f":"B7","v":"C4"}]
[null,{"$f":"B40","v":"C5"}]

{"sheet":"Pappersmapp","index":8,"n_rows":34,"n_cols":42,"rows_kept":34,"cut":false,"hidden":false,"merged":[[0,0,0,2],[0,3,0,5],[7,3,7,5],[6,1,6,2],[2,1,2,2],[3,1,3,2],[4,1,4,2],[5,1,5,2],[7,0,7,2],[29,3,29,5],[9,0,10,0],[9,1,10,1],[8,2,9,2],[8,3,8,4],[18,2,19,2],[18,3,18,4],[19,0,20,0],[19,1,20,1],[29,7,29,9],[8,19,8,20],[18,15,18,16],[18,19,18,20],[18,23,18,24],[29,23,29,25],[29,15,29,17],[29,19,29,21],[8,23,8,24],[8,15,8,16],[8,11,8,12],[18,11,18,12],[29,11,29,13],[8,7,8,8],[18,7,18,8],[18,31,18,32],[18,35,18,36],[29,27,29,29],[29,39,29,41],[18,39,18,40],[18,27,18,28],[29,31,29,33],[29,35,29,37],[0,27,0,29],[0,31,0,33],[0,35,0,37],[0,39,0,41],[8,39,8,40],[8,27,8,28],[7,27,7,29],[7,31,7,33],[7,35,7,37],[7,39,7,41],[8,31,8,32],[8,35,8,36],[7,11,7,13],[7,15,7,17],[7,19,7,21],[7,23,7,25],[0,7,0,9],[0,11,0,13],[0,15,0,17],[0,19,0,21],[0,23,0,25],[7,7,7,9]]}
["Pappersmappar treklaff utan snodd",null,null,{"$f":"Uträkningsblad!C4","v":"Bröderna Hansson H-tryck Aktiebolag"},null,null,null,{"$f":"Uträkningsblad!D4","v":"Elanders Sverige AB"},null,null,null,{"$f":"Uträkningsblad!E4","v":"Exakta Print AB"},null,null,null,{"$f":"Uträkningsblad!F4","v":"Kalmar Kuvert Sweden AB"},null,null,null,{"$f":"Uträkningsblad!G4","v":"Ljungbergs Tryckeri i Klippan AB"},null,null,null,{"$f":"Uträkningsblad!H4","v":"Scandinavian Print Group Sweden AB"},null,null,null,{"$f":"Uträkningsblad!I4","v":"Stema Specialtryck AB"},null,null,null,{"$f":"Uträkningsblad!J4","v":"Stibo Complete A/S"},null,null,null,{"$f":"Uträkningsblad!K4","v":"Åtta.45 Tryckeri AB"},null,null,null,{"$f":"Uträkningsblad!L4","v":"Leverantör 10"}]
[]
["För A4-dokument"]
["Binderi","Stansas och bigas enligt tryckeriets stansmall. "]
["Stansmallar:","Ska kunna tillhandahållas av tryckeriet för egen tillverkning i Indesign för framställning av pdfx-fil"]
["Underlag:","A: Öppna filer. B: PDF/PDFx."]
[null,"Klaffarna ska vara tillräckligt breda för att pappersmapparnas funktion ska vara förenlig med vad som är fackmannamässigt i branschen och för att rymma minst 100 stycken A4-ark (80g/m2) på ett funktionsenligt sätt. Två av klaffarna sitter på mappens baksida"]
[null,null,null,"Priser lämnas i gulmarkerade fält nedan",null,null,null,"Priser lämnas i gulmarkerade fält nedan",null,null,null,"Priser lämnas i gulmarkerade fält nedan",null,null,null,"Priser lämnas i gulmarkerade fält nedan",null,null,null,"Priser lämnas i gulmarkerade fält nedan",null,null,null,"Priser lämnas i gulmarkerade fält nedan",null,null,null,"Priser lämnas i gulmarkerade fält nedan",null,null,null,"Priser lämnas i gulmarkerade fält nedan",null,null,null,"Priser lämnas i gulmarkerade fält nedan",null,null,null,"Priser lämnas i gulmarkerade fält nedan"]
["Pappersmappar_Variant_1",null,"Variant 1","Upplaga",null,"Följandepris",null,"Upplaga",null,"Följandepris",null,"Upplaga",null,"Följandepris",null,"Upplaga",null,"Följandepris",null,"Upplaga",null,"Följandepris",null,"Upplaga",null,"Följandepris",null,"Upplaga",null,"Följandepris",null,"Upplaga",null,"Följandepris",null,"Upplaga",null,"Följandepris",null,"Upplaga",null,"Följandepris"]
["Papper","Oliksidig kartong, , där mappens insida är otryckt obestruken och med blanka sidan utåt (trycksidan). Ytvikt mellan 240-250 g",null,100,200,50,null,100,200,50,null,100,200,50,null,100,200,50,null,100,200,50,null,100,200,50,null,100,200,50,null,100,200,50,null,100,200,50,null,100,200,50]
[null,null,"Tryck 4+0",1800,3200,600,null,5500,5995.0000000000009,247.50000000000003,null,3500,3800,215,null,2300,2600,135,null,772,1537,125,null,1923,2390,232,null,2500,2800,140,null,2555,2715,240,null,2500,3600,600,null,1787,2254,234]
["Format:","För A4 dokument","Tryck 4+1 där budskap placeras på mappens insida",2100,3700,700,null,6490.0000000000009,7040.0000000000009,275,null,3600,4100,270,null,2650,2950,135,null,833,1659,125,null,2095,2717,312,null,2800,3100,150,null,2732,2890,250,null,3200,4200,700,null,2013,2576,282]
[null,null,null,{"$f":"IF(Avropsblankett!$C$28=$A$9,IF(Avropsblankett!$D$28=$C$11,IF(Avropsblankett!$F$28<200,D11,E11),IF(Avropsblankett!$F$28<200,D12,E12)),\"\")","v":""},null,{"$f":"IF(Avropsblankett!$C$28=$A$9,IF(Avropsblankett!$D$28=$C$11,IF(Avropsblankett!$F$28<200,((Avropsblankett!$F$28-100)*F11/50),((Avropsblankett!$F$28-200)*F11/50)),IF(Avropsblankett!$F$28<200,((Avropsblankett!$F$28-100)*F12/50),((Avropsblankett!$F$28-200)*F12/50))),\"\")","v":""},null,{"$f":"IF(Avropsblankett!$C$28=$A$9,IF(Avropsblankett!$D$28=$C$11,IF(Avropsblankett!$F$28<200,H11,I11),IF(Avropsblankett!$F$28<200,H12,I12)),\"\")","v":""},null,{"$f":"IF(Avropsblankett!$C$28=$A$9,IF(Avropsblankett!$D$28=$C$11,IF(Avropsblankett!$F$28<200,((Avropsblankett!$F$28-100)*J11/50),((Avropsblankett!$F$28-200)*J11/50)),IF(Avropsblankett!$F$28<200,((Avropsblankett!$F$28-100)*J12/50),((Avropsblankett!$F$28-200)*J12/50))),\"\")","v":""},null,{"$f":"IF(Avropsblankett!$C$28=$A$9,IF(Avropsblankett!$D$28=$C$11,IF(Avropsblankett!$F$28<200,L11,M11),IF(Avropsblankett!$F$28<200,L12,M12)),\"\")","v":""},null,{"$f":"IF(Avropsblankett!$C$28=$A$9,IF(Avropsblankett!$D$28=$C$11,IF(Avropsblankett!$F$28<200,((Avropsblankett!$F$28-100)*N11/50),((Avropsblankett!$F$28-200)*N11/50)),IF(Avropsblankett!$F$28<200,((Avropsblankett!$F$28-100)*N12/50),((Avropsblankett!$F$28-200)*N12/50))),\"\")","v":""},null,{"$f":"IF(Avropsblankett!$C$28=$A$9,IF(Avropsblankett!$D$28=$C$11,IF(Avropsblankett!$F$28<200,P11,Q11),IF(Avropsblankett!$F$28<200,P12,Q12)),\"\")","v":""},null,{"$f":"IF(Avropsblankett!$C$28=$A$9,IF(Avropsblankett!$D$28=$C$11,IF(Avropsblankett!$F$28<200,((Avropsblankett!$F$28-100)*R11/50),((Avropsblankett!$F$28-200)*R11/50)),IF(Avropsblankett!$F$28<200,((Avropsblankett!$F$28-100)*R12/50),((Avropsblankett!$F$28-200)*R12/50))),\"\")","v":""},null,{"$f":"IF(Avropsblankett!$C$28=$A$9,IF(Avropsblankett!$D$28=$C$11,IF(Avropsblankett!$F$28<200,T11,U11),IF(Avropsblankett!$F$28<200,T12,U12)),\"\")","v":""},null,{"$f":"IF(Avropsblankett!$C$28=$A$9,IF(Avropsblankett!$D$28=$C$11,IF(Avropsblankett!$F$28<200,((Avropsblankett!$F$28-100)*V11/50),((Avropsblankett!$F$28-200)*V11/50)),IF(Avropsblankett!$F$28<200,((Avropsblankett!$F$28-100)*V12/50),((Avropsblankett!$F$28-200)*V12/50))),\"\")","v":""},null,{"$f":"IF(Avropsblankett!$C$28=$A$9,IF(Avropsblankett!$D$28=$C$11,IF(Avropsblankett!$F$28<200,X11,Y11),IF(Avropsblankett!$F$28<200,X12,Y12)),\"\")","v":""},null,{"$f":"IF(Avropsblankett!$C$28=$A$9,IF(Avropsblankett!$D$28=$C$11,IF(Avropsblankett!$F$28<200,((Avropsblankett!$F$28-100)*Z11/50),((Avropsblankett!$F$28-200)*Z11/50)),IF(Avropsblankett!$F$28<200,((Avropsblankett!$F$28-100)*Z12/50),((Avropsblankett!$F$28-200)*Z12/50))),\"\")","v":""},null,{"$f":"IF(Avropsblankett!$C$28=$A$9,IF(Avropsblankett!$D$28=$C$11,IF(Avropsblankett!$F$28<200,AB11,AC11),IF(Avropsblankett!$F$28<200,AB12,AC12)),\"\")","v":""},null,{"$f":"IF(Avropsblankett!$C$28=$A$9,IF(Avropsblankett!$D$28=$C$11,IF(Avropsblankett!$F$28<200,((Avropsblankett!$F$28-100)*AD11/50),((Avropsblankett!$F$28-200)*AD11/50)),IF(Avropsblankett!$F$28<200,((Avropsblankett!$F$28-100)*AD12/50),((Avropsblankett!$F$28-200)*AD12/50))),\"\")","v":""},null,{"$f":"IF(Avropsblankett!$C$28=$A$9,IF(Avropsblankett!$D$28=$C$11,IF(Avropsblankett!$F$28<200,AF11,AG11),IF(Avropsblankett!$F$28<200,AF12,AG12)),\"\")","v":""},null,{"$f":"IF(Avropsblankett!$C$28=$A$9,IF(Avropsblankett!$D$28=$C$11,IF(Avropsblankett!$F$28<200,((Avropsblankett!$F$28-100)*AH11/50),((Avropsblankett!$F$28-200)*AH11/50)),IF(Avropsblankett!$F$28<200,((Avropsblankett!$F$28-100)*AH12/50),((Avropsblankett!$F$28-200)*AH12/50))),\"\")","v":""},null,{"$f":"IF(Avropsblankett!$C$28=$A$9,IF(Avropsblankett!$D$28=$C$11,IF(Avropsblankett!$F$28<200,AJ11,AK11),IF(Avropsblankett!$F$28<200,AJ12,AK12)),\"\")","v":""},null,{"$f":"IF(Avropsblankett!$C$28=$A$9,IF(Avropsblankett!$D$28=$C$11,IF(Avropsblankett!$F$28<200,((Avropsblankett!$F$28-100)*AL11/50),((Avropsblankett!$F$28-200)*AL11/50)),IF(Avropsblankett!$F$28<200,((Avropsblankett!$F$28-100)*AL12/50),((Avropsblankett!$F$28-200)*AL12/50))),\"\")","v":""},null,{"$f":"IF(Avropsblankett!$C$28=$A$9,IF(Avropsblankett!$D$28=$C$11,IF(Avropsblankett!$F$28<200,AN11,AO11),IF(Avropsblankett!$F$28<200,AN12,AO12)),\"\")","v":""},null,{"$f":"IF(Avropsblankett!$C$28=$A$9,IF(Avropsblankett!$D$28=$C$11,IF(Avropsblankett!$F$28<200,((Avropsblankett!$F$28-100)*AP11/50),((Avropsblankett!$F$28-200)*AP11/50)),IF(Avropsblankett!$F$28<200,((Avropsblankett!$F$28-100)*AP12/50),((Avropsblankett!$F$28-200)*AP12/50))),\"\")","v":""}]
[null,null,null,{"$f":"IF(Avropsblankett!$C$40=$A$9,IF(Avropsblankett!$D$40=$C$11,IF(Avropsblankett!$F$40<200,D11,E11),IF(Avropsblankett!$F$40<200,D12,E12)),\"\")","v":""},null,{"$f":"IF(Avropsblankett!$C$40=$A$9,IF(Avropsblankett!$D$40=$C$11,IF(Avropsblankett!$F$40<200,((Avropsblankett!$F$40-100)*F11/50),((Avropsblankett!$F$40-200)*F11/50)),IF(Avropsblankett!$F$40<200,((Avropsblankett!$F$40-100)*F12/50),((Avropsblankett!$F$40-200)*F12/50))),\"\")","v":""},null,{"$f":"IF(Avropsblankett!$C$40=$A$9,IF(Avropsblankett!$D$40=$C$11,IF(Avropsblankett!$F$40<200,H11,I11),IF(Avropsblankett!$F$40<200,H12,I12)),\"\")","v":""},null,{"$f":"IF(Avropsblankett!$C$40=$A$9,IF(Avropsblankett!$D$40=$C$11,IF(Avropsblankett!$F$40<200,((Avropsblankett!$F$40-100)*J11/50),((Avropsblankett!$F$40-200)*J11/50)),IF(Avropsblankett!$F$40<200,((Avropsblankett!$F$40-100)*J12/50),((Avropsblankett!$F$40-200)*J12/50))),\"\")","v":""},null,{"$f":"IF(Avropsblankett!$C$40=$A$9,IF(Avropsblankett!$D$40=$C$11,IF(Avropsblankett!$F$40<200,L11,M11),IF(Avropsblankett!$F$40<200,L12,M12)),\"\")","v":""},null,{"$f":"IF(Avropsblankett!$C$40=$A$9,IF(Avropsblankett!$D$40=$C$11,IF(Avropsblankett!$F$40<200,((Avropsblankett!$F$40-100)*N11/50),((Avropsblankett!$F$40-200)*N11/50)),IF(Avropsblankett!$F$40<200,((Avropsblankett!$F$40-100)*N12/50),((Avropsblankett!$F$40-200)*N12/50))),\"\")","v":""},null,{"$f":"IF(Avropsblankett!$C$40=$A$9,IF(Avropsblankett!$D$40=$C$11,IF(Avropsblankett!$F$40<200,P11,Q11),IF(Avropsblankett!$F$40<200,P12,Q12)),\"\")","v":""},null,{"$f":"IF(Avropsblankett!$C$40=$A$9,IF(Avropsblankett!$D$40=$C$11,IF(Avropsblankett!$F$40<200,((Avropsblankett!$F$40-100)*R11/50),((Avropsblankett!$F$40-200)*R11/50)),IF(Avropsblankett!$F$40<200,((Avropsblankett!$F$40-100)*R12/50),((Avropsblankett!$F$40-200)*R12/50))),\"\")","v":""},null,{"$f":"IF(Avropsblankett!$C$40=$A$9,IF(Avropsblankett!$D$40=$C$11,IF(Avropsblankett!$F$40<200,T11,U11),IF(Avropsblankett!$F$40<200,T12,U12)),\"\")","v":""},null,{"$f":"IF(Avropsblankett!$C$40=$A$9,IF(Avropsblankett!$D$40=$C$11,IF(Avropsblankett!$F$40<200,((Avropsblankett!$F$40-100)*V11/50),((Avropsblankett!$F$40-200)*V11/50)),IF(Avropsblankett!$F$40<200,((Avropsblankett!$F$40-100)*V12/50),((Avropsblankett!$F$40-200)*V12/50))),\"\")","v":""},null,{"$f":"IF(Avropsblankett!$C$40=$A$9,IF(Avropsblankett!$D$40=$C$11,IF(Avropsblankett!$F$40<200,X11,Y11),IF(Avropsblankett!$F$40<200,X12,Y12)),\"\")","v":""},null,{"$f":"IF(Avropsblankett!$C$40=$A$9,IF(Avropsblankett!$D$40=$C$11,IF(Avropsblankett!$F$40<200,((Avropsblankett!$F$40-100)*Z11/50),((Avropsblankett!$F$40-200)*Z11/50)),IF(Avropsblankett!$F$40<200,((Avropsblankett!$F$40-100)*Z12/50),((Avropsblankett!$F$40-200)*Z12/50))),\"\")","v":""},null,{"$f":"IF(Avropsblankett!$C$40=$A$9,IF(Avropsblankett!$D$40=$C$11,IF(Avropsblankett!$F$40<200,AB11,AC11),IF(Avropsblankett!$F$40<200,AB12,AC12)),\"\")","v":""},null,{"$f":"IF(Avropsblankett!$C$40=$A$9,IF(Avropsblankett!$D$40=$C$11,IF(Avropsblankett!$F$40<200,((Avropsblankett!$F$40-100)*AD11/50),((Avropsblankett!$F$40-200)*AD11/50)),IF(Avropsblankett!$F$40<200,((Avropsblankett!$F$40-100)*AD12/50),((Avropsblankett!$F$40-200)*AD12/50))),\"\")","v":""},null,{"$f":"IF(Avropsblankett!$C$40=$A$9,IF(Avropsblankett!$D$40=$C$11,IF(Avropsblankett!$F$40<200,AF11,AG11),IF(Avropsblankett!$F$40<200,AF12,AG12)),\"\")","v":""},null,{"$f":"IF(Avropsblankett!$C$40=$A$9,IF(Avropsblankett!$D$40=$C$11,IF(Avropsblankett!$F$40<200,((Avropsblankett!$F$40-100)*AH11/50),((Avropsblankett!$F$40-200)*AH11/50)),IF(Avropsblankett!$F$40<200,((Avropsblankett!$F$40-100)*AH12/50),((Avropsblankett!$F$40-200)*AH12/50))),\"\")","v":""},null,{"$f":"IF(Avropsblankett!$C$40=$A$9,IF(Avropsblankett!$D$40=$C$11,IF(Avropsblankett!$F$40<200,AJ11,AK11),IF(Avropsblankett!$F$40<200,AJ12,AK12)),\"\")","v":""},null,{"$f":"IF(Avropsblankett!$C$40=$A$9,IF(Avropsblankett!$D$40=$C$11,IF(Avropsblankett!$F$40<200,((Avropsblankett!$F$40-100)*AL11/50),((Avropsblankett!$F$40-200)*AL11/50)),IF(Avropsblankett!$F$40<200,((Avropsblankett!$F$40-100)*AL12/50),((Avropsblankett!$F$40-200)*AL12/50))),\"\")","v":""},null,{"$f":"IF(Avropsblankett!$C$40=$A$9,IF(Avropsblankett!$D$40=$C$11,IF(Avropsblankett!$F$40<200,AN11,AO11),IF(Avropsblankett!$F$40<200,AN12,AO12)),\"\")","v":""},null,{"$f":"IF(Avropsblankett!$C$40=$A$9,IF(Avropsblankett!$D$40=$C$11,IF(Avropsblankett!$F$40<200,((Avropsblankett!$F$40-100)*AP11/50),((Avropsblankett!$F$40-200)*AP11/50)),IF(Avropsblankett!$F$40<200,((Avropsblankett!$F$40-100)*AP12/50),((Avropsblankett!$F$40-200)*AP12/50))),\"\")","v":""}]
[null,null,null,{"$f":"IF(Avropsblankett!$C$52=$A$9,IF(Avropsblankett!$D$52=$C$11,IF(Avropsblankett!$F$52<200,D11,E11),IF(Avropsblankett!$F$52<200,D12,E12)),\"\")","v":""},null,{"$f":"IF(Avropsblankett!$C$52=$A$9,IF(Avropsblankett!$D$52=$C$11,IF(Avropsblankett!$F$52<200,((Avropsblankett!$F$52-100)*F11/50),((Avropsblankett!$F$52-200)*F11/50)),IF(Avropsblankett!$F$52<200,((Avropsblankett!$F$52-100)*F12/50),((Avropsblankett!$F$52-200)*F12/50))),\"\")","v":""},null,{"$f":"IF(Avropsblankett!$C$52=$A$9,IF(Avropsblankett!$D$52=$C$11,IF(Avropsblankett!$F$52<200,H11,I11),IF(Avropsblankett!$F$52<200,H12,I12)),\"\")","v":""},null,{"$f":"IF(Avropsblankett!$C$52=$A$9,IF(Avropsblankett!$D$52=$C$11,IF(Avropsblankett!$F$52<200,((Avropsblankett!$F$52-100)*J11/50),((Avropsblankett!$F$52-200)*J11/50)),IF(Avropsblankett!$F$52<200,((Avropsblankett!$F$52-100)*J12/50),((Avropsblankett!$F$52-200)*J12/50))),\"\")","v":""},null,{"$f":"IF(Avropsblankett!$C$52=$A$9,IF(Avropsblankett!$D$52=$C$11,IF(Avropsblankett!$F$52<200,L11,M11),IF(Avropsblankett!$F$52<200,L12,M12)),\"\")","v":""},null,{"$f":"IF(Avropsblankett!$C$52=$A$9,IF(Avropsblankett!$D$52=$C$11,IF(Avropsblankett!$F$52<200,((Avropsblankett!$F$52-100)*N11/50),((Avropsblankett!$F$52-200)*N11/50)),IF(Avropsblankett!$F$52<200,((Avropsblankett!$F$52-100)*N12/50),((Avropsblankett!$F$52-200)*N12/50))),\"\")","v":""},null,{"$f":"IF(Avropsblankett!$C$52=$A$9,IF(Avropsblankett!$D$52=$C$11,IF(Avropsblankett!$F$52<200,P11,Q11),IF(Avropsblankett!$F$52<200,P12,Q12)),\"\")","v":""},null,{"$f":"IF(Avropsblankett!$C$52=$A$9,IF(Avropsblankett!$D$52=$C$11,IF(Avropsblankett!$F$52<200,((Avropsblankett!$F$52-100)*R11/50),((Avropsblankett!$F$52-200)*R11/50)),IF(Avropsblankett!$F$52<200,((Avropsblankett!$F$52-100)*R12/50),((Avropsblankett!$F$52-200)*R12/50))),\"\")","v":""},null,{"$f":"IF(Avropsblankett!$C$52=$A$9,IF(Avropsblankett!$D$52=$C$11,IF(Avropsblankett!$F$52<200,T11,U11),IF(Avropsblankett!$F$52<200,T12,U12)),\"\")","v":""},null,{"$f":"IF(Avropsblankett!$C$52=$A$9,IF(Avropsblankett!$D$52=$C$11,IF(Avropsblankett!$F$52<200,((Avropsblankett!$F$52-100)*V11/50),((Avropsblankett!$F$52-200)*V11/50)),IF(Avropsblankett!$F$52<200,((Avropsblankett!$F$52-100)*V12/50),((Avropsblankett!$F$52-200)*V12/50))),\"\")","v":""},null,{"$f":"IF(Avropsblankett!$C$52=$A$9,IF(Avropsblankett!$D$52=$C$11,IF(Avropsblankett!$F$52<200,X11,Y11),IF(Avropsblankett!$F$52<200,X12,Y12)),\"\")","v":""},null,{"$f":"IF(Avropsblankett!$C$52=$A$9,IF(Avropsblankett!$D$52=$C$11,IF(Avropsblankett!$F$52<200,((Avropsblankett!$F$52-100)*Z11/50),((Avropsblankett!$F$52-200)*Z11/50)),IF(Avropsblankett!$F$52<200,((Avropsblankett!$F$52-100)*Z12/50),((Avropsblankett!$F$52-200)*Z12/50))),\"\")","v":""},null,{"$f":"IF(Avropsblankett!$C$52=$A$9,IF(Avropsblankett!$D$52=$C$11,IF(Avropsblankett!$F$52<200,AB11,AC11),IF(Avropsblankett!$F$52<200,AB12,AC12)),\"\")","v":""},null,{"$f":"IF(Avropsblankett!$C$52=$A$9,IF(Avropsblankett!$D$52=$C$11,IF(Avropsblankett!$F$52<200,((Avropsblankett!$F$52-100)*AD11/50),((Avropsblankett!$F$52-200)*AD11/50)),IF(Avropsblankett!$F$52<200,((Avropsblankett!$F$52-100)*AD12/50),((Avropsblankett!$F$52-200)*AD12/50))),\"\")","v":""},null,{"$f":"IF(Avropsblankett!$C$52=$A$9,IF(Avropsblankett!$D$52=$C$11,IF(Avropsblankett!$F$52<200,AF11,AG11),IF(Avropsblankett!$F$52<200,AF12,AG12)),\"\")","v":""},null,{"$f":"IF(Avropsblankett!$C$52=$A$9,IF(Avropsblankett!$D$52=$C$11,IF(Avropsblankett!$F$52<200,((Avropsblankett!$F$52-100)*AH11/50),((Avropsblankett!$F$52-200)*AH11/50)),IF(Avropsblankett!$F$52<200,((Avropsblankett!$F$52-100)*AH12/50),((Avropsblankett!$F$52-200)*AH12/50))),\"\")","v":""},null,{"$f":"IF(Avropsblankett!$C$52=$A$9,IF(Avropsblankett!$D$52=$C$11,IF(Avropsblankett!$F$52<200,AJ11,AK11),IF(Avropsblankett!$F$52<200,AJ12,AK12)),\"\")","v":""},null,{"$f":"IF(Avropsblankett!$C$52=$A$9,IF(Avropsblankett!$D$52=$C$11,IF(Avropsblankett!$F$52<200,((Avropsblankett!$F$52-100)*AL11/50),((Avropsblankett!$F$52-200)*AL11/50)),IF(Avropsblankett!$F$52<200,((Avropsblankett!$F$52-100)*AL12/50),((Avropsblankett!$F$52-200)*AL12/50))),\"\")","v":""},null,{"$f":"IF(Avropsblankett!$C$52=$A$9,IF(Avropsblankett!$D$52=$C$11,IF(Avropsblankett!$F$52<200,AN11,AO11),IF(Avropsblankett!$F$52<200,AN12,AO12)),\"\")","v":""},null,{"$f":"IF(Avropsblankett!$C$52=$A$9,IF(Avropsblankett!$D$52=$C$11,IF(Avropsblankett!$F$52<200,((Avropsblankett!$F$52-100)*AP11/50),((Avropsblankett!$F$52-200)*AP11/50)),IF(Avropsblankett!$F$52<200,((Avropsblankett!$F$52-100)*AP12/50),((Avropsblankett!$F$52-200)*AP12/50))),\"\")","v":""}]
[null,null,null,{"$f":"IF(Avropsblankett!$C$64=$A$9,IF(Avropsblankett!$D$64=$C$11,IF(Avropsblankett!$F$64<200,D11,E11),IF(Avropsblankett!$F$64<200,D12,E12)),\"\")","v":""},null,{"$f":"IF(Avropsblankett!$C$64=$A$9,IF(Avropsblankett!$D$64=$C$11,IF(Avropsblankett!$F$64<200,((Avropsblankett!$F$64-100)*F11/50),((Avropsblankett!$F$64-200)*F11/50)),IF(Avropsblankett!$F$64<200,((Avropsblankett!$F$64-100)*F12/50),((Avropsblankett!$F$64-200)*F12/50))),\"\")","v":""},null,{"$f":"IF(Avropsblankett!$C$64=$A$9,IF(Avropsblankett!$D$64=$C$11,IF(Avropsblankett!$F$64<200,H11,I11),IF(Avropsblankett!$F$64<200,H12,I12)),\"\")","v":""},null,{"$f":"IF(Avropsblankett!$C$64=$A$9,IF(Avropsblankett!$D$64=$C$11,IF(Avropsblankett!$F$64<200,((Avropsblankett!$F$64-100)*J11/50),((Avropsblankett!$F$64-200)*J11/50)),IF(Avropsblankett!$F$64<200,((Avropsblankett!$F$64-100)*J12/50),((Avropsblankett!$F$64-200)*J12/50))),\"\")","v":""},null,{"$f":"IF(Avropsblankett!$C$64=$A$9,IF(Avropsblankett!$D$64=$C$11,IF(Avropsblankett!$F$64<200,L11,M11),IF(Avropsblankett!$F$64<200,L12,M12)),\"\")","v":""},null,{"$f":"IF(Avropsblankett!$C$64=$A$9,IF(Avropsblankett!$D$64=$C$11,IF(Avropsblankett!$F$64<200,((Avropsblankett!$F$64-100)*N11/50),((Avropsblankett!$F$64-200)*N11/50)),IF(Avropsblankett!$F$64<200,((Avropsblankett!$F$64-100)*N12/50),((Avropsblankett!$F$64-200)*N12/50))),\"\")","v":""},null,{"$f":"IF(Avropsblankett!$C$64=$A$9,IF(Avropsblankett!$D$64=$C$11,IF(Avropsblankett!$F$64<200,P11,Q11),IF(Avropsblankett!$F$64<200,P12,Q12)),\"\")","v":""},null,{"$f":"IF(Avropsblankett!$C$64=$A$9,IF(Avropsblankett!$D$64=$C$11,IF(Avropsblankett!$F$64<200,((Avropsblankett!$F$64-100)*R11/50),((Avropsblankett!$F$64-200)*R11/50)),IF(Avropsblankett!$F$64<200,((Avropsblankett!$F$64-100)*R12/50),((Avropsblankett!$F$64-200)*R12/50))),\"\")","v":""},null,{"$f":"IF(Avropsblankett!$C$64=$A$9,IF(Avropsblankett!$D$64=$C$11,IF(Avropsblankett!$F$64<200,T11,U11),IF(Avropsblankett!$F$64<200,T12,U12)),\"\")","v":""},null,{"$f":"IF(Avropsblankett!$C$64=$A$9,IF(Avropsblankett!$D$64=$C$11,IF(Avropsblankett!$F$64<200,((Avropsblankett!$F$64-100)*V11/50),((Avropsblankett!$F$64-200)*V11/50)),IF(Avropsblankett!$F$64<200,((Avropsblankett!$F$64-100)*V12/50),((Avropsblankett!$F$64-200)*V12/50))),\"\")","v":""},null,{"$f":"IF(Avropsblankett!$C$64=$A$9,IF(Avropsblankett!$D$64=$C$11,IF(Avropsblankett!$F$64<200,X11,Y11),IF(Avropsblankett!$F$64<200,X12,Y12)),\"\")","v":""},null,{"$f":"IF(Avropsblankett!$C$64=$A$9,IF(Avropsblankett!$D$64=$C$11,IF(Avropsblankett!$F$64<200,((Avropsblankett!$F$64-100)*Z11/50),((Avropsblankett!$F$64-200)*Z11/50)),IF(Avropsblankett!$F$64<200,((Avropsblankett!$F$64-100)*Z12/50),((Avropsblankett!$F$64-200)*Z12/50))),\"\")","v":""},null,{"$f":"IF(Avropsblankett!$C$64=$A$9,IF(Avropsblankett!$D$64=$C$11,IF(Avropsblankett!$F$64<200,AB11,AC11),IF(Avropsblankett!$F$64<200,AB12,AC12)),\"\")","v":""},null,{"$f":"IF(Avropsblankett!$C$64=$A$9,IF(Avropsblankett!$D$64=$C$11,IF(Avropsblankett!$F$64<200,((Avropsblankett!$F$64-100)*AD11/50),((Avropsblankett!$F$64-200)*AD11/50)),IF(Avropsblankett!$F$64<200,((Avropsblankett!$F$64-100)*AD12/50),((Avropsblankett!$F$64-200)*AD12/50))),\"\")","v":""},null,{"$f":"IF(Avropsblankett!$C$64=$A$9,IF(Avropsblankett!$D$64=$C$11,IF(Avropsblankett!$F$64<200,AF11,AG11),IF(Avropsblankett!$F$64<200,AF12,AG12)),\"\")","v":""},null,{"$f":"IF(Avropsblankett!$C$64=$A$9,IF(Avropsblankett!$D$64=$C$11,IF(Avropsblankett!$F$64<200,((Avropsblankett!$F$64-100)*AH11/50),((Avropsblankett!$F$64-200)*AH11/50)),IF(Avropsblankett!$F$64<200,((Avropsblankett!$F$64-100)*AH12/50),((Avropsblankett!$F$64-200)*AH12/50))),\"\")","v":""},null,{"$f":"IF(Avropsblankett!$C$64=$A$9,IF(Avropsblankett!$D$64=$C$11,IF(Avropsblankett!$F$64<200,AJ11,AK11),IF(Avropsblankett!$F$64<200,AJ12,AK12)),\"\")","v":""},null,{"$f":"IF(Avropsblankett!$C$64=$A$9,IF(Avropsblankett!$D$64=$C$11,IF(Avropsblankett!$F$64<200,((Avropsblankett!$F$64-100)*AL11/50),((Avropsblankett!$F$64-200)*AL11/50)),IF(Avropsblankett!$F$64<200,((Avropsblankett!$F$64-100)*AL12/50),((Avropsblankett!$F$64-200)*AL12/50))),\"\")","v":""},null,{"$f":"IF(Avropsblankett!$C$64=$A$9,IF(Avropsblankett!$D$64=$C$11,IF(Avropsblankett!$F$64<200,AN11,AO11),IF(Avropsblankett!$F$64<200,AN12,AO12)),\"\")","v":""},null,{"$f":"IF(Avropsblankett!$C$64=$A$9,IF(Avropsblankett!$D$64=$C$11,IF(Avropsblankett!$F$64<200,((Avropsblankett!$F$64-100)*AP11/50),((Avropsblankett!$F$64-200)*AP11/50)),IF(Avropsblankett!$F$64<200,((Avropsblankett!$F$64-100)*AP12/50),((Avropsblankett!$F$64-200)*AP12/50))),\"\")","v":""}]
[null,null,null,{"$f":"IF(Avropsblankett!$C$76=$A$9,IF(Avropsblankett!$D$76=$C$11,IF(Avropsblankett!$F$76<200,D11,E11),IF(Avropsblankett!$F$76<200,D12,E12)),\"\")","v":""},null,{"$f":"IF(Avropsblankett!$C$76=$A$9,IF(Avropsblankett!$D$76=$C$11,IF(Avropsblankett!$F$76<200,((Avropsblankett!$F$76-100)*F11/50),((Avropsblankett!$F$76-200)*F11/50)),IF(Avropsblankett!$F$76<200,((Avropsblankett!$F$76-100)*F12/50),((Avropsblankett!$F$76-200)*F12/50))),\"\")","v":""},null,{"$f":"IF(Avropsblankett!$C$76=$A$9,IF(Avropsblankett!$D$76=$C$11,IF(Avropsblankett!$F$76<200,H11,I11),IF(Avropsblankett!$F$76<200,H12,I12)),\"\")","v":""},null,{"$f":"IF(Avropsblankett!$C$76=$A$9,IF(Avropsblankett!$D$76=$C$11,IF(Avropsblankett!$F$76<200,((Avropsblankett!$F$76-100)*J11/50),((Avropsblankett!$F$76-200)*J11/50)),IF(Avropsblankett!$F$76<200,((Avropsblankett!$F$76-100)*J12/50),((Avropsblankett!$F$76-200)*J12/50))),\"\")","v":""},null,{"$f":"IF(Avropsblankett!$C$76=$A$9,IF(Avropsblankett!$D$76=$C$11,IF(Avropsblankett!$F$76<200,L11,M11),IF(Avropsblankett!$F$76<200,L12,M12)),\"\")","v":""},null,{"$f":"IF(Avropsblankett!$C$76=$A$9,IF(Avropsblankett!$D$76=$C$11,IF(Avropsblankett!$F$76<200,((Avropsblankett!$F$76-100)*N11/50),((Avropsblankett!$F$76-200)*N11/50)),IF(Avropsblankett!$F$76<200,((Avropsblankett!$F$76-100)*N12/50),((Avropsblankett!$F$76-200)*N12/50))),\"\")","v":""},null,{"$f":"IF(Avropsblankett!$C$76=$A$9,IF(Avropsblankett!$D$76=$C$11,IF(Avropsblankett!$F$76<200,P11,Q11),IF(Avropsblankett!$F$76<200,P12,Q12)),\"\")","v":""},null,{"$f":"IF(Avropsblankett!$C$76=$A$9,IF(Avropsblankett!$D$76=$C$11,IF(Avropsblankett!$F$76<200,((Avropsblankett!$F$76-100)*R11/50),((Avropsblankett!$F$76-200)*R11/50)),IF(Avropsblankett!$F$76<200,((Avropsblankett!$F$76-100)*R12/50),((Avropsblankett!$F$76-200)*R12/50))),\"\")","v":""},null,{"$f":"IF(Avropsblankett!$C$76=$A$9,IF(Avropsblankett!$D$76=$C$11,IF(Avropsblankett!$F$76<200,T11,U11),IF(Avropsblankett!$F$76<200,T12,U12)),\"\")","v":""},null,{"$f":"IF(Avropsblankett!$C$76=$A$9,IF(Avropsblankett!$D$76=$C$11,IF(Avropsblankett!$F$76<200,((Avropsblankett!$F$76-100)*V11/50),((Avropsblankett!$F$76-200)*V11/50)),IF(Avropsblankett!$F$76<200,((Avropsblankett!$F$76-100)*V12/50),((Avropsblankett!$F$76-200)*V12/50))),\"\")","v":""},null,{"$f":"IF(Avropsblankett!$C$76=$A$9,IF(Avropsblankett!$D$76=$C$11,IF(Avropsblankett!$F$76<200,X11,Y11),IF(Avropsblankett!$F$76<200,X12,Y12)),\"\")","v":""},null,{"$f":"IF(Avropsblankett!$C$76=$A$9,IF(Avropsblankett!$D$76=$C$11,IF(Avropsblankett!$F$76<200,((Avropsblankett!$F$76-100)*Z11/50),((Avropsblankett!$F$76-200)*Z11/50)),IF(Avropsblankett!$F$76<200,((Avropsblankett!$F$76-100)*Z12/50),((Avropsblankett!$F$76-200)*Z12/50))),\"\")","v":""},null,{"$f":"IF(Avropsblankett!$C$76=$A$9,IF(Avropsblankett!$D$76=$C$11,IF(Avropsblankett!$F$76<200,AB11,AC11),IF(Avropsblankett!$F$76<200,AB12,AC12)),\"\")","v":""},null,{"$f":"IF(Avropsblankett!$C$76=$A$9,IF(Avropsblankett!$D$76=$C$11,IF(Avropsblankett!$F$76<200,((Avropsblankett!$F$76-100)*AD11/50),((Avropsblankett!$F$76-200)*AD11/50)),IF(Avropsblankett!$F$76<200,((Avropsblankett!$F$76-100)*AD12/50),((Avropsblankett!$F$76-200)*AD12/50))),\"\")","v":""},null,{"$f":"IF(Avropsblankett!$C$76=$A$9,IF(Avropsblankett!$D$76=$C$11,IF(Avropsblankett!$F$76<200,AF11,AG11),IF(Avropsblankett!$F$76<200,AF12,AG12)),\"\")","v":""},null,{"$f":"IF(Avropsblankett!$C$76=$A$9,IF(Avropsblankett!$D$76=$C$11,IF(Avropsblankett!$F$76<200,((Avropsblankett!$F$76-100)*AH11/50),((Avropsblankett!$F$76-200)*AH11/50)),IF(Avropsblankett!$F$76<200,((Avropsblankett!$F$76-100)*AH12/50),((Avropsblankett!$F$76-200)*AH12/50))),\"\")","v":""},null,{"$f":"IF(Avropsblankett!$C$76=$A$9,IF(Avropsblankett!$D$76=$C$11,IF(Avropsblankett!$F$76<200,AJ11,AK11),IF(Avropsblankett!$F$76<200,AJ12,AK12)),\"\")","v":""},null,{"$f":"IF(Avropsblankett!$C$76=$A$9,IF(Avropsblankett!$D$76=$C$11,IF(Avropsblankett!$F$76<200,((Avropsblankett!$F$76-100)*AL11/50),((Avropsblankett!$F$76-200)*AL11/50)),IF(Avropsblankett!$F$76<200,((Avropsblankett!$F$76-100)*AL12/50),((Avropsblankett!$F$76-200)*AL12/50))),\"\")","v":""},null,{"$f":"IF(Avropsblankett!$C$76=$A$9,IF(Avropsblankett!$D$76=$C$11,IF(Avropsblankett!$F$76<200,AN11,AO11),IF(Avropsblankett!$F$76<200,AN12,AO12)),\"\")","v":""},null,{"$f":"IF(Avropsblankett!$C$76=$A$9,IF(Avropsblankett!$D$76=$C$11,IF(Avropsblankett!$F$76<200,((Avropsblankett!$F$76-100)*AP11/50),((Avropsblankett!$F$76-200)*AP11/50)),IF(Avropsblankett!$F$76<200,((Avropsblankett!$F$76-100)*AP12/50),((Avropsblankett!$F$76-200)*AP12/50))),\"\")","v":""}]
[null,null,null,{"$f":"SUM(D13:D17)","v":0},null,{"$f":"SUM(F13:F17)","v":0},null,{"$f":"SUM(H13:H17)","v":0},null,{"$f":"SUM(J13:J17)","v":0},null,{"$f":"SUM(L13:L17)","v":0},null,{"$f":"SUM(N13:N17)","v":0},null,{"$f":"SUM(P13:P17)","v":0},null,{"$f":"SUM(R13:R17)","v":0},null,{"$f":"SUM(T13:T17)","v":0},null,{"$f":"SUM(V13:V17)","v":0},null,{"$f":"SUM(X13:X17)","v":0},null,{"$f":"SUM(Z13:Z17)","v":0},null,{"$f":"SUM(AB13:AB17)","v":0},null,{"$f":"SUM(AD13:AD17)","v":0},null,{"$f":"SUM(AF13:AF17)","v":0},null,{"$f":"SUM(AH13:AH17)","v":0},null,{"$f":"SUM(AJ13:AJ17)","v":0},null,{"$f":"SUM(AL13:AL17)","v":0},null,{"$f":"SUM(AN13:AN17)","v":0},null,{"$f":"SUM(AP13:AP17)","v":0}]
["Pappersmappar_Variant_2",null,"Variant 2","Upplaga",null,"Följandepris",null,"Upplaga",null,"Följandepris",null,"Upplaga",null,"Följandepris",null,"Upplaga",null,"Följandepris",null,"Upplaga",null,"Följandepris",null,"Upplaga",null,"Följandepris",null,"Upplaga",null,"Följandepris",null,"Upplaga",null,"Följandepris",null,"Upplaga",null,"Följandepris",null,"Upplaga",null,"Följandepris"]
["Papper","Obestruket papper vitt 300 g",null,100,200,50,null,100,200,50,null,100,200,50,null,100,200,50,null,100,200,50,null,100,200,50,null,100,200,50,null,100,200,50,null,100,200,50,null,100,200,50]
["Format:","För A4 dokument","Tryck 4+0",1800,3200,600,null,5500,5995.0000000000009,247.50000000000003,null,3800,3850,215,null,2130,2615,125,null,846,1676,80,null,1923,2390,232,null,2500,2800,140,null,2439,2583,210,null,2500,3600,600,null,1787,2254,234]
[null,null,"Tryck 4+1 där budskap placeras på mappens insida",2100,3700,700,null,6490.0000000000009,7040.0000000000009,275,null,3900,4400,295,null,2425,3000,125,null,913,1810,51,null,2095,2717,312,null,2800,3100,150,null,2610,2753,220,null,3200,4200,700,null,2013,2576,282]
[null,null,null,{"$f":"IF(Avropsblankett!$C$28=$A$19,IF(Avropsblankett!$D$28=$C$11,IF(Avropsblankett!$F$28<200,D21,E21),IF(Avropsblankett!$F$28<200,D22,E22)),\"\")","v":""},null,{"$f":"IF(Avropsblankett!$C$28=$A$19,IF(Avropsblankett!$D$28=$C$11,IF(Avropsblankett!$F$28<200,((Avropsblankett!$F$28-100)*F21/50),((Avropsblankett!$F$28-200)*F21/50)),IF(Avropsblankett!$F$28<200,((Avropsblankett!$F$28-100)*F22/50),((Avropsblankett!$F$28-200)*F22/50))),\"\")","v":""},null,{"$f":"IF(Avropsblankett!$C$28=$A$19,IF(Avropsblankett!$D$28=$C$11,IF(Avropsblankett!$F$28<200,H21,I21),IF(Avropsblankett!$F$28<200,H22,I22)),\"\")","v":""},null,{"$f":"IF(Avropsblankett!$C$28=$A$19,IF(Avropsblankett!$D$28=$C$11,IF(Avropsblankett!$F$28<200,((Avropsblankett!$F$28-100)*J21/50),((Avropsblankett!$F$28-200)*J21/50)),IF(Avropsblankett!$F$28<200,((Avropsblankett!$F$28-100)*J22/50),((Avropsblankett!$F$28-200)*J22/50))),\"\")","v":""},null,{"$f":"IF(Avropsblankett!$C$28=$A$19,IF(Avropsblankett!$D$28=$C$11,IF(Avropsblankett!$F$28<200,L21,M21),IF(Avropsblankett!$F$28<200,L22,M22)),\"\")","v":""},null,{"$f":"IF(Avropsblankett!$C$28=$A$19,IF(Avropsblankett!$D$28=$C$11,IF(Avropsblankett!$F$28<200,((Avropsblankett!$F$28-100)*N21/50),((Avropsblankett!$F$28-200)*N21/50)),IF(Avropsblankett!$F$28<200,((Avropsblankett!$F$28-100)*N22/50),((Avropsblankett!$F$28-200)*N22/50))),\"\")","v":""},null,{"$f":"IF(Avropsblankett!$C$28=$A$19,IF(Avropsblankett!$D$28=$C$11,IF(Avropsblankett!$F$28<200,P21,Q21),IF(Avropsblankett!$F$28<200,P22,Q22)),\"\")","v":""},null,{"$f":"IF(Avropsblankett!$C$28=$A$19,IF(Avropsblankett!$D$28=$C$11,IF(Avropsblankett!$F$28<200,((Avropsblankett!$F$28-100)*R21/50),((Avropsblankett!$F$28-200)*R21/50)),IF(Avropsblankett!$F$28<200,((Avropsblankett!$F$28-100)*R22/50),((Avropsblankett!$F$28-200)*R22/50))),\"\")","v":""},null,{"$f":"IF(Avropsblankett!$C$28=$A$19,IF(Avropsblankett!$D$28=$C$11,IF(Avropsblankett!$F$28<200,T21,U21),IF(Avropsblankett!$F$28<200,T22,U22)),\"\")","v":""},null,{"$f":"IF(Avropsblankett!$C$28=$A$19,IF(Avropsblankett!$D$28=$C$11,IF(Avropsblankett!$F$28<200,((Avropsblankett!$F$28-100)*V21/50),((Avropsblankett!$F$28-200)*V21/50)),IF(Avropsblankett!$F$28<200,((Avropsblankett!$F$28-100)*V22/50),((Avropsblankett!$F$28-200)*V22/50))),\"\")","v":""},null,{"$f":"IF(Avropsblankett!$C$28=$A$19,IF(Avropsblankett!$D$28=$C$11,IF(Avropsblankett!$F$28<200,X21,Y21),IF(Avropsblankett!$F$28<200,X22,Y22)),\"\")","v":""},null,{"$f":"IF(Avropsblankett!$C$28=$A$19,IF(Avropsblankett!$D$28=$C$11,IF(Avropsblankett!$F$28<200,((Avropsblankett!$F$28-100)*Z21/50),((Avropsblankett!$F$28-200)*Z21/50)),IF(Avropsblankett!$F$28<200,((Avropsblankett!$F$28-100)*Z22/50),((Avropsblankett!$F$28-200)*Z22/50))),\"\")","v":""},null,{"$f":"IF(Avropsblankett!$C$28=$A$19,IF(Avropsblankett!$D$28=$C$11,IF(Avropsblankett!$F$28<200,AB21,AC21),IF(Avropsblankett!$F$28<200,AB22,AC22)),\"\")","v":""},null,{"$f":"IF(Avropsblankett!$C$28=$A$19,IF(Avropsblankett!$D$28=$C$11,IF(Avropsblankett!$F$28<200,((Avropsblankett!$F$28-100)*AD21/50),((Avropsblankett!$F$28-200)*AD21/50)),IF(Avropsblankett!$F$28<200,((Avropsblankett!$F$28-100)*AD22/50),((Avropsblankett!$F$28-200)*AD22/50))),\"\")","v":""},null,{"$f":"IF(Avropsblankett!$C$28=$A$19,IF(Avropsblankett!$D$28=$C$11,IF(Avropsblankett!$F$28<200,AF21,AG21),IF(Avropsblankett!$F$28<200,AF22,AG22)),\"\")","v":""},null,{"$f":"IF(Avropsblankett!$C$28=$A$19,IF(Avropsblankett!$D$28=$C$11,IF(Avropsblankett!$F$28<200,((Avropsblankett!$F$28-100)*AH21/50),((Avropsblankett!$F$28-200)*AH21/50)),IF(Avropsblankett!$F$28<200,((Avropsblankett!$F$28-100)*AH22/50),((Avropsblankett!$F$28-200)*AH22/50))),\"\")","v":""},null,{"$f":"IF(Avropsblankett!$C$28=$A$19,IF(Avropsblankett!$D$28=$C$11,IF(Avropsblankett!$F$28<200,AJ21,AK21),IF(Avropsblankett!$F$28<200,AJ22,AK22)),\"\")","v":""},null,{"$f":"IF(Avropsblankett!$C$28=$A$19,IF(Avropsblankett!$D$28=$C$11,IF(Avropsblankett!$F$28<200,((Avropsblankett!$F$28-100)*AL21/50),((Avropsblankett!$F$28-200)*AL21/50)),IF(Avropsblankett!$F$28<200,((Avropsblankett!$F$28-100)*AL22/50),((Avropsblankett!$F$28-200)*AL22/50))),\"\")","v":""},null,{"$f":"IF(Avropsblankett!$C$28=$A$19,IF(Avropsblankett!$D$28=$C$11,IF(Avropsblankett!$F$28<200,AN21,AO21),IF(Avropsblankett!$F$28<200,AN22,AO22)),\"\")","v":""},null,{"$f":"IF(Avropsblankett!$C$28=$A$19,IF(Avropsblankett!$D$28=$C$11,IF(Avropsblankett!$F$28<200,((Avropsblankett!$F$28-100)*AP21/50),((Avropsblankett!$F$28-200)*AP21/50)),IF(Avropsblankett!$F$28<200,((Avropsblankett!$F$28-100)*AP22/50),((Avropsblankett!$F$28-200)*AP22/50))),\"\")","v":""}]
[null,null,null,{"$f":"IF(Avropsblankett!$C$40=$A$19,IF(Avropsblankett!$D$40=$C$11,IF(Avropsblankett!$F$40<200,D21,E21),IF(Avropsblankett!$F$40<200,D22,E22)),\"\")","v":""},null,{"$f":"IF(Avropsblankett!$C$40=$A$19,IF(Avropsblankett!$D$40=$C$11,IF(Avropsblankett!$F$40<200,((Avropsblankett!$F$40-100)*F21/50),((Avropsblankett!$F$40-200)*F21/50)),IF(Avropsblankett!$F$40<200,((Avropsblankett!$F$40-100)*F22/50),((Avropsblankett!$F$40-200)*F22/50))),\"\")","v":""},null,{"$f":"IF(Avropsblankett!$C$40=$A$19,IF(Avropsblankett!$D$40=$C$11,IF(Avropsblankett!$F$40<200,H21,I21),IF(Avropsblankett!$F$40<200,H22,I22)),\"\")","v":""},null,{"$f":"IF(Avropsblankett!$C$40=$A$19,IF(Avropsblankett!$D$40=$C$11,IF(Avropsblankett!$F$40<200,((Avropsblankett!$F$40-100)*J21/50),((Avropsblankett!$F$40-200)*J21/50)),IF(Avropsblankett!$F$40<200,((Avropsblankett!$F$40-100)*J22/50),((Avropsblankett!$F$40-200)*J22/50))),\"\")","v":""},null,{"$f":"IF(Avropsblankett!$C$40=$A$19,IF(Avropsblankett!$D$40=$C$11,IF(Avropsblankett!$F$40<200,L21,M21),IF(Avropsblankett!$F$40<200,L22,M22)),\"\")","v":""},null,{"$f":"IF(Avropsblankett!$C$40=$A$19,IF(Avropsblankett!$D$40=$C$11,IF(Avropsblankett!$F$40<200,((Avropsblankett!$F$40-100)*N21/50),((Avropsblankett!$F$40-200)*N21/50)),IF(Avropsblankett!$F$40<200,((Avropsblankett!$F$40-100)*N22/50),((Avropsblankett!$F$40-200)*N22/50))),\"\")","v":""},null,{"$f":"IF(Avropsblankett!$C$40=$A$19,IF(Avropsblankett!$D$40=$C$11,IF(Avropsblankett!$F$40<200,P21,Q21),IF(Avropsblankett!$F$40<200,P22,Q22)),\"\")","v":""},null,{"$f":"IF(Avropsblankett!$C$40=$A$19,IF(Avropsblankett!$D$40=$C$11,IF(Avropsblankett!$F$40<200,((Avropsblankett!$F$40-100)*R21/50),((Avropsblankett!$F$40-200)*R21/50)),IF(Avropsblankett!$F$40<200,((Avropsblankett!$F$40-100)*R22/50),((Avropsblankett!$F$40-200)*R22/50))),\"\")","v":""},null,{"$f":"IF(Avropsblankett!$C$40=$A$19,IF(Avropsblankett!$D$40=$C$11,IF(Avropsblankett!$F$40<200,T21,U21),IF(Avropsblankett!$F$40<200,T22,U22)),\"\")","v":""},null,{"$f":"IF(Avropsblankett!$C$40=$A$19,IF(Avropsblankett!$D$40=$C$11,IF(Avropsblankett!$F$40<200,((Avropsblankett!$F$40-100)*V21/50),((Avropsblankett!$F$40-200)*V21/50)),IF(Avropsblankett!$F$40<200,((Avropsblankett!$F$40-100)*V22/50),((Avropsblankett!$F$40-200)*V22/50))),\"\")","v":""},null,{"$f":"IF(Avropsblankett!$C$40=$A$19,IF(Avropsblankett!$D$40=$C$11,IF(Avropsblankett!$F$40<200,X21,Y21),IF(Avropsblankett!$F$40<200,X22,Y22)),\"\")","v":""},null,{"$f":"IF(Avropsblankett!$C$40=$A$19,IF(Avropsblankett!$D$40=$C$11,IF(Avropsblankett!$F$40<200,((Avropsblankett!$F$40-100)*Z21/50),((Avropsblankett!$F$40-200)*Z21/50)),IF(Avropsblankett!$F$40<200,((Avropsblankett!$F$40-100)*Z22/50),((Avropsblankett!$F$40-200)*Z22/50))),\"\")","v":""},null,{"$f":"IF(Avropsblankett!$C$40=$A$19,IF(Avropsblankett!$D$40=$C$11,IF(Avropsblankett!$F$40<200,AB21,AC21),IF(Avropsblankett!$F$40<200,AB22,AC22)),\"\")","v":""},null,{"$f":"IF(Avropsblankett!$C$40=$A$19,IF(Avropsblankett!$D$40=$C$11,IF(Avropsblankett!$F$40<200,((Avropsblankett!$F$40-100)*AD21/50),((Avropsblankett!$F$40-200)*AD21/50)),IF(Avropsblankett!$F$40<200,((Avropsblankett!$F$40-100)*AD22/50),((Avropsblankett!$F$40-200)*AD22/50))),\"\")","v":""},null,{"$f":"IF(Avropsblankett!$C$40=$A$19,IF(Avropsblankett!$D$40=$C$11,IF(Avropsblankett!$F$40<200,AF21,AG21),IF(Avropsblankett!$F$40<200,AF22,AG22)),\"\")","v":""},null,{"$f":"IF(Avropsblankett!$C$40=$A$19,IF(Avropsblankett!$D$40=$C$11,IF(Avropsblankett!$F$40<200,((Avropsblankett!$F$40-100)*AH21/50),((Avropsblankett!$F$40-200)*AH21/50)),IF(Avropsblankett!$F$40<200,((Avropsblankett!$F$40-100)*AH22/50),((Avropsblankett!$F$40-200)*AH22/50))),\"\")","v":""},null,{"$f":"IF(Avropsblankett!$C$40=$A$19,IF(Avropsblankett!$D$40=$C$11,IF(Avropsblankett!$F$40<200,AJ21,AK21),IF(Avropsblankett!$F$40<200,AJ22,AK22)),\"\")","v":""},null,{"$f":"IF(Avropsblankett!$C$40=$A$19,IF(Avropsblankett!$D$40=$C$11,IF(Avropsblankett!$F$40<200,((Avropsblankett!$F$40-100)*AL21/50),((Avropsblankett!$F$40-200)*AL21/50)),IF(Avropsblankett!$F$40<200,((Avropsblankett!$F$40-100)*AL22/50),((Avropsblankett!$F$40-200)*AL22/50))),\"\")","v":""},null,{"$f":"IF(Avropsblankett!$C$40=$A$19,IF(Avropsblankett!$D$40=$C$11,IF(Avropsblankett!$F$40<200,AN21,AO21),IF(Avropsblankett!$F$40<200,AN22,AO22)),\"\")","v":""},null,{"$f":"IF(Avropsblankett!$C$40=$A$19,IF(Avropsblankett!$D$40=$C$11,IF(Avropsblankett!$F$40<200,((Avropsblankett!$F$40-100)*AP21/50),((Avropsblankett!$F$40-200)*AP21/50)),IF(Avropsblankett!$F$40<200,((Avropsblankett!$F$40-100)*AP22/50),((Avropsblankett!$F$40-200)*AP22/50))),\"\")","v":""}]
[null,null,null,{"$f":"IF(Avropsblankett!$C$52=$A$19,IF(Avropsblankett!$D$52=$C$11,IF(Avropsblankett!$F$52<200,D21,E21),IF(Avropsblankett!$F$52<200,D22,E22)),\"\")","v":""},null,{"$f":"IF(Avropsblankett!$C$52=$A$19,IF(Avropsblankett!$D$52=$C$11,IF(Avropsblankett!$F$52<200,((Avropsblankett!$F$52-100)*F21/50),((Avropsblankett!$F$52-200)*F21/50)),IF(Avropsblankett!$F$52<200,((Avropsblankett!$F$52-100)*F22/50),((Avropsblankett!$F$52-200)*F22/50))),\"\")","v":""},null,{"$f":"IF(Avropsblankett!$C$52=$A$19,IF(Avropsblankett!$D$52=$C$11,IF(Avropsblankett!$F$52<200,H21,I21),IF(Avropsblankett!$F$52<200,H22,I22)),\"\")","v":""},null,{"$f":"IF(Avropsblankett!$C$52=$A$19,IF(Avropsblankett!$D$52=$C$11,IF(Avropsblankett!$F$52<200,((Avropsblankett!$F$52-100)*J21/50),((Avropsblankett!$F$52-200)*J21/50)),IF(Avropsblankett!$F$52<200,((Avropsblankett!$F$52-100)*J22/50),((Avropsblankett!$F$52-200)*J22/50))),\"\")","v":""},null,{"$f":"IF(Avropsblankett!$C$52=$A$19,IF(Avropsblankett!$D$52=$C$11,IF(Avropsblankett!$F$52<200,L21,M21),IF(Avropsblankett!$F$52<200,L22,M22)),\"\")","v":""},null,{"$f":"IF(Avropsblankett!$C$52=$A$19,IF(Avropsblankett!$D$52=$C$11,IF(Avropsblankett!$F$52<200,((Avropsblankett!$F$52-100)*N21/50),((Avropsblankett!$F$52-200)*N21/50)),IF(Avropsblankett!$F$52<200,((Avropsblankett!$F$52-100)*N22/50),((Avropsblankett!$F$52-200)*N22/50))),\"\")","v":""},null,{"$f":"IF(Avropsblankett!$C$52=$A$19,IF(Avropsblankett!$D$52=$C$11,IF(Avropsblankett!$F$52<200,P21,Q21),IF(Avropsblankett!$F$52<200,P22,Q22)),\"\")","v":""},null,{"$f":"IF(Avropsblankett!$C$52=$A$19,IF(Avropsblankett!$D$52=$C$11,IF(Avropsblankett!$F$52<200,((Avropsblankett!$F$52-100)*R21/50),((Avropsblankett!$F$52-200)*R21/50)),IF(Avropsblankett!$F$52<200,((Avropsblankett!$F$52-100)*R22/50),((Avropsblankett!$F$52-200)*R22/50))),\"\")","v":""},null,{"$f":"IF(Avropsblankett!$C$52=$A$19,IF(Avropsblankett!$D$52=$C$11,IF(Avropsblankett!$F$52<200,T21,U21),IF(Avropsblankett!$F$52<200,T22,U22)),\"\")","v":""},null,{"$f":"IF(Avropsblankett!$C$52=$A$19,IF(Avropsblankett!$D$52=$C$11,IF(Avropsblankett!$F$52<200,((Avropsblankett!$F$52-100)*V21/50),((Avropsblankett!$F$52-200)*V21/50)),IF(Avropsblankett!$F$52<200,((Avropsblankett!$F$52-100)*V22/50),((Avropsblankett!$F$52-200)*V22/50))),\"\")","v":""},null,{"$f":"IF(Avropsblankett!$C$52=$A$19,IF(Avropsblankett!$D$52=$C$11,IF(Avropsblankett!$F$52<200,X21,Y21),IF(Avropsblankett!$F$52<200,X22,Y22)),\"\")","v":""},null,{"$f":"IF(Avropsblankett!$C$52=$A$19,IF(Avropsblankett!$D$52=$C$11,IF(Avropsblankett!$F$52<200,((Avropsblankett!$F$52-100)*Z21/50),((Avropsblankett!$F$52-200)*Z21/50)),IF(Avropsblankett!$F$52<200,((Avropsblankett!$F$52-100)*Z22/50),((Avropsblankett!$F$52-200)*Z22/50))),\"\")","v":""},null,{"$f":"IF(Avropsblankett!$C$52=$A$19,IF(Avropsblankett!$D$52=$C$11,IF(Avropsblankett!$F$52<200,AB21,AC21),IF(Avropsblankett!$F$52<200,AB22,AC22)),\"\")","v":""},null,{"$f":"IF(Avropsblankett!$C$52=$A$19,IF(Avropsblankett!$D$52=$C$11,IF(Avropsblankett!$F$52<200,((Avropsblankett!$F$52-100)*AD21/50),((Avropsblankett!$F$52-200)*AD21/50)),IF(Avropsblankett!$F$52<200,((Avropsblankett!$F$52-100)*AD22/50),((Avropsblankett!$F$52-200)*AD22/50))),\"\")","v":""},null,{"$f":"IF(Avropsblankett!$C$52=$A$19,IF(Avropsblankett!$D$52=$C$11,IF(Avropsblankett!$F$52<200,AF21,AG21),IF(Avropsblankett!$F$52<200,AF22,AG22)),\"\")","v":""},null,{"$f":"IF(Avropsblankett!$C$52=$A$19,IF(Avropsblankett!$D$52=$C$11,IF(Avropsblankett!$F$52<200,((Avropsblankett!$F$52-100)*AH21/50),((Avropsblankett!$F$52-200)*AH21/50)),IF(Avropsblankett!$F$52<200,((Avropsblankett!$F$52-100)*AH22/50),((Avropsblankett!$F$52-200)*AH22/50))),\"\")","v":""},null,{"$f":"IF(Avropsblankett!$C$52=$A$19,IF(Avropsblankett!$D$52=$C$11,IF(Avropsblankett!$F$52<200,AJ21,AK21),IF(Avropsblankett!$F$52<200,AJ22,AK22)),\"\")","v":""},null,{"$f":"IF(Avropsblankett!$C$52=$A$19,IF(Avropsblankett!$D$52=$C$11,IF(Avropsblankett!$F$52<200,((Avropsblankett!$F$52-100)*AL21/50),((Avropsblankett!$F$52-200)*AL21/50)),IF(Avropsblankett!$F$52<200,((Avropsblankett!$F$52-100)*AL22/50),((Avropsblankett!$F$52-200)*AL22/50))),\"\")","v":""},null,{"$f":"IF(Avropsblankett!$C$52=$A$19,IF(Avropsblankett!$D$52=$C$11,IF(Avropsblankett!$F$52<200,AN21,AO21),IF(Avropsblankett!$F$52<200,AN22,AO22)),\"\")","v":""},null,{"$f":"IF(Avropsblankett!$C$52=$A$19,IF(Avropsblankett!$D$52=$C$11,IF(Avropsblankett!$F$52<200,((Avropsblankett!$F$52-100)*AP21/50),((Avropsblankett!$F$52-200)*AP21/50)),IF(Avropsblankett!$F$52<200,((Avropsblankett!$F$52-100)*AP22/50),((Avropsblankett!$F$52-200)*AP22/50))),\"\")","v":""}]
[null,null,null,{"$f":"IF(Avropsblankett!$C$64=$A$19,IF(Avropsblankett!$D$64=$C$11,IF(Avropsblankett!$F$64<200,D21,E21),IF(Avropsblankett!$F$64<200,D22,E22)),\"\")","v":""},null,{"$f":"IF(Avropsblankett!$C$64=$A$19,IF(Avropsblankett!$D$64=$C$11,IF(Avropsblankett!$F$64<200,((Avropsblankett!$F$64-100)*F21/50),((Avropsblankett!$F$64-200)*F21/50)),IF(Avropsblankett!$F$64<200,((Avropsblankett!$F$64-100)*F22/50),((Avropsblankett!$F$64-200)*F22/50))),\"\")","v":""},null,{"$f":"IF(Avropsblankett!$C$64=$A$19,IF(Avropsblankett!$D$64=$C$11,IF(Avropsblankett!$F$64<200,H21,I21),IF(Avropsblankett!$F$64<200,H22,I22)),\"\")","v":""},null,{"$f":"IF(Avropsblankett!$C$64=$A$19,IF(Avropsblankett!$D$64=$C$11,IF(Avropsblankett!$F$64<200,((Avropsblankett!$F$64-100)*J21/50),((Avropsblankett!$F$64-200)*J21/50)),IF(Avropsblankett!$F$64<200,((Avropsblankett!$F$64-100)*J22/50),((Avropsblankett!$F$64-200)*J22/50))),\"\")","v":""},null,{"$f":"IF(Avropsblankett!$C$64=$A$19,IF(Avropsblankett!$D$64=$C$11,IF(Avropsblankett!$F$64<200,L21,M21),IF(Avropsblankett!$F$64<200,L22,M22)),\"\")","v":""},null,{"$f":"IF(Avropsblankett!$C$64=$A$19,IF(Avropsblankett!$D$64=$C$11,IF(Avropsblankett!$F$64<200,((Avropsblankett!$F$64-100)*N21/50),((Avropsblankett!$F$64-200)*N21/50)),IF(Avropsblankett!$F$64<200,((Avropsblankett!$F$64-100)*N22/50),((Avropsblankett!$F$64-200)*N22/50))),\"\")","v":""},null,{"$f":"IF(Avropsblankett!$C$64=$A$19,IF(Avropsblankett!$D$64=$C$11,IF(Avropsblankett!$F$64<200,P21,Q21),IF(Avropsblankett!$F$64<200,P22,Q22)),\"\")","v":""},null,{"$f":"IF(Avropsblankett!$C$64=$A$19,IF(Avropsblankett!$D$64=$C$11,IF(Avropsblankett!$F$64<200,((Avropsblankett!$F$64-100)*R21/50),((Avropsblankett!$F$64-200)*R21/50)),IF(Avropsblankett!$F$64<200,((Avropsblankett!$F$64-100)*R22/50),((Avropsblankett!$F$64-200)*R22/50))),\"\")","v":""},null,{"$f":"IF(Avropsblankett!$C$64=$A$19,IF(Avropsblankett!$D$64=$C$11,IF(Avropsblankett!$F$64<200,T21,U21),IF(Avropsblankett!$F$64<200,T22,U22)),\"\")","v":""},null,{"$f":"IF(Avropsblankett!$C$64=$A$19,IF(Avropsblankett!$D$64=$C$11,IF(Avropsblankett!$F$64<200,((Avropsblankett!$F$64-100)*V21/50),((Avropsblankett!$F$64-200)*V21/50)),IF(Avropsblankett!$F$64<200,((Avropsblankett!$F$64-100)*V22/50),((Avropsblankett!$F$64-200)*V22/50))),\"\")","v":""},null,{"$f":"IF(Avropsblankett!$C$64=$A$19,IF(Avropsblankett!$D$64=$C$11,IF(Avropsblankett!$F$64<200,X21,Y21),IF(Avropsblankett!$F$64<200,X22,Y22)),\"\")","v":""},null,{"$f":"IF(Avropsblankett!$C$64=$A$19,IF(Avropsblankett!$D$64=$C$11,IF(Avropsblankett!$F$64<200,((Avropsblankett!$F$64-100)*Z21/50),((Avropsblankett!$F$64-200)*Z21/50)),IF(Avropsblankett!$F$64<200,((Avropsblankett!$F$64-100)*Z22/50),((Avropsblankett!$F$64-200)*Z22/50))),\"\")","v":""},null,{"$f":"IF(Avropsblankett!$C$64=$A$19,IF(Avropsblankett!$D$64=$C$11,IF(Avropsblankett!$F$64<200,AB21,AC21),IF(Avropsblankett!$F$64<200,AB22,AC22)),\"\")","v":""},null,{"$f":"IF(Avropsblankett!$C$64=$A$19,IF(Avropsblankett!$D$64=$C$11,IF(Avropsblankett!$F$64<200,((Avropsblankett!$F$64-100)*AD21/50),((Avropsblankett!$F$64-200)*AD21/50)),IF(Avropsblankett!$F$64<200,((Avropsblankett!$F$64-100)*AD22/50),((Avropsblankett!$F$64-200)*AD22/50))),\"\")","v":""},null,{"$f":"IF(Avropsblankett!$C$64=$A$19,IF(Avropsblankett!$D$64=$C$11,IF(Avropsblankett!$F$64<200,AF21,AG21),IF(Avropsblankett!$F$64<200,AF22,AG22)),\"\")","v":""},null,{"$f":"IF(Avropsblankett!$C$64=$A$19,IF(Avropsblankett!$D$64=$C$11,IF(Avropsblankett!$F$64<200,((Avropsblankett!$F$64-100)*AH21/50),((Avropsblankett!$F$64-200)*AH21/50)),IF(Avropsblankett!$F$64<200,((Avropsblankett!$F$64-100)*AH22/50),((Avropsblankett!$F$64-200)*AH22/50))),\"\")","v":""},null,{"$f":"IF(Avropsblankett!$C$64=$A$19,IF(Avropsblankett!$D$64=$C$11,IF(Avropsblankett!$F$64<200,AJ21,AK21),IF(Avropsblankett!$F$64<200,AJ22,AK22)),\"\")","v":""},null,{"$f":"IF(Avropsblankett!$C$64=$A$19,IF(Avropsblankett!$D$64=$C$11,IF(Avropsblankett!$F$64<200,((Avropsblankett!$F$64-100)*AL21/50),((Avropsblankett!$F$64-200)*AL21/50)),IF(Avropsblankett!$F$64<200,((Avropsblankett!$F$64-100)*AL22/50),((Avropsblankett!$F$64-200)*AL22/50))),\"\")","v":""},null,{"$f":"IF(Avropsblankett!$C$64=$A$19,IF(Avropsblankett!$D$64=$C$11,IF(Avropsblankett!$F$64<200,AN21,AO21),IF(Avropsblankett!$F$64<200,AN22,AO22)),\"\")","v":""},null,{"$f":"IF(Avropsblankett!$C$64=$A$19,IF(Avropsblankett!$D$64=$C$11,IF(Avropsblankett!$F$64<200,((Avropsblankett!$F$64-100)*AP21/50),((Avropsblankett!$F$64-200)*AP21/50)),IF(Avropsblankett!$F$64<200,((Avropsblankett!$F$64-100)*AP22/50),((Avropsblankett!$F$64-200)*AP22/50))),\"\")","v":""}]
[null,null,null,{"$f":"IF(Avropsblankett!$C$76=$A$19,IF(Avropsblankett!$D$76=$C$11,IF(Avropsblankett!$F$76<200,D21,E21),IF(Avropsblankett!$F$76<200,D22,E22)),\"\")","v":""},null,{"$f":"IF(Avropsblankett!$C$76=$A$19,IF(Avropsblankett!$D$76=$C$11,IF(Avropsblankett!$F$76<200,((Avropsblankett!$F$76-100)*F21/50),((Avropsblankett!$F$76-200)*F21/50)),IF(Avropsblankett!$F$76<200,((Avropsblankett!$F$76-100)*F22/50),((Avropsblankett!$F$76-200)*F22/50))),\"\")","v":""},null,{"$f":"IF(Avropsblankett!$C$76=$A$19,IF(Avropsblankett!$D$76=$C$11,IF(Avropsblankett!$F$76<200,H21,I21),IF(Avropsblankett!$F$76<200,H22,I22)),\"\")","v":""},null,{"$f":"IF(Avropsblankett!$C$76=$A$19,IF(Avropsblankett!$D$76=$C$11,IF(Avropsblankett!$F$76<200,((Avropsblankett!$F$76-100)*J21/50),((Avropsblankett!$F$76-200)*J21/50)),IF(Avropsblankett!$F$76<200,((Avropsblankett!$F$76-100)*J22/50),((Avropsblankett!$F$76-200)*J22/50))),\"\")","v":""},null,{"$f":"IF(Avropsblankett!$C$76=$A$19,IF(Avropsblankett!$D$76=$C$11,IF(Avropsblankett!$F$76<200,L21,M21),IF(Avropsblankett!$F$76<200,L22,M22)),\"\")","v":""},null,{"$f":"IF(Avropsblankett!$C$76=$A$19,IF(Avropsblankett!$D$76=$C$11,IF(Avropsblankett!$F$76<200,((Avropsblankett!$F$76-100)*N21/50),((Avropsblankett!$F$76-200)*N21/50)),IF(Avropsblankett!$F$76<200,((Avropsblankett!$F$76-100)*N22/50),((Avropsblankett!$F$76-200)*N22/50))),\"\")","v":""},null,{"$f":"IF(Avropsblankett!$C$76=$A$19,IF(Avropsblankett!$D$76=$C$11,IF(Avropsblankett!$F$76<200,P21,Q21),IF(Avropsblankett!$F$76<200,P22,Q22)),\"\")","v":""},null,{"$f":"IF(Avropsblankett!$C$76=$A$19,IF(Avropsblankett!$D$76=$C$11,IF(Avropsblankett!$F$76<200,((Avropsblankett!$F$76-100)*R21/50),((Avropsblankett!$F$76-200)*R21/50)),IF(Avropsblankett!$F$76<200,((Avropsblankett!$F$76-100)*R22/50),((Avropsblankett!$F$76-200)*R22/50))),\"\")","v":""},null,{"$f":"IF(Avropsblankett!$C$76=$A$19,IF(Avropsblankett!$D$76=$C$11,IF(Avropsblankett!$F$76<200,T21,U21),IF(Avropsblankett!$F$76<200,T22,U22)),\"\")","v":""},null,{"$f":"IF(Avropsblankett!$C$76=$A$19,IF(Avropsblankett!$D$76=$C$11,IF(Avropsblankett!$F$76<200,((Avropsblankett!$F$76-100)*V21/50),((Avropsblankett!$F$76-200)*V21/50)),IF(Avropsblankett!$F$76<200,((Avropsblankett!$F$76-100)*V22/50),((Avropsblankett!$F$76-200)*V22/50))),\"\")","v":""},null,{"$f":"IF(Avropsblankett!$C$76=$A$19,IF(Avropsblankett!$D$76=$C$11,IF(Avropsblankett!$F$76<200,X21,Y21),IF(Avropsblankett!$F$76<200,X22,Y22)),\"\")","v":""},null,{"$f":"IF(Avropsblankett!$C$76=$A$19,IF(Avropsblankett!$D$76=$C$11,IF(Avropsblankett!$F$76<200,((Avropsblankett!$F$76-100)*Z21/50),((Avropsblankett!$F$76-200)*Z21/50)),IF(Avropsblankett!$F$76<200,((Avropsblankett!$F$76-100)*Z22/50),((Avropsblankett!$F$76-200)*Z22/50))),\"\")","v":""},null,{"$f":"IF(Avropsblankett!$C$76=$A$19,IF(Avropsblankett!$D$76=$C$11,IF(Avropsblankett!$F$76<200,AB21,AC21),IF(Avropsblankett!$F$76<200,AB22,AC22)),\"\")","v":""},null,{"$f":"IF(Avropsblankett!$C$76=$A$19,IF(Avropsblankett!$D$76=$C$11,IF(Avropsblankett!$F$76<200,((Avropsblankett!$F$76-100)*AD21/50),((Avropsblankett!$F$76-200)*AD21/50)),IF(Avropsblankett!$F$76<200,((Avropsblankett!$F$76-100)*AD22/50),((Avropsblankett!$F$76-200)*AD22/50))),\"\")","v":""},null,{"$f":"IF(Avropsblankett!$C$76=$A$19,IF(Avropsblankett!$D$76=$C$11,IF(Avropsblankett!$F$76<200,AF21,AG21),IF(Avropsblankett!$F$76<200,AF22,AG22)),\"\")","v":""},null,{"$f":"IF(Avropsblankett!$C$76=$A$19,IF(Avropsblankett!$D$76=$C$11,IF(Avropsblankett!$F$76<200,((Avropsblankett!$F$76-100)*AH21/50),((Avropsblankett!$F$76-200)*AH21/50)),IF(Avropsblankett!$F$76<200,((Avropsblankett!$F$76-100)*AH22/50),((Avropsblankett!$F$76-200)*AH22/50))),\"\")","v":""},null,{"$f":"IF(Avropsblankett!$C$76=$A$19,IF(Avropsblankett!$D$76=$C$11,IF(Avropsblankett!$F$76<200,AJ21,AK21),IF(Avropsblankett!$F$76<200,AJ22,AK22)),\"\")","v":""},null,{"$f":"IF(Avropsblankett!$C$76=$A$19,IF(Avropsblankett!$D$76=$C$11,IF(Avropsblankett!$F$76<200,((Avropsblankett!$F$76-100)*AL21/50),((Avropsblankett!$F$76-200)*AL21/50)),IF(Avropsblankett!$F$76<200,((Avropsblankett!$F$76-100)*AL22/50),((Avropsblankett!$F$76-200)*AL22/50))),\"\")","v":""},null,{"$f":"IF(Avropsblankett!$C$76=$A$19,IF(Avropsblankett!$D$76=$C$11,IF(Avropsblankett!$F$76<200,AN21,AO21),IF(Avropsblankett!$F$76<200,AN22,AO22)),\"\")","v":""},null,{"$f":"IF(Avropsblankett!$C$76=$A$19,IF(Avropsblankett!$D$76=$C$11,IF(Avropsblankett!$F$76<200,((Avropsblankett!$F$76-100)*AP21/50),((Avropsblankett!$F$76-200)*AP21/50)),IF(Avropsblankett!$F$76<200,((Avropsblankett!$F$76-100)*AP22/50),((Avropsblankett!$F$76-200)*AP22/50))),\"\")","v":""}]
[null,null,null,{"$f":"SUM(D23:D27)","v":0},null,{"$f":"SUM(F23:F27)","v":0},null,{"$f":"SUM(H23:H27)","v":0},null,{"$f":"SUM(J23:J27)","v":0},null,{"$f":"SUM(L23:L27)","v":0},null,{"$f":"SUM(N23:N27)","v":0},null,{"$f":"SUM(P23:P27)","v":0},null,{"$f":"SUM(R23:R27)","v":0},null,{"$f":"SUM(T23:T27)","v":0},null,{"$f":"SUM(V23:V27)","v":0},null,{"$f":"SUM(X23:X27)","v":0},null,{"$f":"SUM(Z23:Z27)","v":0},null,{"$f":"SUM(AB23:AB27)","v":0},null,{"$f":"SUM(AD23:AD27)","v":0},null,{"$f":"SUM(AF23:AF27)","v":0},null,{"$f":"SUM(AH23:AH27)","v":0},null,{"$f":"SUM(AJ23:AJ27)","v":0},null,{"$f":"SUM(AL23:AL27)","v":0},null,{"$f":"SUM(AN23:AN27)","v":0},null,{"$f":"SUM(AP23:AP27)","v":0}]
[null,null,"Summa",{"$f":"SUM(D18,D28)","v":0},null,{"$f":"SUM(F18,F28)","v":0},null,{"$f":"SUM(H18,H28)","v":0},null,{"$f":"SUM(J18,J28)","v":0},null,{"$f":"SUM(L18,L28)","v":0},null,{"$f":"SUM(N18,N28)","v":0},null,{"$f":"SUM(P18,P28)","v":0},null,{"$f":"SUM(R18,R28)","v":0},null,{"$f":"SUM(T18,T28)","v":0},null,{"$f":"SUM(V18,V28)","v":0},null,{"$f":"SUM(X18,X28)","v":0},null,{"$f":"SUM(Z18,Z28)","v":0},null,{"$f":"SUM(AB18,AB28)","v":0},null,{"$f":"SUM(AD18,AD28)","v":0},null,{"$f":"SUM(AF18,AF28)","v":0},null,{"$f":"SUM(AH18,AH28)","v":0},null,{"$f":"SUM(AJ18,AJ28)","v":0},null,{"$f":"SUM(AL18,AL28)","v":0},null,{"$f":"SUM(AN18,AN28)","v":0},null,{"$f":"SUM(AP18,AP28)","v":0}]
[null,null,"Totalsumma",{"$f":"SUM(D29:F29)","v":0},null,null,null,{"$f":"SUM(H29:J29)","v":0},null,null,null,{"$f":"SUM(L29:N29)","v":0},null,null,null,{"$f":"SUM(P29:R29)","v":0},null,null,null,{"$f":"SUM(T29:V29)","v":0},null,null,null,{"$f":"SUM(X29:Z29)","v":0},null,null,null,{"$f":"SUM(AB29:AD29)","v":0},null,null,null,{"$f":"SUM(AF29:AH29)","v":0},null,null,null,{"$f":"SUM(AJ29:AL29)","v":0},null,null,null,{"$f":"SUM(AN29:AP29)","v":0}]
[null,{"$f":"B10","v":"Oliksidig kartong, , där mappens insida är otryckt obestruken och med blanka sidan utåt (trycksidan). Ytvikt mellan 240-250 g"}]
[null,{"$f":"B20","v":"Obestruket papper vitt 300 g"}]
[null,{"$f":"#REF!","v":{"$error":"#REF!"}}]
[null,{"$f":"#REF!","v":{"$error":"#REF!"}}]

{"sheet":"Rapport","index":9,"n_rows":36,"n_cols":52,"rows_kept":36,"cut":false,"hidden":false,"merged":[[7,18,10,21],[32,19,32,21],[32,24,32,26],[32,29,32,31],[21,18,24,21],[21,23,24,26],[21,28,24,31],[7,23,10,26],[7,28,10,31],[21,13,24,16],[32,14,32,16],[0,0,0,2],[2,3,2,6],[0,3,0,6],[1,3,1,6],[1,0,2,2],[21,2,24,2],[21,3,24,6],[32,4,32,6],[7,3,10,6],[7,2,10,2],[21,8,24,11],[32,9,32,11],[0,8,0,11],[1,8,1,11],[2,8,2,11],[7,8,10,11],[7,13,10,16],[0,13,0,16],[1,13,1,16],[2,13,2,16],[0,33,0,36],[0,38,0,41],[2,18,2,21],[2,23,2,26],[2,28,2,31],[0,18,0,21],[0,23,0,26],[0,28,0,31],[1,18,1,21],[1,23,1,26],[1,28,1,31],[1,33,1,36],[1,38,1,41],[2,33,2,36],[2,38,2,41],[0,43,0,46],[0,48,0,51],[1,43,1,46],[1,48,1,51],[2,48,2,51],[2,43,2,46],[7,33,10,36],[7,38,10,41],[7,43,10,46],[32,49,32,51],[7,48,10,51],[21,48,24,51],[32,34,32,36],[32,39,32,41],[21,33,24,36],[21,38,24,41],[21,43,24,46],[32,44,32,46]]}
["Rapport",null,null,{"$f":"Uträkningsblad!C4","v":"Bröderna Hansson H-tryck Aktiebolag"},null,null,null,null,{"$f":"Uträkningsblad!D4","v":"Elanders Sverige AB"},null,null,null,null,{"$f":"Uträkningsblad!E4","v":"Exakta Print AB"},null,null,null,null,{"$f":"Uträkningsblad!F4","v":"Kalmar Kuvert Sweden AB"},null,null,null,null,{"$f":"Uträkningsblad!G4","v":"Ljungbergs Tryckeri i Klippan AB"},null,null,null,null,{"$f":"Uträkningsblad!H4","v":"Scandinavian Print Group Sweden AB"},null,null,null,null,{"$f":"Uträkningsblad!I4","v":"Stema Specialtryck AB"},null,null,null,null,{"$f":"Uträkningsblad!J4","v":"Stibo Complete A/S"},null,null,null,null,{"$f":"Uträkningsblad!K4","v":"Åtta.45 Tryckeri AB"},null,null,null,null,{"$f":"Uträkningsblad!L4","v":"Leverantör 10"}]
[]
[null,null,null,"Priser lämnas i gulmarkerade fält nedan",null,null,null,null,"Priser lämnas i gulmarkerade fält nedan",null,null,null,null,"Priser lämnas i gulmarkerade fält nedan",null,null,null,null,"Priser lämnas i gulmarkerade fält nedan",null,null,null,null,"Priser lämnas i gulmarkerade fält nedan",null,null,null,null,"Priser lämnas i gulmarkerade fält nedan",null,null,null,null,"Priser lämnas i gulmarkerade fält nedan",null,null,null,null,"Priser lämnas i gulmarkerade fält nedan",null,null,null,null,"Priser lämnas i gulmarkerade fält nedan",null,null,null,null,"Priser lämnas i gulmarkerade fält nedan"]
["Rapport_1",null,"Beskrivning/omfång inklusive omslag","Upplaga","Ange pris","Följande","Ange pris",null,"Upplaga","Ange pris","Följande","Ange pris",null,"Upplaga","Ange pris","Följande","Ange pris",null,"Upplaga","Ange pris","Följande","Ange pris",null,"Upplaga","Ange pris","Följande","Ange pris",null,"Upplaga","Ange pris","Följande","Ange pris",null,"Upplaga","Ange pris","Följande","Ange pris",null,"Upplaga","Ange pris","Följande","Ange pris",null,"Upplaga","Ange pris","Följande","Ange pris",null,"Upplaga","Ange pris","Följande","Ange pris"]
["Underlag","A: Öppna filer. B: PDF/PDFx.","32 sidor + omslag",500,3700,100,140,null,500,5663,100,1054,null,500,3800,100,490,null,500,6000,100,500,null,500,2720,100,140,null,500,4277,100,659,null,500,3500,100,400,null,500,3264,100,645,null,500,6700,100,420,null,500,8050,100,1290]
["Format","A4","64 sidor + omslag",500,7100,100,300,null,500,8885,100,1699,null,500,6540,100,900,null,500,8700,100,625,null,500,5120,100,300,null,500,10222,100,1200,null,500,5900,100,775,null,500,5530,100,995,null,500,11900,100,790,null,500,10830,100,1845]
["Papper inlaga","obestruket 80 g","128 sidor + omslag",500,11300,100,500,null,500,14691,100,2863,null,500,12000,100,1750,null,500,13000,100,1200,null,500,8320,100,500,null,500,15450,100,1935,null,500,9200,100,1500,null,500,8180,100,1250,null,500,15001,100,1400,null,500,16385,100,2960]
["Papper omslag","bestruket 250 g"]
["Tryck inlaga","1+1"]
["Tryck omslag","4+0"]
["Bokbinderi","Limbindning"]
[null,null,null,null,{"$f":"IF(Avropsblankett!$C$28=$A$4,IF(Avropsblankett!$E$28<65,(E5+(E6-E5)/32*(Avropsblankett!$E$28-32)),IF(Avropsblankett!$E$28<129,(E6+(E7-E6)/64*(Avropsblankett!$E$28-64)),\"\")),\"\")","v":""},null,{"$f":"(Avropsblankett!$F$28-500)/100*IF(Avropsblankett!$C$28=$A$4,IF(Avropsblankett!$E$28<65,(G5+(G6-G5)/32*(Avropsblankett!$E$28-32)),IF(Avropsblankett!$E$28<129,(G6+(G7-G6)/64*(Avropsblankett!$E$28-64)),\"\")))","v":0},null,null,{"$f":"IF(Avropsblankett!$C$28=$A$4,IF(Avropsblankett!$E$28<65,(J5+(J6-J5)/32*(Avropsblankett!$E$28-32)),IF(Avropsblankett!$E$28<129,(J6+(J7-J6)/64*(Avropsblankett!$E$28-64)),\"\")),\"\")","v":""},null,{"$f":"(Avropsblankett!$F$28-500)/100*IF(Avropsblankett!$C$28=$A$4,IF(Avropsblankett!$E$28<65,(L5+(L6-L5)/32*(Avropsblankett!$E$28-32)),IF(Avropsblankett!$E$28<129,(L6+(L7-L6)/64*(Avropsblankett!$E$28-64)),\"\")))","v":0},null,null,{"$f":"IF(Avropsblankett!$C$28=$A$4,IF(Avropsblankett!$E$28<65,(O5+(O6-O5)/32*(Avropsblankett!$E$28-32)),IF(Avropsblankett!$E$28<129,(O6+(O7-O6)/64*(Avropsblankett!$E$28-64)),\"\")),\"\")","v":""},null,{"$f":"(Avropsblankett!$F$28-500)/100*IF(Avropsblankett!$C$28=$A$4,IF(Avropsblankett!$E$28<65,(Q5+(Q6-Q5)/32*(Avropsblankett!$E$28-32)),IF(Avropsblankett!$E$28<129,(Q6+(Q7-Q6)/64*(Avropsblankett!$E$28-64)),\"\")))","v":0},null,null,{"$f":"IF(Avropsblankett!$C$28=$A$4,IF(Avropsblankett!$E$28<65,(T5+(T6-T5)/32*(Avropsblankett!$E$28-32)),IF(Avropsblankett!$E$28<129,(T6+(T7-T6)/64*(Avropsblankett!$E$28-64)),\"\")),\"\")","v":""},null,{"$f":"(Avropsblankett!$F$28-500)/100*IF(Avropsblankett!$C$28=$A$4,IF(Avropsblankett!$E$28<65,(V5+(V6-V5)/32*(Avropsblankett!$E$28-32)),IF(Avropsblankett!$E$28<129,(V6+(V7-V6)/64*(Avropsblankett!$E$28-64)),\"\")))","v":0},null,null,{"$f":"IF(Avropsblankett!$C$28=$A$4,IF(Avropsblankett!$E$28<65,(Y5+(Y6-Y5)/32*(Avropsblankett!$E$28-32)),IF(Avropsblankett!$E$28<129,(Y6+(Y7-Y6)/64*(Avropsblankett!$E$28-64)),\"\")),\"\")","v":""},null,{"$f":"(Avropsblankett!$F$28-500)/100*IF(Avropsblankett!$C$28=$A$4,IF(Avropsblankett!$E$28<65,(AA5+(AA6-AA5)/32*(Avropsblankett!$E$28-32)),IF(Avropsblankett!$E$28<129,(AA6+(AA7-AA6)/64*(Avropsblankett!$E$28-64)),\"\")))","v":0},null,null,{"$f":"IF(Avropsblankett!$C$28=$A$4,IF(Avropsblankett!$E$28<65,(AD5+(AD6-AD5)/32*(Avropsblankett!$E$28-32)),IF(Avropsblankett!$E$28<129,(AD6+(AD7-AD6)/64*(Avropsblankett!$E$28-64)),\"\")),\"\")","v":""},null,{"$f":"(Avropsblankett!$F$28-500)/100*IF(Avropsblankett!$C$28=$A$4,IF(Avropsblankett!$E$28<65,(AF5+(AF6-AF5)/32*(Avropsblankett!$E$28-32)),IF(Avropsblankett!$E$28<129,(AF6+(AF7-AF6)/64*(Avropsblankett!$E$28-64)),\"\")))","v":0},null,null,{"$f":"IF(Avropsblankett!$C$28=$A$4,IF(Avropsblankett!$E$28<65,(AI5+(AI6-AI5)/32*(Avropsblankett!$E$28-32)),IF(Avropsblankett!$E$28<129,(AI6+(AI7-AI6)/64*(Avropsblankett!$E$28-64)),\"\")),\"\")","v":""},null,{"$f":"(Avropsblankett!$F$28-500)/100*IF(Avropsblankett!$C$28=$A$4,IF(Avropsblankett!$E$28<65,(AK5+(AK6-AK5)/32*(Avropsblankett!$E$28-32)),IF(Avropsblankett!$E$28<129,(AK6+(AK7-AK6)/64*(Avropsblankett!$E$28-64)),\"\")))","v":0},null,null,{"$f":"IF(Avropsblankett!$C$28=$A$4,IF(Avropsblankett!$E$28<65,(AN5+(AN6-AN5)/32*(Avropsblankett!$E$28-32)),IF(Avropsblankett!$E$28<129,(AN6+(AN7-AN6)/64*(Avropsblankett!$E$28-64)),\"\")),\"\")","v":""},null,{"$f":"(Avropsblankett!$F$28-500)/100*IF(Avropsblankett!$C$28=$A$4,IF(Avropsblankett!$E$28<65,(AP5+(AP6-AP5)/32*(Avropsblankett!$E$28-32)),IF(Avropsblankett!$E$28<129,(AP6+(AP7-AP6)/64*(Avropsblankett!$E$28-64)),\"\")))","v":0},null,null,{"$f":"IF(Avropsblankett!$C$28=$A$4,IF(Avropsblankett!$E$28<65,(AS5+(AS6-AS5)/32*(Avropsblankett!$E$28-32)),IF(Avropsblankett!$E$28<129,(AS6+(AS7-AS6)/64*(Avropsblankett!$E$28-64)),\"\")),\"\")","v":""},null,{"$f":"(Avropsblankett!$F$28-500)/100*IF(Avropsblankett!$C$28=$A$4,IF(Avropsblankett!$E$28<65,(AU5+(AU6-AU5)/32*(Avropsblankett!$E$28-32)),IF(Avropsblankett!$E$28<129,(AU6+(AU7-AU6)/64*(Avropsblankett!$E$28-64)),\"\")))","v":0},null,null,{"$f":"IF(Avropsblankett!$C$28=$A$4,IF(Avropsblankett!$E$28<65,(AX5+(AX6-AX5)/32*(Avropsblankett!$E$28-32)),IF(Avropsblankett!$E$28<129,(AX6+(AX7-AX6)/64*(Avropsblankett!$E$28-64)),\"\")),\"\")","v":""},null,{"$f":"(Avropsblankett!$F$28-500)/100*IF(Avropsblankett!$C$28=$A$4,IF(Avropsblankett!$E$28<65,(AZ5+(AZ6-AZ5)/32*(Avropsblankett!$E$28-32)),IF(Avropsblankett!$E$28<129,(AZ6+(AZ7-AZ6)/64*(Avropsblankett!$E$28-64)),\"\")))","v":0}]
[null,null,null,null,{"$f":"IF(Avropsblankett!$C$40=$A$4,IF(Avropsblankett!$E$40<65,(E5+(E6-E5)/32*(Avropsblankett!$E$40-32)),IF(Avropsblankett!$E$40<129,(E6+(E7-E6)/64*(Avropsblankett!$E$40-64)),\"\")),\"\")","v":""},null,{"$f":"(Avropsblankett!$F$40-500)/100*IF(Avropsblankett!$C$40=$A$4,IF(Avropsblankett!$E$40<65,(G5+(G6-G5)/32*(Avropsblankett!$E$40-32)),IF(Avropsblankett!$E$40<129,(G6+(G7-G6)/64*(Avropsblankett!$E$40-64)),\"\")))","v":0},null,null,{"$f":"IF(Avropsblankett!$C$40=$A$4,IF(Avropsblankett!$E$40<65,(J5+(J6-J5)/32*(Avropsblankett!$E$40-32)),IF(Avropsblankett!$E$40<129,(J6+(J7-J6)/64*(Avropsblankett!$E$40-64)),\"\")),\"\")","v":""},null,{"$f":"(Avropsblankett!$F$40-500)/100*IF(Avropsblankett!$C$40=$A$4,IF(Avropsblankett!$E$40<65,(L5+(L6-L5)/32*(Avropsblankett!$E$40-32)),IF(Avropsblankett!$E$40<129,(L6+(L7-L6)/64*(Avropsblankett!$E$40-64)),\"\")))","v":0},null,null,{"$f":"IF(Avropsblankett!$C$40=$A$4,IF(Avropsblankett!$E$40<65,(O5+(O6-O5)/32*(Avropsblankett!$E$40-32)),IF(Avropsblankett!$E$40<129,(O6+(O7-O6)/64*(Avropsblankett!$E$40-64)),\"\")),\"\")","v":""},null,{"$f":"(Avropsblankett!$F$40-500)/100*IF(Avropsblankett!$C$40=$A$4,IF(Avropsblankett!$E$40<65,(Q5+(Q6-Q5)/32*(Avropsblankett!$E$40-32)),IF(Avropsblankett!$E$40<129,(Q6+(Q7-Q6)/64*(Avropsblankett!$E$40-64)),\"\")))","v":0},null,null,{"$f":"IF(Avropsblankett!$C$40=$A$4,IF(Avropsblankett!$E$40<65,(T5+(T6-T5)/32*(Avropsblankett!$E$40-32)),IF(Avropsblankett!$E$40<129,(T6+(T7-T6)/64*(Avropsblankett!$E$40-64)),\"\")),\"\")","v":""},null,{"$f":"(Avropsblankett!$F$40-500)/100*IF(Avropsblankett!$C$40=$A$4,IF(Avropsblankett!$E$40<65,(V5+(V6-V5)/32*(Avropsblankett!$E$40-32)),IF(Avropsblankett!$E$40<129,(V6+(V7-V6)/64*(Avropsblankett!$E$40-64)),\"\")))","v":0},null,null,{"$f":"IF(Avropsblankett!$C$40=$A$4,IF(Avropsblankett!$E$40<65,(Y5+(Y6-Y5)/32*(Avropsblankett!$E$40-32)),IF(Avropsblankett!$E$40<129,(Y6+(Y7-Y6)/64*(Avropsblankett!$E$40-64)),\"\")),\"\")","v":""},null,{"$f":"(Avropsblankett!$F$40-500)/100*IF(Avropsblankett!$C$40=$A$4,IF(Avropsblankett!$E$40<65,(AA5+(AA6-AA5)/32*(Avropsblankett!$E$40-32)),IF(Avropsblankett!$E$40<129,(AA6+(AA7-AA6)/64*(Avropsblankett!$E$40-64)),\"\")))","v":0},null,null,{"$f":"IF(Avropsblankett!$C$40=$A$4,IF(Avropsblankett!$E$40<65,(AD5+(AD6-AD5)/32*(Avropsblankett!$E$40-32)),IF(Avropsblankett!$E$40<129,(AD6+(AD7-AD6)/64*(Avropsblankett!$E$40-64)),\"\")),\"\")","v":""},null,{"$f":"(Avropsblankett!$F$40-500)/100*IF(Avropsblankett!$C$40=$A$4,IF(Avropsblankett!$E$40<65,(AF5+(AF6-AF5)/32*(Avropsblankett!$E$40-32)),IF(Avropsblankett!$E$40<129,(AF6+(AF7-AF6)/64*(Avropsblankett!$E$40-64)),\"\")))","v":0},null,null,{"$f":"IF(Avropsblankett!$C$40=$A$4,IF(Avropsblankett!$E$40<65,(AI5+(AI6-AI5)/32*(Avropsblankett!$E$40-32)),IF(Avropsblankett!$E$40<129,(AI6+(AI7-AI6)/64*(Avropsblankett!$E$40-64)),\"\")),\"\")","v":""},null,{"$f":"(Avropsblankett!$F$40-500)/100*IF(Avropsblankett!$C$40=$A$4,IF(Avropsblankett!$E$40<65,(AK5+(AK6-AK5)/32*(Avropsblankett!$E$40-32)),IF(Avropsblankett!$E$40<129,(AK6+(AK7-AK6)/64*(Avropsblankett!$E$40-64)),\"\")))","v":0},null,null,{"$f":"IF(Avropsblankett!$C$40=$A$4,IF(Avropsblankett!$E$40<65,(AN5+(AN6-AN5)/32*(Avropsblankett!$E$40-32)),IF(Avropsblankett!$E$40<129,(AN6+(AN7-AN6)/64*(Avropsblankett!$E$40-64)),\"\")),\"\")","v":""},null,{"$f":"(Avropsblankett!$F$40-500)/100*IF(Avropsblankett!$C$40=$A$4,IF(Avropsblankett!$E$40<65,(AP5+(AP6-AP5)/32*(Avropsblankett!$E$40-32)),IF(Avropsblankett!$E$40<129,(AP6+(AP7-AP6)/64*(Avropsblankett!$E$40-64)),\"\")))","v":0},null,null,{"$f":"IF(Avropsblankett!$C$40=$A$4,IF(Avropsblankett!$E$40<65,(AS5+(AS6-AS5)/32*(Avropsblankett!$E$40-32)),IF(Avropsblankett!$E$40<129,(AS6+(AS7-AS6)/64*(Avropsblankett!$E$40-64)),\"\")),\"\")","v":""},null,{"$f":"(Avropsblankett!$F$40-500)/100*IF(Avropsblankett!$C$40=$A$4,IF(Avropsblankett!$E$40<65,(AU5+(AU6-AU5)/32*(Avropsblankett!$E$40-32)),IF(Avropsblankett!$E$40<129,(AU6+(AU7-AU6)/64*(Avropsblankett!$E$40-64)),\"\")))","v":0},null,null,{"$f":"IF(Avropsblankett!$C$40=$A$4,IF(Avropsblankett!$E$40<65,(AX5+(AX6-AX5)/32*(Avropsblankett!$E$40-32)),IF(Avropsblankett!$E$40<129,(AX6+(AX7-AX6)/64*(Avropsblankett!$E$40-64)),\"\")),\"\")","v":""},null,{"$f":"(Avropsblankett!$F$40-500)/100*IF(Avropsblankett!$C$40=$A$4,IF(Avropsblankett!$E$40<65,(AZ5+(AZ6-AZ5)/32*(Avropsblankett!$E$40-32)),IF(Avropsblankett!$E$40<129,(AZ6+(AZ7-AZ6)/64*(Avropsblankett!$E$40-64)),\"\")))","v":0}]
[null,null,null,null,{"$f":"IF(Avropsblankett!$C$52=$A$4,IF(Avropsblankett!$E$52<65,(E5+(E6-E5)/32*(Avropsblankett!$E$52-32)),IF(Avropsblankett!$E$52<129,(E6+(E7-E6)/64*(Avropsblankett!$E$52-64)),\"\")),\"\")","v":""},null,{"$f":"(Avropsblankett!$F$52-500)/100*IF(Avropsblankett!$C$52=$A$4,IF(Avropsblankett!$E$52<65,(G5+(G6-G5)/32*(Avropsblankett!$E$52-32)),IF(Avropsblankett!$E$52<129,(G6+(G7-G6)/64*(Avropsblankett!$E$52-64)),\"\")))","v":0},null,null,{"$f":"IF(Avropsblankett!$C$52=$A$4,IF(Avropsblankett!$E$52<65,(J5+(J6-J5)/32*(Avropsblankett!$E$52-32)),IF(Avropsblankett!$E$52<129,(J6+(J7-J6)/64*(Avropsblankett!$E$52-64)),\"\")),\"\")","v":""},null,{"$f":"(Avropsblankett!$F$52-500)/100*IF(Avropsblankett!$C$52=$A$4,IF(Avropsblankett!$E$52<65,(L5+(L6-L5)/32*(Avropsblankett!$E$52-32)),IF(Avropsblankett!$E$52<129,(L6+(L7-L6)/64*(Avropsblankett!$E$52-64)),\"\")))","v":0},null,null,{"$f":"IF(Avropsblankett!$C$52=$A$4,IF(Avropsblankett!$E$52<65,(O5+(O6-O5)/32*(Avropsblankett!$E$52-32)),IF(Avropsblankett!$E$52<129,(O6+(O7-O6)/64*(Avropsblankett!$E$52-64)),\"\")),\"\")","v":""},null,{"$f":"(Avropsblankett!$F$52-500)/100*IF(Avropsblankett!$C$52=$A$4,IF(Avropsblankett!$E$52<65,(Q5+(Q6-Q5)/32*(Avropsblankett!$E$52-32)),IF(Avropsblankett!$E$52<129,(Q6+(Q7-Q6)/64*(Avropsblankett!$E$52-64)),\"\")))","v":0},null,null,{"$f":"IF(Avropsblankett!$C$52=$A$4,IF(Avropsblankett!$E$52<65,(T5+(T6-T5)/32*(Avropsblankett!$E$52-32)),IF(Avropsblankett!$E$52<129,(T6+(T7-T6)/64*(Avropsblankett!$E$52-64)),\"\")),\"\")","v":""},null,{"$f":"(Avropsblankett!$F$52-500)/100*IF(Avropsblankett!$C$52=$A$4,IF(Avropsblankett!$E$52<65,(V5+(V6-V5)/32*(Avropsblankett!$E$52-32)),IF(Avropsblankett!$E$52<129,(V6+(V7-V6)/64*(Avropsblankett!$E$52-64)),\"\")))","v":0},null,null,{"$f":"IF(Avropsblankett!$C$52=$A$4,IF(Avropsblankett!$E$52<65,(Y5+(Y6-Y5)/32*(Avropsblankett!$E$52-32)),IF(Avropsblankett!$E$52<129,(Y6+(Y7-Y6)/64*(Avropsblankett!$E$52-64)),\"\")),\"\")","v":""},null,{"$f":"(Avropsblankett!$F$52-500)/100*IF(Avropsblankett!$C$52=$A$4,IF(Avropsblankett!$E$52<65,(AA5+(AA6-AA5)/32*(Avropsblankett!$E$52-32)),IF(Avropsblankett!$E$52<129,(AA6+(AA7-AA6)/64*(Avropsblankett!$E$52-64)),\"\")))","v":0},null,null,{"$f":"IF(Avropsblankett!$C$52=$A$4,IF(Avropsblankett!$E$52<65,(AD5+(AD6-AD5)/32*(Avropsblankett!$E$52-32)),IF(Avropsblankett!$E$52<129,(AD6+(AD7-AD6)/64*(Avropsblankett!$E$52-64)),\"\")),\"\")","v":""},null,{"$f":"(Avropsblankett!$F$52-500)/100*IF(Avropsblankett!$C$52=$A$4,IF(Avropsblankett!$E$52<65,(AF5+(AF6-AF5)/32*(Avropsblankett!$E$52-32)),IF(Avropsblankett!$E$52<129,(AF6+(AF7-AF6)/64*(Avropsblankett!$E$52-64)),\"\")))","v":0},null,null,{"$f":"IF(Avropsblankett!$C$52=$A$4,IF(Avropsblankett!$E$52<65,(AI5+(AI6-AI5)/32*(Avropsblankett!$E$52-32)),IF(Avropsblankett!$E$52<129,(AI6+(AI7-AI6)/64*(Avropsblankett!$E$52-64)),\"\")),\"\")","v":""},null,{"$f":"(Avropsblankett!$F$52-500)/100*IF(Avropsblankett!$C$52=$A$4,IF(Avropsblankett!$E$52<65,(AK5+(AK6-AK5)/32*(Avropsblankett!$E$52-32)),IF(Avropsblankett!$E$52<129,(AK6+(AK7-AK6)/64*(Avropsblankett!$E$52-64)),\"\")))","v":0},null,null,{"$f":"IF(Avropsblankett!$C$52=$A$4,IF(Avropsblankett!$E$52<65,(AN5+(AN6-AN5)/32*(Avropsblankett!$E$52-32)),IF(Avropsblankett!$E$52<129,(AN6+(AN7-AN6)/64*(Avropsblankett!$E$52-64)),\"\")),\"\")","v":""},null,{"$f":"(Avropsblankett!$F$52-500)/100*IF(Avropsblankett!$C$52=$A$4,IF(Avropsblankett!$E$52<65,(AP5+(AP6-AP5)/32*(Avropsblankett!$E$52-32)),IF(Avropsblankett!$E$52<129,(AP6+(AP7-AP6)/64*(Avropsblankett!$E$52-64)),\"\")))","v":0},null,null,{"$f":"IF(Avropsblankett!$C$52=$A$4,IF(Avropsblankett!$E$52<65,(AS5+(AS6-AS5)/32*(Avropsblankett!$E$52-32)),IF(Avropsblankett!$E$52<129,(AS6+(AS7-AS6)/64*(Avropsblankett!$E$52-64)),\"\")),\"\")","v":""},null,{"$f":"(Avropsblankett!$F$52-500)/100*IF(Avropsblankett!$C$52=$A$4,IF(Avropsblankett!$E$52<65,(AU5+(AU6-AU5)/32*(Avropsblankett!$E$52-32)),IF(Avropsblankett!$E$52<129,(AU6+(AU7-AU6)/64*(Avropsblankett!$E$52-64)),\"\")))","v":0},null,null,{"$f":"IF(Avropsblankett!$C$52=$A$4,IF(Avropsblankett!$E$52<65,(AX5+(AX6-AX5)/32*(Avropsblankett!$E$52-32)),IF(Avropsblankett!$E$52<129,(AX6+(AX7-AX6)/64*(Avropsblankett!$E$52-64)),\"\")),\"\")","v":""},null,{"$f":"(Avropsblankett!$F$52-500)/100*IF(Avropsblankett!$C$52=$A$4,IF(Avropsblankett!$E$52<65,(AZ5+(AZ6-AZ5)/32*(Avropsblankett!$E$52-32)),IF(Avropsblankett!$E$52<129,(AZ6+(AZ7-AZ6)/64*(Avropsblankett!$E$52-64)),\"\")))","v":0}]
[null,null,null,null,{"$f":"IF(Avropsblankett!$C$64=$A$4,IF(Avropsblankett!$E$64<65,(E5+(E6-E5)/32*(Avropsblankett!$E$64-32)),IF(Avropsblankett!$E$64<129,(E6+(E7-E6)/64*(Avropsblankett!$E$64-64)),\"\")),\"\")","v":""},null,{"$f":"(Avropsblankett!$F$64-500)/100*IF(Avropsblankett!$C$64=$A$4,IF(Avropsblankett!$E$64<65,(G5+(G6-G5)/32*(Avropsblankett!$E$64-32)),IF(Avropsblankett!$E$64<129,(G6+(G7-G6)/64*(Avropsblankett!$E$64-64)),\"\")))","v":0},null,null,{"$f":"IF(Avropsblankett!$C$64=$A$4,IF(Avropsblankett!$E$64<65,(J5+(J6-J5)/32*(Avropsblankett!$E$64-32)),IF(Avropsblankett!$E$64<129,(J6+(J7-J6)/64*(Avropsblankett!$E$64-64)),\"\")),\"\")","v":""},null,{"$f":"(Avropsblankett!$F$64-500)/100*IF(Avropsblankett!$C$64=$A$4,IF(Avropsblankett!$E$64<65,(L5+(L6-L5)/32*(Avropsblankett!$E$64-32)),IF(Avropsblankett!$E$64<129,(L6+(L7-L6)/64*(Avropsblankett!$E$64-64)),\"\")))","v":0},null,null,{"$f":"IF(Avropsblankett!$C$64=$A$4,IF(Avropsblankett!$E$64<65,(O5+(O6-O5)/32*(Avropsblankett!$E$64-32)),IF(Avropsblankett!$E$64<129,(O6+(O7-O6)/64*(Avropsblankett!$E$64-64)),\"\")),\"\")","v":""},null,{"$f":"(Avropsblankett!$F$64-500)/100*IF(Avropsblankett!$C$64=$A$4,IF(Avropsblankett!$E$64<65,(Q5+(Q6-Q5)/32*(Avropsblankett!$E$64-32)),IF(Avropsblankett!$E$64<129,(Q6+(Q7-Q6)/64*(Avropsblankett!$E$64-64)),\"\")))","v":0},null,null,{"$f":"IF(Avropsblankett!$C$64=$A$4,IF(Avropsblankett!$E$64<65,(T5+(T6-T5)/32*(Avropsblankett!$E$64-32)),IF(Avropsblankett!$E$64<129,(T6+(T7-T6)/64*(Avropsblankett!$E$64-64)),\"\")),\"\")","v":""},null,{"$f":"(Avropsblankett!$F$64-500)/100*IF(Avropsblankett!$C$64=$A$4,IF(Avropsblankett!$E$64<65,(V5+(V6-V5)/32*(Avropsblankett!$E$64-32)),IF(Avropsblankett!$E$64<129,(V6+(V7-V6)/64*(Avropsblankett!$E$64-64)),\"\")))","v":0},null,null,{"$f":"IF(Avropsblankett!$C$64=$A$4,IF(Avropsblankett!$E$64<65,(Y5+(Y6-Y5)/32*(Avropsblankett!$E$64-32)),IF(Avropsblankett!$E$64<129,(Y6+(Y7-Y6)/64*(Avropsblankett!$E$64-64)),\"\")),\"\")","v":""},null,{"$f":"(Avropsblankett!$F$64-500)/100*IF(Avropsblankett!$C$64=$A$4,IF(Avropsblankett!$E$64<65,(AA5+(AA6-AA5)/32*(Avropsblankett!$E$64-32)),IF(Avropsblankett!$E$64<129,(AA6+(AA7-AA6)/64*(Avropsblankett!$E$64-64)),\"\")))","v":0},null,null,{"$f":"IF(Avropsblankett!$C$64=$A$4,IF(Avropsblankett!$E$64<65,(AD5+(AD6-AD5)/32*(Avropsblankett!$E$64-32)),IF(Avropsblankett!$E$64<129,(AD6+(AD7-AD6)/64*(Avropsblankett!$E$64-64)),\"\")),\"\")","v":""},null,{"$f":"(Avropsblankett!$F$64-500)/100*IF(Avropsblankett!$C$64=$A$4,IF(Avropsblankett!$E$64<65,(AF5+(AF6-AF5)/32*(Avropsblankett!$E$64-32)),IF(Avropsblankett!$E$64<129,(AF6+(AF7-AF6)/64*(Avropsblankett!$E$64-64)),\"\")))","v":0},null,null,{"$f":"IF(Avropsblankett!$C$64=$A$4,IF(Avropsblankett!$E$64<65,(AI5+(AI6-AI5)/32*(Avropsblankett!$E$64-32)),IF(Avropsblankett!$E$64<129,(AI6+(AI7-AI6)/64*(Avropsblankett!$E$64-64)),\"\")),\"\")","v":""},null,{"$f":"(Avropsblankett!$F$64-500)/100*IF(Avropsblankett!$C$64=$A$4,IF(Avropsblankett!$E$64<65,(AK5+(AK6-AK5)/32*(Avropsblankett!$E$64-32)),IF(Avropsblankett!$E$64<129,(AK6+(AK7-AK6)/64*(Avropsblankett!$E$64-64)),\"\")))","v":0},null,null,{"$f":"IF(Avropsblankett!$C$64=$A$4,IF(Avropsblankett!$E$64<65,(AN5+(AN6-AN5)/32*(Avropsblankett!$E$64-32)),IF(Avropsblankett!$E$64<129,(AN6+(AN7-AN6)/64*(Avropsblankett!$E$64-64)),\"\")),\"\")","v":""},null,{"$f":"(Avropsblankett!$F$64-500)/100*IF(Avropsblankett!$C$64=$A$4,IF(Avropsblankett!$E$64<65,(AP5+(AP6-AP5)/32*(Avropsblankett!$E$64-32)),IF(Avropsblankett!$E$64<129,(AP6+(AP7-AP6)/64*(Avropsblankett!$E$64-64)),\"\")))","v":0},null,null,{"$f":"IF(Avropsblankett!$C$64=$A$4,IF(Avropsblankett!$E$64<65,(AS5+(AS6-AS5)/32*(Avropsblankett!$E$64-32)),IF(Avropsblankett!$E$64<129,(AS6+(AS7-AS6)/64*(Avropsblankett!$E$64-64)),\"\")),\"\")","v":""},null,{"$f":"(Avropsblankett!$F$64-500)/100*IF(Avropsblankett!$C$64=$A$4,IF(Avropsblankett!$E$64<65,(AU5+(AU6-AU5)/32*(Avropsblankett!$E$64-32)),IF(Avropsblankett!$E$64<129,(AU6+(AU7-AU6)/64*(Avropsblankett!$E$64-64)),\"\")))","v":0},null,null,{"$f":"IF(Avropsblankett!$C$64=$A$4,IF(Avropsblankett!$E$64<65,(AX5+(AX6-AX5)/32*(Avropsblankett!$E$64-32)),IF(Avropsblankett!$E$64<129,(AX6+(AX7-AX6)/64*(Avropsblankett!$E$64-64)),\"\")),\"\")","v":""},null,{"$f":"(Avropsblankett!$F$64-500)/100*IF(Avropsblankett!$C$64=$A$4,IF(Avropsblankett!$E$64<65,(AZ5+(AZ6-AZ5)/32*(Avropsblankett!$E$64-32)),IF(Avropsblankett!$E$64<129,(AZ6+(AZ7-AZ6)/64*(Avropsblankett!$E$64-64)),\"\")))","v":0}]
[null,null,null,null,{"$f":"IF(Avropsblankett!$C$76=$A$4,IF(Avropsblankett!$E$76<65,(E5+(E6-E5)/32*(Avropsblankett!$E$76-32)),IF(Avropsblankett!$E$76<129,(E6+(E7-E6)/64*(Avropsblankett!$E$76-64)),\"\")),\"\")","v":""},null,{"$f":"(Avropsblankett!$F$76-500)/100*IF(Avropsblankett!$C$76=$A$4,IF(Avropsblankett!$E$76<65,(G5+(G6-G5)/32*(Avropsblankett!$E$76-32)),IF(Avropsblankett!$E$76<129,(G6+(G7-G6)/64*(Avropsblankett!$E$76-64)),\"\")))","v":0},null,null,{"$f":"IF(Avropsblankett!$C$76=$A$4,IF(Avropsblankett!$E$76<65,(J5+(J6-J5)/32*(Avropsblankett!$E$76-32)),IF(Avropsblankett!$E$76<129,(J6+(J7-J6)/64*(Avropsblankett!$E$76-64)),\"\")),\"\")","v":""},null,{"$f":"(Avropsblankett!$F$76-500)/100*IF(Avropsblankett!$C$76=$A$4,IF(Avropsblankett!$E$76<65,(L5+(L6-L5)/32*(Avropsblankett!$E$76-32)),IF(Avropsblankett!$E$76<129,(L6+(L7-L6)/64*(Avropsblankett!$E$76-64)),\"\")))","v":0},null,null,{"$f":"IF(Avropsblankett!$C$76=$A$4,IF(Avropsblankett!$E$76<65,(O5+(O6-O5)/32*(Avropsblankett!$E$76-32)),IF(Avropsblankett!$E$76<129,(O6+(O7-O6)/64*(Avropsblankett!$E$76-64)),\"\")),\"\")","v":""},null,{"$f":"(Avropsblankett!$F$76-500)/100*IF(Avropsblankett!$C$76=$A$4,IF(Avropsblankett!$E$76<65,(Q5+(Q6-Q5)/32*(Avropsblankett!$E$76-32)),IF(Avropsblankett!$E$76<129,(Q6+(Q7-Q6)/64*(Avropsblankett!$E$76-64)),\"\")))","v":0},null,null,{"$f":"IF(Avropsblankett!$C$76=$A$4,IF(Avropsblankett!$E$76<65,(T5+(T6-T5)/32*(Avropsblankett!$E$76-32)),IF(Avropsblankett!$E$76<129,(T6+(T7-T6)/64*(Avropsblankett!$E$76-64)),\"\")),\"\")","v":""},null,{"$f":"(Avropsblankett!$F$76-500)/100*IF(Avropsblankett!$C$76=$A$4,IF(Avropsblankett!$E$76<65,(V5+(V6-V5)/32*(Avropsblankett!$E$76-32)),IF(Avropsblankett!$E$76<129,(V6+(V7-V6)/64*(Avropsblankett!$E$76-64)),\"\")))","v":0},null,null,{"$f":"IF(Avropsblankett!$C$76=$A$4,IF(Avropsblankett!$E$76<65,(Y5+(Y6-Y5)/32*(Avropsblankett!$E$76-32)),IF(Avropsblankett!$E$76<129,(Y6+(Y7-Y6)/64*(Avropsblankett!$E$76-64)),\"\")),\"\")","v":""},null,{"$f":"(Avropsblankett!$F$76-500)/100*IF(Avropsblankett!$C$76=$A$4,IF(Avropsblankett!$E$76<65,(AA5+(AA6-AA5)/32*(Avropsblankett!$E$76-32)),IF(Avropsblankett!$E$76<129,(AA6+(AA7-AA6)/64*(Avropsblankett!$E$76-64)),\"\")))","v":0},null,null,{"$f":"IF(Avropsblankett!$C$76=$A$4,IF(Avropsblankett!$E$76<65,(AD5+(AD6-AD5)/32*(Avropsblankett!$E$76-32)),IF(Avropsblankett!$E$76<129,(AD6+(AD7-AD6)/64*(Avropsblankett!$E$76-64)),\"\")),\"\")","v":""},null,{"$f":"(Avropsblankett!$F$76-500)/100*IF(Avropsblankett!$C$76=$A$4,IF(Avropsblankett!$E$76<65,(AF5+(AF6-AF5)/32*(Avropsblankett!$E$76-32)),IF(Avropsblankett!$E$76<129,(AF6+(AF7-AF6)/64*(Avropsblankett!$E$76-64)),\"\")))","v":0},null,null,{"$f":"IF(Avropsblankett!$C$76=$A$4,IF(Avropsblankett!$E$76<65,(AI5+(AI6-AI5)/32*(Avropsblankett!$E$76-32)),IF(Avropsblankett!$E$76<129,(AI6+(AI7-AI6)/64*(Avropsblankett!$E$76-64)),\"\")),\"\")","v":""},null,{"$f":"(Avropsblankett!$F$76-500)/100*IF(Avropsblankett!$C$76=$A$4,IF(Avropsblankett!$E$76<65,(AK5+(AK6-AK5)/32*(Avropsblankett!$E$76-32)),IF(Avropsblankett!$E$76<129,(AK6+(AK7-AK6)/64*(Avropsblankett!$E$76-64)),\"\")))","v":0},null,null,{"$f":"IF(Avropsblankett!$C$76=$A$4,IF(Avropsblankett!$E$76<65,(AN5+(AN6-AN5)/32*(Avropsblankett!$E$76-32)),IF(Avropsblankett!$E$76<129,(AN6+(AN7-AN6)/64*(Avropsblankett!$E$76-64)),\"\")),\"\")","v":""},null,{"$f":"(Avropsblankett!$F$76-500)/100*IF(Avropsblankett!$C$76=$A$4,IF(Avropsblankett!$E$76<65,(AP5+(AP6-AP5)/32*(Avropsblankett!$E$76-32)),IF(Avropsblankett!$E$76<129,(AP6+(AP7-AP6)/64*(Avropsblankett!$E$76-64)),\"\")))","v":0},null,null,{"$f":"IF(Avropsblankett!$C$76=$A$4,IF(Avropsblankett!$E$76<65,(AS5+(AS6-AS5)/32*(Avropsblankett!$E$76-32)),IF(Avropsblankett!$E$76<129,(AS6+(AS7-AS6)/64*(Avropsblankett!$E$76-64)),\"\")),\"\")","v":""},null,{"$f":"(Avropsblankett!$F$76-500)/100*IF(Avropsblankett!$C$76=$A$4,IF(Avropsblankett!$E$76<65,(AU5+(AU6-AU5)/32*(Avropsblankett!$E$76-32)),IF(Avropsblankett!$E$76<129,(AU6+(AU7-AU6)/64*(Avropsblankett!$E$76-64)),\"\")))","v":0},null,null,{"$f":"IF(Avropsblankett!$C$76=$A$4,IF(Avropsblankett!$E$76<65,(AX5+(AX6-AX5)/32*(Avropsblankett!$E$76-32)),IF(Avropsblankett!$E$76<129,(AX6+(AX7-AX6)/64*(Avropsblankett!$E$76-64)),\"\")),\"\")","v":""},null,{"$f":"(Avropsblankett!$F$76-500)/100*IF(Avropsblankett!$C$76=$A$4,IF(Avropsblankett!$E$76<65,(AZ5+(AZ6-AZ5)/32*(Avropsblankett!$E$76-32)),IF(Avropsblankett!$E$76<129,(AZ6+(AZ7-AZ6)/64*(Avropsblankett!$E$76-64)),\"\")))","v":0}]
[null,null,null,null,{"$f":"SUM(E12:E16)","v":0},null,{"$f":"SUM(G12:G16)","v":0},null,null,{"$f":"SUM(J12:J16)","v":0},null,{"$f":"SUM(L12:L16)","v":0},null,null,{"$f":"SUM(O12:O16)","v":0},null,{"$f":"SUM(Q12:Q16)","v":0},null,null,{"$f":"SUM(T12:T16)","v":0},null,{"$f":"SUM(V12:V16)","v":0},null,null,{"$f":"SUM(Y12:Y16)","v":0},null,{"$f":"SUM(AA12:AA16)","v":0},null,null,{"$f":"SUM(AD12:AD16)","v":0},null,{"$f":"SUM(AF12:AF16)","v":0},null,null,{"$f":"SUM(AI12:AI16)","v":0},null,{"$f":"SUM(AK12:AK16)","v":0},null,null,{"$f":"SUM(AN12:AN16)","v":0},null,{"$f":"SUM(AP12:AP16)","v":0},null,null,{"$f":"SUM(AS12:AS16)","v":0},null,{"$f":"SUM(AU12:AU16)","v":0},null,null,{"$f":"SUM(AX12:AX16)","v":0},null,{"$f":"SUM(AZ12:AZ16)","v":0}]
["Rapport_2",null,"Beskrivning/omfång inklusive omslag","Upplaga","Ange pris","Följande","Ange pris",null,"Upplaga","Ange pris","Följande","Ange pris",null,"Upplaga","Ange pris","Följande","Ange pris",null,"Upplaga","Ange pris","Följande","Ange pris",null,"Upplaga","Ange pris","Följande","Ange pris",null,"Upplaga","Ange pris","Följande","Ange pris",null,"Upplaga","Ange pris","Följande","Ange pris",null,"Upplaga","Ange pris","Följande","Ange pris",null,"Upplaga","Ange pris","Följande","Ange pris",null,"Upplaga","Ange pris","Följande","Ange pris"]
["Underlag","A: Öppna filer. B: PDF/PDFx. ","32 sidor + omslag",500,3500,100,120,null,500,4150,100,752,null,500,3250,100,490,null,500,5500,100,385,null,500,2856,100,160,null,500,3411,100,485,null,500,2500,100,350,null,500,3427,100,680,null,500,6700,100,420,null,500,7410,100,1300]
["Format","165 x 242 mm","64 sidor + omslag",500,6800,100,280,null,500,5859,100,1094,null,500,5770,100,900,null,500,7000,100,500,null,500,5075,100,290,null,500,6916,100,885,null,500,4200,100,650,null,500,5801,100,1025,null,500,11900,100,795,null,500,10350,100,1890]
["Papper inlaga","mattbestruket 100 g","128 sidor + omslag",500,10900,100,470,null,500,8891,100,1703,null,500,10800,100,1750,null,500,10000,100,1000,null,500,7427,100,470,null,500,13205,100,1460,null,500,6500,100,1250,null,500,8670,100,1270,null,500,15001,100,1500,null,500,16230,100,3065]
["Papper omslag","mattbestruket 150 g"]
["Tryck inlaga","1+1 "]
["Tryck omslag","4+0 "]
["Bokbinderi","Limbindning"]
[null,null,null,null,{"$f":"IF(Avropsblankett!$C$28=$A$18,IF(Avropsblankett!$E$28<65,(E19+(E20-E19)/32*(Avropsblankett!$E$28-32)),IF(Avropsblankett!$E$28<129,(E20+(E21-E20)/64*(Avropsblankett!$E$28-64)),\"\")),\"\")","v":""},null,{"$f":"(Avropsblankett!$F$28-500)/100*IF(Avropsblankett!$C$28=$A$18,IF(Avropsblankett!$E$28<65,(G19+(G20-G19)/32*(Avropsblankett!$E$28-32)),IF(Avropsblankett!$E$28<129,(G20+(G21-G20)/64*(Avropsblankett!$E$28-64)),\"\")))","v":0},null,null,{"$f":"IF(Avropsblankett!$C$28=$A$18,IF(Avropsblankett!$E$28<65,(J19+(J20-J19)/32*(Avropsblankett!$E$28-32)),IF(Avropsblankett!$E$28<129,(J20+(J21-J20)/64*(Avropsblankett!$E$28-64)),\"\")),\"\")","v":""},null,{"$f":"(Avropsblankett!$F$28-500)/100*IF(Avropsblankett!$C$28=$A$18,IF(Avropsblankett!$E$28<65,(L19+(L20-L19)/32*(Avropsblankett!$E$28-32)),IF(Avropsblankett!$E$28<129,(L20+(L21-L20)/64*(Avropsblankett!$E$28-64)),\"\")))","v":0},null,null,{"$f":"IF(Avropsblankett!$C$28=$A$18,IF(Avropsblankett!$E$28<65,(O19+(O20-O19)/32*(Avropsblankett!$E$28-32)),IF(Avropsblankett!$E$28<129,(O20+(O21-O20)/64*(Avropsblankett!$E$28-64)),\"\")),\"\")","v":""},null,{"$f":"(Avropsblankett!$F$28-500)/100*IF(Avropsblankett!$C$28=$A$18,IF(Avropsblankett!$E$28<65,(Q19+(Q20-Q19)/32*(Avropsblankett!$E$28-32)),IF(Avropsblankett!$E$28<129,(Q20+(Q21-Q20)/64*(Avropsblankett!$E$28-64)),\"\")))","v":0},null,null,{"$f":"IF(Avropsblankett!$C$28=$A$18,IF(Avropsblankett!$E$28<65,(T19+(T20-T19)/32*(Avropsblankett!$E$28-32)),IF(Avropsblankett!$E$28<129,(T20+(T21-T20)/64*(Avropsblankett!$E$28-64)),\"\")),\"\")","v":""},null,{"$f":"(Avropsblankett!$F$28-500)/100*IF(Avropsblankett!$C$28=$A$18,IF(Avropsblankett!$E$28<65,(V19+(V20-V19)/32*(Avropsblankett!$E$28-32)),IF(Avropsblankett!$E$28<129,(V20+(V21-V20)/64*(Avropsblankett!$E$28-64)),\"\")))","v":0},null,null,{"$f":"IF(Avropsblankett!$C$28=$A$18,IF(Avropsblankett!$E$28<65,(Y19+(Y20-Y19)/32*(Avropsblankett!$E$28-32)),IF(Avropsblankett!$E$28<129,(Y20+(Y21-Y20)/64*(Avropsblankett!$E$28-64)),\"\")),\"\")","v":""},null,{"$f":"(Avropsblankett!$F$28-500)/100*IF(Avropsblankett!$C$28=$A$18,IF(Avropsblankett!$E$28<65,(AA19+(AA20-AA19)/32*(Avropsblankett!$E$28-32)),IF(Avropsblankett!$E$28<129,(AA20+(AA21-AA20)/64*(Avropsblankett!$E$28-64)),\"\")))","v":0},null,null,{"$f":"IF(Avropsblankett!$C$28=$A$18,IF(Avropsblankett!$E$28<65,(AD19+(AD20-AD19)/32*(Avropsblankett!$E$28-32)),IF(Avropsblankett!$E$28<129,(AD20+(AD21-AD20)/64*(Avropsblankett!$E$28-64)),\"\")),\"\")","v":""},null,{"$f":"(Avropsblankett!$F$28-500)/100*IF(Avropsblankett!$C$28=$A$18,IF(Avropsblankett!$E$28<65,(AF19+(AF20-AF19)/32*(Avropsblankett!$E$28-32)),IF(Avropsblankett!$E$28<129,(AF20+(AF21-AF20)/64*(Avropsblankett!$E$28-64)),\"\")))","v":0},null,null,{"$f":"IF(Avropsblankett!$C$28=$A$18,IF(Avropsblankett!$E$28<65,(AI19+(AI20-AI19)/32*(Avropsblankett!$E$28-32)),IF(Avropsblankett!$E$28<129,(AI20+(AI21-AI20)/64*(Avropsblankett!$E$28-64)),\"\")),\"\")","v":""},null,{"$f":"(Avropsblankett!$F$28-500)/100*IF(Avropsblankett!$C$28=$A$18,IF(Avropsblankett!$E$28<65,(AK19+(AK20-AK19)/32*(Avropsblankett!$E$28-32)),IF(Avropsblankett!$E$28<129,(AK20+(AK21-AK20)/64*(Avropsblankett!$E$28-64)),\"\")))","v":0},null,null,{"$f":"IF(Avropsblankett!$C$28=$A$18,IF(Avropsblankett!$E$28<65,(AN19+(AN20-AN19)/32*(Avropsblankett!$E$28-32)),IF(Avropsblankett!$E$28<129,(AN20+(AN21-AN20)/64*(Avropsblankett!$E$28-64)),\"\")),\"\")","v":""},null,{"$f":"(Avropsblankett!$F$28-500)/100*IF(Avropsblankett!$C$28=$A$18,IF(Avropsblankett!$E$28<65,(AP19+(AP20-AP19)/32*(Avropsblankett!$E$28-32)),IF(Avropsblankett!$E$28<129,(AP20+(AP21-AP20)/64*(Avropsblankett!$E$28-64)),\"\")))","v":0},null,null,{"$f":"IF(Avropsblankett!$C$28=$A$18,IF(Avropsblankett!$E$28<65,(AS19+(AS20-AS19)/32*(Avropsblankett!$E$28-32)),IF(Avropsblankett!$E$28<129,(AS20+(AS21-AS20)/64*(Avropsblankett!$E$28-64)),\"\")),\"\")","v":""},null,{"$f":"(Avropsblankett!$F$28-500)/100*IF(Avropsblankett!$C$28=$A$18,IF(Avropsblankett!$E$28<65,(AU19+(AU20-AU19)/32*(Avropsblankett!$E$28-32)),IF(Avropsblankett!$E$28<129,(AU20+(AU21-AU20)/64*(Avropsblankett!$E$28-64)),\"\")))","v":0},null,null,{"$f":"IF(Avropsblankett!$C$28=$A$18,IF(Avropsblankett!$E$28<65,(AX19+(AX20-AX19)/32*(Avropsblankett!$E$28-32)),IF(Avropsblankett!$E$28<129,(AX20+(AX21-AX20)/64*(Avropsblankett!$E$28-64)),\"\")),\"\")","v":""},null,{"$f":"(Avropsblankett!$F$28-500)/100*IF(Avropsblankett!$C$28=$A$18,IF(Avropsblankett!$E$28<65,(AZ19+(AZ20-AZ19)/32*(Avropsblankett!$E$28-32)),IF(Avropsblankett!$E$28<129,(AZ20+(AZ21-AZ20)/64*(Avropsblankett!$E$28-64)),\"\")))","v":0}]
[null,null,null,null,{"$f":"IF(Avropsblankett!$C$40=$A$18,IF(Avropsblankett!$E$40<65,(E19+(E20-E19)/32*(Avropsblankett!$E$40-32)),IF(Avropsblankett!$E$40<129,(E20+(E21-E20)/64*(Avropsblankett!$E$40-64)),\"\")),\"\")","v":""},null,{"$f":"(Avropsblankett!$F$40-500)/100*IF(Avropsblankett!$C$40=$A$18,IF(Avropsblankett!$E$40<65,(G19+(G20-G19)/32*(Avropsblankett!$E$40-32)),IF(Avropsblankett!$E$40<129,(G20+(G21-G20)/64*(Avropsblankett!$E$40-64)),\"\")))","v":0},null,null,{"$f":"IF(Avropsblankett!$C$40=$A$18,IF(Avropsblankett!$E$40<65,(J19+(J20-J19)/32*(Avropsblankett!$E$40-32)),IF(Avropsblankett!$E$40<129,(J20+(J21-J20)/64*(Avropsblankett!$E$40-64)),\"\")),\"\")","v":""},null,{"$f":"(Avropsblankett!$F$40-500)/100*IF(Avropsblankett!$C$40=$A$18,IF(Avropsblankett!$E$40<65,(L19+(L20-L19)/32*(Avropsblankett!$E$40-32)),IF(Avropsblankett!$E$40<129,(L20+(L21-L20)/64*(Avropsblankett!$E$40-64)),\"\")))","v":0},null,null,{"$f":"IF(Avropsblankett!$C$40=$A$18,IF(Avropsblankett!$E$40<65,(O19+(O20-O19)/32*(Avropsblankett!$E$40-32)),IF(Avropsblankett!$E$40<129,(O20+(O21-O20)/64*(Avropsblankett!$E$40-64)),\"\")),\"\")","v":""},null,{"$f":"(Avropsblankett!$F$40-500)/100*IF(Avropsblankett!$C$40=$A$18,IF(Avropsblankett!$E$40<65,(Q19+(Q20-Q19)/32*(Avropsblankett!$E$40-32)),IF(Avropsblankett!$E$40<129,(Q20+(Q21-Q20)/64*(Avropsblankett!$E$40-64)),\"\")))","v":0},null,null,{"$f":"IF(Avropsblankett!$C$40=$A$18,IF(Avropsblankett!$E$40<65,(T19+(T20-T19)/32*(Avropsblankett!$E$40-32)),IF(Avropsblankett!$E$40<129,(T20+(T21-T20)/64*(Avropsblankett!$E$40-64)),\"\")),\"\")","v":""},null,{"$f":"(Avropsblankett!$F$40-500)/100*IF(Avropsblankett!$C$40=$A$18,IF(Avropsblankett!$E$40<65,(V19+(V20-V19)/32*(Avropsblankett!$E$40-32)),IF(Avropsblankett!$E$40<129,(V20+(V21-V20)/64*(Avropsblankett!$E$40-64)),\"\")))","v":0},null,null,{"$f":"IF(Avropsblankett!$C$40=$A$18,IF(Avropsblankett!$E$40<65,(Y19+(Y20-Y19)/32*(Avropsblankett!$E$40-32)),IF(Avropsblankett!$E$40<129,(Y20+(Y21-Y20)/64*(Avropsblankett!$E$40-64)),\"\")),\"\")","v":""},null,{"$f":"(Avropsblankett!$F$40-500)/100*IF(Avropsblankett!$C$40=$A$18,IF(Avropsblankett!$E$40<65,(AA19+(AA20-AA19)/32*(Avropsblankett!$E$40-32)),IF(Avropsblankett!$E$40<129,(AA20+(AA21-AA20)/64*(Avropsblankett!$E$40-64)),\"\")))","v":0},null,null,{"$f":"IF(Avropsblankett!$C$40=$A$18,IF(Avropsblankett!$E$40<65,(AD19+(AD20-AD19)/32*(Avropsblankett!$E$40-32)),IF(Avropsblankett!$E$40<129,(AD20+(AD21-AD20)/64*(Avropsblankett!$E$40-64)),\"\")),\"\")","v":""},null,{"$f":"(Avropsblankett!$F$40-500)/100*IF(Avropsblankett!$C$40=$A$18,IF(Avropsblankett!$E$40<65,(AF19+(AF20-AF19)/32*(Avropsblankett!$E$40-32)),IF(Avropsblankett!$E$40<129,(AF20+(AF21-AF20)/64*(Avropsblankett!$E$40-64)),\"\")))","v":0},null,null,{"$f":"IF(Avropsblankett!$C$40=$A$18,IF(Avropsblankett!$E$40<65,(AI19+(AI20-AI19)/32*(Avropsblankett!$E$40-32)),IF(Avropsblankett!$E$40<129,(AI20+(AI21-AI20)/64*(Avropsblankett!$E$40-64)),\"\")),\"\")","v":""},null,{"$f":"(Avropsblankett!$F$40-500)/100*IF(Avropsblankett!$C$40=$A$18,IF(Avropsblankett!$E$40<65,(AK19+(AK20-AK19)/32*(Avropsblankett!$E$40-32)),IF(Avropsblankett!$E$40<129,(AK20+(AK21-AK20)/64*(Avropsblankett!$E$40-64)),\"\")))","v":0},null,null,{"$f":"IF(Avropsblankett!$C$40=$A$18,IF(Avropsblankett!$E$40<65,(AN19+(AN20-AN19)/32*(Avropsblankett!$E$40-32)),IF(Avropsblankett!$E$40<129,(AN20+(AN21-AN20)/64*(Avropsblankett!$E$40-64)),\"\")),\"\")","v":""},null,{"$f":"(Avropsblankett!$F$40-500)/100*IF(Avropsblankett!$C$40=$A$18,IF(Avropsblankett!$E$40<65,(AP19+(AP20-AP19)/32*(Avropsblankett!$E$40-32)),IF(Avropsblankett!$E$40<129,(AP20+(AP21-AP20)/64*(Avropsblankett!$E$40-64)),\"\")))","v":0},null,null,{"$f":"IF(Avropsblankett!$C$40=$A$18,IF(Avropsblankett!$E$40<65,(AS19+(AS20-AS19)/32*(Avropsblankett!$E$40-32)),IF(Avropsblankett!$E$40<129,(AS20+(AS21-AS20)/64*(Avropsblankett!$E$40-64)),\"\")),\"\")","v":""},null,{"$f":"(Avropsblankett!$F$40-500)/100*IF(Avropsblankett!$C$40=$A$18,IF(Avropsblankett!$E$40<65,(AU19+(AU20-AU19)/32*(Avropsblankett!$E$40-32)),IF(Avropsblankett!$E$40<129,(AU20+(AU21-AU20)/64*(Avropsblankett!$E$40-64)),\"\")))","v":0},null,null,{"$f":"IF(Avropsblankett!$C$40=$A$18,IF(Avropsblankett!$E$40<65,(AX19+(AX20-AX19)/32*(Avropsblankett!$E$40-32)),IF(Avropsblankett!$E$40<129,(AX20+(AX21-AX20)/64*(Avropsblankett!$E$40-64)),\"\")),\"\")","v":""},null,{"$f":"(Avropsblankett!$F$40-500)/100*IF(Avropsblankett!$C$40=$A$18,IF(Avropsblankett!$E$40<65,(AZ19+(AZ20-AZ19)/32*(Avropsblankett!$E$40-32)),IF(Avropsblankett!$E$40<129,(AZ20+(AZ21-AZ20)/64*(Avropsblankett!$E$40-64)),\"\")))","v":0}]
[null,null,null,null,{"$f":"IF(Avropsblankett!$C$52=$A$18,IF(Avropsblankett!$E$52<65,(E19+(E20-E19)/32*(Avropsblankett!$E$52-32)),IF(Avropsblankett!$E$52<129,(E20+(E21-E20)/64*(Avropsblankett!$E$52-64)),\"\")),\"\")","v":""},null,{"$f":"(Avropsblankett!$F$52-500)/100*IF(Avropsblankett!$C$52=$A$18,IF(Avropsblankett!$E$52<65,(G19+(G20-G19)/32*(Avropsblankett!$E$52-32)),IF(Avropsblankett!$E$52<129,(G20+(G21-G20)/64*(Avropsblankett!$E$52-64)),\"\")))","v":0},null,null,{"$f":"IF(Avropsblankett!$C$52=$A$18,IF(Avropsblankett!$E$52<65,(J19+(J20-J19)/32*(Avropsblankett!$E$52-32)),IF(Avropsblankett!$E$52<129,(J20+(J21-J20)/64*(Avropsblankett!$E$52-64)),\"\")),\"\")","v":""},null,{"$f":"(Avropsblankett!$F$52-500)/100*IF(Avropsblankett!$C$52=$A$18,IF(Avropsblankett!$E$52<65,(L19+(L20-L19)/32*(Avropsblankett!$E$52-32)),IF(Avropsblankett!$E$52<129,(L20+(L21-L20)/64*(Avropsblankett!$E$52-64)),\"\")))","v":0},null,null,{"$f":"IF(Avropsblankett!$C$52=$A$18,IF(Avropsblankett!$E$52<65,(O19+(O20-O19)/32*(Avropsblankett!$E$52-32)),IF(Avropsblankett!$E$52<129,(O20+(O21-O20)/64*(Avropsblankett!$E$52-64)),\"\")),\"\")","v":""},null,{"$f":"(Avropsblankett!$F$52-500)/100*IF(Avropsblankett!$C$52=$A$18,IF(Avropsblankett!$E$52<65,(Q19+(Q20-Q19)/32*(Avropsblankett!$E$52-32)),IF(Avropsblankett!$E$52<129,(Q20+(Q21-Q20)/64*(Avropsblankett!$E$52-64)),\"\")))","v":0},null,null,{"$f":"IF(Avropsblankett!$C$52=$A$18,IF(Avropsblankett!$E$52<65,(T19+(T20-T19)/32*(Avropsblankett!$E$52-32)),IF(Avropsblankett!$E$52<129,(T20+(T21-T20)/64*(Avropsblankett!$E$52-64)),\"\")),\"\")","v":""},null,{"$f":"(Avropsblankett!$F$52-500)/100*IF(Avropsblankett!$C$52=$A$18,IF(Avropsblankett!$E$52<65,(V19+(V20-V19)/32*(Avropsblankett!$E$52-32)),IF(Avropsblankett!$E$52<129,(V20+(V21-V20)/64*(Avropsblankett!$E$52-64)),\"\")))","v":0},null,null,{"$f":"IF(Avropsblankett!$C$52=$A$18,IF(Avropsblankett!$E$52<65,(Y19+(Y20-Y19)/32*(Avropsblankett!$E$52-32)),IF(Avropsblankett!$E$52<129,(Y20+(Y21-Y20)/64*(Avropsblankett!$E$52-64)),\"\")),\"\")","v":""},null,{"$f":"(Avropsblankett!$F$52-500)/100*IF(Avropsblankett!$C$52=$A$18,IF(Avropsblankett!$E$52<65,(AA19+(AA20-AA19)/32*(Avropsblankett!$E$52-32)),IF(Avropsblankett!$E$52<129,(AA20+(AA21-AA20)/64*(Avropsblankett!$E$52-64)),\"\")))","v":0},null,null,{"$f":"IF(Avropsblankett!$C$52=$A$18,IF(Avropsblankett!$E$52<65,(AD19+(AD20-AD19)/32*(Avropsblankett!$E$52-32)),IF(Avropsblankett!$E$52<129,(AD20+(AD21-AD20)/64*(Avropsblankett!$E$52-64)),\"\")),\"\")","v":""},null,{"$f":"(Avropsblankett!$F$52-500)/100*IF(Avropsblankett!$C$52=$A$18,IF(Avropsblankett!$E$52<65,(AF19+(AF20-AF19)/32*(Avropsblankett!$E$52-32)),IF(Avropsblankett!$E$52<129,(AF20+(AF21-AF20)/64*(Avropsblankett!$E$52-64)),\"\")))","v":0},null,null,{"$f":"IF(Avropsblankett!$C$52=$A$18,IF(Avropsblankett!$E$52<65,(AI19+(AI20-AI19)/32*(Avropsblankett!$E$52-32)),IF(Avropsblankett!$E$52<129,(AI20+(AI21-AI20)/64*(Avropsblankett!$E$52-64)),\"\")),\"\")","v":""},null,{"$f":"(Avropsblankett!$F$52-500)/100*IF(Avropsblankett!$C$52=$A$18,IF(Avropsblankett!$E$52<65,(AK19+(AK20-AK19)/32*(Avropsblankett!$E$52-32)),IF(Avropsblankett!$E$52<129,(AK20+(AK21-AK20)/64*(Avropsblankett!$E$52-64)),\"\")))","v":0},null,null,{"$f":"IF(Avropsblankett!$C$52=$A$18,IF(Avropsblankett!$E$52<65,(AN19+(AN20-AN19)/32*(Avropsblankett!$E$52-32)),IF(Avropsblankett!$E$52<129,(AN20+(AN21-AN20)/64*(Avropsblankett!$E$52-64)),\"\")),\"\")","v":""},null,{"$f":"(Avropsblankett!$F$52-500)/100*IF(Avropsblankett!$C$52=$A$18,IF(Avropsblankett!$E$52<65,(AP19+(AP20-AP19)/32*(Avropsblankett!$E$52-32)),IF(Avropsblankett!$E$52<129,(AP20+(AP21-AP20)/64*(Avropsblankett!$E$52-64)),\"\")))","v":0},null,null,{"$f":"IF(Avropsblankett!$C$52=$A$18,IF(Avropsblankett!$E$52<65,(AS19+(AS20-AS19)/32*(Avropsblankett!$E$52-32)),IF(Avropsblankett!$E$52<129,(AS20+(AS21-AS20)/64*(Avropsblankett!$E$52-64)),\"\")),\"\")","v":""},null,{"$f":"(Avropsblankett!$F$52-500)/100*IF(Avropsblankett!$C$52=$A$18,IF(Avropsblankett!$E$52<65,(AU19+(AU20-AU19)/32*(Avropsblankett!$E$52-32)),IF(Avropsblankett!$E$52<129,(AU20+(AU21-AU20)/64*(Avropsblankett!$E$52-64)),\"\")))","v":0},null,null,{"$f":"IF(Avropsblankett!$C$52=$A$18,IF(Avropsblankett!$E$52<65,(AX19+(AX20-AX19)/32*(Avropsblankett!$E$52-32)),IF(Avropsblankett!$E$52<129,(AX20+(AX21-AX20)/64*(Avropsblankett!$E$52-64)),\"\")),\"\")","v":""},null,{"$f":"(Avropsblankett!$F$52-500)/100*IF(Avropsblankett!$C$52=$A$18,IF(Avropsblankett!$E$52<65,(AZ19+(AZ20-AZ19)/32*(Avropsblankett!$E$52-32)),IF(Avropsblankett!$E$52<129,(AZ20+(AZ21-AZ20)/64*(Avropsblankett!$E$52-64)),\"\")))","v":0}]
[null,null,null,null,{"$f":"IF(Avropsblankett!$C$64=$A$18,IF(Avropsblankett!$E$64<65,(E19+(E20-E19)/32*(Avropsblankett!$E$64-32)),IF(Avropsblankett!$E$64<129,(E20+(E21-E20)/64*(Avropsblankett!$E$64-64)),\"\")),\"\")","v":""},null,{"$f":"(Avropsblankett!$F$64-500)/100*IF(Avropsblankett!$C$64=$A$18,IF(Avropsblankett!$E$64<65,(G19+(G20-G19)/32*(Avropsblankett!$E$64-32)),IF(Avropsblankett!$E$64<129,(G20+(G21-G20)/64*(Avropsblankett!$E$64-64)),\"\")))","v":0},null,null,{"$f":"IF(Avropsblankett!$C$64=$A$18,IF(Avropsblankett!$E$64<65,(J19+(J20-J19)/32*(Avropsblankett!$E$64-32)),IF(Avropsblankett!$E$64<129,(J20+(J21-J20)/64*(Avropsblankett!$E$64-64)),\"\")),\"\")","v":""},null,{"$f":"(Avropsblankett!$F$64-500)/100*IF(Avropsblankett!$C$64=$A$18,IF(Avropsblankett!$E$64<65,(L19+(L20-L19)/32*(Avropsblankett!$E$64-32)),IF(Avropsblankett!$E$64<129,(L20+(L21-L20)/64*(Avropsblankett!$E$64-64)),\"\")))","v":0},null,null,{"$f":"IF(Avropsblankett!$C$64=$A$18,IF(Avropsblankett!$E$64<65,(O19+(O20-O19)/32*(Avropsblankett!$E$64-32)),IF(Avropsblankett!$E$64<129,(O20+(O21-O20)/64*(Avropsblankett!$E$64-64)),\"\")),\"\")","v":""},null,{"$f":"(Avropsblankett!$F$64-500)/100*IF(Avropsblankett!$C$64=$A$18,IF(Avropsblankett!$E$64<65,(Q19+(Q20-Q19)/32*(Avropsblankett!$E$64-32)),IF(Avropsblankett!$E$64<129,(Q20+(Q21-Q20)/64*(Avropsblankett!$E$64-64)),\"\")))","v":0},null,null,{"$f":"IF(Avropsblankett!$C$64=$A$18,IF(Avropsblankett!$E$64<65,(T19+(T20-T19)/32*(Avropsblankett!$E$64-32)),IF(Avropsblankett!$E$64<129,(T20+(T21-T20)/64*(Avropsblankett!$E$64-64)),\"\")),\"\")","v":""},null,{"$f":"(Avropsblankett!$F$64-500)/100*IF(Avropsblankett!$C$64=$A$18,IF(Avropsblankett!$E$64<65,(V19+(V20-V19)/32*(Avropsblankett!$E$64-32)),IF(Avropsblankett!$E$64<129,(V20+(V21-V20)/64*(Avropsblankett!$E$64-64)),\"\")))","v":0},null,null,{"$f":"IF(Avropsblankett!$C$64=$A$18,IF(Avropsblankett!$E$64<65,(Y19+(Y20-Y19)/32*(Avropsblankett!$E$64-32)),IF(Avropsblankett!$E$64<129,(Y20+(Y21-Y20)/64*(Avropsblankett!$E$64-64)),\"\")),\"\")","v":""},null,{"$f":"(Avropsblankett!$F$64-500)/100*IF(Avropsblankett!$C$64=$A$18,IF(Avropsblankett!$E$64<65,(AA19+(AA20-AA19)/32*(Avropsblankett!$E$64-32)),IF(Avropsblankett!$E$64<129,(AA20+(AA21-AA20)/64*(Avropsblankett!$E$64-64)),\"\")))","v":0},null,null,{"$f":"IF(Avropsblankett!$C$64=$A$18,IF(Avropsblankett!$E$64<65,(AD19+(AD20-AD19)/32*(Avropsblankett!$E$64-32)),IF(Avropsblankett!$E$64<129,(AD20+(AD21-AD20)/64*(Avropsblankett!$E$64-64)),\"\")),\"\")","v":""},null,{"$f":"(Avropsblankett!$F$64-500)/100*IF(Avropsblankett!$C$64=$A$18,IF(Avropsblankett!$E$64<65,(AF19+(AF20-AF19)/32*(Avropsblankett!$E$64-32)),IF(Avropsblankett!$E$64<129,(AF20+(AF21-AF20)/64*(Avropsblankett!$E$64-64)),\"\")))","v":0},null,null,{"$f":"IF(Avropsblankett!$C$64=$A$18,IF(Avropsblankett!$E$64<65,(AI19+(AI20-AI19)/32*(Avropsblankett!$E$64-32)),IF(Avropsblankett!$E$64<129,(AI20+(AI21-AI20)/64*(Avropsblankett!$E$64-64)),\"\")),\"\")","v":""},null,{"$f":"(Avropsblankett!$F$64-500)/100*IF(Avropsblankett!$C$64=$A$18,IF(Avropsblankett!$E$64<65,(AK19+(AK20-AK19)/32*(Avropsblankett!$E$64-32)),IF(Avropsblankett!$E$64<129,(AK20+(AK21-AK20)/64*(Avropsblankett!$E$64-64)),\"\")))","v":0},null,null,{"$f":"IF(Avropsblankett!$C$64=$A$18,IF(Avropsblankett!$E$64<65,(AN19+(AN20-AN19)/32*(Avropsblankett!$E$64-32)),IF(Avropsblankett!$E$64<129,(AN20+(AN21-AN20)/64*(Avropsblankett!$E$64-64)),\"\")),\"\")","v":""},null,{"$f":"(Avropsblankett!$F$64-500)/100*IF(Avropsblankett!$C$64=$A$18,IF(Avropsblankett!$E$64<65,(AP19+(AP20-AP19)/32*(Avropsblankett!$E$64-32)),IF(Avropsblankett!$E$64<129,(AP20+(AP21-AP20)/64*(Avropsblankett!$E$64-64)),\"\")))","v":0},null,null,{"$f":"IF(Avropsblankett!$C$64=$A$18,IF(Avropsblankett!$E$64<65,(AS19+(AS20-AS19)/32*(Avropsblankett!$E$64-32)),IF(Avropsblankett!$E$64<129,(AS20+(AS21-AS20)/64*(Avropsblankett!$E$64-64)),\"\")),\"\")","v":""},null,{"$f":"(Avropsblankett!$F$64-500)/100*IF(Avropsblankett!$C$64=$A$18,IF(Avropsblankett!$E$64<65,(AU19+(AU20-AU19)/32*(Avropsblankett!$E$64-32)),IF(Avropsblankett!$E$64<129,(AU20+(AU21-AU20)/64*(Avropsblankett!$E$64-64)),\"\")))","v":0},null,null,{"$f":"IF(Avropsblankett!$C$64=$A$18,IF(Avropsblankett!$E$64<65,(AX19+(AX20-AX19)/32*(Avropsblankett!$E$64-32)),IF(Avropsblankett!$E$64<129,(AX20+(AX21-AX20)/64*(Avropsblankett!$E$64-64)),\"\")),\"\")","v":""},null,{"$f":"(Avropsblankett!$F$64-500)/100*IF(Avropsblankett!$C$64=$A$18,IF(Avropsblankett!$E$64<65,(AZ19+(AZ20-AZ19)/32*(Avropsblankett!$E$64-32)),IF(Avropsblankett!$E$64<129,(AZ20+(AZ21-AZ20)/64*(Avropsblankett!$E$64-64)),\"\")))","v":0}]
[null,null,null,null,{"$f":"IF(Avropsblankett!$C$76=$A$18,IF(Avropsblankett!$E$76<65,(E19+(E20-E19)/32*(Avropsblankett!$E$76-32)),IF(Avropsblankett!$E$76<129,(E20+(E21-E20)/64*(Avropsblankett!$E$76-64)),\"\")),\"\")","v":""},null,{"$f":"(Avropsblankett!$F$76-500)/100*IF(Avropsblankett!$C$76=$A$18,IF(Avropsblankett!$E$76<65,(G19+(G20-G19)/32*(Avropsblankett!$E$76-32)),IF(Avropsblankett!$E$76<129,(G20+(G21-G20)/64*(Avropsblankett!$E$76-64)),\"\")))","v":0},null,null,{"$f":"IF(Avropsblankett!$C$76=$A$18,IF(Avropsblankett!$E$76<65,(J19+(J20-J19)/32*(Avropsblankett!$E$76-32)),IF(Avropsblankett!$E$76<129,(J20+(J21-J20)/64*(Avropsblankett!$E$76-64)),\"\")),\"\")","v":""},null,{"$f":"(Avropsblankett!$F$76-500)/100*IF(Avropsblankett!$C$76=$A$18,IF(Avropsblankett!$E$76<65,(L19+(L20-L19)/32*(Avropsblankett!$E$76-32)),IF(Avropsblankett!$E$76<129,(L20+(L21-L20)/64*(Avropsblankett!$E$76-64)),\"\")))","v":0},null,null,{"$f":"IF(Avropsblankett!$C$76=$A$18,IF(Avropsblankett!$E$76<65,(O19+(O20-O19)/32*(Avropsblankett!$E$76-32)),IF(Avropsblankett!$E$76<129,(O20+(O21-O20)/64*(Avropsblankett!$E$76-64)),\"\")),\"\")","v":""},null,{"$f":"(Avropsblankett!$F$76-500)/100*IF(Avropsblankett!$C$76=$A$18,IF(Avropsblankett!$E$76<65,(Q19+(Q20-Q19)/32*(Avropsblankett!$E$76-32)),IF(Avropsblankett!$E$76<129,(Q20+(Q21-Q20)/64*(Avropsblankett!$E$76-64)),\"\")))","v":0},null,null,{"$f":"IF(Avropsblankett!$C$76=$A$18,IF(Avropsblankett!$E$76<65,(T19+(T20-T19)/32*(Avropsblankett!$E$76-32)),IF(Avropsblankett!$E$76<129,(T20+(T21-T20)/64*(Avropsblankett!$E$76-64)),\"\")),\"\")","v":""},null,{"$f":"(Avropsblankett!$F$76-500)/100*IF(Avropsblankett!$C$76=$A$18,IF(Avropsblankett!$E$76<65,(V19+(V20-V19)/32*(Avropsblankett!$E$76-32)),IF(Avropsblankett!$E$76<129,(V20+(V21-V20)/64*(Avropsblankett!$E$76-64)),\"\")))","v":0},null,null,{"$f":"IF(Avropsblankett!$C$76=$A$18,IF(Avropsblankett!$E$76<65,(Y19+(Y20-Y19)/32*(Avropsblankett!$E$76-32)),IF(Avropsblankett!$E$76<129,(Y20+(Y21-Y20)/64*(Avropsblankett!$E$76-64)),\"\")),\"\")","v":""},null,{"$f":"(Avropsblankett!$F$76-500)/100*IF(Avropsblankett!$C$76=$A$18,IF(Avropsblankett!$E$76<65,(AA19+(AA20-AA19)/32*(Avropsblankett!$E$76-32)),IF(Avropsblankett!$E$76<129,(AA20+(AA21-AA20)/64*(Avropsblankett!$E$76-64)),\"\")))","v":0},null,null,{"$f":"IF(Avropsblankett!$C$76=$A$18,IF(Avropsblankett!$E$76<65,(AD19+(AD20-AD19)/32*(Avropsblankett!$E$76-32)),IF(Avropsblankett!$E$76<129,(AD20+(AD21-AD20)/64*(Avropsblankett!$E$76-64)),\"\")),\"\")","v":""},null,{"$f":"(Avropsblankett!$F$76-500)/100*IF(Avropsblankett!$C$76=$A$18,IF(Avropsblankett!$E$76<65,(AF19+(AF20-AF19)/32*(Avropsblankett!$E$76-32)),IF(Avropsblankett!$E$76<129,(AF20+(AF21-AF20)/64*(Avropsblankett!$E$76-64)),\"\")))","v":0},null,null,{"$f":"IF(Avropsblankett!$C$76=$A$18,IF(Avropsblankett!$E$76<65,(AI19+(AI20-AI19)/32*(Avropsblankett!$E$76-32)),IF(Avropsblankett!$E$76<129,(AI20+(AI21-AI20)/64*(Avropsblankett!$E$76-64)),\"\")),\"\")","v":""},null,{"$f":"(Avropsblankett!$F$76-500)/100*IF(Avropsblankett!$C$76=$A$18,IF(Avropsblankett!$E$76<65,(AK19+(AK20-AK19)/32*(Avropsblankett!$E$76-32)),IF(Avropsblankett!$E$76<129,(AK20+(AK21-AK20)/64*(Avropsblankett!$E$76-64)),\"\")))","v":0},null,null,{"$f":"IF(Avropsblankett!$C$76=$A$18,IF(Avropsblankett!$E$76<65,(AN19+(AN20-AN19)/32*(Avropsblankett!$E$76-32)),IF(Avropsblankett!$E$76<129,(AN20+(AN21-AN20)/64*(Avropsblankett!$E$76-64)),\"\")),\"\")","v":""},null,{"$f":"(Avropsblankett!$F$76-500)/100*IF(Avropsblankett!$C$76=$A$18,IF(Avropsblankett!$E$76<65,(AP19+(AP20-AP19)/32*(Avropsblankett!$E$76-32)),IF(Avropsblankett!$E$76<129,(AP20+(AP21-AP20)/64*(Avropsblankett!$E$76-64)),\"\")))","v":0},null,null,{"$f":"IF(Avropsblankett!$C$76=$A$18,IF(Avropsblankett!$E$76<65,(AS19+(AS20-AS19)/32*(Avropsblankett!$E$76-32)),IF(Avropsblankett!$E$76<129,(AS20+(AS21-AS20)/64*(Avropsblankett!$E$76-64)),\"\")),\"\")","v":""},null,{"$f":"(Avropsblankett!$F$76-500)/100*IF(Avropsblankett!$C$76=$A$18,IF(Avropsblankett!$E$76<65,(AU19+(AU20-AU19)/32*(Avropsblankett!$E$76-32)),IF(Avropsblankett!$E$76<129,(AU20+(AU21-AU20)/64*(Avropsblankett!$E$76-64)),\"\")))","v":0},null,null,{"$f":"IF(Avropsblankett!$C$76=$A$18,IF(Avropsblankett!$E$76<65,(AX19+(AX20-AX19)/32*(Avropsblankett!$E$76-32)),IF(Avropsblankett!$E$76<129,(AX20+(AX21-AX20)/64*(Avropsblankett!$E$76-64)),\"\")),\"\")","v":""},null,{"$f":"(Avropsblankett!$F$76-500)/100*IF(Avropsblankett!$C$76=$A$18,IF(Avropsblankett!$E$76<65,(AZ19+(AZ20-AZ19)/32*(Avropsblankett!$E$76-32)),IF(Avropsblankett!$E$76<129,(AZ20+(AZ21-AZ20)/64*(Avropsblankett!$E$76-64)),\"\")))","v":0}]
[null,null,null,null,{"$f":"SUM(E26:E30)","v":0},null,{"$f":"SUM(G26:G30)","v":0},null,null,{"$f":"SUM(J26:J30)","v":0},null,{"$f":"SUM(L26:L30)","v":0},null,null,{"$f":"SUM(O26:O30)","v":0},null,{"$f":"SUM(Q26:Q30)","v":0},null,null,{"$f":"SUM(T26:T30)","v":0},null,{"$f":"SUM(V26:V30)","v":0},null,null,{"$f":"SUM(Y26:Y30)","v":0},null,{"$f":"SUM(AA26:AA30)","v":0},null,null,{"$f":"SUM(AD26:AD30)","v":0},null,{"$f":"SUM(AF26:AF30)","v":0},null,null,{"$f":"SUM(AI26:AI30)","v":0},null,{"$f":"SUM(AK26:AK30)","v":0},null,null,{"$f":"SUM(AN26:AN30)","v":0},null,{"$f":"SUM(AP26:AP30)","v":0},null,null,{"$f":"SUM(AS26:AS30)","v":0},null,{"$f":"SUM(AU26:AU30)","v":0},null,null,{"$f":"SUM(AX26:AX30)","v":0},null,{"$f":"SUM(AZ26:AZ30)","v":0}]
[null,null,null,"Summa",{"$f":"SUM(E17,E31)","v":0},null,{"$f":"SUM(G17,G31)","v":0},null,"Summa",{"$f":"SUM(J17,J31)","v":0},null,{"$f":"SUM(L17,L31)","v":0},null,"Summa",{"$f":"SUM(O17,O31)","v":0},null,{"$f":"SUM(Q17,Q31)","v":0},null,"Summa",{"$f":"SUM(T17,T31)","v":0},null,{"$f":"SUM(V17,V31)","v":0},null,"Summa",{"$f":"SUM(Y17,Y31)","v":0},null,{"$f":"SUM(AA17,AA31)","v":0},null,"Summa",{"$f":"SUM(AD17,AD31)","v":0},null,{"$f":"SUM(AF17,AF31)","v":0},null,"Summa",{"$f":"SUM(AI17,AI31)","v":0},null,{"$f":"SUM(AK17,AK31)","v":0},null,"Summa",{"$f":"SUM(AN17,AN31)","v":0},null,{"$f":"SUM(AP17,AP31)","v":0},null,"Summa",{"$f":"SUM(AS17,AS31)","v":0},null,{"$f":"SUM(AU17,AU31)","v":0},null,"Summa",{"$f":"SUM(AX17,AX31)","v":0},null,{"$f":"SUM(AZ17,AZ31)","v":0}]
[null,null,null,"Totalsumma",{"$f":"SUM(E32,G32)","v":0},null,null,null,"Totalsumma",{"$f":"SUM(J32,L32)","v":0},null,null,null,"Totalsumma",{"$f":"SUM(O32,Q32)","v":0},null,null,null,"Totalsumma",{"$f":"SUM(T32,V32)","v":0},null,null,null,"Totalsumma",{"$f":"SUM(Y32,AA32)","v":0},null,null,null,"Totalsumma",{"$f":"SUM(AD32,AF32)","v":0},null,null,null,"Totalsumma",{"$f":"SUM(AI32,AK32)","v":0},null,null,null,"Totalsumma",{"$f":"SUM(AN32,AP32)","v":0},null,null,null,"Totalsumma",{"$f":"SUM(AS32,AU32)","v":0},null,null,null,"Totalsumma",{"$f":"SUM(AX32,AZ32)","v":0}]
[]
["Papper omslag och inlaga","Papper inlaga obestruket 80 g och papper omslag bestruket 250 g","Beskrivning/omfång inklusive omslag"]
[null,"Papper inlaga mattbestruket 100 g och papper omslag mattbestruket 150 g"]

{"sheet":"Roll up","index":10,"n_rows":68,"n_cols":51,"rows_kept":68,"cut":false,"hidden":false,"merged":[[42,0,42,1],[51,0,51,1],[35,0,35,1],[43,0,43,1],[44,0,44,1],[52,0,52,1],[53,0,53,1],[25,0,25,1],[34,0,34,1],[0,0,0,1],[16,0,16,1],[1,0,1,1],[7,0,7,1],[5,0,5,1],[6,0,6,1],[8,0,8,1],[15,0,15,1],[17,0,17,1],[26,0,26,1],[24,0,24,1],[33,0,33,1],[0,2,0,5],[0,17,0,20],[60,3,60,5],[0,7,0,10],[60,8,60,10],[0,12,0,15],[60,13,60,15],[5,2,5,5],[5,7,5,10],[5,12,5,15],[5,17,5,20],[5,27,5,30],[5,32,5,35],[60,18,60,20],[60,23,60,25],[0,22,0,25],[0,27,0,30],[0,32,0,35],[60,28,60,30],[60,33,60,35],[5,22,5,25],[0,47,0,50],[60,48,60,50],[5,47,5,50],[0,42,0,45],[60,38,60,40],[60,43,60,45],[5,37,5,40],[5,42,5,45],[0,37,0,40]]}
["Roll up",null,{"$f":"Uträkningsblad!C4","v":"Bröderna Hansson H-tryck Aktiebolag"},null,null,null,null,{"$f":"Uträkningsblad!D4","v":"Elanders Sverige AB"},null,null,null,null,{"$f":"Uträkningsblad!E4","v":"Exakta Print AB"},null,null,null,null,{"$f":"Uträkningsblad!F4","v":"Kalmar Kuvert Sweden AB"},null,null,null,null,{"$f":"Uträkningsblad!G4","v":"Ljungbergs Tryckeri i Klippan AB"},null,null,null,null,{"$f":"Uträkningsblad!H4","v":"Scandinavian Print Group Sweden AB"},null,null,null,null,{"$f":"Uträkningsblad!I4","v":"Stema Specialtryck AB"},null,null,null,null,{"$f":"Uträkningsblad!J4","v":"Stibo Complete A/S"},null,null,null,null,{"$f":"Uträkningsblad!K4","v":"Åtta.45 Tryckeri AB"},null,null,null,null,{"$f":"Uträkningsblad!L4","v":"Leverantör 10"}]
[]
["Underlag:","A: Öppna filer. B: PDF/PDFx."]
["Höjd","minst 200 cm"]
["Material","Kassett i aluminium och tyg i polyester eller likvärdigt"]
[null,null,"Priser lämnas i gulmarkerade fält nedan",null,null,null,null,"Priser lämnas i gulmarkerade fält nedan",null,null,null,null,"Priser lämnas i gulmarkerade fält nedan",null,null,null,null,"Priser lämnas i gulmarkerade fält nedan",null,null,null,null,"Priser lämnas i gulmarkerade fält nedan",null,null,null,null,"Priser lämnas i gulmarkerade fält nedan",null,null,null,null,"Priser lämnas i gulmarkerade fält nedan",null,null,null,null,"Priser lämnas i gulmarkerade fält nedan",null,null,null,null,"Priser lämnas i gulmarkerade fält nedan",null,null,null,null,"Priser lämnas i gulmarkerade fält nedan"]
["Roll_up_1",null,"Upplaga","Ange pris","Följande","Ange pris",null,"Upplaga","Ange pris","Följande","Ange pris",null,"Upplaga","Ange pris","Följande","Ange pris",null,"Upplaga","Ange pris","Följande","Ange pris",null,"Upplaga","Ange pris","Följande","Ange pris",null,"Upplaga","Ange pris","Följande","Ange pris",null,"Upplaga","Ange pris","Följande","Ange pris",null,"Upplaga","Ange pris","Följande","Ange pris",null,"Upplaga","Ange pris","Följande","Ange pris",null,"Upplaga","Ange pris","Följande","Ange pris"]
["Roll up Motiv 85 cm för montering i egen kasset, exklusive kassett och montering",null,1,2000,1,1000,null,1,950,1,950,null,1,650,1,550,null,1,470,1,470,null,1,275,1,275,null,1,333,1,270,null,1,700,1,650,null,1,788,1,420,null,1,450,1,450,null,1,1000,1,850]
["4+0"]
[null,null,null,{"$f":"IF(Avropsblankett!$C$28=$A$7,IF(Avropsblankett!$F$28<2,Avropsblankett!$F$28*D8,(D8+(Avropsblankett!$F$28-1)*F8)),\"\")","v":""},null,null,null,null,{"$f":"IF(Avropsblankett!$C$28=$A$7,IF(Avropsblankett!$F$28<2,Avropsblankett!$F$28*I8,(I8+(Avropsblankett!$F$28-1)*K8)),\"\")","v":""},null,null,null,null,{"$f":"IF(Avropsblankett!$C$28=$A$7,IF(Avropsblankett!$F$28<2,Avropsblankett!$F$28*N8,(N8+(Avropsblankett!$F$28-1)*P8)),\"\")","v":""},null,null,null,null,{"$f":"IF(Avropsblankett!$C$28=$A$7,IF(Avropsblankett!$F$28<2,Avropsblankett!$F$28*S8,(S8+(Avropsblankett!$F$28-1)*U8)),\"\")","v":""},null,null,null,null,{"$f":"IF(Avropsblankett!$C$28=$A$7,IF(Avropsblankett!$F$28<2,Avropsblankett!$F$28*X8,(X8+(Avropsblankett!$F$28-1)*Z8)),\"\")","v":""},null,null,null,null,{"$f":"IF(Avropsblankett!$C$28=$A$7,IF(Avropsblankett!$F$28<2,Avropsblankett!$F$28*AC8,(AC8+(Avropsblankett!$F$28-1)*AE8)),\"\")","v":""},null,null,null,null,{"$f":"IF(Avropsblankett!$C$28=$A$7,IF(Avropsblankett!$F$28<2,Avropsblankett!$F$28*AH8,(AH8+(Avropsblankett!$F$28-1)*AJ8)),\"\")","v":""},null,null,null,null,{"$f":"IF(Avropsblankett!$C$28=$A$7,IF(Avropsblankett!$F$28<2,Avropsblankett!$F$28*AM8,(AM8+(Avropsblankett!$F$28-1)*AO8)),\"\")","v":""},null,null,null,null,{"$f":"IF(Avropsblankett!$C$28=$A$7,IF(Avropsblankett!$F$28<2,Avropsblankett!$F$28*AR8,(AR8+(Avropsblankett!$F$28-1)*AT8)),\"\")","v":""},null,null,null,null,{"$f":"IF(Avropsblankett!$C$28=$A$7,IF(Avropsblankett!$F$28<2,Avropsblankett!$F$28*AW8,(AW8+(Avropsblankett!$F$28-1)*AY8)),\"\")","v":""}]
[null,null,null,{"$f":"IF(Avropsblankett!$C$40=$A$7,IF(Avropsblankett!$F$40<2,Avropsblankett!$F$40*D8,(D8+(Avropsblankett!$F$40-1)*F8)),\"\")","v":""},null,null,null,null,{"$f":"IF(Avropsblankett!$C$40=$A$7,IF(Avropsblankett!$F$40<2,Avropsblankett!$F$40*I8,(I8+(Avropsblankett!$F$40-1)*K8)),\"\")","v":""},null,null,null,null,{"$f":"IF(Avropsblankett!$C$40=$A$7,IF(Avropsblankett!$F$40<2,Avropsblankett!$F$40*N8,(N8+(Avropsblankett!$F$40-1)*P8)),\"\")","v":""},null,null,null,null,{"$f":"IF(Avropsblankett!$C$40=$A$7,IF(Avropsblankett!$F$40<2,Avropsblankett!$F$40*S8,(S8+(Avropsblankett!$F$40-1)*U8)),\"\")","v":""},null,null,null,null,{"$f":"IF(Avropsblankett!$C$40=$A$7,IF(Avropsblankett!$F$40<2,Avropsblankett!$F$40*X8,(X8+(Avropsblankett!$F$40-1)*Z8)),\"\")","v":""},null,null,null,null,{"$f":"IF(Avropsblankett!$C$40=$A$7,IF(Avropsblankett!$F$40<2,Avropsblankett!$F$40*AC8,(AC8+(Avropsblankett!$F$40-1)*AE8)),\"\")","v":""},null,null,null,null,{"$f":"IF(Avropsblankett!$C$40=$A$7,IF(Avropsblankett!$F$40<2,Avropsblankett!$F$40*AH8,(AH8+(Avropsblankett!$F$40-1)*AJ8)),\"\")","v":""},null,null,null,null,{"$f":"IF(Avropsblankett!$C$40=$A$7,IF(Avropsblankett!$F$40<2,Avropsblankett!$F$40*AM8,(AM8+(Avropsblankett!$F$40-1)*AO8)),\"\")","v":""},null,null,null,null,{"$f":"IF(Avropsblankett!$C$40=$A$7,IF(Avropsblankett!$F$40<2,Avropsblankett!$F$40*AR8,(AR8+(Avropsblankett!$F$40-1)*AT8)),\"\")","v":""},null,null,null,null,{"$f":"IF(Avropsblankett!$C$40=$A$7,IF(Avropsblankett!$F$40<2,Avropsblankett!$F$40*AW8,(AW8+(Avropsblankett!$F$40-1)*AY8)),\"\")","v":""}]
[null,null,null,{"$f":"IF(Avropsblankett!$C$52=$A$7,IF(Avropsblankett!$F$52<2,Avropsblankett!$F$52*D8,(D8+(Avropsblankett!$F$52-1)*F8)),\"\")","v":""},null,null,null,null,{"$f":"IF(Avropsblankett!$C$52=$A$7,IF(Avropsblankett!$F$52<2,Avropsblankett!$F$52*I8,(I8+(Avropsblankett!$F$52-1)*K8)),\"\")","v":""},null,null,null,null,{"$f":"IF(Avropsblankett!$C$52=$A$7,IF(Avropsblankett!$F$52<2,Avropsblankett!$F$52*N8,(N8+(Avropsblankett!$F$52-1)*P8)),\"\")","v":""},null,null,null,null,{"$f":"IF(Avropsblankett!$C$52=$A$7,IF(Avropsblankett!$F$52<2,Avropsblankett!$F$52*S8,(S8+(Avropsblankett!$F$52-1)*U8)),\"\")","v":""},null,null,null,null,{"$f":"IF(Avropsblankett!$C$52=$A$7,IF(Avropsblankett!$F$52<2,Avropsblankett!$F$52*X8,(X8+(Avropsblankett!$F$52-1)*Z8)),\"\")","v":""},null,null,null,null,{"$f":"IF(Avropsblankett!$C$52=$A$7,IF(Avropsblankett!$F$52<2,Avropsblankett!$F$52*AC8,(AC8+(Avropsblankett!$F$52-1)*AE8)),\"\")","v":""},null,null,null,null,{"$f":"IF(Avropsblankett!$C$52=$A$7,IF(Avropsblankett!$F$52<2,Avropsblankett!$F$52*AH8,(AH8+(Avropsblankett!$F$52-1)*AJ8)),\"\")","v":""},null,null,null,null,{"$f":"IF(Avropsblankett!$C$52=$A$7,IF(Avropsblankett!$F$52<2,Avropsblankett!$F$52*AM8,(AM8+(Avropsblankett!$F$52-1)*AO8)),\"\")","v":""},null,null,null,null,{"$f":"IF(Avropsblankett!$C$52=$A$7,IF(Avropsblankett!$F$52<2,Avropsblankett!$F$52*AR8,(AR8+(Avropsblankett!$F$52-1)*AT8)),\"\")","v":""},null,null,null,null,{"$f":"IF(Avropsblankett!$C$52=$A$7,IF(Avropsblankett!$F$52<2,Avropsblankett!$F$52*AW8,(AW8+(Avropsblankett!$F$52-1)*AY8)),\"\")","v":""}]
[null,null,null,{"$f":"IF(Avropsblankett!$C$64=$A$7,IF(Avropsblankett!$F$64<2,Avropsblankett!$F$64*D8,(D8+(Avropsblankett!$F$64-1)*F8)),\"\")","v":""},null,null,null,null,{"$f":"IF(Avropsblankett!$C$64=$A$7,IF(Avropsblankett!$F$64<2,Avropsblankett!$F$64*I8,(I8+(Avropsblankett!$F$64-1)*K8)),\"\")","v":""},null,null,null,null,{"$f":"IF(Avropsblankett!$C$64=$A$7,IF(Avropsblankett!$F$64<2,Avropsblankett!$F$64*N8,(N8+(Avropsblankett!$F$64-1)*P8)),\"\")","v":""},null,null,null,null,{"$f":"IF(Avropsblankett!$C$64=$A$7,IF(Avropsblankett!$F$64<2,Avropsblankett!$F$64*S8,(S8+(Avropsblankett!$F$64-1)*U8)),\"\")","v":""},null,null,null,null,{"$f":"IF(Avropsblankett!$C$64=$A$7,IF(Avropsblankett!$F$64<2,Avropsblankett!$F$64*X8,(X8+(Avropsblankett!$F$64-1)*Z8)),\"\")","v":""},null,null,null,null,{"$f":"IF(Avropsblankett!$C$64=$A$7,IF(Avropsblankett!$F$64<2,Avropsblankett!$F$64*AC8,(AC8+(Avropsblankett!$F$64-1)*AE8)),\"\")","v":""},null,null,null,null,{"$f":"IF(Avropsblankett!$C$64=$A$7,IF(Avropsblankett!$F$64<2,Avropsblankett!$F$64*AH8,(AH8+(Avropsblankett!$F$64-1)*AJ8)),\"\")","v":""},null,null,null,null,{"$f":"IF(Avropsblankett!$C$64=$A$7,IF(Avropsblankett!$F$64<2,Avropsblankett!$F$64*AM8,(AM8+(Avropsblankett!$F$64-1)*AO8)),\"\")","v":""},null,null,null,null,{"$f":"IF(Avropsblankett!$C$64=$A$7,IF(Avropsblankett!$F$64<2,Avropsblankett!$F$64*AR8,(AR8+(Avropsblankett!$F$64-1)*AT8)),\"\")","v":""},null,null,null,null,{"$f":"IF(Avropsblankett!$C$64=$A$7,IF(Avropsblankett!$F$64<2,Avropsblankett!$F$64*AW8,(AW8+(Avropsblankett!$F$64-1)*AY8)),\"\")","v":""}]
[null,null,null,{"$f":"IF(Avropsblankett!$C$76=$A$7,IF(Avropsblankett!$F$76<2,Avropsblankett!$F$76*D8,(D8+(Avropsblankett!$F$76-1)*F8)),\"\")","v":""},null,null,null,null,{"$f":"IF(Avropsblankett!$C$76=$A$7,IF(Avropsblankett!$F$76<2,Avropsblankett!$F$76*I8,(I8+(Avropsblankett!$F$76-1)*K8)),\"\")","v":""},null,null,null,null,{"$f":"IF(Avropsblankett!$C$76=$A$7,IF(Avropsblankett!$F$76<2,Avropsblankett!$F$76*N8,(N8+(Avropsblankett!$F$76-1)*P8)),\"\")","v":""},null,null,null,null,{"$f":"IF(Avropsblankett!$C$76=$A$7,IF(Avropsblankett!$F$76<2,Avropsblankett!$F$76*S8,(S8+(Avropsblankett!$F$76-1)*U8)),\"\")","v":""},null,null,null,null,{"$f":"IF(Avropsblankett!$C$76=$A$7,IF(Avropsblankett!$F$76<2,Avropsblankett!$F$76*X8,(X8+(Avropsblankett!$F$76-1)*Z8)),\"\")","v":""},null,null,null,null,{"$f":"IF(Avropsblankett!$C$76=$A$7,IF(Avropsblankett!$F$76<2,Avropsblankett!$F$76*AC8,(AC8+(Avropsblankett!$F$76-1)*AE8)),\"\")","v":""},null,null,null,null,{"$f":"IF(Avropsblankett!$C$76=$A$7,IF(Avropsblankett!$F$76<2,Avropsblankett!$F$76*AH8,(AH8+(Avropsblankett!$F$76-1)*AJ8)),\"\")","v":""},null,null,null,null,{"$f":"IF(Avropsblankett!$C$76=$A$7,IF(Avropsblankett!$F$76<2,Avropsblankett!$F$76*AM8,(AM8+(Avropsblankett!$F$76-1)*AO8)),\"\")","v":""},null,null,null,null,{"$f":"IF(Avropsblankett!$C$76=$A$7,IF(Avropsblankett!$F$76<2,Avropsblankett!$F$76*AR8,(AR8+(Avropsblankett!$F$76-1)*AT8)),\"\")","v":""},null,null,null,null,{"$f":"IF(Avropsblankett!$C$76=$A$7,IF(Avropsblankett!$F$76<2,Avropsblankett!$F$76*AW8,(AW8+(Avropsblankett!$F$76-1)*AY8)),\"\")","v":""}]
[null,null,null,{"$f":"SUM(D10:D14)","v":0},null,null,null,null,{"$f":"SUM(I10:I14)","v":0},null,null,null,null,{"$f":"SUM(N10:N14)","v":0},null,null,null,null,{"$f":"SUM(S10:S14)","v":0},null,null,null,null,{"$f":"SUM(X10:X14)","v":0},null,null,null,null,{"$f":"SUM(AC10:AC14)","v":0},null,null,null,null,{"$f":"SUM(AH10:AH14)","v":0},null,null,null,null,{"$f":"SUM(AM10:AM14)","v":0},null,null,null,null,{"$f":"SUM(AR10:AR14)","v":0},null,null,null,null,{"$f":"SUM(AW10:AW14)","v":0}]
["Roll_up_2",null,"Upplaga","Ange pris","Upplaga","Ange pris",null,"Upplaga","Ange pris","Upplaga","Ange pris",null,"Upplaga","Ange pris","Upplaga","Ange pris",null,"Upplaga","Ange pris","Upplaga","Ange pris",null,"Upplaga","Ange pris","Upplaga","Ange pris",null,"Upplaga","Ange pris","Upplaga","Ange pris",null,"Upplaga","Ange pris","Upplaga","Ange pris",null,"Upplaga","Ange pris","Upplaga","Ange pris",null,"Upplaga","Ange pris","Upplaga","Ange pris",null,"Upplaga","Ange pris","Upplaga","Ange pris"]
["Roll up Motiv 100 cm för montering i egen kasset, exklusive kassett och montering",null,1,3000,1,1500,null,1,950,1,950,null,1,700,1,600,null,1,550,1,550,null,1,395,1,395,null,1,369,1,279,null,1,750,1,700,null,1,840,1,475,null,1,550,1,550,null,1,1150,1,950]
["4+0"]
[null,null,null,{"$f":"IF(Avropsblankett!$C$28=$A$16,IF(Avropsblankett!$F$28<2,Avropsblankett!$F$28*D17,(D17+(Avropsblankett!$F$28-1)*F17)),\"\")","v":""},null,null,null,null,{"$f":"IF(Avropsblankett!$C$28=$A$16,IF(Avropsblankett!$F$28<2,Avropsblankett!$F$28*I17,(I17+(Avropsblankett!$F$28-1)*K17)),\"\")","v":""},null,null,null,null,{"$f":"IF(Avropsblankett!$C$28=$A$16,IF(Avropsblankett!$F$28<2,Avropsblankett!$F$28*N17,(N17+(Avropsblankett!$F$28-1)*P17)),\"\")","v":""},null,null,null,null,{"$f":"IF(Avropsblankett!$C$28=$A$16,IF(Avropsblankett!$F$28<2,Avropsblankett!$F$28*S17,(S17+(Avropsblankett!$F$28-1)*U17)),\"\")","v":""},null,null,null,null,{"$f":"IF(Avropsblankett!$C$28=$A$16,IF(Avropsblankett!$F$28<2,Avropsblankett!$F$28*X17,(X17+(Avropsblankett!$F$28-1)*Z17)),\"\")","v":""},null,null,null,null,{"$f":"IF(Avropsblankett!$C$28=$A$16,IF(Avropsblankett!$F$28<2,Avropsblankett!$F$28*AC17,(AC17+(Avropsblankett!$F$28-1)*AE17)),\"\")","v":""},null,null,null,null,{"$f":"IF(Avropsblankett!$C$28=$A$16,IF(Avropsblankett!$F$28<2,Avropsblankett!$F$28*AH17,(AH17+(Avropsblankett!$F$28-1)*AJ17)),\"\")","v":""},null,null,null,null,{"$f":"IF(Avropsblankett!$C$28=$A$16,IF(Avropsblankett!$F$28<2,Avropsblankett!$F$28*AM17,(AM17+(Avropsblankett!$F$28-1)*AO17)),\"\")","v":""},null,null,null,null,{"$f":"IF(Avropsblankett!$C$28=$A$16,IF(Avropsblankett!$F$28<2,Avropsblankett!$F$28*AR17,(AR17+(Avropsblankett!$F$28-1)*AT17)),\"\")","v":""},null,null,null,null,{"$f":"IF(Avropsblankett!$C$28=$A$16,IF(Avropsblankett!$F$28<2,Avropsblankett!$F$28*AW17,(AW17+(Avropsblankett!$F$28-1)*AY17)),\"\")","v":""}]
[null,null,null,{"$f":"IF(Avropsblankett!$C$40=$A$16,IF(Avropsblankett!$F$40<2,Avropsblankett!$F$40*D17,(D17+(Avropsblankett!$F$40-1)*F17)),\"\")","v":""},null,null,null,null,{"$f":"IF(Avropsblankett!$C$40=$A$16,IF(Avropsblankett!$F$40<2,Avropsblankett!$F$40*I17,(I17+(Avropsblankett!$F$40-1)*K17)),\"\")","v":""},null,null,null,null,{"$f":"IF(Avropsblankett!$C$40=$A$16,IF(Avropsblankett!$F$40<2,Avropsblankett!$F$40*N17,(N17+(Avropsblankett!$F$40-1)*P17)),\"\")","v":""},null,null,null,null,{"$f":"IF(Avropsblankett!$C$40=$A$16,IF(Avropsblankett!$F$40<2,Avropsblankett!$F$40*S17,(S17+(Avropsblankett!$F$40-1)*U17)),\"\")","v":""},null,null,null,null,{"$f":"IF(Avropsblankett!$C$40=$A$16,IF(Avropsblankett!$F$40<2,Avropsblankett!$F$40*X17,(X17+(Avropsblankett!$F$40-1)*Z17)),\"\")","v":""},null,null,null,null,{"$f":"IF(Avropsblankett!$C$40=$A$16,IF(Avropsblankett!$F$40<2,Avropsblankett!$F$40*AC17,(AC17+(Avropsblankett!$F$40-1)*AE17)),\"\")","v":""},null,null,null,null,{"$f":"IF(Avropsblankett!$C$40=$A$16,IF(Avropsblankett!$F$40<2,Avropsblankett!$F$40*AH17,(AH17+(Avropsblankett!$F$40-1)*AJ17)),\"\")","v":""},null,null,null,null,{"$f":"IF(Avropsblankett!$C$40=$A$16,IF(Avropsblankett!$F$40<2,Avropsblankett!$F$40*AM17,(AM17+(Avropsblankett!$F$40-1)*AO17)),\"\")","v":""},null,null,null,null,{"$f":"IF(Avropsblankett!$C$40=$A$16,IF(Avropsblankett!$F$40<2,Avropsblankett!$F$40*AR17,(AR17+(Avropsblankett!$F$40-1)*AT17)),\"\")","v":""},null,null,null,null,{"$f":"IF(Avropsblankett!$C$40=$A$16,IF(Avropsblankett!$F$40<2,Avropsblankett!$F$40*AW17,(AW17+(Avropsblankett!$F$40-1)*AY17)),\"\")","v":""}]
[null,null,null,{"$f":"IF(Avropsblankett!$C$52=$A$16,IF(Avropsblankett!$F$52<2,Avropsblankett!$F$52*D17,(D17+(Avropsblankett!$F$52-1)*F17)),\"\")","v":""},null,null,null,null,{"$f":"IF(Avropsblankett!$C$52=$A$16,IF(Avropsblankett!$F$52<2,Avropsblankett!$F$52*I17,(I17+(Avropsblankett!$F$52-1)*K17)),\"\")","v":""},null,null,null,null,{"$f":"IF(Avropsblankett!$C$52=$A$16,IF(Avropsblankett!$F$52<2,Avropsblankett!$F$52*N17,(N17+(Avropsblankett!$F$52-1)*P17)),\"\")","v":""},null,null,null,null,{"$f":"IF(Avropsblankett!$C$52=$A$16,IF(Avropsblankett!$F$52<2,Avropsblankett!$F$52*S17,(S17+(Avropsblankett!$F$52-1)*U17)),\"\")","v":""},null,null,null,null,{"$f":"IF(Avropsblankett!$C$52=$A$16,IF(Avropsblankett!$F$52<2,Avropsblankett!$F$52*X17,(X17+(Avropsblankett!$F$52-1)*Z17)),\"\")","v":""},null,null,null,null,{"$f":"IF(Avropsblankett!$C$52=$A$16,IF(Avropsblankett!$F$52<2,Avropsblankett!$F$52*AC17,(AC17+(Avropsblankett!$F$52-1)*AE17)),\"\")","v":""},null,null,null,null,{"$f":"IF(Avropsblankett!$C$52=$A$16,IF(Avropsblankett!$F$52<2,Avropsblankett!$F$52*AH17,(AH17+(Avropsblankett!$F$52-1)*AJ17)),\"\")","v":""},null,null,null,null,{"$f":"IF(Avropsblankett!$C$52=$A$16,IF(Avropsblankett!$F$52<2,Avropsblankett!$F$52*AM17,(AM17+(Avropsblankett!$F$52-1)*AO17)),\"\")","v":""},null,null,null,null,{"$f":"IF(Avropsblankett!$C$52=$A$16,IF(Avropsblankett!$F$52<2,Avropsblankett!$F$52*AR17,(AR17+(Avropsblankett!$F$52-1)*AT17)),\"\")","v":""},null,null,null,null,{"$f":"IF(Avropsblankett!$C$52=$A$16,IF(Avropsblankett!$F$52<2,Avropsblankett!$F$52*AW17,(AW17+(Avropsblankett!$F$52-1)*AY17)),\"\")","v":""}]
[null,null,null,{"$f":"IF(Avropsblankett!$C$64=$A$16,IF(Avropsblankett!$F$64<2,Avropsblankett!$F$64*D17,(D17+(Avropsblankett!$F$64-1)*F17)),\"\")","v":""},null,null,null,null,{"$f":"IF(Avropsblankett!$C$64=$A$16,IF(Avropsblankett!$F$64<2,Avropsblankett!$F$64*I17,(I17+(Avropsblankett!$F$64-1)*K17)),\"\")","v":""},null,null,null,null,{"$f":"IF(Avropsblankett!$C$64=$A$16,IF(Avropsblankett!$F$64<2,Avropsblankett!$F$64*N17,(N17+(Avropsblankett!$F$64-1)*P17)),\"\")","v":""},null,null,null,null,{"$f":"IF(Avropsblankett!$C$64=$A$16,IF(Avropsblankett!$F$64<2,Avropsblankett!$F$64*S17,(S17+(Avropsblankett!$F$64-1)*U17)),\"\")","v":""},null,null,null,null,{"$f":"IF(Avropsblankett!$C$64=$A$16,IF(Avropsblankett!$F$64<2,Avropsblankett!$F$64*X17,(X17+(Avropsblankett!$F$64-1)*Z17)),\"\")","v":""},null,null,null,null,{"$f":"IF(Avropsblankett!$C$64=$A$16,IF(Avropsblankett!$F$64<2,Avropsblankett!$F$64*AC17,(AC17+(Avropsblankett!$F$64-1)*AE17)),\"\")","v":""},null,null,null,null,{"$f":"IF(Avropsblankett!$C$64=$A$16,IF(Avropsblankett!$F$64<2,Avropsblankett!$F$64*AH17,(AH17+(Avropsblankett!$F$64-1)*AJ17)),\"\")","v":""},null,null,null,null,{"$f":"IF(Avropsblankett!$C$64=$A$16,IF(Avropsblankett!$F$64<2,Avropsblankett!$F$64*AM17,(AM17+(Avropsblankett!$F$64-1)*AO17)),\"\")","v":""},null,null,null,null,{"$f":"IF(Avropsblankett!$C$64=$A$16,IF(Avropsblankett!$F$64<2,Avropsblankett!$F$64*AR17,(AR17+(Avropsblankett!$F$64-1)*AT17)),\"\")","v":""},null,null,null,null,{"$f":"IF(Avropsblankett!$C$64=$A$16,IF(Avropsblankett!$F$64<2,Avropsblankett!$F$64*AW17,(AW17+(Avropsblankett!$F$64-1)*AY17)),\"\")","v":""}]
[null,null,null,{"$f":"IF(Avropsblankett!$C$76=$A$16,IF(Avropsblankett!$F$76<2,Avropsblankett!$F$76*D17,(D17+(Avropsblankett!$F$76-1)*F17)),\"\")","v":""},null,null,null,null,{"$f":"IF(Avropsblankett!$C$76=$A$16,IF(Avropsblankett!$F$76<2,Avropsblankett!$F$76*I17,(I17+(Avropsblankett!$F$76-1)*K17)),\"\")","v":""},null,null,null,null,{"$f":"IF(Avropsblankett!$C$76=$A$16,IF(Avropsblankett!$F$76<2,Avropsblankett!$F$76*N17,(N17+(Avropsblankett!$F$76-1)*P17)),\"\")","v":""},null,null,null,null,{"$f":"IF(Avropsblankett!$C$76=$A$16,IF(Avropsblankett!$F$76<2,Avropsblankett!$F$76*S17,(S17+(Avropsblankett!$F$76-1)*U17)),\"\")","v":""},null,null,null,null,{"$f":"IF(Avropsblankett!$C$76=$A$16,IF(Avropsblankett!$F$76<2,Avropsblankett!$F$76*X17,(X17+(Avropsblankett!$F$76-1)*Z17)),\"\")","v":""},null,null,null,null,{"$f":"IF(Avropsblankett!$C$76=$A$16,IF(Avropsblankett!$F$76<2,Avropsblankett!$F$76*AC17,(AC17+(Avropsblankett!$F$76-1)*AE17)),\"\")","v":""},null,null,null,null,{"$f":"IF(Avropsblankett!$C$76=$A$16,IF(Avropsblankett!$F$76<2,Avropsblankett!$F$76*AH17,(AH17+(Avropsblankett!$F$76-1)*AJ17)),\"\")","v":""},null,null,null,null,{"$f":"IF(Avropsblankett!$C$76=$A$16,IF(Avropsblankett!$F$76<2,Avropsblankett!$F$76*AM17,(AM17+(Avropsblankett!$F$76-1)*AO17)),\"\")","v":""},null,null,null,null,{"$f":"IF(Avropsblankett!$C$76=$A$16,IF(Avropsblankett!$F$76<2,Avropsblankett!$F$76*AR17,(AR17+(Avropsblankett!$F$76-1)*AT17)),\"\")","v":""},null,null,null,null,{"$f":"IF(Avropsblankett!$C$76=$A$16,IF(Avropsblankett!$F$76<2,Avropsblankett!$F$76*AW17,(AW17+(Avropsblankett!$F$76-1)*AY17)),\"\")","v":""}]
[null,null,null,{"$f":"SUM(D19:D23)","v":0},null,null,null,null,{"$f":"SUM(I19:I23)","v":0},null,null,null,null,{"$f":"SUM(N19:N23)","v":0},null,null,null,null,{"$f":"SUM(S19:S23)","v":0},null,null,null,null,{"$f":"SUM(X19:X23)","v":0},null,null,null,null,{"$f":"SUM(AC19:AC23)","v":0},null,null,null,null,{"$f":"SUM(AH19:AH23)","v":0},null,null,null,null,{"$f":"SUM(AM19:AM23)","v":0},null,null,null,null,{"$f":"SUM(AR19:AR23)","v":0},null,null,null,null,{"$f":"SUM(AW19:AW23)","v":0}]
["Roll_up_3",null,"Upplaga","Ange pris","Upplaga","Ange pris",null,"Upplaga","Ange pris","Upplaga","Ange pris",null,"Upplaga","Ange pris","Upplaga","Ange pris",null,"Upplaga","Ange pris","Upplaga","Ange pris",null,"Upplaga","Ange pris","Upplaga","Ange pris",null,"Upplaga","Ange pris","Upplaga","Ange pris",null,"Upplaga","Ange pris","Upplaga","Ange pris",null,"Upplaga","Ange pris","Upplaga","Ange pris",null,"Upplaga","Ange pris","Upplaga","Ange pris",null,"Upplaga","Ange pris","Upplaga","Ange pris"]
["Roll up Motiv 85 cm inklusive kassett för utbytbar roll up",null,1,2000,1,1000,null,1,1750,1,1750,null,1,1050,1,950,null,1,875,1,645,null,1,595,1,555,null,1,684,1,344,null,1,1200,1,1150,null,1,1400,1,1200,null,1,1300,1,1200,null,1,2100,1,1850]
["4+0"]
[null,null,null,{"$f":"IF(Avropsblankett!$C$28=$A$25,IF(Avropsblankett!$F$28<2,Avropsblankett!$F$28*D26,(D26+(Avropsblankett!$F$28-1)*F26)),\"\")","v":""},null,null,null,null,{"$f":"IF(Avropsblankett!$C$28=$A$25,IF(Avropsblankett!$F$28<2,Avropsblankett!$F$28*I26,(I26+(Avropsblankett!$F$28-1)*K26)),\"\")","v":""},null,null,null,null,{"$f":"IF(Avropsblankett!$C$28=$A$25,IF(Avropsblankett!$F$28<2,Avropsblankett!$F$28*N26,(N26+(Avropsblankett!$F$28-1)*P26)),\"\")","v":""},null,null,null,null,{"$f":"IF(Avropsblankett!$C$28=$A$25,IF(Avropsblankett!$F$28<2,Avropsblankett!$F$28*S26,(S26+(Avropsblankett!$F$28-1)*U26)),\"\")","v":""},null,null,null,null,{"$f":"IF(Avropsblankett!$C$28=$A$25,IF(Avropsblankett!$F$28<2,Avropsblankett!$F$28*X26,(X26+(Avropsblankett!$F$28-1)*Z26)),\"\")","v":""},null,null,null,null,{"$f":"IF(Avropsblankett!$C$28=$A$25,IF(Avropsblankett!$F$28<2,Avropsblankett!$F$28*AC26,(AC26+(Avropsblankett!$F$28-1)*AE26)),\"\")","v":""},null,null,null,null,{"$f":"IF(Avropsblankett!$C$28=$A$25,IF(Avropsblankett!$F$28<2,Avropsblankett!$F$28*AH26,(AH26+(Avropsblankett!$F$28-1)*AJ26)),\"\")","v":""},null,null,null,null,{"$f":"IF(Avropsblankett!$C$28=$A$25,IF(Avropsblankett!$F$28<2,Avropsblankett!$F$28*AM26,(AM26+(Avropsblankett!$F$28-1)*AO26)),\"\")","v":""},null,null,null,null,{"$f":"IF(Avropsblankett!$C$28=$A$25,IF(Avropsblankett!$F$28<2,Avropsblankett!$F$28*AR26,(AR26+(Avropsblankett!$F$28-1)*AT26)),\"\")","v":""},null,null,null,null,{"$f":"IF(Avropsblankett!$C$28=$A$25,IF(Avropsblankett!$F$28<2,Avropsblankett!$F$28*AW26,(AW26+(Avropsblankett!$F$28-1)*AY26)),\"\")","v":""}]
[null,null,null,{"$f":"IF(Avropsblankett!$C$40=$A$25,IF(Avropsblankett!$F$40<2,Avropsblankett!$F$40*D26,(D26+(Avropsblankett!$F$40-1)*F26)),\"\")","v":""},null,null,null,null,{"$f":"IF(Avropsblankett!$C$40=$A$25,IF(Avropsblankett!$F$40<2,Avropsblankett!$F$40*I26,(I26+(Avropsblankett!$F$40-1)*K26)),\"\")","v":""},null,null,null,null,{"$f":"IF(Avropsblankett!$C$40=$A$25,IF(Avropsblankett!$F$40<2,Avropsblankett!$F$40*N26,(N26+(Avropsblankett!$F$40-1)*P26)),\"\")","v":""},null,null,null,null,{"$f":"IF(Avropsblankett!$C$40=$A$25,IF(Avropsblankett!$F$40<2,Avropsblankett!$F$40*S26,(S26+(Avropsblankett!$F$40-1)*U26)),\"\")","v":""},null,null,null,null,{"$f":"IF(Avropsblankett!$C$40=$A$25,IF(Avropsblankett!$F$40<2,Avropsblankett!$F$40*X26,(X26+(Avropsblankett!$F$40-1)*Z26)),\"\")","v":""},null,null,null,null,{"$f":"IF(Avropsblankett!$C$40=$A$25,IF(Avropsblankett!$F$40<2,Avropsblankett!$F$40*AC26,(AC26+(Avropsblankett!$F$40-1)*AE26)),\"\")","v":""},null,null,null,null,{"$f":"IF(Avropsblankett!$C$40=$A$25,IF(Avropsblankett!$F$40<2,Avropsblankett!$F$40*AH26,(AH26+(Avropsblankett!$F$40-1)*AJ26)),\"\")","v":""},null,null,null,null,{"$f":"IF(Avropsblankett!$C$40=$A$25,IF(Avropsblankett!$F$40<2,Avropsblankett!$F$40*AM26,(AM26+(Avropsblankett!$F$40-1)*AO26)),\"\")","v":""},null,null,null,null,{"$f":"IF(Avropsblankett!$C$40=$A$25,IF(Avropsblankett!$F$40<2,Avropsblankett!$F$40*AR26,(AR26+(Avropsblankett!$F$40-1)*AT26)),\"\")","v":""},null,null,null,null,{"$f":"IF(Avropsblankett!$C$40=$A$25,IF(Avropsblankett!$F$40<2,Avropsblankett!$F$40*AW26,(AW26+(Avropsblankett!$F$40-1)*AY26)),\"\")","v":""}]
[null,null,null,{"$f":"IF(Avropsblankett!$C$52=$A$25,IF(Avropsblankett!$F$52<2,Avropsblankett!$F$52*D26,(D26+(Avropsblankett!$F$52-1)*F26)),\"\")","v":""},null,null,null,null,{"$f":"IF(Avropsblankett!$C$52=$A$25,IF(Avropsblankett!$F$52<2,Avropsblankett!$F$52*I26,(I26+(Avropsblankett!$F$52-1)*K26)),\"\")","v":""},null,null,null,null,{"$f":"IF(Avropsblankett!$C$52=$A$25,IF(Avropsblankett!$F$52<2,Avropsblankett!$F$52*N26,(N26+(Avropsblankett!$F$52-1)*P26)),\"\")","v":""},null,null,null,null,{"$f":"IF(Avropsblankett!$C$52=$A$25,IF(Avropsblankett!$F$52<2,Avropsblankett!$F$52*S26,(S26+(Avropsblankett!$F$52-1)*U26)),\"\")","v":""},null,null,null,null,{"$f":"IF(Avropsblankett!$C$52=$A$25,IF(Avropsblankett!$F$52<2,Avropsblankett!$F$52*X26,(X26+(Avropsblankett!$F$52-1)*Z26)),\"\")","v":""},null,null,null,null,{"$f":"IF(Avropsblankett!$C$52=$A$25,IF(Avropsblankett!$F$52<2,Avropsblankett!$F$52*AC26,(AC26+(Avropsblankett!$F$52-1)*AE26)),\"\")","v":""},null,null,null,null,{"$f":"IF(Avropsblankett!$C$52=$A$25,IF(Avropsblankett!$F$52<2,Avropsblankett!$F$52*AH26,(AH26+(Avropsblankett!$F$52-1)*AJ26)),\"\")","v":""},null,null,null,null,{"$f":"IF(Avropsblankett!$C$52=$A$25,IF(Avropsblankett!$F$52<2,Avropsblankett!$F$52*AM26,(AM26+(Avropsblankett!$F$52-1)*AO26)),\"\")","v":""},null,null,null,null,{"$f":"IF(Avropsblankett!$C$52=$A$25,IF(Avropsblankett!$F$52<2,Avropsblankett!$F$52*AR26,(AR26+(Avropsblankett!$F$52-1)*AT26)),\"\")","v":""},null,null,null,null,{"$f":"IF(Avropsblankett!$C$52=$A$25,IF(Avropsblankett!$F$52<2,Avropsblankett!$F$52*AW26,(AW26+(Avropsblankett!$F$52-1)*AY26)),\"\")","v":""}]
[null,null,null,{"$f":"IF(Avropsblankett!$C$64=$A$25,IF(Avropsblankett!$F$64<2,Avropsblankett!$F$64*D26,(D26+(Avropsblankett!$F$64-1)*F26)),\"\")","v":""},null,null,null,null,{"$f":"IF(Avropsblankett!$C$64=$A$25,IF(Avropsblankett!$F$64<2,Avropsblankett!$F$64*I26,(I26+(Avropsblankett!$F$64-1)*K26)),\"\")","v":""},null,null,null,null,{"$f":"IF(Avropsblankett!$C$64=$A$25,IF(Avropsblankett!$F$64<2,Avropsblankett!$F$64*N26,(N26+(Avropsblankett!$F$64-1)*P26)),\"\")","v":""},null,null,null,null,{"$f":"IF(Avropsblankett!$C$64=$A$25,IF(Avropsblankett!$F$64<2,Avropsblankett!$F$64*S26,(S26+(Avropsblankett!$F$64-1)*U26)),\"\")","v":""},null,null,null,null,{"$f":"IF(Avropsblankett!$C$64=$A$25,IF(Avropsblankett!$F$64<2,Avropsblankett!$F$64*X26,(X26+(Avropsblankett!$F$64-1)*Z26)),\"\")","v":""},null,null,null,null,{"$f":"IF(Avropsblankett!$C$64=$A$25,IF(Avropsblankett!$F$64<2,Avropsblankett!$F$64*AC26,(AC26+(Avropsblankett!$F$64-1)*AE26)),\"\")","v":""},null,null,null,null,{"$f":"IF(Avropsblankett!$C$64=$A$25,IF(Avropsblankett!$F$64<2,Avropsblankett!$F$64*AH26,(AH26+(Avropsblankett!$F$64-1)*AJ26)),\"\")","v":""},null,null,null,null,{"$f":"IF(Avropsblankett!$C$64=$A$25,IF(Avropsblankett!$F$64<2,Avropsblankett!$F$64*AM26,(AM26+(Avropsblankett!$F$64-1)*AO26)),\"\")","v":""},null,null,null,null,{"$f":"IF(Avropsblankett!$C$64=$A$25,IF(Avropsblankett!$F$64<2,Avropsblankett!$F$64*AR26,(AR26+(Avropsblankett!$F$64-1)*AT26)),\"\")","v":""},null,null,null,null,{"$f":"IF(Avropsblankett!$C$64=$A$25,IF(Avropsblankett!$F$64<2,Avropsblankett!$F$64*AW26,(AW26+(Avropsblankett!$F$64-1)*AY26)),\"\")","v":""}]
[null,null,null,{"$f":"IF(Avropsblankett!$C$76=$A$25,IF(Avropsblankett!$F$76<2,Avropsblankett!$F$76*D26,(D26+(Avropsblankett!$F$76-1)*F26)),\"\")","v":""},null,null,null,null,{"$f":"IF(Avropsblankett!$C$76=$A$25,IF(Avropsblankett!$F$76<2,Avropsblankett!$F$76*I26,(I26+(Avropsblankett!$F$76-1)*K26)),\"\")","v":""},null,null,null,null,{"$f":"IF(Avropsblankett!$C$76=$A$25,IF(Avropsblankett!$F$76<2,Avropsblankett!$F$76*N26,(N26+(Avropsblankett!$F$76-1)*P26)),\"\")","v":""},null,null,null,null,{"$f":"IF(Avropsblankett!$C$76=$A$25,IF(Avropsblankett!$F$76<2,Avropsblankett!$F$76*S26,(S26+(Avropsblankett!$F$76-1)*U26)),\"\")","v":""},null,null,null,null,{"$f":"IF(Avropsblankett!$C$76=$A$25,IF(Avropsblankett!$F$76<2,Avropsblankett!$F$76*X26,(X26+(Avropsblankett!$F$76-1)*Z26)),\"\")","v":""},null,null,null,null,{"$f":"IF(Avropsblankett!$C$76=$A$25,IF(Avropsblankett!$F$76<2,Avropsblankett!$F$76*AC26,(AC26+(Avropsblankett!$F$76-1)*AE26)),\"\")","v":""},null,null,null,null,{"$f":"IF(Avropsblankett!$C$76=$A$25,IF(Avropsblankett!$F$76<2,Avropsblankett!$F$76*AH26,(AH26+(Avropsblankett!$F$76-1)*AJ26)),\"\")","v":""},null,null,null,null,{"$f":"IF(Avropsblankett!$C$76=$A$25,IF(Avropsblankett!$F$76<2,Avropsblankett!$F$76*AM26,(AM26+(Avropsblankett!$F$76-1)*AO26)),\"\")","v":""},null,null,null,null,{"$f":"IF(Avropsblankett!$C$76=$A$25,IF(Avropsblankett!$F$76<2,Avropsblankett!$F$76*AR26,(AR26+(Avropsblankett!$F$76-1)*AT26)),\"\")","v":""},null,null,null,null,{"$f":"IF(Avropsblankett!$C$76=$A$25,IF(Avropsblankett!$F$76<2,Avropsblankett!$F$76*AW26,(AW26+(Avropsblankett!$F$76-1)*AY26)),\"\")","v":""}]
[null,null,null,{"$f":"SUM(D28:D32)","v":0},null,null,null,null,{"$f":"SUM(I28:I32)","v":0},null,null,null,null,{"$f":"SUM(N28:N32)","v":0},null,null,null,null,{"$f":"SUM(S28:S32)","v":0},null,null,null,null,{"$f":"SUM(X28:X32)","v":0},null,null,null,null,{"$f":"SUM(AC28:AC32)","v":0},null,null,null,null,{"$f":"SUM(AH28:AH32)","v":0},null,null,null,null,{"$f":"SUM(AM28:AM32)","v":0},null,null,null,null,{"$f":"SUM(AR28:AR32)","v":0},null,null,null,null,{"$f":"SUM(AW28:AW32)","v":0}]
["Roll_up_4",null,"Upplaga","Ange pris","Upplaga","Ange pris",null,"Upplaga","Ange pris","Upplaga","Ange pris",null,"Upplaga","Ange pris","Upplaga","Ange pris",null,"Upplaga","Ange pris","Upplaga","Ange pris",null,"Upplaga","Ange pris","Upplaga","Ange pris",null,"Upplaga","Ange pris","Upplaga","Ange pris",null,"Upplaga","Ange pris","Upplaga","Ange pris",null,"Upplaga","Ange pris","Upplaga","Ange pris",null,"Upplaga","Ange pris","Upplaga","Ange pris",null,"Upplaga","Ange pris","Upplaga","Ange pris"]
["Roll up Motiv 100 cm inklusive kassett för utbytbar roll up",null,1,3000,1,1500,null,1,1750,1,1750,null,1,1250,1,1100,null,1,1135,1,735,null,1,668,1,595,null,1,769,1,697,null,1,1300,1,1250,null,1,1500,1,1300,null,1,1800,1,1800,null,1,795,1,695]
["4+0"]
[null,null,null,{"$f":"IF(Avropsblankett!$C$28=$A$34,IF(Avropsblankett!$F$28<2,Avropsblankett!$F$28*D35,(D35+(Avropsblankett!$F$28-1)*F35)),\"\")","v":""},null,null,null,null,{"$f":"IF(Avropsblankett!$C$28=$A$34,IF(Avropsblankett!$F$28<2,Avropsblankett!$F$28*I35,(I35+(Avropsblankett!$F$28-1)*K35)),\"\")","v":""},null,null,null,null,{"$f":"IF(Avropsblankett!$C$28=$A$34,IF(Avropsblankett!$F$28<2,Avropsblankett!$F$28*N35,(N35+(Avropsblankett!$F$28-1)*P35)),\"\")","v":""},null,null,null,null,{"$f":"IF(Avropsblankett!$C$28=$A$34,IF(Avropsblankett!$F$28<2,Avropsblankett!$F$28*S35,(S35+(Avropsblankett!$F$28-1)*U35)),\"\")","v":""},null,null,null,null,{"$f":"IF(Avropsblankett!$C$28=$A$34,IF(Avropsblankett!$F$28<2,Avropsblankett!$F$28*X35,(X35+(Avropsblankett!$F$28-1)*Z35)),\"\")","v":""},null,null,null,null,{"$f":"IF(Avropsblankett!$C$28=$A$34,IF(Avropsblankett!$F$28<2,Avropsblankett!$F$28*AC35,(AC35+(Avropsblankett!$F$28-1)*AE35)),\"\")","v":""},null,null,null,null,{"$f":"IF(Avropsblankett!$C$28=$A$34,IF(Avropsblankett!$F$28<2,Avropsblankett!$F$28*AH35,(AH35+(Avropsblankett!$F$28-1)*AJ35)),\"\")","v":""},null,null,null,null,{"$f":"IF(Avropsblankett!$C$28=$A$34,IF(Avropsblankett!$F$28<2,Avropsblankett!$F$28*AM35,(AM35+(Avropsblankett!$F$28-1)*AO35)),\"\")","v":""},null,null,null,null,{"$f":"IF(Avropsblankett!$C$28=$A$34,IF(Avropsblankett!$F$28<2,Avropsblankett!$F$28*AR35,(AR35+(Avropsblankett!$F$28-1)*AT35)),\"\")","v":""},null,null,null,null,{"$f":"IF(Avropsblankett!$C$28=$A$34,IF(Avropsblankett!$F$28<2,Avropsblankett!$F$28*AW35,(AW35+(Avropsblankett!$F$28-1)*AY35)),\"\")","v":""}]
[null,null,null,{"$f":"IF(Avropsblankett!$C$40=$A$34,IF(Avropsblankett!$F$40<2,Avropsblankett!$F$40*D35,(D35+(Avropsblankett!$F$40-1)*F35)),\"\")","v":""},null,null,null,null,{"$f":"IF(Avropsblankett!$C$40=$A$34,IF(Avropsblankett!$F$40<2,Avropsblankett!$F$40*I35,(I35+(Avropsblankett!$F$40-1)*K35)),\"\")","v":""},null,null,null,null,{"$f":"IF(Avropsblankett!$C$40=$A$34,IF(Avropsblankett!$F$40<2,Avropsblankett!$F$40*N35,(N35+(Avropsblankett!$F$40-1)*P35)),\"\")","v":""},null,null,null,null,{"$f":"IF(Avropsblankett!$C$40=$A$34,IF(Avropsblankett!$F$40<2,Avropsblankett!$F$40*S35,(S35+(Avropsblankett!$F$40-1)*U35)),\"\")","v":""},null,null,null,null,{"$f":"IF(Avropsblankett!$C$40=$A$34,IF(Avropsblankett!$F$40<2,Avropsblankett!$F$40*X35,(X35+(Avropsblankett!$F$40-1)*Z35)),\"\")","v":""},null,null,null,null,{"$f":"IF(Avropsblankett!$C$40=$A$34,IF(Avropsblankett!$F$40<2,Avropsblankett!$F$40*AC35,(AC35+(Avropsblankett!$F$40-1)*AE35)),\"\")","v":""},null,null,null,null,{"$f":"IF(Avropsblankett!$C$40=$A$34,IF(Avropsblankett!$F$40<2,Avropsblankett!$F$40*AH35,(AH35+(Avropsblankett!$F$40-1)*AJ35)),\"\")","v":""},null,null,null,null,{"$f":"IF(Avropsblankett!$C$40=$A$34,IF(Avropsblankett!$F$40<2,Avropsblankett!$F$40*AM35,(AM35+(Avropsblankett!$F$40-1)*AO35)),\"\")","v":""},null,null,null,null,{"$f":"IF(Avropsblankett!$C$40=$A$34,IF(Avropsblankett!$F$40<2,Avropsblankett!$F$40*AR35,(AR35+(Avropsblankett!$F$40-1)*AT35)),\"\")","v":""},null,null,null,null,{"$f":"IF(Avropsblankett!$C$40=$A$34,IF(Avropsblankett!$F$40<2,Avropsblankett!$F$40*AW35,(AW35+(Avropsblankett!$F$40-1)*AY35)),\"\")","v":""}]
[null,null,null,{"$f":"IF(Avropsblankett!$C$52=$A$34,IF(Avropsblankett!$F$52<2,Avropsblankett!$F$52*D35,(D35+(Avropsblankett!$F$52-1)*F35)),\"\")","v":""},null,null,null,null,{"$f":"IF(Avropsblankett!$C$52=$A$34,IF(Avropsblankett!$F$52<2,Avropsblankett!$F$52*I35,(I35+(Avropsblankett!$F$52-1)*K35)),\"\")","v":""},null,null,null,null,{"$f":"IF(Avropsblankett!$C$52=$A$34,IF(Avropsblankett!$F$52<2,Avropsblankett!$F$52*N35,(N35+(Avropsblankett!$F$52-1)*P35)),\"\")","v":""},null,null,null,null,{"$f":"IF(Avropsblankett!$C$52=$A$34,IF(Avropsblankett!$F$52<2,Avropsblankett!$F$52*S35,(S35+(Avropsblankett!$F$52-1)*U35)),\"\")","v":""},null,null,null,null,{"$f":"IF(Avropsblankett!$C$52=$A$34,IF(Avropsblankett!$F$52<2,Avropsblankett!$F$52*X35,(X35+(Avropsblankett!$F$52-1)*Z35)),\"\")","v":""},null,null,null,null,{"$f":"IF(Avropsblankett!$C$52=$A$34,IF(Avropsblankett!$F$52<2,Avropsblankett!$F$52*AC35,(AC35+(Avropsblankett!$F$52-1)*AE35)),\"\")","v":""},null,null,null,null,{"$f":"IF(Avropsblankett!$C$52=$A$34,IF(Avropsblankett!$F$52<2,Avropsblankett!$F$52*AH35,(AH35+(Avropsblankett!$F$52-1)*AJ35)),\"\")","v":""},null,null,null,null,{"$f":"IF(Avropsblankett!$C$52=$A$34,IF(Avropsblankett!$F$52<2,Avropsblankett!$F$52*AM35,(AM35+(Avropsblankett!$F$52-1)*AO35)),\"\")","v":""},null,null,null,null,{"$f":"IF(Avropsblankett!$C$52=$A$34,IF(Avropsblankett!$F$52<2,Avropsblankett!$F$52*AR35,(AR35+(Avropsblankett!$F$52-1)*AT35)),\"\")","v":""},null,null,null,null,{"$f":"IF(Avropsblankett!$C$52=$A$34,IF(Avropsblankett!$F$52<2,Avropsblankett!$F$52*AW35,(AW35+(Avropsblankett!$F$52-1)*AY35)),\"\")","v":""}]
[null,null,null,{"$f":"IF(Avropsblankett!$C$64=$A$34,IF(Avropsblankett!$F$64<2,Avropsblankett!$F$64*D35,(D35+(Avropsblankett!$F$64-1)*F35)),\"\")","v":""},null,null,null,null,{"$f":"IF(Avropsblankett!$C$64=$A$34,IF(Avropsblankett!$F$64<2,Avropsblankett!$F$64*I35,(I35+(Avropsblankett!$F$64-1)*K35)),\"\")","v":""},null,null,null,null,{"$f":"IF(Avropsblankett!$C$64=$A$34,IF(Avropsblankett!$F$64<2,Avropsblankett!$F$64*N35,(N35+(Avropsblankett!$F$64-1)*P35)),\"\")","v":""},null,null,null,null,{"$f":"IF(Avropsblankett!$C$64=$A$34,IF(Avropsblankett!$F$64<2,Avropsblankett!$F$64*S35,(S35+(Avropsblankett!$F$64-1)*U35)),\"\")","v":""},null,null,null,null,{"$f":"IF(Avropsblankett!$C$64=$A$34,IF(Avropsblankett!$F$64<2,Avropsblankett!$F$64*X35,(X35+(Avropsblankett!$F$64-1)*Z35)),\"\")","v":""},null,null,null,null,{"$f":"IF(Avropsblankett!$C$64=$A$34,IF(Avropsblankett!$F$64<2,Avropsblankett!$F$64*AC35,(AC35+(Avropsblankett!$F$64-1)*AE35)),\"\")","v":""},null,null,null,null,{"$f":"IF(Avropsblankett!$C$64=$A$34,IF(Avropsblankett!$F$64<2,Avropsblankett!$F$64*AH35,(AH35+(Avropsblankett!$F$64-1)*AJ35)),\"\")","v":""},null,null,null,null,{"$f":"IF(Avropsblankett!$C$64=$A$34,IF(Avropsblankett!$F$64<2,Avropsblankett!$F$64*AM35,(AM35+(Avropsblankett!$F$64-1)*AO35)),\"\")","v":""},null,null,null,null,{"$f":"IF(Avropsblankett!$C$64=$A$34,IF(Avropsblankett!$F$64<2,Avropsblankett!$F$64*AR35,(AR35+(Avropsblankett!$F$64-1)*AT35)),\"\")","v":""},null,null,null,null,{"$f":"IF(Avropsblankett!$C$64=$A$34,IF(Avropsblankett!$F$64<2,Avropsblankett!$F$64*AW35,(AW35+(Avropsblankett!$F$64-1)*AY35)),\"\")","v":""}]
[null,null,null,{"$f":"IF(Avropsblankett!$C$76=$A$34,IF(Avropsblankett!$F$76<2,Avropsblankett!$F$76*D35,(D35+(Avropsblankett!$F$76-1)*F35)),\"\")","v":""},null,null,null,null,{"$f":"IF(Avropsblankett!$C$76=$A$34,IF(Avropsblankett!$F$76<2,Avropsblankett!$F$76*I35,(I35+(Avropsblankett!$F$76-1)*K35)),\"\")","v":""},null,null,null,null,{"$f":"IF(Avropsblankett!$C$76=$A$34,IF(Avropsblankett!$F$76<2,Avropsblankett!$F$76*N35,(N35+(Avropsblankett!$F$76-1)*P35)),\"\")","v":""},null,null,null,null,{"$f":"IF(Avropsblankett!$C$76=$A$34,IF(Avropsblankett!$F$76<2,Avropsblankett!$F$76*S35,(S35+(Avropsblankett!$F$76-1)*U35)),\"\")","v":""},null,null,null,null,{"$f":"IF(Avropsblankett!$C$76=$A$34,IF(Avropsblankett!$F$76<2,Avropsblankett!$F$76*X35,(X35+(Avropsblankett!$F$76-1)*Z35)),\"\")","v":""},null,null,null,null,{"$f":"IF(Avropsblankett!$C$76=$A$34,IF(Avropsblankett!$F$76<2,Avropsblankett!$F$76*AC35,(AC35+(Avropsblankett!$F$76-1)*AE35)),\"\")","v":""},null,null,null,null,{"$f":"IF(Avropsblankett!$C$76=$A$34,IF(Avropsblankett!$F$76<2,Avropsblankett!$F$76*AH35,(AH35+(Avropsblankett!$F$76-1)*AJ35)),\"\")","v":""},null,null,null,null,{"$f":"IF(Avropsblankett!$C$76=$A$34,IF(Avropsblankett!$F$76<2,Avropsblankett!$F$76*AM35,(AM35+(Avropsblankett!$F$76-1)*AO35)),\"\")","v":""},null,null,null,null,{"$f":"IF(Avropsblankett!$C$76=$A$34,IF(Avropsblankett!$F$76<2,Avropsblankett!$F$76*AR35,(AR35+(Avropsblankett!$F$76-1)*AT35)),\"\")","v":""},null,null,null,null,{"$f":"IF(Avropsblankett!$C$76=$A$34,IF(Avropsblankett!$F$76<2,Avropsblankett!$F$76*AW35,(AW35+(Avropsblankett!$F$76-1)*AY35)),\"\")","v":""}]
[null,null,null,{"$f":"SUM(D37:D41)","v":0},null,null,null,null,{"$f":"SUM(I37:I41)","v":0},null,null,null,null,{"$f":"SUM(N37:N41)","v":0},null,null,null,null,{"$f":"SUM(S37:S41)","v":0},null,null,null,null,{"$f":"SUM(X37:X41)","v":0},null,null,null,null,{"$f":"SUM(AC37:AC41)","v":0},null,null,null,null,{"$f":"SUM(AH37:AH41)","v":0},null,null,null,null,{"$f":"SUM(AM37:AM41)","v":0},null,null,null,null,{"$f":"SUM(AR37:AR41)","v":0},null,null,null,null,{"$f":"SUM(AW37:AW41)","v":0}]
["Roll_up_5",null,"Upplaga","Ange pris","Upplaga","Ange pris",null,"Upplaga","Ange pris","Upplaga","Ange pris",null,"Upplaga","Ange pris","Upplaga","Ange pris",null,"Upplaga","Ange pris","Upplaga","Ange pris",null,"Upplaga","Ange pris","Upplaga","Ange pris",null,"Upplaga","Ange pris","Upplaga","Ange pris",null,"Upplaga","Ange pris","Upplaga","Ange pris",null,"Upplaga","Ange pris","Upplaga","Ange pris",null,"Upplaga","Ange pris","Upplaga","Ange pris",null,"Upplaga","Ange pris","Upplaga","Ange pris"]
["Roll up Motiv 85 cm inklusive enkel kassett, där roll up inte går att byta ",null,1,2000,1,1000,null,1,1750,1,1750,null,1,1050,1,950,null,1,875,1,645,null,1,595,1,555,null,1,568,1,288,null,1,850,1,800,null,1,1155,1,788,null,1,850,1,850,null,1,1050,1,925]
["4+0"]
[null,null,null,{"$f":"IF(Avropsblankett!$C$28=$A$43,IF(Avropsblankett!$F$28<2,Avropsblankett!$F$28*D44,(D44+(Avropsblankett!$F$28-1)*F44)),\"\")","v":""},null,null,null,null,{"$f":"IF(Avropsblankett!$C$28=$A$43,IF(Avropsblankett!$F$28<2,Avropsblankett!$F$28*I44,(I44+(Avropsblankett!$F$28-1)*K44)),\"\")","v":""},null,null,null,null,{"$f":"IF(Avropsblankett!$C$28=$A$43,IF(Avropsblankett!$F$28<2,Avropsblankett!$F$28*N44,(N44+(Avropsblankett!$F$28-1)*P44)),\"\")","v":""},null,null,null,null,{"$f":"IF(Avropsblankett!$C$28=$A$43,IF(Avropsblankett!$F$28<2,Avropsblankett!$F$28*S44,(S44+(Avropsblankett!$F$28-1)*U44)),\"\")","v":""},null,null,null,null,{"$f":"IF(Avropsblankett!$C$28=$A$43,IF(Avropsblankett!$F$28<2,Avropsblankett!$F$28*X44,(X44+(Avropsblankett!$F$28-1)*Z44)),\"\")","v":""},null,null,null,null,{"$f":"IF(Avropsblankett!$C$28=$A$43,IF(Avropsblankett!$F$28<2,Avropsblankett!$F$28*AC44,(AC44+(Avropsblankett!$F$28-1)*AE44)),\"\")","v":""},null,null,null,null,{"$f":"IF(Avropsblankett!$C$28=$A$43,IF(Avropsblankett!$F$28<2,Avropsblankett!$F$28*AH44,(AH44+(Avropsblankett!$F$28-1)*AJ44)),\"\")","v":""},null,null,null,null,{"$f":"IF(Avropsblankett!$C$28=$A$43,IF(Avropsblankett!$F$28<2,Avropsblankett!$F$28*AM44,(AM44+(Avropsblankett!$F$28-1)*AO44)),\"\")","v":""},null,null,null,null,{"$f":"IF(Avropsblankett!$C$28=$A$43,IF(Avropsblankett!$F$28<2,Avropsblankett!$F$28*AR44,(AR44+(Avropsblankett!$F$28-1)*AT44)),\"\")","v":""},null,null,null,null,{"$f":"IF(Avropsblankett!$C$28=$A$43,IF(Avropsblankett!$F$28<2,Avropsblankett!$F$28*AW44,(AW44+(Avropsblankett!$F$28-1)*AY44)),\"\")","v":""}]
[null,null,null,{"$f":"IF(Avropsblankett!$C$40=$A$43,IF(Avropsblankett!$F$40<2,Avropsblankett!$F$40*D44,(D44+(Avropsblankett!$F$40-1)*F44)),\"\")","v":""},null,null,null,null,{"$f":"IF(Avropsblankett!$C$40=$A$43,IF(Avropsblankett!$F$40<2,Avropsblankett!$F$40*I44,(I44+(Avropsblankett!$F$40-1)*K44)),\"\")","v":""},null,null,null,null,{"$f":"IF(Avropsblankett!$C$40=$A$43,IF(Avropsblankett!$F$40<2,Avropsblankett!$F$40*N44,(N44+(Avropsblankett!$F$40-1)*P44)),\"\")","v":""},null,null,null,null,{"$f":"IF(Avropsblankett!$C$40=$A$43,IF(Avropsblankett!$F$40<2,Avropsblankett!$F$40*S44,(S44+(Avropsblankett!$F$40-1)*U44)),\"\")","v":""},null,null,null,null,{"$f":"IF(Avropsblankett!$C$40=$A$43,IF(Avropsblankett!$F$40<2,Avropsblankett!$F$40*X44,(X44+(Avropsblankett!$F$40-1)*Z44)),\"\")","v":""},null,null,null,null,{"$f":"IF(Avropsblankett!$C$40=$A$43,IF(Avropsblankett!$F$40<2,Avropsblankett!$F$40*AC44,(AC44+(Avropsblankett!$F$40-1)*AE44)),\"\")","v":""},null,null,null,null,{"$f":"IF(Avropsblankett!$C$40=$A$43,IF(Avropsblankett!$F$40<2,Avropsblankett!$F$40*AH44,(AH44+(Avropsblankett!$F$40-1)*AJ44)),\"\")","v":""},null,null,null,null,{"$f":"IF(Avropsblankett!$C$40=$A$43,IF(Avropsblankett!$F$40<2,Avropsblankett!$F$40*AM44,(AM44+(Avropsblankett!$F$40-1)*AO44)),\"\")","v":""},null,null,null,null,{"$f":"IF(Avropsblankett!$C$40=$A$43,IF(Avropsblankett!$F$40<2,Avropsblankett!$F$40*AR44,(AR44+(Avropsblankett!$F$40-1)*AT44)),\"\")","v":""},null,null,null,null,{"$f":"IF(Avropsblankett!$C$40=$A$43,IF(Avropsblankett!$F$40<2,Avropsblankett!$F$40*AW44,(AW44+(Avropsblankett!$F$40-1)*AY44)),\"\")","v":""}]
[null,null,null,{"$f":"IF(Avropsblankett!$C$52=$A$43,IF(Avropsblankett!$F$52<2,Avropsblankett!$F$52*D44,(D44+(Avropsblankett!$F$52-1)*F44)),\"\")","v":""},null,null,null,null,{"$f":"IF(Avropsblankett!$C$52=$A$43,IF(Avropsblankett!$F$52<2,Avropsblankett!$F$52*I44,(I44+(Avropsblankett!$F$52-1)*K44)),\"\")","v":""},null,null,null,null,{"$f":"IF(Avropsblankett!$C$52=$A$43,IF(Avropsblankett!$F$52<2,Avropsblankett!$F$52*N44,(N44+(Avropsblankett!$F$52-1)*P44)),\"\")","v":""},null,null,null,null,{"$f":"IF(Avropsblankett!$C$52=$A$43,IF(Avropsblankett!$F$52<2,Avropsblankett!$F$52*S44,(S44+(Avropsblankett!$F$52-1)*U44)),\"\")","v":""},null,null,null,null,{"$f":"IF(Avropsblankett!$C$52=$A$43,IF(Avropsblankett!$F$52<2,Avropsblankett!$F$52*X44,(X44+(Avropsblankett!$F$52-1)*Z44)),\"\")","v":""},null,null,null,null,{"$f":"IF(Avropsblankett!$C$52=$A$43,IF(Avropsblankett!$F$52<2,Avropsblankett!$F$52*AC44,(AC44+(Avropsblankett!$F$52-1)*AE44)),\"\")","v":""},null,null,null,null,{"$f":"IF(Avropsblankett!$C$52=$A$43,IF(Avropsblankett!$F$52<2,Avropsblankett!$F$52*AH44,(AH44+(Avropsblankett!$F$52-1)*AJ44)),\"\")","v":""},null,null,null,null,{"$f":"IF(Avropsblankett!$C$52=$A$43,IF(Avropsblankett!$F$52<2,Avropsblankett!$F$52*AM44,(AM44+(Avropsblankett!$F$52-1)*AO44)),\"\")","v":""},null,null,null,null,{"$f":"IF(Avropsblankett!$C$52=$A$43,IF(Avropsblankett!$F$52<2,Avropsblankett!$F$52*AR44,(AR44+(Avropsblankett!$F$52-1)*AT44)),\"\")","v":""},null,null,null,null,{"$f":"IF(Avropsblankett!$C$52=$A$43,IF(Avropsblankett!$F$52<2,Avropsblankett!$F$52*AW44,(AW44+(Avropsblankett!$F$52-1)*AY44)),\"\")","v":""}]
[null,null,null,{"$f":"IF(Avropsblankett!$C$64=$A$43,IF(Avropsblankett!$F$64<2,Avropsblankett!$F$64*D44,(D44+(Avropsblankett!$F$64-1)*F44)),\"\")","v":""},null,null,null,null,{"$f":"IF(Avropsblankett!$C$64=$A$43,IF(Avropsblankett!$F$64<2,Avropsblankett!$F$64*I44,(I44+(Avropsblankett!$F$64-1)*K44)),\"\")","v":""},null,null,null,null,{"$f":"IF(Avropsblankett!$C$64=$A$43,IF(Avropsblankett!$F$64<2,Avropsblankett!$F$64*N44,(N44+(Avropsblankett!$F$64-1)*P44)),\"\")","v":""},null,null,null,null,{"$f":"IF(Avropsblankett!$C$64=$A$43,IF(Avropsblankett!$F$64<2,Avropsblankett!$F$64*S44,(S44+(Avropsblankett!$F$64-1)*U44)),\"\")","v":""},null,null,null,null,{"$f":"IF(Avropsblankett!$C$64=$A$43,IF(Avropsblankett!$F$64<2,Avropsblankett!$F$64*X44,(X44+(Avropsblankett!$F$64-1)*Z44)),\"\")","v":""},null,null,null,null,{"$f":"IF(Avropsblankett!$C$64=$A$43,IF(Avropsblankett!$F$64<2,Avropsblankett!$F$64*AC44,(AC44+(Avropsblankett!$F$64-1)*AE44)),\"\")","v":""},null,null,null,null,{"$f":"IF(Avropsblankett!$C$64=$A$43,IF(Avropsblankett!$F$64<2,Avropsblankett!$F$64*AH44,(AH44+(Avropsblankett!$F$64-1)*AJ44)),\"\")","v":""},null,null,null,null,{"$f":"IF(Avropsblankett!$C$64=$A$43,IF(Avropsblankett!$F$64<2,Avropsblankett!$F$64*AM44,(AM44+(Avropsblankett!$F$64-1)*AO44)),\"\")","v":""},null,null,null,null,{"$f":"IF(Avropsblankett!$C$64=$A$43,IF(Avropsblankett!$F$64<2,Avropsblankett!$F$64*AR44,(AR44+(Avropsblankett!$F$64-1)*AT44)),\"\")","v":""},null,null,null,null,{"$f":"IF(Avropsblankett!$C$64=$A$43,IF(Avropsblankett!$F$64<2,Avropsblankett!$F$64*AW44,(AW44+(Avropsblankett!$F$64-1)*AY44)),\"\")","v":""}]
[null,null,null,{"$f":"IF(Avropsblankett!$C$76=$A$43,IF(Avropsblankett!$F$76<2,Avropsblankett!$F$76*D44,(D44+(Avropsblankett!$F$76-1)*F44)),\"\")","v":""},null,null,null,null,{"$f":"IF(Avropsblankett!$C$76=$A$43,IF(Avropsblankett!$F$76<2,Avropsblankett!$F$76*I44,(I44+(Avropsblankett!$F$76-1)*K44)),\"\")","v":""},null,null,null,null,{"$f":"IF(Avropsblankett!$C$76=$A$43,IF(Avropsblankett!$F$76<2,Avropsblankett!$F$76*N44,(N44+(Avropsblankett!$F$76-1)*P44)),\"\")","v":""},null,null,null,null,{"$f":"IF(Avropsblankett!$C$76=$A$43,IF(Avropsblankett!$F$76<2,Avropsblankett!$F$76*S44,(S44+(Avropsblankett!$F$76-1)*U44)),\"\")","v":""},null,null,null,null,{"$f":"IF(Avropsblankett!$C$76=$A$43,IF(Avropsblankett!$F$76<2,Avropsblankett!$F$76*X44,(X44+(Avropsblankett!$F$76-1)*Z44)),\"\")","v":""},null,null,null,null,{"$f":"IF(Avropsblankett!$C$76=$A$43,IF(Avropsblankett!$F$76<2,Avropsblankett!$F$76*AC44,(AC44+(Avropsblankett!$F$76-1)*AE44)),\"\")","v":""},null,null,null,null,{"$f":"IF(Avropsblankett!$C$76=$A$43,IF(Avropsblankett!$F$76<2,Avropsblankett!$F$76*AH44,(AH44+(Avropsblankett!$F$76-1)*AJ44)),\"\")","v":""},null,null,null,null,{"$f":"IF(Avropsblankett!$C$76=$A$43,IF(Avropsblankett!$F$76<2,Avropsblankett!$F$76*AM44,(AM44+(Avropsblankett!$F$76-1)*AO44)),\"\")","v":""},null,null,null,null,{"$f":"IF(Avropsblankett!$C$76=$A$43,IF(Avropsblankett!$F$76<2,Avropsblankett!$F$76*AR44,(AR44+(Avropsblankett!$F$76-1)*AT44)),\"\")","v":""},null,null,null,null,{"$f":"IF(Avropsblankett!$C$76=$A$43,IF(Avropsblankett!$F$76<2,Avropsblankett!$F$76*AW44,(AW44+(Avropsblankett!$F$76-1)*AY44)),\"\")","v":""}]
[null,null,null,{"$f":"SUM(D46:D50)","v":0},null,null,null,null,{"$f":"SUM(I46:I50)","v":0},null,null,null,null,{"$f":"SUM(N46:N50)","v":0},null,null,null,null,{"$f":"SUM(S46:S50)","v":0},null,null,null,null,{"$f":"SUM(X46:X50)","v":0},null,null,null,null,{"$f":"SUM(AC46:AC50)","v":0},null,null,null,null,{"$f":"SUM(AH46:AH50)","v":0},null,null,null,null,{"$f":"SUM(AM46:AM50)","v":0},null,null,null,null,{"$f":"SUM(AR46:AR50)","v":0},null,null,null,null,{"$f":"SUM(AW46:AW50)","v":0}]
["Roll_up_6",null,"Upplaga","Ange pris","Upplaga","Ange pris",null,"Upplaga","Ange pris","Upplaga","Ange pris",null,"Upplaga","Ange pris","Upplaga","Ange pris",null,"Upplaga","Ange pris","Upplaga","Ange pris",null,"Upplaga","Ange pris","Upplaga","Ange pris",null,"Upplaga","Ange pris","Upplaga","Ange pris",null,"Upplaga","Ange pris","Upplaga","Ange pris",null,"Upplaga","Ange pris","Upplaga","Ange pris",null,"Upplaga","Ange pris","Upplaga","Ange pris",null,"Upplaga","Ange pris","Upplaga","Ange pris"]
["Roll up Motiv 100 cm inklusive enkel kassett, där roll up inte går att byta ",null,1,3000,1,1500,null,1,1850,1,1850,null,1,1050,1,950,null,1,1135,1,735,null,1,668,1,595,null,1,655,1,598,null,1,950,1,900,null,1,1260,1,893,null,1,1200,1,1200,null,1,1400,1,1250]
["4+0"]
[null,null,null,{"$f":"IF(Avropsblankett!$C$28=$A$52,IF(Avropsblankett!$F$28<2,Avropsblankett!$F$28*D53,(D53+(Avropsblankett!$F$28-1)*F53)),\"\")","v":""},null,null,null,null,{"$f":"IF(Avropsblankett!$C$28=$A$52,IF(Avropsblankett!$F$28<2,Avropsblankett!$F$28*I53,(I53+(Avropsblankett!$F$28-1)*K53)),\"\")","v":""},null,null,null,null,{"$f":"IF(Avropsblankett!$C$28=$A$52,IF(Avropsblankett!$F$28<2,Avropsblankett!$F$28*N53,(N53+(Avropsblankett!$F$28-1)*P53)),\"\")","v":""},null,null,null,null,{"$f":"IF(Avropsblankett!$C$28=$A$52,IF(Avropsblankett!$F$28<2,Avropsblankett!$F$28*S53,(S53+(Avropsblankett!$F$28-1)*U53)),\"\")","v":""},null,null,null,null,{"$f":"IF(Avropsblankett!$C$28=$A$52,IF(Avropsblankett!$F$28<2,Avropsblankett!$F$28*X53,(X53+(Avropsblankett!$F$28-1)*Z53)),\"\")","v":""},null,null,null,null,{"$f":"IF(Avropsblankett!$C$28=$A$52,IF(Avropsblankett!$F$28<2,Avropsblankett!$F$28*AC53,(AC53+(Avropsblankett!$F$28-1)*AE53)),\"\")","v":""},null,null,null,null,{"$f":"IF(Avropsblankett!$C$28=$A$52,IF(Avropsblankett!$F$28<2,Avropsblankett!$F$28*AH53,(AH53+(Avropsblankett!$F$28-1)*AJ53)),\"\")","v":""},null,null,null,null,{"$f":"IF(Avropsblankett!$C$28=$A$52,IF(Avropsblankett!$F$28<2,Avropsblankett!$F$28*AM53,(AM53+(Avropsblankett!$F$28-1)*AO53)),\"\")","v":""},null,null,null,null,{"$f":"IF(Avropsblankett!$C$28=$A$52,IF(Avropsblankett!$F$28<2,Avropsblankett!$F$28*AR53,(AR53+(Avropsblankett!$F$28-1)*AT53)),\"\")","v":""},null,null,null,null,{"$f":"IF(Avropsblankett!$C$28=$A$52,IF(Avropsblankett!$F$28<2,Avropsblankett!$F$28*AW53,(AW53+(Avropsblankett!$F$28-1)*AY53)),\"\")","v":""}]
[null,null,null,{"$f":"IF(Avropsblankett!$C$40=$A$52,IF(Avropsblankett!$F$40<2,Avropsblankett!$F$40*D53,(D53+(Avropsblankett!$F$40-1)*F53)),\"\")","v":""},null,null,null,null,{"$f":"IF(Avropsblankett!$C$40=$A$52,IF(Avropsblankett!$F$40<2,Avropsblankett!$F$40*I53,(I53+(Avropsblankett!$F$40-1)*K53)),\"\")","v":""},null,null,null,null,{"$f":"IF(Avropsblankett!$C$40=$A$52,IF(Avropsblankett!$F$40<2,Avropsblankett!$F$40*N53,(N53+(Avropsblankett!$F$40-1)*P53)),\"\")","v":""},null,null,null,null,{"$f":"IF(Avropsblankett!$C$40=$A$52,IF(Avropsblankett!$F$40<2,Avropsblankett!$F$40*S53,(S53+(Avropsblankett!$F$40-1)*U53)),\"\")","v":""},null,null,null,null,{"$f":"IF(Avropsblankett!$C$40=$A$52,IF(Avropsblankett!$F$40<2,Avropsblankett!$F$40*X53,(X53+(Avropsblankett!$F$40-1)*Z53)),\"\")","v":""},null,null,null,null,{"$f":"IF(Avropsblankett!$C$40=$A$52,IF(Avropsblankett!$F$40<2,Avropsblankett!$F$40*AC53,(AC53+(Avropsblankett!$F$40-1)*AE53)),\"\")","v":""},null,null,null,null,{"$f":"IF(Avropsblankett!$C$40=$A$52,IF(Avropsblankett!$F$40<2,Avropsblankett!$F$40*AH53,(AH53+(Avropsblankett!$F$40-1)*AJ53)),\"\")","v":""},null,null,null,null,{"$f":"IF(Avropsblankett!$C$40=$A$52,IF(Avropsblankett!$F$40<2,Avropsblankett!$F$40*AM53,(AM53+(Avropsblankett!$F$40-1)*AO53)),\"\")","v":""},null,null,null,null,{"$f":"IF(Avropsblankett!$C$40=$A$52,IF(Avropsblankett!$F$40<2,Avropsblankett!$F$40*AR53,(AR53+(Avropsblankett!$F$40-1)*AT53)),\"\")","v":""},null,null,null,null,{"$f":"IF(Avropsblankett!$C$40=$A$52,IF(Avropsblankett!$F$40<2,Avropsblankett!$F$40*AW53,(AW53+(Avropsblankett!$F$40-1)*AY53)),\"\")","v":""}]
[null,null,null,{"$f":"IF(Avropsblankett!$C$52=$A$52,IF(Avropsblankett!$F$52<2,Avropsblankett!$F$52*D53,(D53+(Avropsblankett!$F$52-1)*F53)),\"\")","v":""},null,null,null,null,{"$f":"IF(Avropsblankett!$C$52=$A$52,IF(Avropsblankett!$F$52<2,Avropsblankett!$F$52*I53,(I53+(Avropsblankett!$F$52-1)*K53)),\"\")","v":""},null,null,null,null,{"$f":"IF(Avropsblankett!$C$52=$A$52,IF(Avropsblankett!$F$52<2,Avropsblankett!$F$52*N53,(N53+(Avropsblankett!$F$52-1)*P53)),\"\")","v":""},null,null,null,null,{"$f":"IF(Avropsblankett!$C$52=$A$52,IF(Avropsblankett!$F$52<2,Avropsblankett!$F$52*S53,(S53+(Avropsblankett!$F$52-1)*U53)),\"\")","v":""},null,null,null,null,{"$f":"IF(Avropsblankett!$C$52=$A$52,IF(Avropsblankett!$F$52<2,Avropsblankett!$F$52*X53,(X53+(Avropsblankett!$F$52-1)*Z53)),\"\")","v":""},null,null,null,null,{"$f":"IF(Avropsblankett!$C$52=$A$52,IF(Avropsblankett!$F$52<2,Avropsblankett!$F$52*AC53,(AC53+(Avropsblankett!$F$52-1)*AE53)),\"\")","v":""},null,null,null,null,{"$f":"IF(Avropsblankett!$C$52=$A$52,IF(Avropsblankett!$F$52<2,Avropsblankett!$F$52*AH53,(AH53+(Avropsblankett!$F$52-1)*AJ53)),\"\")","v":""},null,null,null,null,{"$f":"IF(Avropsblankett!$C$52=$A$52,IF(Avropsblankett!$F$52<2,Avropsblankett!$F$52*AM53,(AM53+(Avropsblankett!$F$52-1)*AO53)),\"\")","v":""},null,null,null,null,{"$f":"IF(Avropsblankett!$C$52=$A$52,IF(Avropsblankett!$F$52<2,Avropsblankett!$F$52*AR53,(AR53+(Avropsblankett!$F$52-1)*AT53)),\"\")","v":""},null,null,null,null,{"$f":"IF(Avropsblankett!$C$52=$A$52,IF(Avropsblankett!$F$52<2,Avropsblankett!$F$52*AW53,(AW53+(Avropsblankett!$F$52-1)*AY53)),\"\")","v":""}]
[null,null,null,{"$f":"IF(Avropsblankett!$C$64=$A$52,IF(Avropsblankett!$F$64<2,Avropsblankett!$F$64*D53,(D53+(Avropsblankett!$F$64-1)*F53)),\"\")","v":""},null,null,null,null,{"$f":"IF(Avropsblankett!$C$64=$A$52,IF(Avropsblankett!$F$64<2,Avropsblankett!$F$64*I53,(I53+(Avropsblankett!$F$64-1)*K53)),\"\")","v":""},null,null,null,null,{"$f":"IF(Avropsblankett!$C$64=$A$52,IF(Avropsblankett!$F$64<2,Avropsblankett!$F$64*N53,(N53+(Avropsblankett!$F$64-1)*P53)),\"\")","v":""},null,null,null,null,{"$f":"IF(Avropsblankett!$C$64=$A$52,IF(Avropsblankett!$F$64<2,Avropsblankett!$F$64*S53,(S53+(Avropsblankett!$F$64-1)*U53)),\"\")","v":""},null,null,null,null,{"$f":"IF(Avropsblankett!$C$64=$A$52,IF(Avropsblankett!$F$64<2,Avropsblankett!$F$64*X53,(X53+(Avropsblankett!$F$64-1)*Z53)),\"\")","v":""},null,null,null,null,{"$f":"IF(Avropsblankett!$C$64=$A$52,IF(Avropsblankett!$F$64<2,Avropsblankett!$F$64*AC53,(AC53+(Avropsblankett!$F$64-1)*AE53)),\"\")","v":""},null,null,null,null,{"$f":"IF(Avropsblankett!$C$64=$A$52,IF(Avropsblankett!$F$64<2,Avropsblankett!$F$64*AH53,(AH53+(Avropsblankett!$F$64-1)*AJ53)),\"\")","v":""},null,null,null,null,{"$f":"IF(Avropsblankett!$C$64=$A$52,IF(Avropsblankett!$F$64<2,Avropsblankett!$F$64*AM53,(AM53+(Avropsblankett!$F$64-1)*AO53)),\"\")","v":""},null,null,null,null,{"$f":"IF(Avropsblankett!$C$64=$A$52,IF(Avropsblankett!$F$64<2,Avropsblankett!$F$64*AR53,(AR53+(Avropsblankett!$F$64-1)*AT53)),\"\")","v":""},null,null,null,null,{"$f":"IF(Avropsblankett!$C$64=$A$52,IF(Avropsblankett!$F$64<2,Avropsblankett!$F$64*AW53,(AW53+(Avropsblankett!$F$64-1)*AY53)),\"\")","v":""}]
[null,null,null,{"$f":"IF(Avropsblankett!$C$76=$A$52,IF(Avropsblankett!$F$76<2,Avropsblankett!$F$76*D53,(D53+(Avropsblankett!$F$76-1)*F53)),\"\")","v":""},null,null,null,null,{"$f":"IF(Avropsblankett!$C$76=$A$52,IF(Avropsblankett!$F$76<2,Avropsblankett!$F$76*I53,(I53+(Avropsblankett!$F$76-1)*K53)),\"\")","v":""},null,null,null,null,{"$f":"IF(Avropsblankett!$C$76=$A$52,IF(Avropsblankett!$F$76<2,Avropsblankett!$F$76*N53,(N53+(Avropsblankett!$F$76-1)*P53)),\"\")","v":""},null,null,null,null,{"$f":"IF(Avropsblankett!$C$76=$A$52,IF(Avropsblankett!$F$76<2,Avropsblankett!$F$76*S53,(S53+(Avropsblankett!$F$76-1)*U53)),\"\")","v":""},null,null,null,null,{"$f":"IF(Avropsblankett!$C$76=$A$52,IF(Avropsblankett!$F$76<2,Avropsblankett!$F$76*X53,(X53+(Avropsblankett!$F$76-1)*Z53)),\"\")","v":""},null,null,null,null,{"$f":"IF(Avropsblankett!$C$76=$A$52,IF(Avropsblankett!$F$76<2,Avropsblankett!$F$76*AC53,(AC53+(Avropsblankett!$F$76-1)*AE53)),\"\")","v":""},null,null,null,null,{"$f":"IF(Avropsblankett!$C$76=$A$52,IF(Avropsblankett!$F$76<2,Avropsblankett!$F$76*AH53,(AH53+(Avropsblankett!$F$76-1)*AJ53)),\"\")","v":""},null,null,null,null,{"$f":"IF(Avropsblankett!$C$76=$A$52,IF(Avropsblankett!$F$76<2,Avropsblankett!$F$76*AM53,(AM53+(Avropsblankett!$F$76-1)*AO53)),\"\")","v":""},null,null,null,null,{"$f":"IF(Avropsblankett!$C$76=$A$52,IF(Avropsblankett!$F$76<2,Avropsblankett!$F$76*AR53,(AR53+(Avropsblankett!$F$76-1)*AT53)),\"\")","v":""},null,null,null,null,{"$f":"IF(Avropsblankett!$C$76=$A$52,IF(Avropsblankett!$F$76<2,Avropsblankett!$F$76*AW53,(AW53+(Avropsblankett!$F$76-1)*AY53)),\"\")","v":""}]
[null,null,null,{"$f":"SUM(D55:D59)","v":0},null,null,null,null,{"$f":"SUM(I55:I59)","v":0},null,null,null,null,{"$f":"SUM(N55:N59)","v":0},null,null,null,null,{"$f":"SUM(S55:S59)","v":0},null,null,null,null,{"$f":"SUM(X55:X59)","v":0},null,null,null,null,{"$f":"SUM(AC55:AC59)","v":0},null,null,null,null,{"$f":"SUM(AH55:AH59)","v":0},null,null,null,null,{"$f":"SUM(AM55:AM59)","v":0},null,null,null,null,{"$f":"SUM(AR55:AR59)","v":0},null,null,null,null,{"$f":"SUM(AW55:AW59)","v":0}]
[null,null,"Totalsumma",{"$f":"SUM(D15,D24,D33,D42,D51,D60)","v":0},null,null,null,"Totalsumma",{"$f":"SUM(I15,I24,I33,I42,I51,I60)","v":0},null,null,null,"Totalsumma",{"$f":"SUM(N15,N24,N33,N42,N51,N60)","v":0},null,null,null,"Totalsumma",{"$f":"SUM(S15,S24,S33,S42,S51,S60)","v":0},null,null,null,"Totalsumma",{"$f":"SUM(X15,X24,X33,X42,X51,X60)","v":0},null,null,null,"Totalsumma",{"$f":"SUM(AC15,AC24,AC33,AC42,AC51,AC60)","v":0},null,null,null,"Totalsumma",{"$f":"SUM(AH15,AH24,AH33,AH42,AH51,AH60)","v":0},null,null,null,"Totalsumma",{"$f":"SUM(AM15,AM24,AM33,AM42,AM51,AM60)","v":0},null,null,null,"Totalsumma",{"$f":"SUM(AR15,AR24,AR33,AR42,AR51,AR60)","v":0},null,null,null,"Totalsumma",{"$f":"SUM(AW15,AW24,AW33,AW42,AW51,AW60)","v":0}]
[]
[null,{"$f":"A8","v":"Roll up Motiv 85 cm för montering i egen kasset, exklusive kassett och montering"}]
[null,{"$f":"A17","v":"Roll up Motiv 100 cm för montering i egen kasset, exklusive kassett och montering"}]
[null,{"$f":"A26","v":"Roll up Motiv 85 cm inklusive kassett för utbytbar roll up"}]
[null,{"$f":"A35","v":"Roll up Motiv 100 cm inklusive kassett för utbytbar roll up"},"Följande"]
[null,{"$f":"A44","v":"Roll up Motiv 85 cm inklusive enkel kassett, där roll up inte går att byta "}]
[null,{"$f":"A53","v":"Roll up Motiv 100 cm inklusive enkel kassett, där roll up inte går att byta "}]

{"sheet":"Statligt tryck","index":11,"n_rows":34,"n_cols":52,"rows_kept":34,"cut":false,"hidden":false,"merged":[[0,0,0,2],[0,3,0,6],[1,0,1,2],[30,4,30,6],[1,3,1,6],[2,0,2,1],[15,0,15,1],[30,9,30,11],[0,13,0,16],[1,13,1,16],[30,14,30,16],[0,8,0,11],[1,8,1,11],[0,18,0,21],[0,23,0,26],[0,28,0,31],[1,18,1,21],[1,23,1,26],[1,28,1,31],[1,33,1,36],[1,38,1,41],[1,43,1,46],[1,48,1,51],[0,33,0,36],[0,38,0,41],[0,43,0,46],[0,48,0,51],[30,39,30,41],[30,44,30,46],[30,49,30,51],[30,19,30,21],[30,24,30,26],[30,29,30,31],[30,34,30,36]]}
["Statligt tryck",null,null,{"$f":"Uträkningsblad!C4","v":"Bröderna Hansson H-tryck Aktiebolag"},null,null,null,null,{"$f":"Uträkningsblad!D4","v":"Elanders Sverige AB"},null,null,null,null,{"$f":"Uträkningsblad!E4","v":"Exakta Print AB"},null,null,null,null,{"$f":"Uträkningsblad!F4","v":"Kalmar Kuvert Sweden AB"},null,null,null,null,{"$f":"Uträkningsblad!G4","v":"Ljungbergs Tryckeri i Klippan AB"},null,null,null,null,{"$f":"Uträkningsblad!H4","v":"Scandinavian Print Group Sweden AB"},null,null,null,null,{"$f":"Uträkningsblad!I4","v":"Stema Specialtryck AB"},null,null,null,null,{"$f":"Uträkningsblad!J4","v":"Stibo Complete A/S"},null,null,null,null,{"$f":"Uträkningsblad!K4","v":"Åtta.45 Tryckeri AB"},null,null,null,null,{"$f":"Uträkningsblad!L4","v":"Leverantör 10"}]
[null,null,null,"Priser lämnas i gulmarkerade fält nedan",null,null,null,null,"Priser lämnas i gulmarkerade fält nedan",null,null,null,null,"Priser lämnas i gulmarkerade fält nedan",null,null,null,null,"Priser lämnas i gulmarkerade fält nedan",null,null,null,null,"Priser lämnas i gulmarkerade fält nedan",null,null,null,null,"Priser lämnas i gulmarkerade fält nedan",null,null,null,null,"Priser lämnas i gulmarkerade fält nedan",null,null,null,null,"Priser lämnas i gulmarkerade fält nedan",null,null,null,null,"Priser lämnas i gulmarkerade fält nedan",null,null,null,null,"Priser lämnas i gulmarkerade fält nedan"]
["Statligt_tryck_1",null,"Omfång Inlaga, omslag samma som inlagan","Upplaga","Ange pris","Följande","Ange pris",null,"Upplaga","Ange pris","Följande","Ange pris",null,"Upplaga","Ange pris","Följande","Ange pris",null,"Upplaga","Ange pris","Följande","Ange pris",null,"Upplaga","Ange pris","Följande","Ange pris",null,"Upplaga","Ange pris","Följande","Ange pris",null,"Upplaga","Ange pris","Följande","Ange pris",null,"Upplaga","Ange pris","Följande","Ange pris",null,"Upplaga","Ange pris","Följande","Ange pris",null,"Upplaga","Ange pris","Följande","Ange pris"]
["Underlag","A: Öppna filer. B: PDF/PDFx. ",32,250,2879,100,636,null,250,1822,100,568,null,250,2300,100,530,null,250,1430,100,355,null,250,1120,100,255,null,250,2610,100,230,null,250,1500,100,280,null,250,1764,100,370,null,250,3680,100,355,null,250,2596,100,1732]
["Format","165 x 242 mm",64,250,4099,100,1123,null,250,2595,100,877,null,250,2960,100,1050,null,250,2175,100,610,null,250,1895,100,300,null,250,4230,100,464,null,250,2000,100,535,null,250,2358,100,398,null,250,5800,100,660,null,250,4016,100,3212]
["Papper inlaga","70g offsetpapper ",128,250,7537,100,400,null,250,3969,100,1433,null,250,4650,100,1700,null,250,4800,100,1000,null,250,2482,100,180,null,250,6975,100,1890,null,250,3500,100,1110,null,250,4636,100,646,null,250,10100,100,864,null,250,6368,100,5644]
["Papper omslag","Inget separat omslag"]
["Tryck","1+1 Svart"]
["Bokbinderi","Triohålning, klamring. Limbindning vid omfång (inlaga och omslag) 113 sidor eller fler."]
[null,null,null,null,{"$f":"IF(Avropsblankett!$C$28=$A$3,IF(Avropsblankett!$E$28<65,(E4+(E5-E4)/32*(Avropsblankett!$E$28-32)),IF(Avropsblankett!$E$28<129,(E5+(E6-E5)/64*(Avropsblankett!$E$28-64)),\"\")),\"\")","v":""},null,{"$f":"(Avropsblankett!$F$28/100-250/100)*IF(Avropsblankett!$C$28=$A$3,IF(Avropsblankett!$E$28<65,(G4+(G5-G4)/32*(Avropsblankett!$E$28-32)),IF(Avropsblankett!$E$28<129,(G5+(G6-G5)/64*(Avropsblankett!$E$28-64)),\"\")))","v":0},null,null,{"$f":"IF(Avropsblankett!$C$28=$A$3,IF(Avropsblankett!$E$28<65,(J4+(J5-J4)/32*(Avropsblankett!$E$28-32)),IF(Avropsblankett!$E$28<129,(J5+(J6-J5)/64*(Avropsblankett!$E$28-64)),\"\")),\"\")","v":""},null,{"$f":"(Avropsblankett!$F$28/100-250/100)*IF(Avropsblankett!$C$28=$A$3,IF(Avropsblankett!$E$28<65,(L4+(L5-L4)/32*(Avropsblankett!$E$28-32)),IF(Avropsblankett!$E$28<129,(L5+(L6-L5)/64*(Avropsblankett!$E$28-64)),\"\")))","v":0},null,null,{"$f":"IF(Avropsblankett!$C$28=$A$3,IF(Avropsblankett!$E$28<65,(O4+(O5-O4)/32*(Avropsblankett!$E$28-32)),IF(Avropsblankett!$E$28<129,(O5+(O6-O5)/64*(Avropsblankett!$E$28-64)),\"\")),\"\")","v":""},null,{"$f":"(Avropsblankett!$F$28/100-250/100)*IF(Avropsblankett!$C$28=$A$3,IF(Avropsblankett!$E$28<65,(Q4+(Q5-Q4)/32*(Avropsblankett!$E$28-32)),IF(Avropsblankett!$E$28<129,(Q5+(Q6-Q5)/64*(Avropsblankett!$E$28-64)),\"\")))","v":0},null,null,{"$f":"IF(Avropsblankett!$C$28=$A$3,IF(Avropsblankett!$E$28<65,(T4+(T5-T4)/32*(Avropsblankett!$E$28-32)),IF(Avropsblankett!$E$28<129,(T5+(T6-T5)/64*(Avropsblankett!$E$28-64)),\"\")),\"\")","v":""},null,{"$f":"(Avropsblankett!$F$28/100-250/100)*IF(Avropsblankett!$C$28=$A$3,IF(Avropsblankett!$E$28<65,(V4+(V5-V4)/32*(Avropsblankett!$E$28-32)),IF(Avropsblankett!$E$28<129,(V5+(V6-V5)/64*(Avropsblankett!$E$28-64)),\"\")))","v":0},null,null,{"$f":"IF(Avropsblankett!$C$28=$A$3,IF(Avropsblankett!$E$28<65,(Y4+(Y5-Y4)/32*(Avropsblankett!$E$28-32)),IF(Avropsblankett!$E$28<129,(Y5+(Y6-Y5)/64*(Avropsblankett!$E$28-64)),\"\")),\"\")","v":""},null,{"$f":"(Avropsblankett!$F$28/100-250/100)*IF(Avropsblankett!$C$28=$A$3,IF(Avropsblankett!$E$28<65,(AA4+(AA5-AA4)/32*(Avropsblankett!$E$28-32)),IF(Avropsblankett!$E$28<129,(AA5+(AA6-AA5)/64*(Avropsblankett!$E$28-64)),\"\")))","v":0},null,null,{"$f":"IF(Avropsblankett!$C$28=$A$3,IF(Avropsblankett!$E$28<65,(AD4+(AD5-AD4)/32*(Avropsblankett!$E$28-32)),IF(Avropsblankett!$E$28<129,(AD5+(AD6-AD5)/64*(Avropsblankett!$E$28-64)),\"\")),\"\")","v":""},null,{"$f":"(Avropsblankett!$F$28/100-250/100)*IF(Avropsblankett!$C$28=$A$3,IF(Avropsblankett!$E$28<65,(AF4+(AF5-AF4)/32*(Avropsblankett!$E$28-32)),IF(Avropsblankett!$E$28<129,(AF5+(AF6-AF5)/64*(Avropsblankett!$E$28-64)),\"\")))","v":0},null,null,{"$f":"IF(Avropsblankett!$C$28=$A$3,IF(Avropsblankett!$E$28<65,(AI4+(AI5-AI4)/32*(Avropsblankett!$E$28-32)),IF(Avropsblankett!$E$28<129,(AI5+(AI6-AI5)/64*(Avropsblankett!$E$28-64)),\"\")),\"\")","v":""},null,{"$f":"(Avropsblankett!$F$28/100-250/100)*IF(Avropsblankett!$C$28=$A$3,IF(Avropsblankett!$E$28<65,(AK4+(AK5-AK4)/32*(Avropsblankett!$E$28-32)),IF(Avropsblankett!$E$28<129,(AK5+(AK6-AK5)/64*(Avropsblankett!$E$28-64)),\"\")))","v":0},null,null,{"$f":"IF(Avropsblankett!$C$28=$A$3,IF(Avropsblankett!$E$28<65,(AN4+(AN5-AN4)/32*(Avropsblankett!$E$28-32)),IF(Avropsblankett!$E$28<129,(AN5+(AN6-AN5)/64*(Avropsblankett!$E$28-64)),\"\")),\"\")","v":""},null,{"$f":"(Avropsblankett!$F$28/100-250/100)*IF(Avropsblankett!$C$28=$A$3,IF(Avropsblankett!$E$28<65,(AP4+(AP5-AP4)/32*(Avropsblankett!$E$28-32)),IF(Avropsblankett!$E$28<129,(AP5+(AP6-AP5)/64*(Avropsblankett!$E$28-64)),\"\")))","v":0},null,null,{"$f":"IF(Avropsblankett!$C$28=$A$3,IF(Avropsblankett!$E$28<65,(AS4+(AS5-AS4)/32*(Avropsblankett!$E$28-32)),IF(Avropsblankett!$E$28<129,(AS5+(AS6-AS5)/64*(Avropsblankett!$E$28-64)),\"\")),\"\")","v":""},null,{"$f":"(Avropsblankett!$F$28/100-250/100)*IF(Avropsblankett!$C$28=$A$3,IF(Avropsblankett!$E$28<65,(AU4+(AU5-AU4)/32*(Avropsblankett!$E$28-32)),IF(Avropsblankett!$E$28<129,(AU5+(AU6-AU5)/64*(Avropsblankett!$E$28-64)),\"\")))","v":0},null,null,{"$f":"IF(Avropsblankett!$C$28=$A$3,IF(Avropsblankett!$E$28<65,(AX4+(AX5-AX4)/32*(Avropsblankett!$E$28-32)),IF(Avropsblankett!$E$28<129,(AX5+(AX6-AX5)/64*(Avropsblankett!$E$28-64)),\"\")),\"\")","v":""},null,{"$f":"(Avropsblankett!$F$28/100-250/100)*IF(Avropsblankett!$C$28=$A$3,IF(Avropsblankett!$E$28<65,(AZ4+(AZ5-AZ4)/32*(Avropsblankett!$E$28-32)),IF(Avropsblankett!$E$28<129,(AZ5+(AZ6-AZ5)/64*(Avropsblankett!$E$28-64)),\"\")))","v":0}]
[null,null,null,null,{"$f":"IF(Avropsblankett!$C$40=$A$3,IF(Avropsblankett!$E$40<65,(E4+(E5-E4)/32*(Avropsblankett!$E$40-32)),IF(Avropsblankett!$E$40<129,(E5+(E6-E5)/64*(Avropsblankett!$E$40-64)),\"\")),\"\")","v":""},null,{"$f":"(Avropsblankett!$F$40/100-250/100)*IF(Avropsblankett!$C$40=$A$3,IF(Avropsblankett!$E$40<65,(G4+(G5-G4)/32*(Avropsblankett!$E$40-32)),IF(Avropsblankett!$E$40<129,(G5+(G6-G5)/64*(Avropsblankett!$E$40-64)),\"\")))","v":0},null,null,{"$f":"IF(Avropsblankett!$C$40=$A$3,IF(Avropsblankett!$E$40<65,(J4+(J5-J4)/32*(Avropsblankett!$E$40-32)),IF(Avropsblankett!$E$40<129,(J5+(J6-J5)/64*(Avropsblankett!$E$40-64)),\"\")),\"\")","v":""},null,{"$f":"(Avropsblankett!$F$40/100-250/100)*IF(Avropsblankett!$C$40=$A$3,IF(Avropsblankett!$E$40<65,(L4+(L5-L4)/32*(Avropsblankett!$E$40-32)),IF(Avropsblankett!$E$40<129,(L5+(L6-L5)/64*(Avropsblankett!$E$40-64)),\"\")))","v":0},null,null,{"$f":"IF(Avropsblankett!$C$40=$A$3,IF(Avropsblankett!$E$40<65,(O4+(O5-O4)/32*(Avropsblankett!$E$40-32)),IF(Avropsblankett!$E$40<129,(O5+(O6-O5)/64*(Avropsblankett!$E$40-64)),\"\")),\"\")","v":""},null,{"$f":"(Avropsblankett!$F$40/100-250/100)*IF(Avropsblankett!$C$40=$A$3,IF(Avropsblankett!$E$40<65,(Q4+(Q5-Q4)/32*(Avropsblankett!$E$40-32)),IF(Avropsblankett!$E$40<129,(Q5+(Q6-Q5)/64*(Avropsblankett!$E$40-64)),\"\")))","v":0},null,null,{"$f":"IF(Avropsblankett!$C$40=$A$3,IF(Avropsblankett!$E$40<65,(T4+(T5-T4)/32*(Avropsblankett!$E$40-32)),IF(Avropsblankett!$E$40<129,(T5+(T6-T5)/64*(Avropsblankett!$E$40-64)),\"\")),\"\")","v":""},null,{"$f":"(Avropsblankett!$F$40/100-250/100)*IF(Avropsblankett!$C$40=$A$3,IF(Avropsblankett!$E$40<65,(V4+(V5-V4)/32*(Avropsblankett!$E$40-32)),IF(Avropsblankett!$E$40<129,(V5+(V6-V5)/64*(Avropsblankett!$E$40-64)),\"\")))","v":0},null,null,{"$f":"IF(Avropsblankett!$C$40=$A$3,IF(Avropsblankett!$E$40<65,(Y4+(Y5-Y4)/32*(Avropsblankett!$E$40-32)),IF(Avropsblankett!$E$40<129,(Y5+(Y6-Y5)/64*(Avropsblankett!$E$40-64)),\"\")),\"\")","v":""},null,{"$f":"(Avropsblankett!$F$40/100-250/100)*IF(Avropsblankett!$C$40=$A$3,IF(Avropsblankett!$E$40<65,(AA4+(AA5-AA4)/32*(Avropsblankett!$E$40-32)),IF(Avropsblankett!$E$40<129,(AA5+(AA6-AA5)/64*(Avropsblankett!$E$40-64)),\"\")))","v":0},null,null,{"$f":"IF(Avropsblankett!$C$40=$A$3,IF(Avropsblankett!$E$40<65,(AD4+(AD5-AD4)/32*(Avropsblankett!$E$40-32)),IF(Avropsblankett!$E$40<129,(AD5+(AD6-AD5)/64*(Avropsblankett!$E$40-64)),\"\")),\"\")","v":""},null,{"$f":"(Avropsblankett!$F$40/100-250/100)*IF(Avropsblankett!$C$40=$A$3,IF(Avropsblankett!$E$40<65,(AF4+(AF5-AF4)/32*(Avropsblankett!$E$40-32)),IF(Avropsblankett!$E$40<129,(AF5+(AF6-AF5)/64*(Avropsblankett!$E$40-64)),\"\")))","v":0},null,null,{"$f":"IF(Avropsblankett!$C$40=$A$3,IF(Avropsblankett!$E$40<65,(AI4+(AI5-AI4)/32*(Avropsblankett!$E$40-32)),IF(Avropsblankett!$E$40<129,(AI5+(AI6-AI5)/64*(Avropsblankett!$E$40-64)),\"\")),\"\")","v":""},null,{"$f":"(Avropsblankett!$F$40/100-250/100)*IF(Avropsblankett!$C$40=$A$3,IF(Avropsblankett!$E$40<65,(AK4+(AK5-AK4)/32*(Avropsblankett!$E$40-32)),IF(Avropsblankett!$E$40<129,(AK5+(AK6-AK5)/64*(Avropsblankett!$E$40-64)),\"\")))","v":0},null,null,{"$f":"IF(Avropsblankett!$C$40=$A$3,IF(Avropsblankett!$E$40<65,(AN4+(AN5-AN4)/32*(Avropsblankett!$E$40-32)),IF(Avropsblankett!$E$40<129,(AN5+(AN6-AN5)/64*(Avropsblankett!$E$40-64)),\"\")),\"\")","v":""},null,{"$f":"(Avropsblankett!$F$40/100-250/100)*IF(Avropsblankett!$C$40=$A$3,IF(Avropsblankett!$E$40<65,(AP4+(AP5-AP4)/32*(Avropsblankett!$E$40-32)),IF(Avropsblankett!$E$40<129,(AP5+(AP6-AP5)/64*(Avropsblankett!$E$40-64)),\"\")))","v":0},null,null,{"$f":"IF(Avropsblankett!$C$40=$A$3,IF(Avropsblankett!$E$40<65,(AS4+(AS5-AS4)/32*(Avropsblankett!$E$40-32)),IF(Avropsblankett!$E$40<129,(AS5+(AS6-AS5)/64*(Avropsblankett!$E$40-64)),\"\")),\"\")","v":""},null,{"$f":"(Avropsblankett!$F$40/100-250/100)*IF(Avropsblankett!$C$40=$A$3,IF(Avropsblankett!$E$40<65,(AU4+(AU5-AU4)/32*(Avropsblankett!$E$40-32)),IF(Avropsblankett!$E$40<129,(AU5+(AU6-AU5)/64*(Avropsblankett!$E$40-64)),\"\")))","v":0},null,null,{"$f":"IF(Avropsblankett!$C$40=$A$3,IF(Avropsblankett!$E$40<65,(AX4+(AX5-AX4)/32*(Avropsblankett!$E$40-32)),IF(Avropsblankett!$E$40<129,(AX5+(AX6-AX5)/64*(Avropsblankett!$E$40-64)),\"\")),\"\")","v":""},null,{"$f":"(Avropsblankett!$F$40/100-250/100)*IF(Avropsblankett!$C$40=$A$3,IF(Avropsblankett!$E$40<65,(AZ4+(AZ5-AZ4)/32*(Avropsblankett!$E$40-32)),IF(Avropsblankett!$E$40<129,(AZ5+(AZ6-AZ5)/64*(Avropsblankett!$E$40-64)),\"\")))","v":0}]
[null,null,null,null,{"$f":"IF(Avropsblankett!$C$52=$A$3,IF(Avropsblankett!$E$52<65,(E4+(E5-E4)/32*(Avropsblankett!$E$52-32)),IF(Avropsblankett!$E$52<129,(E5+(E6-E5)/64*(Avropsblankett!$E$52-64)),\"\")),\"\")","v":""},null,{"$f":"(Avropsblankett!$F$52/100-250/100)*IF(Avropsblankett!$C$52=$A$3,IF(Avropsblankett!$E$52<65,(G4+(G5-G4)/32*(Avropsblankett!$E$52-32)),IF(Avropsblankett!$E$52<129,(G5+(G6-G5)/64*(Avropsblankett!$E$52-64)),\"\")))","v":0},null,null,{"$f":"IF(Avropsblankett!$C$52=$A$3,IF(Avropsblankett!$E$52<65,(J4+(J5-J4)/32*(Avropsblankett!$E$52-32)),IF(Avropsblankett!$E$52<129,(J5+(J6-J5)/64*(Avropsblankett!$E$52-64)),\"\")),\"\")","v":""},null,{"$f":"(Avropsblankett!$F$52/100-250/100)*IF(Avropsblankett!$C$52=$A$3,IF(Avropsblankett!$E$52<65,(L4+(L5-L4)/32*(Avropsblankett!$E$52-32)),IF(Avropsblankett!$E$52<129,(L5+(L6-L5)/64*(Avropsblankett!$E$52-64)),\"\")))","v":0},null,null,{"$f":"IF(Avropsblankett!$C$52=$A$3,IF(Avropsblankett!$E$52<65,(O4+(O5-O4)/32*(Avropsblankett!$E$52-32)),IF(Avropsblankett!$E$52<129,(O5+(O6-O5)/64*(Avropsblankett!$E$52-64)),\"\")),\"\")","v":""},null,{"$f":"(Avropsblankett!$F$52/100-250/100)*IF(Avropsblankett!$C$52=$A$3,IF(Avropsblankett!$E$52<65,(Q4+(Q5-Q4)/32*(Avropsblankett!$E$52-32)),IF(Avropsblankett!$E$52<129,(Q5+(Q6-Q5)/64*(Avropsblankett!$E$52-64)),\"\")))","v":0},null,null,{"$f":"IF(Avropsblankett!$C$52=$A$3,IF(Avropsblankett!$E$52<65,(T4+(T5-T4)/32*(Avropsblankett!$E$52-32)),IF(Avropsblankett!$E$52<129,(T5+(T6-T5)/64*(Avropsblankett!$E$52-64)),\"\")),\"\")","v":""},null,{"$f":"(Avropsblankett!$F$52/100-250/100)*IF(Avropsblankett!$C$52=$A$3,IF(Avropsblankett!$E$52<65,(V4+(V5-V4)/32*(Avropsblankett!$E$52-32)),IF(Avropsblankett!$E$52<129,(V5+(V6-V5)/64*(Avropsblankett!$E$52-64)),\"\")))","v":0},null,null,{"$f":"IF(Avropsblankett!$C$52=$A$3,IF(Avropsblankett!$E$52<65,(Y4+(Y5-Y4)/32*(Avropsblankett!$E$52-32)),IF(Avropsblankett!$E$52<129,(Y5+(Y6-Y5)/64*(Avropsblankett!$E$52-64)),\"\")),\"\")","v":""},null,{"$f":"(Avropsblankett!$F$52/100-250/100)*IF(Avropsblankett!$C$52=$A$3,IF(Avropsblankett!$E$52<65,(AA4+(AA5-AA4)/32*(Avropsblankett!$E$52-32)),IF(Avropsblankett!$E$52<129,(AA5+(AA6-AA5)/64*(Avropsblankett!$E$52-64)),\"\")))","v":0},null,null,{"$f":"IF(Avropsblankett!$C$52=$A$3,IF(Avropsblankett!$E$52<65,(AD4+(AD5-AD4)/32*(Avropsblankett!$E$52-32)),IF(Avropsblankett!$E$52<129,(AD5+(AD6-AD5)/64*(Avropsblankett!$E$52-64)),\"\")),\"\")","v":""},null,{"$f":"(Avropsblankett!$F$52/100-250/100)*IF(Avropsblankett!$C$52=$A$3,IF(Avropsblankett!$E$52<65,(AF4+(AF5-AF4)/32*(Avropsblankett!$E$52-32)),IF(Avropsblankett!$E$52<129,(AF5+(AF6-AF5)/64*(Avropsblankett!$E$52-64)),\"\")))","v":0},null,null,{"$f":"IF(Avropsblankett!$C$52=$A$3,IF(Avropsblankett!$E$52<65,(AI4+(AI5-AI4)/32*(Avropsblankett!$E$52-32)),IF(Avropsblankett!$E$52<129,(AI5+(AI6-AI5)/64*(Avropsblankett!$E$52-64)),\"\")),\"\")","v":""},null,{"$f":"(Avropsblankett!$F$52/100-250/100)*IF(Avropsblankett!$C$52=$A$3,IF(Avropsblankett!$E$52<65,(AK4+(AK5-AK4)/32*(Avropsblankett!$E$52-32)),IF(Avropsblankett!$E$52<129,(AK5+(AK6-AK5)/64*(Avropsblankett!$E$52-64)),\"\")))","v":0},null,null,{"$f":"IF(Avropsblankett!$C$52=$A$3,IF(Avropsblankett!$E$52<65,(AN4+(AN5-AN4)/32*(Avropsblankett!$E$52-32)),IF(Avropsblankett!$E$52<129,(AN5+(AN6-AN5)/64*(Avropsblankett!$E$52-64)),\"\")),\"\")","v":""},null,{"$f":"(Avropsblankett!$F$52/100-250/100)*IF(Avropsblankett!$C$52=$A$3,IF(Avropsblankett!$E$52<65,(AP4+(AP5-AP4)/32*(Avropsblankett!$E$52-32)),IF(Avropsblankett!$E$52<129,(AP5+(AP6-AP5)/64*(Avropsblankett!$E$52-64)),\"\")))","v":0},null,null,{"$f":"IF(Avropsblankett!$C$52=$A$3,IF(Avropsblankett!$E$52<65,(AS4+(AS5-AS4)/32*(Avropsblankett!$E$52-32)),IF(Avropsblankett!$E$52<129,(AS5+(AS6-AS5)/64*(Avropsblankett!$E$52-64)),\"\")),\"\")","v":""},null,{"$f":"(Avropsblankett!$F$52/100-250/100)*IF(Avropsblankett!$C$52=$A$3,IF(Avropsblankett!$E$52<65,(AU4+(AU5-AU4)/32*(Avropsblankett!$E$52-32)),IF(Avropsblankett!$E$52<129,(AU5+(AU6-AU5)/64*(Avropsblankett!$E$52-64)),\"\")))","v":0},null,null,{"$f":"IF(Avropsblankett!$C$52=$A$3,IF(Avropsblankett!$E$52<65,(AX4+(AX5-AX4)/32*(Avropsblankett!$E$52-32)),IF(Avropsblankett!$E$52<129,(AX5+(AX6-AX5)/64*(Avropsblankett!$E$52-64)),\"\")),\"\")","v":""},null,{"$f":"(Avropsblankett!$F$52/100-250/100)*IF(Avropsblankett!$C$52=$A$3,IF(Avropsblankett!$E$52<65,(AZ4+(AZ5-AZ4)/32*(Avropsblankett!$E$52-32)),IF(Avropsblankett!$E$52<129,(AZ5+(AZ6-AZ5)/64*(Avropsblankett!$E$52-64)),\"\")))","v":0}]
[null,null,null,null,{"$f":"IF(Avropsblankett!$C$64=$A$3,IF(Avropsblankett!$E$64<65,(E4+(E5-E4)/32*(Avropsblankett!$E$64-32)),IF(Avropsblankett!$E$64<129,(E5+(E6-E5)/64*(Avropsblankett!$E$64-64)),\"\")),\"\")","v":""},null,{"$f":"(Avropsblankett!$F$64/100-250/100)*IF(Avropsblankett!$C$64=$A$3,IF(Avropsblankett!$E$64<65,(G4+(G5-G4)/32*(Avropsblankett!$E$64-32)),IF(Avropsblankett!$E$64<129,(G5+(G6-G5)/64*(Avropsblankett!$E$64-64)),\"\")))","v":0},null,null,{"$f":"IF(Avropsblankett!$C$64=$A$3,IF(Avropsblankett!$E$64<65,(J4+(J5-J4)/32*(Avropsblankett!$E$64-32)),IF(Avropsblankett!$E$64<129,(J5+(J6-J5)/64*(Avropsblankett!$E$64-64)),\"\")),\"\")","v":""},null,{"$f":"(Avropsblankett!$F$64/100-250/100)*IF(Avropsblankett!$C$64=$A$3,IF(Avropsblankett!$E$64<65,(L4+(L5-L4)/32*(Avropsblankett!$E$64-32)),IF(Avropsblankett!$E$64<129,(L5+(L6-L5)/64*(Avropsblankett!$E$64-64)),\"\")))","v":0},null,null,{"$f":"IF(Avropsblankett!$C$64=$A$3,IF(Avropsblankett!$E$64<65,(O4+(O5-O4)/32*(Avropsblankett!$E$64-32)),IF(Avropsblankett!$E$64<129,(O5+(O6-O5)/64*(Avropsblankett!$E$64-64)),\"\")),\"\")","v":""},null,{"$f":"(Avropsblankett!$F$64/100-250/100)*IF(Avropsblankett!$C$64=$A$3,IF(Avropsblankett!$E$64<65,(Q4+(Q5-Q4)/32*(Avropsblankett!$E$64-32)),IF(Avropsblankett!$E$64<129,(Q5+(Q6-Q5)/64*(Avropsblankett!$E$64-64)),\"\")))","v":0},null,null,{"$f":"IF(Avropsblankett!$C$64=$A$3,IF(Avropsblankett!$E$64<65,(T4+(T5-T4)/32*(Avropsblankett!$E$64-32)),IF(Avropsblankett!$E$64<129,(T5+(T6-T5)/64*(Avropsblankett!$E$64-64)),\"\")),\"\")","v":""},null,{"$f":"(Avropsblankett!$F$64/100-250/100)*IF(Avropsblankett!$C$64=$A$3,IF(Avropsblankett!$E$64<65,(V4+(V5-V4)/32*(Avropsblankett!$E$64-32)),IF(Avropsblankett!$E$64<129,(V5+(V6-V5)/64*(Avropsblankett!$E$64-64)),\"\")))","v":0},null,null,{"$f":"IF(Avropsblankett!$C$64=$A$3,IF(Avropsblankett!$E$64<65,(Y4+(Y5-Y4)/32*(Avropsblankett!$E$64-32)),IF(Avropsblankett!$E$64<129,(Y5+(Y6-Y5)/64*(Avropsblankett!$E$64-64)),\"\")),\"\")","v":""},null,{"$f":"(Avropsblankett!$F$64/100-250/100)*IF(Avropsblankett!$C$64=$A$3,IF(Avropsblankett!$E$64<65,(AA4+(AA5-AA4)/32*(Avropsblankett!$E$64-32)),IF(Avropsblankett!$E$64<129,(AA5+(AA6-AA5)/64*(Avropsblankett!$E$64-64)),\"\")))","v":0},null,null,{"$f":"IF(Avropsblankett!$C$64=$A$3,IF(Avropsblankett!$E$64<65,(AD4+(AD5-AD4)/32*(Avropsblankett!$E$64-32)),IF(Avropsblankett!$E$64<129,(AD5+(AD6-AD5)/64*(Avropsblankett!$E$64-64)),\"\")),\"\")","v":""},null,{"$f":"(Avropsblankett!$F$64/100-250/100)*IF(Avropsblankett!$C$64=$A$3,IF(Avropsblankett!$E$64<65,(AF4+(AF5-AF4)/32*(Avropsblankett!$E$64-32)),IF(Avropsblankett!$E$64<129,(AF5+(AF6-AF5)/64*(Avropsblankett!$E$64-64)),\"\")))","v":0},null,null,{"$f":"IF(Avropsblankett!$C$64=$A$3,IF(Avropsblankett!$E$64<65,(AI4+(AI5-AI4)/32*(Avropsblankett!$E$64-32)),IF(Avropsblankett!$E$64<129,(AI5+(AI6-AI5)/64*(Avropsblankett!$E$64-64)),\"\")),\"\")","v":""},null,{"$f":"(Avropsblankett!$F$64/100-250/100)*IF(Avropsblankett!$C$64=$A$3,IF(Avropsblankett!$E$64<65,(AK4+(AK5-AK4)/32*(Avropsblankett!$E$64-32)),IF(Avropsblankett!$E$64<129,(AK5+(AK6-AK5)/64*(Avropsblankett!$E$64-64)),\"\")))","v":0},null,null,{"$f":"IF(Avropsblankett!$C$64=$A$3,IF(Avropsblankett!$E$64<65,(AN4+(AN5-AN4)/32*(Avropsblankett!$E$64-32)),IF(Avropsblankett!$E$64<129,(AN5+(AN6-AN5)/64*(Avropsblankett!$E$64-64)),\"\")),\"\")","v":""},null,{"$f":"(Avropsblankett!$F$64/100-250/100)*IF(Avropsblankett!$C$64=$A$3,IF(Avropsblankett!$E$64<65,(AP4+(AP5-AP4)/32*(Avropsblankett!$E$64-32)),IF(Avropsblankett!$E$64<129,(AP5+(AP6-AP5)/64*(Avropsblankett!$E$64-64)),\"\")))","v":0},null,null,{"$f":"IF(Avropsblankett!$C$64=$A$3,IF(Avropsblankett!$E$64<65,(AS4+(AS5-AS4)/32*(Avropsblankett!$E$64-32)),IF(Avropsblankett!$E$64<129,(AS5+(AS6-AS5)/64*(Avropsblankett!$E$64-64)),\"\")),\"\")","v":""},null,{"$f":"(Avropsblankett!$F$64/100-250/100)*IF(Avropsblankett!$C$64=$A$3,IF(Avropsblankett!$E$64<65,(AU4+(AU5-AU4)/32*(Avropsblankett!$E$64-32)),IF(Avropsblankett!$E$64<129,(AU5+(AU6-AU5)/64*(Avropsblankett!$E$64-64)),\"\")))","v":0},null,null,{"$f":"IF(Avropsblankett!$C$64=$A$3,IF(Avropsblankett!$E$64<65,(AX4+(AX5-AX4)/32*(Avropsblankett!$E$64-32)),IF(Avropsblankett!$E$64<129,(AX5+(AX6-AX5)/64*(Avropsblankett!$E$64-64)),\"\")),\"\")","v":""},null,{"$f":"(Avropsblankett!$F$64/100-250/100)*IF(Avropsblankett!$C$64=$A$3,IF(Avropsblankett!$E$64<65,(AZ4+(AZ5-AZ4)/32*(Avropsblankett!$E$64-32)),IF(Avropsblankett!$E$64<129,(AZ5+(AZ6-AZ5)/64*(Avropsblankett!$E$64-64)),\"\")))","v":0}]
[null,null,null,null,{"$f":"IF(Avropsblankett!$C$76=$A$3,IF(Avropsblankett!$E$76<65,(E4+(E5-E4)/32*(Avropsblankett!$E$76-32)),IF(Avropsblankett!$E$76<129,(E5+(E6-E5)/64*(Avropsblankett!$E$76-64)),\"\")),\"\")","v":""},null,{"$f":"(Avropsblankett!$F$76/100-250/100)*IF(Avropsblankett!$C$76=$A$3,IF(Avropsblankett!$E$76<65,(G4+(G5-G4)/32*(Avropsblankett!$E$76-32)),IF(Avropsblankett!$E$76<129,(G5+(G6-G5)/64*(Avropsblankett!$E$76-64)),\"\")))","v":0},null,null,{"$f":"IF(Avropsblankett!$C$76=$A$3,IF(Avropsblankett!$E$76<65,(J4+(J5-J4)/32*(Avropsblankett!$E$76-32)),IF(Avropsblankett!$E$76<129,(J5+(J6-J5)/64*(Avropsblankett!$E$76-64)),\"\")),\"\")","v":""},null,{"$f":"(Avropsblankett!$F$76/100-250/100)*IF(Avropsblankett!$C$76=$A$3,IF(Avropsblankett!$E$76<65,(L4+(L5-L4)/32*(Avropsblankett!$E$76-32)),IF(Avropsblankett!$E$76<129,(L5+(L6-L5)/64*(Avropsblankett!$E$76-64)),\"\")))","v":0},null,null,{"$f":"IF(Avropsblankett!$C$76=$A$3,IF(Avropsblankett!$E$76<65,(O4+(O5-O4)/32*(Avropsblankett!$E$76-32)),IF(Avropsblankett!$E$76<129,(O5+(O6-O5)/64*(Avropsblankett!$E$76-64)),\"\")),\"\")","v":""},null,{"$f":"(Avropsblankett!$F$76/100-250/100)*IF(Avropsblankett!$C$76=$A$3,IF(Avropsblankett!$E$76<65,(Q4+(Q5-Q4)/32*(Avropsblankett!$E$76-32)),IF(Avropsblankett!$E$76<129,(Q5+(Q6-Q5)/64*(Avropsblankett!$E$76-64)),\"\")))","v":0},null,null,{"$f":"IF(Avropsblankett!$C$76=$A$3,IF(Avropsblankett!$E$76<65,(T4+(T5-T4)/32*(Avropsblankett!$E$76-32)),IF(Avropsblankett!$E$76<129,(T5+(T6-T5)/64*(Avropsblankett!$E$76-64)),\"\")),\"\")","v":""},null,{"$f":"(Avropsblankett!$F$76/100-250/100)*IF(Avropsblankett!$C$76=$A$3,IF(Avropsblankett!$E$76<65,(V4+(V5-V4)/32*(Avropsblankett!$E$76-32)),IF(Avropsblankett!$E$76<129,(V5+(V6-V5)/64*(Avropsblankett!$E$76-64)),\"\")))","v":0},null,null,{"$f":"IF(Avropsblankett!$C$76=$A$3,IF(Avropsblankett!$E$76<65,(Y4+(Y5-Y4)/32*(Avropsblankett!$E$76-32)),IF(Avropsblankett!$E$76<129,(Y5+(Y6-Y5)/64*(Avropsblankett!$E$76-64)),\"\")),\"\")","v":""},null,{"$f":"(Avropsblankett!$F$76/100-250/100)*IF(Avropsblankett!$C$76=$A$3,IF(Avropsblankett!$E$76<65,(AA4+(AA5-AA4)/32*(Avropsblankett!$E$76-32)),IF(Avropsblankett!$E$76<129,(AA5+(AA6-AA5)/64*(Avropsblankett!$E$76-64)),\"\")))","v":0},null,null,{"$f":"IF(Avropsblankett!$C$76=$A$3,IF(Avropsblankett!$E$76<65,(AD4+(AD5-AD4)/32*(Avropsblankett!$E$76-32)),IF(Avropsblankett!$E$76<129,(AD5+(AD6-AD5)/64*(Avropsblankett!$E$76-64)),\"\")),\"\")","v":""},null,{"$f":"(Avropsblankett!$F$76/100-250/100)*IF(Avropsblankett!$C$76=$A$3,IF(Avropsblankett!$E$76<65,(AF4+(AF5-AF4)/32*(Avropsblankett!$E$76-32)),IF(Avropsblankett!$E$76<129,(AF5+(AF6-AF5)/64*(Avropsblankett!$E$76-64)),\"\")))","v":0},null,null,{"$f":"IF(Avropsblankett!$C$76=$A$3,IF(Avropsblankett!$E$76<65,(AI4+(AI5-AI4)/32*(Avropsblankett!$E$76-32)),IF(Avropsblankett!$E$76<129,(AI5+(AI6-AI5)/64*(Avropsblankett!$E$76-64)),\"\")),\"\")","v":""},null,{"$f":"(Avropsblankett!$F$76/100-250/100)*IF(Avropsblankett!$C$76=$A$3,IF(Avropsblankett!$E$76<65,(AK4+(AK5-AK4)/32*(Avropsblankett!$E$76-32)),IF(Avropsblankett!$E$76<129,(AK5+(AK6-AK5)/64*(Avropsblankett!$E$76-64)),\"\")))","v":0},null,null,{"$f":"IF(Avropsblankett!$C$76=$A$3,IF(Avropsblankett!$E$76<65,(AN4+(AN5-AN4)/32*(Avropsblankett!$E$76-32)),IF(Avropsblankett!$E$76<129,(AN5+(AN6-AN5)/64*(Avropsblankett!$E$76-64)),\"\")),\"\")","v":""},null,{"$f":"(Avropsblankett!$F$76/100-250/100)*IF(Avropsblankett!$C$76=$A$3,IF(Avropsblankett!$E$76<65,(AP4+(AP5-AP4)/32*(Avropsblankett!$E$76-32)),IF(Avropsblankett!$E$76<129,(AP5+(AP6-AP5)/64*(Avropsblankett!$E$76-64)),\"\")))","v":0},null,null,{"$f":"IF(Avropsblankett!$C$76=$A$3,IF(Avropsblankett!$E$76<65,(AS4+(AS5-AS4)/32*(Avropsblankett!$E$76-32)),IF(Avropsblankett!$E$76<129,(AS5+(AS6-AS5)/64*(Avropsblankett!$E$76-64)),\"\")),\"\")","v":""},null,{"$f":"(Avropsblankett!$F$76/100-250/100)*IF(Avropsblankett!$C$76=$A$3,IF(Avropsblankett!$E$76<65,(AU4+(AU5-AU4)/32*(Avropsblankett!$E$76-32)),IF(Avropsblankett!$E$76<129,(AU5+(AU6-AU5)/64*(Avropsblankett!$E$76-64)),\"\")))","v":0},null,null,{"$f":"IF(Avropsblankett!$C$76=$A$3,IF(Avropsblankett!$E$76<65,(AX4+(AX5-AX4)/32*(Avropsblankett!$E$76-32)),IF(Avropsblankett!$E$76<129,(AX5+(AX6-AX5)/64*(Avropsblankett!$E$76-64)),\"\")),\"\")","v":""},null,{"$f":"(Avropsblankett!$F$76/100-250/100)*IF(Avropsblankett!$C$76=$A$3,IF(Avropsblankett!$E$76<65,(AZ4+(AZ5-AZ4)/32*(Avropsblankett!$E$76-32)),IF(Avropsblankett!$E$76<129,(AZ5+(AZ6-AZ5)/64*(Avropsblankett!$E$76-64)),\"\")))","v":0}]
[null,null,null,null,{"$f":"SUM(E10:E14)","v":0},null,{"$f":"SUM(G10:G14)","v":0},null,null,{"$f":"SUM(J10:J14)","v":0},null,{"$f":"SUM(L10:L14)","v":0},null,null,{"$f":"SUM(O10:O14)","v":0},null,{"$f":"SUM(Q10:Q14)","v":0},null,null,{"$f":"SUM(T10:T14)","v":0},null,{"$f":"SUM(V10:V14)","v":0},null,null,{"$f":"SUM(Y10:Y14)","v":0},null,{"$f":"SUM(AA10:AA14)","v":0},null,null,{"$f":"SUM(AD10:AD14)","v":0},null,{"$f":"SUM(AF10:AF14)","v":0},null,null,{"$f":"SUM(AI10:AI14)","v":0},null,{"$f":"SUM(AK10:AK14)","v":0},null,null,{"$f":"SUM(AN10:AN14)","v":0},null,{"$f":"SUM(AP10:AP14)","v":0},null,null,{"$f":"SUM(AS10:AS14)","v":0},null,{"$f":"SUM(AU10:AU14)","v":0},null,null,{"$f":"SUM(AX10:AX14)","v":0},null,{"$f":"SUM(AZ10:AZ14)","v":0}]
["Statligt_tryck_2",null,"Omfång Inlaga och  omslag","Upplaga","Ange pris","Följande","Ange pris",null,"Upplaga","Ange pris","Följande","Ange pris",null,"Upplaga","Ange pris","Följande","Ange pris",null,"Upplaga","Ange pris","Följande","Ange pris",null,"Upplaga","Ange pris","Följande","Ange pris",null,"Upplaga","Ange pris","Följande","Ange pris",null,"Upplaga","Ange pris","Följande","Ange pris",null,"Upplaga","Ange pris","Följande","Ange pris",null,"Upplaga","Ange pris","Följande","Ange pris",null,"Upplaga","Ange pris","Följande","Ange pris"]
["Underlag","A: Öppna filer. B: PDF/PDFx. ","32+omslag",250,3332,100,726,null,250,2320,100,768,null,250,2900,100,990,null,250,1925,100,515,null,250,1927,100,405,null,250,3510,100,792,null,250,1900,100,425,null,250,1929,100,374,null,250,6450,100,488,null,250,2676,100,1872]
["Format","165 x 242 mm","64+omslag",250,4551,100,1215,null,250,3136,100,1094,null,250,4150,100,1500,null,250,2650,100,765,null,250,2520,100,315,null,250,5259,100,1260,null,250,2400,100,690,null,250,2524,100,402,null,250,7920,100,790,null,250,4100,100,3296]
["Papper inlaga","70g offsettpapper ","128+omslag",250,7990,100,2590,null,250,4570,100,1674,null,250,6300,100,2350,null,250,5250,100,1150,null,250,4650,100,180,null,250,9000,100,1753,null,250,3900,100,1245,null,250,4739,100,650,null,250,10800,100,1435,null,250,6440,100,5716]
["Papper omslag","225 g colorit eller motsvarande"]
["Tryck inlaga","1+1 Svart"]
["Tryck omslag","1+1 Svart"]
["Bokbinderi","Triohålning, klamring. Limbindning vid omfång (inlaga och omslag) 113 sidor eller fler."]
[null,null,null,null,{"$f":"IF(Avropsblankett!$C$28=$A$16,IF(Avropsblankett!$E$28<65,(E17+(E18-E17)/32*(Avropsblankett!$E$28-32)),IF(Avropsblankett!$E$28<129,(E18+(E19-E18)/64*(Avropsblankett!$E$28-64)),\"\")),\"\")","v":""},null,{"$f":"(Avropsblankett!$F$28/100-250/100)*IF(Avropsblankett!$C$28=$A$16,IF(Avropsblankett!$E$28<65,(G17+(G18-G17)/32*(Avropsblankett!$E$28-32)),IF(Avropsblankett!$E$28<129,(G18+(G19-G18)/64*(Avropsblankett!$E$28-64)),\"\")))","v":0},null,null,{"$f":"IF(Avropsblankett!$C$28=$A$16,IF(Avropsblankett!$E$28<65,(J17+(J18-J17)/32*(Avropsblankett!$E$28-32)),IF(Avropsblankett!$E$28<129,(J18+(J19-J18)/64*(Avropsblankett!$E$28-64)),\"\")),\"\")","v":""},null,{"$f":"(Avropsblankett!$F$28/100-250/100)*IF(Avropsblankett!$C$28=$A$16,IF(Avropsblankett!$E$28<65,(L17+(L18-L17)/32*(Avropsblankett!$E$28-32)),IF(Avropsblankett!$E$28<129,(L18+(L19-L18)/64*(Avropsblankett!$E$28-64)),\"\")))","v":0},null,null,{"$f":"IF(Avropsblankett!$C$28=$A$16,IF(Avropsblankett!$E$28<65,(O17+(O18-O17)/32*(Avropsblankett!$E$28-32)),IF(Avropsblankett!$E$28<129,(O18+(O19-O18)/64*(Avropsblankett!$E$28-64)),\"\")),\"\")","v":""},null,{"$f":"(Avropsblankett!$F$28/100-250/100)*IF(Avropsblankett!$C$28=$A$16,IF(Avropsblankett!$E$28<65,(Q17+(Q18-Q17)/32*(Avropsblankett!$E$28-32)),IF(Avropsblankett!$E$28<129,(Q18+(Q19-Q18)/64*(Avropsblankett!$E$28-64)),\"\")))","v":0},null,null,{"$f":"IF(Avropsblankett!$C$28=$A$16,IF(Avropsblankett!$E$28<65,(T17+(T18-T17)/32*(Avropsblankett!$E$28-32)),IF(Avropsblankett!$E$28<129,(T18+(T19-T18)/64*(Avropsblankett!$E$28-64)),\"\")),\"\")","v":""},null,{"$f":"(Avropsblankett!$F$28/100-250/100)*IF(Avropsblankett!$C$28=$A$16,IF(Avropsblankett!$E$28<65,(V17+(V18-V17)/32*(Avropsblankett!$E$28-32)),IF(Avropsblankett!$E$28<129,(V18+(V19-V18)/64*(Avropsblankett!$E$28-64)),\"\")))","v":0},null,null,{"$f":"IF(Avropsblankett!$C$28=$A$16,IF(Avropsblankett!$E$28<65,(Y17+(Y18-Y17)/32*(Avropsblankett!$E$28-32)),IF(Avropsblankett!$E$28<129,(Y18+(Y19-Y18)/64*(Avropsblankett!$E$28-64)),\"\")),\"\")","v":""},null,{"$f":"(Avropsblankett!$F$28/100-250/100)*IF(Avropsblankett!$C$28=$A$16,IF(Avropsblankett!$E$28<65,(AA17+(AA18-AA17)/32*(Avropsblankett!$E$28-32)),IF(Avropsblankett!$E$28<129,(AA18+(AA19-AA18)/64*(Avropsblankett!$E$28-64)),\"\")))","v":0},null,null,{"$f":"IF(Avropsblankett!$C$28=$A$16,IF(Avropsblankett!$E$28<65,(AD17+(AD18-AD17)/32*(Avropsblankett!$E$28-32)),IF(Avropsblankett!$E$28<129,(AD18+(AD19-AD18)/64*(Avropsblankett!$E$28-64)),\"\")),\"\")","v":""},null,{"$f":"(Avropsblankett!$F$28/100-250/100)*IF(Avropsblankett!$C$28=$A$16,IF(Avropsblankett!$E$28<65,(AF17+(AF18-AF17)/32*(Avropsblankett!$E$28-32)),IF(Avropsblankett!$E$28<129,(AF18+(AF19-AF18)/64*(Avropsblankett!$E$28-64)),\"\")))","v":0},null,null,{"$f":"IF(Avropsblankett!$C$28=$A$16,IF(Avropsblankett!$E$28<65,(AI17+(AI18-AI17)/32*(Avropsblankett!$E$28-32)),IF(Avropsblankett!$E$28<129,(AI18+(AI19-AI18)/64*(Avropsblankett!$E$28-64)),\"\")),\"\")","v":""},null,{"$f":"(Avropsblankett!$F$28/100-250/100)*IF(Avropsblankett!$C$28=$A$16,IF(Avropsblankett!$E$28<65,(AK17+(AK18-AK17)/32*(Avropsblankett!$E$28-32)),IF(Avropsblankett!$E$28<129,(AK18+(AK19-AK18)/64*(Avropsblankett!$E$28-64)),\"\")))","v":0},null,null,{"$f":"IF(Avropsblankett!$C$28=$A$16,IF(Avropsblankett!$E$28<65,(AN17+(AN18-AN17)/32*(Avropsblankett!$E$28-32)),IF(Avropsblankett!$E$28<129,(AN18+(AN19-AN18)/64*(Avropsblankett!$E$28-64)),\"\")),\"\")","v":""},null,{"$f":"(Avropsblankett!$F$28/100-250/100)*IF(Avropsblankett!$C$28=$A$16,IF(Avropsblankett!$E$28<65,(AP17+(AP18-AP17)/32*(Avropsblankett!$E$28-32)),IF(Avropsblankett!$E$28<129,(AP18+(AP19-AP18)/64*(Avropsblankett!$E$28-64)),\"\")))","v":0},null,null,{"$f":"IF(Avropsblankett!$C$28=$A$16,IF(Avropsblankett!$E$28<65,(AS17+(AS18-AS17)/32*(Avropsblankett!$E$28-32)),IF(Avropsblankett!$E$28<129,(AS18+(AS19-AS18)/64*(Avropsblankett!$E$28-64)),\"\")),\"\")","v":""},null,{"$f":"(Avropsblankett!$F$28/100-250/100)*IF(Avropsblankett!$C$28=$A$16,IF(Avropsblankett!$E$28<65,(AU17+(AU18-AU17)/32*(Avropsblankett!$E$28-32)),IF(Avropsblankett!$E$28<129,(AU18+(AU19-AU18)/64*(Avropsblankett!$E$28-64)),\"\")))","v":0},null,null,{"$f":"IF(Avropsblankett!$C$28=$A$16,IF(Avropsblankett!$E$28<65,(AX17+(AX18-AX17)/32*(Avropsblankett!$E$28-32)),IF(Avropsblankett!$E$28<129,(AX18+(AX19-AX18)/64*(Avropsblankett!$E$28-64)),\"\")),\"\")","v":""},null,{"$f":"(Avropsblankett!$F$28/100-250/100)*IF(Avropsblankett!$C$28=$A$16,IF(Avropsblankett!$E$28<65,(AZ17+(AZ18-AZ17)/32*(Avropsblankett!$E$28-32)),IF(Avropsblankett!$E$28<129,(AZ18+(AZ19-AZ18)/64*(Avropsblankett!$E$28-64)),\"\")))","v":0}]
[null,null,null,null,{"$f":"IF(Avropsblankett!$C$40=$A$16,IF(Avropsblankett!$E$40<65,(E17+(E18-E17)/32*(Avropsblankett!$E$40-32)),IF(Avropsblankett!$E$40<129,(E18+(E19-E18)/64*(Avropsblankett!$E$40-64)),\"\")),\"\")","v":""},null,{"$f":"(Avropsblankett!$F$40/100-250/100)*IF(Avropsblankett!$C$40=$A$16,IF(Avropsblankett!$E$40<65,(G17+(G18-G17)/32*(Avropsblankett!$E$40-32)),IF(Avropsblankett!$E$40<129,(G18+(G19-G18)/64*(Avropsblankett!$E$40-64)),\"\")))","v":0},null,null,{"$f":"IF(Avropsblankett!$C$40=$A$16,IF(Avropsblankett!$E$40<65,(J17+(J18-J17)/32*(Avropsblankett!$E$40-32)),IF(Avropsblankett!$E$40<129,(J18+(J19-J18)/64*(Avropsblankett!$E$40-64)),\"\")),\"\")","v":""},null,{"$f":"(Avropsblankett!$F$40/100-250/100)*IF(Avropsblankett!$C$40=$A$16,IF(Avropsblankett!$E$40<65,(L17+(L18-L17)/32*(Avropsblankett!$E$40-32)),IF(Avropsblankett!$E$40<129,(L18+(L19-L18)/64*(Avropsblankett!$E$40-64)),\"\")))","v":0},null,null,{"$f":"IF(Avropsblankett!$C$40=$A$16,IF(Avropsblankett!$E$40<65,(O17+(O18-O17)/32*(Avropsblankett!$E$40-32)),IF(Avropsblankett!$E$40<129,(O18+(O19-O18)/64*(Avropsblankett!$E$40-64)),\"\")),\"\")","v":""},null,{"$f":"(Avropsblankett!$F$40/100-250/100)*IF(Avropsblankett!$C$40=$A$16,IF(Avropsblankett!$E$40<65,(Q17+(Q18-Q17)/32*(Avropsblankett!$E$40-32)),IF(Avropsblankett!$E$40<129,(Q18+(Q19-Q18)/64*(Avropsblankett!$E$40-64)),\"\")))","v":0},null,null,{"$f":"IF(Avropsblankett!$C$40=$A$16,IF(Avropsblankett!$E$40<65,(T17+(T18-T17)/32*(Avropsblankett!$E$40-32)),IF(Avropsblankett!$E$40<129,(T18+(T19-T18)/64*(Avropsblankett!$E$40-64)),\"\")),\"\")","v":""},null,{"$f":"(Avropsblankett!$F$40/100-250/100)*IF(Avropsblankett!$C$40=$A$16,IF(Avropsblankett!$E$40<65,(V17+(V18-V17)/32*(Avropsblankett!$E$40-32)),IF(Avropsblankett!$E$40<129,(V18+(V19-V18)/64*(Avropsblankett!$E$40-64)),\"\")))","v":0},null,null,{"$f":"IF(Avropsblankett!$C$40=$A$16,IF(Avropsblankett!$E$40<65,(Y17+(Y18-Y17)/32*(Avropsblankett!$E$40-32)),IF(Avropsblankett!$E$40<129,(Y18+(Y19-Y18)/64*(Avropsblankett!$E$40-64)),\"\")),\"\")","v":""},null,{"$f":"(Avropsblankett!$F$40/100-250/100)*IF(Avropsblankett!$C$40=$A$16,IF(Avropsblankett!$E$40<65,(AA17+(AA18-AA17)/32*(Avropsblankett!$E$40-32)),IF(Avropsblankett!$E$40<129,(AA18+(AA19-AA18)/64*(Avropsblankett!$E$40-64)),\"\")))","v":0},null,null,{"$f":"IF(Avropsblankett!$C$40=$A$16,IF(Avropsblankett!$E$40<65,(AD17+(AD18-AD17)/32*(Avropsblankett!$E$40-32)),IF(Avropsblankett!$E$40<129,(AD18+(AD19-AD18)/64*(Avropsblankett!$E$40-64)),\"\")),\"\")","v":""},null,{"$f":"(Avropsblankett!$F$40/100-250/100)*IF(Avropsblankett!$C$40=$A$16,IF(Avropsblankett!$E$40<65,(AF17+(AF18-AF17)/32*(Avropsblankett!$E$40-32)),IF(Avropsblankett!$E$40<129,(AF18+(AF19-AF18)/64*(Avropsblankett!$E$40-64)),\"\")))","v":0},null,null,{"$f":"IF(Avropsblankett!$C$40=$A$16,IF(Avropsblankett!$E$40<65,(AI17+(AI18-AI17)/32*(Avropsblankett!$E$40-32)),IF(Avropsblankett!$E$40<129,(AI18+(AI19-AI18)/64*(Avropsblankett!$E$40-64)),\"\")),\"\")","v":""},null,{"$f":"(Avropsblankett!$F$40/100-250/100)*IF(Avropsblankett!$C$40=$A$16,IF(Avropsblankett!$E$40<65,(AK17+(AK18-AK17)/32*(Avropsblankett!$E$40-32)),IF(Avropsblankett!$E$40<129,(AK18+(AK19-AK18)/64*(Avropsblankett!$E$40-64)),\"\")))","v":0},null,null,{"$f":"IF(Avropsblankett!$C$40=$A$16,IF(Avropsblankett!$E$40<65,(AN17+(AN18-AN17)/32*(Avropsblankett!$E$40-32)),IF(Avropsblankett!$E$40<129,(AN18+(AN19-AN18)/64*(Avropsblankett!$E$40-64)),\"\")),\"\")","v":""},null,{"$f":"(Avropsblankett!$F$40/100-250/100)*IF(Avropsblankett!$C$40=$A$16,IF(Avropsblankett!$E$40<65,(AP17+(AP18-AP17)/32*(Avropsblankett!$E$40-32)),IF(Avropsblankett!$E$40<129,(AP18+(AP19-AP18)/64*(Avropsblankett!$E$40-64)),\"\")))","v":0},null,null,{"$f":"IF(Avropsblankett!$C$40=$A$16,IF(Avropsblankett!$E$40<65,(AS17+(AS18-AS17)/32*(Avropsblankett!$E$40-32)),IF(Avropsblankett!$E$40<129,(AS18+(AS19-AS18)/64*(Avropsblankett!$E$40-64)),\"\")),\"\")","v":""},null,{"$f":"(Avropsblankett!$F$40/100-250/100)*IF(Avropsblankett!$C$40=$A$16,IF(Avropsblankett!$E$40<65,(AU17+(AU18-AU17)/32*(Avropsblankett!$E$40-32)),IF(Avropsblankett!$E$40<129,(AU18+(AU19-AU18)/64*(Avropsblankett!$E$40-64)),\"\")))","v":0},null,null,{"$f":"IF(Avropsblankett!$C$40=$A$16,IF(Avropsblankett!$E$40<65,(AX17+(AX18-AX17)/32*(Avropsblankett!$E$40-32)),IF(Avropsblankett!$E$40<129,(AX18+(AX19-AX18)/64*(Avropsblankett!$E$40-64)),\"\")),\"\")","v":""},null,{"$f":"(Avropsblankett!$F$40/100-250/100)*IF(Avropsblankett!$C$40=$A$16,IF(Avropsblankett!$E$40<65,(AZ17+(AZ18-AZ17)/32*(Avropsblankett!$E$40-32)),IF(Avropsblankett!$E$40<129,(AZ18+(AZ19-AZ18)/64*(Avropsblankett!$E$40-64)),\"\")))","v":0}]
[null,null,null,null,{"$f":"IF(Avropsblankett!$C$52=$A$16,IF(Avropsblankett!$E$52<65,(E17+(E18-E17)/32*(Avropsblankett!$E$52-32)),IF(Avropsblankett!$E$52<129,(E18+(E19-E18)/64*(Avropsblankett!$E$52-64)),\"\")),\"\")","v":""},null,{"$f":"(Avropsblankett!$F$52/100-250/100)*IF(Avropsblankett!$C$52=$A$16,IF(Avropsblankett!$E$52<65,(G17+(G18-G17)/32*(Avropsblankett!$E$52-32)),IF(Avropsblankett!$E$52<129,(G18+(G19-G18)/64*(Avropsblankett!$E$52-64)),\"\")))","v":0},null,null,{"$f":"IF(Avropsblankett!$C$52=$A$16,IF(Avropsblankett!$E$52<65,(J17+(J18-J17)/32*(Avropsblankett!$E$52-32)),IF(Avropsblankett!$E$52<129,(J18+(J19-J18)/64*(Avropsblankett!$E$52-64)),\"\")),\"\")","v":""},null,{"$f":"(Avropsblankett!$F$52/100-250/100)*IF(Avropsblankett!$C$52=$A$16,IF(Avropsblankett!$E$52<65,(L17+(L18-L17)/32*(Avropsblankett!$E$52-32)),IF(Avropsblankett!$E$52<129,(L18+(L19-L18)/64*(Avropsblankett!$E$52-64)),\"\")))","v":0},null,null,{"$f":"IF(Avropsblankett!$C$52=$A$16,IF(Avropsblankett!$E$52<65,(O17+(O18-O17)/32*(Avropsblankett!$E$52-32)),IF(Avropsblankett!$E$52<129,(O18+(O19-O18)/64*(Avropsblankett!$E$52-64)),\"\")),\"\")","v":""},null,{"$f":"(Avropsblankett!$F$52/100-250/100)*IF(Avropsblankett!$C$52=$A$16,IF(Avropsblankett!$E$52<65,(Q17+(Q18-Q17)/32*(Avropsblankett!$E$52-32)),IF(Avropsblankett!$E$52<129,(Q18+(Q19-Q18)/64*(Avropsblankett!$E$52-64)),\"\")))","v":0},null,null,{"$f":"IF(Avropsblankett!$C$52=$A$16,IF(Avropsblankett!$E$52<65,(T17+(T18-T17)/32*(Avropsblankett!$E$52-32)),IF(Avropsblankett!$E$52<129,(T18+(T19-T18)/64*(Avropsblankett!$E$52-64)),\"\")),\"\")","v":""},null,{"$f":"(Avropsblankett!$F$52/100-250/100)*IF(Avropsblankett!$C$52=$A$16,IF(Avropsblankett!$E$52<65,(V17+(V18-V17)/32*(Avropsblankett!$E$52-32)),IF(Avropsblankett!$E$52<129,(V18+(V19-V18)/64*(Avropsblankett!$E$52-64)),\"\")))","v":0},null,null,{"$f":"IF(Avropsblankett!$C$52=$A$16,IF(Avropsblankett!$E$52<65,(Y17+(Y18-Y17)/32*(Avropsblankett!$E$52-32)),IF(Avropsblankett!$E$52<129,(Y18+(Y19-Y18)/64*(Avropsblankett!$E$52-64)),\"\")),\"\")","v":""},null,{"$f":"(Avropsblankett!$F$52/100-250/100)*IF(Avropsblankett!$C$52=$A$16,IF(Avropsblankett!$E$52<65,(AA17+(AA18-AA17)/32*(Avropsblankett!$E$52-32)),IF(Avropsblankett!$E$52<129,(AA18+(AA19-AA18)/64*(Avropsblankett!$E$52-64)),\"\")))","v":0},null,null,{"$f":"IF(Avropsblankett!$C$52=$A$16,IF(Avropsblankett!$E$52<65,(AD17+(AD18-AD17)/32*(Avropsblankett!$E$52-32)),IF(Avropsblankett!$E$52<129,(AD18+(AD19-AD18)/64*(Avropsblankett!$E$52-64)),\"\")),\"\")","v":""},null,{"$f":"(Avropsblankett!$F$52/100-250/100)*IF(Avropsblankett!$C$52=$A$16,IF(Avropsblankett!$E$52<65,(AF17+(AF18-AF17)/32*(Avropsblankett!$E$52-32)),IF(Avropsblankett!$E$52<129,(AF18+(AF19-AF18)/64*(Avropsblankett!$E$52-64)),\"\")))","v":0},null,null,{"$f":"IF(Avropsblankett!$C$52=$A$16,IF(Avropsblankett!$E$52<65,(AI17+(AI18-AI17)/32*(Avropsblankett!$E$52-32)),IF(Avropsblankett!$E$52<129,(AI18+(AI19-AI18)/64*(Avropsblankett!$E$52-64)),\"\")),\"\")","v":""},null,{"$f":"(Avropsblankett!$F$52/100-250/100)*IF(Avropsblankett!$C$52=$A$16,IF(Avropsblankett!$E$52<65,(AK17+(AK18-AK17)/32*(Avropsblankett!$E$52-32)),IF(Avropsblankett!$E$52<129,(AK18+(AK19-AK18)/64*(Avropsblankett!$E$52-64)),\"\")))","v":0},null,null,{"$f":"IF(Avropsblankett!$C$52=$A$16,IF(Avropsblankett!$E$52<65,(AN17+(AN18-AN17)/32*(Avropsblankett!$E$52-32)),IF(Avropsblankett!$E$52<129,(AN18+(AN19-AN18)/64*(Avropsblankett!$E$52-64)),\"\")),\"\")","v":""},null,{"$f":"(Avropsblankett!$F$52/100-250/100)*IF(Avropsblankett!$C$52=$A$16,IF(Avropsblankett!$E$52<65,(AP17+(AP18-AP17)/32*(Avropsblankett!$E$52-32)),IF(Avropsblankett!$E$52<129,(AP18+(AP19-AP18)/64*(Avropsblankett!$E$52-64)),\"\")))","v":0},null,null,{"$f":"IF(Avropsblankett!$C$52=$A$16,IF(Avropsblankett!$E$52<65,(AS17+(AS18-AS17)/32*(Avropsblankett!$E$52-32)),IF(Avropsblankett!$E$52<129,(AS18+(AS19-AS18)/64*(Avropsblankett!$E$52-64)),\"\")),\"\")","v":""},null,{"$f":"(Avropsblankett!$F$52/100-250/100)*IF(Avropsblankett!$C$52=$A$16,IF(Avropsblankett!$E$52<65,(AU17+(AU18-AU17)/32*(Avropsblankett!$E$52-32)),IF(Avropsblankett!$E$52<129,(AU18+(AU19-AU18)/64*(Avropsblankett!$E$52-64)),\"\")))","v":0},null,null,{"$f":"IF(Avropsblankett!$C$52=$A$16,IF(Avropsblankett!$E$52<65,(AX17+(AX18-AX17)/32*(Avropsblankett!$E$52-32)),IF(Avropsblankett!$E$52<129,(AX18+(AX19-AX18)/64*(Avropsblankett!$E$52-64)),\"\")),\"\")","v":""},null,{"$f":"(Avropsblankett!$F$52/100-250/100)*IF(Avropsblankett!$C$52=$A$16,IF(Avropsblankett!$E$52<65,(AZ17+(AZ18-AZ17)/32*(Avropsblankett!$E$52-32)),IF(Avropsblankett!$E$52<129,(AZ18+(AZ19-AZ18)/64*(Avropsblankett!$E$52-64)),\"\")))","v":0}]
[null,null,null,null,{"$f":"IF(Avropsblankett!$C$64=$A$16,IF(Avropsblankett!$E$64<65,(E17+(E18-E17)/32*(Avropsblankett!$E$64-32)),IF(Avropsblankett!$E$64<129,(E18+(E19-E18)/64*(Avropsblankett!$E$64-64)),\"\")),\"\")","v":""},null,{"$f":"(Avropsblankett!$F$64/100-250/100)*IF(Avropsblankett!$C$64=$A$16,IF(Avropsblankett!$E$64<65,(G17+(G18-G17)/32*(Avropsblankett!$E$64-32)),IF(Avropsblankett!$E$64<129,(G18+(G19-G18)/64*(Avropsblankett!$E$64-64)),\"\")))","v":0},null,null,{"$f":"IF(Avropsblankett!$C$64=$A$16,IF(Avropsblankett!$E$64<65,(J17+(J18-J17)/32*(Avropsblankett!$E$64-32)),IF(Avropsblankett!$E$64<129,(J18+(J19-J18)/64*(Avropsblankett!$E$64-64)),\"\")),\"\")","v":""},null,{"$f":"(Avropsblankett!$F$64/100-250/100)*IF(Avropsblankett!$C$64=$A$16,IF(Avropsblankett!$E$64<65,(L17+(L18-L17)/32*(Avropsblankett!$E$64-32)),IF(Avropsblankett!$E$64<129,(L18+(L19-L18)/64*(Avropsblankett!$E$64-64)),\"\")))","v":0},null,null,{"$f":"IF(Avropsblankett!$C$64=$A$16,IF(Avropsblankett!$E$64<65,(O17+(O18-O17)/32*(Avropsblankett!$E$64-32)),IF(Avropsblankett!$E$64<129,(O18+(O19-O18)/64*(Avropsblankett!$E$64-64)),\"\")),\"\")","v":""},null,{"$f":"(Avropsblankett!$F$64/100-250/100)*IF(Avropsblankett!$C$64=$A$16,IF(Avropsblankett!$E$64<65,(Q17+(Q18-Q17)/32*(Avropsblankett!$E$64-32)),IF(Avropsblankett!$E$64<129,(Q18+(Q19-Q18)/64*(Avropsblankett!$E$64-64)),\"\")))","v":0},null,null,{"$f":"IF(Avropsblankett!$C$64=$A$16,IF(Avropsblankett!$E$64<65,(T17+(T18-T17)/32*(Avropsblankett!$E$64-32)),IF(Avropsblankett!$E$64<129,(T18+(T19-T18)/64*(Avropsblankett!$E$64-64)),\"\")),\"\")","v":""},null,{"$f":"(Avropsblankett!$F$64/100-250/100)*IF(Avropsblankett!$C$64=$A$16,IF(Avropsblankett!$E$64<65,(V17+(V18-V17)/32*(Avropsblankett!$E$64-32)),IF(Avropsblankett!$E$64<129,(V18+(V19-V18)/64*(Avropsblankett!$E$64-64)),\"\")))","v":0},null,null,{"$f":"IF(Avropsblankett!$C$64=$A$16,IF(Avropsblankett!$E$64<65,(Y17+(Y18-Y17)/32*(Avropsblankett!$E$64-32)),IF(Avropsblankett!$E$64<129,(Y18+(Y19-Y18)/64*(Avropsblankett!$E$64-64)),\"\")),\"\")","v":""},null,{"$f":"(Avropsblankett!$F$64/100-250/100)*IF(Avropsblankett!$C$64=$A$16,IF(Avropsblankett!$E$64<65,(AA17+(AA18-AA17)/32*(Avropsblankett!$E$64-32)),IF(Avropsblankett!$E$64<129,(AA18+(AA19-AA18)/64*(Avropsblankett!$E$64-64)),\"\")))","v":0},null,null,{"$f":"IF(Avropsblankett!$C$64=$A$16,IF(Avropsblankett!$E$64<65,(AD17+(AD18-AD17)/32*(Avropsblankett!$E$64-32)),IF(Avropsblankett!$E$64<129,(AD18+(AD19-AD18)/64*(Avropsblankett!$E$64-64)),\"\")),\"\")","v":""},null,{"$f":"(Avropsblankett!$F$64/100-250/100)*IF(Avropsblankett!$C$64=$A$16,IF(Avropsblankett!$E$64<65,(AF17+(AF18-AF17)/32*(Avropsblankett!$E$64-32)),IF(Avropsblankett!$E$64<129,(AF18+(AF19-AF18)/64*(Avropsblankett!$E$64-64)),\"\")))","v":0},null,null,{"$f":"IF(Avropsblankett!$C$64=$A$16,IF(Avropsblankett!$E$64<65,(AI17+(AI18-AI17)/32*(Avropsblankett!$E$64-32)),IF(Avropsblankett!$E$64<129,(AI18+(AI19-AI18)/64*(Avropsblankett!$E$64-64)),\"\")),\"\")","v":""},null,{"$f":"(Avropsblankett!$F$64/100-250/100)*IF(Avropsblankett!$C$64=$A$16,IF(Avropsblankett!$E$64<65,(AK17+(AK18-AK17)/32*(Avropsblankett!$E$64-32)),IF(Avropsblankett!$E$64<129,(AK18+(AK19-AK18)/64*(Avropsblankett!$E$64-64)),\"\")))","v":0},null,null,{"$f":"IF(Avropsblankett!$C$64=$A$16,IF(Avropsblankett!$E$64<65,(AN17+(AN18-AN17)/32*(Avropsblankett!$E$64-32)),IF(Avropsblankett!$E$64<129,(AN18+(AN19-AN18)/64*(Avropsblankett!$E$64-64)),\"\")),\"\")","v":""},null,{"$f":"(Avropsblankett!$F$64/100-250/100)*IF(Avropsblankett!$C$64=$A$16,IF(Avropsblankett!$E$64<65,(AP17+(AP18-AP17)/32*(Avropsblankett!$E$64-32)),IF(Avropsblankett!$E$64<129,(AP18+(AP19-AP18)/64*(Avropsblankett!$E$64-64)),\"\")))","v":0},null,null,{"$f":"IF(Avropsblankett!$C$64=$A$16,IF(Avropsblankett!$E$64<65,(AS17+(AS18-AS17)/32*(Avropsblankett!$E$64-32)),IF(Avropsblankett!$E$64<129,(AS18+(AS19-AS18)/64*(Avropsblankett!$E$64-64)),\"\")),\"\")","v":""},null,{"$f":"(Avropsblankett!$F$64/100-250/100)*IF(Avropsblankett!$C$64=$A$16,IF(Avropsblankett!$E$64<65,(AU17+(AU18-AU17)/32*(Avropsblankett!$E$64-32)),IF(Avropsblankett!$E$64<129,(AU18+(AU19-AU18)/64*(Avropsblankett!$E$64-64)),\"\")))","v":0},null,null,{"$f":"IF(Avropsblankett!$C$64=$A$16,IF(Avropsblankett!$E$64<65,(AX17+(AX18-AX17)/32*(Avropsblankett!$E$64-32)),IF(Avropsblankett!$E$64<129,(AX18+(AX19-AX18)/64*(Avropsblankett!$E$64-64)),\"\")),\"\")","v":""},null,{"$f":"(Avropsblankett!$F$64/100-250/100)*IF(Avropsblankett!$C$64=$A$16,IF(Avropsblankett!$E$64<65,(AZ17+(AZ18-AZ17)/32*(Avropsblankett!$E$64-32)),IF(Avropsblankett!$E$64<129,(AZ18+(AZ19-AZ18)/64*(Avropsblankett!$E$64-64)),\"\")))","v":0}]
[null,null,null,null,{"$f":"IF(Avropsblankett!$C$76=$A$16,IF(Avropsblankett!$E$76<65,(E17+(E18-E17)/32*(Avropsblankett!$E$76-32)),IF(Avropsblankett!$E$76<129,(E18+(E19-E18)/64*(Avropsblankett!$E$76-64)),\"\")),\"\")","v":""},null,{"$f":"(Avropsblankett!$F$76/100-250/100)*IF(Avropsblankett!$C$76=$A$16,IF(Avropsblankett!$E$76<65,(G17+(G18-G17)/32*(Avropsblankett!$E$76-32)),IF(Avropsblankett!$E$76<129,(G18+(G19-G18)/64*(Avropsblankett!$E$76-64)),\"\")))","v":0},null,null,{"$f":"IF(Avropsblankett!$C$76=$A$16,IF(Avropsblankett!$E$76<65,(J17+(J18-J17)/32*(Avropsblankett!$E$76-32)),IF(Avropsblankett!$E$76<129,(J18+(J19-J18)/64*(Avropsblankett!$E$76-64)),\"\")),\"\")","v":""},null,{"$f":"(Avropsblankett!$F$76/100-250/100)*IF(Avropsblankett!$C$76=$A$16,IF(Avropsblankett!$E$76<65,(L17+(L18-L17)/32*(Avropsblankett!$E$76-32)),IF(Avropsblankett!$E$76<129,(L18+(L19-L18)/64*(Avropsblankett!$E$76-64)),\"\")))","v":0},null,null,{"$f":"IF(Avropsblankett!$C$76=$A$16,IF(Avropsblankett!$E$76<65,(O17+(O18-O17)/32*(Avropsblankett!$E$76-32)),IF(Avropsblankett!$E$76<129,(O18+(O19-O18)/64*(Avropsblankett!$E$76-64)),\"\")),\"\")","v":""},null,{"$f":"(Avropsblankett!$F$76/100-250/100)*IF(Avropsblankett!$C$76=$A$16,IF(Avropsblankett!$E$76<65,(Q17+(Q18-Q17)/32*(Avropsblankett!$E$76-32)),IF(Avropsblankett!$E$76<129,(Q18+(Q19-Q18)/64*(Avropsblankett!$E$76-64)),\"\")))","v":0},null,null,{"$f":"IF(Avropsblankett!$C$76=$A$16,IF(Avropsblankett!$E$76<65,(T17+(T18-T17)/32*(Avropsblankett!$E$76-32)),IF(Avropsblankett!$E$76<129,(T18+(T19-T18)/64*(Avropsblankett!$E$76-64)),\"\")),\"\")","v":""},null,{"$f":"(Avropsblankett!$F$76/100-250/100)*IF(Avropsblankett!$C$76=$A$16,IF(Avropsblankett!$E$76<65,(V17+(V18-V17)/32*(Avropsblankett!$E$76-32)),IF(Avropsblankett!$E$76<129,(V18+(V19-V18)/64*(Avropsblankett!$E$76-64)),\"\")))","v":0},null,null,{"$f":"IF(Avropsblankett!$C$76=$A$16,IF(Avropsblankett!$E$76<65,(Y17+(Y18-Y17)/32*(Avropsblankett!$E$76-32)),IF(Avropsblankett!$E$76<129,(Y18+(Y19-Y18)/64*(Avropsblankett!$E$76-64)),\"\")),\"\")","v":""},null,{"$f":"(Avropsblankett!$F$76/100-250/100)*IF(Avropsblankett!$C$76=$A$16,IF(Avropsblankett!$E$76<65,(AA17+(AA18-AA17)/32*(Avropsblankett!$E$76-32)),IF(Avropsblankett!$E$76<129,(AA18+(AA19-AA18)/64*(Avropsblankett!$E$76-64)),\"\")))","v":0},null,null,{"$f":"IF(Avropsblankett!$C$76=$A$16,IF(Avropsblankett!$E$76<65,(AD17+(AD18-AD17)/32*(Avropsblankett!$E$76-32)),IF(Avropsblankett!$E$76<129,(AD18+(AD19-AD18)/64*(Avropsblankett!$E$76-64)),\"\")),\"\")","v":""},null,{"$f":"(Avropsblankett!$F$76/100-250/100)*IF(Avropsblankett!$C$76=$A$16,IF(Avropsblankett!$E$76<65,(AF17+(AF18-AF17)/32*(Avropsblankett!$E$76-32)),IF(Avropsblankett!$E$76<129,(AF18+(AF19-AF18)/64*(Avropsblankett!$E$76-64)),\"\")))","v":0},null,null,{"$f":"IF(Avropsblankett!$C$76=$A$16,IF(Avropsblankett!$E$76<65,(AI17+(AI18-AI17)/32*(Avropsblankett!$E$76-32)),IF(Avropsblankett!$E$76<129,(AI18+(AI19-AI18)/64*(Avropsblankett!$E$76-64)),\"\")),\"\")","v":""},null,{"$f":"(Avropsblankett!$F$76/100-250/100)*IF(Avropsblankett!$C$76=$A$16,IF(Avropsblankett!$E$76<65,(AK17+(AK18-AK17)/32*(Avropsblankett!$E$76-32)),IF(Avropsblankett!$E$76<129,(AK18+(AK19-AK18)/64*(Avropsblankett!$E$76-64)),\"\")))","v":0},null,null,{"$f":"IF(Avropsblankett!$C$76=$A$16,IF(Avropsblankett!$E$76<65,(AN17+(AN18-AN17)/32*(Avropsblankett!$E$76-32)),IF(Avropsblankett!$E$76<129,(AN18+(AN19-AN18)/64*(Avropsblankett!$E$76-64)),\"\")),\"\")","v":""},null,{"$f":"(Avropsblankett!$F$76/100-250/100)*IF(Avropsblankett!$C$76=$A$16,IF(Avropsblankett!$E$76<65,(AP17+(AP18-AP17)/32*(Avropsblankett!$E$76-32)),IF(Avropsblankett!$E$76<129,(AP18+(AP19-AP18)/64*(Avropsblankett!$E$76-64)),\"\")))","v":0},null,null,{"$f":"IF(Avropsblankett!$C$76=$A$16,IF(Avropsblankett!$E$76<65,(AS17+(AS18-AS17)/32*(Avropsblankett!$E$76-32)),IF(Avropsblankett!$E$76<129,(AS18+(AS19-AS18)/64*(Avropsblankett!$E$76-64)),\"\")),\"\")","v":""},null,{"$f":"(Avropsblankett!$F$76/100-250/100)*IF(Avropsblankett!$C$76=$A$16,IF(Avropsblankett!$E$76<65,(AU17+(AU18-AU17)/32*(Avropsblankett!$E$76-32)),IF(Avropsblankett!$E$76<129,(AU18+(AU19-AU18)/64*(Avropsblankett!$E$76-64)),\"\")))","v":0},null,null,{"$f":"IF(Avropsblankett!$C$76=$A$16,IF(Avropsblankett!$E$76<65,(AX17+(AX18-AX17)/32*(Avropsblankett!$E$76-32)),IF(Avropsblankett!$E$76<129,(AX18+(AX19-AX18)/64*(Avropsblankett!$E$76-64)),\"\")),\"\")","v":""},null,{"$f":"(Avropsblankett!$F$76/100-250/100)*IF(Avropsblankett!$C$76=$A$16,IF(Avropsblankett!$E$76<65,(AZ17+(AZ18-AZ17)/32*(Avropsblankett!$E$76-32)),IF(Avropsblankett!$E$76<129,(AZ18+(AZ19-AZ18)/64*(Avropsblankett!$E$76-64)),\"\")))","v":0}]
[null,null,null,null,{"$f":"SUM(E24:E28)","v":0},null,{"$f":"SUM(G24:G28)","v":0},null,null,{"$f":"SUM(J24:J28)","v":0},null,{"$f":"SUM(L24:L28)","v":0},null,null,{"$f":"SUM(O24:O28)","v":0},null,{"$f":"SUM(Q24:Q28)","v":0},null,null,{"$f":"SUM(T24:T28)","v":0},null,{"$f":"SUM(V24:V28)","v":0},null,null,{"$f":"SUM(Y24:Y28)","v":0},null,{"$f":"SUM(AA24:AA28)","v":0},null,null,{"$f":"SUM(AD24:AD28)","v":0},null,{"$f":"SUM(AF24:AF28)","v":0},null,null,{"$f":"SUM(AI24:AI28)","v":0},null,{"$f":"SUM(AK24:AK28)","v":0},null,null,{"$f":"SUM(AN24:AN28)","v":0},null,{"$f":"SUM(AP24:AP28)","v":0},null,null,{"$f":"SUM(AS24:AS28)","v":0},null,{"$f":"SUM(AU24:AU28)","v":0},null,null,{"$f":"SUM(AX24:AX28)","v":0},null,{"$f":"SUM(AZ24:AZ28)","v":0}]
[null,null,null,"Summa",{"$f":"SUM(E15,E29)","v":0},null,{"$f":"SUM(G15,G29)","v":0},null,"Summa",{"$f":"SUM(J15,J29)","v":0},null,{"$f":"SUM(L15,L29)","v":0},null,"Summa",{"$f":"SUM(O15,O29)","v":0},null,{"$f":"SUM(Q15,Q29)","v":0},null,"Summa",{"$f":"SUM(T15,T29)","v":0},null,{"$f":"SUM(V15,V29)","v":0},null,"Summa",{"$f":"SUM(Y15,Y29)","v":0},null,{"$f":"SUM(AA15,AA29)","v":0},null,"Summa",{"$f":"SUM(AD15,AD29)","v":0},null,{"$f":"SUM(AF15,AF29)","v":0},null,"Summa",{"$f":"SUM(AI15,AI29)","v":0},null,{"$f":"SUM(AK15,AK29)","v":0},null,"Summa",{"$f":"SUM(AN15,AN29)","v":0},null,{"$f":"SUM(AP15,AP29)","v":0},null,"Summa",{"$f":"SUM(AS15,AS29)","v":0},null,{"$f":"SUM(AU15,AU29)","v":0},null,"Summa",{"$f":"SUM(AX15,AX29)","v":0},null,{"$f":"SUM(AZ15,AZ29)","v":0}]
[null,null,null,"Totalsumma",{"$f":"SUM(E30,G30)","v":0},null,null,null,"Totalsumma",{"$f":"SUM(J30,L30)","v":0},null,null,null,"Totalsumma",{"$f":"SUM(O30,Q30)","v":0},null,null,null,"Totalsumma",{"$f":"SUM(T30,V30)","v":0},null,null,null,"Totalsumma",{"$f":"SUM(Y30,AA30)","v":0},null,null,null,"Totalsumma",{"$f":"SUM(AD30,AF30)","v":0},null,null,null,"Totalsumma",{"$f":"SUM(AI30,AK30)","v":0},null,null,null,"Totalsumma",{"$f":"SUM(AN30,AP30)","v":0},null,null,null,"Totalsumma",{"$f":"SUM(AS30,AU30)","v":0},null,null,null,"Totalsumma",{"$f":"SUM(AX30,AZ30)","v":0}]
[null,"Omslag"]
[null,{"$f":"B7","v":"Inget separat omslag"}]
[null,{"$f":"B20","v":"225 g colorit eller motsvarande"}]

{"sheet":"Visitkort","index":12,"n_rows":38,"n_cols":40,"rows_kept":38,"cut":false,"hidden":false,"merged":[[1,33,6,35],[1,13,6,15],[1,17,6,19],[0,1,0,3],[1,9,6,11],[1,21,6,23],[1,25,6,27],[1,29,6,31],[0,25,0,27],[0,29,0,31],[0,33,0,35],[0,37,0,39],[0,5,0,7],[0,9,0,11],[0,13,0,15],[0,17,0,19],[0,21,0,23],[8,1,8,3],[22,1,22,3],[7,5,7,7],[8,5,8,7],[22,5,22,7],[7,1,7,3],[7,29,7,31],[1,1,1,3],[2,1,2,3],[3,1,3,3],[4,1,4,3],[1,5,6,7],[5,1,5,3],[6,1,6,3],[8,13,8,15],[8,17,8,19],[22,13,22,15],[22,17,22,19],[7,21,7,23],[7,37,7,39],[8,37,8,39],[1,37,6,39],[30,0,35,0],[16,0,21,0],[7,33,7,35],[8,21,8,23],[8,25,8,27],[8,29,8,31],[8,33,8,35],[7,9,7,11],[8,9,8,11],[22,9,22,11],[7,25,7,27],[7,13,7,15],[7,17,7,19],[37,37,37,39],[22,37,22,39],[37,9,37,11],[37,13,37,15],[37,17,37,19],[37,25,37,27],[37,29,37,31],[37,21,37,23],[37,5,37,7],[37,1,37,3],[37,33,37,35],[22,21,22,23],[22,25,22,27],[22,29,22,31],[22,33,22,35]]}
["Visitkort",{"$f":"Uträkningsblad!C4","v":"Bröderna Hansson H-tryck Aktiebolag"},null,null,null,{"$f":"Uträkningsblad!D4","v":"Elanders Sverige AB"},null,null,null,{"$f":"Uträkningsblad!E4","v":"Exakta Print AB"},null,null,null,{"$f":"Uträkningsblad!F4","v":"Kalmar Kuvert Sweden AB"},null,null,null,{"$f":"Uträkningsblad!G4","v":"Ljungbergs Tryckeri i Klippan AB"},null,null,null,{"$f":"Uträkningsblad!H4","v":"Scandinavian Print Group Sweden AB"},null,null,null,{"$f":"Uträkningsblad!I4","v":"Stema Specialtryck AB"},null,null,null,{"$f":"Uträkningsblad!J4","v":"Stibo Complete A/S"},null,null,null,{"$f":"Uträkningsblad!K4","v":"Åtta.45 Tryckeri AB"},null,null,null,{"$f":"Uträkningsblad!L4","v":"Leverantör 10"}]
["Underlag:","A: Öppna filer. B: PDF/PDFx.",null,null,null," "]
["Format:","90 x 55 mm"]
["Ytvikt:","300 g"]
["Tryck:","Enligt nedan"]
["Variant 1","Mattbestruket"]
["Variant 2","Obestruket"]
[null,"Priser lämnas i gulmarkerade fält nedan",null,null,null,"Priser lämnas i gulmarkerade fält nedan",null,null,null,"Priser lämnas i gulmarkerade fält nedan",null,null,null,"Priser lämnas i gulmarkerade fält nedan",null,null,null,"Priser lämnas i gulmarkerade fält nedan",null,null,null,"Priser lämnas i gulmarkerade fält nedan",null,null,null,"Priser lämnas i gulmarkerade fält nedan",null,null,null,"Priser lämnas i gulmarkerade fält nedan",null,null,null,"Priser lämnas i gulmarkerade fält nedan",null,null,null,"Priser lämnas i gulmarkerade fält nedan"]
["Variant 1 Mattbestruket","Upplaga",null,null,null,"Upplaga",null,null,null,"Upplaga",null,null,null,"Upplaga",null,null,null,"Upplaga",null,null,null,"Upplaga",null,null,null,"Upplaga",null,null,null,"Upplaga",null,null,null,"Upplaga",null,null,null,"Upplaga"]
[null,100,250,500,null,100,250,500,null,100,250,500,null,100,250,500,null,100,250,500,null,100,250,500,null,100,250,500,null,100,250,500,null,100,250,500,null,100,250,500]
["1+0 (svart)",100,250,500,null,100,125,250,null,250,300,350,null,100,200,350,null,35,46,88,null,213,213,235,null,400,500,600,null,300,360,480,null,250,350,450,null,250,300,400]
["1+1 (svart)",130,280,500,null,125,150,300,null,300,350,400,null,105,210,360,null,35,46,88,null,285,285,307,null,400,500,600,null,324,396,540,null,300,400,500,null,270,330,450]
["4+0",200,350,500,null,175,200,400,null,350,400,500,null,100,200,350,null,46,46,88,null,213,213,235,null,400,500,600,null,300,360,480,null,300,400,500,null,250,300,400]
["4+4",220,370,500,null,225,250,500,null,400,450,550,null,110,220,370,null,46,46,88,null,285,285,307,null,450,550,650,null,324,396,540,null,350,450,550,null,270,330,450]
["2+0 (svart + PMS)",200,350,500,null,650,675,1050,null,350,400,500,null,100,200,350,null,95,136,237,null,213,213,235,null,2000,2100,2200,null,540,600,720,null,250,300,350,null,450,500,600]
["2+2 (svart + PMS)",220,370,500,null,775,975,1350,null,400,450,550,null,110,220,370,null,95,136,237,null,285,285,307,null,2100,2200,2300,null,600,660,780,null,300,400,500,null,500,550,650]
[null,{"$f":"Avropsblankett!$F$28*IF(AND(Avropsblankett!$G$28=$B$10,Avropsblankett!$C$28=$B$6,Avropsblankett!$D$28=$A$11),B11,IF(AND(Avropsblankett!$G$28=$B$10,Avropsblankett!$C$28=$B$6,Avropsblankett!$D$28=$A$12),B12,IF(AND(Avropsblankett!$G$28=$B$10,Avropsblankett!$C$28=$B$6,Avropsblankett!$D$28=$A$13),B13,IF(AND(Avropsblankett!$G$28=$B$10,Avropsblankett!$C$28=$B$6,Avropsblankett!$D$28=$A$14),B14,IF(AND(Avropsblankett!$G$28=$B$10,Avropsblankett!$C$28=$B$6,Avropsblankett!$D$28=$A$15),B15,IF(AND(Avropsblankett!$G$28=$B$10,Avropsblankett!$C$28=$B$6,Avropsblankett!$D$28=$A$16),B16,0))))))","v":0},{"$f":"Avropsblankett!$F$28*IF(AND(Avropsblankett!$G$28=$C$10,Avropsblankett!$C$28=$B$6,Avropsblankett!$D$28=$A$11),C11,IF(AND(Avropsblankett!$G$28=$C$10,Avropsblankett!$C$28=$B$6,Avropsblankett!$D$28=$A$12),C12,IF(AND(Avropsblankett!$G$28=$C$10,Avropsblankett!$C$28=$B$6,Avropsblankett!$D$28=$A$13),C13,IF(AND(Avropsblankett!$G$28=$C$10,Avropsblankett!$C$28=$B$6,Avropsblankett!$D$28=$A$14),C14,IF(AND(Avropsblankett!$G$28=$C$10,Avropsblankett!$C$28=$B$6,Avropsblankett!$D$28=$A$15),C15,IF(AND(Avropsblankett!$G$28=$C$10,Avropsblankett!$C$28=$B$6,Avropsblankett!$D$28=$A$16),C16,0))))))","v":0},{"$f":"Avropsblankett!$F$28*IF(AND(Avropsblankett!$G$28=$D$10,Avropsblankett!$C$28=$B$6,Avropsblankett!$D$28=$A$11),D11,IF(AND(Avropsblankett!$G$28=$D$10,Avropsblankett!$C$28=$B$6,Avropsblankett!$D$28=$A$12),D12,IF(AND(Avropsblankett!$G$28=$D$10,Avropsblankett!$C$28=$B$6,Avropsblankett!$D$28=$A$13),D13,IF(AND(Avropsblankett!$G$28=$D$10,Avropsblankett!$C$28=$B$6,Avropsblankett!$D$28=$A$14),D14,IF(AND(Avropsblankett!$G$28=$D$10,Avropsblankett!$C$28=$B$6,Avropsblankett!$D$28=$A$15),D15,IF(AND(Avropsblankett!$G$28=$D$10,Avropsblankett!$C$28=$B$6,Avropsblankett!$D$28=$A$16),D16,0))))))","v":0},null,{"$f":"Avropsblankett!$F$28*IF(AND(Avropsblankett!$G$28=$B$10,Avropsblankett!$C$28=$B$6,Avropsblankett!$D$28=$A$11),F11,IF(AND(Avropsblankett!$G$28=$B$10,Avropsblankett!$C$28=$B$6,Avropsblankett!$D$28=$A$12),F12,IF(AND(Avropsblankett!$G$28=$B$10,Avropsblankett!$C$28=$B$6,Avropsblankett!$D$28=$A$13),F13,IF(AND(Avropsblankett!$G$28=$B$10,Avropsblankett!$C$28=$B$6,Avropsblankett!$D$28=$A$14),F14,IF(AND(Avropsblankett!$G$28=$B$10,Avropsblankett!$C$28=$B$6,Avropsblankett!$D$28=$A$15),F15,IF(AND(Avropsblankett!$G$28=$B$10,Avropsblankett!$C$28=$B$6,Avropsblankett!$D$28=$A$16),F16,0))))))","v":0},{"$f":"Avropsblankett!$F$28*IF(AND(Avropsblankett!$G$28=$C$10,Avropsblankett!$C$28=$B$6,Avropsblankett!$D$28=$A$11),G11,IF(AND(Avropsblankett!$G$28=$C$10,Avropsblankett!$C$28=$B$6,Avropsblankett!$D$28=$A$12),G12,IF(AND(Avropsblankett!$G$28=$C$10,Avropsblankett!$C$28=$B$6,Avropsblankett!$D$28=$A$13),G13,IF(AND(Avropsblankett!$G$28=$C$10,Avropsblankett!$C$28=$B$6,Avropsblankett!$D$28=$A$14),G14,IF(AND(Avropsblankett!$G$28=$C$10,Avropsblankett!$C$28=$B$6,Avropsblankett!$D$28=$A$15),G15,IF(AND(Avropsblankett!$G$28=$C$10,Avropsblankett!$C$28=$B$6,Avropsblankett!$D$28=$A$16),G16,0))))))","v":0},{"$f":"Avropsblankett!$F$28*IF(AND(Avropsblankett!$G$28=$D$10,Avropsblankett!$C$28=$B$6,Avropsblankett!$D$28=$A$11),H11,IF(AND(Avropsblankett!$G$28=$D$10,Avropsblankett!$C$28=$B$6,Avropsblankett!$D$28=$A$12),H12,IF(AND(Avropsblankett!$G$28=$D$10,Avropsblankett!$C$28=$B$6,Avropsblankett!$D$28=$A$13),H13,IF(AND(Avropsblankett!$G$28=$D$10,Avropsblankett!$C$28=$B$6,Avropsblankett!$D$28=$A$14),H14,IF(AND(Avropsblankett!$G$28=$D$10,Avropsblankett!$C$28=$B$6,Avropsblankett!$D$28=$A$15),H15,IF(AND(Avropsblankett!$G$28=$D$10,Avropsblankett!$C$28=$B$6,Avropsblankett!$D$28=$A$16),H16,0))))))","v":0},null,{"$f":"Avropsblankett!$F$28*IF(AND(Avropsblankett!$G$28=$B$10,Avropsblankett!$C$28=$B$6,Avropsblankett!$D$28=$A$11),J11,IF(AND(Avropsblankett!$G$28=$B$10,Avropsblankett!$C$28=$B$6,Avropsblankett!$D$28=$A$12),J12,IF(AND(Avropsblankett!$G$28=$B$10,Avropsblankett!$C$28=$B$6,Avropsblankett!$D$28=$A$13),J13,IF(AND(Avropsblankett!$G$28=$B$10,Avropsblankett!$C$28=$B$6,Avropsblankett!$D$28=$A$14),J14,IF(AND(Avropsblankett!$G$28=$B$10,Avropsblankett!$C$28=$B$6,Avropsblankett!$D$28=$A$15),J15,IF(AND(Avropsblankett!$G$28=$B$10,Avropsblankett!$C$28=$B$6,Avropsblankett!$D$28=$A$16),J16,0))))))","v":0},{"$f":"Avropsblankett!$F$28*IF(AND(Avropsblankett!$G$28=$C$10,Avropsblankett!$C$28=$B$6,Avropsblankett!$D$28=$A$11),K11,IF(AND(Avropsblankett!$G$28=$C$10,Avropsblankett!$C$28=$B$6,Avropsblankett!$D$28=$A$12),K12,IF(AND(Avropsblankett!$G$28=$C$10,Avropsblankett!$C$28=$B$6,Avropsblankett!$D$28=$A$13),K13,IF(AND(Avropsblankett!$G$28=$C$10,Avropsblankett!$C$28=$B$6,Avropsblankett!$D$28=$A$14),K14,IF(AND(Avropsblankett!$G$28=$C$10,Avropsblankett!$C$28=$B$6,Avropsblankett!$D$28=$A$15),K15,IF(AND(Avropsblankett!$G$28=$C$10,Avropsblankett!$C$28=$B$6,Avropsblankett!$D$28=$A$16),K16,0))))))","v":0},{"$f":"Avropsblankett!$F$28*IF(AND(Avropsblankett!$G$28=$D$10,Avropsblankett!$C$28=$B$6,Avropsblankett!$D$28=$A$11),L11,IF(AND(Avropsblankett!$G$28=$D$10,Avropsblankett!$C$28=$B$6,Avropsblankett!$D$28=$A$12),L12,IF(AND(Avropsblankett!$G$28=$D$10,Avropsblankett!$C$28=$B$6,Avropsblankett!$D$28=$A$13),L13,IF(AND(Avropsblankett!$G$28=$D$10,Avropsblankett!$C$28=$B$6,Avropsblankett!$D$28=$A$14),L14,IF(AND(Avropsblankett!$G$28=$D$10,Avropsblankett!$C$28=$B$6,Avropsblankett!$D$28=$A$15),L15,IF(AND(Avropsblankett!$G$28=$D$10,Avropsblankett!$C$28=$B$6,Avropsblankett!$D$28=$A$16),L16,0))))))","v":0},null,{"$f":"Avropsblankett!$F$28*IF(AND(Avropsblankett!$G$28=$B$10,Avropsblankett!$C$28=$B$6,Avropsblankett!$D$28=$A$11),N11,IF(AND(Avropsblankett!$G$28=$B$10,Avropsblankett!$C$28=$B$6,Avropsblankett!$D$28=$A$12),N12,IF(AND(Avropsblankett!$G$28=$B$10,Avropsblankett!$C$28=$B$6,Avropsblankett!$D$28=$A$13),N13,IF(AND(Avropsblankett!$G$28=$B$10,Avropsblankett!$C$28=$B$6,Avropsblankett!$D$28=$A$14),N14,IF(AND(Avropsblankett!$G$28=$B$10,Avropsblankett!$C$28=$B$6,Avropsblankett!$D$28=$A$15),N15,IF(AND(Avropsblankett!$G$28=$B$10,Avropsblankett!$C$28=$B$6,Avropsblankett!$D$28=$A$16),N16,0))))))","v":0},{"$f":"Avropsblankett!$F$28*IF(AND(Avropsblankett!$G$28=$C$10,Avropsblankett!$C$28=$B$6,Avropsblankett!$D$28=$A$11),O11,IF(AND(Avropsblankett!$G$28=$C$10,Avropsblankett!$C$28=$B$6,Avropsblankett!$D$28=$A$12),O12,IF(AND(Avropsblankett!$G$28=$C$10,Avropsblankett!$C$28=$B$6,Avropsblankett!$D$28=$A$13),O13,IF(AND(Avropsblankett!$G$28=$C$10,Avropsblankett!$C$28=$B$6,Avropsblankett!$D$28=$A$14),O14,IF(AND(Avropsblankett!$G$28=$C$10,Avropsblankett!$C$28=$B$6,Avropsblankett!$D$28=$A$15),O15,IF(AND(Avropsblankett!$G$28=$C$10,Avropsblankett!$C$28=$B$6,Avropsblankett!$D$28=$A$16),O16,0))))))","v":0},{"$f":"Avropsblankett!$F$28*IF(AND(Avropsblankett!$G$28=$D$10,Avropsblankett!$C$28=$B$6,Avropsblankett!$D$28=$A$11),P11,IF(AND(Avropsblankett!$G$28=$D$10,Avropsblankett!$C$28=$B$6,Avropsblankett!$D$28=$A$12),P12,IF(AND(Avropsblankett!$G$28=$D$10,Avropsblankett!$C$28=$B$6,Avropsblankett!$D$28=$A$13),P13,IF(AND(Avropsblankett!$G$28=$D$10,Avropsblankett!$C$28=$B$6,Avropsblankett!$D$28=$A$14),P14,IF(AND(Avropsblankett!$G$28=$D$10,Avropsblankett!$C$28=$B$6,Avropsblankett!$D$28=$A$15),P15,IF(AND(Avropsblankett!$G$28=$D$10,Avropsblankett!$C$28=$B$6,Avropsblankett!$D$28=$A$16),P16,0))))))","v":0},null,{"$f":"Avropsblankett!$F$28*IF(AND(Avropsblankett!$G$28=$B$10,Avropsblankett!$C$28=$B$6,Avropsblankett!$D$28=$A$11),R11,IF(AND(Avropsblankett!$G$28=$B$10,Avropsblankett!$C$28=$B$6,Avropsblankett!$D$28=$A$12),R12,IF(AND(Avropsblankett!$G$28=$B$10,Avropsblankett!$C$28=$B$6,Avropsblankett!$D$28=$A$13),R13,IF(AND(Avropsblankett!$G$28=$B$10,Avropsblankett!$C$28=$B$6,Avropsblankett!$D$28=$A$14),R14,IF(AND(Avropsblankett!$G$28=$B$10,Avropsblankett!$C$28=$B$6,Avropsblankett!$D$28=$A$15),R15,IF(AND(Avropsblankett!$G$28=$B$10,Avropsblankett!$C$28=$B$6,Avropsblankett!$D$28=$A$16),R16,0))))))","v":0},{"$f":"Avropsblankett!$F$28*IF(AND(Avropsblankett!$G$28=$C$10,Avropsblankett!$C$28=$B$6,Avropsblankett!$D$28=$A$11),S11,IF(AND(Avropsblankett!$G$28=$C$10,Avropsblankett!$C$28=$B$6,Avropsblankett!$D$28=$A$12),S12,IF(AND(Avropsblankett!$G$28=$C$10,Avropsblankett!$C$28=$B$6,Avropsblankett!$D$28=$A$13),S13,IF(AND(Avropsblankett!$G$28=$C$10,Avropsblankett!$C$28=$B$6,Avropsblankett!$D$28=$A$14),S14,IF(AND(Avropsblankett!$G$28=$C$10,Avropsblankett!$C$28=$B$6,Avropsblankett!$D$28=$A$15),S15,IF(AND(Avropsblankett!$G$28=$C$10,Avropsblankett!$C$28=$B$6,Avropsblankett!$D$28=$A$16),S16,0))))))","v":0},{"$f":"Avropsblankett!$F$28*IF(AND(Avropsblankett!$G$28=$D$10,Avropsblankett!$C$28=$B$6,Avropsblankett!$D$28=$A$11),T11,IF(AND(Avropsblankett!$G$28=$D$10,Avropsblankett!$C$28=$B$6,Avropsblankett!$D$28=$A$12),T12,IF(AND(Avropsblankett!$G$28=$D$10,Avropsblankett!$C$28=$B$6,Avropsblankett!$D$28=$A$13),T13,IF(AND(Avropsblankett!$G$28=$D$10,Avropsblankett!$C$28=$B$6,Avropsblankett!$D$28=$A$14),T14,IF(AND(Avropsblankett!$G$28=$D$10,Avropsblankett!$C$28=$B$6,Avropsblankett!$D$28=$A$15),T15,IF(AND(Avropsblankett!$G$28=$D$10,Avropsblankett!$C$28=$B$6,Avropsblankett!$D$28=$A$16),T16,0))))))","v":0},null,{"$f":"Avropsblankett!$F$28*IF(AND(Avropsblankett!$G$28=$B$10,Avropsblankett!$C$28=$B$6,Avropsblankett!$D$28=$A$11),V11,IF(AND(Avropsblankett!$G$28=$B$10,Avropsblankett!$C$28=$B$6,Avropsblankett!$D$28=$A$12),V12,IF(AND(Avropsblankett!$G$28=$B$10,Avropsblankett!$C$28=$B$6,Avropsblankett!$D$28=$A$13),V13,IF(AND(Avropsblankett!$G$28=$B$10,Avropsblankett!$C$28=$B$6,Avropsblankett!$D$28=$A$14),V14,IF(AND(Avropsblankett!$G$28=$B$10,Avropsblankett!$C$28=$B$6,Avropsblankett!$D$28=$A$15),V15,IF(AND(Avropsblankett!$G$28=$B$10,Avropsblankett!$C$28=$B$6,Avropsblankett!$D$28=$A$16),V16,0))))))","v":0},{"$f":"Avropsblankett!$F$28*IF(AND(Avropsblankett!$G$28=$C$10,Avropsblankett!$C$28=$B$6,Avropsblankett!$D$28=$A$11),W11,IF(AND(Avropsblankett!$G$28=$C$10,Avropsblankett!$C$28=$B$6,Avropsblankett!$D$28=$A$12),W12,IF(AND(Avropsblankett!$G$28=$C$10,Avropsblankett!$C$28=$B$6,Avropsblankett!$D$28=$A$13),W13,IF(AND(Avropsblankett!$G$28=$C$10,Avropsblankett!$C$28=$B$6,Avropsblankett!$D$28=$A$14),W14,IF(AND(Avropsblankett!$G$28=$C$10,Avropsblankett!$C$28=$B$6,Avropsblankett!$D$28=$A$15),W15,IF(AND(Avropsblankett!$G$28=$C$10,Avropsblankett!$C$28=$B$6,Avropsblankett!$D$28=$A$16),W16,0))))))","v":0},{"$f":"Avropsblankett!$F$28*IF(AND(Avropsblankett!$G$28=$D$10,Avropsblankett!$C$28=$B$6,Avropsblankett!$D$28=$A$11),X11,IF(AND(Avropsblankett!$G$28=$D$10,Avropsblankett!$C$28=$B$6,Avropsblankett!$D$28=$A$12),X12,IF(AND(Avropsblankett!$G$28=$D$10,Avropsblankett!$C$28=$B$6,Avropsblankett!$D$28=$A$13),X13,IF(AND(Avropsblankett!$G$28=$D$10,Avropsblankett!$C$28=$B$6,Avropsblankett!$D$28=$A$14),X14,IF(AND(Avropsblankett!$G$28=$D$10,Avropsblankett!$C$28=$B$6,Avropsblankett!$D$28=$A$15),X15,IF(AND(Avropsblankett!$G$28=$D$10,Avropsblankett!$C$28=$B$6,Avropsblankett!$D$28=$A$16),X16,0))))))","v":0},null,{"$f":"Avropsblankett!$F$28*IF(AND(Avropsblankett!$G$28=$B$10,Avropsblankett!$C$28=$B$6,Avropsblankett!$D$28=$A$11),Z11,IF(AND(Avropsblankett!$G$28=$B$10,Avropsblankett!$C$28=$B$6,Avropsblankett!$D$28=$A$12),Z12,IF(AND(Avropsblankett!$G$28=$B$10,Avropsblankett!$C$28=$B$6,Avropsblankett!$D$28=$A$13),Z13,IF(AND(Avropsblankett!$G$28=$B$10,Avropsblankett!$C$28=$B$6,Avropsblankett!$D$28=$A$14),Z14,IF(AND(Avropsblankett!$G$28=$B$10,Avropsblankett!$C$28=$B$6,Avropsblankett!$D$28=$A$15),Z15,IF(AND(Avropsblankett!$G$28=$B$10,Avropsblankett!$C$28=$B$6,Avropsblankett!$D$28=$A$16),Z16,0))))))","v":0},{"$f":"Avropsblankett!$F$28*IF(AND(Avropsblankett!$G$28=$C$10,Avropsblankett!$C$28=$B$6,Avropsblankett!$D$28=$A$11),AA11,IF(AND(Avropsblankett!$G$28=$C$10,Avropsblankett!$C$28=$B$6,Avropsblankett!$D$28=$A$12),AA12,IF(AND(Avropsblankett!$G$28=$C$10,Avropsblankett!$C$28=$B$6,Avropsblankett!$D$28=$A$13),AA13,IF(AND(Avropsblankett!$G$28=$C$10,Avropsblankett!$C$28=$B$6,Avropsblankett!$D$28=$A$14),AA14,IF(AND(Avropsblankett!$G$28=$C$10,Avropsblankett!$C$28=$B$6,Avropsblankett!$D$28=$A$15),AA15,IF(AND(Avropsblankett!$G$28=$C$10,Avropsblankett!$C$28=$B$6,Avropsblankett!$D$28=$A$16),AA16,0))))))","v":0},{"$f":"Avropsblankett!$F$28*IF(AND(Avropsblankett!$G$28=$D$10,Avropsblankett!$C$28=$B$6,Avropsblankett!$D$28=$A$11),AB11,IF(AND(Avropsblankett!$G$28=$D$10,Avropsblankett!$C$28=$B$6,Avropsblankett!$D$28=$A$12),AB12,IF(AND(Avropsblankett!$G$28=$D$10,Avropsblankett!$C$28=$B$6,Avropsblankett!$D$28=$A$13),AB13,IF(AND(Avropsblankett!$G$28=$D$10,Avropsblankett!$C$28=$B$6,Avropsblankett!$D$28=$A$14),AB14,IF(AND(Avropsblankett!$G$28=$D$10,Avropsblankett!$C$28=$B$6,Avropsblankett!$D$28=$A$15),AB15,IF(AND(Avropsblankett!$G$28=$D$10,Avropsblankett!$C$28=$B$6,Avropsblankett!$D$28=$A$16),AB16,0))))))","v":0},null,{"$f":"Avropsblankett!$F$28*IF(AND(Avropsblankett!$G$28=$B$10,Avropsblankett!$C$28=$B$6,Avropsblankett!$D$28=$A$11),AD11,IF(AND(Avropsblankett!$G$28=$B$10,Avropsblankett!$C$28=$B$6,Avropsblankett!$D$28=$A$12),AD12,IF(AND(Avropsblankett!$G$28=$B$10,Avropsblankett!$C$28=$B$6,Avropsblankett!$D$28=$A$13),AD13,IF(AND(Avropsblankett!$G$28=$B$10,Avropsblankett!$C$28=$B$6,Avropsblankett!$D$28=$A$14),AD14,IF(AND(Avropsblankett!$G$28=$B$10,Avropsblankett!$C$28=$B$6,Avropsblankett!$D$28=$A$15),AD15,IF(AND(Avropsblankett!$G$28=$B$10,Avropsblankett!$C$28=$B$6,Avropsblankett!$D$28=$A$16),AD16,0))))))","v":0},{"$f":"Avropsblankett!$F$28*IF(AND(Avropsblankett!$G$28=$C$10,Avropsblankett!$C$28=$B$6,Avropsblankett!$D$28=$A$11),AE11,IF(AND(Avropsblankett!$G$28=$C$10,Avropsblankett!$C$28=$B$6,Avropsblankett!$D$28=$A$12),AE12,IF(AND(Avropsblankett!$G$28=$C$10,Avropsblankett!$C$28=$B$6,Avropsblankett!$D$28=$A$13),AE13,IF(AND(Avropsblankett!$G$28=$C$10,Avropsblankett!$C$28=$B$6,Avropsblankett!$D$28=$A$14),AE14,IF(AND(Avropsblankett!$G$28=$C$10,Avropsblankett!$C$28=$B$6,Avropsblankett!$D$28=$A$15),AE15,IF(AND(Avropsblankett!$G$28=$C$10,Avropsblankett!$C$28=$B$6,Avropsblankett!$D$28=$A$16),AE16,0))))))","v":0},{"$f":"Avropsblankett!$F$28*IF(AND(Avropsblankett!$G$28=$D$10,Avropsblankett!$C$28=$B$6,Avropsblankett!$D$28=$A$11),AF11,IF(AND(Avropsblankett!$G$28=$D$10,Avropsblankett!$C$28=$B$6,Avropsblankett!$D$28=$A$12),AF12,IF(AND(Avropsblankett!$G$28=$D$10,Avropsblankett!$C$28=$B$6,Avropsblankett!$D$28=$A$13),AF13,IF(AND(Avropsblankett!$G$28=$D$10,Avropsblankett!$C$28=$B$6,Avropsblankett!$D$28=$A$14),AF14,IF(AND(Avropsblankett!$G$28=$D$10,Avropsblankett!$C$28=$B$6,Avropsblankett!$D$28=$A$15),AF15,IF(AND(Avropsblankett!$G$28=$D$10,Avropsblankett!$C$28=$B$6,Avropsblankett!$D$28=$A$16),AF16,0))))))","v":0},null,{"$f":"Avropsblankett!$F$28*IF(AND(Avropsblankett!$G$28=$B$10,Avropsblankett!$C$28=$B$6,Avropsblankett!$D$28=$A$11),AH11,IF(AND(Avropsblankett!$G$28=$B$10,Avropsblankett!$C$28=$B$6,Avropsblankett!$D$28=$A$12),AH12,IF(AND(Avropsblankett!$G$28=$B$10,Avropsblankett!$C$28=$B$6,Avropsblankett!$D$28=$A$13),AH13,IF(AND(Avropsblankett!$G$28=$B$10,Avropsblankett!$C$28=$B$6,Avropsblankett!$D$28=$A$14),AH14,IF(AND(Avropsblankett!$G$28=$B$10,Avropsblankett!$C$28=$B$6,Avropsblankett!$D$28=$A$15),AH15,IF(AND(Avropsblankett!$G$28=$B$10,Avropsblankett!$C$28=$B$6,Avropsblankett!$D$28=$A$16),AH16,0))))))","v":0},{"$f":"Avropsblankett!$F$28*IF(AND(Avropsblankett!$G$28=$C$10,Avropsblankett!$C$28=$B$6,Avropsblankett!$D$28=$A$11),AI11,IF(AND(Avropsblankett!$G$28=$C$10,Avropsblankett!$C$28=$B$6,Avropsblankett!$D$28=$A$12),AI12,IF(AND(Avropsblankett!$G$28=$C$10,Avropsblankett!$C$28=$B$6,Avropsblankett!$D$28=$A$13),AI13,IF(AND(Avropsblankett!$G$28=$C$10,Avropsblankett!$C$28=$B$6,Avropsblankett!$D$28=$A$14),AI14,IF(AND(Avropsblankett!$G$28=$C$10,Avropsblankett!$C$28=$B$6,Avropsblankett!$D$28=$A$15),AI15,IF(AND(Avropsblankett!$G$28=$C$10,Avropsblankett!$C$28=$B$6,Avropsblankett!$D$28=$A$16),AI16,0))))))","v":0},{"$f":"Avropsblankett!$F$28*IF(AND(Avropsblankett!$G$28=$D$10,Avropsblankett!$C$28=$B$6,Avropsblankett!$D$28=$A$11),AJ11,IF(AND(Avropsblankett!$G$28=$D$10,Avropsblankett!$C$28=$B$6,Avropsblankett!$D$28=$A$12),AJ12,IF(AND(Avropsblankett!$G$28=$D$10,Avropsblankett!$C$28=$B$6,Avropsblankett!$D$28=$A$13),AJ13,IF(AND(Avropsblankett!$G$28=$D$10,Avropsblankett!$C$28=$B$6,Avropsblankett!$D$28=$A$14),AJ14,IF(AND(Avropsblankett!$G$28=$D$10,Avropsblankett!$C$28=$B$6,Avropsblankett!$D$28=$A$15),AJ15,IF(AND(Avropsblankett!$G$28=$D$10,Avropsblankett!$C$28=$B$6,Avropsblankett!$D$28=$A$16),AJ16,0))))))","v":0},null,{"$f":"Avropsblankett!$F$28*IF(AND(Avropsblankett!$G$28=$B$10,Avropsblankett!$C$28=$B$6,Avropsblankett!$D$28=$A$11),AL11,IF(AND(Avropsblankett!$G$28=$B$10,Avropsblankett!$C$28=$B$6,Avropsblankett!$D$28=$A$12),AL12,IF(AND(Avropsblankett!$G$28=$B$10,Avropsblankett!$C$28=$B$6,Avropsblankett!$D$28=$A$13),AL13,IF(AND(Avropsblankett!$G$28=$B$10,Avropsblankett!$C$28=$B$6,Avropsblankett!$D$28=$A$14),AL14,IF(AND(Avropsblankett!$G$28=$B$10,Avropsblankett!$C$28=$B$6,Avropsblankett!$D$28=$A$15),AL15,IF(AND(Avropsblankett!$G$28=$B$10,Avropsblankett!$C$28=$B$6,Avropsblankett!$D$28=$A$16),AL16,0))))))","v":0},{"$f":"Avropsblankett!$F$28*IF(AND(Avropsblankett!$G$28=$C$10,Avropsblankett!$C$28=$B$6,Avropsblankett!$D$28=$A$11),AM11,IF(AND(Avropsblankett!$G$28=$C$10,Avropsblankett!$C$28=$B$6,Avropsblankett!$D$28=$A$12),AM12,IF(AND(Avropsblankett!$G$28=$C$10,Avropsblankett!$C$28=$B$6,Avropsblankett!$D$28=$A$13),AM13,IF(AND(Avropsblankett!$G$28=$C$10,Avropsblankett!$C$28=$B$6,Avropsblankett!$D$28=$A$14),AM14,IF(AND(Avropsblankett!$G$28=$C$10,Avropsblankett!$C$28=$B$6,Avropsblankett!$D$28=$A$15),AM15,IF(AND(Avropsblankett!$G$28=$C$10,Avropsblankett!$C$28=$B$6,Avropsblankett!$D$28=$A$16),AM16,0))))))","v":0},{"$f":"Avropsblankett!$F$28*IF(AND(Avropsblankett!$G$28=$D$10,Avropsblankett!$C$28=$B$6,Avropsblankett!$D$28=$A$11),AN11,IF(AND(Avropsblankett!$G$28=$D$10,Avropsblankett!$C$28=$B$6,Avropsblankett!$D$28=$A$12),AN12,IF(AND(Avropsblankett!$G$28=$D$10,Avropsblankett!$C$28=$B$6,Avropsblankett!$D$28=$A$13),AN13,IF(AND(Avropsblankett!$G$28=$D$10,Avropsblankett!$C$28=$B$6,Avropsblankett!$D$28=$A$14),AN14,IF(AND(Avropsblankett!$G$28=$D$10,Avropsblankett!$C$28=$B$6,Avropsblankett!$D$28=$A$15),AN15,IF(AND(Avropsblankett!$G$28=$D$10,Avropsblankett!$C$28=$B$6,Avropsblankett!$D$28=$A$16),AN16,0))))))","v":0}]
[null,{"$f":"Avropsblankett!$F$40*IF(AND(Avropsblankett!$G$40=$B$10,Avropsblankett!$C$40=$B$6,Avropsblankett!$D$40=$A$11),B11,IF(AND(Avropsblankett!$G$40=$B$10,Avropsblankett!$C$40=$B$6,Avropsblankett!$D$40=$A$12),B12,IF(AND(Avropsblankett!$G$40=$B$10,Avropsblankett!$C$40=$B$6,Avropsblankett!$D$40=$A$13),B13,IF(AND(Avropsblankett!$G$40=$B$10,Avropsblankett!$C$40=$B$6,Avropsblankett!$D$40=$A$14),B14,IF(AND(Avropsblankett!$G$40=$B$10,Avropsblankett!$C$40=$B$6,Avropsblankett!$D$40=$A$15),B15,IF(AND(Avropsblankett!$G$40=$B$10,Avropsblankett!$C$40=$B$6,Avropsblankett!$D$40=$A$16),B16,0))))))","v":0},{"$f":"Avropsblankett!$F$40*IF(AND(Avropsblankett!$G$40=$C$10,Avropsblankett!$C$40=$B$6,Avropsblankett!$D$40=$A$11),C11,IF(AND(Avropsblankett!$G$40=$C$10,Avropsblankett!$C$40=$B$6,Avropsblankett!$D$40=$A$12),C12,IF(AND(Avropsblankett!$G$40=$C$10,Avropsblankett!$C$40=$B$6,Avropsblankett!$D$40=$A$13),C13,IF(AND(Avropsblankett!$G$40=$C$10,Avropsblankett!$C$40=$B$6,Avropsblankett!$D$40=$A$14),C14,IF(AND(Avropsblankett!$G$40=$C$10,Avropsblankett!$C$40=$B$6,Avropsblankett!$D$40=$A$15),C15,IF(AND(Avropsblankett!$G$40=$C$10,Avropsblankett!$C$40=$B$6,Avropsblankett!$D$40=$A$16),C16,0))))))","v":0},{"$f":"Avropsblankett!$F$40*IF(AND(Avropsblankett!$G$40=$D$10,Avropsblankett!$C$40=$B$6,Avropsblankett!$D$40=$A$11),D11,IF(AND(Avropsblankett!$G$40=$D$10,Avropsblankett!$C$40=$B$6,Avropsblankett!$D$40=$A$12),D12,IF(AND(Avropsblankett!$G$40=$D$10,Avropsblankett!$C$40=$B$6,Avropsblankett!$D$40=$A$13),D13,IF(AND(Avropsblankett!$G$40=$D$10,Avropsblankett!$C$40=$B$6,Avropsblankett!$D$40=$A$14),D14,IF(AND(Avropsblankett!$G$40=$D$10,Avropsblankett!$C$40=$B$6,Avropsblankett!$D$40=$A$15),D15,IF(AND(Avropsblankett!$G$40=$D$10,Avropsblankett!$C$40=$B$6,Avropsblankett!$D$40=$A$16),D16,0))))))","v":0},null,{"$f":"Avropsblankett!$F$40*IF(AND(Avropsblankett!$G$40=$B$10,Avropsblankett!$C$40=$B$6,Avropsblankett!$D$40=$A$11),F11,IF(AND(Avropsblankett!$G$40=$B$10,Avropsblankett!$C$40=$B$6,Avropsblankett!$D$40=$A$12),F12,IF(AND(Avropsblankett!$G$40=$B$10,Avropsblankett!$C$40=$B$6,Avropsblankett!$D$40=$A$13),F13,IF(AND(Avropsblankett!$G$40=$B$10,Avropsblankett!$C$40=$B$6,Avropsblankett!$D$40=$A$14),F14,IF(AND(Avropsblankett!$G$40=$B$10,Avropsblankett!$C$40=$B$6,Avropsblankett!$D$40=$A$15),F15,IF(AND(Avropsblankett!$G$40=$B$10,Avropsblankett!$C$40=$B$6,Avropsblankett!$D$40=$A$16),F16,0))))))","v":0},{"$f":"Avropsblankett!$F$40*IF(AND(Avropsblankett!$G$40=$C$10,Avropsblankett!$C$40=$B$6,Avropsblankett!$D$40=$A$11),G11,IF(AND(Avropsblankett!$G$40=$C$10,Avropsblankett!$C$40=$B$6,Avropsblankett!$D$40=$A$12),G12,IF(AND(Avropsblankett!$G$40=$C$10,Avropsblankett!$C$40=$B$6,Avropsblankett!$D$40=$A$13),G13,IF(AND(Avropsblankett!$G$40=$C$10,Avropsblankett!$C$40=$B$6,Avropsblankett!$D$40=$A$14),G14,IF(AND(Avropsblankett!$G$40=$C$10,Avropsblankett!$C$40=$B$6,Avropsblankett!$D$40=$A$15),G15,IF(AND(Avropsblankett!$G$40=$C$10,Avropsblankett!$C$40=$B$6,Avropsblankett!$D$40=$A$16),G16,0))))))","v":0},{"$f":"Avropsblankett!$F$40*IF(AND(Avropsblankett!$G$40=$D$10,Avropsblankett!$C$40=$B$6,Avropsblankett!$D$40=$A$11),H11,IF(AND(Avropsblankett!$G$40=$D$10,Avropsblankett!$C$40=$B$6,Avropsblankett!$D$40=$A$12),H12,IF(AND(Avropsblankett!$G$40=$D$10,Avropsblankett!$C$40=$B$6,Avropsblankett!$D$40=$A$13),H13,IF(AND(Avropsblankett!$G$40=$D$10,Avropsblankett!$C$40=$B$6,Avropsblankett!$D$40=$A$14),H14,IF(AND(Avropsblankett!$G$40=$D$10,Avropsblankett!$C$40=$B$6,Avropsblankett!$D$40=$A$15),H15,IF(AND(Avropsblankett!$G$40=$D$10,Avropsblankett!$C$40=$B$6,Avropsblankett!$D$40=$A$16),H16,0))))))","v":0},null,{"$f":"Avropsblankett!$F$40*IF(AND(Avropsblankett!$G$40=$B$10,Avropsblankett!$C$40=$B$6,Avropsblankett!$D$40=$A$11),J11,IF(AND(Avropsblankett!$G$40=$B$10,Avropsblankett!$C$40=$B$6,Avropsblankett!$D$40=$A$12),J12,IF(AND(Avropsblankett!$G$40=$B$10,Avropsblankett!$C$40=$B$6,Avropsblankett!$D$40=$A$13),J13,IF(AND(Avropsblankett!$G$40=$B$10,Avropsblankett!$C$40=$B$6,Avropsblankett!$D$40=$A$14),J14,IF(AND(Avropsblankett!$G$40=$B$10,Avropsblankett!$C$40=$B$6,Avropsblankett!$D$40=$A$15),J15,IF(AND(Avropsblankett!$G$40=$B$10,Avropsblankett!$C$40=$B$6,Avropsblankett!$D$40=$A$16),J16,0))))))","v":0},{"$f":"Avropsblankett!$F$40*IF(AND(Avropsblankett!$G$40=$C$10,Avropsblankett!$C$40=$B$6,Avropsblankett!$D$40=$A$11),K11,IF(AND(Avropsblankett!$G$40=$C$10,Avropsblankett!$C$40=$B$6,Avropsblankett!$D$40=$A$12),K12,IF(AND(Avropsblankett!$G$40=$C$10,Avropsblankett!$C$40=$B$6,Avropsblankett!$D$40=$A$13),K13,IF(AND(Avropsblankett!$G$40=$C$10,Avropsblankett!$C$40=$B$6,Avropsblankett!$D$40=$A$14),K14,IF(AND(Avropsblankett!$G$40=$C$10,Avropsblankett!$C$40=$B$6,Avropsblankett!$D$40=$A$15),K15,IF(AND(Avropsblankett!$G$40=$C$10,Avropsblankett!$C$40=$B$6,Avropsblankett!$D$40=$A$16),K16,0))))))","v":0},{"$f":"Avropsblankett!$F$40*IF(AND(Avropsblankett!$G$40=$D$10,Avropsblankett!$C$40=$B$6,Avropsblankett!$D$40=$A$11),L11,IF(AND(Avropsblankett!$G$40=$D$10,Avropsblankett!$C$40=$B$6,Avropsblankett!$D$40=$A$12),L12,IF(AND(Avropsblankett!$G$40=$D$10,Avropsblankett!$C$40=$B$6,Avropsblankett!$D$40=$A$13),L13,IF(AND(Avropsblankett!$G$40=$D$10,Avropsblankett!$C$40=$B$6,Avropsblankett!$D$40=$A$14),L14,IF(AND(Avropsblankett!$G$40=$D$10,Avropsblankett!$C$40=$B$6,Avropsblankett!$D$40=$A$15),L15,IF(AND(Avropsblankett!$G$40=$D$10,Avropsblankett!$C$40=$B$6,Avropsblankett!$D$40=$A$16),L16,0))))))","v":0},null,{"$f":"Avropsblankett!$F$40*IF(AND(Avropsblankett!$G$40=$B$10,Avropsblankett!$C$40=$B$6,Avropsblankett!$D$40=$A$11),N11,IF(AND(Avropsblankett!$G$40=$B$10,Avropsblankett!$C$40=$B$6,Avropsblankett!$D$40=$A$12),N12,IF(AND(Avropsblankett!$G$40=$B$10,Avropsblankett!$C$40=$B$6,Avropsblankett!$D$40=$A$13),N13,IF(AND(Avropsblankett!$G$40=$B$10,Avropsblankett!$C$40=$B$6,Avropsblankett!$D$40=$A$14),N14,IF(AND(Avropsblankett!$G$40=$B$10,Avropsblankett!$C$40=$B$6,Avropsblankett!$D$40=$A$15),N15,IF(AND(Avropsblankett!$G$40=$B$10,Avropsblankett!$C$40=$B$6,Avropsblankett!$D$40=$A$16),N16,0))))))","v":0},{"$f":"Avropsblankett!$F$40*IF(AND(Avropsblankett!$G$40=$C$10,Avropsblankett!$C$40=$B$6,Avropsblankett!$D$40=$A$11),O11,IF(AND(Avropsblankett!$G$40=$C$10,Avropsblankett!$C$40=$B$6,Avropsblankett!$D$40=$A$12),O12,IF(AND(Avropsblankett!$G$40=$C$10,Avropsblankett!$C$40=$B$6,Avropsblankett!$D$40=$A$13),O13,IF(AND(Avropsblankett!$G$40=$C$10,Avropsblankett!$C$40=$B$6,Avropsblankett!$D$40=$A$14),O14,IF(AND(Avropsblankett!$G$40=$C$10,Avropsblankett!$C$40=$B$6,Avropsblankett!$D$40=$A$15),O15,IF(AND(Avropsblankett!$G$40=$C$10,Avropsblankett!$C$40=$B$6,Avropsblankett!$D$40=$A$16),O16,0))))))","v":0},{"$f":"Avropsblankett!$F$40*IF(AND(Avropsblankett!$G$40=$D$10,Avropsblankett!$C$40=$B$6,Avropsblankett!$D$40=$A$11),P11,IF(AND(Avropsblankett!$G$40=$D$10,Avropsblankett!$C$40=$B$6,Avropsblankett!$D$40=$A$12),P12,IF(AND(Avropsblankett!$G$40=$D$10,Avropsblankett!$C$40=$B$6,Avropsblankett!$D$40=$A$13),P13,IF(AND(Avropsblankett!$G$40=$D$10,Avropsblankett!$C$40=$B$6,Avropsblankett!$D$40=$A$14),P14,IF(AND(Avropsblankett!$G$40=$D$10,Avropsblankett!$C$40=$B$6,Avropsblankett!$D$40=$A$15),P15,IF(AND(Avropsblankett!$G$40=$D$10,Avropsblankett!$C$40=$B$6,Avropsblankett!$D$40=$A$16),P16,0))))))","v":0},null,{"$f":"Avropsblankett!$F$40*IF(AND(Avropsblankett!$G$40=$B$10,Avropsblankett!$C$40=$B$6,Avropsblankett!$D$40=$A$11),R11,IF(AND(Avropsblankett!$G$40=$B$10,Avropsblankett!$C$40=$B$6,Avropsblankett!$D$40=$A$12),R12,IF(AND(Avropsblankett!$G$40=$B$10,Avropsblankett!$C$40=$B$6,Avropsblankett!$D$40=$A$13),R13,IF(AND(Avropsblankett!$G$40=$B$10,Avropsblankett!$C$40=$B$6,Avropsblankett!$D$40=$A$14),R14,IF(AND(Avropsblankett!$G$40=$B$10,Avropsblankett!$C$40=$B$6,Avropsblankett!$D$40=$A$15),R15,IF(AND(Avropsblankett!$G$40=$B$10,Avropsblankett!$C$40=$B$6,Avropsblankett!$D$40=$A$16),R16,0))))))","v":0},{"$f":"Avropsblankett!$F$40*IF(AND(Avropsblankett!$G$40=$C$10,Avropsblankett!$C$40=$B$6,Avropsblankett!$D$40=$A$11),S11,IF(AND(Avropsblankett!$G$40=$C$10,Avropsblankett!$C$40=$B$6,Avropsblankett!$D$40=$A$12),S12,IF(AND(Avropsblankett!$G$40=$C$10,Avropsblankett!$C$40=$B$6,Avropsblankett!$D$40=$A$13),S13,IF(AND(Avropsblankett!$G$40=$C$10,Avropsblankett!$C$40=$B$6,Avropsblankett!$D$40=$A$14),S14,IF(AND(Avropsblankett!$G$40=$C$10,Avropsblankett!$C$40=$B$6,Avropsblankett!$D$40=$A$15),S15,IF(AND(Avropsblankett!$G$40=$C$10,Avropsblankett!$C$40=$B$6,Avropsblankett!$D$40=$A$16),S16,0))))))","v":0},{"$f":"Avropsblankett!$F$40*IF(AND(Avropsblankett!$G$40=$D$10,Avropsblankett!$C$40=$B$6,Avropsblankett!$D$40=$A$11),T11,IF(AND(Avropsblankett!$G$40=$D$10,Avropsblankett!$C$40=$B$6,Avropsblankett!$D$40=$A$12),T12,IF(AND(Avropsblankett!$G$40=$D$10,Avropsblankett!$C$40=$B$6,Avropsblankett!$D$40=$A$13),T13,IF(AND(Avropsblankett!$G$40=$D$10,Avropsblankett!$C$40=$B$6,Avropsblankett!$D$40=$A$14),T14,IF(AND(Avropsblankett!$G$40=$D$10,Avropsblankett!$C$40=$B$6,Avropsblankett!$D$40=$A$15),T15,IF(AND(Avropsblankett!$G$40=$D$10,Avropsblankett!$C$40=$B$6,Avropsblankett!$D$40=$A$16),T16,0))))))","v":0},null,{"$f":"Avropsblankett!$F$40*IF(AND(Avropsblankett!$G$40=$B$10,Avropsblankett!$C$40=$B$6,Avropsblankett!$D$40=$A$11),V11,IF(AND(Avropsblankett!$G$40=$B$10,Avropsblankett!$C$40=$B$6,Avropsblankett!$D$40=$A$12),V12,IF(AND(Avropsblankett!$G$40=$B$10,Avropsblankett!$C$40=$B$6,Avropsblankett!$D$40=$A$13),V13,IF(AND(Avropsblankett!$G$40=$B$10,Avropsblankett!$C$40=$B$6,Avropsblankett!$D$40=$A$14),V14,IF(AND(Avropsblankett!$G$40=$B$10,Avropsblankett!$C$40=$B$6,Avropsblankett!$D$40=$A$15),V15,IF(AND(Avropsblankett!$G$40=$B$10,Avropsblankett!$C$40=$B$6,Avropsblankett!$D$40=$A$16),V16,0))))))","v":0},{"$f":"Avropsblankett!$F$40*IF(AND(Avropsblankett!$G$40=$C$10,Avropsblankett!$C$40=$B$6,Avropsblankett!$D$40=$A$11),W11,IF(AND(Avropsblankett!$G$40=$C$10,Avropsblankett!$C$40=$B$6,Avropsblankett!$D$40=$A$12),W12,IF(AND(Avropsblankett!$G$40=$C$10,Avropsblankett!$C$40=$B$6,Avropsblankett!$D$40=$A$13),W13,IF(AND(Avropsblankett!$G$40=$C$10,Avropsblankett!$C$40=$B$6,Avropsblankett!$D$40=$A$14),W14,IF(AND(Avropsblankett!$G$40=$C$10,Avropsblankett!$C$40=$B$6,Avropsblankett!$D$40=$A$15),W15,IF(AND(Avropsblankett!$G$40=$C$10,Avropsblankett!$C$40=$B$6,Avropsblankett!$D$40=$A$16),W16,0))))))","v":0},{"$f":"Avropsblankett!$F$40*IF(AND(Avropsblankett!$G$40=$D$10,Avropsblankett!$C$40=$B$6,Avropsblankett!$D$40=$A$11),X11,IF(AND(Avropsblankett!$G$40=$D$10,Avropsblankett!$C$40=$B$6,Avropsblankett!$D$40=$A$12),X12,IF(AND(Avropsblankett!$G$40=$D$10,Avropsblankett!$C$40=$B$6,Avropsblankett!$D$40=$A$13),X13,IF(AND(Avropsblankett!$G$40=$D$10,Avropsblankett!$C$40=$B$6,Avropsblankett!$D$40=$A$14),X14,IF(AND(Avropsblankett!$G$40=$D$10,Avropsblankett!$C$40=$B$6,Avropsblankett!$D$40=$A$15),X15,IF(AND(Avropsblankett!$G$40=$D$10,Avropsblankett!$C$40=$B$6,Avropsblankett!$D$40=$A$16),X16,0))))))","v":0},null,{"$f":"Avropsblankett!$F$40*IF(AND(Avropsblankett!$G$40=$B$10,Avropsblankett!$C$40=$B$6,Avropsblankett!$D$40=$A$11),Z11,IF(AND(Avropsblankett!$G$40=$B$10,Avropsblankett!$C$40=$B$6,Avropsblankett!$D$40=$A$12),Z12,IF(AND(Avropsblankett!$G$40=$B$10,Avropsblankett!$C$40=$B$6,Avropsblankett!$D$40=$A$13),Z13,IF(AND(Avropsblankett!$G$40=$B$10,Avropsblankett!$C$40=$B$6,Avropsblankett!$D$40=$A$14),Z14,IF(AND(Avropsblankett!$G$40=$B$10,Avropsblankett!$C$40=$B$6,Avropsblankett!$D$40=$A$15),Z15,IF(AND(Avropsblankett!$G$40=$B$10,Avropsblankett!$C$40=$B$6,Avropsblankett!$D$40=$A$16),Z16,0))))))","v":0},{"$f":"Avropsblankett!$F$40*IF(AND(Avropsblankett!$G$40=$C$10,Avropsblankett!$C$40=$B$6,Avropsblankett!$D$40=$A$11),AA11,IF(AND(Avropsblankett!$G$40=$C$10,Avropsblankett!$C$40=$B$6,Avropsblankett!$D$40=$A$12),AA12,IF(AND(Avropsblankett!$G$40=$C$10,Avropsblankett!$C$40=$B$6,Avropsblankett!$D$40=$A$13),AA13,IF(AND(Avropsblankett!$G$40=$C$10,Avropsblankett!$C$40=$B$6,Avropsblankett!$D$40=$A$14),AA14,IF(AND(Avropsblankett!$G$40=$C$10,Avropsblankett!$C$40=$B$6,Avropsblankett!$D$40=$A$15),AA15,IF(AND(Avropsblankett!$G$40=$C$10,Avropsblankett!$C$40=$B$6,Avropsblankett!$D$40=$A$16),AA16,0))))))","v":0},{"$f":"Avropsblankett!$F$40*IF(AND(Avropsblankett!$G$40=$D$10,Avropsblankett!$C$40=$B$6,Avropsblankett!$D$40=$A$11),AB11,IF(AND(Avropsblankett!$G$40=$D$10,Avropsblankett!$C$40=$B$6,Avropsblankett!$D$40=$A$12),AB12,IF(AND(Avropsblankett!$G$40=$D$10,Avropsblankett!$C$40=$B$6,Avropsblankett!$D$40=$A$13),AB13,IF(AND(Avropsblankett!$G$40=$D$10,Avropsblankett!$C$40=$B$6,Avropsblankett!$D$40=$A$14),AB14,IF(AND(Avropsblankett!$G$40=$D$10,Avropsblankett!$C$40=$B$6,Avropsblankett!$D$40=$A$15),AB15,IF(AND(Avropsblankett!$G$40=$D$10,Avropsblankett!$C$40=$B$6,Avropsblankett!$D$40=$A$16),AB16,0))))))","v":0},null,{"$f":"Avropsblankett!$F$40*IF(AND(Avropsblankett!$G$40=$B$10,Avropsblankett!$C$40=$B$6,Avropsblankett!$D$40=$A$11),AD11,IF(AND(Avropsblankett!$G$40=$B$10,Avropsblankett!$C$40=$B$6,Avropsblankett!$D$40=$A$12),AD12,IF(AND(Avropsblankett!$G$40=$B$10,Avropsblankett!$C$40=$B$6,Avropsblankett!$D$40=$A$13),AD13,IF(AND(Avropsblankett!$G$40=$B$10,Avropsblankett!$C$40=$B$6,Avropsblankett!$D$40=$A$14),AD14,IF(AND(Avropsblankett!$G$40=$B$10,Avropsblankett!$C$40=$B$6,Avropsblankett!$D$40=$A$15),AD15,IF(AND(Avropsblankett!$G$40=$B$10,Avropsblankett!$C$40=$B$6,Avropsblankett!$D$40=$A$16),AD16,0))))))","v":0},{"$f":"Avropsblankett!$F$40*IF(AND(Avropsblankett!$G$40=$C$10,Avropsblankett!$C$40=$B$6,Avropsblankett!$D$40=$A$11),AE11,IF(AND(Avropsblankett!$G$40=$C$10,Avropsblankett!$C$40=$B$6,Avropsblankett!$D$40=$A$12),AE12,IF(AND(Avropsblankett!$G$40=$C$10,Avropsblankett!$C$40=$B$6,Avropsblankett!$D$40=$A$13),AE13,IF(AND(Avropsblankett!$G$40=$C$10,Avropsblankett!$C$40=$B$6,Avropsblankett!$D$40=$A$14),AE14,IF(AND(Avropsblankett!$G$40=$C$10,Avropsblankett!$C$40=$B$6,Avropsblankett!$D$40=$A$15),AE15,IF(AND(Avropsblankett!$G$40=$C$10,Avropsblankett!$C$40=$B$6,Avropsblankett!$D$40=$A$16),AE16,0))))))","v":0},{"$f":"Avropsblankett!$F$40*IF(AND(Avropsblankett!$G$40=$D$10,Avropsblankett!$C$40=$B$6,Avropsblankett!$D$40=$A$11),AF11,IF(AND(Avropsblankett!$G$40=$D$10,Avropsblankett!$C$40=$B$6,Avropsblankett!$D$40=$A$12),AF12,IF(AND(Avropsblankett!$G$40=$D$10,Avropsblankett!$C$40=$B$6,Avropsblankett!$D$40=$A$13),AF13,IF(AND(Avropsblankett!$G$40=$D$10,Avropsblankett!$C$40=$B$6,Avropsblankett!$D$40=$A$14),AF14,IF(AND(Avropsblankett!$G$40=$D$10,Avropsblankett!$C$40=$B$6,Avropsblankett!$D$40=$A$15),AF15,IF(AND(Avropsblankett!$G$40=$D$10,Avropsblankett!$C$40=$B$6,Avropsblankett!$D$40=$A$16),AF16,0))))))","v":0},null,{"$f":"Avropsblankett!$F$40*IF(AND(Avropsblankett!$G$40=$B$10,Avropsblankett!$C$40=$B$6,Avropsblankett!$D$40=$A$11),AH11,IF(AND(Avropsblankett!$G$40=$B$10,Avropsblankett!$C$40=$B$6,Avropsblankett!$D$40=$A$12),AH12,IF(AND(Avropsblankett!$G$40=$B$10,Avropsblankett!$C$40=$B$6,Avropsblankett!$D$40=$A$13),AH13,IF(AND(Avropsblankett!$G$40=$B$10,Avropsblankett!$C$40=$B$6,Avropsblankett!$D$40=$A$14),AH14,IF(AND(Avropsblankett!$G$40=$B$10,Avropsblankett!$C$40=$B$6,Avropsblankett!$D$40=$A$15),AH15,IF(AND(Avropsblankett!$G$40=$B$10,Avropsblankett!$C$40=$B$6,Avropsblankett!$D$40=$A$16),AH16,0))))))","v":0},{"$f":"Avropsblankett!$F$40*IF(AND(Avropsblankett!$G$40=$C$10,Avropsblankett!$C$40=$B$6,Avropsblankett!$D$40=$A$11),AI11,IF(AND(Avropsblankett!$G$40=$C$10,Avropsblankett!$C$40=$B$6,Avropsblankett!$D$40=$A$12),AI12,IF(AND(Avropsblankett!$G$40=$C$10,Avropsblankett!$C$40=$B$6,Avropsblankett!$D$40=$A$13),AI13,IF(AND(Avropsblankett!$G$40=$C$10,Avropsblankett!$C$40=$B$6,Avropsblankett!$D$40=$A$14),AI14,IF(AND(Avropsblankett!$G$40=$C$10,Avropsblankett!$C$40=$B$6,Avropsblankett!$D$40=$A$15),AI15,IF(AND(Avropsblankett!$G$40=$C$10,Avropsblankett!$C$40=$B$6,Avropsblankett!$D$40=$A$16),AI16,0))))))","v":0},{"$f":"Avropsblankett!$F$40*IF(AND(Avropsblankett!$G$40=$D$10,Avropsblankett!$C$40=$B$6,Avropsblankett!$D$40=$A$11),AJ11,IF(AND(Avropsblankett!$G$40=$D$10,Avropsblankett!$C$40=$B$6,Avropsblankett!$D$40=$A$12),AJ12,IF(AND(Avropsblankett!$G$40=$D$10,Avropsblankett!$C$40=$B$6,Avropsblankett!$D$40=$A$13),AJ13,IF(AND(Avropsblankett!$G$40=$D$10,Avropsblankett!$C$40=$B$6,Avropsblankett!$D$40=$A$14),AJ14,IF(AND(Avropsblankett!$G$40=$D$10,Avropsblankett!$C$40=$B$6,Avropsblankett!$D$40=$A$15),AJ15,IF(AND(Avropsblankett!$G$40=$D$10,Avropsblankett!$C$40=$B$6,Avropsblankett!$D$40=$A$16),AJ16,0))))))","v":0},null,{"$f":"Avropsblankett!$F$40*IF(AND(Avropsblankett!$G$40=$B$10,Avropsblankett!$C$40=$B$6,Avropsblankett!$D$40=$A$11),AL11,IF(AND(Avropsblankett!$G$40=$B$10,Avropsblankett!$C$40=$B$6,Avropsblankett!$D$40=$A$12),AL12,IF(AND(Avropsblankett!$G$40=$B$10,Avropsblankett!$C$40=$B$6,Avropsblankett!$D$40=$A$13),AL13,IF(AND(Avropsblankett!$G$40=$B$10,Avropsblankett!$C$40=$B$6,Avropsblankett!$D$40=$A$14),AL14,IF(AND(Avropsblankett!$G$40=$B$10,Avropsblankett!$C$40=$B$6,Avropsblankett!$D$40=$A$15),AL15,IF(AND(Avropsblankett!$G$40=$B$10,Avropsblankett!$C$40=$B$6,Avropsblankett!$D$40=$A$16),AL16,0))))))","v":0},{"$f":"Avropsblankett!$F$40*IF(AND(Avropsblankett!$G$40=$C$10,Avropsblankett!$C$40=$B$6,Avropsblankett!$D$40=$A$11),AM11,IF(AND(Avropsblankett!$G$40=$C$10,Avropsblankett!$C$40=$B$6,Avropsblankett!$D$40=$A$12),AM12,IF(AND(Avropsblankett!$G$40=$C$10,Avropsblankett!$C$40=$B$6,Avropsblankett!$D$40=$A$13),AM13,IF(AND(Avropsblankett!$G$40=$C$10,Avropsblankett!$C$40=$B$6,Avropsblankett!$D$40=$A$14),AM14,IF(AND(Avropsblankett!$G$40=$C$10,Avropsblankett!$C$40=$B$6,Avropsblankett!$D$40=$A$15),AM15,IF(AND(Avropsblankett!$G$40=$C$10,Avropsblankett!$C$40=$B$6,Avropsblankett!$D$40=$A$16),AM16,0))))))","v":0},{"$f":"Avropsblankett!$F$40*IF(AND(Avropsblankett!$G$40=$D$10,Avropsblankett!$C$40=$B$6,Avropsblankett!$D$40=$A$11),AN11,IF(AND(Avropsblankett!$G$40=$D$10,Avropsblankett!$C$40=$B$6,Avropsblankett!$D$40=$A$12),AN12,IF(AND(Avropsblankett!$G$40=$D$10,Avropsblankett!$C$40=$B$6,Avropsblankett!$D$40=$A$13),AN13,IF(AND(Avropsblankett!$G$40=$D$10,Avropsblankett!$C$40=$B$6,Avropsblankett!$D$40=$A$14),AN14,IF(AND(Avropsblankett!$G$40=$D$10,Avropsblankett!$C$40=$B$6,Avropsblankett!$D$40=$A$15),AN15,IF(AND(Avropsblankett!$G$40=$D$10,Avropsblankett!$C$40=$B$6,Avropsblankett!$D$40=$A$16),AN16,0))))))","v":0}]
[null,{"$f":"Avropsblankett!$F$52*IF(AND(Avropsblankett!$G$52=$B$10,Avropsblankett!$C$52=$B$6,Avropsblankett!$D$52=$A$11),B11,IF(AND(Avropsblankett!$G$52=$B$10,Avropsblankett!$C$52=$B$6,Avropsblankett!$D$52=$A$12),B12,IF(AND(Avropsblankett!$G$52=$B$10,Avropsblankett!$C$52=$B$6,Avropsblankett!$D$52=$A$13),B13,IF(AND(Avropsblankett!$G$52=$B$10,Avropsblankett!$C$52=$B$6,Avropsblankett!$D$52=$A$14),B14,IF(AND(Avropsblankett!$G$52=$B$10,Avropsblankett!$C$52=$B$6,Avropsblankett!$D$52=$A$15),B15,IF(AND(Avropsblankett!$G$52=$B$10,Avropsblankett!$C$52=$B$6,Avropsblankett!$D$52=$A$16),B16,0))))))","v":0},{"$f":"Avropsblankett!$F$52*IF(AND(Avropsblankett!$G$52=$C$10,Avropsblankett!$C$52=$B$6,Avropsblankett!$D$52=$A$11),C11,IF(AND(Avropsblankett!$G$52=$C$10,Avropsblankett!$C$52=$B$6,Avropsblankett!$D$52=$A$12),C12,IF(AND(Avropsblankett!$G$52=$C$10,Avropsblankett!$C$52=$B$6,Avropsblankett!$D$52=$A$13),C13,IF(AND(Avropsblankett!$G$52=$C$10,Avropsblankett!$C$52=$B$6,Avropsblankett!$D$52=$A$14),C14,IF(AND(Avropsblankett!$G$52=$C$10,Avropsblankett!$C$52=$B$6,Avropsblankett!$D$52=$A$15),C15,IF(AND(Avropsblankett!$G$52=$C$10,Avropsblankett!$C$52=$B$6,Avropsblankett!$D$52=$A$16),C16,0))))))","v":0},{"$f":"Avropsblankett!$F$52*IF(AND(Avropsblankett!$G$52=$D$10,Avropsblankett!$C$52=$B$6,Avropsblankett!$D$52=$A$11),D11,IF(AND(Avropsblankett!$G$52=$D$10,Avropsblankett!$C$52=$B$6,Avropsblankett!$D$52=$A$12),D12,IF(AND(Avropsblankett!$G$52=$D$10,Avropsblankett!$C$52=$B$6,Avropsblankett!$D$52=$A$13),D13,IF(AND(Avropsblankett!$G$52=$D$10,Avropsblankett!$C$52=$B$6,Avropsblankett!$D$52=$A$14),D14,IF(AND(Avropsblankett!$G$52=$D$10,Avropsblankett!$C$52=$B$6,Avropsblankett!$D$52=$A$15),D15,IF(AND(Avropsblankett!$G$52=$D$10,Avropsblankett!$C$52=$B$6,Avropsblankett!$D$52=$A$16),D16,0))))))","v":0},null,{"$f":"Avropsblankett!$F$52*IF(AND(Avropsblankett!$G$52=$B$10,Avropsblankett!$C$52=$B$6,Avropsblankett!$D$52=$A$11),F11,IF(AND(Avropsblankett!$G$52=$B$10,Avropsblankett!$C$52=$B$6,Avropsblankett!$D$52=$A$12),F12,IF(AND(Avropsblankett!$G$52=$B$10,Avropsblankett!$C$52=$B$6,Avropsblankett!$D$52=$A$13),F13,IF(AND(Avropsblankett!$G$52=$B$10,Avropsblankett!$C$52=$B$6,Avropsblankett!$D$52=$A$14),F14,IF(AND(Avropsblankett!$G$52=$B$10,Avropsblankett!$C$52=$B$6,Avropsblankett!$D$52=$A$15),F15,IF(AND(Avropsblankett!$G$52=$B$10,Avropsblankett!$C$52=$B$6,Avropsblankett!$D$52=$A$16),F16,0))))))","v":0},{"$f":"Avropsblankett!$F$52*IF(AND(Avropsblankett!$G$52=$C$10,Avropsblankett!$C$52=$B$6,Avropsblankett!$D$52=$A$11),G11,IF(AND(Avropsblankett!$G$52=$C$10,Avropsblankett!$C$52=$B$6,Avropsblankett!$D$52=$A$12),G12,IF(AND(Avropsblankett!$G$52=$C$10,Avropsblankett!$C$52=$B$6,Avropsblankett!$D$52=$A$13),G13,IF(AND(Avropsblankett!$G$52=$C$10,Avropsblankett!$C$52=$B$6,Avropsblankett!$D$52=$A$14),G14,IF(AND(Avropsblankett!$G$52=$C$10,Avropsblankett!$C$52=$B$6,Avropsblankett!$D$52=$A$15),G15,IF(AND(Avropsblankett!$G$52=$C$10,Avropsblankett!$C$52=$B$6,Avropsblankett!$D$52=$A$16),G16,0))))))","v":0},{"$f":"Avropsblankett!$F$52*IF(AND(Avropsblankett!$G$52=$D$10,Avropsblankett!$C$52=$B$6,Avropsblankett!$D$52=$A$11),H11,IF(AND(Avropsblankett!$G$52=$D$10,Avropsblankett!$C$52=$B$6,Avropsblankett!$D$52=$A$12),H12,IF(AND(Avropsblankett!$G$52=$D$10,Avropsblankett!$C$52=$B$6,Avropsblankett!$D$52=$A$13),H13,IF(AND(Avropsblankett!$G$52=$D$10,Avropsblankett!$C$52=$B$6,Avropsblankett!$D$52=$A$14),H14,IF(AND(Avropsblankett!$G$52=$D$10,Avropsblankett!$C$52=$B$6,Avropsblankett!$D$52=$A$15),H15,IF(AND(Avropsblankett!$G$52=$D$10,Avropsblankett!$C$52=$B$6,Avropsblankett!$D$52=$A$16),H16,0))))))","v":0},null,{"$f":"Avropsblankett!$F$52*IF(AND(Avropsblankett!$G$52=$B$10,Avropsblankett!$C$52=$B$6,Avropsblankett!$D$52=$A$11),J11,IF(AND(Avropsblankett!$G$52=$B$10,Avropsblankett!$C$52=$B$6,Avropsblankett!$D$52=$A$12),J12,IF(AND(Avropsblankett!$G$52=$B$10,Avropsblankett!$C$52=$B$6,Avropsblankett!$D$52=$A$13),J13,IF(AND(Avropsblankett!$G$52=$B$10,Avropsblankett!$C$52=$B$6,Avropsblankett!$D$52=$A$14),J14,IF(AND(Avropsblankett!$G$52=$B$10,Avropsblankett!$C$52=$B$6,Avropsblankett!$D$52=$A$15),J15,IF(AND(Avropsblankett!$G$52=$B$10,Avropsblankett!$C$52=$B$6,Avropsblankett!$D$52=$A$16),J16,0))))))","v":0},{"$f":"Avropsblankett!$F$52*IF(AND(Avropsblankett!$G$52=$C$10,Avropsblankett!$C$52=$B$6,Avropsblankett!$D$52=$A$11),K11,IF(AND(Avropsblankett!$G$52=$C$10,Avropsblankett!$C$52=$B$6,Avropsblankett!$D$52=$A$12),K12,IF(AND(Avropsblankett!$G$52=$C$10,Avropsblankett!$C$52=$B$6,Avropsblankett!$D$52=$A$13),K13,IF(AND(Avropsblankett!$G$52=$C$10,Avropsblankett!$C$52=$B$6,Avropsblankett!$D$52=$A$14),K14,IF(AND(Avropsblankett!$G$52=$C$10,Avropsblankett!$C$52=$B$6,Avropsblankett!$D$52=$A$15),K15,IF(AND(Avropsblankett!$G$52=$C$10,Avropsblankett!$C$52=$B$6,Avropsblankett!$D$52=$A$16),K16,0))))))","v":0},{"$f":"Avropsblankett!$F$52*IF(AND(Avropsblankett!$G$52=$D$10,Avropsblankett!$C$52=$B$6,Avropsblankett!$D$52=$A$11),L11,IF(AND(Avropsblankett!$G$52=$D$10,Avropsblankett!$C$52=$B$6,Avropsblankett!$D$52=$A$12),L12,IF(AND(Avropsblankett!$G$52=$D$10,Avropsblankett!$C$52=$B$6,Avropsblankett!$D$52=$A$13),L13,IF(AND(Avropsblankett!$G$52=$D$10,Avropsblankett!$C$52=$B$6,Avropsblankett!$D$52=$A$14),L14,IF(AND(Avropsblankett!$G$52=$D$10,Avropsblankett!$C$52=$B$6,Avropsblankett!$D$52=$A$15),L15,IF(AND(Avropsblankett!$G$52=$D$10,Avropsblankett!$C$52=$B$6,Avropsblankett!$D$52=$A$16),L16,0))))))","v":0},null,{"$f":"Avropsblankett!$F$52*IF(AND(Avropsblankett!$G$52=$B$10,Avropsblankett!$C$52=$B$6,Avropsblankett!$D$52=$A$11),N11,IF(AND(Avropsblankett!$G$52=$B$10,Avropsblankett!$C$52=$B$6,Avropsblankett!$D$52=$A$12),N12,IF(AND(Avropsblankett!$G$52=$B$10,Avropsblankett!$C$52=$B$6,Avropsblankett!$D$52=$A$13),N13,IF(AND(Avropsblankett!$G$52=$B$10,Avropsblankett!$C$52=$B$6,Avropsblankett!$D$52=$A$14),N14,IF(AND(Avropsblankett!$G$52=$B$10,Avropsblankett!$C$52=$B$6,Avropsblankett!$D$52=$A$15),N15,IF(AND(Avropsblankett!$G$52=$B$10,Avropsblankett!$C$52=$B$6,Avropsblankett!$D$52=$A$16),N16,0))))))","v":0},{"$f":"Avropsblankett!$F$52*IF(AND(Avropsblankett!$G$52=$C$10,Avropsblankett!$C$52=$B$6,Avropsblankett!$D$52=$A$11),O11,IF(AND(Avropsblankett!$G$52=$C$10,Avropsblankett!$C$52=$B$6,Avropsblankett!$D$52=$A$12),O12,IF(AND(Avropsblankett!$G$52=$C$10,Avropsblankett!$C$52=$B$6,Avropsblankett!$D$52=$A$13),O13,IF(AND(Avropsblankett!$G$52=$C$10,Avropsblankett!$C$52=$B$6,Avropsblankett!$D$52=$A$14),O14,IF(AND(Avropsblankett!$G$52=$C$10,Avropsblankett!$C$52=$B$6,Avropsblankett!$D$52=$A$15),O15,IF(AND(Avropsblankett!$G$52=$C$10,Avropsblankett!$C$52=$B$6,Avropsblankett!$D$52=$A$16),O16,0))))))","v":0},{"$f":"Avropsblankett!$F$52*IF(AND(Avropsblankett!$G$52=$D$10,Avropsblankett!$C$52=$B$6,Avropsblankett!$D$52=$A$11),P11,IF(AND(Avropsblankett!$G$52=$D$10,Avropsblankett!$C$52=$B$6,Avropsblankett!$D$52=$A$12),P12,IF(AND(Avropsblankett!$G$52=$D$10,Avropsblankett!$C$52=$B$6,Avropsblankett!$D$52=$A$13),P13,IF(AND(Avropsblankett!$G$52=$D$10,Avropsblankett!$C$52=$B$6,Avropsblankett!$D$52=$A$14),P14,IF(AND(Avropsblankett!$G$52=$D$10,Avropsblankett!$C$52=$B$6,Avropsblankett!$D$52=$A$15),P15,IF(AND(Avropsblankett!$G$52=$D$10,Avropsblankett!$C$52=$B$6,Avropsblankett!$D$52=$A$16),P16,0))))))","v":0},null,{"$f":"Avropsblankett!$F$52*IF(AND(Avropsblankett!$G$52=$B$10,Avropsblankett!$C$52=$B$6,Avropsblankett!$D$52=$A$11),R11,IF(AND(Avropsblankett!$G$52=$B$10,Avropsblankett!$C$52=$B$6,Avropsblankett!$D$52=$A$12),R12,IF(AND(Avropsblankett!$G$52=$B$10,Avropsblankett!$C$52=$B$6,Avropsblankett!$D$52=$A$13),R13,IF(AND(Avropsblankett!$G$52=$B$10,Avropsblankett!$C$52=$B$6,Avropsblankett!$D$52=$A$14),R14,IF(AND(Avropsblankett!$G$52=$B$10,Avropsblankett!$C$52=$B$6,Avropsblankett!$D$52=$A$15),R15,IF(AND(Avropsblankett!$G$52=$B$10,Avropsblankett!$C$52=$B$6,Avropsblankett!$D$52=$A$16),R16,0))))))","v":0},{"$f":"Avropsblankett!$F$52*IF(AND(Avropsblankett!$G$52=$C$10,Avropsblankett!$C$52=$B$6,Avropsblankett!$D$52=$A$11),S11,IF(AND(Avropsblankett!$G$52=$C$10,Avropsblankett!$C$52=$B$6,Avropsblankett!$D$52=$A$12),S12,IF(AND(Avropsblankett!$G$52=$C$10,Avropsblankett!$C$52=$B$6,Avropsblankett!$D$52=$A$13),S13,IF(AND(Avropsblankett!$G$52=$C$10,Avropsblankett!$C$52=$B$6,Avropsblankett!$D$52=$A$14),S14,IF(AND(Avropsblankett!$G$52=$C$10,Avropsblankett!$C$52=$B$6,Avropsblankett!$D$52=$A$15),S15,IF(AND(Avropsblankett!$G$52=$C$10,Avropsblankett!$C$52=$B$6,Avropsblankett!$D$52=$A$16),S16,0))))))","v":0},{"$f":"Avropsblankett!$F$52*IF(AND(Avropsblankett!$G$52=$D$10,Avropsblankett!$C$52=$B$6,Avropsblankett!$D$52=$A$11),T11,IF(AND(Avropsblankett!$G$52=$D$10,Avropsblankett!$C$52=$B$6,Avropsblankett!$D$52=$A$12),T12,IF(AND(Avropsblankett!$G$52=$D$10,Avropsblankett!$C$52=$B$6,Avropsblankett!$D$52=$A$13),T13,IF(AND(Avropsblankett!$G$52=$D$10,Avropsblankett!$C$52=$B$6,Avropsblankett!$D$52=$A$14),T14,IF(AND(Avropsblankett!$G$52=$D$10,Avropsblankett!$C$52=$B$6,Avropsblankett!$D$52=$A$15),T15,IF(AND(Avropsblankett!$G$52=$D$10,Avropsblankett!$C$52=$B$6,Avropsblankett!$D$52=$A$16),T16,0))))))","v":0},null,{"$f":"Avropsblankett!$F$52*IF(AND(Avropsblankett!$G$52=$B$10,Avropsblankett!$C$52=$B$6,Avropsblankett!$D$52=$A$11),V11,IF(AND(Avropsblankett!$G$52=$B$10,Avropsblankett!$C$52=$B$6,Avropsblankett!$D$52=$A$12),V12,IF(AND(Avropsblankett!$G$52=$B$10,Avropsblankett!$C$52=$B$6,Avropsblankett!$D$52=$A$13),V13,IF(AND(Avropsblankett!$G$52=$B$10,Avropsblankett!$C$52=$B$6,Avropsblankett!$D$52=$A$14),V14,IF(AND(Avropsblankett!$G$52=$B$10,Avropsblankett!$C$52=$B$6,Avropsblankett!$D$52=$A$15),V15,IF(AND(Avropsblankett!$G$52=$B$10,Avropsblankett!$C$52=$B$6,Avropsblankett!$D$52=$A$16),V16,0))))))","v":0},{"$f":"Avropsblankett!$F$52*IF(AND(Avropsblankett!$G$52=$C$10,Avropsblankett!$C$52=$B$6,Avropsblankett!$D$52=$A$11),W11,IF(AND(Avropsblankett!$G$52=$C$10,Avropsblankett!$C$52=$B$6,Avropsblankett!$D$52=$A$12),W12,IF(AND(Avropsblankett!$G$52=$C$10,Avropsblankett!$C$52=$B$6,Avropsblankett!$D$52=$A$13),W13,IF(AND(Avropsblankett!$G$52=$C$10,Avropsblankett!$C$52=$B$6,Avropsblankett!$D$52=$A$14),W14,IF(AND(Avropsblankett!$G$52=$C$10,Avropsblankett!$C$52=$B$6,Avropsblankett!$D$52=$A$15),W15,IF(AND(Avropsblankett!$G$52=$C$10,Avropsblankett!$C$52=$B$6,Avropsblankett!$D$52=$A$16),W16,0))))))","v":0},{"$f":"Avropsblankett!$F$52*IF(AND(Avropsblankett!$G$52=$D$10,Avropsblankett!$C$52=$B$6,Avropsblankett!$D$52=$A$11),X11,IF(AND(Avropsblankett!$G$52=$D$10,Avropsblankett!$C$52=$B$6,Avropsblankett!$D$52=$A$12),X12,IF(AND(Avropsblankett!$G$52=$D$10,Avropsblankett!$C$52=$B$6,Avropsblankett!$D$52=$A$13),X13,IF(AND(Avropsblankett!$G$52=$D$10,Avropsblankett!$C$52=$B$6,Avropsblankett!$D$52=$A$14),X14,IF(AND(Avropsblankett!$G$52=$D$10,Avropsblankett!$C$52=$B$6,Avropsblankett!$D$52=$A$15),X15,IF(AND(Avropsblankett!$G$52=$D$10,Avropsblankett!$C$52=$B$6,Avropsblankett!$D$52=$A$16),X16,0))))))","v":0},null,{"$f":"Avropsblankett!$F$52*IF(AND(Avropsblankett!$G$52=$B$10,Avropsblankett!$C$52=$B$6,Avropsblankett!$D$52=$A$11),Z11,IF(AND(Avropsblankett!$G$52=$B$10,Avropsblankett!$C$52=$B$6,Avropsblankett!$D$52=$A$12),Z12,IF(AND(Avropsblankett!$G$52=$B$10,Avropsblankett!$C$52=$B$6,Avropsblankett!$D$52=$A$13),Z13,IF(AND(Avropsblankett!$G$52=$B$10,Avropsblankett!$C$52=$B$6,Avropsblankett!$D$52=$A$14),Z14,IF(AND(Avropsblankett!$G$52=$B$10,Avropsblankett!$C$52=$B$6,Avropsblankett!$D$52=$A$15),Z15,IF(AND(Avropsblankett!$G$52=$B$10,Avropsblankett!$C$52=$B$6,Avropsblankett!$D$52=$A$16),Z16,0))))))","v":0},{"$f":"Avropsblankett!$F$52*IF(AND(Avropsblankett!$G$52=$C$10,Avropsblankett!$C$52=$B$6,Avropsblankett!$D$52=$A$11),AA11,IF(AND(Avropsblankett!$G$52=$C$10,Avropsblankett!$C$52=$B$6,Avropsblankett!$D$52=$A$12),AA12,IF(AND(Avropsblankett!$G$52=$C$10,Avropsblankett!$C$52=$B$6,Avropsblankett!$D$52=$A$13),AA13,IF(AND(Avropsblankett!$G$52=$C$10,Avropsblankett!$C$52=$B$6,Avropsblankett!$D$52=$A$14),AA14,IF(AND(Avropsblankett!$G$52=$C$10,Avropsblankett!$C$52=$B$6,Avropsblankett!$D$52=$A$15),AA15,IF(AND(Avropsblankett!$G$52=$C$10,Avropsblankett!$C$52=$B$6,Avropsblankett!$D$52=$A$16),AA16,0))))))","v":0},{"$f":"Avropsblankett!$F$52*IF(AND(Avropsblankett!$G$52=$D$10,Avropsblankett!$C$52=$B$6,Avropsblankett!$D$52=$A$11),AB11,IF(AND(Avropsblankett!$G$52=$D$10,Avropsblankett!$C$52=$B$6,Avropsblankett!$D$52=$A$12),AB12,IF(AND(Avropsblankett!$G$52=$D$10,Avropsblankett!$C$52=$B$6,Avropsblankett!$D$52=$A$13),AB13,IF(AND(Avropsblankett!$G$52=$D$10,Avropsblankett!$C$52=$B$6,Avropsblankett!$D$52=$A$14),AB14,IF(AND(Avropsblankett!$G$52=$D$10,Avropsblankett!$C$52=$B$6,Avropsblankett!$D$52=$A$15),AB15,IF(AND(Avropsblankett!$G$52=$D$10,Avropsblankett!$C$52=$B$6,Avropsblankett!$D$52=$A$16),AB16,0))))))","v":0},null,{"$f":"Avropsblankett!$F$52*IF(AND(Avropsblankett!$G$52=$B$10,Avropsblankett!$C$52=$B$6,Avropsblankett!$D$52=$A$11),AD11,IF(AND(Avropsblankett!$G$52=$B$10,Avropsblankett!$C$52=$B$6,Avropsblankett!$D$52=$A$12),AD12,IF(AND(Avropsblankett!$G$52=$B$10,Avropsblankett!$C$52=$B$6,Avropsblankett!$D$52=$A$13),AD13,IF(AND(Avropsblankett!$G$52=$B$10,Avropsblankett!$C$52=$B$6,Avropsblankett!$D$52=$A$14),AD14,IF(AND(Avropsblankett!$G$52=$B$10,Avropsblankett!$C$52=$B$6,Avropsblankett!$D$52=$A$15),AD15,IF(AND(Avropsblankett!$G$52=$B$10,Avropsblankett!$C$52=$B$6,Avropsblankett!$D$52=$A$16),AD16,0))))))","v":0},{"$f":"Avropsblankett!$F$52*IF(AND(Avropsblankett!$G$52=$C$10,Avropsblankett!$C$52=$B$6,Avropsblankett!$D$52=$A$11),AE11,IF(AND(Avropsblankett!$G$52=$C$10,Avropsblankett!$C$52=$B$6,Avropsblankett!$D$52=$A$12),AE12,IF(AND(Avropsblankett!$G$52=$C$10,Avropsblankett!$C$52=$B$6,Avropsblankett!$D$52=$A$13),AE13,IF(AND(Avropsblankett!$G$52=$C$10,Avropsblankett!$C$52=$B$6,Avropsblankett!$D$52=$A$14),AE14,IF(AND(Avropsblankett!$G$52=$C$10,Avropsblankett!$C$52=$B$6,Avropsblankett!$D$52=$A$15),AE15,IF(AND(Avropsblankett!$G$52=$C$10,Avropsblankett!$C$52=$B$6,Avropsblankett!$D$52=$A$16),AE16,0))))))","v":0},{"$f":"Avropsblankett!$F$52*IF(AND(Avropsblankett!$G$52=$D$10,Avropsblankett!$C$52=$B$6,Avropsblankett!$D$52=$A$11),AF11,IF(AND(Avropsblankett!$G$52=$D$10,Avropsblankett!$C$52=$B$6,Avropsblankett!$D$52=$A$12),AF12,IF(AND(Avropsblankett!$G$52=$D$10,Avropsblankett!$C$52=$B$6,Avropsblankett!$D$52=$A$13),AF13,IF(AND(Avropsblankett!$G$52=$D$10,Avropsblankett!$C$52=$B$6,Avropsblankett!$D$52=$A$14),AF14,IF(AND(Avropsblankett!$G$52=$D$10,Avropsblankett!$C$52=$B$6,Avropsblankett!$D$52=$A$15),AF15,IF(AND(Avropsblankett!$G$52=$D$10,Avropsblankett!$C$52=$B$6,Avropsblankett!$D$52=$A$16),AF16,0))))))","v":0},null,{"$f":"Avropsblankett!$F$52*IF(AND(Avropsblankett!$G$52=$B$10,Avropsblankett!$C$52=$B$6,Avropsblankett!$D$52=$A$11),AH11,IF(AND(Avropsblankett!$G$52=$B$10,Avropsblankett!$C$52=$B$6,Avropsblankett!$D$52=$A$12),AH12,IF(AND(Avropsblankett!$G$52=$B$10,Avropsblankett!$C$52=$B$6,Avropsblankett!$D$52=$A$13),AH13,IF(AND(Avropsblankett!$G$52=$B$10,Avropsblankett!$C$52=$B$6,Avropsblankett!$D$52=$A$14),AH14,IF(AND(Avropsblankett!$G$52=$B$10,Avropsblankett!$C$52=$B$6,Avropsblankett!$D$52=$A$15),AH15,IF(AND(Avropsblankett!$G$52=$B$10,Avropsblankett!$C$52=$B$6,Avropsblankett!$D$52=$A$16),AH16,0))))))","v":0},{"$f":"Avropsblankett!$F$52*IF(AND(Avropsblankett!$G$52=$C$10,Avropsblankett!$C$52=$B$6,Avropsblankett!$D$52=$A$11),AI11,IF(AND(Avropsblankett!$G$52=$C$10,Avropsblankett!$C$52=$B$6,Avropsblankett!$D$52=$A$12),AI12,IF(AND(Avropsblankett!$G$52=$C$10,Avropsblankett!$C$52=$B$6,Avropsblankett!$D$52=$A$13),AI13,IF(AND(Avropsblankett!$G$52=$C$10,Avropsblankett!$C$52=$B$6,Avropsblankett!$D$52=$A$14),AI14,IF(AND(Avropsblankett!$G$52=$C$10,Avropsblankett!$C$52=$B$6,Avropsblankett!$D$52=$A$15),AI15,IF(AND(Avropsblankett!$G$52=$C$10,Avropsblankett!$C$52=$B$6,Avropsblankett!$D$52=$A$16),AI16,0))))))","v":0},{"$f":"Avropsblankett!$F$52*IF(AND(Avropsblankett!$G$52=$D$10,Avropsblankett!$C$52=$B$6,Avropsblankett!$D$52=$A$11),AJ11,IF(AND(Avropsblankett!$G$52=$D$10,Avropsblankett!$C$52=$B$6,Avropsblankett!$D$52=$A$12),AJ12,IF(AND(Avropsblankett!$G$52=$D$10,Avropsblankett!$C$52=$B$6,Avropsblankett!$D$52=$A$13),AJ13,IF(AND(Avropsblankett!$G$52=$D$10,Avropsblankett!$C$52=$B$6,Avropsblankett!$D$52=$A$14),AJ14,IF(AND(Avropsblankett!$G$52=$D$10,Avropsblankett!$C$52=$B$6,Avropsblankett!$D$52=$A$15),AJ15,IF(AND(Avropsblankett!$G$52=$D$10,Avropsblankett!$C$52=$B$6,Avropsblankett!$D$52=$A$16),AJ16,0))))))","v":0},null,{"$f":"Avropsblankett!$F$52*IF(AND(Avropsblankett!$G$52=$B$10,Avropsblankett!$C$52=$B$6,Avropsblankett!$D$52=$A$11),AL11,IF(AND(Avropsblankett!$G$52=$B$10,Avropsblankett!$C$52=$B$6,Avropsblankett!$D$52=$A$12),AL12,IF(AND(Avropsblankett!$G$52=$B$10,Avropsblankett!$C$52=$B$6,Avropsblankett!$D$52=$A$13),AL13,IF(AND(Avropsblankett!$G$52=$B$10,Avropsblankett!$C$52=$B$6,Avropsblankett!$D$52=$A$14),AL14,IF(AND(Avropsblankett!$G$52=$B$10,Avropsblankett!$C$52=$B$6,Avropsblankett!$D$52=$A$15),AL15,IF(AND(Avropsblankett!$G$52=$B$10,Avropsblankett!$C$52=$B$6,Avropsblankett!$D$52=$A$16),AL16,0))))))","v":0},{"$f":"Avropsblankett!$F$52*IF(AND(Avropsblankett!$G$52=$C$10,Avropsblankett!$C$52=$B$6,Avropsblankett!$D$52=$A$11),AM11,IF(AND(Avropsblankett!$G$52=$C$10,Avropsblankett!$C$52=$B$6,Avropsblankett!$D$52=$A$12),AM12,IF(AND(Avropsblankett!$G$52=$C$10,Avropsblankett!$C$52=$B$6,Avropsblankett!$D$52=$A$13),AM13,IF(AND(Avropsblankett!$G$52=$C$10,Avropsblankett!$C$52=$B$6,Avropsblankett!$D$52=$A$14),AM14,IF(AND(Avropsblankett!$G$52=$C$10,Avropsblankett!$C$52=$B$6,Avropsblankett!$D$52=$A$15),AM15,IF(AND(Avropsblankett!$G$52=$C$10,Avropsblankett!$C$52=$B$6,Avropsblankett!$D$52=$A$16),AM16,0))))))","v":0},{"$f":"Avropsblankett!$F$52*IF(AND(Avropsblankett!$G$52=$D$10,Avropsblankett!$C$52=$B$6,Avropsblankett!$D$52=$A$11),AN11,IF(AND(Avropsblankett!$G$52=$D$10,Avropsblankett!$C$52=$B$6,Avropsblankett!$D$52=$A$12),AN12,IF(AND(Avropsblankett!$G$52=$D$10,Avropsblankett!$C$52=$B$6,Avropsblankett!$D$52=$A$13),AN13,IF(AND(Avropsblankett!$G$52=$D$10,Avropsblankett!$C$52=$B$6,Avropsblankett!$D$52=$A$14),AN14,IF(AND(Avropsblankett!$G$52=$D$10,Avropsblankett!$C$52=$B$6,Avropsblankett!$D$52=$A$15),AN15,IF(AND(Avropsblankett!$G$52=$D$10,Avropsblankett!$C$52=$B$6,Avropsblankett!$D$52=$A$16),AN16,0))))))","v":0}]
[null,{"$f":"Avropsblankett!$H$64*IF(AND(Avropsblankett!$G$64=$B$10,Avropsblankett!$C$64=$B$6,Avropsblankett!$D$64=$A$11),B11,IF(AND(Avropsblankett!$G$64=$B$10,Avropsblankett!$C$64=$B$6,Avropsblankett!$D$64=$A$12),B12,IF(AND(Avropsblankett!$G$64=$B$10,Avropsblankett!$C$64=$B$6,Avropsblankett!$D$64=$A$13),B13,IF(AND(Avropsblankett!$G$64=$B$10,Avropsblankett!$C$64=$B$6,Avropsblankett!$D$64=$A$14),B14,IF(AND(Avropsblankett!$G$64=$B$10,Avropsblankett!$C$64=$B$6,Avropsblankett!$D$64=$A$15),B15,IF(AND(Avropsblankett!$G$64=$B$10,Avropsblankett!$C$64=$B$6,Avropsblankett!$D$64=$A$16),B16,0))))))","v":0},{"$f":"Avropsblankett!$F$64*IF(AND(Avropsblankett!$G$64=$C$10,Avropsblankett!$C$64=$B$6,Avropsblankett!$D$64=$A$11),C11,IF(AND(Avropsblankett!$G$64=$C$10,Avropsblankett!$C$64=$B$6,Avropsblankett!$D$64=$A$12),C12,IF(AND(Avropsblankett!$G$64=$C$10,Avropsblankett!$C$64=$B$6,Avropsblankett!$D$64=$A$13),C13,IF(AND(Avropsblankett!$G$64=$C$10,Avropsblankett!$C$64=$B$6,Avropsblankett!$D$64=$A$14),C14,IF(AND(Avropsblankett!$G$64=$C$10,Avropsblankett!$C$64=$B$6,Avropsblankett!$D$64=$A$15),C15,IF(AND(Avropsblankett!$G$64=$C$10,Avropsblankett!$C$64=$B$6,Avropsblankett!$D$64=$A$16),C16,0))))))","v":0},{"$f":"Avropsblankett!$F$64*IF(AND(Avropsblankett!$G$64=$D$10,Avropsblankett!$C$64=$B$6,Avropsblankett!$D$64=$A$11),D11,IF(AND(Avropsblankett!$G$64=$D$10,Avropsblankett!$C$64=$B$6,Avropsblankett!$D$64=$A$12),D12,IF(AND(Avropsblankett!$G$64=$D$10,Avropsblankett!$C$64=$B$6,Avropsblankett!$D$64=$A$13),D13,IF(AND(Avropsblankett!$G$64=$D$10,Avropsblankett!$C$64=$B$6,Avropsblankett!$D$64=$A$14),D14,IF(AND(Avropsblankett!$G$64=$D$10,Avropsblankett!$C$64=$B$6,Avropsblankett!$D$64=$A$15),D15,IF(AND(Avropsblankett!$G$64=$D$10,Avropsblankett!$C$64=$B$6,Avropsblankett!$D$64=$A$16),D16,0))))))","v":0},null,{"$f":"Avropsblankett!$H$64*IF(AND(Avropsblankett!$G$64=$B$10,Avropsblankett!$C$64=$B$6,Avropsblankett!$D$64=$A$11),F11,IF(AND(Avropsblankett!$G$64=$B$10,Avropsblankett!$C$64=$B$6,Avropsblankett!$D$64=$A$12),F12,IF(AND(Avropsblankett!$G$64=$B$10,Avropsblankett!$C$64=$B$6,Avropsblankett!$D$64=$A$13),F13,IF(AND(Avropsblankett!$G$64=$B$10,Avropsblankett!$C$64=$B$6,Avropsblankett!$D$64=$A$14),F14,IF(AND(Avropsblankett!$G$64=$B$10,Avropsblankett!$C$64=$B$6,Avropsblankett!$D$64=$A$15),F15,IF(AND(Avropsblankett!$G$64=$B$10,Avropsblankett!$C$64=$B$6,Avropsblankett!$D$64=$A$16),F16,0))))))","v":0},{"$f":"Avropsblankett!$F$64*IF(AND(Avropsblankett!$G$64=$C$10,Avropsblankett!$C$64=$B$6,Avropsblankett!$D$64=$A$11),G11,IF(AND(Avropsblankett!$G$64=$C$10,Avropsblankett!$C$64=$B$6,Avropsblankett!$D$64=$A$12),G12,IF(AND(Avropsblankett!$G$64=$C$10,Avropsblankett!$C$64=$B$6,Avropsblankett!$D$64=$A$13),G13,IF(AND(Avropsblankett!$G$64=$C$10,Avropsblankett!$C$64=$B$6,Avropsblankett!$D$64=$A$14),G14,IF(AND(Avropsblankett!$G$64=$C$10,Avropsblankett!$C$64=$B$6,Avropsblankett!$D$64=$A$15),G15,IF(AND(Avropsblankett!$G$64=$C$10,Avropsblankett!$C$64=$B$6,Avropsblankett!$D$64=$A$16),G16,0))))))","v":0},{"$f":"Avropsblankett!$F$64*IF(AND(Avropsblankett!$G$64=$D$10,Avropsblankett!$C$64=$B$6,Avropsblankett!$D$64=$A$11),H11,IF(AND(Avropsblankett!$G$64=$D$10,Avropsblankett!$C$64=$B$6,Avropsblankett!$D$64=$A$12),H12,IF(AND(Avropsblankett!$G$64=$D$10,Avropsblankett!$C$64=$B$6,Avropsblankett!$D$64=$A$13),H13,IF(AND(Avropsblankett!$G$64=$D$10,Avropsblankett!$C$64=$B$6,Avropsblankett!$D$64=$A$14),H14,IF(AND(Avropsblankett!$G$64=$D$10,Avropsblankett!$C$64=$B$6,Avropsblankett!$D$64=$A$15),H15,IF(AND(Avropsblankett!$G$64=$D$10,Avropsblankett!$C$64=$B$6,Avropsblankett!$D$64=$A$16),H16,0))))))","v":0},null,{"$f":"Avropsblankett!$H$64*IF(AND(Avropsblankett!$G$64=$B$10,Avropsblankett!$C$64=$B$6,Avropsblankett!$D$64=$A$11),J11,IF(AND(Avropsblankett!$G$64=$B$10,Avropsblankett!$C$64=$B$6,Avropsblankett!$D$64=$A$12),J12,IF(AND(Avropsblankett!$G$64=$B$10,Avropsblankett!$C$64=$B$6,Avropsblankett!$D$64=$A$13),J13,IF(AND(Avropsblankett!$G$64=$B$10,Avropsblankett!$C$64=$B$6,Avropsblankett!$D$64=$A$14),J14,IF(AND(Avropsblankett!$G$64=$B$10,Avropsblankett!$C$64=$B$6,Avropsblankett!$D$64=$A$15),J15,IF(AND(Avropsblankett!$G$64=$B$10,Avropsblankett!$C$64=$B$6,Avropsblankett!$D$64=$A$16),J16,0))))))","v":0},{"$f":"Avropsblankett!$F$64*IF(AND(Avropsblankett!$G$64=$C$10,Avropsblankett!$C$64=$B$6,Avropsblankett!$D$64=$A$11),K11,IF(AND(Avropsblankett!$G$64=$C$10,Avropsblankett!$C$64=$B$6,Avropsblankett!$D$64=$A$12),K12,IF(AND(Avropsblankett!$G$64=$C$10,Avropsblankett!$C$64=$B$6,Avropsblankett!$D$64=$A$13),K13,IF(AND(Avropsblankett!$G$64=$C$10,Avropsblankett!$C$64=$B$6,Avropsblankett!$D$64=$A$14),K14,IF(AND(Avropsblankett!$G$64=$C$10,Avropsblankett!$C$64=$B$6,Avropsblankett!$D$64=$A$15),K15,IF(AND(Avropsblankett!$G$64=$C$10,Avropsblankett!$C$64=$B$6,Avropsblankett!$D$64=$A$16),K16,0))))))","v":0},{"$f":"Avropsblankett!$F$64*IF(AND(Avropsblankett!$G$64=$D$10,Avropsblankett!$C$64=$B$6,Avropsblankett!$D$64=$A$11),L11,IF(AND(Avropsblankett!$G$64=$D$10,Avropsblankett!$C$64=$B$6,Avropsblankett!$D$64=$A$12),L12,IF(AND(Avropsblankett!$G$64=$D$10,Avropsblankett!$C$64=$B$6,Avropsblankett!$D$64=$A$13),L13,IF(AND(Avropsblankett!$G$64=$D$10,Avropsblankett!$C$64=$B$6,Avropsblankett!$D$64=$A$14),L14,IF(AND(Avropsblankett!$G$64=$D$10,Avropsblankett!$C$64=$B$6,Avropsblankett!$D$64=$A$15),L15,IF(AND(Avropsblankett!$G$64=$D$10,Avropsblankett!$C$64=$B$6,Avropsblankett!$D$64=$A$16),L16,0))))))","v":0},null,{"$f":"Avropsblankett!$H$64*IF(AND(Avropsblankett!$G$64=$B$10,Avropsblankett!$C$64=$B$6,Avropsblankett!$D$64=$A$11),N11,IF(AND(Avropsblankett!$G$64=$B$10,Avropsblankett!$C$64=$B$6,Avropsblankett!$D$64=$A$12),N12,IF(AND(Avropsblankett!$G$64=$B$10,Avropsblankett!$C$64=$B$6,Avropsblankett!$D$64=$A$13),N13,IF(AND(Avropsblankett!$G$64=$B$10,Avropsblankett!$C$64=$B$6,Avropsblankett!$D$64=$A$14),N14,IF(AND(Avropsblankett!$G$64=$B$10,Avropsblankett!$C$64=$B$6,Avropsblankett!$D$64=$A$15),N15,IF(AND(Avropsblankett!$G$64=$B$10,Avropsblankett!$C$64=$B$6,Avropsblankett!$D$64=$A$16),N16,0))))))","v":0},{"$f":"Avropsblankett!$F$64*IF(AND(Avropsblankett!$G$64=$C$10,Avropsblankett!$C$64=$B$6,Avropsblankett!$D$64=$A$11),O11,IF(AND(Avropsblankett!$G$64=$C$10,Avropsblankett!$C$64=$B$6,Avropsblankett!$D$64=$A$12),O12,IF(AND(Avropsblankett!$G$64=$C$10,Avropsblankett!$C$64=$B$6,Avropsblankett!$D$64=$A$13),O13,IF(AND(Avropsblankett!$G$64=$C$10,Avropsblankett!$C$64=$B$6,Avropsblankett!$D$64=$A$14),O14,IF(AND(Avropsblankett!$G$64=$C$10,Avropsblankett!$C$64=$B$6,Avropsblankett!$D$64=$A$15),O15,IF(AND(Avropsblankett!$G$64=$C$10,Avropsblankett!$C$64=$B$6,Avropsblankett!$D$64=$A$16),O16,0))))))","v":0},{"$f":"Avropsblankett!$F$64*IF(AND(Avropsblankett!$G$64=$D$10,Avropsblankett!$C$64=$B$6,Avropsblankett!$D$64=$A$11),P11,IF(AND(Avropsblankett!$G$64=$D$10,Avropsblankett!$C$64=$B$6,Avropsblankett!$D$64=$A$12),P12,IF(AND(Avropsblankett!$G$64=$D$10,Avropsblankett!$C$64=$B$6,Avropsblankett!$D$64=$A$13),P13,IF(AND(Avropsblankett!$G$64=$D$10,Avropsblankett!$C$64=$B$6,Avropsblankett!$D$64=$A$14),P14,IF(AND(Avropsblankett!$G$64=$D$10,Avropsblankett!$C$64=$B$6,Avropsblankett!$D$64=$A$15),P15,IF(AND(Avropsblankett!$G$64=$D$10,Avropsblankett!$C$64=$B$6,Avropsblankett!$D$64=$A$16),P16,0))))))","v":0},null,{"$f":"Avropsblankett!$H$64*IF(AND(Avropsblankett!$G$64=$B$10,Avropsblankett!$C$64=$B$6,Avropsblankett!$D$64=$A$11),R11,IF(AND(Avropsblankett!$G$64=$B$10,Avropsblankett!$C$64=$B$6,Avropsblankett!$D$64=$A$12),R12,IF(AND(Avropsblankett!$G$64=$B$10,Avropsblankett!$C$64=$B$6,Avropsblankett!$D$64=$A$13),R13,IF(AND(Avropsblankett!$G$64=$B$10,Avropsblankett!$C$64=$B$6,Avropsblankett!$D$64=$A$14),R14,IF(AND(Avropsblankett!$G$64=$B$10,Avropsblankett!$C$64=$B$6,Avropsblankett!$D$64=$A$15),R15,IF(AND(Avropsblankett!$G$64=$B$10,Avropsblankett!$C$64=$B$6,Avropsblankett!$D$64=$A$16),R16,0))))))","v":0},{"$f":"Avropsblankett!$F$64*IF(AND(Avropsblankett!$G$64=$C$10,Avropsblankett!$C$64=$B$6,Avropsblankett!$D$64=$A$11),S11,IF(AND(Avropsblankett!$G$64=$C$10,Avropsblankett!$C$64=$B$6,Avropsblankett!$D$64=$A$12),S12,IF(AND(Avropsblankett!$G$64=$C$10,Avropsblankett!$C$64=$B$6,Avropsblankett!$D$64=$A$13),S13,IF(AND(Avropsblankett!$G$64=$C$10,Avropsblankett!$C$64=$B$6,Avropsblankett!$D$64=$A$14),S14,IF(AND(Avropsblankett!$G$64=$C$10,Avropsblankett!$C$64=$B$6,Avropsblankett!$D$64=$A$15),S15,IF(AND(Avropsblankett!$G$64=$C$10,Avropsblankett!$C$64=$B$6,Avropsblankett!$D$64=$A$16),S16,0))))))","v":0},{"$f":"Avropsblankett!$F$64*IF(AND(Avropsblankett!$G$64=$D$10,Avropsblankett!$C$64=$B$6,Avropsblankett!$D$64=$A$11),T11,IF(AND(Avropsblankett!$G$64=$D$10,Avropsblankett!$C$64=$B$6,Avropsblankett!$D$64=$A$12),T12,IF(AND(Avropsblankett!$G$64=$D$10,Avropsblankett!$C$64=$B$6,Avropsblankett!$D$64=$A$13),T13,IF(AND(Avropsblankett!$G$64=$D$10,Avropsblankett!$C$64=$B$6,Avropsblankett!$D$64=$A$14),T14,IF(AND(Avropsblankett!$G$64=$D$10,Avropsblankett!$C$64=$B$6,Avropsblankett!$D$64=$A$15),T15,IF(AND(Avropsblankett!$G$64=$D$10,Avropsblankett!$C$64=$B$6,Avropsblankett!$D$64=$A$16),T16,0))))))","v":0},null,{"$f":"Avropsblankett!$H$64*IF(AND(Avropsblankett!$G$64=$B$10,Avropsblankett!$C$64=$B$6,Avropsblankett!$D$64=$A$11),V11,IF(AND(Avropsblankett!$G$64=$B$10,Avropsblankett!$C$64=$B$6,Avropsblankett!$D$64=$A$12),V12,IF(AND(Avropsblankett!$G$64=$B$10,Avropsblankett!$C$64=$B$6,Avropsblankett!$D$64=$A$13),V13,IF(AND(Avropsblankett!$G$64=$B$10,Avropsblankett!$C$64=$B$6,Avropsblankett!$D$64=$A$14),V14,IF(AND(Avropsblankett!$G$64=$B$10,Avropsblankett!$C$64=$B$6,Avropsblankett!$D$64=$A$15),V15,IF(AND(Avropsblankett!$G$64=$B$10,Avropsblankett!$C$64=$B$6,Avropsblankett!$D$64=$A$16),V16,0))))))","v":0},{"$f":"Avropsblankett!$F$64*IF(AND(Avropsblankett!$G$64=$C$10,Avropsblankett!$C$64=$B$6,Avropsblankett!$D$64=$A$11),W11,IF(AND(Avropsblankett!$G$64=$C$10,Avropsblankett!$C$64=$B$6,Avropsblankett!$D$64=$A$12),W12,IF(AND(Avropsblankett!$G$64=$C$10,Avropsblankett!$C$64=$B$6,Avropsblankett!$D$64=$A$13),W13,IF(AND(Avropsblankett!$G$64=$C$10,Avropsblankett!$C$64=$B$6,Avropsblankett!$D$64=$A$14),W14,IF(AND(Avropsblankett!$G$64=$C$10,Avropsblankett!$C$64=$B$6,Avropsblankett!$D$64=$A$15),W15,IF(AND(Avropsblankett!$G$64=$C$10,Avropsblankett!$C$64=$B$6,Avropsblankett!$D$64=$A$16),W16,0))))))","v":0},{"$f":"Avropsblankett!$F$64*IF(AND(Avropsblankett!$G$64=$D$10,Avropsblankett!$C$64=$B$6,Avropsblankett!$D$64=$A$11),X11,IF(AND(Avropsblankett!$G$64=$D$10,Avropsblankett!$C$64=$B$6,Avropsblankett!$D$64=$A$12),X12,IF(AND(Avropsblankett!$G$64=$D$10,Avropsblankett!$C$64=$B$6,Avropsblankett!$D$64=$A$13),X13,IF(AND(Avropsblankett!$G$64=$D$10,Avropsblankett!$C$64=$B$6,Avropsblankett!$D$64=$A$14),X14,IF(AND(Avropsblankett!$G$64=$D$10,Avropsblankett!$C$64=$B$6,Avropsblankett!$D$64=$A$15),X15,IF(AND(Avropsblankett!$G$64=$D$10,Avropsblankett!$C$64=$B$6,Avropsblankett!$D$64=$A$16),X16,0))))))","v":0},null,{"$f":"Avropsblankett!$H$64*IF(AND(Avropsblankett!$G$64=$B$10,Avropsblankett!$C$64=$B$6,Avropsblankett!$D$64=$A$11),Z11,IF(AND(Avropsblankett!$G$64=$B$10,Avropsblankett!$C$64=$B$6,Avropsblankett!$D$64=$A$12),Z12,IF(AND(Avropsblankett!$G$64=$B$10,Avropsblankett!$C$64=$B$6,Avropsblankett!$D$64=$A$13),Z13,IF(AND(Avropsblankett!$G$64=$B$10,Avropsblankett!$C$64=$B$6,Avropsblankett!$D$64=$A$14),Z14,IF(AND(Avropsblankett!$G$64=$B$10,Avropsblankett!$C$64=$B$6,Avropsblankett!$D$64=$A$15),Z15,IF(AND(Avropsblankett!$G$64=$B$10,Avropsblankett!$C$64=$B$6,Avropsblankett!$D$64=$A$16),Z16,0))))))","v":0},{"$f":"Avropsblankett!$F$64*IF(AND(Avropsblankett!$G$64=$C$10,Avropsblankett!$C$64=$B$6,Avropsblankett!$D$64=$A$11),AA11,IF(AND(Avropsblankett!$G$64=$C$10,Avropsblankett!$C$64=$B$6,Avropsblankett!$D$64=$A$12),AA12,IF(AND(Avropsblankett!$G$64=$C$10,Avropsblankett!$C$64=$B$6,Avropsblankett!$D$64=$A$13),AA13,IF(AND(Avropsblankett!$G$64=$C$10,Avropsblankett!$C$64=$B$6,Avropsblankett!$D$64=$A$14),AA14,IF(AND(Avropsblankett!$G$64=$C$10,Avropsblankett!$C$64=$B$6,Avropsblankett!$D$64=$A$15),AA15,IF(AND(Avropsblankett!$G$64=$C$10,Avropsblankett!$C$64=$B$6,Avropsblankett!$D$64=$A$16),AA16,0))))))","v":0},{"$f":"Avropsblankett!$F$64*IF(AND(Avropsblankett!$G$64=$D$10,Avropsblankett!$C$64=$B$6,Avropsblankett!$D$64=$A$11),AB11,IF(AND(Avropsblankett!$G$64=$D$10,Avropsblankett!$C$64=$B$6,Avropsblankett!$D$64=$A$12),AB12,IF(AND(Avropsblankett!$G$64=$D$10,Avropsblankett!$C$64=$B$6,Avropsblankett!$D$64=$A$13),AB13,IF(AND(Avropsblankett!$G$64=$D$10,Avropsblankett!$C$64=$B$6,Avropsblankett!$D$64=$A$14),AB14,IF(AND(Avropsblankett!$G$64=$D$10,Avropsblankett!$C$64=$B$6,Avropsblankett!$D$64=$A$15),AB15,IF(AND(Avropsblankett!$G$64=$D$10,Avropsblankett!$C$64=$B$6,Avropsblankett!$D$64=$A$16),AB16,0))))))","v":0},null,{"$f":"Avropsblankett!$H$64*IF(AND(Avropsblankett!$G$64=$B$10,Avropsblankett!$C$64=$B$6,Avropsblankett!$D$64=$A$11),AD11,IF(AND(Avropsblankett!$G$64=$B$10,Avropsblankett!$C$64=$B$6,Avropsblankett!$D$64=$A$12),AD12,IF(AND(Avropsblankett!$G$64=$B$10,Avropsblankett!$C$64=$B$6,Avropsblankett!$D$64=$A$13),AD13,IF(AND(Avropsblankett!$G$64=$B$10,Avropsblankett!$C$64=$B$6,Avropsblankett!$D$64=$A$14),AD14,IF(AND(Avropsblankett!$G$64=$B$10,Avropsblankett!$C$64=$B$6,Avropsblankett!$D$64=$A$15),AD15,IF(AND(Avropsblankett!$G$64=$B$10,Avropsblankett!$C$64=$B$6,Avropsblankett!$D$64=$A$16),AD16,0))))))","v":0},{"$f":"Avropsblankett!$F$64*IF(AND(Avropsblankett!$G$64=$C$10,Avropsblankett!$C$64=$B$6,Avropsblankett!$D$64=$A$11),AE11,IF(AND(Avropsblankett!$G$64=$C$10,Avropsblankett!$C$64=$B$6,Avropsblankett!$D$64=$A$12),AE12,IF(AND(Avropsblankett!$G$64=$C$10,Avropsblankett!$C$64=$B$6,Avropsblankett!$D$64=$A$13),AE13,IF(AND(Avropsblankett!$G$64=$C$10,Avropsblankett!$C$64=$B$6,Avropsblankett!$D$64=$A$14),AE14,IF(AND(Avropsblankett!$G$64=$C$10,Avropsblankett!$C$64=$B$6,Avropsblankett!$D$64=$A$15),AE15,IF(AND(Avropsblankett!$G$64=$C$10,Avropsblankett!$C$64=$B$6,Avropsblankett!$D$64=$A$16),AE16,0))))))","v":0},{"$f":"Avropsblankett!$F$64*IF(AND(Avropsblankett!$G$64=$D$10,Avropsblankett!$C$64=$B$6,Avropsblankett!$D$64=$A$11),AF11,IF(AND(Avropsblankett!$G$64=$D$10,Avropsblankett!$C$64=$B$6,Avropsblankett!$D$64=$A$12),AF12,IF(AND(Avropsblankett!$G$64=$D$10,Avropsblankett!$C$64=$B$6,Avropsblankett!$D$64=$A$13),AF13,IF(AND(Avropsblankett!$G$64=$D$10,Avropsblankett!$C$64=$B$6,Avropsblankett!$D$64=$A$14),AF14,IF(AND(Avropsblankett!$G$64=$D$10,Avropsblankett!$C$64=$B$6,Avropsblankett!$D$64=$A$15),AF15,IF(AND(Avropsblankett!$G$64=$D$10,Avropsblankett!$C$64=$B$6,Avropsblankett!$D$64=$A$16),AF16,0))))))","v":0},null,{"$f":"Avropsblankett!$H$64*IF(AND(Avropsblankett!$G$64=$B$10,Avropsblankett!$C$64=$B$6,Avropsblankett!$D$64=$A$11),AH11,IF(AND(Avropsblankett!$G$64=$B$10,Avropsblankett!$C$64=$B$6,Avropsblankett!$D$64=$A$12),AH12,IF(AND(Avropsblankett!$G$64=$B$10,Avropsblankett!$C$64=$B$6,Avropsblankett!$D$64=$A$13),AH13,IF(AND(Avropsblankett!$G$64=$B$10,Avropsblankett!$C$64=$B$6,Avropsblankett!$D$64=$A$14),AH14,IF(AND(Avropsblankett!$G$64=$B$10,Avropsblankett!$C$64=$B$6,Avropsblankett!$D$64=$A$15),AH15,IF(AND(Avropsblankett!$G$64=$B$10,Avropsblankett!$C$64=$B$6,Avropsblankett!$D$64=$A$16),AH16,0))))))","v":0},{"$f":"Avropsblankett!$F$64*IF(AND(Avropsblankett!$G$64=$C$10,Avropsblankett!$C$64=$B$6,Avropsblankett!$D$64=$A$11),AI11,IF(AND(Avropsblankett!$G$64=$C$10,Avropsblankett!$C$64=$B$6,Avropsblankett!$D$64=$A$12),AI12,IF(AND(Avropsblankett!$G$64=$C$10,Avropsblankett!$C$64=$B$6,Avropsblankett!$D$64=$A$13),AI13,IF(AND(Avropsblankett!$G$64=$C$10,Avropsblankett!$C$64=$B$6,Avropsblankett!$D$64=$A$14),AI14,IF(AND(Avropsblankett!$G$64=$C$10,Avropsblankett!$C$64=$B$6,Avropsblankett!$D$64=$A$15),AI15,IF(AND(Avropsblankett!$G$64=$C$10,Avropsblankett!$C$64=$B$6,Avropsblankett!$D$64=$A$16),AI16,0))))))","v":0},{"$f":"Avropsblankett!$F$64*IF(AND(Avropsblankett!$G$64=$D$10,Avropsblankett!$C$64=$B$6,Avropsblankett!$D$64=$A$11),AJ11,IF(AND(Avropsblankett!$G$64=$D$10,Avropsblankett!$C$64=$B$6,Avropsblankett!$D$64=$A$12),AJ12,IF(AND(Avropsblankett!$G$64=$D$10,Avropsblankett!$C$64=$B$6,Avropsblankett!$D$64=$A$13),AJ13,IF(AND(Avropsblankett!$G$64=$D$10,Avropsblankett!$C$64=$B$6,Avropsblankett!$D$64=$A$14),AJ14,IF(AND(Avropsblankett!$G$64=$D$10,Avropsblankett!$C$64=$B$6,Avropsblankett!$D$64=$A$15),AJ15,IF(AND(Avropsblankett!$G$64=$D$10,Avropsblankett!$C$64=$B$6,Avropsblankett!$D$64=$A$16),AJ16,0))))))","v":0},null,{"$f":"Avropsblankett!$H$64*IF(AND(Avropsblankett!$G$64=$B$10,Avropsblankett!$C$64=$B$6,Avropsblankett!$D$64=$A$11),AL11,IF(AND(Avropsblankett!$G$64=$B$10,Avropsblankett!$C$64=$B$6,Avropsblankett!$D$64=$A$12),AL12,IF(AND(Avropsblankett!$G$64=$B$10,Avropsblankett!$C$64=$B$6,Avropsblankett!$D$64=$A$13),AL13,IF(AND(Avropsblankett!$G$64=$B$10,Avropsblankett!$C$64=$B$6,Avropsblankett!$D$64=$A$14),AL14,IF(AND(Avropsblankett!$G$64=$B$10,Avropsblankett!$C$64=$B$6,Avropsblankett!$D$64=$A$15),AL15,IF(AND(Avropsblankett!$G$64=$B$10,Avropsblankett!$C$64=$B$6,Avropsblankett!$D$64=$A$16),AL16,0))))))","v":0},{"$f":"Avropsblankett!$F$64*IF(AND(Avropsblankett!$G$64=$C$10,Avropsblankett!$C$64=$B$6,Avropsblankett!$D$64=$A$11),AM11,IF(AND(Avropsblankett!$G$64=$C$10,Avropsblankett!$C$64=$B$6,Avropsblankett!$D$64=$A$12),AM12,IF(AND(Avropsblankett!$G$64=$C$10,Avropsblankett!$C$64=$B$6,Avropsblankett!$D$64=$A$13),AM13,IF(AND(Avropsblankett!$G$64=$C$10,Avropsblankett!$C$64=$B$6,Avropsblankett!$D$64=$A$14),AM14,IF(AND(Avropsblankett!$G$64=$C$10,Avropsblankett!$C$64=$B$6,Avropsblankett!$D$64=$A$15),AM15,IF(AND(Avropsblankett!$G$64=$C$10,Avropsblankett!$C$64=$B$6,Avropsblankett!$D$64=$A$16),AM16,0))))))","v":0},{"$f":"Avropsblankett!$F$64*IF(AND(Avropsblankett!$G$64=$D$10,Avropsblankett!$C$64=$B$6,Avropsblankett!$D$64=$A$11),AN11,IF(AND(Avropsblankett!$G$64=$D$10,Avropsblankett!$C$64=$B$6,Avropsblankett!$D$64=$A$12),AN12,IF(AND(Avropsblankett!$G$64=$D$10,Avropsblankett!$C$64=$B$6,Avropsblankett!$D$64=$A$13),AN13,IF(AND(Avropsblankett!$G$64=$D$10,Avropsblankett!$C$64=$B$6,Avropsblankett!$D$64=$A$14),AN14,IF(AND(Avropsblankett!$G$64=$D$10,Avropsblankett!$C$64=$B$6,Avropsblankett!$D$64=$A$15),AN15,IF(AND(Avropsblankett!$G$64=$D$10,Avropsblankett!$C$64=$B$6,Avropsblankett!$D$64=$A$16),AN16,0))))))","v":0}]
[null,{"$f":"Avropsblankett!$F$76*IF(AND(Avropsblankett!$G$76=$B$10,Avropsblankett!$C$76=$B$6,Avropsblankett!$D$76=$A$11),B11,IF(AND(Avropsblankett!$G$76=$B$10,Avropsblankett!$C$76=$B$6,Avropsblankett!$D$76=$A$12),B12,IF(AND(Avropsblankett!$G$76=$B$10,Avropsblankett!$C$76=$B$6,Avropsblankett!$D$76=$A$13),B13,IF(AND(Avropsblankett!$G$76=$B$10,Avropsblankett!$C$76=$B$6,Avropsblankett!$D$76=$A$14),B14,IF(AND(Avropsblankett!$G$76=$B$10,Avropsblankett!$C$76=$B$6,Avropsblankett!$D$76=$A$15),B15,IF(AND(Avropsblankett!$G$76=$B$10,Avropsblankett!$C$76=$B$6,Avropsblankett!$D$76=$A$16),B16,0))))))","v":0},{"$f":"Avropsblankett!$F$76*IF(AND(Avropsblankett!$G$76=$C$10,Avropsblankett!$C$76=$B$6,Avropsblankett!$D$76=$A$11),C11,IF(AND(Avropsblankett!$G$76=$C$10,Avropsblankett!$C$76=$B$6,Avropsblankett!$D$76=$A$12),C12,IF(AND(Avropsblankett!$G$76=$C$10,Avropsblankett!$C$76=$B$6,Avropsblankett!$D$76=$A$13),C13,IF(AND(Avropsblankett!$G$76=$C$10,Avropsblankett!$C$76=$B$6,Avropsblankett!$D$76=$A$14),C14,IF(AND(Avropsblankett!$G$76=$C$10,Avropsblankett!$C$76=$B$6,Avropsblankett!$D$76=$A$15),C15,IF(AND(Avropsblankett!$G$76=$C$10,Avropsblankett!$C$76=$B$6,Avropsblankett!$D$76=$A$16),C16,0))))))","v":0},{"$f":"Avropsblankett!$F$76*IF(AND(Avropsblankett!$G$76=$D$10,Avropsblankett!$C$76=$B$6,Avropsblankett!$D$76=$A$11),D11,IF(AND(Avropsblankett!$G$76=$D$10,Avropsblankett!$C$76=$B$6,Avropsblankett!$D$76=$A$12),D12,IF(AND(Avropsblankett!$G$76=$D$10,Avropsblankett!$C$76=$B$6,Avropsblankett!$D$76=$A$13),D13,IF(AND(Avropsblankett!$G$76=$D$10,Avropsblankett!$C$76=$B$6,Avropsblankett!$D$76=$A$14),D14,IF(AND(Avropsblankett!$G$76=$D$10,Avropsblankett!$C$76=$B$6,Avropsblankett!$D$76=$A$15),D15,IF(AND(Avropsblankett!$G$76=$D$10,Avropsblankett!$C$76=$B$6,Avropsblankett!$D$76=$A$16),D16,0))))))","v":0},null,{"$f":"Avropsblankett!$F$76*IF(AND(Avropsblankett!$G$76=$B$10,Avropsblankett!$C$76=$B$6,Avropsblankett!$D$76=$A$11),F11,IF(AND(Avropsblankett!$G$76=$B$10,Avropsblankett!$C$76=$B$6,Avropsblankett!$D$76=$A$12),F12,IF(AND(Avropsblankett!$G$76=$B$10,Avropsblankett!$C$76=$B$6,Avropsblankett!$D$76=$A$13),F13,IF(AND(Avropsblankett!$G$76=$B$10,Avropsblankett!$C$76=$B$6,Avropsblankett!$D$76=$A$14),F14,IF(AND(Avropsblankett!$G$76=$B$10,Avropsblankett!$C$76=$B$6,Avropsblankett!$D$76=$A$15),F15,IF(AND(Avropsblankett!$G$76=$B$10,Avropsblankett!$C$76=$B$6,Avropsblankett!$D$76=$A$16),F16,0))))))","v":0},{"$f":"Avropsblankett!$F$76*IF(AND(Avropsblankett!$G$76=$C$10,Avropsblankett!$C$76=$B$6,Avropsblankett!$D$76=$A$11),G11,IF(AND(Avropsblankett!$G$76=$C$10,Avropsblankett!$C$76=$B$6,Avropsblankett!$D$76=$A$12),G12,IF(AND(Avropsblankett!$G$76=$C$10,Avropsblankett!$C$76=$B$6,Avropsblankett!$D$76=$A$13),G13,IF(AND(Avropsblankett!$G$76=$C$10,Avropsblankett!$C$76=$B$6,Avropsblankett!$D$76=$A$14),G14,IF(AND(Avropsblankett!$G$76=$C$10,Avropsblankett!$C$76=$B$6,Avropsblankett!$D$76=$A$15),G15,IF(AND(Avropsblankett!$G$76=$C$10,Avropsblankett!$C$76=$B$6,Avropsblankett!$D$76=$A$16),G16,0))))))","v":0},{"$f":"Avropsblankett!$F$76*IF(AND(Avropsblankett!$G$76=$D$10,Avropsblankett!$C$76=$B$6,Avropsblankett!$D$76=$A$11),H11,IF(AND(Avropsblankett!$G$76=$D$10,Avropsblankett!$C$76=$B$6,Avropsblankett!$D$76=$A$12),H12,IF(AND(Avropsblankett!$G$76=$D$10,Avropsblankett!$C$76=$B$6,Avropsblankett!$D$76=$A$13),H13,IF(AND(Avropsblankett!$G$76=$D$10,Avropsblankett!$C$76=$B$6,Avropsblankett!$D$76=$A$14),H14,IF(AND(Avropsblankett!$G$76=$D$10,Avropsblankett!$C$76=$B$6,Avropsblankett!$D$76=$A$15),H15,IF(AND(Avropsblankett!$G$76=$D$10,Avropsblankett!$C$76=$B$6,Avropsblankett!$D$76=$A$16),H16,0))))))","v":0},null,{"$f":"Avropsblankett!$F$76*IF(AND(Avropsblankett!$G$76=$B$10,Avropsblankett!$C$76=$B$6,Avropsblankett!$D$76=$A$11),J11,IF(AND(Avropsblankett!$G$76=$B$10,Avropsblankett!$C$76=$B$6,Avropsblankett!$D$76=$A$12),J12,IF(AND(Avropsblankett!$G$76=$B$10,Avropsblankett!$C$76=$B$6,Avropsblankett!$D$76=$A$13),J13,IF(AND(Avropsblankett!$G$76=$B$10,Avropsblankett!$C$76=$B$6,Avropsblankett!$D$76=$A$14),J14,IF(AND(Avropsblankett!$G$76=$B$10,Avropsblankett!$C$76=$B$6,Avropsblankett!$D$76=$A$15),J15,IF(AND(Avropsblankett!$G$76=$B$10,Avropsblankett!$C$76=$B$6,Avropsblankett!$D$76=$A$16),J16,0))))))","v":0},{"$f":"Avropsblankett!$F$76*IF(AND(Avropsblankett!$G$76=$C$10,Avropsblankett!$C$76=$B$6,Avropsblankett!$D$76=$A$11),K11,IF(AND(Avropsblankett!$G$76=$C$10,Avropsblankett!$C$76=$B$6,Avropsblankett!$D$76=$A$12),K12,IF(AND(Avropsblankett!$G$76=$C$10,Avropsblankett!$C$76=$B$6,Avropsblankett!$D$76=$A$13),K13,IF(AND(Avropsblankett!$G$76=$C$10,Avropsblankett!$C$76=$B$6,Avropsblankett!$D$76=$A$14),K14,IF(AND(Avropsblankett!$G$76=$C$10,Avropsblankett!$C$76=$B$6,Avropsblankett!$D$76=$A$15),K15,IF(AND(Avropsblankett!$G$76=$C$10,Avropsblankett!$C$76=$B$6,Avropsblankett!$D$76=$A$16),K16,0))))))","v":0},{"$f":"Avropsblankett!$F$76*IF(AND(Avropsblankett!$G$76=$D$10,Avropsblankett!$C$76=$B$6,Avropsblankett!$D$76=$A$11),L11,IF(AND(Avropsblankett!$G$76=$D$10,Avropsblankett!$C$76=$B$6,Avropsblankett!$D$76=$A$12),L12,IF(AND(Avropsblankett!$G$76=$D$10,Avropsblankett!$C$76=$B$6,Avropsblankett!$D$76=$A$13),L13,IF(AND(Avropsblankett!$G$76=$D$10,Avropsblankett!$C$76=$B$6,Avropsblankett!$D$76=$A$14),L14,IF(AND(Avropsblankett!$G$76=$D$10,Avropsblankett!$C$76=$B$6,Avropsblankett!$D$76=$A$15),L15,IF(AND(Avropsblankett!$G$76=$D$10,Avropsblankett!$C$76=$B$6,Avropsblankett!$D$76=$A$16),L16,0))))))","v":0},null,{"$f":"Avropsblankett!$F$76*IF(AND(Avropsblankett!$G$76=$B$10,Avropsblankett!$C$76=$B$6,Avropsblankett!$D$76=$A$11),N11,IF(AND(Avropsblankett!$G$76=$B$10,Avropsblankett!$C$76=$B$6,Avropsblankett!$D$76=$A$12),N12,IF(AND(Avropsblankett!$G$76=$B$10,Avropsblankett!$C$76=$B$6,Avropsblankett!$D$76=$A$13),N13,IF(AND(Avropsblankett!$G$76=$B$10,Avropsblankett!$C$76=$B$6,Avropsblankett!$D$76=$A$14),N14,IF(AND(Avropsblankett!$G$76=$B$10,Avropsblankett!$C$76=$B$6,Avropsblankett!$D$76=$A$15),N15,IF(AND(Avropsblankett!$G$76=$B$10,Avropsblankett!$C$76=$B$6,Avropsblankett!$D$76=$A$16),N16,0))))))","v":0},{"$f":"Avropsblankett!$F$76*IF(AND(Avropsblankett!$G$76=$C$10,Avropsblankett!$C$76=$B$6,Avropsblankett!$D$76=$A$11),O11,IF(AND(Avropsblankett!$G$76=$C$10,Avropsblankett!$C$76=$B$6,Avropsblankett!$D$76=$A$12),O12,IF(AND(Avropsblankett!$G$76=$C$10,Avropsblankett!$C$76=$B$6,Avropsblankett!$D$76=$A$13),O13,IF(AND(Avropsblankett!$G$76=$C$10,Avropsblankett!$C$76=$B$6,Avropsblankett!$D$76=$A$14),O14,IF(AND(Avropsblankett!$G$76=$C$10,Avropsblankett!$C$76=$B$6,Avropsblankett!$D$76=$A$15),O15,IF(AND(Avropsblankett!$G$76=$C$10,Avropsblankett!$C$76=$B$6,Avropsblankett!$D$76=$A$16),O16,0))))))","v":0},{"$f":"Avropsblankett!$F$76*IF(AND(Avropsblankett!$G$76=$D$10,Avropsblankett!$C$76=$B$6,Avropsblankett!$D$76=$A$11),P11,IF(AND(Avropsblankett!$G$76=$D$10,Avropsblankett!$C$76=$B$6,Avropsblankett!$D$76=$A$12),P12,IF(AND(Avropsblankett!$G$76=$D$10,Avropsblankett!$C$76=$B$6,Avropsblankett!$D$76=$A$13),P13,IF(AND(Avropsblankett!$G$76=$D$10,Avropsblankett!$C$76=$B$6,Avropsblankett!$D$76=$A$14),P14,IF(AND(Avropsblankett!$G$76=$D$10,Avropsblankett!$C$76=$B$6,Avropsblankett!$D$76=$A$15),P15,IF(AND(Avropsblankett!$G$76=$D$10,Avropsblankett!$C$76=$B$6,Avropsblankett!$D$76=$A$16),P16,0))))))","v":0},null,{"$f":"Avropsblankett!$F$76*IF(AND(Avropsblankett!$G$76=$B$10,Avropsblankett!$C$76=$B$6,Avropsblankett!$D$76=$A$11),R11,IF(AND(Avropsblankett!$G$76=$B$10,Avropsblankett!$C$76=$B$6,Avropsblankett!$D$76=$A$12),R12,IF(AND(Avropsblankett!$G$76=$B$10,Avropsblankett!$C$76=$B$6,Avropsblankett!$D$76=$A$13),R13,IF(AND(Avropsblankett!$G$76=$B$10,Avropsblankett!$C$76=$B$6,Avropsblankett!$D$76=$A$14),R14,IF(AND(Avropsblankett!$G$76=$B$10,Avropsblankett!$C$76=$B$6,Avropsblankett!$D$76=$A$15),R15,IF(AND(Avropsblankett!$G$76=$B$10,Avropsblankett!$C$76=$B$6,Avropsblankett!$D$76=$A$16),R16,0))))))","v":0},{"$f":"Avropsblankett!$F$76*IF(AND(Avropsblankett!$G$76=$C$10,Avropsblankett!$C$76=$B$6,Avropsblankett!$D$76=$A$11),S11,IF(AND(Avropsblankett!$G$76=$C$10,Avropsblankett!$C$76=$B$6,Avropsblankett!$D$76=$A$12),S12,IF(AND(Avropsblankett!$G$76=$C$10,Avropsblankett!$C$76=$B$6,Avropsblankett!$D$76=$A$13),S13,IF(AND(Avropsblankett!$G$76=$C$10,Avropsblankett!$C$76=$B$6,Avropsblankett!$D$76=$A$14),S14,IF(AND(Avropsblankett!$G$76=$C$10,Avropsblankett!$C$76=$B$6,Avropsblankett!$D$76=$A$15),S15,IF(AND(Avropsblankett!$G$76=$C$10,Avropsblankett!$C$76=$B$6,Avropsblankett!$D$76=$A$16),S16,0))))))","v":0},{"$f":"Avropsblankett!$F$76*IF(AND(Avropsblankett!$G$76=$D$10,Avropsblankett!$C$76=$B$6,Avropsblankett!$D$76=$A$11),T11,IF(AND(Avropsblankett!$G$76=$D$10,Avropsblankett!$C$76=$B$6,Avropsblankett!$D$76=$A$12),T12,IF(AND(Avropsblankett!$G$76=$D$10,Avropsblankett!$C$76=$B$6,Avropsblankett!$D$76=$A$13),T13,IF(AND(Avropsblankett!$G$76=$D$10,Avropsblankett!$C$76=$B$6,Avropsblankett!$D$76=$A$14),T14,IF(AND(Avropsblankett!$G$76=$D$10,Avropsblankett!$C$76=$B$6,Avropsblankett!$D$76=$A$15),T15,IF(AND(Avropsblankett!$G$76=$D$10,Avropsblankett!$C$76=$B$6,Avropsblankett!$D$76=$A$16),T16,0))))))","v":0},null,{"$f":"Avropsblankett!$F$76*IF(AND(Avropsblankett!$G$76=$B$10,Avropsblankett!$C$76=$B$6,Avropsblankett!$D$76=$A$11),V11,IF(AND(Avropsblankett!$G$76=$B$10,Avropsblankett!$C$76=$B$6,Avropsblankett!$D$76=$A$12),V12,IF(AND(Avropsblankett!$G$76=$B$10,Avropsblankett!$C$76=$B$6,Avropsblankett!$D$76=$A$13),V13,IF(AND(Avropsblankett!$G$76=$B$10,Avropsblankett!$C$76=$B$6,Avropsblankett!$D$76=$A$14),V14,IF(AND(Avropsblankett!$G$76=$B$10,Avropsblankett!$C$76=$B$6,Avropsblankett!$D$76=$A$15),V15,IF(AND(Avropsblankett!$G$76=$B$10,Avropsblankett!$C$76=$B$6,Avropsblankett!$D$76=$A$16),V16,0))))))","v":0},{"$f":"Avropsblankett!$F$76*IF(AND(Avropsblankett!$G$76=$C$10,Avropsblankett!$C$76=$B$6,Avropsblankett!$D$76=$A$11),W11,IF(AND(Avropsblankett!$G$76=$C$10,Avropsblankett!$C$76=$B$6,Avropsblankett!$D$76=$A$12),W12,IF(AND(Avropsblankett!$G$76=$C$10,Avropsblankett!$C$76=$B$6,Avropsblankett!$D$76=$A$13),W13,IF(AND(Avropsblankett!$G$76=$C$10,Avropsblankett!$C$76=$B$6,Avropsblankett!$D$76=$A$14),W14,IF(AND(Avropsblankett!$G$76=$C$10,Avropsblankett!$C$76=$B$6,Avropsblankett!$D$76=$A$15),W15,IF(AND(Avropsblankett!$G$76=$C$10,Avropsblankett!$C$76=$B$6,Avropsblankett!$D$76=$A$16),W16,0))))))","v":0},{"$f":"Avropsblankett!$F$76*IF(AND(Avropsblankett!$G$76=$D$10,Avropsblankett!$C$76=$B$6,Avropsblankett!$D$76=$A$11),X11,IF(AND(Avropsblankett!$G$76=$D$10,Avropsblankett!$C$76=$B$6,Avropsblankett!$D$76=$A$12),X12,IF(AND(Avropsblankett!$G$76=$D$10,Avropsblankett!$C$76=$B$6,Avropsblankett!$D$76=$A$13),X13,IF(AND(Avropsblankett!$G$76=$D$10,Avropsblankett!$C$76=$B$6,Avropsblankett!$D$76=$A$14),X14,IF(AND(Avropsblankett!$G$76=$D$10,Avropsblankett!$C$76=$B$6,Avropsblankett!$D$76=$A$15),X15,IF(AND(Avropsblankett!$G$76=$D$10,Avropsblankett!$C$76=$B$6,Avropsblankett!$D$76=$A$16),X16,0))))))","v":0},null,{"$f":"Avropsblankett!$F$76*IF(AND(Avropsblankett!$G$76=$B$10,Avropsblankett!$C$76=$B$6,Avropsblankett!$D$76=$A$11),Z11,IF(AND(Avropsblankett!$G$76=$B$10,Avropsblankett!$C$76=$B$6,Avropsblankett!$D$76=$A$12),Z12,IF(AND(Avropsblankett!$G$76=$B$10,Avropsblankett!$C$76=$B$6,Avropsblankett!$D$76=$A$13),Z13,IF(AND(Avropsblankett!$G$76=$B$10,Avropsblankett!$C$76=$B$6,Avropsblankett!$D$76=$A$14),Z14,IF(AND(Avropsblankett!$G$76=$B$10,Avropsblankett!$C$76=$B$6,Avropsblankett!$D$76=$A$15),Z15,IF(AND(Avropsblankett!$G$76=$B$10,Avropsblankett!$C$76=$B$6,Avropsblankett!$D$76=$A$16),Z16,0))))))","v":0},{"$f":"Avropsblankett!$F$76*IF(AND(Avropsblankett!$G$76=$C$10,Avropsblankett!$C$76=$B$6,Avropsblankett!$D$76=$A$11),AA11,IF(AND(Avropsblankett!$G$76=$C$10,Avropsblankett!$C$76=$B$6,Avropsblankett!$D$76=$A$12),AA12,IF(AND(Avropsblankett!$G$76=$C$10,Avropsblankett!$C$76=$B$6,Avropsblankett!$D$76=$A$13),AA13,IF(AND(Avropsblankett!$G$76=$C$10,Avropsblankett!$C$76=$B$6,Avropsblankett!$D$76=$A$14),AA14,IF(AND(Avropsblankett!$G$76=$C$10,Avropsblankett!$C$76=$B$6,Avropsblankett!$D$76=$A$15),AA15,IF(AND(Avropsblankett!$G$76=$C$10,Avropsblankett!$C$76=$B$6,Avropsblankett!$D$76=$A$16),AA16,0))))))","v":0},{"$f":"Avropsblankett!$F$76*IF(AND(Avropsblankett!$G$76=$D$10,Avropsblankett!$C$76=$B$6,Avropsblankett!$D$76=$A$11),AB11,IF(AND(Avropsblankett!$G$76=$D$10,Avropsblankett!$C$76=$B$6,Avropsblankett!$D$76=$A$12),AB12,IF(AND(Avropsblankett!$G$76=$D$10,Avropsblankett!$C$76=$B$6,Avropsblankett!$D$76=$A$13),AB13,IF(AND(Avropsblankett!$G$76=$D$10,Avropsblankett!$C$76=$B$6,Avropsblankett!$D$76=$A$14),AB14,IF(AND(Avropsblankett!$G$76=$D$10,Avropsblankett!$C$76=$B$6,Avropsblankett!$D$76=$A$15),AB15,IF(AND(Avropsblankett!$G$76=$D$10,Avropsblankett!$C$76=$B$6,Avropsblankett!$D$76=$A$16),AB16,0))))))","v":0},null,{"$f":"Avropsblankett!$F$76*IF(AND(Avropsblankett!$G$76=$B$10,Avropsblankett!$C$76=$B$6,Avropsblankett!$D$76=$A$11),AD11,IF(AND(Avropsblankett!$G$76=$B$10,Avropsblankett!$C$76=$B$6,Avropsblankett!$D$76=$A$12),AD12,IF(AND(Avropsblankett!$G$76=$B$10,Avropsblankett!$C$76=$B$6,Avropsblankett!$D$76=$A$13),AD13,IF(AND(Avropsblankett!$G$76=$B$10,Avropsblankett!$C$76=$B$6,Avropsblankett!$D$76=$A$14),AD14,IF(AND(Avropsblankett!$G$76=$B$10,Avropsblankett!$C$76=$B$6,Avropsblankett!$D$76=$A$15),AD15,IF(AND(Avropsblankett!$G$76=$B$10,Avropsblankett!$C$76=$B$6,Avropsblankett!$D$76=$A$16),AD16,0))))))","v":0},{"$f":"Avropsblankett!$F$76*IF(AND(Avropsblankett!$G$76=$C$10,Avropsblankett!$C$76=$B$6,Avropsblankett!$D$76=$A$11),AE11,IF(AND(Avropsblankett!$G$76=$C$10,Avropsblankett!$C$76=$B$6,Avropsblankett!$D$76=$A$12),AE12,IF(AND(Avropsblankett!$G$76=$C$10,Avropsblankett!$C$76=$B$6,Avropsblankett!$D$76=$A$13),AE13,IF(AND(Avropsblankett!$G$76=$C$10,Avropsblankett!$C$76=$B$6,Avropsblankett!$D$76=$A$14),AE14,IF(AND(Avropsblankett!$G$76=$C$10,Avropsblankett!$C$76=$B$6,Avropsblankett!$D$76=$A$15),AE15,IF(AND(Avropsblankett!$G$76=$C$10,Avropsblankett!$C$76=$B$6,Avropsblankett!$D$76=$A$16),AE16,0))))))","v":0},{"$f":"Avropsblankett!$F$76*IF(AND(Avropsblankett!$G$76=$D$10,Avropsblankett!$C$76=$B$6,Avropsblankett!$D$76=$A$11),AF11,IF(AND(Avropsblankett!$G$76=$D$10,Avropsblankett!$C$76=$B$6,Avropsblankett!$D$76=$A$12),AF12,IF(AND(Avropsblankett!$G$76=$D$10,Avropsblankett!$C$76=$B$6,Avropsblankett!$D$76=$A$13),AF13,IF(AND(Avropsblankett!$G$76=$D$10,Avropsblankett!$C$76=$B$6,Avropsblankett!$D$76=$A$14),AF14,IF(AND(Avropsblankett!$G$76=$D$10,Avropsblankett!$C$76=$B$6,Avropsblankett!$D$76=$A$15),AF15,IF(AND(Avropsblankett!$G$76=$D$10,Avropsblankett!$C$76=$B$6,Avropsblankett!$D$76=$A$16),AF16,0))))))","v":0},null,{"$f":"Avropsblankett!$F$76*IF(AND(Avropsblankett!$G$76=$B$10,Avropsblankett!$C$76=$B$6,Avropsblankett!$D$76=$A$11),AH11,IF(AND(Avropsblankett!$G$76=$B$10,Avropsblankett!$C$76=$B$6,Avropsblankett!$D$76=$A$12),AH12,IF(AND(Avropsblankett!$G$76=$B$10,Avropsblankett!$C$76=$B$6,Avropsblankett!$D$76=$A$13),AH13,IF(AND(Avropsblankett!$G$76=$B$10,Avropsblankett!$C$76=$B$6,Avropsblankett!$D$76=$A$14),AH14,IF(AND(Avropsblankett!$G$76=$B$10,Avropsblankett!$C$76=$B$6,Avropsblankett!$D$76=$A$15),AH15,IF(AND(Avropsblankett!$G$76=$B$10,Avropsblankett!$C$76=$B$6,Avropsblankett!$D$76=$A$16),AH16,0))))))","v":0},{"$f":"Avropsblankett!$F$76*IF(AND(Avropsblankett!$G$76=$C$10,Avropsblankett!$C$76=$B$6,Avropsblankett!$D$76=$A$11),AI11,IF(AND(Avropsblankett!$G$76=$C$10,Avropsblankett!$C$76=$B$6,Avropsblankett!$D$76=$A$12),AI12,IF(AND(Avropsblankett!$G$76=$C$10,Avropsblankett!$C$76=$B$6,Avropsblankett!$D$76=$A$13),AI13,IF(AND(Avropsblankett!$G$76=$C$10,Avropsblankett!$C$76=$B$6,Avropsblankett!$D$76=$A$14),AI14,IF(AND(Avropsblankett!$G$76=$C$10,Avropsblankett!$C$76=$B$6,Avropsblankett!$D$76=$A$15),AI15,IF(AND(Avropsblankett!$G$76=$C$10,Avropsblankett!$C$76=$B$6,Avropsblankett!$D$76=$A$16),AI16,0))))))","v":0},{"$f":"Avropsblankett!$F$76*IF(AND(Avropsblankett!$G$76=$D$10,Avropsblankett!$C$76=$B$6,Avropsblankett!$D$76=$A$11),AJ11,IF(AND(Avropsblankett!$G$76=$D$10,Avropsblankett!$C$76=$B$6,Avropsblankett!$D$76=$A$12),AJ12,IF(AND(Avropsblankett!$G$76=$D$10,Avropsblankett!$C$76=$B$6,Avropsblankett!$D$76=$A$13),AJ13,IF(AND(Avropsblankett!$G$76=$D$10,Avropsblankett!$C$76=$B$6,Avropsblankett!$D$76=$A$14),AJ14,IF(AND(Avropsblankett!$G$76=$D$10,Avropsblankett!$C$76=$B$6,Avropsblankett!$D$76=$A$15),AJ15,IF(AND(Avropsblankett!$G$76=$D$10,Avropsblankett!$C$76=$B$6,Avropsblankett!$D$76=$A$16),AJ16,0))))))","v":0},null,{"$f":"Avropsblankett!$F$76*IF(AND(Avropsblankett!$G$76=$B$10,Avropsblankett!$C$76=$B$6,Avropsblankett!$D$76=$A$11),AL11,IF(AND(Avropsblankett!$G$76=$B$10,Avropsblankett!$C$76=$B$6,Avropsblankett!$D$76=$A$12),AL12,IF(AND(Avropsblankett!$G$76=$B$10,Avropsblankett!$C$76=$B$6,Avropsblankett!$D$76=$A$13),AL13,IF(AND(Avropsblankett!$G$76=$B$10,Avropsblankett!$C$76=$B$6,Avropsblankett!$D$76=$A$14),AL14,IF(AND(Avropsblankett!$G$76=$B$10,Avropsblankett!$C$76=$B$6,Avropsblankett!$D$76=$A$15),AL15,IF(AND(Avropsblankett!$G$76=$B$10,Avropsblankett!$C$76=$B$6,Avropsblankett!$D$76=$A$16),AL16,0))))))","v":0},{"$f":"Avropsblankett!$F$76*IF(AND(Avropsblankett!$G$76=$C$10,Avropsblankett!$C$76=$B$6,Avropsblankett!$D$76=$A$11),AM11,IF(AND(Avropsblankett!$G$76=$C$10,Avropsblankett!$C$76=$B$6,Avropsblankett!$D$76=$A$12),AM12,IF(AND(Avropsblankett!$G$76=$C$10,Avropsblankett!$C$76=$B$6,Avropsblankett!$D$76=$A$13),AM13,IF(AND(Avropsblankett!$G$76=$C$10,Avropsblankett!$C$76=$B$6,Avropsblankett!$D$76=$A$14),AM14,IF(AND(Avropsblankett!$G$76=$C$10,Avropsblankett!$C$76=$B$6,Avropsblankett!$D$76=$A$15),AM15,IF(AND(Avropsblankett!$G$76=$C$10,Avropsblankett!$C$76=$B$6,Avropsblankett!$D$76=$A$16),AM16,0))))))","v":0},{"$f":"Avropsblankett!$F$76*IF(AND(Avropsblankett!$G$76=$D$10,Avropsblankett!$C$76=$B$6,Avropsblankett!$D$76=$A$11),AN11,IF(AND(Avropsblankett!$G$76=$D$10,Avropsblankett!$C$76=$B$6,Avropsblankett!$D$76=$A$12),AN12,IF(AND(Avropsblankett!$G$76=$D$10,Avropsblankett!$C$76=$B$6,Avropsblankett!$D$76=$A$13),AN13,IF(AND(Avropsblankett!$G$76=$D$10,Avropsblankett!$C$76=$B$6,Avropsblankett!$D$76=$A$14),AN14,IF(AND(Avropsblankett!$G$76=$D$10,Avropsblankett!$C$76=$B$6,Avropsblankett!$D$76=$A$15),AN15,IF(AND(Avropsblankett!$G$76=$D$10,Avropsblankett!$C$76=$B$6,Avropsblankett!$D$76=$A$16),AN16,0))))))","v":0}]
[null,{"$f":"SUM(B17:B21)","v":0},{"$f":"SUM(C17:C21)","v":0},{"$f":"SUM(D17:D21)","v":0},null,{"$f":"SUM(F17:F21)","v":0},{"$f":"SUM(G17:G21)","v":0},{"$f":"SUM(H17:H21)","v":0},null,{"$f":"SUM(J17:J21)","v":0},{"$f":"SUM(K17:K21)","v":0},{"$f":"SUM(L17:L21)","v":0},null,{"$f":"SUM(N17:N21)","v":0},{"$f":"SUM(O17:O21)","v":0},{"$f":"SUM(P17:P21)","v":0},null,{"$f":"SUM(R17:R21)","v":0},{"$f":"SUM(S17:S21)","v":0},{"$f":"SUM(T17:T21)","v":0},null,{"$f":"SUM(V17:V21)","v":0},{"$f":"SUM(W17:W21)","v":0},{"$f":"SUM(X17:X21)","v":0},null,{"$f":"SUM(Z17:Z21)","v":0},{"$f":"SUM(AA17:AA21)","v":0},{"$f":"SUM(AB17:AB21)","v":0},null,{"$f":"SUM(AD17:AD21)","v":0},{"$f":"SUM(AE17:AE21)","v":0},{"$f":"SUM(AF17:AF21)","v":0},null,{"$f":"SUM(AH17:AH21)","v":0},{"$f":"SUM(AI17:AI21)","v":0},{"$f":"SUM(AJ17:AJ21)","v":0},null,{"$f":"SUM(AL17:AL21)","v":0},{"$f":"SUM(AM17:AM21)","v":0},{"$f":"SUM(AN17:AN21)","v":0}]
["Variant 2 Obestruket","Upplaga",null,null,null,"Upplaga",null,null,null,"Upplaga",null,null,null,"Upplaga",null,null,null,"Upplaga",null,null,null,"Upplaga",null,null,null,"Upplaga",null,null,null,"Upplaga",null,null,null,"Upplaga",null,null,null,"Upplaga"]
[null,100,250,500,null,100,250,500,null,100,250,500,null,100,250,500,null,100,250,500,null,100,250,500,null,100,250,500,null,100,250,500,null,100,250,500,null,100,250,500]
["1+0 (svart)",100,250,500,null,100,125,250,null,250,300,350,null,100,200,350,null,35,46,88,null,213,213,235,null,400,500,600,null,300,360,480,null,250,350,450,null,250,300,400]
["1+1 (svart)",130,280,500,null,125,150,300,null,300,350,400,null,105,210,360,null,35,46,88,null,285,285,307,null,400,500,600,null,324,396,540,null,300,400,500,null,270,330,450]
["4+0",200,350,500,null,175,200,400,null,350,400,500,null,100,200,350,null,46,46,88,null,213,213,235,null,400,500,600,null,300,360,480,null,300,400,500,null,250,300,400]
["4+4",220,370,500,null,225,250,500,null,400,450,550,null,110,220,370,null,46,46,88,null,285,285,307,null,450,550,650,null,324,396,540,null,350,450,550,null,270,330,450]
["2+0 (svart + PMS)",200,350,500,null,650,675,1050,null,350,400,500,null,100,200,350,null,95,155,253,null,213,213,235,null,2000,2100,2200,null,540,600,720,null,250,300,350,null,450,500,600]
["2+2 (svart + PMS)",220,370,500,null,775,975,1350,null,400,450,550,null,110,220,370,null,95,155,253,null,285,285,307,null,2100,2200,2300,null,600,660,780,null,300,400,500,null,500,550,650]
[null,{"$f":"Avropsblankett!$F$28*IF(AND(Avropsblankett!$G$28=$B$10,Avropsblankett!$C$28=$B$7,Avropsblankett!$D$28=$A$11),B25,IF(AND(Avropsblankett!$G$28=$B$10,Avropsblankett!$C$28=$B$7,Avropsblankett!$D$28=$A$12),B26,IF(AND(Avropsblankett!$G$28=$B$10,Avropsblankett!$C$28=$B$7,Avropsblankett!$D$28=$A$13),B27,IF(AND(Avropsblankett!$G$28=$B$10,Avropsblankett!$C$28=$B$7,Avropsblankett!$D$28=$A$14),B28,IF(AND(Avropsblankett!$G$28=$B$10,Avropsblankett!$C$28=$B$7,Avropsblankett!$D$28=$A$15),B29,IF(AND(Avropsblankett!$G$28=$B$10,Avropsblankett!$C$28=$B$7,Avropsblankett!$D$28=$A$16),B30,0))))))","v":0},{"$f":"Avropsblankett!$F$28*IF(AND(Avropsblankett!$G$28=$C$10,Avropsblankett!$C$28=$B$7,Avropsblankett!$D$28=$A$11),C25,IF(AND(Avropsblankett!$G$28=$C$10,Avropsblankett!$C$28=$B$7,Avropsblankett!$D$28=$A$12),C26,IF(AND(Avropsblankett!$G$28=$C$10,Avropsblankett!$C$28=$B$7,Avropsblankett!$D$28=$A$13),C27,IF(AND(Avropsblankett!$G$28=$C$10,Avropsblankett!$C$28=$B$7,Avropsblankett!$D$28=$A$14),C28,IF(AND(Avropsblankett!$G$28=$C$10,Avropsblankett!$C$28=$B$7,Avropsblankett!$D$28=$A$15),C29,IF(AND(Avropsblankett!$G$28=$C$10,Avropsblankett!$C$28=$B$7,Avropsblankett!$D$28=$A$16),C30,0))))))","v":0},{"$f":"Avropsblankett!$F$28*IF(AND(Avropsblankett!$G$28=$D$10,Avropsblankett!$C$28=$B$7,Avropsblankett!$D$28=$A$11),D25,IF(AND(Avropsblankett!$G$28=$D$10,Avropsblankett!$C$28=$B$7,Avropsblankett!$D$28=$A$12),D26,IF(AND(Avropsblankett!$G$28=$D$10,Avropsblankett!$C$28=$B$7,Avropsblankett!$D$28=$A$13),D27,IF(AND(Avropsblankett!$G$28=$D$10,Avropsblankett!$C$28=$B$7,Avropsblankett!$D$28=$A$14),D28,IF(AND(Avropsblankett!$G$28=$D$10,Avropsblankett!$C$28=$B$7,Avropsblankett!$D$28=$A$15),D29,IF(AND(Avropsblankett!$G$28=$D$10,Avropsblankett!$C$28=$B$7,Avropsblankett!$D$28=$A$16),D30,0))))))","v":0},null,{"$f":"Avropsblankett!$F$28*IF(AND(Avropsblankett!$G$28=$B$10,Avropsblankett!$C$28=$B$7,Avropsblankett!$D$28=$A$11),F25,IF(AND(Avropsblankett!$G$28=$B$10,Avropsblankett!$C$28=$B$7,Avropsblankett!$D$28=$A$12),F26,IF(AND(Avropsblankett!$G$28=$B$10,Avropsblankett!$C$28=$B$7,Avropsblankett!$D$28=$A$13),F27,IF(AND(Avropsblankett!$G$28=$B$10,Avropsblankett!$C$28=$B$7,Avropsblankett!$D$28=$A$14),F28,IF(AND(Avropsblankett!$G$28=$B$10,Avropsblankett!$C$28=$B$7,Avropsblankett!$D$28=$A$15),F29,IF(AND(Avropsblankett!$G$28=$B$10,Avropsblankett!$C$28=$B$7,Avropsblankett!$D$28=$A$16),F30,0))))))","v":0},{"$f":"Avropsblankett!$F$28*IF(AND(Avropsblankett!$G$28=$C$10,Avropsblankett!$C$28=$B$7,Avropsblankett!$D$28=$A$11),G25,IF(AND(Avropsblankett!$G$28=$C$10,Avropsblankett!$C$28=$B$7,Avropsblankett!$D$28=$A$12),G26,IF(AND(Avropsblankett!$G$28=$C$10,Avropsblankett!$C$28=$B$7,Avropsblankett!$D$28=$A$13),G27,IF(AND(Avropsblankett!$G$28=$C$10,Avropsblankett!$C$28=$B$7,Avropsblankett!$D$28=$A$14),G28,IF(AND(Avropsblankett!$G$28=$C$10,Avropsblankett!$C$28=$B$7,Avropsblankett!$D$28=$A$15),G29,IF(AND(Avropsblankett!$G$28=$C$10,Avropsblankett!$C$28=$B$7,Avropsblankett!$D$28=$A$16),G30,0))))))","v":0},{"$f":"Avropsblankett!$F$28*IF(AND(Avropsblankett!$G$28=$D$10,Avropsblankett!$C$28=$B$7,Avropsblankett!$D$28=$A$11),H25,IF(AND(Avropsblankett!$G$28=$D$10,Avropsblankett!$C$28=$B$7,Avropsblankett!$D$28=$A$12),H26,IF(AND(Avropsblankett!$G$28=$D$10,Avropsblankett!$C$28=$B$7,Avropsblankett!$D$28=$A$13),H27,IF(AND(Avropsblankett!$G$28=$D$10,Avropsblankett!$C$28=$B$7,Avropsblankett!$D$28=$A$14),H28,IF(AND(Avropsblankett!$G$28=$D$10,Avropsblankett!$C$28=$B$7,Avropsblankett!$D$28=$A$15),H29,IF(AND(Avropsblankett!$G$28=$D$10,Avropsblankett!$C$28=$B$7,Avropsblankett!$D$28=$A$16),H30,0))))))","v":0},null,{"$f":"Avropsblankett!$F$28*IF(AND(Avropsblankett!$G$28=$B$10,Avropsblankett!$C$28=$B$7,Avropsblankett!$D$28=$A$11),J25,IF(AND(Avropsblankett!$G$28=$B$10,Avropsblankett!$C$28=$B$7,Avropsblankett!$D$28=$A$12),J26,IF(AND(Avropsblankett!$G$28=$B$10,Avropsblankett!$C$28=$B$7,Avropsblankett!$D$28=$A$13),J27,IF(AND(Avropsblankett!$G$28=$B$10,Avropsblankett!$C$28=$B$7,Avropsblankett!$D$28=$A$14),J28,IF(AND(Avropsblankett!$G$28=$B$10,Avropsblankett!$C$28=$B$7,Avropsblankett!$D$28=$A$15),J29,IF(AND(Avropsblankett!$G$28=$B$10,Avropsblankett!$C$28=$B$7,Avropsblankett!$D$28=$A$16),J30,0))))))","v":0},{"$f":"Avropsblankett!$F$28*IF(AND(Avropsblankett!$G$28=$C$10,Avropsblankett!$C$28=$B$7,Avropsblankett!$D$28=$A$11),K25,IF(AND(Avropsblankett!$G$28=$C$10,Avropsblankett!$C$28=$B$7,Avropsblankett!$D$28=$A$12),K26,IF(AND(Avropsblankett!$G$28=$C$10,Avropsblankett!$C$28=$B$7,Avropsblankett!$D$28=$A$13),K27,IF(AND(Avropsblankett!$G$28=$C$10,Avropsblankett!$C$28=$B$7,Avropsblankett!$D$28=$A$14),K28,IF(AND(Avropsblankett!$G$28=$C$10,Avropsblankett!$C$28=$B$7,Avropsblankett!$D$28=$A$15),K29,IF(AND(Avropsblankett!$G$28=$C$10,Avropsblankett!$C$28=$B$7,Avropsblankett!$D$28=$A$16),K30,0))))))","v":0},{"$f":"Avropsblankett!$F$28*IF(AND(Avropsblankett!$G$28=$D$10,Avropsblankett!$C$28=$B$7,Avropsblankett!$D$28=$A$11),L25,IF(AND(Avropsblankett!$G$28=$D$10,Avropsblankett!$C$28=$B$7,Avropsblankett!$D$28=$A$12),L26,IF(AND(Avropsblankett!$G$28=$D$10,Avropsblankett!$C$28=$B$7,Avropsblankett!$D$28=$A$13),L27,IF(AND(Avropsblankett!$G$28=$D$10,Avropsblankett!$C$28=$B$7,Avropsblankett!$D$28=$A$14),L28,IF(AND(Avropsblankett!$G$28=$D$10,Avropsblankett!$C$28=$B$7,Avropsblankett!$D$28=$A$15),L29,IF(AND(Avropsblankett!$G$28=$D$10,Avropsblankett!$C$28=$B$7,Avropsblankett!$D$28=$A$16),L30,0))))))","v":0},null,{"$f":"Avropsblankett!$F$28*IF(AND(Avropsblankett!$G$28=$B$10,Avropsblankett!$C$28=$B$7,Avropsblankett!$D$28=$A$11),N25,IF(AND(Avropsblankett!$G$28=$B$10,Avropsblankett!$C$28=$B$7,Avropsblankett!$D$28=$A$12),N26,IF(AND(Avropsblankett!$G$28=$B$10,Avropsblankett!$C$28=$B$7,Avropsblankett!$D$28=$A$13),N27,IF(AND(Avropsblankett!$G$28=$B$10,Avropsblankett!$C$28=$B$7,Avropsblankett!$D$28=$A$14),N28,IF(AND(Avropsblankett!$G$28=$B$10,Avropsblankett!$C$28=$B$7,Avropsblankett!$D$28=$A$15),N29,IF(AND(Avropsblankett!$G$28=$B$10,Avropsblankett!$C$28=$B$7,Avropsblankett!$D$28=$A$16),N30,0))))))","v":0},{"$f":"Avropsblankett!$F$28*IF(AND(Avropsblankett!$G$28=$C$10,Avropsblankett!$C$28=$B$7,Avropsblankett!$D$28=$A$11),O25,IF(AND(Avropsblankett!$G$28=$C$10,Avropsblankett!$C$28=$B$7,Avropsblankett!$D$28=$A$12),O26,IF(AND(Avropsblankett!$G$28=$C$10,Avropsblankett!$C$28=$B$7,Avropsblankett!$D$28=$A$13),O27,IF(AND(Avropsblankett!$G$28=$C$10,Avropsblankett!$C$28=$B$7,Avropsblankett!$D$28=$A$14),O28,IF(AND(Avropsblankett!$G$28=$C$10,Avropsblankett!$C$28=$B$7,Avropsblankett!$D$28=$A$15),O29,IF(AND(Avropsblankett!$G$28=$C$10,Avropsblankett!$C$28=$B$7,Avropsblankett!$D$28=$A$16),O30,0))))))","v":0},{"$f":"Avropsblankett!$F$28*IF(AND(Avropsblankett!$G$28=$D$10,Avropsblankett!$C$28=$B$7,Avropsblankett!$D$28=$A$11),P25,IF(AND(Avropsblankett!$G$28=$D$10,Avropsblankett!$C$28=$B$7,Avropsblankett!$D$28=$A$12),P26,IF(AND(Avropsblankett!$G$28=$D$10,Avropsblankett!$C$28=$B$7,Avropsblankett!$D$28=$A$13),P27,IF(AND(Avropsblankett!$G$28=$D$10,Avropsblankett!$C$28=$B$7,Avropsblankett!$D$28=$A$14),P28,IF(AND(Avropsblankett!$G$28=$D$10,Avropsblankett!$C$28=$B$7,Avropsblankett!$D$28=$A$15),P29,IF(AND(Avropsblankett!$G$28=$D$10,Avropsblankett!$C$28=$B$7,Avropsblankett!$D$28=$A$16),P30,0))))))","v":0},null,{"$f":"Avropsblankett!$F$28*IF(AND(Avropsblankett!$G$28=$B$10,Avropsblankett!$C$28=$B$7,Avropsblankett!$D$28=$A$11),R25,IF(AND(Avropsblankett!$G$28=$B$10,Avropsblankett!$C$28=$B$7,Avropsblankett!$D$28=$A$12),R26,IF(AND(Avropsblankett!$G$28=$B$10,Avropsblankett!$C$28=$B$7,Avropsblankett!$D$28=$A$13),R27,IF(AND(Avropsblankett!$G$28=$B$10,Avropsblankett!$C$28=$B$7,Avropsblankett!$D$28=$A$14),R28,IF(AND(Avropsblankett!$G$28=$B$10,Avropsblankett!$C$28=$B$7,Avropsblankett!$D$28=$A$15),R29,IF(AND(Avropsblankett!$G$28=$B$10,Avropsblankett!$C$28=$B$7,Avropsblankett!$D$28=$A$16),R30,0))))))","v":0},{"$f":"Avropsblankett!$F$28*IF(AND(Avropsblankett!$G$28=$C$10,Avropsblankett!$C$28=$B$7,Avropsblankett!$D$28=$A$11),S25,IF(AND(Avropsblankett!$G$28=$C$10,Avropsblankett!$C$28=$B$7,Avropsblankett!$D$28=$A$12),S26,IF(AND(Avropsblankett!$G$28=$C$10,Avropsblankett!$C$28=$B$7,Avropsblankett!$D$28=$A$13),S27,IF(AND(Avropsblankett!$G$28=$C$10,Avropsblankett!$C$28=$B$7,Avropsblankett!$D$28=$A$14),S28,IF(AND(Avropsblankett!$G$28=$C$10,Avropsblankett!$C$28=$B$7,Avropsblankett!$D$28=$A$15),S29,IF(AND(Avropsblankett!$G$28=$C$10,Avropsblankett!$C$28=$B$7,Avropsblankett!$D$28=$A$16),S30,0))))))","v":0},{"$f":"Avropsblankett!$F$28*IF(AND(Avropsblankett!$G$28=$D$10,Avropsblankett!$C$28=$B$7,Avropsblankett!$D$28=$A$11),T25,IF(AND(Avropsblankett!$G$28=$D$10,Avropsblankett!$C$28=$B$7,Avropsblankett!$D$28=$A$12),T26,IF(AND(Avropsblankett!$G$28=$D$10,Avropsblankett!$C$28=$B$7,Avropsblankett!$D$28=$A$13),T27,IF(AND(Avropsblankett!$G$28=$D$10,Avropsblankett!$C$28=$B$7,Avropsblankett!$D$28=$A$14),T28,IF(AND(Avropsblankett!$G$28=$D$10,Avropsblankett!$C$28=$B$7,Avropsblankett!$D$28=$A$15),T29,IF(AND(Avropsblankett!$G$28=$D$10,Avropsblankett!$C$28=$B$7,Avropsblankett!$D$28=$A$16),T30,0))))))","v":0},null,{"$f":"Avropsblankett!$F$28*IF(AND(Avropsblankett!$G$28=$B$10,Avropsblankett!$C$28=$B$7,Avropsblankett!$D$28=$A$11),V25,IF(AND(Avropsblankett!$G$28=$B$10,Avropsblankett!$C$28=$B$7,Avropsblankett!$D$28=$A$12),V26,IF(AND(Avropsblankett!$G$28=$B$10,Avropsblankett!$C$28=$B$7,Avropsblankett!$D$28=$A$13),V27,IF(AND(Avropsblankett!$G$28=$B$10,Avropsblankett!$C$28=$B$7,Avropsblankett!$D$28=$A$14),V28,IF(AND(Avropsblankett!$G$28=$B$10,Avropsblankett!$C$28=$B$7,Avropsblankett!$D$28=$A$15),V29,IF(AND(Avropsblankett!$G$28=$B$10,Avropsblankett!$C$28=$B$7,Avropsblankett!$D$28=$A$16),V30,0))))))","v":0},{"$f":"Avropsblankett!$F$28*IF(AND(Avropsblankett!$G$28=$C$10,Avropsblankett!$C$28=$B$7,Avropsblankett!$D$28=$A$11),W25,IF(AND(Avropsblankett!$G$28=$C$10,Avropsblankett!$C$28=$B$7,Avropsblankett!$D$28=$A$12),W26,IF(AND(Avropsblankett!$G$28=$C$10,Avropsblankett!$C$28=$B$7,Avropsblankett!$D$28=$A$13),W27,IF(AND(Avropsblankett!$G$28=$C$10,Avropsblankett!$C$28=$B$7,Avropsblankett!$D$28=$A$14),W28,IF(AND(Avropsblankett!$G$28=$C$10,Avropsblankett!$C$28=$B$7,Avropsblankett!$D$28=$A$15),W29,IF(AND(Avropsblankett!$G$28=$C$10,Avropsblankett!$C$28=$B$7,Avropsblankett!$D$28=$A$16),W30,0))))))","v":0},{"$f":"Avropsblankett!$F$28*IF(AND(Avropsblankett!$G$28=$D$10,Avropsblankett!$C$28=$B$7,Avropsblankett!$D$28=$A$11),X25,IF(AND(Avropsblankett!$G$28=$D$10,Avropsblankett!$C$28=$B$7,Avropsblankett!$D$28=$A$12),X26,IF(AND(Avropsblankett!$G$28=$D$10,Avropsblankett!$C$28=$B$7,Avropsblankett!$D$28=$A$13),X27,IF(AND(Avropsblankett!$G$28=$D$10,Avropsblankett!$C$28=$B$7,Avropsblankett!$D$28=$A$14),X28,IF(AND(Avropsblankett!$G$28=$D$10,Avropsblankett!$C$28=$B$7,Avropsblankett!$D$28=$A$15),X29,IF(AND(Avropsblankett!$G$28=$D$10,Avropsblankett!$C$28=$B$7,Avropsblankett!$D$28=$A$16),X30,0))))))","v":0},null,{"$f":"Avropsblankett!$F$28*IF(AND(Avropsblankett!$G$28=$B$10,Avropsblankett!$C$28=$B$7,Avropsblankett!$D$28=$A$11),Z25,IF(AND(Avropsblankett!$G$28=$B$10,Avropsblankett!$C$28=$B$7,Avropsblankett!$D$28=$A$12),Z26,IF(AND(Avropsblankett!$G$28=$B$10,Avropsblankett!$C$28=$B$7,Avropsblankett!$D$28=$A$13),Z27,IF(AND(Avropsblankett!$G$28=$B$10,Avropsblankett!$C$28=$B$7,Avropsblankett!$D$28=$A$14),Z28,IF(AND(Avropsblankett!$G$28=$B$10,Avropsblankett!$C$28=$B$7,Avropsblankett!$D$28=$A$15),Z29,IF(AND(Avropsblankett!$G$28=$B$10,Avropsblankett!$C$28=$B$7,Avropsblankett!$D$28=$A$16),Z30,0))))))","v":0},{"$f":"Avropsblankett!$F$28*IF(AND(Avropsblankett!$G$28=$C$10,Avropsblankett!$C$28=$B$7,Avropsblankett!$D$28=$A$11),AA25,IF(AND(Avropsblankett!$G$28=$C$10,Avropsblankett!$C$28=$B$7,Avropsblankett!$D$28=$A$12),AA26,IF(AND(Avropsblankett!$G$28=$C$10,Avropsblankett!$C$28=$B$7,Avropsblankett!$D$28=$A$13),AA27,IF(AND(Avropsblankett!$G$28=$C$10,Avropsblankett!$C$28=$B$7,Avropsblankett!$D$28=$A$14),AA28,IF(AND(Avropsblankett!$G$28=$C$10,Avropsblankett!$C$28=$B$7,Avropsblankett!$D$28=$A$15),AA29,IF(AND(Avropsblankett!$G$28=$C$10,Avropsblankett!$C$28=$B$7,Avropsblankett!$D$28=$A$16),AA30,0))))))","v":0},{"$f":"Avropsblankett!$F$28*IF(AND(Avropsblankett!$G$28=$D$10,Avropsblankett!$C$28=$B$7,Avropsblankett!$D$28=$A$11),AB25,IF(AND(Avropsblankett!$G$28=$D$10,Avropsblankett!$C$28=$B$7,Avropsblankett!$D$28=$A$12),AB26,IF(AND(Avropsblankett!$G$28=$D$10,Avropsblankett!$C$28=$B$7,Avropsblankett!$D$28=$A$13),AB27,IF(AND(Avropsblankett!$G$28=$D$10,Avropsblankett!$C$28=$B$7,Avropsblankett!$D$28=$A$14),AB28,IF(AND(Avropsblankett!$G$28=$D$10,Avropsblankett!$C$28=$B$7,Avropsblankett!$D$28=$A$15),AB29,IF(AND(Avropsblankett!$G$28=$D$10,Avropsblankett!$C$28=$B$7,Avropsblankett!$D$28=$A$16),AB30,0))))))","v":0},null,{"$f":"Avropsblankett!$F$28*IF(AND(Avropsblankett!$G$28=$B$10,Avropsblankett!$C$28=$B$7,Avropsblankett!$D$28=$A$11),AD25,IF(AND(Avropsblankett!$G$28=$B$10,Avropsblankett!$C$28=$B$7,Avropsblankett!$D$28=$A$12),AD26,IF(AND(Avropsblankett!$G$28=$B$10,Avropsblankett!$C$28=$B$7,Avropsblankett!$D$28=$A$13),AD27,IF(AND(Avropsblankett!$G$28=$B$10,Avropsblankett!$C$28=$B$7,Avropsblankett!$D$28=$A$14),AD28,IF(AND(Avropsblankett!$G$28=$B$10,Avropsblankett!$C$28=$B$7,Avropsblankett!$D$28=$A$15),AD29,IF(AND(Avropsblankett!$G$28=$B$10,Avropsblankett!$C$28=$B$7,Avropsblankett!$D$28=$A$16),AD30,0))))))","v":0},{"$f":"Avropsblankett!$F$28*IF(AND(Avropsblankett!$G$28=$C$10,Avropsblankett!$C$28=$B$7,Avropsblankett!$D$28=$A$11),AE25,IF(AND(Avropsblankett!$G$28=$C$10,Avropsblankett!$C$28=$B$7,Avropsblankett!$D$28=$A$12),AE26,IF(AND(Avropsblankett!$G$28=$C$10,Avropsblankett!$C$28=$B$7,Avropsblankett!$D$28=$A$13),AE27,IF(AND(Avropsblankett!$G$28=$C$10,Avropsblankett!$C$28=$B$7,Avropsblankett!$D$28=$A$14),AE28,IF(AND(Avropsblankett!$G$28=$C$10,Avropsblankett!$C$28=$B$7,Avropsblankett!$D$28=$A$15),AE29,IF(AND(Avropsblankett!$G$28=$C$10,Avropsblankett!$C$28=$B$7,Avropsblankett!$D$28=$A$16),AE30,0))))))","v":0},{"$f":"Avropsblankett!$F$28*IF(AND(Avropsblankett!$G$28=$D$10,Avropsblankett!$C$28=$B$7,Avropsblankett!$D$28=$A$11),AF25,IF(AND(Avropsblankett!$G$28=$D$10,Avropsblankett!$C$28=$B$7,Avropsblankett!$D$28=$A$12),AF26,IF(AND(Avropsblankett!$G$28=$D$10,Avropsblankett!$C$28=$B$7,Avropsblankett!$D$28=$A$13),AF27,IF(AND(Avropsblankett!$G$28=$D$10,Avropsblankett!$C$28=$B$7,Avropsblankett!$D$28=$A$14),AF28,IF(AND(Avropsblankett!$G$28=$D$10,Avropsblankett!$C$28=$B$7,Avropsblankett!$D$28=$A$15),AF29,IF(AND(Avropsblankett!$G$28=$D$10,Avropsblankett!$C$28=$B$7,Avropsblankett!$D$28=$A$16),AF30,0))))))","v":0},null,{"$f":"Avropsblankett!$F$28*IF(AND(Avropsblankett!$G$28=$B$10,Avropsblankett!$C$28=$B$7,Avropsblankett!$D$28=$A$11),AH25,IF(AND(Avropsblankett!$G$28=$B$10,Avropsblankett!$C$28=$B$7,Avropsblankett!$D$28=$A$12),AH26,IF(AND(Avropsblankett!$G$28=$B$10,Avropsblankett!$C$28=$B$7,Avropsblankett!$D$28=$A$13),AH27,IF(AND(Avropsblankett!$G$28=$B$10,Avropsblankett!$C$28=$B$7,Avropsblankett!$D$28=$A$14),AH28,IF(AND(Avropsblankett!$G$28=$B$10,Avropsblankett!$C$28=$B$7,Avropsblankett!$D$28=$A$15),AH29,IF(AND(Avropsblankett!$G$28=$B$10,Avropsblankett!$C$28=$B$7,Avropsblankett!$D$28=$A$16),AH30,0))))))","v":0},{"$f":"Avropsblankett!$F$28*IF(AND(Avropsblankett!$G$28=$C$10,Avropsblankett!$C$28=$B$7,Avropsblankett!$D$28=$A$11),AI25,IF(AND(Avropsblankett!$G$28=$C$10,Avropsblankett!$C$28=$B$7,Avropsblankett!$D$28=$A$12),AI26,IF(AND(Avropsblankett!$G$28=$C$10,Avropsblankett!$C$28=$B$7,Avropsblankett!$D$28=$A$13),AI27,IF(AND(Avropsblankett!$G$28=$C$10,Avropsblankett!$C$28=$B$7,Avropsblankett!$D$28=$A$14),AI28,IF(AND(Avropsblankett!$G$28=$C$10,Avropsblankett!$C$28=$B$7,Avropsblankett!$D$28=$A$15),AI29,IF(AND(Avropsblankett!$G$28=$C$10,Avropsblankett!$C$28=$B$7,Avropsblankett!$D$28=$A$16),AI30,0))))))","v":0},{"$f":"Avropsblankett!$F$28*IF(AND(Avropsblankett!$G$28=$D$10,Avropsblankett!$C$28=$B$7,Avropsblankett!$D$28=$A$11),AJ25,IF(AND(Avropsblankett!$G$28=$D$10,Avropsblankett!$C$28=$B$7,Avropsblankett!$D$28=$A$12),AJ26,IF(AND(Avropsblankett!$G$28=$D$10,Avropsblankett!$C$28=$B$7,Avropsblankett!$D$28=$A$13),AJ27,IF(AND(Avropsblankett!$G$28=$D$10,Avropsblankett!$C$28=$B$7,Avropsblankett!$D$28=$A$14),AJ28,IF(AND(Avropsblankett!$G$28=$D$10,Avropsblankett!$C$28=$B$7,Avropsblankett!$D$28=$A$15),AJ29,IF(AND(Avropsblankett!$G$28=$D$10,Avropsblankett!$C$28=$B$7,Avropsblankett!$D$28=$A$16),AJ30,0))))))","v":0},null,{"$f":"Avropsblankett!$F$28*IF(AND(Avropsblankett!$G$28=$B$10,Avropsblankett!$C$28=$B$7,Avropsblankett!$D$28=$A$11),AL25,IF(AND(Avropsblankett!$G$28=$B$10,Avropsblankett!$C$28=$B$7,Avropsblankett!$D$28=$A$12),AL26,IF(AND(Avropsblankett!$G$28=$B$10,Avropsblankett!$C$28=$B$7,Avropsblankett!$D$28=$A$13),AL27,IF(AND(Avropsblankett!$G$28=$B$10,Avropsblankett!$C$28=$B$7,Avropsblankett!$D$28=$A$14),AL28,IF(AND(Avropsblankett!$G$28=$B$10,Avropsblankett!$C$28=$B$7,Avropsblankett!$D$28=$A$15),AL29,IF(AND(Avropsblankett!$G$28=$B$10,Avropsblankett!$C$28=$B$7,Avropsblankett!$D$28=$A$16),AL30,0))))))","v":0},{"$f":"Avropsblankett!$F$28*IF(AND(Avropsblankett!$G$28=$C$10,Avropsblankett!$C$28=$B$7,Avropsblankett!$D$28=$A$11),AM25,IF(AND(Avropsblankett!$G$28=$C$10,Avropsblankett!$C$28=$B$7,Avropsblankett!$D$28=$A$12),AM26,IF(AND(Avropsblankett!$G$28=$C$10,Avropsblankett!$C$28=$B$7,Avropsblankett!$D$28=$A$13),AM27,IF(AND(Avropsblankett!$G$28=$C$10,Avropsblankett!$C$28=$B$7,Avropsblankett!$D$28=$A$14),AM28,IF(AND(Avropsblankett!$G$28=$C$10,Avropsblankett!$C$28=$B$7,Avropsblankett!$D$28=$A$15),AM29,IF(AND(Avropsblankett!$G$28=$C$10,Avropsblankett!$C$28=$B$7,Avropsblankett!$D$28=$A$16),AM30,0))))))","v":0},{"$f":"Avropsblankett!$F$28*IF(AND(Avropsblankett!$G$28=$D$10,Avropsblankett!$C$28=$B$7,Avropsblankett!$D$28=$A$11),AN25,IF(AND(Avropsblankett!$G$28=$D$10,Avropsblankett!$C$28=$B$7,Avropsblankett!$D$28=$A$12),AN26,IF(AND(Avropsblankett!$G$28=$D$10,Avropsblankett!$C$28=$B$7,Avropsblankett!$D$28=$A$13),AN27,IF(AND(Avropsblankett!$G$28=$D$10,Avropsblankett!$C$28=$B$7,Avropsblankett!$D$28=$A$14),AN28,IF(AND(Avropsblankett!$G$28=$D$10,Avropsblankett!$C$28=$B$7,Avropsblankett!$D$28=$A$15),AN29,IF(AND(Avropsblankett!$G$28=$D$10,Avropsblankett!$C$28=$B$7,Avropsblankett!$D$28=$A$16),AN30,0))))))","v":0}]
[null,{"$f":"Avropsblankett!$F$40*IF(AND(Avropsblankett!$G$40=$B$10,Avropsblankett!$C$40=$B$7,Avropsblankett!$D$40=$A$11),B25,IF(AND(Avropsblankett!$G$40=$B$10,Avropsblankett!$C$40=$B$7,Avropsblankett!$D$40=$A$12),B26,IF(AND(Avropsblankett!$G$40=$B$10,Avropsblankett!$C$40=$B$7,Avropsblankett!$D$40=$A$13),B27,IF(AND(Avropsblankett!$G$40=$B$10,Avropsblankett!$C$40=$B$7,Avropsblankett!$D$40=$A$14),B28,IF(AND(Avropsblankett!$G$40=$B$10,Avropsblankett!$C$40=$B$7,Avropsblankett!$D$40=$A$15),B29,IF(AND(Avropsblankett!$G$40=$B$10,Avropsblankett!$C$40=$B$7,Avropsblankett!$D$40=$A$16),B30,0))))))","v":0},{"$f":"Avropsblankett!$F$40*IF(AND(Avropsblankett!$G$40=$C$10,Avropsblankett!$C$40=$B$7,Avropsblankett!$D$40=$A$11),C25,IF(AND(Avropsblankett!$G$40=$C$10,Avropsblankett!$C$40=$B$7,Avropsblankett!$D$40=$A$12),C26,IF(AND(Avropsblankett!$G$40=$C$10,Avropsblankett!$C$40=$B$7,Avropsblankett!$D$40=$A$13),C27,IF(AND(Avropsblankett!$G$40=$C$10,Avropsblankett!$C$40=$B$7,Avropsblankett!$D$40=$A$14),C28,IF(AND(Avropsblankett!$G$40=$C$10,Avropsblankett!$C$40=$B$7,Avropsblankett!$D$40=$A$15),C29,IF(AND(Avropsblankett!$G$40=$C$10,Avropsblankett!$C$40=$B$7,Avropsblankett!$D$40=$A$16),C30,0))))))","v":0},{"$f":"Avropsblankett!$F$40*IF(AND(Avropsblankett!$G$40=$D$10,Avropsblankett!$C$40=$B$7,Avropsblankett!$D$40=$A$11),D25,IF(AND(Avropsblankett!$G$40=$D$10,Avropsblankett!$C$40=$B$7,Avropsblankett!$D$40=$A$12),D26,IF(AND(Avropsblankett!$G$40=$D$10,Avropsblankett!$C$40=$B$7,Avropsblankett!$D$40=$A$13),D27,IF(AND(Avropsblankett!$G$40=$D$10,Avropsblankett!$C$40=$B$7,Avropsblankett!$D$40=$A$14),D28,IF(AND(Avropsblankett!$G$40=$D$10,Avropsblankett!$C$40=$B$7,Avropsblankett!$D$40=$A$15),D29,IF(AND(Avropsblankett!$G$40=$D$10,Avropsblankett!$C$40=$B$7,Avropsblankett!$D$40=$A$16),D30,0))))))","v":0},null,{"$f":"Avropsblankett!$F$40*IF(AND(Avropsblankett!$G$40=$B$10,Avropsblankett!$C$40=$B$7,Avropsblankett!$D$40=$A$11),F25,IF(AND(Avropsblankett!$G$40=$B$10,Avropsblankett!$C$40=$B$7,Avropsblankett!$D$40=$A$12),F26,IF(AND(Avropsblankett!$G$40=$B$10,Avropsblankett!$C$40=$B$7,Avropsblankett!$D$40=$A$13),F27,IF(AND(Avropsblankett!$G$40=$B$10,Avropsblankett!$C$40=$B$7,Avropsblankett!$D$40=$A$14),F28,IF(AND(Avropsblankett!$G$40=$B$10,Avropsblankett!$C$40=$B$7,Avropsblankett!$D$40=$A$15),F29,IF(AND(Avropsblankett!$G$40=$B$10,Avropsblankett!$C$40=$B$7,Avropsblankett!$D$40=$A$16),F30,0))))))","v":0},{"$f":"Avropsblankett!$F$40*IF(AND(Avropsblankett!$G$40=$C$10,Avropsblankett!$C$40=$B$7,Avropsblankett!$D$40=$A$11),G25,IF(AND(Avropsblankett!$G$40=$C$10,Avropsblankett!$C$40=$B$7,Avropsblankett!$D$40=$A$12),G26,IF(AND(Avropsblankett!$G$40=$C$10,Avropsblankett!$C$40=$B$7,Avropsblankett!$D$40=$A$13),G27,IF(AND(Avropsblankett!$G$40=$C$10,Avropsblankett!$C$40=$B$7,Avropsblankett!$D$40=$A$14),G28,IF(AND(Avropsblankett!$G$40=$C$10,Avropsblankett!$C$40=$B$7,Avropsblankett!$D$40=$A$15),G29,IF(AND(Avropsblankett!$G$40=$C$10,Avropsblankett!$C$40=$B$7,Avropsblankett!$D$40=$A$16),G30,0))))))","v":0},{"$f":"Avropsblankett!$F$40*IF(AND(Avropsblankett!$G$40=$D$10,Avropsblankett!$C$40=$B$7,Avropsblankett!$D$40=$A$11),H25,IF(AND(Avropsblankett!$G$40=$D$10,Avropsblankett!$C$40=$B$7,Avropsblankett!$D$40=$A$12),H26,IF(AND(Avropsblankett!$G$40=$D$10,Avropsblankett!$C$40=$B$7,Avropsblankett!$D$40=$A$13),H27,IF(AND(Avropsblankett!$G$40=$D$10,Avropsblankett!$C$40=$B$7,Avropsblankett!$D$40=$A$14),H28,IF(AND(Avropsblankett!$G$40=$D$10,Avropsblankett!$C$40=$B$7,Avropsblankett!$D$40=$A$15),H29,IF(AND(Avropsblankett!$G$40=$D$10,Avropsblankett!$C$40=$B$7,Avropsblankett!$D$40=$A$16),H30,0))))))","v":0},null,{"$f":"Avropsblankett!$F$40*IF(AND(Avropsblankett!$G$40=$B$10,Avropsblankett!$C$40=$B$7,Avropsblankett!$D$40=$A$11),J25,IF(AND(Avropsblankett!$G$40=$B$10,Avropsblankett!$C$40=$B$7,Avropsblankett!$D$40=$A$12),J26,IF(AND(Avropsblankett!$G$40=$B$10,Avropsblankett!$C$40=$B$7,Avropsblankett!$D$40=$A$13),J27,IF(AND(Avropsblankett!$G$40=$B$10,Avropsblankett!$C$40=$B$7,Avropsblankett!$D$40=$A$14),J28,IF(AND(Avropsblankett!$G$40=$B$10,Avropsblankett!$C$40=$B$7,Avropsblankett!$D$40=$A$15),J29,IF(AND(Avropsblankett!$G$40=$B$10,Avropsblankett!$C$40=$B$7,Avropsblankett!$D$40=$A$16),J30,0))))))","v":0},{"$f":"Avropsblankett!$F$40*IF(AND(Avropsblankett!$G$40=$C$10,Avropsblankett!$C$40=$B$7,Avropsblankett!$D$40=$A$11),K25,IF(AND(Avropsblankett!$G$40=$C$10,Avropsblankett!$C$40=$B$7,Avropsblankett!$D$40=$A$12),K26,IF(AND(Avropsblankett!$G$40=$C$10,Avropsblankett!$C$40=$B$7,Avropsblankett!$D$40=$A$13),K27,IF(AND(Avropsblankett!$G$40=$C$10,Avropsblankett!$C$40=$B$7,Avropsblankett!$D$40=$A$14),K28,IF(AND(Avropsblankett!$G$40=$C$10,Avropsblankett!$C$40=$B$7,Avropsblankett!$D$40=$A$15),K29,IF(AND(Avropsblankett!$G$40=$C$10,Avropsblankett!$C$40=$B$7,Avropsblankett!$D$40=$A$16),K30,0))))))","v":0},{"$f":"Avropsblankett!$F$40*IF(AND(Avropsblankett!$G$40=$D$10,Avropsblankett!$C$40=$B$7,Avropsblankett!$D$40=$A$11),L25,IF(AND(Avropsblankett!$G$40=$D$10,Avropsblankett!$C$40=$B$7,Avropsblankett!$D$40=$A$12),L26,IF(AND(Avropsblankett!$G$40=$D$10,Avropsblankett!$C$40=$B$7,Avropsblankett!$D$40=$A$13),L27,IF(AND(Avropsblankett!$G$40=$D$10,Avropsblankett!$C$40=$B$7,Avropsblankett!$D$40=$A$14),L28,IF(AND(Avropsblankett!$G$40=$D$10,Avropsblankett!$C$40=$B$7,Avropsblankett!$D$40=$A$15),L29,IF(AND(Avropsblankett!$G$40=$D$10,Avropsblankett!$C$40=$B$7,Avropsblankett!$D$40=$A$16),L30,0))))))","v":0},null,{"$f":"Avropsblankett!$F$40*IF(AND(Avropsblankett!$G$40=$B$10,Avropsblankett!$C$40=$B$7,Avropsblankett!$D$40=$A$11),N25,IF(AND(Avropsblankett!$G$40=$B$10,Avropsblankett!$C$40=$B$7,Avropsblankett!$D$40=$A$12),N26,IF(AND(Avropsblankett!$G$40=$B$10,Avropsblankett!$C$40=$B$7,Avropsblankett!$D$40=$A$13),N27,IF(AND(Avropsblankett!$G$40=$B$10,Avropsblankett!$C$40=$B$7,Avropsblankett!$D$40=$A$14),N28,IF(AND(Avropsblankett!$G$40=$B$10,Avropsblankett!$C$40=$B$7,Avropsblankett!$D$40=$A$15),N29,IF(AND(Avropsblankett!$G$40=$B$10,Avropsblankett!$C$40=$B$7,Avropsblankett!$D$40=$A$16),N30,0))))))","v":0},{"$f":"Avropsblankett!$F$40*IF(AND(Avropsblankett!$G$40=$C$10,Avropsblankett!$C$40=$B$7,Avropsblankett!$D$40=$A$11),O25,IF(AND(Avropsblankett!$G$40=$C$10,Avropsblankett!$C$40=$B$7,Avropsblankett!$D$40=$A$12),O26,IF(AND(Avropsblankett!$G$40=$C$10,Avropsblankett!$C$40=$B$7,Avropsblankett!$D$40=$A$13),O27,IF(AND(Avropsblankett!$G$40=$C$10,Avropsblankett!$C$40=$B$7,Avropsblankett!$D$40=$A$14),O28,IF(AND(Avropsblankett!$G$40=$C$10,Avropsblankett!$C$40=$B$7,Avropsblankett!$D$40=$A$15),O29,IF(AND(Avropsblankett!$G$40=$C$10,Avropsblankett!$C$40=$B$7,Avropsblankett!$D$40=$A$16),O30,0))))))","v":0},{"$f":"Avropsblankett!$F$40*IF(AND(Avropsblankett!$G$40=$D$10,Avropsblankett!$C$40=$B$7,Avropsblankett!$D$40=$A$11),P25,IF(AND(Avropsblankett!$G$40=$D$10,Avropsblankett!$C$40=$B$7,Avropsblankett!$D$40=$A$12),P26,IF(AND(Avropsblankett!$G$40=$D$10,Avropsblankett!$C$40=$B$7,Avropsblankett!$D$40=$A$13),P27,IF(AND(Avropsblankett!$G$40=$D$10,Avropsblankett!$C$40=$B$7,Avropsblankett!$D$40=$A$14),P28,IF(AND(Avropsblankett!$G$40=$D$10,Avropsblankett!$C$40=$B$7,Avropsblankett!$D$40=$A$15),P29,IF(AND(Avropsblankett!$G$40=$D$10,Avropsblankett!$C$40=$B$7,Avropsblankett!$D$40=$A$16),P30,0))))))","v":0},null,{"$f":"Avropsblankett!$F$40*IF(AND(Avropsblankett!$G$40=$B$10,Avropsblankett!$C$40=$B$7,Avropsblankett!$D$40=$A$11),R25,IF(AND(Avropsblankett!$G$40=$B$10,Avropsblankett!$C$40=$B$7,Avropsblankett!$D$40=$A$12),R26,IF(AND(Avropsblankett!$G$40=$B$10,Avropsblankett!$C$40=$B$7,Avropsblankett!$D$40=$A$13),R27,IF(AND(Avropsblankett!$G$40=$B$10,Avropsblankett!$C$40=$B$7,Avropsblankett!$D$40=$A$14),R28,IF(AND(Avropsblankett!$G$40=$B$10,Avropsblankett!$C$40=$B$7,Avropsblankett!$D$40=$A$15),R29,IF(AND(Avropsblankett!$G$40=$B$10,Avropsblankett!$C$40=$B$7,Avropsblankett!$D$40=$A$16),R30,0))))))","v":0},{"$f":"Avropsblankett!$F$40*IF(AND(Avropsblankett!$G$40=$C$10,Avropsblankett!$C$40=$B$7,Avropsblankett!$D$40=$A$11),S25,IF(AND(Avropsblankett!$G$40=$C$10,Avropsblankett!$C$40=$B$7,Avropsblankett!$D$40=$A$12),S26,IF(AND(Avropsblankett!$G$40=$C$10,Avropsblankett!$C$40=$B$7,Avropsblankett!$D$40=$A$13),S27,IF(AND(Avropsblankett!$G$40=$C$10,Avropsblankett!$C$40=$B$7,Avropsblankett!$D$40=$A$14),S28,IF(AND(Avropsblankett!$G$40=$C$10,Avropsblankett!$C$40=$B$7,Avropsblankett!$D$40=$A$15),S29,IF(AND(Avropsblankett!$G$40=$C$10,Avropsblankett!$C$40=$B$7,Avropsblankett!$D$40=$A$16),S30,0))))))","v":0},{"$f":"Avropsblankett!$F$40*IF(AND(Avropsblankett!$G$40=$D$10,Avropsblankett!$C$40=$B$7,Avropsblankett!$D$40=$A$11),T25,IF(AND(Avropsblankett!$G$40=$D$10,Avropsblankett!$C$40=$B$7,Avropsblankett!$D$40=$A$12),T26,IF(AND(Avropsblankett!$G$40=$D$10,Avropsblankett!$C$40=$B$7,Avropsblankett!$D$40=$A$13),T27,IF(AND(Avropsblankett!$G$40=$D$10,Avropsblankett!$C$40=$B$7,Avropsblankett!$D$40=$A$14),T28,IF(AND(Avropsblankett!$G$40=$D$10,Avropsblankett!$C$40=$B$7,Avropsblankett!$D$40=$A$15),T29,IF(AND(Avropsblankett!$G$40=$D$10,Avropsblankett!$C$40=$B$7,Avropsblankett!$D$40=$A$16),T30,0))))))","v":0},null,{"$f":"Avropsblankett!$F$40*IF(AND(Avropsblankett!$G$40=$B$10,Avropsblankett!$C$40=$B$7,Avropsblankett!$D$40=$A$11),V25,IF(AND(Avropsblankett!$G$40=$B$10,Avropsblankett!$C$40=$B$7,Avropsblankett!$D$40=$A$12),V26,IF(AND(Avropsblankett!$G$40=$B$10,Avropsblankett!$C$40=$B$7,Avropsblankett!$D$40=$A$13),V27,IF(AND(Avropsblankett!$G$40=$B$10,Avropsblankett!$C$40=$B$7,Avropsblankett!$D$40=$A$14),V28,IF(AND(Avropsblankett!$G$40=$B$10,Avropsblankett!$C$40=$B$7,Avropsblankett!$D$40=$A$15),V29,IF(AND(Avropsblankett!$G$40=$B$10,Avropsblankett!$C$40=$B$7,Avropsblankett!$D$40=$A$16),V30,0))))))","v":0},{"$f":"Avropsblankett!$F$40*IF(AND(Avropsblankett!$G$40=$C$10,Avropsblankett!$C$40=$B$7,Avropsblankett!$D$40=$A$11),W25,IF(AND(Avropsblankett!$G$40=$C$10,Avropsblankett!$C$40=$B$7,Avropsblankett!$D$40=$A$12),W26,IF(AND(Avropsblankett!$G$40=$C$10,Avropsblankett!$C$40=$B$7,Avropsblankett!$D$40=$A$13),W27,IF(AND(Avropsblankett!$G$40=$C$10,Avropsblankett!$C$40=$B$7,Avropsblankett!$D$40=$A$14),W28,IF(AND(Avropsblankett!$G$40=$C$10,Avropsblankett!$C$40=$B$7,Avropsblankett!$D$40=$A$15),W29,IF(AND(Avropsblankett!$G$40=$C$10,Avropsblankett!$C$40=$B$7,Avropsblankett!$D$40=$A$16),W30,0))))))","v":0},{"$f":"Avropsblankett!$F$40*IF(AND(Avropsblankett!$G$40=$D$10,Avropsblankett!$C$40=$B$7,Avropsblankett!$D$40=$A$11),X25,IF(AND(Avropsblankett!$G$40=$D$10,Avropsblankett!$C$40=$B$7,Avropsblankett!$D$40=$A$12),X26,IF(AND(Avropsblankett!$G$40=$D$10,Avropsblankett!$C$40=$B$7,Avropsblankett!$D$40=$A$13),X27,IF(AND(Avropsblankett!$G$40=$D$10,Avropsblankett!$C$40=$B$7,Avropsblankett!$D$40=$A$14),X28,IF(AND(Avropsblankett!$G$40=$D$10,Avropsblankett!$C$40=$B$7,Avropsblankett!$D$40=$A$15),X29,IF(AND(Avropsblankett!$G$40=$D$10,Avropsblankett!$C$40=$B$7,Avropsblankett!$D$40=$A$16),X30,0))))))","v":0},null,{"$f":"Avropsblankett!$F$40*IF(AND(Avropsblankett!$G$40=$B$10,Avropsblankett!$C$40=$B$7,Avropsblankett!$D$40=$A$11),Z25,IF(AND(Avropsblankett!$G$40=$B$10,Avropsblankett!$C$40=$B$7,Avropsblankett!$D$40=$A$12),Z26,IF(AND(Avropsblankett!$G$40=$B$10,Avropsblankett!$C$40=$B$7,Avropsblankett!$D$40=$A$13),Z27,IF(AND(Avropsblankett!$G$40=$B$10,Avropsblankett!$C$40=$B$7,Avropsblankett!$D$40=$A$14),Z28,IF(AND(Avropsblankett!$G$40=$B$10,Avropsblankett!$C$40=$B$7,Avropsblankett!$D$40=$A$15),Z29,IF(AND(Avropsblankett!$G$40=$B$10,Avropsblankett!$C$40=$B$7,Avropsblankett!$D$40=$A$16),Z30,0))))))","v":0},{"$f":"Avropsblankett!$F$40*IF(AND(Avropsblankett!$G$40=$C$10,Avropsblankett!$C$40=$B$7,Avropsblankett!$D$40=$A$11),AA25,IF(AND(Avropsblankett!$G$40=$C$10,Avropsblankett!$C$40=$B$7,Avropsblankett!$D$40=$A$12),AA26,IF(AND(Avropsblankett!$G$40=$C$10,Avropsblankett!$C$40=$B$7,Avropsblankett!$D$40=$A$13),AA27,IF(AND(Avropsblankett!$G$40=$C$10,Avropsblankett!$C$40=$B$7,Avropsblankett!$D$40=$A$14),AA28,IF(AND(Avropsblankett!$G$40=$C$10,Avropsblankett!$C$40=$B$7,Avropsblankett!$D$40=$A$15),AA29,IF(AND(Avropsblankett!$G$40=$C$10,Avropsblankett!$C$40=$B$7,Avropsblankett!$D$40=$A$16),AA30,0))))))","v":0},{"$f":"Avropsblankett!$F$40*IF(AND(Avropsblankett!$G$40=$D$10,Avropsblankett!$C$40=$B$7,Avropsblankett!$D$40=$A$11),AB25,IF(AND(Avropsblankett!$G$40=$D$10,Avropsblankett!$C$40=$B$7,Avropsblankett!$D$40=$A$12),AB26,IF(AND(Avropsblankett!$G$40=$D$10,Avropsblankett!$C$40=$B$7,Avropsblankett!$D$40=$A$13),AB27,IF(AND(Avropsblankett!$G$40=$D$10,Avropsblankett!$C$40=$B$7,Avropsblankett!$D$40=$A$14),AB28,IF(AND(Avropsblankett!$G$40=$D$10,Avropsblankett!$C$40=$B$7,Avropsblankett!$D$40=$A$15),AB29,IF(AND(Avropsblankett!$G$40=$D$10,Avropsblankett!$C$40=$B$7,Avropsblankett!$D$40=$A$16),AB30,0))))))","v":0},null,{"$f":"Avropsblankett!$F$40*IF(AND(Avropsblankett!$G$40=$B$10,Avropsblankett!$C$40=$B$7,Avropsblankett!$D$40=$A$11),AD25,IF(AND(Avropsblankett!$G$40=$B$10,Avropsblankett!$C$40=$B$7,Avropsblankett!$D$40=$A$12),AD26,IF(AND(Avropsblankett!$G$40=$B$10,Avropsblankett!$C$40=$B$7,Avropsblankett!$D$40=$A$13),AD27,IF(AND(Avropsblankett!$G$40=$B$10,Avropsblankett!$C$40=$B$7,Avropsblankett!$D$40=$A$14),AD28,IF(AND(Avropsblankett!$G$40=$B$10,Avropsblankett!$C$40=$B$7,Avropsblankett!$D$40=$A$15),AD29,IF(AND(Avropsblankett!$G$40=$B$10,Avropsblankett!$C$40=$B$7,Avropsblankett!$D$40=$A$16),AD30,0))))))","v":0},{"$f":"Avropsblankett!$F$40*IF(AND(Avropsblankett!$G$40=$C$10,Avropsblankett!$C$40=$B$7,Avropsblankett!$D$40=$A$11),AE25,IF(AND(Avropsblankett!$G$40=$C$10,Avropsblankett!$C$40=$B$7,Avropsblankett!$D$40=$A$12),AE26,IF(AND(Avropsblankett!$G$40=$C$10,Avropsblankett!$C$40=$B$7,Avropsblankett!$D$40=$A$13),AE27,IF(AND(Avropsblankett!$G$40=$C$10,Avropsblankett!$C$40=$B$7,Avropsblankett!$D$40=$A$14),AE28,IF(AND(Avropsblankett!$G$40=$C$10,Avropsblankett!$C$40=$B$7,Avropsblankett!$D$40=$A$15),AE29,IF(AND(Avropsblankett!$G$40=$C$10,Avropsblankett!$C$40=$B$7,Avropsblankett!$D$40=$A$16),AE30,0))))))","v":0},{"$f":"Avropsblankett!$F$40*IF(AND(Avropsblankett!$G$40=$D$10,Avropsblankett!$C$40=$B$7,Avropsblankett!$D$40=$A$11),AF25,IF(AND(Avropsblankett!$G$40=$D$10,Avropsblankett!$C$40=$B$7,Avropsblankett!$D$40=$A$12),AF26,IF(AND(Avropsblankett!$G$40=$D$10,Avropsblankett!$C$40=$B$7,Avropsblankett!$D$40=$A$13),AF27,IF(AND(Avropsblankett!$G$40=$D$10,Avropsblankett!$C$40=$B$7,Avropsblankett!$D$40=$A$14),AF28,IF(AND(Avropsblankett!$G$40=$D$10,Avropsblankett!$C$40=$B$7,Avropsblankett!$D$40=$A$15),AF29,IF(AND(Avropsblankett!$G$40=$D$10,Avropsblankett!$C$40=$B$7,Avropsblankett!$D$40=$A$16),AF30,0))))))","v":0},null,{"$f":"Avropsblankett!$F$40*IF(AND(Avropsblankett!$G$40=$B$10,Avropsblankett!$C$40=$B$7,Avropsblankett!$D$40=$A$11),AH25,IF(AND(Avropsblankett!$G$40=$B$10,Avropsblankett!$C$40=$B$7,Avropsblankett!$D$40=$A$12),AH26,IF(AND(Avropsblankett!$G$40=$B$10,Avropsblankett!$C$40=$B$7,Avropsblankett!$D$40=$A$13),AH27,IF(AND(Avropsblankett!$G$40=$B$10,Avropsblankett!$C$40=$B$7,Avropsblankett!$D$40=$A$14),AH28,IF(AND(Avropsblankett!$G$40=$B$10,Avropsblankett!$C$40=$B$7,Avropsblankett!$D$40=$A$15),AH29,IF(AND(Avropsblankett!$G$40=$B$10,Avropsblankett!$C$40=$B$7,Avropsblankett!$D$40=$A$16),AH30,0))))))","v":0},{"$f":"Avropsblankett!$F$40*IF(AND(Avropsblankett!$G$40=$C$10,Avropsblankett!$C$40=$B$7,Avropsblankett!$D$40=$A$11),AI25,IF(AND(Avropsblankett!$G$40=$C$10,Avropsblankett!$C$40=$B$7,Avropsblankett!$D$40=$A$12),AI26,IF(AND(Avropsblankett!$G$40=$C$10,Avropsblankett!$C$40=$B$7,Avropsblankett!$D$40=$A$13),AI27,IF(AND(Avropsblankett!$G$40=$C$10,Avropsblankett!$C$40=$B$7,Avropsblankett!$D$40=$A$14),AI28,IF(AND(Avropsblankett!$G$40=$C$10,Avropsblankett!$C$40=$B$7,Avropsblankett!$D$40=$A$15),AI29,IF(AND(Avropsblankett!$G$40=$C$10,Avropsblankett!$C$40=$B$7,Avropsblankett!$D$40=$A$16),AI30,0))))))","v":0},{"$f":"Avropsblankett!$F$40*IF(AND(Avropsblankett!$G$40=$D$10,Avropsblankett!$C$40=$B$7,Avropsblankett!$D$40=$A$11),AJ25,IF(AND(Avropsblankett!$G$40=$D$10,Avropsblankett!$C$40=$B$7,Avropsblankett!$D$40=$A$12),AJ26,IF(AND(Avropsblankett!$G$40=$D$10,Avropsblankett!$C$40=$B$7,Avropsblankett!$D$40=$A$13),AJ27,IF(AND(Avropsblankett!$G$40=$D$10,Avropsblankett!$C$40=$B$7,Avropsblankett!$D$40=$A$14),AJ28,IF(AND(Avropsblankett!$G$40=$D$10,Avropsblankett!$C$40=$B$7,Avropsblankett!$D$40=$A$15),AJ29,IF(AND(Avropsblankett!$G$40=$D$10,Avropsblankett!$C$40=$B$7,Avropsblankett!$D$40=$A$16),AJ30,0))))))","v":0},null,{"$f":"Avropsblankett!$F$40*IF(AND(Avropsblankett!$G$40=$B$10,Avropsblankett!$C$40=$B$7,Avropsblankett!$D$40=$A$11),AL25,IF(AND(Avropsblankett!$G$40=$B$10,Avropsblankett!$C$40=$B$7,Avropsblankett!$D$40=$A$12),AL26,IF(AND(Avropsblankett!$G$40=$B$10,Avropsblankett!$C$40=$B$7,Avropsblankett!$D$40=$A$13),AL27,IF(AND(Avropsblankett!$G$40=$B$10,Avropsblankett!$C$40=$B$7,Avropsblankett!$D$40=$A$14),AL28,IF(AND(Avropsblankett!$G$40=$B$10,Avropsblankett!$C$40=$B$7,Avropsblankett!$D$40=$A$15),AL29,IF(AND(Avropsblankett!$G$40=$B$10,Avropsblankett!$C$40=$B$7,Avropsblankett!$D$40=$A$16),AL30,0))))))","v":0},{"$f":"Avropsblankett!$F$40*IF(AND(Avropsblankett!$G$40=$C$10,Avropsblankett!$C$40=$B$7,Avropsblankett!$D$40=$A$11),AM25,IF(AND(Avropsblankett!$G$40=$C$10,Avropsblankett!$C$40=$B$7,Avropsblankett!$D$40=$A$12),AM26,IF(AND(Avropsblankett!$G$40=$C$10,Avropsblankett!$C$40=$B$7,Avropsblankett!$D$40=$A$13),AM27,IF(AND(Avropsblankett!$G$40=$C$10,Avropsblankett!$C$40=$B$7,Avropsblankett!$D$40=$A$14),AM28,IF(AND(Avropsblankett!$G$40=$C$10,Avropsblankett!$C$40=$B$7,Avropsblankett!$D$40=$A$15),AM29,IF(AND(Avropsblankett!$G$40=$C$10,Avropsblankett!$C$40=$B$7,Avropsblankett!$D$40=$A$16),AM30,0))))))","v":0},{"$f":"Avropsblankett!$F$40*IF(AND(Avropsblankett!$G$40=$D$10,Avropsblankett!$C$40=$B$7,Avropsblankett!$D$40=$A$11),AN25,IF(AND(Avropsblankett!$G$40=$D$10,Avropsblankett!$C$40=$B$7,Avropsblankett!$D$40=$A$12),AN26,IF(AND(Avropsblankett!$G$40=$D$10,Avropsblankett!$C$40=$B$7,Avropsblankett!$D$40=$A$13),AN27,IF(AND(Avropsblankett!$G$40=$D$10,Avropsblankett!$C$40=$B$7,Avropsblankett!$D$40=$A$14),AN28,IF(AND(Avropsblankett!$G$40=$D$10,Avropsblankett!$C$40=$B$7,Avropsblankett!$D$40=$A$15),AN29,IF(AND(Avropsblankett!$G$40=$D$10,Avropsblankett!$C$40=$B$7,Avropsblankett!$D$40=$A$16),AN30,0))))))","v":0}]
[null,{"$f":"Avropsblankett!$F$52*IF(AND(Avropsblankett!$G$52=$B$10,Avropsblankett!$C$52=$B$7,Avropsblankett!$D$52=$A$11),B25,IF(AND(Avropsblankett!$G$52=$B$10,Avropsblankett!$C$52=$B$7,Avropsblankett!$D$52=$A$12),B26,IF(AND(Avropsblankett!$G$52=$B$10,Avropsblankett!$C$52=$B$7,Avropsblankett!$D$52=$A$13),B27,IF(AND(Avropsblankett!$G$52=$B$10,Avropsblankett!$C$52=$B$7,Avropsblankett!$D$52=$A$14),B28,IF(AND(Avropsblankett!$G$52=$B$10,Avropsblankett!$C$52=$B$7,Avropsblankett!$D$52=$A$15),B29,IF(AND(Avropsblankett!$G$52=$B$10,Avropsblankett!$C$52=$B$7,Avropsblankett!$D$52=$A$16),B30,0))))))","v":0},{"$f":"Avropsblankett!$F$52*IF(AND(Avropsblankett!$G$52=$C$10,Avropsblankett!$C$52=$B$7,Avropsblankett!$D$52=$A$11),C25,IF(AND(Avropsblankett!$G$52=$C$10,Avropsblankett!$C$52=$B$7,Avropsblankett!$D$52=$A$12),C26,IF(AND(Avropsblankett!$G$52=$C$10,Avropsblankett!$C$52=$B$7,Avropsblankett!$D$52=$A$13),C27,IF(AND(Avropsblankett!$G$52=$C$10,Avropsblankett!$C$52=$B$7,Avropsblankett!$D$52=$A$14),C28,IF(AND(Avropsblankett!$G$52=$C$10,Avropsblankett!$C$52=$B$7,Avropsblankett!$D$52=$A$15),C29,IF(AND(Avropsblankett!$G$52=$C$10,Avropsblankett!$C$52=$B$7,Avropsblankett!$D$52=$A$16),C30,0))))))","v":0},{"$f":"Avropsblankett!$F$52*IF(AND(Avropsblankett!$G$52=$D$10,Avropsblankett!$C$52=$B$7,Avropsblankett!$D$52=$A$11),D25,IF(AND(Avropsblankett!$G$52=$D$10,Avropsblankett!$C$52=$B$7,Avropsblankett!$D$52=$A$12),D26,IF(AND(Avropsblankett!$G$52=$D$10,Avropsblankett!$C$52=$B$7,Avropsblankett!$D$52=$A$13),D27,IF(AND(Avropsblankett!$G$52=$D$10,Avropsblankett!$C$52=$B$7,Avropsblankett!$D$52=$A$14),D28,IF(AND(Avropsblankett!$G$52=$D$10,Avropsblankett!$C$52=$B$7,Avropsblankett!$D$52=$A$15),D29,IF(AND(Avropsblankett!$G$52=$D$10,Avropsblankett!$C$52=$B$7,Avropsblankett!$D$52=$A$16),D30,0))))))","v":0},null,{"$f":"Avropsblankett!$F$52*IF(AND(Avropsblankett!$G$52=$B$10,Avropsblankett!$C$52=$B$7,Avropsblankett!$D$52=$A$11),F25,IF(AND(Avropsblankett!$G$52=$B$10,Avropsblankett!$C$52=$B$7,Avropsblankett!$D$52=$A$12),F26,IF(AND(Avropsblankett!$G$52=$B$10,Avropsblankett!$C$52=$B$7,Avropsblankett!$D$52=$A$13),F27,IF(AND(Avropsblankett!$G$52=$B$10,Avropsblankett!$C$52=$B$7,Avropsblankett!$D$52=$A$14),F28,IF(AND(Avropsblankett!$G$52=$B$10,Avropsblankett!$C$52=$B$7,Avropsblankett!$D$52=$A$15),F29,IF(AND(Avropsblankett!$G$52=$B$10,Avropsblankett!$C$52=$B$7,Avropsblankett!$D$52=$A$16),F30,0))))))","v":0},{"$f":"Avropsblankett!$F$52*IF(AND(Avropsblankett!$G$52=$C$10,Avropsblankett!$C$52=$B$7,Avropsblankett!$D$52=$A$11),G25,IF(AND(Avropsblankett!$G$52=$C$10,Avropsblankett!$C$52=$B$7,Avropsblankett!$D$52=$A$12),G26,IF(AND(Avropsblankett!$G$52=$C$10,Avropsblankett!$C$52=$B$7,Avropsblankett!$D$52=$A$13),G27,IF(AND(Avropsblankett!$G$52=$C$10,Avropsblankett!$C$52=$B$7,Avropsblankett!$D$52=$A$14),G28,IF(AND(Avropsblankett!$G$52=$C$10,Avropsblankett!$C$52=$B$7,Avropsblankett!$D$52=$A$15),G29,IF(AND(Avropsblankett!$G$52=$C$10,Avropsblankett!$C$52=$B$7,Avropsblankett!$D$52=$A$16),G30,0))))))","v":0},{"$f":"Avropsblankett!$F$52*IF(AND(Avropsblankett!$G$52=$D$10,Avropsblankett!$C$52=$B$7,Avropsblankett!$D$52=$A$11),H25,IF(AND(Avropsblankett!$G$52=$D$10,Avropsblankett!$C$52=$B$7,Avropsblankett!$D$52=$A$12),H26,IF(AND(Avropsblankett!$G$52=$D$10,Avropsblankett!$C$52=$B$7,Avropsblankett!$D$52=$A$13),H27,IF(AND(Avropsblankett!$G$52=$D$10,Avropsblankett!$C$52=$B$7,Avropsblankett!$D$52=$A$14),H28,IF(AND(Avropsblankett!$G$52=$D$10,Avropsblankett!$C$52=$B$7,Avropsblankett!$D$52=$A$15),H29,IF(AND(Avropsblankett!$G$52=$D$10,Avropsblankett!$C$52=$B$7,Avropsblankett!$D$52=$A$16),H30,0))))))","v":0},null,{"$f":"Avropsblankett!$F$52*IF(AND(Avropsblankett!$G$52=$B$10,Avropsblankett!$C$52=$B$7,Avropsblankett!$D$52=$A$11),J25,IF(AND(Avropsblankett!$G$52=$B$10,Avropsblankett!$C$52=$B$7,Avropsblankett!$D$52=$A$12),J26,IF(AND(Avropsblankett!$G$52=$B$10,Avropsblankett!$C$52=$B$7,Avropsblankett!$D$52=$A$13),J27,IF(AND(Avropsblankett!$G$52=$B$10,Avropsblankett!$C$52=$B$7,Avropsblankett!$D$52=$A$14),J28,IF(AND(Avropsblankett!$G$52=$B$10,Avropsblankett!$C$52=$B$7,Avropsblankett!$D$52=$A$15),J29,IF(AND(Avropsblankett!$G$52=$B$10,Avropsblankett!$C$52=$B$7,Avropsblankett!$D$52=$A$16),J30,0))))))","v":0},{"$f":"Avropsblankett!$F$52*IF(AND(Avropsblankett!$G$52=$C$10,Avropsblankett!$C$52=$B$7,Avropsblankett!$D$52=$A$11),K25,IF(AND(Avropsblankett!$G$52=$C$10,Avropsblankett!$C$52=$B$7,Avropsblankett!$D$52=$A$12),K26,IF(AND(Avropsblankett!$G$52=$C$10,Avropsblankett!$C$52=$B$7,Avropsblankett!$D$52=$A$13),K27,IF(AND(Avropsblankett!$G$52=$C$10,Avropsblankett!$C$52=$B$7,Avropsblankett!$D$52=$A$14),K28,IF(AND(Avropsblankett!$G$52=$C$10,Avropsblankett!$C$52=$B$7,Avropsblankett!$D$52=$A$15),K29,IF(AND(Avropsblankett!$G$52=$C$10,Avropsblankett!$C$52=$B$7,Avropsblankett!$D$52=$A$16),K30,0))))))","v":0},{"$f":"Avropsblankett!$F$52*IF(AND(Avropsblankett!$G$52=$D$10,Avropsblankett!$C$52=$B$7,Avropsblankett!$D$52=$A$11),L25,IF(AND(Avropsblankett!$G$52=$D$10,Avropsblankett!$C$52=$B$7,Avropsblankett!$D$52=$A$12),L26,IF(AND(Avropsblankett!$G$52=$D$10,Avropsblankett!$C$52=$B$7,Avropsblankett!$D$52=$A$13),L27,IF(AND(Avropsblankett!$G$52=$D$10,Avropsblankett!$C$52=$B$7,Avropsblankett!$D$52=$A$14),L28,IF(AND(Avropsblankett!$G$52=$D$10,Avropsblankett!$C$52=$B$7,Avropsblankett!$D$52=$A$15),L29,IF(AND(Avropsblankett!$G$52=$D$10,Avropsblankett!$C$52=$B$7,Avropsblankett!$D$52=$A$16),L30,0))))))","v":0},null,{"$f":"Avropsblankett!$F$52*IF(AND(Avropsblankett!$G$52=$B$10,Avropsblankett!$C$52=$B$7,Avropsblankett!$D$52=$A$11),N25,IF(AND(Avropsblankett!$G$52=$B$10,Avropsblankett!$C$52=$B$7,Avropsblankett!$D$52=$A$12),N26,IF(AND(Avropsblankett!$G$52=$B$10,Avropsblankett!$C$52=$B$7,Avropsblankett!$D$52=$A$13),N27,IF(AND(Avropsblankett!$G$52=$B$10,Avropsblankett!$C$52=$B$7,Avropsblankett!$D$52=$A$14),N28,IF(AND(Avropsblankett!$G$52=$B$10,Avropsblankett!$C$52=$B$7,Avropsblankett!$D$52=$A$15),N29,IF(AND(Avropsblankett!$G$52=$B$10,Avropsblankett!$C$52=$B$7,Avropsblankett!$D$52=$A$16),N30,0))))))","v":0},{"$f":"Avropsblankett!$F$52*IF(AND(Avropsblankett!$G$52=$C$10,Avropsblankett!$C$52=$B$7,Avropsblankett!$D$52=$A$11),O25,IF(AND(Avropsblankett!$G$52=$C$10,Avropsblankett!$C$52=$B$7,Avropsblankett!$D$52=$A$12),O26,IF(AND(Avropsblankett!$G$52=$C$10,Avropsblankett!$C$52=$B$7,Avropsblankett!$D$52=$A$13),O27,IF(AND(Avropsblankett!$G$52=$C$10,Avropsblankett!$C$52=$B$7,Avropsblankett!$D$52=$A$14),O28,IF(AND(Avropsblankett!$G$52=$C$10,Avropsblankett!$C$52=$B$7,Avropsblankett!$D$52=$A$15),O29,IF(AND(Avropsblankett!$G$52=$C$10,Avropsblankett!$C$52=$B$7,Avropsblankett!$D$52=$A$16),O30,0))))))","v":0},{"$f":"Avropsblankett!$F$52*IF(AND(Avropsblankett!$G$52=$D$10,Avropsblankett!$C$52=$B$7,Avropsblankett!$D$52=$A$11),P25,IF(AND(Avropsblankett!$G$52=$D$10,Avropsblankett!$C$52=$B$7,Avropsblankett!$D$52=$A$12),P26,IF(AND(Avropsblankett!$G$52=$D$10,Avropsblankett!$C$52=$B$7,Avropsblankett!$D$52=$A$13),P27,IF(AND(Avropsblankett!$G$52=$D$10,Avropsblankett!$C$52=$B$7,Avropsblankett!$D$52=$A$14),P28,IF(AND(Avropsblankett!$G$52=$D$10,Avropsblankett!$C$52=$B$7,Avropsblankett!$D$52=$A$15),P29,IF(AND(Avropsblankett!$G$52=$D$10,Avropsblankett!$C$52=$B$7,Avropsblankett!$D$52=$A$16),P30,0))))))","v":0},null,{"$f":"Avropsblankett!$F$52*IF(AND(Avropsblankett!$G$52=$B$10,Avropsblankett!$C$52=$B$7,Avropsblankett!$D$52=$A$11),R25,IF(AND(Avropsblankett!$G$52=$B$10,Avropsblankett!$C$52=$B$7,Avropsblankett!$D$52=$A$12),R26,IF(AND(Avropsblankett!$G$52=$B$10,Avropsblankett!$C$52=$B$7,Avropsblankett!$D$52=$A$13),R27,IF(AND(Avropsblankett!$G$52=$B$10,Avropsblankett!$C$52=$B$7,Avropsblankett!$D$52=$A$14),R28,IF(AND(Avropsblankett!$G$52=$B$10,Avropsblankett!$C$52=$B$7,Avropsblankett!$D$52=$A$15),R29,IF(AND(Avropsblankett!$G$52=$B$10,Avropsblankett!$C$52=$B$7,Avropsblankett!$D$52=$A$16),R30,0))))))","v":0},{"$f":"Avropsblankett!$F$52*IF(AND(Avropsblankett!$G$52=$C$10,Avropsblankett!$C$52=$B$7,Avropsblankett!$D$52=$A$11),S25,IF(AND(Avropsblankett!$G$52=$C$10,Avropsblankett!$C$52=$B$7,Avropsblankett!$D$52=$A$12),S26,IF(AND(Avropsblankett!$G$52=$C$10,Avropsblankett!$C$52=$B$7,Avropsblankett!$D$52=$A$13),S27,IF(AND(Avropsblankett!$G$52=$C$10,Avropsblankett!$C$52=$B$7,Avropsblankett!$D$52=$A$14),S28,IF(AND(Avropsblankett!$G$52=$C$10,Avropsblankett!$C$52=$B$7,Avropsblankett!$D$52=$A$15),S29,IF(AND(Avropsblankett!$G$52=$C$10,Avropsblankett!$C$52=$B$7,Avropsblankett!$D$52=$A$16),S30,0))))))","v":0},{"$f":"Avropsblankett!$F$52*IF(AND(Avropsblankett!$G$52=$D$10,Avropsblankett!$C$52=$B$7,Avropsblankett!$D$52=$A$11),T25,IF(AND(Avropsblankett!$G$52=$D$10,Avropsblankett!$C$52=$B$7,Avropsblankett!$D$52=$A$12),T26,IF(AND(Avropsblankett!$G$52=$D$10,Avropsblankett!$C$52=$B$7,Avropsblankett!$D$52=$A$13),T27,IF(AND(Avropsblankett!$G$52=$D$10,Avropsblankett!$C$52=$B$7,Avropsblankett!$D$52=$A$14),T28,IF(AND(Avropsblankett!$G$52=$D$10,Avropsblankett!$C$52=$B$7,Avropsblankett!$D$52=$A$15),T29,IF(AND(Avropsblankett!$G$52=$D$10,Avropsblankett!$C$52=$B$7,Avropsblankett!$D$52=$A$16),T30,0))))))","v":0},null,{"$f":"Avropsblankett!$F$52*IF(AND(Avropsblankett!$G$52=$B$10,Avropsblankett!$C$52=$B$7,Avropsblankett!$D$52=$A$11),V25,IF(AND(Avropsblankett!$G$52=$B$10,Avropsblankett!$C$52=$B$7,Avropsblankett!$D$52=$A$12),V26,IF(AND(Avropsblankett!$G$52=$B$10,Avropsblankett!$C$52=$B$7,Avropsblankett!$D$52=$A$13),V27,IF(AND(Avropsblankett!$G$52=$B$10,Avropsblankett!$C$52=$B$7,Avropsblankett!$D$52=$A$14),V28,IF(AND(Avropsblankett!$G$52=$B$10,Avropsblankett!$C$52=$B$7,Avropsblankett!$D$52=$A$15),V29,IF(AND(Avropsblankett!$G$52=$B$10,Avropsblankett!$C$52=$B$7,Avropsblankett!$D$52=$A$16),V30,0))))))","v":0},{"$f":"Avropsblankett!$F$52*IF(AND(Avropsblankett!$G$52=$C$10,Avropsblankett!$C$52=$B$7,Avropsblankett!$D$52=$A$11),W25,IF(AND(Avropsblankett!$G$52=$C$10,Avropsblankett!$C$52=$B$7,Avropsblankett!$D$52=$A$12),W26,IF(AND(Avropsblankett!$G$52=$C$10,Avropsblankett!$C$52=$B$7,Avropsblankett!$D$52=$A$13),W27,IF(AND(Avropsblankett!$G$52=$C$10,Avropsblankett!$C$52=$B$7,Avropsblankett!$D$52=$A$14),W28,IF(AND(Avropsblankett!$G$52=$C$10,Avropsblankett!$C$52=$B$7,Avropsblankett!$D$52=$A$15),W29,IF(AND(Avropsblankett!$G$52=$C$10,Avropsblankett!$C$52=$B$7,Avropsblankett!$D$52=$A$16),W30,0))))))","v":0},{"$f":"Avropsblankett!$F$52*IF(AND(Avropsblankett!$G$52=$D$10,Avropsblankett!$C$52=$B$7,Avropsblankett!$D$52=$A$11),X25,IF(AND(Avropsblankett!$G$52=$D$10,Avropsblankett!$C$52=$B$7,Avropsblankett!$D$52=$A$12),X26,IF(AND(Avropsblankett!$G$52=$D$10,Avropsblankett!$C$52=$B$7,Avropsblankett!$D$52=$A$13),X27,IF(AND(Avropsblankett!$G$52=$D$10,Avropsblankett!$C$52=$B$7,Avropsblankett!$D$52=$A$14),X28,IF(AND(Avropsblankett!$G$52=$D$10,Avropsblankett!$C$52=$B$7,Avropsblankett!$D$52=$A$15),X29,IF(AND(Avropsblankett!$G$52=$D$10,Avropsblankett!$C$52=$B$7,Avropsblankett!$D$52=$A$16),X30,0))))))","v":0},null,{"$f":"Avropsblankett!$F$52*IF(AND(Avropsblankett!$G$52=$B$10,Avropsblankett!$C$52=$B$7,Avropsblankett!$D$52=$A$11),Z25,IF(AND(Avropsblankett!$G$52=$B$10,Avropsblankett!$C$52=$B$7,Avropsblankett!$D$52=$A$12),Z26,IF(AND(Avropsblankett!$G$52=$B$10,Avropsblankett!$C$52=$B$7,Avropsblankett!$D$52=$A$13),Z27,IF(AND(Avropsblankett!$G$52=$B$10,Avropsblankett!$C$52=$B$7,Avropsblankett!$D$52=$A$14),Z28,IF(AND(Avropsblankett!$G$52=$B$10,Avropsblankett!$C$52=$B$7,Avropsblankett!$D$52=$A$15),Z29,IF(AND(Avropsblankett!$G$52=$B$10,Avropsblankett!$C$52=$B$7,Avropsblankett!$D$52=$A$16),Z30,0))))))","v":0},{"$f":"Avropsblankett!$F$52*IF(AND(Avropsblankett!$G$52=$C$10,Avropsblankett!$C$52=$B$7,Avropsblankett!$D$52=$A$11),AA25,IF(AND(Avropsblankett!$G$52=$C$10,Avropsblankett!$C$52=$B$7,Avropsblankett!$D$52=$A$12),AA26,IF(AND(Avropsblankett!$G$52=$C$10,Avropsblankett!$C$52=$B$7,Avropsblankett!$D$52=$A$13),AA27,IF(AND(Avropsblankett!$G$52=$C$10,Avropsblankett!$C$52=$B$7,Avropsblankett!$D$52=$A$14),AA28,IF(AND(Avropsblankett!$G$52=$C$10,Avropsblankett!$C$52=$B$7,Avropsblankett!$D$52=$A$15),AA29,IF(AND(Avropsblankett!$G$52=$C$10,Avropsblankett!$C$52=$B$7,Avropsblankett!$D$52=$A$16),AA30,0))))))","v":0},{"$f":"Avropsblankett!$F$52*IF(AND(Avropsblankett!$G$52=$D$10,Avropsblankett!$C$52=$B$7,Avropsblankett!$D$52=$A$11),AB25,IF(AND(Avropsblankett!$G$52=$D$10,Avropsblankett!$C$52=$B$7,Avropsblankett!$D$52=$A$12),AB26,IF(AND(Avropsblankett!$G$52=$D$10,Avropsblankett!$C$52=$B$7,Avropsblankett!$D$52=$A$13),AB27,IF(AND(Avropsblankett!$G$52=$D$10,Avropsblankett!$C$52=$B$7,Avropsblankett!$D$52=$A$14),AB28,IF(AND(Avropsblankett!$G$52=$D$10,Avropsblankett!$C$52=$B$7,Avropsblankett!$D$52=$A$15),AB29,IF(AND(Avropsblankett!$G$52=$D$10,Avropsblankett!$C$52=$B$7,Avropsblankett!$D$52=$A$16),AB30,0))))))","v":0},null,{"$f":"Avropsblankett!$F$52*IF(AND(Avropsblankett!$G$52=$B$10,Avropsblankett!$C$52=$B$7,Avropsblankett!$D$52=$A$11),AD25,IF(AND(Avropsblankett!$G$52=$B$10,Avropsblankett!$C$52=$B$7,Avropsblankett!$D$52=$A$12),AD26,IF(AND(Avropsblankett!$G$52=$B$10,Avropsblankett!$C$52=$B$7,Avropsblankett!$D$52=$A$13),AD27,IF(AND(Avropsblankett!$G$52=$B$10,Avropsblankett!$C$52=$B$7,Avropsblankett!$D$52=$A$14),AD28,IF(AND(Avropsblankett!$G$52=$B$10,Avropsblankett!$C$52=$B$7,Avropsblankett!$D$52=$A$15),AD29,IF(AND(Avropsblankett!$G$52=$B$10,Avropsblankett!$C$52=$B$7,Avropsblankett!$D$52=$A$16),AD30,0))))))","v":0},{"$f":"Avropsblankett!$F$52*IF(AND(Avropsblankett!$G$52=$C$10,Avropsblankett!$C$52=$B$7,Avropsblankett!$D$52=$A$11),AE25,IF(AND(Avropsblankett!$G$52=$C$10,Avropsblankett!$C$52=$B$7,Avropsblankett!$D$52=$A$12),AE26,IF(AND(Avropsblankett!$G$52=$C$10,Avropsblankett!$C$52=$B$7,Avropsblankett!$D$52=$A$13),AE27,IF(AND(Avropsblankett!$G$52=$C$10,Avropsblankett!$C$52=$B$7,Avropsblankett!$D$52=$A$14),AE28,IF(AND(Avropsblankett!$G$52=$C$10,Avropsblankett!$C$52=$B$7,Avropsblankett!$D$52=$A$15),AE29,IF(AND(Avropsblankett!$G$52=$C$10,Avropsblankett!$C$52=$B$7,Avropsblankett!$D$52=$A$16),AE30,0))))))","v":0},{"$f":"Avropsblankett!$F$52*IF(AND(Avropsblankett!$G$52=$D$10,Avropsblankett!$C$52=$B$7,Avropsblankett!$D$52=$A$11),AF25,IF(AND(Avropsblankett!$G$52=$D$10,Avropsblankett!$C$52=$B$7,Avropsblankett!$D$52=$A$12),AF26,IF(AND(Avropsblankett!$G$52=$D$10,Avropsblankett!$C$52=$B$7,Avropsblankett!$D$52=$A$13),AF27,IF(AND(Avropsblankett!$G$52=$D$10,Avropsblankett!$C$52=$B$7,Avropsblankett!$D$52=$A$14),AF28,IF(AND(Avropsblankett!$G$52=$D$10,Avropsblankett!$C$52=$B$7,Avropsblankett!$D$52=$A$15),AF29,IF(AND(Avropsblankett!$G$52=$D$10,Avropsblankett!$C$52=$B$7,Avropsblankett!$D$52=$A$16),AF30,0))))))","v":0},null,{"$f":"Avropsblankett!$F$52*IF(AND(Avropsblankett!$G$52=$B$10,Avropsblankett!$C$52=$B$7,Avropsblankett!$D$52=$A$11),AH25,IF(AND(Avropsblankett!$G$52=$B$10,Avropsblankett!$C$52=$B$7,Avropsblankett!$D$52=$A$12),AH26,IF(AND(Avropsblankett!$G$52=$B$10,Avropsblankett!$C$52=$B$7,Avropsblankett!$D$52=$A$13),AH27,IF(AND(Avropsblankett!$G$52=$B$10,Avropsblankett!$C$52=$B$7,Avropsblankett!$D$52=$A$14),AH28,IF(AND(Avropsblankett!$G$52=$B$10,Avropsblankett!$C$52=$B$7,Avropsblankett!$D$52=$A$15),AH29,IF(AND(Avropsblankett!$G$52=$B$10,Avropsblankett!$C$52=$B$7,Avropsblankett!$D$52=$A$16),AH30,0))))))","v":0},{"$f":"Avropsblankett!$F$52*IF(AND(Avropsblankett!$G$52=$C$10,Avropsblankett!$C$52=$B$7,Avropsblankett!$D$52=$A$11),AI25,IF(AND(Avropsblankett!$G$52=$C$10,Avropsblankett!$C$52=$B$7,Avropsblankett!$D$52=$A$12),AI26,IF(AND(Avropsblankett!$G$52=$C$10,Avropsblankett!$C$52=$B$7,Avropsblankett!$D$52=$A$13),AI27,IF(AND(Avropsblankett!$G$52=$C$10,Avropsblankett!$C$52=$B$7,Avropsblankett!$D$52=$A$14),AI28,IF(AND(Avropsblankett!$G$52=$C$10,Avropsblankett!$C$52=$B$7,Avropsblankett!$D$52=$A$15),AI29,IF(AND(Avropsblankett!$G$52=$C$10,Avropsblankett!$C$52=$B$7,Avropsblankett!$D$52=$A$16),AI30,0))))))","v":0},{"$f":"Avropsblankett!$F$52*IF(AND(Avropsblankett!$G$52=$D$10,Avropsblankett!$C$52=$B$7,Avropsblankett!$D$52=$A$11),AJ25,IF(AND(Avropsblankett!$G$52=$D$10,Avropsblankett!$C$52=$B$7,Avropsblankett!$D$52=$A$12),AJ26,IF(AND(Avropsblankett!$G$52=$D$10,Avropsblankett!$C$52=$B$7,Avropsblankett!$D$52=$A$13),AJ27,IF(AND(Avropsblankett!$G$52=$D$10,Avropsblankett!$C$52=$B$7,Avropsblankett!$D$52=$A$14),AJ28,IF(AND(Avropsblankett!$G$52=$D$10,Avropsblankett!$C$52=$B$7,Avropsblankett!$D$52=$A$15),AJ29,IF(AND(Avropsblankett!$G$52=$D$10,Avropsblankett!$C$52=$B$7,Avropsblankett!$D$52=$A$16),AJ30,0))))))","v":0},null,{"$f":"Avropsblankett!$F$52*IF(AND(Avropsblankett!$G$52=$B$10,Avropsblankett!$C$52=$B$7,Avropsblankett!$D$52=$A$11),AL25,IF(AND(Avropsblankett!$G$52=$B$10,Avropsblankett!$C$52=$B$7,Avropsblankett!$D$52=$A$12),AL26,IF(AND(Avropsblankett!$G$52=$B$10,Avropsblankett!$C$52=$B$7,Avropsblankett!$D$52=$A$13),AL27,IF(AND(Avropsblankett!$G$52=$B$10,Avropsblankett!$C$52=$B$7,Avropsblankett!$D$52=$A$14),AL28,IF(AND(Avropsblankett!$G$52=$B$10,Avropsblankett!$C$52=$B$7,Avropsblankett!$D$52=$A$15),AL29,IF(AND(Avropsblankett!$G$52=$B$10,Avropsblankett!$C$52=$B$7,Avropsblankett!$D$52=$A$16),AL30,0))))))","v":0},{"$f":"Avropsblankett!$F$52*IF(AND(Avropsblankett!$G$52=$C$10,Avropsblankett!$C$52=$B$7,Avropsblankett!$D$52=$A$11),AM25,IF(AND(Avropsblankett!$G$52=$C$10,Avropsblankett!$C$52=$B$7,Avropsblankett!$D$52=$A$12),AM26,IF(AND(Avropsblankett!$G$52=$C$10,Avropsblankett!$C$52=$B$7,Avropsblankett!$D$52=$A$13),AM27,IF(AND(Avropsblankett!$G$52=$C$10,Avropsblankett!$C$52=$B$7,Avropsblankett!$D$52=$A$14),AM28,IF(AND(Avropsblankett!$G$52=$C$10,Avropsblankett!$C$52=$B$7,Avropsblankett!$D$52=$A$15),AM29,IF(AND(Avropsblankett!$G$52=$C$10,Avropsblankett!$C$52=$B$7,Avropsblankett!$D$52=$A$16),AM30,0))))))","v":0},{"$f":"Avropsblankett!$F$52*IF(AND(Avropsblankett!$G$52=$D$10,Avropsblankett!$C$52=$B$7,Avropsblankett!$D$52=$A$11),AN25,IF(AND(Avropsblankett!$G$52=$D$10,Avropsblankett!$C$52=$B$7,Avropsblankett!$D$52=$A$12),AN26,IF(AND(Avropsblankett!$G$52=$D$10,Avropsblankett!$C$52=$B$7,Avropsblankett!$D$52=$A$13),AN27,IF(AND(Avropsblankett!$G$52=$D$10,Avropsblankett!$C$52=$B$7,Avropsblankett!$D$52=$A$14),AN28,IF(AND(Avropsblankett!$G$52=$D$10,Avropsblankett!$C$52=$B$7,Avropsblankett!$D$52=$A$15),AN29,IF(AND(Avropsblankett!$G$52=$D$10,Avropsblankett!$C$52=$B$7,Avropsblankett!$D$52=$A$16),AN30,0))))))","v":0}]
[null,{"$f":"Avropsblankett!$H$64*IF(AND(Avropsblankett!$G$64=$B$10,Avropsblankett!$C$64=$B$7,Avropsblankett!$D$64=$A$11),B25,IF(AND(Avropsblankett!$G$64=$B$10,Avropsblankett!$C$64=$B$7,Avropsblankett!$D$64=$A$12),B26,IF(AND(Avropsblankett!$G$64=$B$10,Avropsblankett!$C$64=$B$7,Avropsblankett!$D$64=$A$13),B27,IF(AND(Avropsblankett!$G$64=$B$10,Avropsblankett!$C$64=$B$7,Avropsblankett!$D$64=$A$14),B28,IF(AND(Avropsblankett!$G$64=$B$10,Avropsblankett!$C$64=$B$7,Avropsblankett!$D$64=$A$15),B29,IF(AND(Avropsblankett!$G$64=$B$10,Avropsblankett!$C$64=$B$7,Avropsblankett!$D$64=$A$16),B30,0))))))","v":0},{"$f":"Avropsblankett!$F$64*IF(AND(Avropsblankett!$G$64=$C$10,Avropsblankett!$C$64=$B$7,Avropsblankett!$D$64=$A$11),C25,IF(AND(Avropsblankett!$G$64=$C$10,Avropsblankett!$C$64=$B$7,Avropsblankett!$D$64=$A$12),C26,IF(AND(Avropsblankett!$G$64=$C$10,Avropsblankett!$C$64=$B$7,Avropsblankett!$D$64=$A$13),C27,IF(AND(Avropsblankett!$G$64=$C$10,Avropsblankett!$C$64=$B$7,Avropsblankett!$D$64=$A$14),C28,IF(AND(Avropsblankett!$G$64=$C$10,Avropsblankett!$C$64=$B$7,Avropsblankett!$D$64=$A$15),C29,IF(AND(Avropsblankett!$G$64=$C$10,Avropsblankett!$C$64=$B$7,Avropsblankett!$D$64=$A$16),C30,0))))))","v":0},{"$f":"Avropsblankett!$F$64*IF(AND(Avropsblankett!$G$64=$D$10,Avropsblankett!$C$64=$B$7,Avropsblankett!$D$64=$A$11),D25,IF(AND(Avropsblankett!$G$64=$D$10,Avropsblankett!$C$64=$B$7,Avropsblankett!$D$64=$A$12),D26,IF(AND(Avropsblankett!$G$64=$D$10,Avropsblankett!$C$64=$B$7,Avropsblankett!$D$64=$A$13),D27,IF(AND(Avropsblankett!$G$64=$D$10,Avropsblankett!$C$64=$B$7,Avropsblankett!$D$64=$A$14),D28,IF(AND(Avropsblankett!$G$64=$D$10,Avropsblankett!$C$64=$B$7,Avropsblankett!$D$64=$A$15),D29,IF(AND(Avropsblankett!$G$64=$D$10,Avropsblankett!$C$64=$B$7,Avropsblankett!$D$64=$A$16),D30,0))))))","v":0},null,{"$f":"Avropsblankett!$H$64*IF(AND(Avropsblankett!$G$64=$B$10,Avropsblankett!$C$64=$B$7,Avropsblankett!$D$64=$A$11),F25,IF(AND(Avropsblankett!$G$64=$B$10,Avropsblankett!$C$64=$B$7,Avropsblankett!$D$64=$A$12),F26,IF(AND(Avropsblankett!$G$64=$B$10,Avropsblankett!$C$64=$B$7,Avropsblankett!$D$64=$A$13),F27,IF(AND(Avropsblankett!$G$64=$B$10,Avropsblankett!$C$64=$B$7,Avropsblankett!$D$64=$A$14),F28,IF(AND(Avropsblankett!$G$64=$B$10,Avropsblankett!$C$64=$B$7,Avropsblankett!$D$64=$A$15),F29,IF(AND(Avropsblankett!$G$64=$B$10,Avropsblankett!$C$64=$B$7,Avropsblankett!$D$64=$A$16),F30,0))))))","v":0},{"$f":"Avropsblankett!$F$64*IF(AND(Avropsblankett!$G$64=$C$10,Avropsblankett!$C$64=$B$7,Avropsblankett!$D$64=$A$11),G25,IF(AND(Avropsblankett!$G$64=$C$10,Avropsblankett!$C$64=$B$7,Avropsblankett!$D$64=$A$12),G26,IF(AND(Avropsblankett!$G$64=$C$10,Avropsblankett!$C$64=$B$7,Avropsblankett!$D$64=$A$13),G27,IF(AND(Avropsblankett!$G$64=$C$10,Avropsblankett!$C$64=$B$7,Avropsblankett!$D$64=$A$14),G28,IF(AND(Avropsblankett!$G$64=$C$10,Avropsblankett!$C$64=$B$7,Avropsblankett!$D$64=$A$15),G29,IF(AND(Avropsblankett!$G$64=$C$10,Avropsblankett!$C$64=$B$7,Avropsblankett!$D$64=$A$16),G30,0))))))","v":0},{"$f":"Avropsblankett!$F$64*IF(AND(Avropsblankett!$G$64=$D$10,Avropsblankett!$C$64=$B$7,Avropsblankett!$D$64=$A$11),H25,IF(AND(Avropsblankett!$G$64=$D$10,Avropsblankett!$C$64=$B$7,Avropsblankett!$D$64=$A$12),H26,IF(AND(Avropsblankett!$G$64=$D$10,Avropsblankett!$C$64=$B$7,Avropsblankett!$D$64=$A$13),H27,IF(AND(Avropsblankett!$G$64=$D$10,Avropsblankett!$C$64=$B$7,Avropsblankett!$D$64=$A$14),H28,IF(AND(Avropsblankett!$G$64=$D$10,Avropsblankett!$C$64=$B$7,Avropsblankett!$D$64=$A$15),H29,IF(AND(Avropsblankett!$G$64=$D$10,Avropsblankett!$C$64=$B$7,Avropsblankett!$D$64=$A$16),H30,0))))))","v":0},null,{"$f":"Avropsblankett!$H$64*IF(AND(Avropsblankett!$G$64=$B$10,Avropsblankett!$C$64=$B$7,Avropsblankett!$D$64=$A$11),J25,IF(AND(Avropsblankett!$G$64=$B$10,Avropsblankett!$C$64=$B$7,Avropsblankett!$D$64=$A$12),J26,IF(AND(Avropsblankett!$G$64=$B$10,Avropsblankett!$C$64=$B$7,Avropsblankett!$D$64=$A$13),J27,IF(AND(Avropsblankett!$G$64=$B$10,Avropsblankett!$C$64=$B$7,Avropsblankett!$D$64=$A$14),J28,IF(AND(Avropsblankett!$G$64=$B$10,Avropsblankett!$C$64=$B$7,Avropsblankett!$D$64=$A$15),J29,IF(AND(Avropsblankett!$G$64=$B$10,Avropsblankett!$C$64=$B$7,Avropsblankett!$D$64=$A$16),J30,0))))))","v":0},{"$f":"Avropsblankett!$F$64*IF(AND(Avropsblankett!$G$64=$C$10,Avropsblankett!$C$64=$B$7,Avropsblankett!$D$64=$A$11),K25,IF(AND(Avropsblankett!$G$64=$C$10,Avropsblankett!$C$64=$B$7,Avropsblankett!$D$64=$A$12),K26,IF(AND(Avropsblankett!$G$64=$C$10,Avropsblankett!$C$64=$B$7,Avropsblankett!$D$64=$A$13),K27,IF(AND(Avropsblankett!$G$64=$C$10,Avropsblankett!$C$64=$B$7,Avropsblankett!$D$64=$A$14),K28,IF(AND(Avropsblankett!$G$64=$C$10,Avropsblankett!$C$64=$B$7,Avropsblankett!$D$64=$A$15),K29,IF(AND(Avropsblankett!$G$64=$C$10,Avropsblankett!$C$64=$B$7,Avropsblankett!$D$64=$A$16),K30,0))))))","v":0},{"$f":"Avropsblankett!$F$64*IF(AND(Avropsblankett!$G$64=$D$10,Avropsblankett!$C$64=$B$7,Avropsblankett!$D$64=$A$11),L25,IF(AND(Avropsblankett!$G$64=$D$10,Avropsblankett!$C$64=$B$7,Avropsblankett!$D$64=$A$12),L26,IF(AND(Avropsblankett!$G$64=$D$10,Avropsblankett!$C$64=$B$7,Avropsblankett!$D$64=$A$13),L27,IF(AND(Avropsblankett!$G$64=$D$10,Avropsblankett!$C$64=$B$7,Avropsblankett!$D$64=$A$14),L28,IF(AND(Avropsblankett!$G$64=$D$10,Avropsblankett!$C$64=$B$7,Avropsblankett!$D$64=$A$15),L29,IF(AND(Avropsblankett!$G$64=$D$10,Avropsblankett!$C$64=$B$7,Avropsblankett!$D$64=$A$16),L30,0))))))","v":0},null,{"$f":"Avropsblankett!$H$64*IF(AND(Avropsblankett!$G$64=$B$10,Avropsblankett!$C$64=$B$7,Avropsblankett!$D$64=$A$11),N25,IF(AND(Avropsblankett!$G$64=$B$10,Avropsblankett!$C$64=$B$7,Avropsblankett!$D$64=$A$12),N26,IF(AND(Avropsblankett!$G$64=$B$10,Avropsblankett!$C$64=$B$7,Avropsblankett!$D$64=$A$13),N27,IF(AND(Avropsblankett!$G$64=$B$10,Avropsblankett!$C$64=$B$7,Avropsblankett!$D$64=$A$14),N28,IF(AND(Avropsblankett!$G$64=$B$10,Avropsblankett!$C$64=$B$7,Avropsblankett!$D$64=$A$15),N29,IF(AND(Avropsblankett!$G$64=$B$10,Avropsblankett!$C$64=$B$7,Avropsblankett!$D$64=$A$16),N30,0))))))","v":0},{"$f":"Avropsblankett!$F$64*IF(AND(Avropsblankett!$G$64=$C$10,Avropsblankett!$C$64=$B$7,Avropsblankett!$D$64=$A$11),O25,IF(AND(Avropsblankett!$G$64=$C$10,Avropsblankett!$C$64=$B$7,Avropsblankett!$D$64=$A$12),O26,IF(AND(Avropsblankett!$G$64=$C$10,Avropsblankett!$C$64=$B$7,Avropsblankett!$D$64=$A$13),O27,IF(AND(Avropsblankett!$G$64=$C$10,Avropsblankett!$C$64=$B$7,Avropsblankett!$D$64=$A$14),O28,IF(AND(Avropsblankett!$G$64=$C$10,Avropsblankett!$C$64=$B$7,Avropsblankett!$D$64=$A$15),O29,IF(AND(Avropsblankett!$G$64=$C$10,Avropsblankett!$C$64=$B$7,Avropsblankett!$D$64=$A$16),O30,0))))))","v":0},{"$f":"Avropsblankett!$F$64*IF(AND(Avropsblankett!$G$64=$D$10,Avropsblankett!$C$64=$B$7,Avropsblankett!$D$64=$A$11),P25,IF(AND(Avropsblankett!$G$64=$D$10,Avropsblankett!$C$64=$B$7,Avropsblankett!$D$64=$A$12),P26,IF(AND(Avropsblankett!$G$64=$D$10,Avropsblankett!$C$64=$B$7,Avropsblankett!$D$64=$A$13),P27,IF(AND(Avropsblankett!$G$64=$D$10,Avropsblankett!$C$64=$B$7,Avropsblankett!$D$64=$A$14),P28,IF(AND(Avropsblankett!$G$64=$D$10,Avropsblankett!$C$64=$B$7,Avropsblankett!$D$64=$A$15),P29,IF(AND(Avropsblankett!$G$64=$D$10,Avropsblankett!$C$64=$B$7,Avropsblankett!$D$64=$A$16),P30,0))))))","v":0},null,{"$f":"Avropsblankett!$H$64*IF(AND(Avropsblankett!$G$64=$B$10,Avropsblankett!$C$64=$B$7,Avropsblankett!$D$64=$A$11),R25,IF(AND(Avropsblankett!$G$64=$B$10,Avropsblankett!$C$64=$B$7,Avropsblankett!$D$64=$A$12),R26,IF(AND(Avropsblankett!$G$64=$B$10,Avropsblankett!$C$64=$B$7,Avropsblankett!$D$64=$A$13),R27,IF(AND(Avropsblankett!$G$64=$B$10,Avropsblankett!$C$64=$B$7,Avropsblankett!$D$64=$A$14),R28,IF(AND(Avropsblankett!$G$64=$B$10,Avropsblankett!$C$64=$B$7,Avropsblankett!$D$64=$A$15),R29,IF(AND(Avropsblankett!$G$64=$B$10,Avropsblankett!$C$64=$B$7,Avropsblankett!$D$64=$A$16),R30,0))))))","v":0},{"$f":"Avropsblankett!$F$64*IF(AND(Avropsblankett!$G$64=$C$10,Avropsblankett!$C$64=$B$7,Avropsblankett!$D$64=$A$11),S25,IF(AND(Avropsblankett!$G$64=$C$10,Avropsblankett!$C$64=$B$7,Avropsblankett!$D$64=$A$12),S26,IF(AND(Avropsblankett!$G$64=$C$10,Avropsblankett!$C$64=$B$7,Avropsblankett!$D$64=$A$13),S27,IF(AND(Avropsblankett!$G$64=$C$10,Avropsblankett!$C$64=$B$7,Avropsblankett!$D$64=$A$14),S28,IF(AND(Avropsblankett!$G$64=$C$10,Avropsblankett!$C$64=$B$7,Avropsblankett!$D$64=$A$15),S29,IF(AND(Avropsblankett!$G$64=$C$10,Avropsblankett!$C$64=$B$7,Avropsblankett!$D$64=$A$16),S30,0))))))","v":0},{"$f":"Avropsblankett!$F$64*IF(AND(Avropsblankett!$G$64=$D$10,Avropsblankett!$C$64=$B$7,Avropsblankett!$D$64=$A$11),T25,IF(AND(Avropsblankett!$G$64=$D$10,Avropsblankett!$C$64=$B$7,Avropsblankett!$D$64=$A$12),T26,IF(AND(Avropsblankett!$G$64=$D$10,Avropsblankett!$C$64=$B$7,Avropsblankett!$D$64=$A$13),T27,IF(AND(Avropsblankett!$G$64=$D$10,Avropsblankett!$C$64=$B$7,Avropsblankett!$D$64=$A$14),T28,IF(AND(Avropsblankett!$G$64=$D$10,Avropsblankett!$C$64=$B$7,Avropsblankett!$D$64=$A$15),T29,IF(AND(Avropsblankett!$G$64=$D$10,Avropsblankett!$C$64=$B$7,Avropsblankett!$D$64=$A$16),T30,0))))))","v":0},null,{"$f":"Avropsblankett!$H$64*IF(AND(Avropsblankett!$G$64=$B$10,Avropsblankett!$C$64=$B$7,Avropsblankett!$D$64=$A$11),V25,IF(AND(Avropsblankett!$G$64=$B$10,Avropsblankett!$C$64=$B$7,Avropsblankett!$D$64=$A$12),V26,IF(AND(Avropsblankett!$G$64=$B$10,Avropsblankett!$C$64=$B$7,Avropsblankett!$D$64=$A$13),V27,IF(AND(Avropsblankett!$G$64=$B$10,Avropsblankett!$C$64=$B$7,Avropsblankett!$D$64=$A$14),V28,IF(AND(Avropsblankett!$G$64=$B$10,Avropsblankett!$C$64=$B$7,Avropsblankett!$D$64=$A$15),V29,IF(AND(Avropsblankett!$G$64=$B$10,Avropsblankett!$C$64=$B$7,Avropsblankett!$D$64=$A$16),V30,0))))))","v":0},{"$f":"Avropsblankett!$F$64*IF(AND(Avropsblankett!$G$64=$C$10,Avropsblankett!$C$64=$B$7,Avropsblankett!$D$64=$A$11),W25,IF(AND(Avropsblankett!$G$64=$C$10,Avropsblankett!$C$64=$B$7,Avropsblankett!$D$64=$A$12),W26,IF(AND(Avropsblankett!$G$64=$C$10,Avropsblankett!$C$64=$B$7,Avropsblankett!$D$64=$A$13),W27,IF(AND(Avropsblankett!$G$64=$C$10,Avropsblankett!$C$64=$B$7,Avropsblankett!$D$64=$A$14),W28,IF(AND(Avropsblankett!$G$64=$C$10,Avropsblankett!$C$64=$B$7,Avropsblankett!$D$64=$A$15),W29,IF(AND(Avropsblankett!$G$64=$C$10,Avropsblankett!$C$64=$B$7,Avropsblankett!$D$64=$A$16),W30,0))))))","v":0},{"$f":"Avropsblankett!$F$64*IF(AND(Avropsblankett!$G$64=$D$10,Avropsblankett!$C$64=$B$7,Avropsblankett!$D$64=$A$11),X25,IF(AND(Avropsblankett!$G$64=$D$10,Avropsblankett!$C$64=$B$7,Avropsblankett!$D$64=$A$12),X26,IF(AND(Avropsblankett!$G$64=$D$10,Avropsblankett!$C$64=$B$7,Avropsblankett!$D$64=$A$13),X27,IF(AND(Avropsblankett!$G$64=$D$10,Avropsblankett!$C$64=$B$7,Avropsblankett!$D$64=$A$14),X28,IF(AND(Avropsblankett!$G$64=$D$10,Avropsblankett!$C$64=$B$7,Avropsblankett!$D$64=$A$15),X29,IF(AND(Avropsblankett!$G$64=$D$10,Avropsblankett!$C$64=$B$7,Avropsblankett!$D$64=$A$16),X30,0))))))","v":0},null,{"$f":"Avropsblankett!$H$64*IF(AND(Avropsblankett!$G$64=$B$10,Avropsblankett!$C$64=$B$7,Avropsblankett!$D$64=$A$11),Z25,IF(AND(Avropsblankett!$G$64=$B$10,Avropsblankett!$C$64=$B$7,Avropsblankett!$D$64=$A$12),Z26,IF(AND(Avropsblankett!$G$64=$B$10,Avropsblankett!$C$64=$B$7,Avropsblankett!$D$64=$A$13),Z27,IF(AND(Avropsblankett!$G$64=$B$10,Avropsblankett!$C$64=$B$7,Avropsblankett!$D$64=$A$14),Z28,IF(AND(Avropsblankett!$G$64=$B$10,Avropsblankett!$C$64=$B$7,Avropsblankett!$D$64=$A$15),Z29,IF(AND(Avropsblankett!$G$64=$B$10,Avropsblankett!$C$64=$B$7,Avropsblankett!$D$64=$A$16),Z30,0))))))","v":0},{"$f":"Avropsblankett!$F$64*IF(AND(Avropsblankett!$G$64=$C$10,Avropsblankett!$C$64=$B$7,Avropsblankett!$D$64=$A$11),AA25,IF(AND(Avropsblankett!$G$64=$C$10,Avropsblankett!$C$64=$B$7,Avropsblankett!$D$64=$A$12),AA26,IF(AND(Avropsblankett!$G$64=$C$10,Avropsblankett!$C$64=$B$7,Avropsblankett!$D$64=$A$13),AA27,IF(AND(Avropsblankett!$G$64=$C$10,Avropsblankett!$C$64=$B$7,Avropsblankett!$D$64=$A$14),AA28,IF(AND(Avropsblankett!$G$64=$C$10,Avropsblankett!$C$64=$B$7,Avropsblankett!$D$64=$A$15),AA29,IF(AND(Avropsblankett!$G$64=$C$10,Avropsblankett!$C$64=$B$7,Avropsblankett!$D$64=$A$16),AA30,0))))))","v":0},{"$f":"Avropsblankett!$F$64*IF(AND(Avropsblankett!$G$64=$D$10,Avropsblankett!$C$64=$B$7,Avropsblankett!$D$64=$A$11),AB25,IF(AND(Avropsblankett!$G$64=$D$10,Avropsblankett!$C$64=$B$7,Avropsblankett!$D$64=$A$12),AB26,IF(AND(Avropsblankett!$G$64=$D$10,Avropsblankett!$C$64=$B$7,Avropsblankett!$D$64=$A$13),AB27,IF(AND(Avropsblankett!$G$64=$D$10,Avropsblankett!$C$64=$B$7,Avropsblankett!$D$64=$A$14),AB28,IF(AND(Avropsblankett!$G$64=$D$10,Avropsblankett!$C$64=$B$7,Avropsblankett!$D$64=$A$15),AB29,IF(AND(Avropsblankett!$G$64=$D$10,Avropsblankett!$C$64=$B$7,Avropsblankett!$D$64=$A$16),AB30,0))))))","v":0},null,{"$f":"Avropsblankett!$H$64*IF(AND(Avropsblankett!$G$64=$B$10,Avropsblankett!$C$64=$B$7,Avropsblankett!$D$64=$A$11),AD25,IF(AND(Avropsblankett!$G$64=$B$10,Avropsblankett!$C$64=$B$7,Avropsblankett!$D$64=$A$12),AD26,IF(AND(Avropsblankett!$G$64=$B$10,Avropsblankett!$C$64=$B$7,Avropsblankett!$D$64=$A$13),AD27,IF(AND(Avropsblankett!$G$64=$B$10,Avropsblankett!$C$64=$B$7,Avropsblankett!$D$64=$A$14),AD28,IF(AND(Avropsblankett!$G$64=$B$10,Avropsblankett!$C$64=$B$7,Avropsblankett!$D$64=$A$15),AD29,IF(AND(Avropsblankett!$G$64=$B$10,Avropsblankett!$C$64=$B$7,Avropsblankett!$D$64=$A$16),AD30,0))))))","v":0},{"$f":"Avropsblankett!$F$64*IF(AND(Avropsblankett!$G$64=$C$10,Avropsblankett!$C$64=$B$7,Avropsblankett!$D$64=$A$11),AE25,IF(AND(Avropsblankett!$G$64=$C$10,Avropsblankett!$C$64=$B$7,Avropsblankett!$D$64=$A$12),AE26,IF(AND(Avropsblankett!$G$64=$C$10,Avropsblankett!$C$64=$B$7,Avropsblankett!$D$64=$A$13),AE27,IF(AND(Avropsblankett!$G$64=$C$10,Avropsblankett!$C$64=$B$7,Avropsblankett!$D$64=$A$14),AE28,IF(AND(Avropsblankett!$G$64=$C$10,Avropsblankett!$C$64=$B$7,Avropsblankett!$D$64=$A$15),AE29,IF(AND(Avropsblankett!$G$64=$C$10,Avropsblankett!$C$64=$B$7,Avropsblankett!$D$64=$A$16),AE30,0))))))","v":0},{"$f":"Avropsblankett!$F$64*IF(AND(Avropsblankett!$G$64=$D$10,Avropsblankett!$C$64=$B$7,Avropsblankett!$D$64=$A$11),AF25,IF(AND(Avropsblankett!$G$64=$D$10,Avropsblankett!$C$64=$B$7,Avropsblankett!$D$64=$A$12),AF26,IF(AND(Avropsblankett!$G$64=$D$10,Avropsblankett!$C$64=$B$7,Avropsblankett!$D$64=$A$13),AF27,IF(AND(Avropsblankett!$G$64=$D$10,Avropsblankett!$C$64=$B$7,Avropsblankett!$D$64=$A$14),AF28,IF(AND(Avropsblankett!$G$64=$D$10,Avropsblankett!$C$64=$B$7,Avropsblankett!$D$64=$A$15),AF29,IF(AND(Avropsblankett!$G$64=$D$10,Avropsblankett!$C$64=$B$7,Avropsblankett!$D$64=$A$16),AF30,0))))))","v":0},null,{"$f":"Avropsblankett!$H$64*IF(AND(Avropsblankett!$G$64=$B$10,Avropsblankett!$C$64=$B$7,Avropsblankett!$D$64=$A$11),AH25,IF(AND(Avropsblankett!$G$64=$B$10,Avropsblankett!$C$64=$B$7,Avropsblankett!$D$64=$A$12),AH26,IF(AND(Avropsblankett!$G$64=$B$10,Avropsblankett!$C$64=$B$7,Avropsblankett!$D$64=$A$13),AH27,IF(AND(Avropsblankett!$G$64=$B$10,Avropsblankett!$C$64=$B$7,Avropsblankett!$D$64=$A$14),AH28,IF(AND(Avropsblankett!$G$64=$B$10,Avropsblankett!$C$64=$B$7,Avropsblankett!$D$64=$A$15),AH29,IF(AND(Avropsblankett!$G$64=$B$10,Avropsblankett!$C$64=$B$7,Avropsblankett!$D$64=$A$16),AH30,0))))))","v":0},{"$f":"Avropsblankett!$F$64*IF(AND(Avropsblankett!$G$64=$C$10,Avropsblankett!$C$64=$B$7,Avropsblankett!$D$64=$A$11),AI25,IF(AND(Avropsblankett!$G$64=$C$10,Avropsblankett!$C$64=$B$7,Avropsblankett!$D$64=$A$12),AI26,IF(AND(Avropsblankett!$G$64=$C$10,Avropsblankett!$C$64=$B$7,Avropsblankett!$D$64=$A$13),AI27,IF(AND(Avropsblankett!$G$64=$C$10,Avropsblankett!$C$64=$B$7,Avropsblankett!$D$64=$A$14),AI28,IF(AND(Avropsblankett!$G$64=$C$10,Avropsblankett!$C$64=$B$7,Avropsblankett!$D$64=$A$15),AI29,IF(AND(Avropsblankett!$G$64=$C$10,Avropsblankett!$C$64=$B$7,Avropsblankett!$D$64=$A$16),AI30,0))))))","v":0},{"$f":"Avropsblankett!$F$64*IF(AND(Avropsblankett!$G$64=$D$10,Avropsblankett!$C$64=$B$7,Avropsblankett!$D$64=$A$11),AJ25,IF(AND(Avropsblankett!$G$64=$D$10,Avropsblankett!$C$64=$B$7,Avropsblankett!$D$64=$A$12),AJ26,IF(AND(Avropsblankett!$G$64=$D$10,Avropsblankett!$C$64=$B$7,Avropsblankett!$D$64=$A$13),AJ27,IF(AND(Avropsblankett!$G$64=$D$10,Avropsblankett!$C$64=$B$7,Avropsblankett!$D$64=$A$14),AJ28,IF(AND(Avropsblankett!$G$64=$D$10,Avropsblankett!$C$64=$B$7,Avropsblankett!$D$64=$A$15),AJ29,IF(AND(Avropsblankett!$G$64=$D$10,Avropsblankett!$C$64=$B$7,Avropsblankett!$D$64=$A$16),AJ30,0))))))","v":0},null,{"$f":"Avropsblankett!$H$64*IF(AND(Avropsblankett!$G$64=$B$10,Avropsblankett!$C$64=$B$7,Avropsblankett!$D$64=$A$11),AL25,IF(AND(Avropsblankett!$G$64=$B$10,Avropsblankett!$C$64=$B$7,Avropsblankett!$D$64=$A$12),AL26,IF(AND(Avropsblankett!$G$64=$B$10,Avropsblankett!$C$64=$B$7,Avropsblankett!$D$64=$A$13),AL27,IF(AND(Avropsblankett!$G$64=$B$10,Avropsblankett!$C$64=$B$7,Avropsblankett!$D$64=$A$14),AL28,IF(AND(Avropsblankett!$G$64=$B$10,Avropsblankett!$C$64=$B$7,Avropsblankett!$D$64=$A$15),AL29,IF(AND(Avropsblankett!$G$64=$B$10,Avropsblankett!$C$64=$B$7,Avropsblankett!$D$64=$A$16),AL30,0))))))","v":0},{"$f":"Avropsblankett!$F$64*IF(AND(Avropsblankett!$G$64=$C$10,Avropsblankett!$C$64=$B$7,Avropsblankett!$D$64=$A$11),AM25,IF(AND(Avropsblankett!$G$64=$C$10,Avropsblankett!$C$64=$B$7,Avropsblankett!$D$64=$A$12),AM26,IF(AND(Avropsblankett!$G$64=$C$10,Avropsblankett!$C$64=$B$7,Avropsblankett!$D$64=$A$13),AM27,IF(AND(Avropsblankett!$G$64=$C$10,Avropsblankett!$C$64=$B$7,Avropsblankett!$D$64=$A$14),AM28,IF(AND(Avropsblankett!$G$64=$C$10,Avropsblankett!$C$64=$B$7,Avropsblankett!$D$64=$A$15),AM29,IF(AND(Avropsblankett!$G$64=$C$10,Avropsblankett!$C$64=$B$7,Avropsblankett!$D$64=$A$16),AM30,0))))))","v":0},{"$f":"Avropsblankett!$F$64*IF(AND(Avropsblankett!$G$64=$D$10,Avropsblankett!$C$64=$B$7,Avropsblankett!$D$64=$A$11),AN25,IF(AND(Avropsblankett!$G$64=$D$10,Avropsblankett!$C$64=$B$7,Avropsblankett!$D$64=$A$12),AN26,IF(AND(Avropsblankett!$G$64=$D$10,Avropsblankett!$C$64=$B$7,Avropsblankett!$D$64=$A$13),AN27,IF(AND(Avropsblankett!$G$64=$D$10,Avropsblankett!$C$64=$B$7,Avropsblankett!$D$64=$A$14),AN28,IF(AND(Avropsblankett!$G$64=$D$10,Avropsblankett!$C$64=$B$7,Avropsblankett!$D$64=$A$15),AN29,IF(AND(Avropsblankett!$G$64=$D$10,Avropsblankett!$C$64=$B$7,Avropsblankett!$D$64=$A$16),AN30,0))))))","v":0}]
[null,{"$f":"Avropsblankett!$F$76*IF(AND(Avropsblankett!$G$76=$B$10,Avropsblankett!$C$76=$B$7,Avropsblankett!$D$76=$A$11),B25,IF(AND(Avropsblankett!$G$76=$B$10,Avropsblankett!$C$76=$B$7,Avropsblankett!$D$76=$A$12),B26,IF(AND(Avropsblankett!$G$76=$B$10,Avropsblankett!$C$76=$B$7,Avropsblankett!$D$76=$A$13),B27,IF(AND(Avropsblankett!$G$76=$B$10,Avropsblankett!$C$76=$B$7,Avropsblankett!$D$76=$A$14),B28,IF(AND(Avropsblankett!$G$76=$B$10,Avropsblankett!$C$76=$B$7,Avropsblankett!$D$76=$A$15),B29,IF(AND(Avropsblankett!$G$76=$B$10,Avropsblankett!$C$76=$B$7,Avropsblankett!$D$76=$A$16),B30,0))))))","v":0},{"$f":"Avropsblankett!$F$76*IF(AND(Avropsblankett!$G$76=$C$10,Avropsblankett!$C$76=$B$7,Avropsblankett!$D$76=$A$11),C25,IF(AND(Avropsblankett!$G$76=$C$10,Avropsblankett!$C$76=$B$7,Avropsblankett!$D$76=$A$12),C26,IF(AND(Avropsblankett!$G$76=$C$10,Avropsblankett!$C$76=$B$7,Avropsblankett!$D$76=$A$13),C27,IF(AND(Avropsblankett!$G$76=$C$10,Avropsblankett!$C$76=$B$7,Avropsblankett!$D$76=$A$14),C28,IF(AND(Avropsblankett!$G$76=$C$10,Avropsblankett!$C$76=$B$7,Avropsblankett!$D$76=$A$15),C29,IF(AND(Avropsblankett!$G$76=$C$10,Avropsblankett!$C$76=$B$7,Avropsblankett!$D$76=$A$16),C30,0))))))","v":0},{"$f":"Avropsblankett!$F$76*IF(AND(Avropsblankett!$G$76=$D$10,Avropsblankett!$C$76=$B$7,Avropsblankett!$D$76=$A$11),D25,IF(AND(Avropsblankett!$G$76=$D$10,Avropsblankett!$C$76=$B$7,Avropsblankett!$D$76=$A$12),D26,IF(AND(Avropsblankett!$G$76=$D$10,Avropsblankett!$C$76=$B$7,Avropsblankett!$D$76=$A$13),D27,IF(AND(Avropsblankett!$G$76=$D$10,Avropsblankett!$C$76=$B$7,Avropsblankett!$D$76=$A$14),D28,IF(AND(Avropsblankett!$G$76=$D$10,Avropsblankett!$C$76=$B$7,Avropsblankett!$D$76=$A$15),D29,IF(AND(Avropsblankett!$G$76=$D$10,Avropsblankett!$C$76=$B$7,Avropsblankett!$D$76=$A$16),D30,0))))))","v":0},null,{"$f":"Avropsblankett!$F$76*IF(AND(Avropsblankett!$G$76=$B$10,Avropsblankett!$C$76=$B$7,Avropsblankett!$D$76=$A$11),F25,IF(AND(Avropsblankett!$G$76=$B$10,Avropsblankett!$C$76=$B$7,Avropsblankett!$D$76=$A$12),F26,IF(AND(Avropsblankett!$G$76=$B$10,Avropsblankett!$C$76=$B$7,Avropsblankett!$D$76=$A$13),F27,IF(AND(Avropsblankett!$G$76=$B$10,Avropsblankett!$C$76=$B$7,Avropsblankett!$D$76=$A$14),F28,IF(AND(Avropsblankett!$G$76=$B$10,Avropsblankett!$C$76=$B$7,Avropsblankett!$D$76=$A$15),F29,IF(AND(Avropsblankett!$G$76=$B$10,Avropsblankett!$C$76=$B$7,Avropsblankett!$D$76=$A$16),F30,0))))))","v":0},{"$f":"Avropsblankett!$F$76*IF(AND(Avropsblankett!$G$76=$C$10,Avropsblankett!$C$76=$B$7,Avropsblankett!$D$76=$A$11),G25,IF(AND(Avropsblankett!$G$76=$C$10,Avropsblankett!$C$76=$B$7,Avropsblankett!$D$76=$A$12),G26,IF(AND(Avropsblankett!$G$76=$C$10,Avropsblankett!$C$76=$B$7,Avropsblankett!$D$76=$A$13),G27,IF(AND(Avropsblankett!$G$76=$C$10,Avropsblankett!$C$76=$B$7,Avropsblankett!$D$76=$A$14),G28,IF(AND(Avropsblankett!$G$76=$C$10,Avropsblankett!$C$76=$B$7,Avropsblankett!$D$76=$A$15),G29,IF(AND(Avropsblankett!$G$76=$C$10,Avropsblankett!$C$76=$B$7,Avropsblankett!$D$76=$A$16),G30,0))))))","v":0},{"$f":"Avropsblankett!$F$76*IF(AND(Avropsblankett!$G$76=$D$10,Avropsblankett!$C$76=$B$7,Avropsblankett!$D$76=$A$11),H25,IF(AND(Avropsblankett!$G$76=$D$10,Avropsblankett!$C$76=$B$7,Avropsblankett!$D$76=$A$12),H26,IF(AND(Avropsblankett!$G$76=$D$10,Avropsblankett!$C$76=$B$7,Avropsblankett!$D$76=$A$13),H27,IF(AND(Avropsblankett!$G$76=$D$10,Avropsblankett!$C$76=$B$7,Avropsblankett!$D$76=$A$14),H28,IF(AND(Avropsblankett!$G$76=$D$10,Avropsblankett!$C$76=$B$7,Avropsblankett!$D$76=$A$15),H29,IF(AND(Avropsblankett!$G$76=$D$10,Avropsblankett!$C$76=$B$7,Avropsblankett!$D$76=$A$16),H30,0))))))","v":0},null,{"$f":"Avropsblankett!$F$76*IF(AND(Avropsblankett!$G$76=$B$10,Avropsblankett!$C$76=$B$7,Avropsblankett!$D$76=$A$11),J25,IF(AND(Avropsblankett!$G$76=$B$10,Avropsblankett!$C$76=$B$7,Avropsblankett!$D$76=$A$12),J26,IF(AND(Avropsblankett!$G$76=$B$10,Avropsblankett!$C$76=$B$7,Avropsblankett!$D$76=$A$13),J27,IF(AND(Avropsblankett!$G$76=$B$10,Avropsblankett!$C$76=$B$7,Avropsblankett!$D$76=$A$14),J28,IF(AND(Avropsblankett!$G$76=$B$10,Avropsblankett!$C$76=$B$7,Avropsblankett!$D$76=$A$15),J29,IF(AND(Avropsblankett!$G$76=$B$10,Avropsblankett!$C$76=$B$7,Avropsblankett!$D$76=$A$16),J30,0))))))","v":0},{"$f":"Avropsblankett!$F$76*IF(AND(Avropsblankett!$G$76=$C$10,Avropsblankett!$C$76=$B$7,Avropsblankett!$D$76=$A$11),K25,IF(AND(Avropsblankett!$G$76=$C$10,Avropsblankett!$C$76=$B$7,Avropsblankett!$D$76=$A$12),K26,IF(AND(Avropsblankett!$G$76=$C$10,Avropsblankett!$C$76=$B$7,Avropsblankett!$D$76=$A$13),K27,IF(AND(Avropsblankett!$G$76=$C$10,Avropsblankett!$C$76=$B$7,Avropsblankett!$D$76=$A$14),K28,IF(AND(Avropsblankett!$G$76=$C$10,Avropsblankett!$C$76=$B$7,Avropsblankett!$D$76=$A$15),K29,IF(AND(Avropsblankett!$G$76=$C$10,Avropsblankett!$C$76=$B$7,Avropsblankett!$D$76=$A$16),K30,0))))))","v":0},{"$f":"Avropsblankett!$F$76*IF(AND(Avropsblankett!$G$76=$D$10,Avropsblankett!$C$76=$B$7,Avropsblankett!$D$76=$A$11),L25,IF(AND(Avropsblankett!$G$76=$D$10,Avropsblankett!$C$76=$B$7,Avropsblankett!$D$76=$A$12),L26,IF(AND(Avropsblankett!$G$76=$D$10,Avropsblankett!$C$76=$B$7,Avropsblankett!$D$76=$A$13),L27,IF(AND(Avropsblankett!$G$76=$D$10,Avropsblankett!$C$76=$B$7,Avropsblankett!$D$76=$A$14),L28,IF(AND(Avropsblankett!$G$76=$D$10,Avropsblankett!$C$76=$B$7,Avropsblankett!$D$76=$A$15),L29,IF(AND(Avropsblankett!$G$76=$D$10,Avropsblankett!$C$76=$B$7,Avropsblankett!$D$76=$A$16),L30,0))))))","v":0},null,{"$f":"Avropsblankett!$F$76*IF(AND(Avropsblankett!$G$76=$B$10,Avropsblankett!$C$76=$B$7,Avropsblankett!$D$76=$A$11),N25,IF(AND(Avropsblankett!$G$76=$B$10,Avropsblankett!$C$76=$B$7,Avropsblankett!$D$76=$A$12),N26,IF(AND(Avropsblankett!$G$76=$B$10,Avropsblankett!$C$76=$B$7,Avropsblankett!$D$76=$A$13),N27,IF(AND(Avropsblankett!$G$76=$B$10,Avropsblankett!$C$76=$B$7,Avropsblankett!$D$76=$A$14),N28,IF(AND(Avropsblankett!$G$76=$B$10,Avropsblankett!$C$76=$B$7,Avropsblankett!$D$76=$A$15),N29,IF(AND(Avropsblankett!$G$76=$B$10,Avropsblankett!$C$76=$B$7,Avropsblankett!$D$76=$A$16),N30,0))))))","v":0},{"$f":"Avropsblankett!$F$76*IF(AND(Avropsblankett!$G$76=$C$10,Avropsblankett!$C$76=$B$7,Avropsblankett!$D$76=$A$11),O25,IF(AND(Avropsblankett!$G$76=$C$10,Avropsblankett!$C$76=$B$7,Avropsblankett!$D$76=$A$12),O26,IF(AND(Avropsblankett!$G$76=$C$10,Avropsblankett!$C$76=$B$7,Avropsblankett!$D$76=$A$13),O27,IF(AND(Avropsblankett!$G$76=$C$10,Avropsblankett!$C$76=$B$7,Avropsblankett!$D$76=$A$14),O28,IF(AND(Avropsblankett!$G$76=$C$10,Avropsblankett!$C$76=$B$7,Avropsblankett!$D$76=$A$15),O29,IF(AND(Avropsblankett!$G$76=$C$10,Avropsblankett!$C$76=$B$7,Avropsblankett!$D$76=$A$16),O30,0))))))","v":0},{"$f":"Avropsblankett!$F$76*IF(AND(Avropsblankett!$G$76=$D$10,Avropsblankett!$C$76=$B$7,Avropsblankett!$D$76=$A$11),P25,IF(AND(Avropsblankett!$G$76=$D$10,Avropsblankett!$C$76=$B$7,Avropsblankett!$D$76=$A$12),P26,IF(AND(Avropsblankett!$G$76=$D$10,Avropsblankett!$C$76=$B$7,Avropsblankett!$D$76=$A$13),P27,IF(AND(Avropsblankett!$G$76=$D$10,Avropsblankett!$C$76=$B$7,Avropsblankett!$D$76=$A$14),P28,IF(AND(Avropsblankett!$G$76=$D$10,Avropsblankett!$C$76=$B$7,Avropsblankett!$D$76=$A$15),P29,IF(AND(Avropsblankett!$G$76=$D$10,Avropsblankett!$C$76=$B$7,Avropsblankett!$D$76=$A$16),P30,0))))))","v":0},null,{"$f":"Avropsblankett!$F$76*IF(AND(Avropsblankett!$G$76=$B$10,Avropsblankett!$C$76=$B$7,Avropsblankett!$D$76=$A$11),R25,IF(AND(Avropsblankett!$G$76=$B$10,Avropsblankett!$C$76=$B$7,Avropsblankett!$D$76=$A$12),R26,IF(AND(Avropsblankett!$G$76=$B$10,Avropsblankett!$C$76=$B$7,Avropsblankett!$D$76=$A$13),R27,IF(AND(Avropsblankett!$G$76=$B$10,Avropsblankett!$C$76=$B$7,Avropsblankett!$D$76=$A$14),R28,IF(AND(Avropsblankett!$G$76=$B$10,Avropsblankett!$C$76=$B$7,Avropsblankett!$D$76=$A$15),R29,IF(AND(Avropsblankett!$G$76=$B$10,Avropsblankett!$C$76=$B$7,Avropsblankett!$D$76=$A$16),R30,0))))))","v":0},{"$f":"Avropsblankett!$F$76*IF(AND(Avropsblankett!$G$76=$C$10,Avropsblankett!$C$76=$B$7,Avropsblankett!$D$76=$A$11),S25,IF(AND(Avropsblankett!$G$76=$C$10,Avropsblankett!$C$76=$B$7,Avropsblankett!$D$76=$A$12),S26,IF(AND(Avropsblankett!$G$76=$C$10,Avropsblankett!$C$76=$B$7,Avropsblankett!$D$76=$A$13),S27,IF(AND(Avropsblankett!$G$76=$C$10,Avropsblankett!$C$76=$B$7,Avropsblankett!$D$76=$A$14),S28,IF(AND(Avropsblankett!$G$76=$C$10,Avropsblankett!$C$76=$B$7,Avropsblankett!$D$76=$A$15),S29,IF(AND(Avropsblankett!$G$76=$C$10,Avropsblankett!$C$76=$B$7,Avropsblankett!$D$76=$A$16),S30,0))))))","v":0},{"$f":"Avropsblankett!$F$76*IF(AND(Avropsblankett!$G$76=$D$10,Avropsblankett!$C$76=$B$7,Avropsblankett!$D$76=$A$11),T25,IF(AND(Avropsblankett!$G$76=$D$10,Avropsblankett!$C$76=$B$7,Avropsblankett!$D$76=$A$12),T26,IF(AND(Avropsblankett!$G$76=$D$10,Avropsblankett!$C$76=$B$7,Avropsblankett!$D$76=$A$13),T27,IF(AND(Avropsblankett!$G$76=$D$10,Avropsblankett!$C$76=$B$7,Avropsblankett!$D$76=$A$14),T28,IF(AND(Avropsblankett!$G$76=$D$10,Avropsblankett!$C$76=$B$7,Avropsblankett!$D$76=$A$15),T29,IF(AND(Avropsblankett!$G$76=$D$10,Avropsblankett!$C$76=$B$7,Avropsblankett!$D$76=$A$16),T30,0))))))","v":0},null,{"$f":"Avropsblankett!$F$76*IF(AND(Avropsblankett!$G$76=$B$10,Avropsblankett!$C$76=$B$7,Avropsblankett!$D$76=$A$11),V25,IF(AND(Avropsblankett!$G$76=$B$10,Avropsblankett!$C$76=$B$7,Avropsblankett!$D$76=$A$12),V26,IF(AND(Avropsblankett!$G$76=$B$10,Avropsblankett!$C$76=$B$7,Avropsblankett!$D$76=$A$13),V27,IF(AND(Avropsblankett!$G$76=$B$10,Avropsblankett!$C$76=$B$7,Avropsblankett!$D$76=$A$14),V28,IF(AND(Avropsblankett!$G$76=$B$10,Avropsblankett!$C$76=$B$7,Avropsblankett!$D$76=$A$15),V29,IF(AND(Avropsblankett!$G$76=$B$10,Avropsblankett!$C$76=$B$7,Avropsblankett!$D$76=$A$16),V30,0))))))","v":0},{"$f":"Avropsblankett!$F$76*IF(AND(Avropsblankett!$G$76=$C$10,Avropsblankett!$C$76=$B$7,Avropsblankett!$D$76=$A$11),W25,IF(AND(Avropsblankett!$G$76=$C$10,Avropsblankett!$C$76=$B$7,Avropsblankett!$D$76=$A$12),W26,IF(AND(Avropsblankett!$G$76=$C$10,Avropsblankett!$C$76=$B$7,Avropsblankett!$D$76=$A$13),W27,IF(AND(Avropsblankett!$G$76=$C$10,Avropsblankett!$C$76=$B$7,Avropsblankett!$D$76=$A$14),W28,IF(AND(Avropsblankett!$G$76=$C$10,Avropsblankett!$C$76=$B$7,Avropsblankett!$D$76=$A$15),W29,IF(AND(Avropsblankett!$G$76=$C$10,Avropsblankett!$C$76=$B$7,Avropsblankett!$D$76=$A$16),W30,0))))))","v":0},{"$f":"Avropsblankett!$F$76*IF(AND(Avropsblankett!$G$76=$D$10,Avropsblankett!$C$76=$B$7,Avropsblankett!$D$76=$A$11),X25,IF(AND(Avropsblankett!$G$76=$D$10,Avropsblankett!$C$76=$B$7,Avropsblankett!$D$76=$A$12),X26,IF(AND(Avropsblankett!$G$76=$D$10,Avropsblankett!$C$76=$B$7,Avropsblankett!$D$76=$A$13),X27,IF(AND(Avropsblankett!$G$76=$D$10,Avropsblankett!$C$76=$B$7,Avropsblankett!$D$76=$A$14),X28,IF(AND(Avropsblankett!$G$76=$D$10,Avropsblankett!$C$76=$B$7,Avropsblankett!$D$76=$A$15),X29,IF(AND(Avropsblankett!$G$76=$D$10,Avropsblankett!$C$76=$B$7,Avropsblankett!$D$76=$A$16),X30,0))))))","v":0},null,{"$f":"Avropsblankett!$F$76*IF(AND(Avropsblankett!$G$76=$B$10,Avropsblankett!$C$76=$B$7,Avropsblankett!$D$76=$A$11),Z25,IF(AND(Avropsblankett!$G$76=$B$10,Avropsblankett!$C$76=$B$7,Avropsblankett!$D$76=$A$12),Z26,IF(AND(Avropsblankett!$G$76=$B$10,Avropsblankett!$C$76=$B$7,Avropsblankett!$D$76=$A$13),Z27,IF(AND(Avropsblankett!$G$76=$B$10,Avropsblankett!$C$76=$B$7,Avropsblankett!$D$76=$A$14),Z28,IF(AND(Avropsblankett!$G$76=$B$10,Avropsblankett!$C$76=$B$7,Avropsblankett!$D$76=$A$15),Z29,IF(AND(Avropsblankett!$G$76=$B$10,Avropsblankett!$C$76=$B$7,Avropsblankett!$D$76=$A$16),Z30,0))))))","v":0},{"$f":"Avropsblankett!$F$76*IF(AND(Avropsblankett!$G$76=$C$10,Avropsblankett!$C$76=$B$7,Avropsblankett!$D$76=$A$11),AA25,IF(AND(Avropsblankett!$G$76=$C$10,Avropsblankett!$C$76=$B$7,Avropsblankett!$D$76=$A$12),AA26,IF(AND(Avropsblankett!$G$76=$C$10,Avropsblankett!$C$76=$B$7,Avropsblankett!$D$76=$A$13),AA27,IF(AND(Avropsblankett!$G$76=$C$10,Avropsblankett!$C$76=$B$7,Avropsblankett!$D$76=$A$14),AA28,IF(AND(Avropsblankett!$G$76=$C$10,Avropsblankett!$C$76=$B$7,Avropsblankett!$D$76=$A$15),AA29,IF(AND(Avropsblankett!$G$76=$C$10,Avropsblankett!$C$76=$B$7,Avropsblankett!$D$76=$A$16),AA30,0))))))","v":0},{"$f":"Avropsblankett!$F$76*IF(AND(Avropsblankett!$G$76=$D$10,Avropsblankett!$C$76=$B$7,Avropsblankett!$D$76=$A$11),AB25,IF(AND(Avropsblankett!$G$76=$D$10,Avropsblankett!$C$76=$B$7,Avropsblankett!$D$76=$A$12),AB26,IF(AND(Avropsblankett!$G$76=$D$10,Avropsblankett!$C$76=$B$7,Avropsblankett!$D$76=$A$13),AB27,IF(AND(Avropsblankett!$G$76=$D$10,Avropsblankett!$C$76=$B$7,Avropsblankett!$D$76=$A$14),AB28,IF(AND(Avropsblankett!$G$76=$D$10,Avropsblankett!$C$76=$B$7,Avropsblankett!$D$76=$A$15),AB29,IF(AND(Avropsblankett!$G$76=$D$10,Avropsblankett!$C$76=$B$7,Avropsblankett!$D$76=$A$16),AB30,0))))))","v":0},null,{"$f":"Avropsblankett!$F$76*IF(AND(Avropsblankett!$G$76=$B$10,Avropsblankett!$C$76=$B$7,Avropsblankett!$D$76=$A$11),AD25,IF(AND(Avropsblankett!$G$76=$B$10,Avropsblankett!$C$76=$B$7,Avropsblankett!$D$76=$A$12),AD26,IF(AND(Avropsblankett!$G$76=$B$10,Avropsblankett!$C$76=$B$7,Avropsblankett!$D$76=$A$13),AD27,IF(AND(Avropsblankett!$G$76=$B$10,Avropsblankett!$C$76=$B$7,Avropsblankett!$D$76=$A$14),AD28,IF(AND(Avropsblankett!$G$76=$B$10,Avropsblankett!$C$76=$B$7,Avropsblankett!$D$76=$A$15),AD29,IF(AND(Avropsblankett!$G$76=$B$10,Avropsblankett!$C$76=$B$7,Avropsblankett!$D$76=$A$16),AD30,0))))))","v":0},{"$f":"Avropsblankett!$F$76*IF(AND(Avropsblankett!$G$76=$C$10,Avropsblankett!$C$76=$B$7,Avropsblankett!$D$76=$A$11),AE25,IF(AND(Avropsblankett!$G$76=$C$10,Avropsblankett!$C$76=$B$7,Avropsblankett!$D$76=$A$12),AE26,IF(AND(Avropsblankett!$G$76=$C$10,Avropsblankett!$C$76=$B$7,Avropsblankett!$D$76=$A$13),AE27,IF(AND(Avropsblankett!$G$76=$C$10,Avropsblankett!$C$76=$B$7,Avropsblankett!$D$76=$A$14),AE28,IF(AND(Avropsblankett!$G$76=$C$10,Avropsblankett!$C$76=$B$7,Avropsblankett!$D$76=$A$15),AE29,IF(AND(Avropsblankett!$G$76=$C$10,Avropsblankett!$C$76=$B$7,Avropsblankett!$D$76=$A$16),AE30,0))))))","v":0},{"$f":"Avropsblankett!$F$76*IF(AND(Avropsblankett!$G$76=$D$10,Avropsblankett!$C$76=$B$7,Avropsblankett!$D$76=$A$11),AF25,IF(AND(Avropsblankett!$G$76=$D$10,Avropsblankett!$C$76=$B$7,Avropsblankett!$D$76=$A$12),AF26,IF(AND(Avropsblankett!$G$76=$D$10,Avropsblankett!$C$76=$B$7,Avropsblankett!$D$76=$A$13),AF27,IF(AND(Avropsblankett!$G$76=$D$10,Avropsblankett!$C$76=$B$7,Avropsblankett!$D$76=$A$14),AF28,IF(AND(Avropsblankett!$G$76=$D$10,Avropsblankett!$C$76=$B$7,Avropsblankett!$D$76=$A$15),AF29,IF(AND(Avropsblankett!$G$76=$D$10,Avropsblankett!$C$76=$B$7,Avropsblankett!$D$76=$A$16),AF30,0))))))","v":0},null,{"$f":"Avropsblankett!$F$76*IF(AND(Avropsblankett!$G$76=$B$10,Avropsblankett!$C$76=$B$7,Avropsblankett!$D$76=$A$11),AH25,IF(AND(Avropsblankett!$G$76=$B$10,Avropsblankett!$C$76=$B$7,Avropsblankett!$D$76=$A$12),AH26,IF(AND(Avropsblankett!$G$76=$B$10,Avropsblankett!$C$76=$B$7,Avropsblankett!$D$76=$A$13),AH27,IF(AND(Avropsblankett!$G$76=$B$10,Avropsblankett!$C$76=$B$7,Avropsblankett!$D$76=$A$14),AH28,IF(AND(Avropsblankett!$G$76=$B$10,Avropsblankett!$C$76=$B$7,Avropsblankett!$D$76=$A$15),AH29,IF(AND(Avropsblankett!$G$76=$B$10,Avropsblankett!$C$76=$B$7,Avropsblankett!$D$76=$A$16),AH30,0))))))","v":0},{"$f":"Avropsblankett!$F$76*IF(AND(Avropsblankett!$G$76=$C$10,Avropsblankett!$C$76=$B$7,Avropsblankett!$D$76=$A$11),AI25,IF(AND(Avropsblankett!$G$76=$C$10,Avropsblankett!$C$76=$B$7,Avropsblankett!$D$76=$A$12),AI26,IF(AND(Avropsblankett!$G$76=$C$10,Avropsblankett!$C$76=$B$7,Avropsblankett!$D$76=$A$13),AI27,IF(AND(Avropsblankett!$G$76=$C$10,Avropsblankett!$C$76=$B$7,Avropsblankett!$D$76=$A$14),AI28,IF(AND(Avropsblankett!$G$76=$C$10,Avropsblankett!$C$76=$B$7,Avropsblankett!$D$76=$A$15),AI29,IF(AND(Avropsblankett!$G$76=$C$10,Avropsblankett!$C$76=$B$7,Avropsblankett!$D$76=$A$16),AI30,0))))))","v":0},{"$f":"Avropsblankett!$F$76*IF(AND(Avropsblankett!$G$76=$D$10,Avropsblankett!$C$76=$B$7,Avropsblankett!$D$76=$A$11),AJ25,IF(AND(Avropsblankett!$G$76=$D$10,Avropsblankett!$C$76=$B$7,Avropsblankett!$D$76=$A$12),AJ26,IF(AND(Avropsblankett!$G$76=$D$10,Avropsblankett!$C$76=$B$7,Avropsblankett!$D$76=$A$13),AJ27,IF(AND(Avropsblankett!$G$76=$D$10,Avropsblankett!$C$76=$B$7,Avropsblankett!$D$76=$A$14),AJ28,IF(AND(Avropsblankett!$G$76=$D$10,Avropsblankett!$C$76=$B$7,Avropsblankett!$D$76=$A$15),AJ29,IF(AND(Avropsblankett!$G$76=$D$10,Avropsblankett!$C$76=$B$7,Avropsblankett!$D$76=$A$16),AJ30,0))))))","v":0},null,{"$f":"Avropsblankett!$F$76*IF(AND(Avropsblankett!$G$76=$B$10,Avropsblankett!$C$76=$B$7,Avropsblankett!$D$76=$A$11),AL25,IF(AND(Avropsblankett!$G$76=$B$10,Avropsblankett!$C$76=$B$7,Avropsblankett!$D$76=$A$12),AL26,IF(AND(Avropsblankett!$G$76=$B$10,Avropsblankett!$C$76=$B$7,Avropsblankett!$D$76=$A$13),AL27,IF(AND(Avropsblankett!$G$76=$B$10,Avropsblankett!$C$76=$B$7,Avropsblankett!$D$76=$A$14),AL28,IF(AND(Avropsblankett!$G$76=$B$10,Avropsblankett!$C$76=$B$7,Avropsblankett!$D$76=$A$15),AL29,IF(AND(Avropsblankett!$G$76=$B$10,Avropsblankett!$C$76=$B$7,Avropsblankett!$D$76=$A$16),AL30,0))))))","v":0},{"$f":"Avropsblankett!$F$76*IF(AND(Avropsblankett!$G$76=$C$10,Avropsblankett!$C$76=$B$7,Avropsblankett!$D$76=$A$11),AM25,IF(AND(Avropsblankett!$G$76=$C$10,Avropsblankett!$C$76=$B$7,Avropsblankett!$D$76=$A$12),AM26,IF(AND(Avropsblankett!$G$76=$C$10,Avropsblankett!$C$76=$B$7,Avropsblankett!$D$76=$A$13),AM27,IF(AND(Avropsblankett!$G$76=$C$10,Avropsblankett!$C$76=$B$7,Avropsblankett!$D$76=$A$14),AM28,IF(AND(Avropsblankett!$G$76=$C$10,Avropsblankett!$C$76=$B$7,Avropsblankett!$D$76=$A$15),AM29,IF(AND(Avropsblankett!$G$76=$C$10,Avropsblankett!$C$76=$B$7,Avropsblankett!$D$76=$A$16),AM30,0))))))","v":0},{"$f":"Avropsblankett!$F$76*IF(AND(Avropsblankett!$G$76=$D$10,Avropsblankett!$C$76=$B$7,Avropsblankett!$D$76=$A$11),AN25,IF(AND(Avropsblankett!$G$76=$D$10,Avropsblankett!$C$76=$B$7,Avropsblankett!$D$76=$A$12),AN26,IF(AND(Avropsblankett!$G$76=$D$10,Avropsblankett!$C$76=$B$7,Avropsblankett!$D$76=$A$13),AN27,IF(AND(Avropsblankett!$G$76=$D$10,Avropsblankett!$C$76=$B$7,Avropsblankett!$D$76=$A$14),AN28,IF(AND(Avropsblankett!$G$76=$D$10,Avropsblankett!$C$76=$B$7,Avropsblankett!$D$76=$A$15),AN29,IF(AND(Avropsblankett!$G$76=$D$10,Avropsblankett!$C$76=$B$7,Avropsblankett!$D$76=$A$16),AN30,0))))))","v":0}]
[null,{"$f":"SUM(B31:B35)","v":0},{"$f":"SUM(C31:C35)","v":0},{"$f":"SUM(D31:D35)","v":0},null,{"$f":"SUM(F31:F35)","v":0},{"$f":"SUM(G31:G35)","v":0},{"$f":"SUM(H31:H35)","v":0},null,{"$f":"SUM(J31:J35)","v":0},{"$f":"SUM(K31:K35)","v":0},{"$f":"SUM(L31:L35)","v":0},null,{"$f":"SUM(N31:N35)","v":0},{"$f":"SUM(O31:O35)","v":0},{"$f":"SUM(P31:P35)","v":0},null,{"$f":"SUM(R31:R35)","v":0},{"$f":"SUM(S31:S35)","v":0},{"$f":"SUM(T31:T35)","v":0},null,{"$f":"SUM(V31:V35)","v":0},{"$f":"SUM(W31:W35)","v":0},{"$f":"SUM(X31:X35)","v":0},null,{"$f":"SUM(Z31:Z35)","v":0},{"$f":"SUM(AA31:AA35)","v":0},{"$f":"SUM(AB31:AB35)","v":0},null,{"$f":"SUM(AD31:AD35)","v":0},{"$f":"SUM(AE31:AE35)","v":0},{"$f":"SUM(AF31:AF35)","v":0},null,{"$f":"SUM(AH31:AH35)","v":0},{"$f":"SUM(AI31:AI35)","v":0},{"$f":"SUM(AJ31:AJ35)","v":0},null,{"$f":"SUM(AL31:AL35)","v":0},{"$f":"SUM(AM31:AM35)","v":0},{"$f":"SUM(AN31:AN35)","v":0}]
["Summa",{"$f":"SUM(B22,B36)","v":0},{"$f":"SUM(C22,C36)","v":0},{"$f":"SUM(D22,D36)","v":0},null,{"$f":"SUM(F22,F36)","v":0},{"$f":"SUM(G22,G36)","v":0},{"$f":"SUM(H22,H36)","v":0},null,{"$f":"SUM(J22,J36)","v":0},{"$f":"SUM(K22,K36)","v":0},{"$f":"SUM(L22,L36)","v":0},null,{"$f":"SUM(N22,N36)","v":0},{"$f":"SUM(O22,O36)","v":0},{"$f":"SUM(P22,P36)","v":0},null,{"$f":"SUM(R22,R36)","v":0},{"$f":"SUM(S22,S36)","v":0},{"$f":"SUM(T22,T36)","v":0},null,{"$f":"SUM(V22,V36)","v":0},{"$f":"SUM(W22,W36)","v":0},{"$f":"SUM(X22,X36)","v":0},null,{"$f":"SUM(Z22,Z36)","v":0},{"$f":"SUM(AA22,AA36)","v":0},{"$f":"SUM(AB22,AB36)","v":0},null,{"$f":"SUM(AD22,AD36)","v":0},{"$f":"SUM(AE22,AE36)","v":0},{"$f":"SUM(AF22,AF36)","v":0},null,{"$f":"SUM(AH22,AH36)","v":0},{"$f":"SUM(AI22,AI36)","v":0},{"$f":"SUM(AJ22,AJ36)","v":0},null,{"$f":"SUM(AL22,AL36)","v":0},{"$f":"SUM(AM22,AM36)","v":0},{"$f":"SUM(AN22,AN36)","v":0}]
["Totalsumma",{"$f":"SUM(B37:D37)","v":0},null,null,null,{"$f":"SUM(F37:H37)","v":0},null,null,null,{"$f":"SUM(J37:L37)","v":0},null,null,null,{"$f":"SUM(N37:P37)","v":0},null,null,null,{"$f":"SUM(R37:T37)","v":0},null,null,null,{"$f":"SUM(V37:X37)","v":0},null,null,null,{"$f":"SUM(Z37:AB37)","v":0},null,null,null,{"$f":"SUM(AD37:AF37)","v":0},null,null,null,{"$f":"SUM(AH37:AJ37)","v":0},null,null,null,{"$f":"SUM(AL37:AN37)","v":0}]